{"text_format":"1","workbook":"xlsx","n_sheets":8,"sheets":["男子入力","女子入力","新人駅伝男子申込書","新人駅伝女子申込書","基礎データ入力","メニュー","Setting","送信データ"],"not_rendered":{"charts":0,"images":0,"macros":1,"external_links":0,"defined_names":67,"comments":0,"pivot_tables":0},"unopened":[],"bounds":{"document_bytes":16777216,"sheet_cells":100000,"rows_first":2000,"rows_last":500,"rows_between":2000,"halvings":0,"cell_chars":16384,"cell_head_chars":4096},"cells_cut":0,"cells_raw":0,"read":"whole","date_system":"1900"}

{"sheet":"男子入力","index":0,"n_rows":17,"n_cols":29,"rows_kept":17,"cut":false,"hidden":true,"merged":[[13,28,13,31],[12,1,12,5],[12,6,12,10],[12,11,12,13],[12,15,12,19],[12,22,12,26],[12,28,12,31],[13,1,13,5],[13,6,13,10],[13,11,13,13],[13,15,13,19],[13,22,13,26],[8,15,8,19],[8,22,8,26],[11,28,11,31],[10,1,10,5],[10,6,10,10],[10,11,10,13],[10,15,10,19],[10,22,10,26],[10,28,10,31],[11,1,11,5],[11,6,11,10],[11,11,11,13],[11,15,11,19],[11,22,11,26],[7,1,7,5],[8,28,8,31],[9,1,9,5],[9,6,9,10],[9,11,9,13],[9,15,9,19],[9,22,9,26],[7,6,7,10],[7,11,7,13],[7,15,7,19],[7,22,7,26],[7,28,7,31],[9,28,9,31],[8,1,8,5],[8,6,8,10],[8,11,8,13],[6,1,6,5],[6,6,6,10],[6,11,6,13],[6,15,6,19],[6,22,6,26],[6,28,6,31],[4,11,4,13],[4,15,4,19],[4,22,4,26],[4,28,4,31],[5,22,5,26],[5,1,5,5],[5,6,5,10],[5,11,5,13],[5,15,5,19],[1,1,1,31],[2,1,2,31],[5,28,5,31],[3,1,3,5],[4,1,4,5],[4,6,4,10]]}
[]
[]
[null,"男子入力表"]
[]
[null,null,null,null,null,null,"学校番号",null,null,null,null,"個人番号",null,null,null,"姓",null,null,null,null,null,null,"名",null,null,null,null,null,"学年"]
[null,"１区",null,null,null,null,{"$f":"IF(基礎データ入力!AE6=\"\",\"\",基礎データ入力!AE6)","v":""}]
[null,"２区",null,null,null,null,{"$f":"$G$6","v":""}]
[null,"３区",null,null,null,null,""]
[null,"４区",null,null,null,null,""]
[null,"５区",null,null,null,null,""]
[null,"６区",null,null,null,null,""]
[null,"補欠",null,null,null,null,""]
[null,"補欠",null,null,null,null,""]
[null,"補欠",null,null,null,null,""]
[]
[null,null,"※　個人番号がない選手については、入力しないでください。"]
[null,null,"※　姓、名には空白を入力しないでください。"]

{"sheet":"女子入力","index":1,"n_rows":17,"n_cols":29,"rows_kept":17,"cut":false,"hidden":true,"merged":[[12,28,12,31],[11,1,11,5],[11,6,11,10],[11,11,11,13],[11,15,11,19],[11,22,11,26],[11,28,11,31],[12,1,12,5],[12,6,12,10],[12,11,12,13],[12,15,12,19],[12,22,12,26],[10,28,10,31],[9,1,9,5],[9,6,9,10],[9,11,9,13],[9,15,9,19],[9,22,9,26],[9,28,9,31],[10,1,10,5],[10,6,10,10],[10,11,10,13],[10,15,10,19],[10,22,10,26],[8,28,8,31],[7,1,7,5],[7,6,7,10],[7,11,7,13],[7,15,7,19],[7,22,7,26],[8,15,8,19],[8,22,8,26],[7,28,7,31],[8,1,8,5],[8,6,8,10],[8,11,8,13],[6,28,6,31],[5,1,5,5],[5,6,5,10],[5,11,5,13],[5,15,5,19],[5,28,5,31],[6,1,6,5],[6,6,6,10],[6,11,6,13],[6,15,6,19],[6,22,6,26],[5,22,5,26],[1,1,1,31],[2,1,2,31],[3,1,3,5],[4,1,4,5],[4,6,4,10],[4,11,4,13],[4,15,4,19],[4,22,4,26],[4,28,4,31]]}
[]
[]
[null,"女子入力表"]
[]
[null,null,null,null,null,null,"学校番号",null,null,null,null,"個人番号",null,null,null,"姓",null,null,null,null,null,null,"名",null,null,null,null,null,"学年"]
[null,"１区",null,null,null,null,{"$f":"IF(基礎データ入力!AE6=\"\",\"\",基礎データ入力!AE6)","v":""}]
[null,"２区",null,null,null,null,{"$f":"$G$6","v":""}]
[null,"３区",null,null,null,null,""]
[null,"４区",null,null,null,null,""]
[null,"５区",null,null,null,null,""]
[null,"補欠",null,null,null,null,""]
[null,"補欠",null,null,null,null,""]
[null,"補欠",null,null,null,null,""]
[]
[]
[null,null,"※　個人番号がない選手については、入力しないでください。"]
[null,null,"※　姓、名には空白を入力しないでください。"]

{"sheet":"新人駅伝男子申込書","index":2,"n_rows":33,"n_cols":35,"rows_kept":33,"cut":false,"hidden":true,"merged":[[6,25,6,28],[21,26,21,29],[21,30,21,34],[23,10,23,12],[22,26,22,29],[21,10,21,12],[22,30,22,34],[22,10,22,12],[23,26,23,29],[21,14,21,24],[6,13,6,21],[23,14,23,24],[20,30,20,34],[10,9,10,11],[10,20,10,22],[17,30,17,34],[19,30,19,34],[18,30,18,34],[20,26,20,29],[17,14,17,24],[18,14,18,24],[18,26,18,29],[19,26,19,29],[17,26,17,29],[0,0,0,34],[1,0,1,34],[2,0,2,34],[6,0,6,4],[6,5,6,10],[6,11,6,12],[12,5,12,7],[6,29,6,34],[4,0,4,34],[10,28,10,30],[8,0,10,4],[8,5,8,6],[7,0,7,4],[7,5,7,34],[8,7,8,15],[6,22,6,24],[12,20,12,22],[8,16,8,34],[10,32,10,34],[9,5,9,34],[10,5,10,7],[10,13,10,15],[10,17,10,19],[10,24,10,26],[12,13,12,15],[12,17,12,19],[14,26,14,29],[20,5,20,9],[20,10,20,12],[18,0,18,4],[18,10,18,12],[20,0,20,4],[19,14,19,24],[20,14,20,24],[16,26,16,29],[12,24,12,26],[12,28,12,30],[14,30,14,34],[15,30,15,34],[15,5,15,9],[15,10,15,12],[15,14,15,24],[14,15,14,24],[16,5,16,9],[16,10,16,12],[16,14,16,24],[15,26,15,29],[22,0,22,4],[22,5,22,9],[21,0,21,4],[21,5,21,9],[19,10,19,12],[11,0,12,4],[12,9,12,11],[14,5,14,9],[14,10,14,12],[15,0,15,4],[13,0,13,4],[14,0,14,4],[16,0,16,4],[19,0,19,4],[17,5,17,9],[17,10,17,12],[18,5,18,9],[19,5,19,9],[17,0,17,4],[11,5,11,7],[11,8,11,34],[16,30,16,34],[12,32,12,34],[22,14,22,24],[27,22,27,34],[29,14,29,25],[25,16,25,23],[23,30,23,34],[31,3,33,13],[31,15,33,18],[27,0,27,4],[27,5,27,21],[23,5,23,9],[31,19,33,31],[25,0,25,4],[25,6,25,13],[29,11,29,12],[23,0,23,4],[25,26,25,33]]}
[{"$f":"TEXT(EDATE(開催日,-3),\"ggge\")&\"年度\"","v":"平成30年度"}]
[{"$f":"\"第\"&回数&\"回兵庫県中学校新人駅伝競走大会\"","v":"第16回兵庫県中学校新人駅伝競走大会"}]
["男子申込書兼正式オーダー用紙"]
[]
["３部作成し，２部を地区委員長に提出、１部は正式オーダー用紙として大会当日に提出する"]
[]
["学校名",null,null,null,null,{"$f":"IF(基礎データ入力!G6=\"\",\"\",基礎データ入力!G6)","v":""},null,null,null,null,null,"立",null,{"$f":"IF(基礎データ入力!O6=\"\",\"\",基礎データ入力!O6)","v":""},null,null,null,null,null,null,null,null,"中学校",null,null,"ﾅﾝﾊﾞｰｶｰﾄﾞ"]
["監督氏名",null,null,null,null,{"$f":"IF(男子監督=\"\",\"\",男子監督)","v":""}]
["学校連絡先",null,null,null,null,"〒",null,{"$f":"IF(郵便番号=\"\",\"\",郵便番号)","v":""}]
[null,null,null,null,null,{"$f":"IF(学校住所=\"\",\"\",学校住所)","v":""}]
[null,null,null,null,null,"TEL",null,null,"(",{"$f":"IF(学校電話１=\"\",\"\",学校電話１)","v":""},null,null,")-",{"$f":"IF(学校電話２=\"\",\"\",学校電話２)","v":""},null,null,"-",{"$f":"IF(学校電話３=\"\",\"\",学校電話３)","v":""},null,null,"FAX",null,null,"(",{"$f":"IF(学校FAX１=\"\",\"\",学校FAX１)","v":""},null,null,")-",{"$f":"IF(学校FAX２=\"\",\"\",学校FAX２)","v":""},null,null,"-",{"$f":"IF(学校FAX３=\"\",\"\",学校FAX３)","v":""}]
["申込責任者",null,null,null,null,"氏　　名",null,null,{"$f":"IF(責任者名前１=\"\",\"\",責任者名前１)","v":""}]
[null,null,null,null,null,"自宅TEL",null,null,"(",{"$f":"IF(男責任電話１=\"\",\"\",男責任電話１)","v":""},null,null,")-",{"$f":"IF(男責任電話２=\"\",\"\",男責任電話２)","v":""},null,null,"-",{"$f":"IF(男責任電話３=\"\",\"\",男責任電話３)","v":""},null,null,"携帯ＴＥＬ",null,null,"(",{"$f":"IF(男責任携帯１=\"\",\"\",男責任携帯１)","v":""},null,null,")-",{"$f":"IF(男責任携帯２=\"\",\"\",男責任携帯２)","v":""},null,null,"-",{"$f":"IF(男責任携帯３=\"\",\"\",男責任携帯３)","v":""}]
[]
[null,null,null,null,null,"学校番号",null,null,null,null,"個人番号",null,null,null,null,null,null,null,null,null,null,null,null,null,null,null,"学年",null,null,null,"正式オーダー"]
["１区",null,null,null,null,{"$f":"IF(基礎データ入力!AE6=\"\",\"\",基礎データ入力!AE6)","v":""},null,null,null,null,{"$f":"IF(男子入力!L6=\"\",\"\",男子入力!L6)","v":""},null,null,null,{"$f":"Namae(男子入力!P6,男子入力!W6)","v":""},null,null,null,null,null,null,null,null,null,null,null,{"$f":"IF(男子入力!AC6=\"\",\"\",男子入力!AC6)","v":""}]
["２区",null,null,null,null,{"$f":"$F$16","v":""},null,null,null,null,{"$f":"IF(男子入力!L7=\"\",\"\",男子入力!L7)","v":""},null,null,null,{"$f":"Namae(男子入力!P7,男子入力!W7)","v":""},null,null,null,null,null,null,null,null,null,null,null,{"$f":"IF(男子入力!AC7=\"\",\"\",男子入力!AC7)","v":""}]
["３区",null,null,null,null,"",null,null,null,null,{"$f":"IF(男子入力!L8=\"\",\"\",男子入力!L8)","v":""},null,null,null,{"$f":"Namae(男子入力!P8,男子入力!W8)","v":""},null,null,null,null,null,null,null,null,null,null,null,{"$f":"IF(男子入力!AC8=\"\",\"\",男子入力!AC8)","v":""}]
["４区",null,null,null,null,"",null,null,null,null,{"$f":"IF(男子入力!L9=\"\",\"\",男子入力!L9)","v":""},null,null,null,{"$f":"Namae(男子入力!P9,男子入力!W9)","v":""},null,null,null,null,null,null,null,null,null,null,null,{"$f":"IF(男子入力!AC9=\"\",\"\",男子入力!AC9)","v":""}]
["５区",null,null,null,null,"",null,null,null,null,{"$f":"IF(男子入力!L10=\"\",\"\",男子入力!L10)","v":""},null,null,null,{"$f":"Namae(男子入力!P10,男子入力!W10)","v":""},null,null,null,null,null,null,null,null,null,null,null,{"$f":"IF(男子入力!AC10=\"\",\"\",男子入力!AC10)","v":""}]
["６区",null,null,null,null,"",null,null,null,null,{"$f":"IF(男子入力!L11=\"\",\"\",男子入力!L11)","v":""},null,null,null,{"$f":"Namae(男子入力!P11,男子入力!W11)","v":""},null,null,null,null,null,null,null,null,null,null,null,{"$f":"IF(男子入力!AC11=\"\",\"\",男子入力!AC11)","v":""}]
["補欠",null,null,null,null,"",null,null,null,null,{"$f":"IF(男子入力!L12=\"\",\"\",男子入力!L12)","v":""},null,null,null,{"$f":"Namae(男子入力!P12,男子入力!W12)","v":""},null,null,null,null,null,null,null,null,null,null,null,{"$f":"IF(男子入力!AC12=\"\",\"\",男子入力!AC12)","v":""}]
["補欠",null,null,null,null,"",null,null,null,null,{"$f":"IF(男子入力!L13=\"\",\"\",男子入力!L13)","v":""},null,null,null,{"$f":"Namae(男子入力!P13,男子入力!W13)","v":""},null,null,null,null,null,null,null,null,null,null,null,{"$f":"IF(男子入力!AC13=\"\",\"\",男子入力!AC13)","v":""}]
["補欠",null,null,null,null,"",null,null,null,null,{"$f":"IF(男子入力!L14=\"\",\"\",男子入力!L14)","v":""},null,null,null,{"$f":"Namae(男子入力!P14,男子入力!W14)","v":""},null,null,null,null,null,null,null,null,null,null,null,{"$f":"IF(男子入力!AC14=\"\",\"\",男子入力!AC14)","v":""}]
[]
["審判氏名",null,null,null,null,"(",{"$f":"IF(基礎データ入力!K18=\"\",\"\",基礎データ入力!K18)","v":""},null,null,null,null,null,null,null,")","(",{"$f":"IF(基礎データ入力!T18=\"\",\"\",基礎データ入力!T18)","v":""},null,null,null,null,null,null,null,")","(",{"$f":"IF(基礎データ入力!AC18=\"\",\"\",基礎データ入力!AC18)","v":""},null,null,null,null,null,null,null,")"]
[]
["申し込み料",null,null,null,null,3000,null,null,null,null,null,null,null,null,null,null,null,null,null,null,null,null,"振替用紙　コピー貼付"]
["上記生徒は，健康状態に異常なく，大会への参加を認めます。"]
[null,null,null,null,null,null,null,null,null,null,null,null,null,null,{"$f":"CONCATENATE(基礎データ入力!W3,基礎データ入力!AB3,基礎データ入力!AD3,基礎データ入力!AF3,基礎データ入力!AH3)","v":"平成31年月日"}]
[]
[null,null,null,{"$f":"CONCATENATE(F7,L7,\" \",N7)","v":"立 "},null,null,null,null,null,null,null,null,null,null,null,"中学校",null,null,null,{"$f":"IF(校長氏名=\"\",\"\",校長氏名)","v":""}]
[null,null,null,null,null,null,null,null,null,null,null,null,null,null,null,null,null,null,null,null,null,null,null,null,null,null,null,null,null,null,null,null,null,"印"]

{"sheet":"新人駅伝女子申込書","index":3,"n_rows":32,"n_cols":35,"rows_kept":32,"cut":false,"hidden":true,"merged":[[19,14,19,24],[20,14,20,24],[21,30,21,34],[19,5,19,9],[19,10,19,12],[22,30,22,34],[21,5,21,9],[21,14,21,24],[22,14,22,24],[21,10,21,12],[20,26,20,29],[21,26,21,29],[20,30,20,34],[20,10,20,12],[22,5,22,9],[22,10,22,12],[22,26,22,29],[21,0,21,4],[24,6,24,13],[24,0,24,4],[30,19,32,31],[24,16,24,23],[28,14,28,25],[26,5,26,21],[26,22,26,34],[22,0,22,4],[30,3,32,13],[30,15,32,18],[28,11,28,12],[26,0,26,4],[24,26,24,33],[17,14,17,24],[18,14,18,24],[15,0,15,4],[15,5,15,9],[15,10,15,12],[19,26,19,29],[19,30,19,34],[17,10,17,12],[15,14,15,24],[16,14,16,24],[15,26,15,29],[15,30,15,34],[16,0,16,4],[17,5,17,9],[16,5,16,9],[16,10,16,12],[16,26,16,29],[16,30,16,34],[18,0,18,4],[18,5,18,9],[18,10,18,12],[17,26,17,29],[17,30,17,34],[18,26,18,29],[18,30,18,34],[17,0,17,4],[20,0,20,4],[20,5,20,9],[19,0,19,4],[7,0,7,4],[7,5,7,34],[8,0,10,4],[8,5,8,6],[8,7,8,15],[8,16,8,34],[9,5,9,34],[10,5,10,7],[10,20,10,22],[10,9,10,11],[10,24,10,26],[10,13,10,15],[10,17,10,19],[10,32,10,34],[10,28,10,30],[13,0,13,4],[14,0,14,4],[14,26,14,29],[14,30,14,34],[0,0,0,34],[1,0,1,34],[2,0,2,34],[6,0,6,4],[6,5,6,10],[6,11,6,12],[6,25,6,28],[4,0,4,34],[6,29,6,34],[6,22,6,24],[6,13,6,21],[11,0,12,4],[14,5,14,9],[14,10,14,12],[12,20,12,22],[14,15,14,18],[14,20,14,23],[11,5,11,7],[11,8,11,34],[12,5,12,7],[12,9,12,11],[12,13,12,15],[12,17,12,19],[12,32,12,34],[12,24,12,26],[12,28,12,30]]}
[{"$f":"TEXT(EDATE(開催日,-3),\"ggge\")&\"年度\"","v":"平成30年度"}]
[{"$f":"\"第\"&回数&\"回兵庫県中学校新人駅伝競走大会\"","v":"第16回兵庫県中学校新人駅伝競走大会"}]
["女子申込書兼正式オーダー用紙"]
[]
["３部作成し，２部を地区委員長に提出、１部は正式オーダー用紙として大会当日に提出する"]
[]
["学校名",null,null,null,null,{"$f":"IF(基礎データ入力!G6=\"\",\"\",基礎データ入力!G6)","v":""},null,null,null,null,null,"立",null,{"$f":"IF(基礎データ入力!O6=\"\",\"\",基礎データ入力!O6)","v":""},null,null,null,null,null,null,null,null,"中学校",null,null,"ﾅﾝﾊﾞｰｶｰﾄﾞ"]
["監督氏名",null,null,null,null,{"$f":"IF(女子監督=\"\",\"\",女子監督)","v":""}]
["学校連絡先",null,null,null,null,"〒",null,{"$f":"IF(郵便番号=\"\",\"\",郵便番号)","v":""}]
[null,null,null,null,null,{"$f":"IF(学校住所=\"\",\"\",学校住所)","v":""}]
[null,null,null,null,null,"TEL",null,null,"(",{"$f":"IF(学校電話１=\"\",\"\",学校電話１)","v":""},null,null,")-",{"$f":"IF(学校電話２=\"\",\"\",学校電話２)","v":""},null,null,"-",{"$f":"IF(学校電話３=\"\",\"\",学校電話３)","v":""},null,null,"FAX",null,null,"(",{"$f":"IF(学校FAX１=\"\",\"\",学校FAX１)","v":""},null,null,")-",{"$f":"IF(学校FAX２=\"\",\"\",学校FAX２)","v":""},null,null,"-",{"$f":"IF(学校FAX３=\"\",\"\",学校FAX３)","v":""}]
["申込責任者",null,null,null,null,"氏　　名",null,null,{"$f":"IF(責任者名前２=\"\",\"\",責任者名前２)","v":""}]
[null,null,null,null,null,"自宅TEL",null,null,"(",{"$f":"IF(女責任電話１=\"\",\"\",女責任電話１)","v":""},null,null,")-",{"$f":"IF(女責任電話２=\"\",\"\",女責任電話２)","v":""},null,null,"-",{"$f":"IF(女責任電話３=\"\",\"\",女責任電話３)","v":""},null,null,"携帯ＴＥＬ",null,null,"(",{"$f":"IF(女責任携帯１=\"\",\"\",女責任携帯１)","v":""},null,null,")-",{"$f":"IF(女責任携帯２=\"\",\"\",女責任携帯２)","v":""},null,null,"-",{"$f":"IF(女責任携帯３=\"\",\"\",女責任携帯３)","v":""}]
[]
[null,null,null,null,null,"学校番号",null,null,null,null,"個人番号",null,null,null,null,null,null,null,null,null,"名",null,null,null,null,null,"学年",null,null,null,"正式オーダー"]
["１区",null,null,null,null,{"$f":"IF(基礎データ入力!AE6=\"\",\"\",基礎データ入力!AE6)","v":""},null,null,null,null,{"$f":"IF(女子入力!L6=\"\",\"\",女子入力!L6)","v":""},null,null,null,{"$f":"Namae(女子入力!P6,女子入力!W6)","v":""},null,null,null,null,null,null,null,null,null,null,null,{"$f":"IF(女子入力!AC6=\"\",\"\",女子入力!AC6)","v":""}]
["２区",null,null,null,null,{"$f":"$F$16","v":""},null,null,null,null,{"$f":"IF(女子入力!L7=\"\",\"\",女子入力!L7)","v":""},null,null,null,{"$f":"Namae(女子入力!P7,女子入力!W7)","v":""},null,null,null,null,null,null,null,null,null,null,null,{"$f":"IF(女子入力!AC7=\"\",\"\",女子入力!AC7)","v":""}]
["３区",null,null,null,null,"",null,null,null,null,{"$f":"IF(女子入力!L8=\"\",\"\",女子入力!L8)","v":""},null,null,null,{"$f":"Namae(女子入力!P8,女子入力!W8)","v":""},null,null,null,null,null,null,null,null,null,null,null,{"$f":"IF(女子入力!AC8=\"\",\"\",女子入力!AC8)","v":""}]
["４区",null,null,null,null,"",null,null,null,null,{"$f":"IF(女子入力!L9=\"\",\"\",女子入力!L9)","v":""},null,null,null,{"$f":"Namae(女子入力!P9,女子入力!W9)","v":""},null,null,null,null,null,null,null,null,null,null,null,{"$f":"IF(女子入力!AC9=\"\",\"\",女子入力!AC9)","v":""}]
["５区",null,null,null,null,"",null,null,null,null,{"$f":"IF(女子入力!L10=\"\",\"\",女子入力!L10)","v":""},null,null,null,{"$f":"Namae(女子入力!P10,女子入力!W10)","v":""},null,null,null,null,null,null,null,null,null,null,null,{"$f":"IF(女子入力!AC10=\"\",\"\",女子入力!AC10)","v":""}]
["補欠",null,null,null,null,"",null,null,null,null,{"$f":"IF(女子入力!L11=\"\",\"\",女子入力!L11)","v":""},null,null,null,{"$f":"Namae(女子入力!P11,女子入力!W11)","v":""},null,null,null,null,null,null,null,null,null,null,null,{"$f":"IF(女子入力!AC11=\"\",\"\",女子入力!AC11)","v":""}]
["補欠",null,null,null,null,"",null,null,null,null,{"$f":"IF(女子入力!L12=\"\",\"\",女子入力!L12)","v":""},null,null,null,{"$f":"Namae(女子入力!P12,女子入力!W12)","v":""},null,null,null,null,null,null,null,null,null,null,null,{"$f":"IF(女子入力!AC12=\"\",\"\",女子入力!AC12)","v":""}]
["補欠",null,null,null,null,"",null,null,null,null,{"$f":"IF(女子入力!L13=\"\",\"\",女子入力!L13)","v":""},null,null,null,{"$f":"Namae(女子入力!P13,女子入力!W13)","v":""},null,null,null,null,null,null,null,null,null,null,null,{"$f":"IF(女子入力!AC13=\"\",\"\",女子入力!AC13)","v":""}]
[]
["審判氏名",null,null,null,null,"(",{"$f":"IF(基礎データ入力!K19=\"\",\"\",基礎データ入力!K19)","v":""},null,null,null,null,null,null,null,")","(",{"$f":"IF(基礎データ入力!T19=\"\",\"\",基礎データ入力!T19)","v":""},null,null,null,null,null,null,null,")","(",{"$f":"IF(基礎データ入力!AC19=\"\",\"\",基礎データ入力!AC19)","v":""},null,null,null,null,null,null,null,")"]
[]
["申し込み料",null,null,null,null,3000,null,null,null,null,null,null,null,null,null,null,null,null,null,null,null,null,"振替用紙　コピー貼付"]
["上記生徒は，健康状態に異常なく，大会への参加を認めます。"]
[null,null,null,null,null,null,null,null,null,null,null,null,null,null,{"$f":"CONCATENATE(基礎データ入力!W3,基礎データ入力!AB3,基礎データ入力!AD3,基礎データ入力!AF3,基礎データ入力!AH3)","v":"平成31年月日"}]
[]
[null,null,null,{"$f":"CONCATENATE(F7,L7,\" \",N7)","v":"立 "},null,null,null,null,null,null,null,null,null,null,null,"中学校",null,null,null,{"$f":"IF(校長氏名=\"\",\"\",校長氏名)","v":""}]
[null,null,null,null,null,null,null,null,null,null,null,null,null,null,null,null,null,null,null,null,null,null,null,null,null,null,null,null,null,null,null,null,null,"印"]

{"sheet":"基礎データ入力","index":4,"n_rows":23,"n_cols":36,"rows_kept":23,"cut":false,"hidden":true,"merged":[[5,30,5,35],[2,3,2,11],[2,18,2,21],[5,1,5,5],[5,6,5,11],[5,12,5,13],[5,14,5,21],[5,22,5,25],[5,26,5,29],[2,22,2,26],[2,27,2,28],[2,29,2,30],[2,31,2,32],[2,33,2,34],[9,25,9,27],[9,29,9,31],[9,33,9,35],[6,1,6,5],[6,6,6,35],[7,1,9,5],[7,6,7,8],[8,9,8,35],[7,9,7,16],[7,17,7,35],[8,6,8,8],[11,1,12,5],[11,6,11,8],[11,9,11,35],[12,6,12,8],[8,41,8,49],[9,6,9,8],[9,10,9,12],[9,14,9,16],[9,18,9,20],[9,21,9,23],[12,10,12,12],[12,14,12,16],[12,18,12,20],[12,21,12,23],[12,33,12,35],[10,1,10,5],[10,6,10,8],[10,9,10,10],[10,11,10,15],[10,16,10,35],[12,25,12,27],[12,29,12,31],[15,33,15,35],[13,1,13,5],[13,6,13,8],[13,9,13,10],[13,11,13,15],[13,16,13,35],[14,1,15,5],[14,6,14,8],[14,9,14,35],[15,6,15,8],[15,10,15,12],[15,14,15,16],[15,18,15,20],[15,21,15,23],[15,25,15,27],[15,29,15,31],[17,1,18,5],[17,6,17,8],[17,10,17,16],[17,19,17,25],[20,23,20,29],[17,28,17,34],[18,6,18,8],[18,10,18,16],[18,19,18,25],[18,28,18,34],[20,30,20,32],[20,33,20,35],[22,1,23,23],[20,1,20,5],[20,6,20,7],[20,8,20,14],[20,15,20,17],[20,18,20,20],[20,21,20,22]]}
[]
[]
[null,null,null,"学校基礎データ",null,null,null,null,null,null,null,null,null,null,null,null,null,null,"申込日",null,null,null,{"$f":"TEXT(開催日,\"ggge\")&\"年\"","v":"平成31年"},null,null,null,null,null,null,"月",null,null,null,"日"]
[]
[]
[null,"学校名",null,null,null,null,null,null,null,null,null,null,"立",null,null,null,null,null,null,null,null,null,"中学校",null,null,null,"学校番号"]
[null,"学校長氏名"]
[null,"学校連絡先",null,null,null,null,"〒",null,null,null,null,null,null,null,null,null,null,"←７桁の数字のみ入力して下さい。"]
[null,null,null,null,null,null,"住所"]
[null,null,null,null,null,null,"TEL",null,null,"(",null,null,null,")-",null,null,null,"-",null,null,null,"FAX",null,null,"(",null,null,null,")-",null,null,null,"-"]
[null,"男子",null,null,null,null,"参　加",null,null,null,null,"監督氏名"]
[null,"申込責任者",null,null,null,null,"氏　　名"]
[null,null,null,null,null,null,"自宅TEL",null,null,"(",null,null,null,")-",null,null,null,"-",null,null,null,"携帯ＴＥＬ",null,null,"(",null,null,null,")-",null,null,null,"-"]
[null,"女子",null,null,null,null,"参　加",null,null," ",null,"監督氏名"]
[null,"申込責任者",null,null,null,null,"氏　　名"]
[null,null,null,null,null,null,"自宅TEL",null,null,"(",null,null,null,")-",null,null,null,"-",null,null,null,"携帯ＴＥＬ",null,null,"(",null,null,null,")-",null,null,null,"-"]
[]
[null,"審判氏名",null,null,null,null,"男　子",null,null,"(",null,null,null,null,null,null,null,")","(",null,null,null,null,null,null,null,")","(",null,null,null,null,null,null,null,")"]
[null,null,null,null,null,null,"女　子",null,null,"(",null,null,null,null,null,null,null,")","(",null,null,null,null,null,null,null,")","(",null,null,null,null,null,null,null,")"]
[]
[null,"バス留め置き",null,null,null,null,"　",null,"大型バス",null,null,null,null,null,null,null,null,null,"台",null,null,"　",null,"マイクロバス",null,null,null,null,null,null,null,null,null,"台"]
[]
[null,"赤い部分が残っていないか確認して、メニューに戻って下さい。"]

{"sheet":"メニュー","index":5,"n_rows":4,"n_cols":3,"rows_kept":4,"cut":false,"hidden":false,"merged":[[1,2,1,9],[3,2,3,9]]}
[]
[null,null,"新人駅伝　申し込みプログラム"]
[]
[null,null,"○次の順で申し込み作業を行ってください。"]

{"sheet":"Setting","index":6,"n_rows":27,"n_cols":7,"rows_kept":27,"cut":false,"hidden":true,"merged":[]}
[]
["セレクト１"]
["　"]
["○"]
[]
[]
["責任者重複",false,null,null,null,"送信先","tyuu@haaa.jp"]
[]
["開催日","2019-02-16"]
["年度",30]
[]
["回数",16]
[]
["男子参加",{"$f":"男子参加","v":false}]
["男子人数",{"$f":"COUNTA(男子入力!P6:T14)","v":0},{"$f":"COUNTA(男子入力!W6:AA14)","v":0},{"$f":"COUNTA(男子入力!AC6:AF14)","v":0}]
[]
["女子参加",{"$f":"女子参加","v":false}]
["女子人数",{"$f":"COUNTA(女子入力!P6:T13)","v":0},{"$f":"COUNTA(女子入力!W6:AA13)","v":0},{"$f":"COUNTA(女子入力!AC6:AF13)","v":0}]
[]
["男子参加",false]
["女子参加",false]
["大バス駐",false]
["マイクロ駐",true]
[]
[]
["数式バー",true]
["メニュー"]

{"sheet":"送信データ","index":7,"n_rows":10,"n_cols":34,"rows_kept":10,"cut":false,"hidden":true,"merged":[]}
[]
["男子データ"]
["学校番号","ﾅﾝﾊﾞｰｶｰﾄﾞ","学校名","監督","走順１","氏名１","学年１","走順２","氏名２","学年２","走順３","氏名３","学年３","走順４","氏名４","学年４","走順５","氏名５","学年５","走順６","氏名６","学年６","走順７","氏名７","学年７","走順８","氏名８","学年８","走順９","氏名９","学年９","走順１０","氏名１０","学年１０"]
[{"$f":"学校番号","v":0},null,{"$f":"学校名","v":0},{"$f":"男子監督","v":0},null,{"$f":"男１","v":""},{"$f":"男子入力!$AC6","v":0},null,{"$f":"男２","v":""},{"$f":"男子入力!$AC7","v":0},null,{"$f":"男３","v":""},{"$f":"男子入力!$AC8","v":0},null,{"$f":"男４","v":""},{"$f":"男子入力!$AC9","v":0},null,{"$f":"男５","v":""},{"$f":"男子入力!$AC10","v":0},null,{"$f":"男６","v":""},{"$f":"男子入力!$AC11","v":0},null,{"$f":"男７","v":""},{"$f":"男子入力!$AC12","v":0},null,{"$f":"男８","v":""},{"$f":"男子入力!$AC13","v":0},null,{"$f":"男９","v":""},{"$f":"男子入力!$AC14","v":0}]
[]
[]
[]
["女子データ"]
["学校番号","ﾅﾝﾊﾞｰｶｰﾄﾞ","学校名","監督","走順１","氏名１","学年１","走順２","氏名２","学年２","走順３","氏名３","学年３","走順４","氏名４","学年４","走順５","氏名５","学年５","走順６","氏名６","学年６","走順７","氏名７","学年７","走順８","氏名８","学年８","走順９","氏名９","学年９","走順１０","氏名１０","学年１０"]
[{"$f":"学校番号","v":0},null,{"$f":"学校名","v":0},{"$f":"女子監督","v":0},null,{"$f":"女１","v":""},{"$f":"女子入力!$AC6","v":0},null,{"$f":"女２","v":""},{"$f":"女子入力!$AC7","v":0},null,{"$f":"女３","v":""},{"$f":"女子入力!$AC8","v":0},null,{"$f":"女４","v":""},{"$f":"女子入力!$AC9","v":0},null,{"$f":"女５","v":""},{"$f":"女子入力!$AC10","v":0},null,{"$f":"女６","v":""},{"$f":"女子入力!$AC11","v":0},null,{"$f":"女７","v":""},{"$f":"女子入力!$AC12","v":0},null,{"$f":"女８","v":""},{"$f":"女子入力!$AC13","v":0}]