{"text_format":"1","workbook":"xlsx","n_sheets":10,"sheets":["初期設定","記録入力","男子選手","登録選手","男子申込","データ貼付","データ完成","計算①","学校番号","csv"],"not_rendered":{"charts":0,"images":1,"macros":1,"external_links":0,"defined_names":3,"comments":1,"pivot_tables":0},"unopened":[],"bounds":{"document_bytes":16777216,"sheet_cells":100000,"rows_first":2000,"rows_last":500,"rows_between":2000,"halvings":0,"cell_chars":16384,"cell_head_chars":4096},"cells_cut":0,"cells_raw":0,"read":"whole","date_system":"1900"}

{"sheet":"初期設定","index":0,"n_rows":40,"n_cols":8,"rows_kept":40,"cut":false,"hidden":false,"merged":[[18,0,38,0],[8,2,8,4],[2,2,2,4],[1,2,1,4],[4,2,4,4],[5,2,5,4],[6,2,6,4],[7,2,7,4],[3,2,3,4]]}
[null,null,"初期設定シート",null,null,null,"まずはじめに学校番号を入力してください"]
[null,"学校番号",null,null,null,null,"次に大会名を選択してください"]
[null,"学校名",{"$f":"IF($C$2=\"\",\"\",VLOOKUP($C$2,学校番号!$A$3:$G$50,2,FALSE))","v":""},null,null,{"$f":"IF($C$2=\"\",\"\",VLOOKUP($C$2,学校番号!$A$3:$G$50,4,FALSE))","v":""},null,"①初期設定シート、学校番号、学校長氏名、顧問氏名、推薦審判員を入力"]
[null,"大会名","第78回　阪神高等学校ジュニア陸上競技対校選手権大会　申込書",null,null,null,null,"②記録入力シートに各種目出場者データを入力（登録番号、記録）"]
[null,"郵便番号",{"$f":"IF($C$2=\"\",\"\",VLOOKUP($C$2,学校番号!$A$3:$G$50,5,FALSE))","v":""},null,null,null,null,"③記録入力シート一覧表ボタンをクリック"]
[null,"電話番号",{"$f":"IF($C$2=\"\",\"\",VLOOKUP($C$2,学校番号!$A$3:$G$50,7,FALSE))","v":""},null,null,null,null,"④一覧表を印刷"]
[null,"住所",{"$f":"IF($C$2=\"\",\"\",VLOOKUP($C$2,学校番号!$A$3:$G$50,6,FALSE))","v":""}]
[null,"学校長氏名",null,null,null,null,null,"※追加登録選手等で名前が表示されない選手は登録選手シートに入力してください。"]
[null,"顧問氏名"]
[null,"推薦審判員","名前","年齢","資格"]
[null,"    〃",null,null,null,null,null,"女子の申し込み人数を入力してください"]
[null,"    〃"]
[null,"    〃",null,null,null,null,null,"※学校のデータが間違っている場合、シート”学校番号”で修正してください。"]
[null,"    〃"]
[null,"申込人数",null,"申込人数",null,null,null,"このファイルと出力されたCSVファイルをtandf@ichiita.comに送信してください"]
[null,null,"男　子 (人)",{"$f":"COUNTIF(男子申込!O12:O61,\"男\")","v":0},null,null,null,"ファイル名は学校番号・学校略称・性別でお願いします　　例）4136川西北陵男子"]
[null,null,"女　子 (人)"]
[null,null,"合　計 (人)",{"$f":"D16+D17","v":0}]
["男　　　　　　　　　子","種目コード","種目","T-F-C","高体連ｺｰﾄﾞ","種目"]
[null,"00200","100m","01T",{"$f":"B20","v":"00200"},{"$f":"C20","v":"100m"}]
[null,"00300","200m","01T",{"$f":"B21","v":"00300"},{"$f":"C21","v":"200m"}]
[null,"00500","400m","01T","00500","400m"]
[null,"00600","800m","01T","00600","800m"]
[null,"00800","1500m","01T","00800","1500m"]
[null,"01100","5000m","01T","01100","5000m"]
[null,"03400","110mH","01T","03400","110mH"]
[null,"03700","400mH","01T","03700","400mH"]
[null,"05300","3000SC","01T","05300","3000SC"]
[null,"06100","5000mW","01T","06100","5000mW"]
[null,"60100","4x100R","01T","60100","4x100R"]
[null,"60300","4x400R","01T","60300","4x400R"]
[null,"07100","走高跳","02F","07100","走高跳"]
[null,"07200","棒高跳","02F","07200","棒高跳"]
[null,"07300","走幅跳","02F","07300","走幅跳"]
[null,"07400","三段跳","02F","07400","三段跳"]
[null,"08200","砲丸投","02F","08200","砲丸投"]
[null,"08700","円盤投","02F","08700","円盤投"]
[null,"09100","ﾊﾝﾏ-投","02F","09100","ﾊﾝﾏ-投"]
[null,"09200","やり投","02F","09200","やり投"]
[null,"21000","８種競技","03C","21000","８種競技"]

{"sheet":"記録入力","index":1,"n_rows":72,"n_cols":14,"rows_kept":72,"cut":false,"hidden":false,"merged":[[1,0,2,0],[57,5,57,7],[58,5,58,7],[59,5,59,7],[1,13,2,13],[1,1,2,1],[1,2,2,2],[1,3,2,3],[1,4,2,4],[1,8,2,8],[1,9,2,9],[1,10,2,10],[1,11,2,11],[1,12,2,12]]}
[2,null,3,4,7,8,9,10,12,14,15,16,17,20]
["種目\nコード","性","種    目","TFC","No","分","秒","1/100","記録","No","氏名","学校名","学校番号"]
[null,null,null,null,null,null,"m","cm"]
["00200","男",{"$f":"VLOOKUP(A4,初期設定!$B$20:$F$40,2,0)","v":"100m"},{"$f":"VLOOKUP(A4,初期設定!$B$20:$F$40,3,0)","v":"01T"},null,null,null,null,{"$f":"IF(AND(F4=\"\",G4=\"\",H4=\"\"),\"\",IF(D4=\"01T\",IF(F4=\"\",G4&\"\"\"\"&H4,F4&\"'\"&G4&\"\"\"\"&H4),IF(D4=\"02F\",G4&\"m\"&H4,H4&\"点\")))","v":""},{"$f":"IF(E4=\"\",\"\",E4)","v":""},{"$f":"IF(ISERROR(VLOOKUP(E4,男子選手!$B$5:$G$195,6,FALSE)),\"\",VLOOKUP(E4,男子選手!$B$5:$G$195,6,FALSE))","v":""},{"$f":"IF(K4=\"\",\"\",VLOOKUP(M4,学校番号!$A$3:$D$50,4,0))","v":""},{"$f":"IF(K4=\"\",\"\",初期設定!$C$2)","v":""},{"$f":"CONCATENATE(F4,G4,H4)","v":""}]
["00200","男",{"$f":"VLOOKUP(A5,初期設定!$B$20:$F$40,2,0)","v":"100m"},{"$f":"VLOOKUP(A5,初期設定!$B$20:$F$40,3,0)","v":"01T"},null,null,null,null,"",{"$f":"IF(E5=\"\",\"\",E5)","v":""},{"$f":"IF(ISERROR(VLOOKUP(E5,男子選手!$B$5:$G$195,6,FALSE)),\"\",VLOOKUP(E5,男子選手!$B$5:$G$195,6,FALSE))","v":""},{"$f":"IF(K5=\"\",\"\",VLOOKUP(M5,学校番号!$A$3:$D$50,4,0))","v":""},{"$f":"IF(K5=\"\",\"\",初期設定!$C$2)","v":""},{"$f":"CONCATENATE(F5,G5,H5)","v":""}]
["00200","男",{"$f":"VLOOKUP(A6,初期設定!$B$20:$F$40,2,0)","v":"100m"},{"$f":"VLOOKUP(A6,初期設定!$B$20:$F$40,3,0)","v":"01T"},null,null,null,null,"","",{"$f":"IF(ISERROR(VLOOKUP(E6,男子選手!$B$5:$G$195,6,FALSE)),\"\",VLOOKUP(E6,男子選手!$B$5:$G$195,6,FALSE))","v":""},{"$f":"IF(K6=\"\",\"\",VLOOKUP(M6,学校番号!$A$3:$D$50,4,0))","v":""},{"$f":"IF(K6=\"\",\"\",初期設定!$C$2)","v":""},{"$f":"CONCATENATE(F6,G6,H6)","v":""}]
["00300","男",{"$f":"VLOOKUP(A7,初期設定!$B$20:$F$40,2,0)","v":"200m"},{"$f":"VLOOKUP(A7,初期設定!$B$20:$F$40,3,0)","v":"01T"},null,null,null,null,"","",{"$f":"IF(ISERROR(VLOOKUP(E7,男子選手!$B$5:$G$195,6,FALSE)),\"\",VLOOKUP(E7,男子選手!$B$5:$G$195,6,FALSE))","v":""},{"$f":"IF(K7=\"\",\"\",VLOOKUP(M7,学校番号!$A$3:$D$50,4,0))","v":""},{"$f":"IF(K7=\"\",\"\",初期設定!$C$2)","v":""},""]
["00300","男",{"$f":"VLOOKUP(A8,初期設定!$B$20:$F$40,2,0)","v":"200m"},{"$f":"VLOOKUP(A8,初期設定!$B$20:$F$40,3,0)","v":"01T"},null,null,null,null,"","",{"$f":"IF(ISERROR(VLOOKUP(E8,男子選手!$B$5:$G$195,6,FALSE)),\"\",VLOOKUP(E8,男子選手!$B$5:$G$195,6,FALSE))","v":""},{"$f":"IF(K8=\"\",\"\",VLOOKUP(M8,学校番号!$A$3:$D$50,4,0))","v":""},{"$f":"IF(K8=\"\",\"\",初期設定!$C$2)","v":""},""]
["00300","男",{"$f":"VLOOKUP(A9,初期設定!$B$20:$F$40,2,0)","v":"200m"},{"$f":"VLOOKUP(A9,初期設定!$B$20:$F$40,3,0)","v":"01T"},null,null,null,null,"","",{"$f":"IF(ISERROR(VLOOKUP(E9,男子選手!$B$5:$G$195,6,FALSE)),\"\",VLOOKUP(E9,男子選手!$B$5:$G$195,6,FALSE))","v":""},{"$f":"IF(K9=\"\",\"\",VLOOKUP(M9,学校番号!$A$3:$D$50,4,0))","v":""},{"$f":"IF(K9=\"\",\"\",初期設定!$C$2)","v":""},""]
["00500","男",{"$f":"VLOOKUP(A10,初期設定!$B$20:$F$40,2,0)","v":"400m"},{"$f":"VLOOKUP(A10,初期設定!$B$20:$F$40,3,0)","v":"01T"},null,null,null,null,"","",{"$f":"IF(ISERROR(VLOOKUP(E10,男子選手!$B$5:$G$195,6,FALSE)),\"\",VLOOKUP(E10,男子選手!$B$5:$G$195,6,FALSE))","v":""},{"$f":"IF(K10=\"\",\"\",VLOOKUP(M10,学校番号!$A$3:$D$50,4,0))","v":""},{"$f":"IF(K10=\"\",\"\",初期設定!$C$2)","v":""},""]
["00500","男",{"$f":"VLOOKUP(A11,初期設定!$B$20:$F$40,2,0)","v":"400m"},{"$f":"VLOOKUP(A11,初期設定!$B$20:$F$40,3,0)","v":"01T"},null,null,null,null,"","",{"$f":"IF(ISERROR(VLOOKUP(E11,男子選手!$B$5:$G$195,6,FALSE)),\"\",VLOOKUP(E11,男子選手!$B$5:$G$195,6,FALSE))","v":""},{"$f":"IF(K11=\"\",\"\",VLOOKUP(M11,学校番号!$A$3:$D$50,4,0))","v":""},{"$f":"IF(K11=\"\",\"\",初期設定!$C$2)","v":""},""]
["00500","男",{"$f":"VLOOKUP(A12,初期設定!$B$20:$F$40,2,0)","v":"400m"},{"$f":"VLOOKUP(A12,初期設定!$B$20:$F$40,3,0)","v":"01T"},null,null,null,null,"","",{"$f":"IF(ISERROR(VLOOKUP(E12,男子選手!$B$5:$G$195,6,FALSE)),\"\",VLOOKUP(E12,男子選手!$B$5:$G$195,6,FALSE))","v":""},{"$f":"IF(K12=\"\",\"\",VLOOKUP(M12,学校番号!$A$3:$D$50,4,0))","v":""},{"$f":"IF(K12=\"\",\"\",初期設定!$C$2)","v":""},""]
["00600","男",{"$f":"VLOOKUP(A13,初期設定!$B$20:$F$40,2,0)","v":"800m"},{"$f":"VLOOKUP(A13,初期設定!$B$20:$F$40,3,0)","v":"01T"},null,null,null,null,{"$f":"IF(AND(F13=\"\",G13=\"\",H13=\"\"),\"\",IF(D13=\"01T\",IF(F13=\"\",G13&\"\"\"\"&H13,F13&\"'\"&G13&\"\"\"\"&H13),IF(D13=\"02F\",G13&\"m\"&H13,H13&\"点\")))","v":""},"",{"$f":"IF(ISERROR(VLOOKUP(E13,男子選手!$B$5:$G$195,6,FALSE)),\"\",VLOOKUP(E13,男子選手!$B$5:$G$195,6,FALSE))","v":""},{"$f":"IF(K13=\"\",\"\",VLOOKUP(M13,学校番号!$A$3:$D$50,4,0))","v":""},{"$f":"IF(K13=\"\",\"\",初期設定!$C$2)","v":""},""]
["00600","男",{"$f":"VLOOKUP(A14,初期設定!$B$20:$F$40,2,0)","v":"800m"},{"$f":"VLOOKUP(A14,初期設定!$B$20:$F$40,3,0)","v":"01T"},null,null,null,null,"","",{"$f":"IF(ISERROR(VLOOKUP(E14,男子選手!$B$5:$G$195,6,FALSE)),\"\",VLOOKUP(E14,男子選手!$B$5:$G$195,6,FALSE))","v":""},{"$f":"IF(K14=\"\",\"\",VLOOKUP(M14,学校番号!$A$3:$D$50,4,0))","v":""},{"$f":"IF(K14=\"\",\"\",初期設定!$C$2)","v":""},""]
["00600","男",{"$f":"VLOOKUP(A15,初期設定!$B$20:$F$40,2,0)","v":"800m"},{"$f":"VLOOKUP(A15,初期設定!$B$20:$F$40,3,0)","v":"01T"},null,null,null,null,"","",{"$f":"IF(ISERROR(VLOOKUP(E15,男子選手!$B$5:$G$195,6,FALSE)),\"\",VLOOKUP(E15,男子選手!$B$5:$G$195,6,FALSE))","v":""},{"$f":"IF(K15=\"\",\"\",VLOOKUP(M15,学校番号!$A$3:$D$50,4,0))","v":""},{"$f":"IF(K15=\"\",\"\",初期設定!$C$2)","v":""},""]
["00800","男",{"$f":"VLOOKUP(A16,初期設定!$B$20:$F$40,2,0)","v":"1500m"},{"$f":"VLOOKUP(A16,初期設定!$B$20:$F$40,3,0)","v":"01T"},null,null,null,null,"","",{"$f":"IF(ISERROR(VLOOKUP(E16,男子選手!$B$5:$G$195,6,FALSE)),\"\",VLOOKUP(E16,男子選手!$B$5:$G$195,6,FALSE))","v":""},{"$f":"IF(K16=\"\",\"\",VLOOKUP(M16,学校番号!$A$3:$D$50,4,0))","v":""},{"$f":"IF(K16=\"\",\"\",初期設定!$C$2)","v":""},""]
["00800","男",{"$f":"VLOOKUP(A17,初期設定!$B$20:$F$40,2,0)","v":"1500m"},{"$f":"VLOOKUP(A17,初期設定!$B$20:$F$40,3,0)","v":"01T"},null,null,null,null,"","",{"$f":"IF(ISERROR(VLOOKUP(E17,男子選手!$B$5:$G$195,6,FALSE)),\"\",VLOOKUP(E17,男子選手!$B$5:$G$195,6,FALSE))","v":""},{"$f":"IF(K17=\"\",\"\",VLOOKUP(M17,学校番号!$A$3:$D$50,4,0))","v":""},{"$f":"IF(K17=\"\",\"\",初期設定!$C$2)","v":""},""]
["00800","男",{"$f":"VLOOKUP(A18,初期設定!$B$20:$F$40,2,0)","v":"1500m"},{"$f":"VLOOKUP(A18,初期設定!$B$20:$F$40,3,0)","v":"01T"},null,null,null,null,"","",{"$f":"IF(ISERROR(VLOOKUP(E18,男子選手!$B$5:$G$195,6,FALSE)),\"\",VLOOKUP(E18,男子選手!$B$5:$G$195,6,FALSE))","v":""},{"$f":"IF(K18=\"\",\"\",VLOOKUP(M18,学校番号!$A$3:$D$50,4,0))","v":""},{"$f":"IF(K18=\"\",\"\",初期設定!$C$2)","v":""},""]
["01100","男",{"$f":"VLOOKUP(A19,初期設定!$B$20:$F$40,2,0)","v":"5000m"},{"$f":"VLOOKUP(A19,初期設定!$B$20:$F$40,3,0)","v":"01T"},null,null,null,null,"","",{"$f":"IF(ISERROR(VLOOKUP(E19,男子選手!$B$5:$G$195,6,FALSE)),\"\",VLOOKUP(E19,男子選手!$B$5:$G$195,6,FALSE))","v":""},{"$f":"IF(K19=\"\",\"\",VLOOKUP(M19,学校番号!$A$3:$D$50,4,0))","v":""},{"$f":"IF(K19=\"\",\"\",初期設定!$C$2)","v":""},""]
["01100","男",{"$f":"VLOOKUP(A20,初期設定!$B$20:$F$40,2,0)","v":"5000m"},{"$f":"VLOOKUP(A20,初期設定!$B$20:$F$40,3,0)","v":"01T"},null,null,null,null,"","",{"$f":"IF(ISERROR(VLOOKUP(E20,男子選手!$B$5:$G$195,6,FALSE)),\"\",VLOOKUP(E20,男子選手!$B$5:$G$195,6,FALSE))","v":""},{"$f":"IF(K20=\"\",\"\",VLOOKUP(M20,学校番号!$A$3:$D$50,4,0))","v":""},{"$f":"IF(K20=\"\",\"\",初期設定!$C$2)","v":""},""]
["01100","男",{"$f":"VLOOKUP(A21,初期設定!$B$20:$F$40,2,0)","v":"5000m"},{"$f":"VLOOKUP(A21,初期設定!$B$20:$F$40,3,0)","v":"01T"},null,null,null,null,"","",{"$f":"IF(ISERROR(VLOOKUP(E21,男子選手!$B$5:$G$195,6,FALSE)),\"\",VLOOKUP(E21,男子選手!$B$5:$G$195,6,FALSE))","v":""},{"$f":"IF(K21=\"\",\"\",VLOOKUP(M21,学校番号!$A$3:$D$50,4,0))","v":""},{"$f":"IF(K21=\"\",\"\",初期設定!$C$2)","v":""},""]
["03400","男",{"$f":"VLOOKUP(A22,初期設定!$B$20:$F$40,2,0)","v":"110mH"},{"$f":"VLOOKUP(A22,初期設定!$B$20:$F$40,3,0)","v":"01T"},null,null,null,null,"","",{"$f":"IF(ISERROR(VLOOKUP(E22,男子選手!$B$5:$G$195,6,FALSE)),\"\",VLOOKUP(E22,男子選手!$B$5:$G$195,6,FALSE))","v":""},{"$f":"IF(K22=\"\",\"\",VLOOKUP(M22,学校番号!$A$3:$D$50,4,0))","v":""},{"$f":"IF(K22=\"\",\"\",初期設定!$C$2)","v":""},""]
["03400","男",{"$f":"VLOOKUP(A23,初期設定!$B$20:$F$40,2,0)","v":"110mH"},{"$f":"VLOOKUP(A23,初期設定!$B$20:$F$40,3,0)","v":"01T"},null,null,null,null,"","",{"$f":"IF(ISERROR(VLOOKUP(E23,男子選手!$B$5:$G$195,6,FALSE)),\"\",VLOOKUP(E23,男子選手!$B$5:$G$195,6,FALSE))","v":""},{"$f":"IF(K23=\"\",\"\",VLOOKUP(M23,学校番号!$A$3:$D$50,4,0))","v":""},{"$f":"IF(K23=\"\",\"\",初期設定!$C$2)","v":""},""]
["03400","男",{"$f":"VLOOKUP(A24,初期設定!$B$20:$F$40,2,0)","v":"110mH"},{"$f":"VLOOKUP(A24,初期設定!$B$20:$F$40,3,0)","v":"01T"},null,null,null,null,"","",{"$f":"IF(ISERROR(VLOOKUP(E24,男子選手!$B$5:$G$195,6,FALSE)),\"\",VLOOKUP(E24,男子選手!$B$5:$G$195,6,FALSE))","v":""},{"$f":"IF(K24=\"\",\"\",VLOOKUP(M24,学校番号!$A$3:$D$50,4,0))","v":""},{"$f":"IF(K24=\"\",\"\",初期設定!$C$2)","v":""},""]
["03700","男",{"$f":"VLOOKUP(A25,初期設定!$B$20:$F$40,2,0)","v":"400mH"},{"$f":"VLOOKUP(A25,初期設定!$B$20:$F$40,3,0)","v":"01T"},null,null,null,null,"","",{"$f":"IF(ISERROR(VLOOKUP(E25,男子選手!$B$5:$G$195,6,FALSE)),\"\",VLOOKUP(E25,男子選手!$B$5:$G$195,6,FALSE))","v":""},{"$f":"IF(K25=\"\",\"\",VLOOKUP(M25,学校番号!$A$3:$D$50,4,0))","v":""},{"$f":"IF(K25=\"\",\"\",初期設定!$C$2)","v":""},""]
["03700","男",{"$f":"VLOOKUP(A26,初期設定!$B$20:$F$40,2,0)","v":"400mH"},{"$f":"VLOOKUP(A26,初期設定!$B$20:$F$40,3,0)","v":"01T"},null,null,null,null,"","",{"$f":"IF(ISERROR(VLOOKUP(E26,男子選手!$B$5:$G$195,6,FALSE)),\"\",VLOOKUP(E26,男子選手!$B$5:$G$195,6,FALSE))","v":""},{"$f":"IF(K26=\"\",\"\",VLOOKUP(M26,学校番号!$A$3:$D$50,4,0))","v":""},{"$f":"IF(K26=\"\",\"\",初期設定!$C$2)","v":""},""]
["03700","男",{"$f":"VLOOKUP(A27,初期設定!$B$20:$F$40,2,0)","v":"400mH"},{"$f":"VLOOKUP(A27,初期設定!$B$20:$F$40,3,0)","v":"01T"},null,null,null,null,"","",{"$f":"IF(ISERROR(VLOOKUP(E27,男子選手!$B$5:$G$195,6,FALSE)),\"\",VLOOKUP(E27,男子選手!$B$5:$G$195,6,FALSE))","v":""},{"$f":"IF(K27=\"\",\"\",VLOOKUP(M27,学校番号!$A$3:$D$50,4,0))","v":""},{"$f":"IF(K27=\"\",\"\",初期設定!$C$2)","v":""},""]
["05300","男",{"$f":"VLOOKUP(A28,初期設定!$B$20:$F$40,2,0)","v":"3000SC"},{"$f":"VLOOKUP(A28,初期設定!$B$20:$F$40,3,0)","v":"01T"},null,null,null,null,"","",{"$f":"IF(ISERROR(VLOOKUP(E28,男子選手!$B$5:$G$195,6,FALSE)),\"\",VLOOKUP(E28,男子選手!$B$5:$G$195,6,FALSE))","v":""},{"$f":"IF(K28=\"\",\"\",VLOOKUP(M28,学校番号!$A$3:$D$50,4,0))","v":""},{"$f":"IF(K28=\"\",\"\",初期設定!$C$2)","v":""},""]
["05300","男",{"$f":"VLOOKUP(A29,初期設定!$B$20:$F$40,2,0)","v":"3000SC"},{"$f":"VLOOKUP(A29,初期設定!$B$20:$F$40,3,0)","v":"01T"},null,null,null,null,"","",{"$f":"IF(ISERROR(VLOOKUP(E29,男子選手!$B$5:$G$195,6,FALSE)),\"\",VLOOKUP(E29,男子選手!$B$5:$G$195,6,FALSE))","v":""},{"$f":"IF(K29=\"\",\"\",VLOOKUP(M29,学校番号!$A$3:$D$50,4,0))","v":""},{"$f":"IF(K29=\"\",\"\",初期設定!$C$2)","v":""},""]
["05300","男",{"$f":"VLOOKUP(A30,初期設定!$B$20:$F$40,2,0)","v":"3000SC"},{"$f":"VLOOKUP(A30,初期設定!$B$20:$F$40,3,0)","v":"01T"},null,null,null,null,"","",{"$f":"IF(ISERROR(VLOOKUP(E30,男子選手!$B$5:$G$195,6,FALSE)),\"\",VLOOKUP(E30,男子選手!$B$5:$G$195,6,FALSE))","v":""},{"$f":"IF(K30=\"\",\"\",VLOOKUP(M30,学校番号!$A$3:$D$50,4,0))","v":""},{"$f":"IF(K30=\"\",\"\",初期設定!$C$2)","v":""},""]
["06100","男",{"$f":"VLOOKUP(A31,初期設定!$B$20:$F$40,2,0)","v":"5000mW"},{"$f":"VLOOKUP(A31,初期設定!$B$20:$F$40,3,0)","v":"01T"},null,null,null,null,"","",{"$f":"IF(ISERROR(VLOOKUP(E31,男子選手!$B$5:$G$195,6,FALSE)),\"\",VLOOKUP(E31,男子選手!$B$5:$G$195,6,FALSE))","v":""},{"$f":"IF(K31=\"\",\"\",VLOOKUP(M31,学校番号!$A$3:$D$50,4,0))","v":""},{"$f":"IF(K31=\"\",\"\",初期設定!$C$2)","v":""},""]
["06100","男",{"$f":"VLOOKUP(A32,初期設定!$B$20:$F$40,2,0)","v":"5000mW"},{"$f":"VLOOKUP(A32,初期設定!$B$20:$F$40,3,0)","v":"01T"},null,null,null,null,"","",{"$f":"IF(ISERROR(VLOOKUP(E32,男子選手!$B$5:$G$195,6,FALSE)),\"\",VLOOKUP(E32,男子選手!$B$5:$G$195,6,FALSE))","v":""},{"$f":"IF(K32=\"\",\"\",VLOOKUP(M32,学校番号!$A$3:$D$50,4,0))","v":""},{"$f":"IF(K32=\"\",\"\",初期設定!$C$2)","v":""},""]
["06100","男",{"$f":"VLOOKUP(A33,初期設定!$B$20:$F$40,2,0)","v":"5000mW"},{"$f":"VLOOKUP(A33,初期設定!$B$20:$F$40,3,0)","v":"01T"},null,null,null,null,"","",{"$f":"IF(ISERROR(VLOOKUP(E33,男子選手!$B$5:$G$195,6,FALSE)),\"\",VLOOKUP(E33,男子選手!$B$5:$G$195,6,FALSE))","v":""},{"$f":"IF(K33=\"\",\"\",VLOOKUP(M33,学校番号!$A$3:$D$50,4,0))","v":""},{"$f":"IF(K33=\"\",\"\",初期設定!$C$2)","v":""},""]
["07100","男",{"$f":"VLOOKUP(A34,初期設定!$B$20:$F$40,2,0)","v":"走高跳"},{"$f":"VLOOKUP(A34,初期設定!$B$20:$F$40,3,0)","v":"02F"},null,null,null,null,"","",{"$f":"IF(ISERROR(VLOOKUP(E34,男子選手!$B$5:$G$195,6,FALSE)),\"\",VLOOKUP(E34,男子選手!$B$5:$G$195,6,FALSE))","v":""},{"$f":"IF(K34=\"\",\"\",VLOOKUP(M34,学校番号!$A$3:$D$50,4,0))","v":""},{"$f":"IF(K34=\"\",\"\",初期設定!$C$2)","v":""},""]
["07100","男",{"$f":"VLOOKUP(A35,初期設定!$B$20:$F$40,2,0)","v":"走高跳"},{"$f":"VLOOKUP(A35,初期設定!$B$20:$F$40,3,0)","v":"02F"},null,null,null,null,"","",{"$f":"IF(ISERROR(VLOOKUP(E35,男子選手!$B$5:$G$195,6,FALSE)),\"\",VLOOKUP(E35,男子選手!$B$5:$G$195,6,FALSE))","v":""},{"$f":"IF(K35=\"\",\"\",VLOOKUP(M35,学校番号!$A$3:$D$50,4,0))","v":""},{"$f":"IF(K35=\"\",\"\",初期設定!$C$2)","v":""},""]
["07100","男",{"$f":"VLOOKUP(A36,初期設定!$B$20:$F$40,2,0)","v":"走高跳"},{"$f":"VLOOKUP(A36,初期設定!$B$20:$F$40,3,0)","v":"02F"},null,null,null,null,{"$f":"IF(AND(F36=\"\",G36=\"\",H36=\"\"),\"\",IF(D36=\"01T\",IF(F36=\"\",G36&\"\"\"\"&H36,F36&\"'\"&G36&\"\"\"\"&H36),IF(D36=\"02F\",G36&\"m\"&H36,H36&\"点\")))","v":""},"",{"$f":"IF(ISERROR(VLOOKUP(E36,男子選手!$B$5:$G$195,6,FALSE)),\"\",VLOOKUP(E36,男子選手!$B$5:$G$195,6,FALSE))","v":""},{"$f":"IF(K36=\"\",\"\",VLOOKUP(M36,学校番号!$A$3:$D$50,4,0))","v":""},{"$f":"IF(K36=\"\",\"\",初期設定!$C$2)","v":""},""]
["07200","男",{"$f":"VLOOKUP(A37,初期設定!$B$20:$F$40,2,0)","v":"棒高跳"},{"$f":"VLOOKUP(A37,初期設定!$B$20:$F$40,3,0)","v":"02F"},null,null,null,null,"","",{"$f":"IF(ISERROR(VLOOKUP(E37,男子選手!$B$5:$G$195,6,FALSE)),\"\",VLOOKUP(E37,男子選手!$B$5:$G$195,6,FALSE))","v":""},{"$f":"IF(K37=\"\",\"\",VLOOKUP(M37,学校番号!$A$3:$D$50,4,0))","v":""},{"$f":"IF(K37=\"\",\"\",初期設定!$C$2)","v":""},""]
["07200","男",{"$f":"VLOOKUP(A38,初期設定!$B$20:$F$40,2,0)","v":"棒高跳"},{"$f":"VLOOKUP(A38,初期設定!$B$20:$F$40,3,0)","v":"02F"},null,null,null,null,"","",{"$f":"IF(ISERROR(VLOOKUP(E38,男子選手!$B$5:$G$195,6,FALSE)),\"\",VLOOKUP(E38,男子選手!$B$5:$G$195,6,FALSE))","v":""},{"$f":"IF(K38=\"\",\"\",VLOOKUP(M38,学校番号!$A$3:$D$50,4,0))","v":""},{"$f":"IF(K38=\"\",\"\",初期設定!$C$2)","v":""},""]
["07200","男",{"$f":"VLOOKUP(A39,初期設定!$B$20:$F$40,2,0)","v":"棒高跳"},{"$f":"VLOOKUP(A39,初期設定!$B$20:$F$40,3,0)","v":"02F"},null,null,null,null,"","",{"$f":"IF(ISERROR(VLOOKUP(E39,男子選手!$B$5:$G$195,6,FALSE)),\"\",VLOOKUP(E39,男子選手!$B$5:$G$195,6,FALSE))","v":""},{"$f":"IF(K39=\"\",\"\",VLOOKUP(M39,学校番号!$A$3:$D$50,4,0))","v":""},{"$f":"IF(K39=\"\",\"\",初期設定!$C$2)","v":""},""]
["07300","男",{"$f":"VLOOKUP(A40,初期設定!$B$20:$F$40,2,0)","v":"走幅跳"},{"$f":"VLOOKUP(A40,初期設定!$B$20:$F$40,3,0)","v":"02F"},null,null,null,null,"","",{"$f":"IF(ISERROR(VLOOKUP(E40,男子選手!$B$5:$G$195,6,FALSE)),\"\",VLOOKUP(E40,男子選手!$B$5:$G$195,6,FALSE))","v":""},{"$f":"IF(K40=\"\",\"\",VLOOKUP(M40,学校番号!$A$3:$D$50,4,0))","v":""},{"$f":"IF(K40=\"\",\"\",初期設定!$C$2)","v":""},""]
["07300","男",{"$f":"VLOOKUP(A41,初期設定!$B$20:$F$40,2,0)","v":"走幅跳"},{"$f":"VLOOKUP(A41,初期設定!$B$20:$F$40,3,0)","v":"02F"},null,null,null,null,"","",{"$f":"IF(ISERROR(VLOOKUP(E41,男子選手!$B$5:$G$195,6,FALSE)),\"\",VLOOKUP(E41,男子選手!$B$5:$G$195,6,FALSE))","v":""},{"$f":"IF(K41=\"\",\"\",VLOOKUP(M41,学校番号!$A$3:$D$50,4,0))","v":""},{"$f":"IF(K41=\"\",\"\",初期設定!$C$2)","v":""},""]
["07300","男",{"$f":"VLOOKUP(A42,初期設定!$B$20:$F$40,2,0)","v":"走幅跳"},{"$f":"VLOOKUP(A42,初期設定!$B$20:$F$40,3,0)","v":"02F"},null,null,null,null,"","",{"$f":"IF(ISERROR(VLOOKUP(E42,男子選手!$B$5:$G$195,6,FALSE)),\"\",VLOOKUP(E42,男子選手!$B$5:$G$195,6,FALSE))","v":""},{"$f":"IF(K42=\"\",\"\",VLOOKUP(M42,学校番号!$A$3:$D$50,4,0))","v":""},{"$f":"IF(K42=\"\",\"\",初期設定!$C$2)","v":""},""]
["07400","男",{"$f":"VLOOKUP(A43,初期設定!$B$20:$F$40,2,0)","v":"三段跳"},{"$f":"VLOOKUP(A43,初期設定!$B$20:$F$40,3,0)","v":"02F"},null,null,null,null,"","",{"$f":"IF(ISERROR(VLOOKUP(E43,男子選手!$B$5:$G$195,6,FALSE)),\"\",VLOOKUP(E43,男子選手!$B$5:$G$195,6,FALSE))","v":""},{"$f":"IF(K43=\"\",\"\",VLOOKUP(M43,学校番号!$A$3:$D$50,4,0))","v":""},{"$f":"IF(K43=\"\",\"\",初期設定!$C$2)","v":""},""]
["07400","男",{"$f":"VLOOKUP(A44,初期設定!$B$20:$F$40,2,0)","v":"三段跳"},{"$f":"VLOOKUP(A44,初期設定!$B$20:$F$40,3,0)","v":"02F"},null,null,null,null,"","",{"$f":"IF(ISERROR(VLOOKUP(E44,男子選手!$B$5:$G$195,6,FALSE)),\"\",VLOOKUP(E44,男子選手!$B$5:$G$195,6,FALSE))","v":""},{"$f":"IF(K44=\"\",\"\",VLOOKUP(M44,学校番号!$A$3:$D$50,4,0))","v":""},{"$f":"IF(K44=\"\",\"\",初期設定!$C$2)","v":""},""]
["07400","男",{"$f":"VLOOKUP(A45,初期設定!$B$20:$F$40,2,0)","v":"三段跳"},{"$f":"VLOOKUP(A45,初期設定!$B$20:$F$40,3,0)","v":"02F"},null,null,null,null,"","",{"$f":"IF(ISERROR(VLOOKUP(E45,男子選手!$B$5:$G$195,6,FALSE)),\"\",VLOOKUP(E45,男子選手!$B$5:$G$195,6,FALSE))","v":""},{"$f":"IF(K45=\"\",\"\",VLOOKUP(M45,学校番号!$A$3:$D$50,4,0))","v":""},{"$f":"IF(K45=\"\",\"\",初期設定!$C$2)","v":""},""]
["08200","男",{"$f":"VLOOKUP(A46,初期設定!$B$20:$F$40,2,0)","v":"砲丸投"},{"$f":"VLOOKUP(A46,初期設定!$B$20:$F$40,3,0)","v":"02F"},null,null,null,null,"","",{"$f":"IF(ISERROR(VLOOKUP(E46,男子選手!$B$5:$G$195,6,FALSE)),\"\",VLOOKUP(E46,男子選手!$B$5:$G$195,6,FALSE))","v":""},{"$f":"IF(K46=\"\",\"\",VLOOKUP(M46,学校番号!$A$3:$D$50,4,0))","v":""},{"$f":"IF(K46=\"\",\"\",初期設定!$C$2)","v":""},""]
["08200","男",{"$f":"VLOOKUP(A47,初期設定!$B$20:$F$40,2,0)","v":"砲丸投"},{"$f":"VLOOKUP(A47,初期設定!$B$20:$F$40,3,0)","v":"02F"},null,null,null,null,"","",{"$f":"IF(ISERROR(VLOOKUP(E47,男子選手!$B$5:$G$195,6,FALSE)),\"\",VLOOKUP(E47,男子選手!$B$5:$G$195,6,FALSE))","v":""},{"$f":"IF(K47=\"\",\"\",VLOOKUP(M47,学校番号!$A$3:$D$50,4,0))","v":""},{"$f":"IF(K47=\"\",\"\",初期設定!$C$2)","v":""},""]
["08200","男",{"$f":"VLOOKUP(A48,初期設定!$B$20:$F$40,2,0)","v":"砲丸投"},{"$f":"VLOOKUP(A48,初期設定!$B$20:$F$40,3,0)","v":"02F"},null,null,null,null,"","",{"$f":"IF(ISERROR(VLOOKUP(E48,男子選手!$B$5:$G$195,6,FALSE)),\"\",VLOOKUP(E48,男子選手!$B$5:$G$195,6,FALSE))","v":""},{"$f":"IF(K48=\"\",\"\",VLOOKUP(M48,学校番号!$A$3:$D$50,4,0))","v":""},{"$f":"IF(K48=\"\",\"\",初期設定!$C$2)","v":""},""]
["08700","男",{"$f":"VLOOKUP(A49,初期設定!$B$20:$F$40,2,0)","v":"円盤投"},{"$f":"VLOOKUP(A49,初期設定!$B$20:$F$40,3,0)","v":"02F"},null,null,null,null,"","",{"$f":"IF(ISERROR(VLOOKUP(E49,男子選手!$B$5:$G$195,6,FALSE)),\"\",VLOOKUP(E49,男子選手!$B$5:$G$195,6,FALSE))","v":""},{"$f":"IF(K49=\"\",\"\",VLOOKUP(M49,学校番号!$A$3:$D$50,4,0))","v":""},{"$f":"IF(K49=\"\",\"\",初期設定!$C$2)","v":""},""]
["08700","男",{"$f":"VLOOKUP(A50,初期設定!$B$20:$F$40,2,0)","v":"円盤投"},{"$f":"VLOOKUP(A50,初期設定!$B$20:$F$40,3,0)","v":"02F"},null,null,null,null,"","",{"$f":"IF(ISERROR(VLOOKUP(E50,男子選手!$B$5:$G$195,6,FALSE)),\"\",VLOOKUP(E50,男子選手!$B$5:$G$195,6,FALSE))","v":""},{"$f":"IF(K50=\"\",\"\",VLOOKUP(M50,学校番号!$A$3:$D$50,4,0))","v":""},{"$f":"IF(K50=\"\",\"\",初期設定!$C$2)","v":""},""]
["08700","男",{"$f":"VLOOKUP(A51,初期設定!$B$20:$F$40,2,0)","v":"円盤投"},{"$f":"VLOOKUP(A51,初期設定!$B$20:$F$40,3,0)","v":"02F"},null,null,null,null,"","",{"$f":"IF(ISERROR(VLOOKUP(E51,男子選手!$B$5:$G$195,6,FALSE)),\"\",VLOOKUP(E51,男子選手!$B$5:$G$195,6,FALSE))","v":""},{"$f":"IF(K51=\"\",\"\",VLOOKUP(M51,学校番号!$A$3:$D$50,4,0))","v":""},{"$f":"IF(K51=\"\",\"\",初期設定!$C$2)","v":""},""]
["09100","男",{"$f":"VLOOKUP(A52,初期設定!$B$20:$F$40,2,0)","v":"ﾊﾝﾏ-投"},{"$f":"VLOOKUP(A52,初期設定!$B$20:$F$40,3,0)","v":"02F"},null,null,null,null,"","",{"$f":"IF(ISERROR(VLOOKUP(E52,男子選手!$B$5:$G$195,6,FALSE)),\"\",VLOOKUP(E52,男子選手!$B$5:$G$195,6,FALSE))","v":""},{"$f":"IF(K52=\"\",\"\",VLOOKUP(M52,学校番号!$A$3:$D$50,4,0))","v":""},{"$f":"IF(K52=\"\",\"\",初期設定!$C$2)","v":""},""]
["09100","男",{"$f":"VLOOKUP(A53,初期設定!$B$20:$F$40,2,0)","v":"ﾊﾝﾏ-投"},{"$f":"VLOOKUP(A53,初期設定!$B$20:$F$40,3,0)","v":"02F"},null,null,null,null,"","",{"$f":"IF(ISERROR(VLOOKUP(E53,男子選手!$B$5:$G$195,6,FALSE)),\"\",VLOOKUP(E53,男子選手!$B$5:$G$195,6,FALSE))","v":""},{"$f":"IF(K53=\"\",\"\",VLOOKUP(M53,学校番号!$A$3:$D$50,4,0))","v":""},{"$f":"IF(K53=\"\",\"\",初期設定!$C$2)","v":""},""]
["09100","男",{"$f":"VLOOKUP(A54,初期設定!$B$20:$F$40,2,0)","v":"ﾊﾝﾏ-投"},{"$f":"VLOOKUP(A54,初期設定!$B$20:$F$40,3,0)","v":"02F"},null,null,null,null,"","",{"$f":"IF(ISERROR(VLOOKUP(E54,男子選手!$B$5:$G$195,6,FALSE)),\"\",VLOOKUP(E54,男子選手!$B$5:$G$195,6,FALSE))","v":""},{"$f":"IF(K54=\"\",\"\",VLOOKUP(M54,学校番号!$A$3:$D$50,4,0))","v":""},{"$f":"IF(K54=\"\",\"\",初期設定!$C$2)","v":""},""]
["09200","男",{"$f":"VLOOKUP(A55,初期設定!$B$20:$F$40,2,0)","v":"やり投"},{"$f":"VLOOKUP(A55,初期設定!$B$20:$F$40,3,0)","v":"02F"},null,null,null,null,"","",{"$f":"IF(ISERROR(VLOOKUP(E55,男子選手!$B$5:$G$195,6,FALSE)),\"\",VLOOKUP(E55,男子選手!$B$5:$G$195,6,FALSE))","v":""},{"$f":"IF(K55=\"\",\"\",VLOOKUP(M55,学校番号!$A$3:$D$50,4,0))","v":""},{"$f":"IF(K55=\"\",\"\",初期設定!$C$2)","v":""},""]
["09200","男",{"$f":"VLOOKUP(A56,初期設定!$B$20:$F$40,2,0)","v":"やり投"},{"$f":"VLOOKUP(A56,初期設定!$B$20:$F$40,3,0)","v":"02F"},null,null,null,null,"","",{"$f":"IF(ISERROR(VLOOKUP(E56,男子選手!$B$5:$G$195,6,FALSE)),\"\",VLOOKUP(E56,男子選手!$B$5:$G$195,6,FALSE))","v":""},{"$f":"IF(K56=\"\",\"\",VLOOKUP(M56,学校番号!$A$3:$D$50,4,0))","v":""},{"$f":"IF(K56=\"\",\"\",初期設定!$C$2)","v":""},""]
["09200","男",{"$f":"VLOOKUP(A57,初期設定!$B$20:$F$40,2,0)","v":"やり投"},{"$f":"VLOOKUP(A57,初期設定!$B$20:$F$40,3,0)","v":"02F"},null,null,null,null,"",{"$f":"IF(E57=\"\",\"\",E57)","v":""},{"$f":"IF(ISERROR(VLOOKUP(E57,男子選手!$B$5:$G$195,6,FALSE)),\"\",VLOOKUP(E57,男子選手!$B$5:$G$195,6,FALSE))","v":""},{"$f":"IF(K57=\"\",\"\",VLOOKUP(M57,学校番号!$A$3:$D$50,4,0))","v":""},{"$f":"IF(K57=\"\",\"\",初期設定!$C$2)","v":""},""]
["21000","男",{"$f":"VLOOKUP(A58,初期設定!$B$20:$F$40,2,0)","v":"８種競技"},{"$f":"VLOOKUP(A58,初期設定!$B$20:$F$40,3,0)","v":"03C"},null,null,null,null,{"$f":"IF(F58=\"\",\"\",F58&\"点\")","v":""},{"$f":"IF(E58=\"\",\"\",E58)","v":""},{"$f":"IF(ISERROR(VLOOKUP(E58,男子選手!$B$5:$G$195,6,FALSE)),\"\",VLOOKUP(E58,男子選手!$B$5:$G$195,6,FALSE))","v":""},{"$f":"IF(K58=\"\",\"\",VLOOKUP(M58,学校番号!$A$3:$D$50,4,0))","v":""},{"$f":"IF(K58=\"\",\"\",初期設定!$C$2)","v":""},""]
["21000","男",{"$f":"VLOOKUP(A59,初期設定!$B$20:$F$40,2,0)","v":"８種競技"},{"$f":"VLOOKUP(A59,初期設定!$B$20:$F$40,3,0)","v":"03C"},null,null,null,null,{"$f":"IF(F59=\"\",\"\",F59&\"点\")","v":""},{"$f":"IF(E59=\"\",\"\",E59)","v":""},{"$f":"IF(ISERROR(VLOOKUP(E59,男子選手!$B$5:$G$195,6,FALSE)),\"\",VLOOKUP(E59,男子選手!$B$5:$G$195,6,FALSE))","v":""},{"$f":"IF(K59=\"\",\"\",VLOOKUP(M59,学校番号!$A$3:$D$50,4,0))","v":""},{"$f":"IF(K59=\"\",\"\",初期設定!$C$2)","v":""},""]
["21000","男",{"$f":"VLOOKUP(A60,初期設定!$B$20:$F$40,2,0)","v":"８種競技"},{"$f":"VLOOKUP(A60,初期設定!$B$20:$F$40,3,0)","v":"03C"},null,null,null,null,{"$f":"IF(F60=\"\",\"\",F60&\"点\")","v":""},{"$f":"IF(E60=\"\",\"\",E60)","v":""},{"$f":"IF(ISERROR(VLOOKUP(E60,男子選手!$B$5:$G$195,6,FALSE)),\"\",VLOOKUP(E60,男子選手!$B$5:$G$195,6,FALSE))","v":""},{"$f":"IF(K60=\"\",\"\",VLOOKUP(M60,学校番号!$A$3:$D$50,4,0))","v":""},{"$f":"IF(K60=\"\",\"\",初期設定!$C$2)","v":""},""]
["60100","男","4x100R",{"$f":"VLOOKUP(A61,初期設定!$B$20:$F$40,3,0)","v":"01T"},null,null,null,null,{"$f":"IF(AND(F61=\"\",G61=\"\",H61=\"\"),\"\",IF(D61=\"01T\",IF(F61=\"\",G61&\"\"\"\"&H61,F61&\"'\"&G61&\"\"\"\"&H61),IF(D61=\"02F\",G61&\"m\"&H61,H61&\"点\")))","v":""},{"$f":"IF(E61=\"\",\"\",E61)","v":""},{"$f":"IF(ISERROR(VLOOKUP(E61,男子選手!$B$5:$G$195,6,FALSE)),\"\",VLOOKUP(E61,男子選手!$B$5:$G$195,6,FALSE))","v":""},{"$f":"IF(K61=\"\",\"\",VLOOKUP(M61,学校番号!$A$3:$D$50,4,0))","v":""},{"$f":"IF(K61=\"\",\"\",初期設定!$C$2)","v":""},""]
["60100","男","4x100R",{"$f":"VLOOKUP(A62,初期設定!$B$20:$F$40,3,0)","v":"01T"},null,null,null,null,"",{"$f":"IF(E62=\"\",\"\",E62)","v":""},{"$f":"IF(ISERROR(VLOOKUP(E62,男子選手!$B$5:$G$195,6,FALSE)),\"\",VLOOKUP(E62,男子選手!$B$5:$G$195,6,FALSE))","v":""},{"$f":"IF(K62=\"\",\"\",VLOOKUP(M62,学校番号!$A$3:$D$50,4,0))","v":""},{"$f":"IF(K62=\"\",\"\",初期設定!$C$2)","v":""}]
["60100","男","4x100R",{"$f":"VLOOKUP(A63,初期設定!$B$20:$F$40,3,0)","v":"01T"},null,null,null,null,"","",{"$f":"IF(ISERROR(VLOOKUP(E63,男子選手!$B$5:$G$195,6,FALSE)),\"\",VLOOKUP(E63,男子選手!$B$5:$G$195,6,FALSE))","v":""},{"$f":"IF(K63=\"\",\"\",VLOOKUP(M63,学校番号!$A$3:$D$50,4,0))","v":""},{"$f":"IF(K63=\"\",\"\",初期設定!$C$2)","v":""}]
["60100","男","4x100R",{"$f":"VLOOKUP(A64,初期設定!$B$20:$F$40,3,0)","v":"01T"},null,null,null,null,"","",{"$f":"IF(ISERROR(VLOOKUP(E64,男子選手!$B$5:$G$195,6,FALSE)),\"\",VLOOKUP(E64,男子選手!$B$5:$G$195,6,FALSE))","v":""},{"$f":"IF(K64=\"\",\"\",VLOOKUP(M64,学校番号!$A$3:$D$50,4,0))","v":""},{"$f":"IF(K64=\"\",\"\",初期設定!$C$2)","v":""}]
["60100","男","4x100R",{"$f":"VLOOKUP(A65,初期設定!$B$20:$F$40,3,0)","v":"01T"},null,null,null,null,"","",{"$f":"IF(ISERROR(VLOOKUP(E65,男子選手!$B$5:$G$195,6,FALSE)),\"\",VLOOKUP(E65,男子選手!$B$5:$G$195,6,FALSE))","v":""},{"$f":"IF(K65=\"\",\"\",VLOOKUP(M65,学校番号!$A$3:$D$50,4,0))","v":""},{"$f":"IF(K65=\"\",\"\",初期設定!$C$2)","v":""}]
["60100","男","4x100R",{"$f":"VLOOKUP(A66,初期設定!$B$20:$F$40,3,0)","v":"01T"},null,null,null,null,"","",{"$f":"IF(ISERROR(VLOOKUP(E66,男子選手!$B$5:$G$195,6,FALSE)),\"\",VLOOKUP(E66,男子選手!$B$5:$G$195,6,FALSE))","v":""},{"$f":"IF(K66=\"\",\"\",VLOOKUP(M66,学校番号!$A$3:$D$50,4,0))","v":""},{"$f":"IF(K66=\"\",\"\",初期設定!$C$2)","v":""}]
["60300","男","4x400R",{"$f":"VLOOKUP(A67,初期設定!$B$20:$F$40,3,0)","v":"01T"},null,null,null,null,"","",{"$f":"IF(ISERROR(VLOOKUP(E67,男子選手!$B$5:$G$195,6,FALSE)),\"\",VLOOKUP(E67,男子選手!$B$5:$G$195,6,FALSE))","v":""},{"$f":"IF(K67=\"\",\"\",VLOOKUP(M67,学校番号!$A$3:$D$50,4,0))","v":""},{"$f":"IF(K67=\"\",\"\",初期設定!$C$2)","v":""},""]
["60300","男","4x400R",{"$f":"VLOOKUP(A68,初期設定!$B$20:$F$40,3,0)","v":"01T"},null,null,null,null,"","",{"$f":"IF(ISERROR(VLOOKUP(E68,男子選手!$B$5:$G$195,6,FALSE)),\"\",VLOOKUP(E68,男子選手!$B$5:$G$195,6,FALSE))","v":""},{"$f":"IF(K68=\"\",\"\",VLOOKUP(M68,学校番号!$A$3:$D$50,4,0))","v":""},{"$f":"IF(K68=\"\",\"\",初期設定!$C$2)","v":""}]
["60300","男","4x400R",{"$f":"VLOOKUP(A69,初期設定!$B$20:$F$40,3,0)","v":"01T"},null,null,null,null,"","",{"$f":"IF(ISERROR(VLOOKUP(E69,男子選手!$B$5:$G$195,6,FALSE)),\"\",VLOOKUP(E69,男子選手!$B$5:$G$195,6,FALSE))","v":""},{"$f":"IF(K69=\"\",\"\",VLOOKUP(M69,学校番号!$A$3:$D$50,4,0))","v":""},{"$f":"IF(K69=\"\",\"\",初期設定!$C$2)","v":""}]
["60300","男","4x400R",{"$f":"VLOOKUP(A70,初期設定!$B$20:$F$40,3,0)","v":"01T"},null,null,null,null,"","",{"$f":"IF(ISERROR(VLOOKUP(E70,男子選手!$B$5:$G$195,6,FALSE)),\"\",VLOOKUP(E70,男子選手!$B$5:$G$195,6,FALSE))","v":""},{"$f":"IF(K70=\"\",\"\",VLOOKUP(M70,学校番号!$A$3:$D$50,4,0))","v":""},{"$f":"IF(K70=\"\",\"\",初期設定!$C$2)","v":""}]
["60300","男","4x400R",{"$f":"VLOOKUP(A71,初期設定!$B$20:$F$40,3,0)","v":"01T"},null,null,null,null,"","",{"$f":"IF(ISERROR(VLOOKUP(E71,男子選手!$B$5:$G$195,6,FALSE)),\"\",VLOOKUP(E71,男子選手!$B$5:$G$195,6,FALSE))","v":""},{"$f":"IF(K71=\"\",\"\",VLOOKUP(M71,学校番号!$A$3:$D$50,4,0))","v":""},{"$f":"IF(K71=\"\",\"\",初期設定!$C$2)","v":""}]
["60300","男","4x400R",{"$f":"VLOOKUP(A72,初期設定!$B$20:$F$40,3,0)","v":"01T"},null,null,null,null,"","",{"$f":"IF(ISERROR(VLOOKUP(E72,男子選手!$B$5:$G$195,6,FALSE)),\"\",VLOOKUP(E72,男子選手!$B$5:$G$195,6,FALSE))","v":""},{"$f":"IF(K72=\"\",\"\",VLOOKUP(M72,学校番号!$A$3:$D$50,4,0))","v":""},{"$f":"IF(K72=\"\",\"\",初期設定!$C$2)","v":""}]

{"sheet":"男子選手","index":2,"n_rows":103,"n_cols":7,"rows_kept":103,"cut":false,"hidden":false,"merged":[]}
[]
[]
[]
[{"$f":"VLOOKUP(初期設定!C2,学校番号!A3:D50,3,FALSE)","v":{"$error":"#N/A"}},"登録番号","名前","ﾌﾘｶﾞﾅ","学年","所属"]
[1,{"$f":"$A$4+A5","v":{"$error":"#N/A"}},{"$f":"VLOOKUP($B5,登録選手!$B$1:$E$1103,COLUMN()-1,FALSE)","v":{"$error":"#N/A"}},{"$f":"VLOOKUP($B5,登録選手!$B$1:$E$1103,3,FALSE)","v":{"$error":"#N/A"}},{"$f":"VALUE(RIGHT(C5,1))","v":{"$error":"#N/A"}},{"$f":"VLOOKUP(初期設定!$C$2,学校番号!$A$3:$D$50,4,FALSE)","v":{"$error":"#N/A"}},{"$f":"C5","v":{"$error":"#N/A"}}]
[2,{"$f":"$A$4+A6","v":{"$error":"#N/A"}},{"$f":"VLOOKUP($B6,登録選手!$B$1:$E$1103,COLUMN()-1,FALSE)","v":{"$error":"#N/A"}},{"$f":"VLOOKUP($B6,登録選手!$B$1:$E$1103,3,FALSE)","v":{"$error":"#N/A"}},{"$f":"VALUE(RIGHT(C6,1))","v":{"$error":"#N/A"}},{"$f":"VLOOKUP(初期設定!$C$2,学校番号!$A$3:$D$50,4,FALSE)","v":{"$error":"#N/A"}},{"$f":"C6","v":{"$error":"#N/A"}}]
[3,{"$error":"#N/A"},{"$f":"VLOOKUP($B7,登録選手!$B$1:$E$1103,COLUMN()-1,FALSE)","v":{"$error":"#N/A"}},{"$f":"VLOOKUP($B7,登録選手!$B$1:$E$1103,3,FALSE)","v":{"$error":"#N/A"}},{"$error":"#N/A"},{"$f":"VLOOKUP(初期設定!$C$2,学校番号!$A$3:$D$50,4,FALSE)","v":{"$error":"#N/A"}},{"$error":"#N/A"}]
[4,{"$error":"#N/A"},{"$f":"VLOOKUP($B8,登録選手!$B$1:$E$1103,COLUMN()-1,FALSE)","v":{"$error":"#N/A"}},{"$f":"VLOOKUP($B8,登録選手!$B$1:$E$1103,3,FALSE)","v":{"$error":"#N/A"}},{"$error":"#N/A"},{"$f":"VLOOKUP(初期設定!$C$2,学校番号!$A$3:$D$50,4,FALSE)","v":{"$error":"#N/A"}},{"$error":"#N/A"}]
[5,{"$error":"#N/A"},{"$f":"VLOOKUP($B9,登録選手!$B$1:$E$1103,COLUMN()-1,FALSE)","v":{"$error":"#N/A"}},{"$f":"VLOOKUP($B9,登録選手!$B$1:$E$1103,3,FALSE)","v":{"$error":"#N/A"}},{"$error":"#N/A"},{"$f":"VLOOKUP(初期設定!$C$2,学校番号!$A$3:$D$50,4,FALSE)","v":{"$error":"#N/A"}},{"$error":"#N/A"}]
[6,{"$error":"#N/A"},{"$f":"VLOOKUP($B10,登録選手!$B$1:$E$1103,COLUMN()-1,FALSE)","v":{"$error":"#N/A"}},{"$f":"VLOOKUP($B10,登録選手!$B$1:$E$1103,3,FALSE)","v":{"$error":"#N/A"}},{"$error":"#N/A"},{"$f":"VLOOKUP(初期設定!$C$2,学校番号!$A$3:$D$50,4,FALSE)","v":{"$error":"#N/A"}},{"$error":"#N/A"}]
[7,{"$error":"#N/A"},{"$f":"VLOOKUP($B11,登録選手!$B$1:$E$1103,COLUMN()-1,FALSE)","v":{"$error":"#N/A"}},{"$f":"VLOOKUP($B11,登録選手!$B$1:$E$1103,3,FALSE)","v":{"$error":"#N/A"}},{"$error":"#N/A"},{"$f":"VLOOKUP(初期設定!$C$2,学校番号!$A$3:$D$50,4,FALSE)","v":{"$error":"#N/A"}},{"$error":"#N/A"}]
[8,{"$error":"#N/A"},{"$f":"VLOOKUP($B12,登録選手!$B$1:$E$1103,COLUMN()-1,FALSE)","v":{"$error":"#N/A"}},{"$f":"VLOOKUP($B12,登録選手!$B$1:$E$1103,3,FALSE)","v":{"$error":"#N/A"}},{"$error":"#N/A"},{"$f":"VLOOKUP(初期設定!$C$2,学校番号!$A$3:$D$50,4,FALSE)","v":{"$error":"#N/A"}},{"$error":"#N/A"}]
[9,{"$error":"#N/A"},{"$f":"VLOOKUP($B13,登録選手!$B$1:$E$1103,COLUMN()-1,FALSE)","v":{"$error":"#N/A"}},{"$f":"VLOOKUP($B13,登録選手!$B$1:$E$1103,3,FALSE)","v":{"$error":"#N/A"}},{"$error":"#N/A"},{"$f":"VLOOKUP(初期設定!$C$2,学校番号!$A$3:$D$50,4,FALSE)","v":{"$error":"#N/A"}},{"$error":"#N/A"}]
[10,{"$error":"#N/A"},{"$f":"VLOOKUP($B14,登録選手!$B$1:$E$1103,COLUMN()-1,FALSE)","v":{"$error":"#N/A"}},{"$f":"VLOOKUP($B14,登録選手!$B$1:$E$1103,3,FALSE)","v":{"$error":"#N/A"}},{"$error":"#N/A"},{"$f":"VLOOKUP(初期設定!$C$2,学校番号!$A$3:$D$50,4,FALSE)","v":{"$error":"#N/A"}},{"$error":"#N/A"}]
[11,{"$error":"#N/A"},{"$f":"VLOOKUP($B15,登録選手!$B$1:$E$1103,COLUMN()-1,FALSE)","v":{"$error":"#N/A"}},{"$f":"VLOOKUP($B15,登録選手!$B$1:$E$1103,3,FALSE)","v":{"$error":"#N/A"}},{"$error":"#N/A"},{"$f":"VLOOKUP(初期設定!$C$2,学校番号!$A$3:$D$50,4,FALSE)","v":{"$error":"#N/A"}},{"$error":"#N/A"}]
[12,{"$error":"#N/A"},{"$f":"VLOOKUP($B16,登録選手!$B$1:$E$1103,COLUMN()-1,FALSE)","v":{"$error":"#N/A"}},{"$f":"VLOOKUP($B16,登録選手!$B$1:$E$1103,3,FALSE)","v":{"$error":"#N/A"}},{"$error":"#N/A"},{"$f":"VLOOKUP(初期設定!$C$2,学校番号!$A$3:$D$50,4,FALSE)","v":{"$error":"#N/A"}},{"$error":"#N/A"}]
[13,{"$error":"#N/A"},{"$f":"VLOOKUP($B17,登録選手!$B$1:$E$1103,COLUMN()-1,FALSE)","v":{"$error":"#N/A"}},{"$f":"VLOOKUP($B17,登録選手!$B$1:$E$1103,3,FALSE)","v":{"$error":"#N/A"}},{"$error":"#N/A"},{"$f":"VLOOKUP(初期設定!$C$2,学校番号!$A$3:$D$50,4,FALSE)","v":{"$error":"#N/A"}},{"$error":"#N/A"}]
[14,{"$error":"#N/A"},{"$f":"VLOOKUP($B18,登録選手!$B$1:$E$1103,COLUMN()-1,FALSE)","v":{"$error":"#N/A"}},{"$f":"VLOOKUP($B18,登録選手!$B$1:$E$1103,3,FALSE)","v":{"$error":"#N/A"}},{"$error":"#N/A"},{"$f":"VLOOKUP(初期設定!$C$2,学校番号!$A$3:$D$50,4,FALSE)","v":{"$error":"#N/A"}},{"$error":"#N/A"}]
[15,{"$error":"#N/A"},{"$f":"VLOOKUP($B19,登録選手!$B$1:$E$1103,COLUMN()-1,FALSE)","v":{"$error":"#N/A"}},{"$f":"VLOOKUP($B19,登録選手!$B$1:$E$1103,3,FALSE)","v":{"$error":"#N/A"}},{"$error":"#N/A"},{"$f":"VLOOKUP(初期設定!$C$2,学校番号!$A$3:$D$50,4,FALSE)","v":{"$error":"#N/A"}},{"$error":"#N/A"}]
[16,{"$error":"#N/A"},{"$f":"VLOOKUP($B20,登録選手!$B$1:$E$1103,COLUMN()-1,FALSE)","v":{"$error":"#N/A"}},{"$f":"VLOOKUP($B20,登録選手!$B$1:$E$1103,3,FALSE)","v":{"$error":"#N/A"}},{"$error":"#N/A"},{"$f":"VLOOKUP(初期設定!$C$2,学校番号!$A$3:$D$50,4,FALSE)","v":{"$error":"#N/A"}},{"$error":"#N/A"}]
[17,{"$error":"#N/A"},{"$f":"VLOOKUP($B21,登録選手!$B$1:$E$1103,COLUMN()-1,FALSE)","v":{"$error":"#N/A"}},{"$f":"VLOOKUP($B21,登録選手!$B$1:$E$1103,3,FALSE)","v":{"$error":"#N/A"}},{"$error":"#N/A"},{"$f":"VLOOKUP(初期設定!$C$2,学校番号!$A$3:$D$50,4,FALSE)","v":{"$error":"#N/A"}},{"$error":"#N/A"}]
[18,{"$error":"#N/A"},{"$f":"VLOOKUP($B22,登録選手!$B$1:$E$1103,COLUMN()-1,FALSE)","v":{"$error":"#N/A"}},{"$f":"VLOOKUP($B22,登録選手!$B$1:$E$1103,3,FALSE)","v":{"$error":"#N/A"}},{"$error":"#N/A"},{"$f":"VLOOKUP(初期設定!$C$2,学校番号!$A$3:$D$50,4,FALSE)","v":{"$error":"#N/A"}},{"$error":"#N/A"}]
[19,{"$error":"#N/A"},{"$f":"VLOOKUP($B23,登録選手!$B$1:$E$1103,COLUMN()-1,FALSE)","v":{"$error":"#N/A"}},{"$f":"VLOOKUP($B23,登録選手!$B$1:$E$1103,3,FALSE)","v":{"$error":"#N/A"}},{"$error":"#N/A"},{"$f":"VLOOKUP(初期設定!$C$2,学校番号!$A$3:$D$50,4,FALSE)","v":{"$error":"#N/A"}},{"$error":"#N/A"}]
[20,{"$error":"#N/A"},{"$f":"VLOOKUP($B24,登録選手!$B$1:$E$1103,COLUMN()-1,FALSE)","v":{"$error":"#N/A"}},{"$f":"VLOOKUP($B24,登録選手!$B$1:$E$1103,3,FALSE)","v":{"$error":"#N/A"}},{"$error":"#N/A"},{"$f":"VLOOKUP(初期設定!$C$2,学校番号!$A$3:$D$50,4,FALSE)","v":{"$error":"#N/A"}},{"$error":"#N/A"}]
[21,{"$error":"#N/A"},{"$f":"VLOOKUP($B25,登録選手!$B$1:$E$1103,COLUMN()-1,FALSE)","v":{"$error":"#N/A"}},{"$f":"VLOOKUP($B25,登録選手!$B$1:$E$1103,3,FALSE)","v":{"$error":"#N/A"}},{"$error":"#N/A"},{"$f":"VLOOKUP(初期設定!$C$2,学校番号!$A$3:$D$50,4,FALSE)","v":{"$error":"#N/A"}},{"$error":"#N/A"}]
[22,{"$error":"#N/A"},{"$f":"VLOOKUP($B26,登録選手!$B$1:$E$1103,COLUMN()-1,FALSE)","v":{"$error":"#N/A"}},{"$f":"VLOOKUP($B26,登録選手!$B$1:$E$1103,3,FALSE)","v":{"$error":"#N/A"}},{"$error":"#N/A"},{"$f":"VLOOKUP(初期設定!$C$2,学校番号!$A$3:$D$50,4,FALSE)","v":{"$error":"#N/A"}},{"$error":"#N/A"}]
[23,{"$error":"#N/A"},{"$f":"VLOOKUP($B27,登録選手!$B$1:$E$1103,COLUMN()-1,FALSE)","v":{"$error":"#N/A"}},{"$f":"VLOOKUP($B27,登録選手!$B$1:$E$1103,3,FALSE)","v":{"$error":"#N/A"}},{"$error":"#N/A"},{"$f":"VLOOKUP(初期設定!$C$2,学校番号!$A$3:$D$50,4,FALSE)","v":{"$error":"#N/A"}},{"$error":"#N/A"}]
[24,{"$error":"#N/A"},{"$f":"VLOOKUP($B28,登録選手!$B$1:$E$1103,COLUMN()-1,FALSE)","v":{"$error":"#N/A"}},{"$f":"VLOOKUP($B28,登録選手!$B$1:$E$1103,3,FALSE)","v":{"$error":"#N/A"}},{"$error":"#N/A"},{"$f":"VLOOKUP(初期設定!$C$2,学校番号!$A$3:$D$50,4,FALSE)","v":{"$error":"#N/A"}},{"$error":"#N/A"}]
[25,{"$error":"#N/A"},{"$f":"VLOOKUP($B29,登録選手!$B$1:$E$1103,COLUMN()-1,FALSE)","v":{"$error":"#N/A"}},{"$f":"VLOOKUP($B29,登録選手!$B$1:$E$1103,3,FALSE)","v":{"$error":"#N/A"}},{"$error":"#N/A"},{"$f":"VLOOKUP(初期設定!$C$2,学校番号!$A$3:$D$50,4,FALSE)","v":{"$error":"#N/A"}},{"$error":"#N/A"}]
[26,{"$error":"#N/A"},{"$f":"VLOOKUP($B30,登録選手!$B$1:$E$1103,COLUMN()-1,FALSE)","v":{"$error":"#N/A"}},{"$f":"VLOOKUP($B30,登録選手!$B$1:$E$1103,3,FALSE)","v":{"$error":"#N/A"}},{"$error":"#N/A"},{"$f":"VLOOKUP(初期設定!$C$2,学校番号!$A$3:$D$50,4,FALSE)","v":{"$error":"#N/A"}},{"$error":"#N/A"}]
[27,{"$error":"#N/A"},{"$f":"VLOOKUP($B31,登録選手!$B$1:$E$1103,COLUMN()-1,FALSE)","v":{"$error":"#N/A"}},{"$f":"VLOOKUP($B31,登録選手!$B$1:$E$1103,3,FALSE)","v":{"$error":"#N/A"}},{"$error":"#N/A"},{"$f":"VLOOKUP(初期設定!$C$2,学校番号!$A$3:$D$50,4,FALSE)","v":{"$error":"#N/A"}},{"$error":"#N/A"}]
[28,{"$error":"#N/A"},{"$f":"VLOOKUP($B32,登録選手!$B$1:$E$1103,COLUMN()-1,FALSE)","v":{"$error":"#N/A"}},{"$f":"VLOOKUP($B32,登録選手!$B$1:$E$1103,3,FALSE)","v":{"$error":"#N/A"}},{"$error":"#N/A"},{"$f":"VLOOKUP(初期設定!$C$2,学校番号!$A$3:$D$50,4,FALSE)","v":{"$error":"#N/A"}},{"$error":"#N/A"}]
[29,{"$error":"#N/A"},{"$f":"VLOOKUP($B33,登録選手!$B$1:$E$1103,COLUMN()-1,FALSE)","v":{"$error":"#N/A"}},{"$f":"VLOOKUP($B33,登録選手!$B$1:$E$1103,3,FALSE)","v":{"$error":"#N/A"}},{"$error":"#N/A"},{"$f":"VLOOKUP(初期設定!$C$2,学校番号!$A$3:$D$50,4,FALSE)","v":{"$error":"#N/A"}},{"$error":"#N/A"}]
[30,{"$error":"#N/A"},{"$f":"VLOOKUP($B34,登録選手!$B$1:$E$1103,COLUMN()-1,FALSE)","v":{"$error":"#N/A"}},{"$f":"VLOOKUP($B34,登録選手!$B$1:$E$1103,3,FALSE)","v":{"$error":"#N/A"}},{"$error":"#N/A"},{"$f":"VLOOKUP(初期設定!$C$2,学校番号!$A$3:$D$50,4,FALSE)","v":{"$error":"#N/A"}},{"$error":"#N/A"}]
[31,{"$error":"#N/A"},{"$f":"VLOOKUP($B35,登録選手!$B$1:$E$1103,COLUMN()-1,FALSE)","v":{"$error":"#N/A"}},{"$f":"VLOOKUP($B35,登録選手!$B$1:$E$1103,3,FALSE)","v":{"$error":"#N/A"}},{"$error":"#N/A"},{"$f":"VLOOKUP(初期設定!$C$2,学校番号!$A$3:$D$50,4,FALSE)","v":{"$error":"#N/A"}},{"$error":"#N/A"}]
[32,{"$error":"#N/A"},{"$f":"VLOOKUP($B36,登録選手!$B$1:$E$1103,COLUMN()-1,FALSE)","v":{"$error":"#N/A"}},{"$f":"VLOOKUP($B36,登録選手!$B$1:$E$1103,3,FALSE)","v":{"$error":"#N/A"}},{"$error":"#N/A"},{"$f":"VLOOKUP(初期設定!$C$2,学校番号!$A$3:$D$50,4,FALSE)","v":{"$error":"#N/A"}},{"$error":"#N/A"}]
[33,{"$error":"#N/A"},{"$f":"VLOOKUP($B37,登録選手!$B$1:$E$1103,COLUMN()-1,FALSE)","v":{"$error":"#N/A"}},{"$f":"VLOOKUP($B37,登録選手!$B$1:$E$1103,3,FALSE)","v":{"$error":"#N/A"}},{"$error":"#N/A"},{"$f":"VLOOKUP(初期設定!$C$2,学校番号!$A$3:$D$50,4,FALSE)","v":{"$error":"#N/A"}},{"$error":"#N/A"}]
[34,{"$error":"#N/A"},{"$f":"VLOOKUP($B38,登録選手!$B$1:$E$1103,COLUMN()-1,FALSE)","v":{"$error":"#N/A"}},{"$f":"VLOOKUP($B38,登録選手!$B$1:$E$1103,3,FALSE)","v":{"$error":"#N/A"}},{"$error":"#N/A"},{"$f":"VLOOKUP(初期設定!$C$2,学校番号!$A$3:$D$50,4,FALSE)","v":{"$error":"#N/A"}},{"$error":"#N/A"}]
[35,{"$error":"#N/A"},{"$f":"VLOOKUP($B39,登録選手!$B$1:$E$1103,COLUMN()-1,FALSE)","v":{"$error":"#N/A"}},{"$f":"VLOOKUP($B39,登録選手!$B$1:$E$1103,3,FALSE)","v":{"$error":"#N/A"}},{"$error":"#N/A"},{"$f":"VLOOKUP(初期設定!$C$2,学校番号!$A$3:$D$50,4,FALSE)","v":{"$error":"#N/A"}},{"$error":"#N/A"}]
[36,{"$error":"#N/A"},{"$f":"VLOOKUP($B40,登録選手!$B$1:$E$1103,COLUMN()-1,FALSE)","v":{"$error":"#N/A"}},{"$f":"VLOOKUP($B40,登録選手!$B$1:$E$1103,3,FALSE)","v":{"$error":"#N/A"}},{"$error":"#N/A"},{"$f":"VLOOKUP(初期設定!$C$2,学校番号!$A$3:$D$50,4,FALSE)","v":{"$error":"#N/A"}},{"$error":"#N/A"}]
[37,{"$error":"#N/A"},{"$f":"VLOOKUP($B41,登録選手!$B$1:$E$1103,COLUMN()-1,FALSE)","v":{"$error":"#N/A"}},{"$f":"VLOOKUP($B41,登録選手!$B$1:$E$1103,3,FALSE)","v":{"$error":"#N/A"}},{"$error":"#N/A"},{"$f":"VLOOKUP(初期設定!$C$2,学校番号!$A$3:$D$50,4,FALSE)","v":{"$error":"#N/A"}},{"$error":"#N/A"}]
[38,{"$error":"#N/A"},{"$f":"VLOOKUP($B42,登録選手!$B$1:$E$1103,COLUMN()-1,FALSE)","v":{"$error":"#N/A"}},{"$f":"VLOOKUP($B42,登録選手!$B$1:$E$1103,3,FALSE)","v":{"$error":"#N/A"}},{"$error":"#N/A"},{"$f":"VLOOKUP(初期設定!$C$2,学校番号!$A$3:$D$50,4,FALSE)","v":{"$error":"#N/A"}},{"$error":"#N/A"}]
[39,{"$error":"#N/A"},{"$f":"VLOOKUP($B43,登録選手!$B$1:$E$1103,COLUMN()-1,FALSE)","v":{"$error":"#N/A"}},{"$f":"VLOOKUP($B43,登録選手!$B$1:$E$1103,3,FALSE)","v":{"$error":"#N/A"}},{"$error":"#N/A"},{"$f":"VLOOKUP(初期設定!$C$2,学校番号!$A$3:$D$50,4,FALSE)","v":{"$error":"#N/A"}},{"$error":"#N/A"}]
[40,{"$error":"#N/A"},{"$f":"VLOOKUP($B44,登録選手!$B$1:$E$1103,COLUMN()-1,FALSE)","v":{"$error":"#N/A"}},{"$f":"VLOOKUP($B44,登録選手!$B$1:$E$1103,3,FALSE)","v":{"$error":"#N/A"}},{"$error":"#N/A"},{"$f":"VLOOKUP(初期設定!$C$2,学校番号!$A$3:$D$50,4,FALSE)","v":{"$error":"#N/A"}},{"$error":"#N/A"}]
[41,{"$error":"#N/A"},{"$f":"VLOOKUP($B45,登録選手!$B$1:$E$1103,COLUMN()-1,FALSE)","v":{"$error":"#N/A"}},{"$f":"VLOOKUP($B45,登録選手!$B$1:$E$1103,3,FALSE)","v":{"$error":"#N/A"}},{"$error":"#N/A"},{"$f":"VLOOKUP(初期設定!$C$2,学校番号!$A$3:$D$50,4,FALSE)","v":{"$error":"#N/A"}},{"$error":"#N/A"}]
[42,{"$error":"#N/A"},{"$f":"VLOOKUP($B46,登録選手!$B$1:$E$1103,COLUMN()-1,FALSE)","v":{"$error":"#N/A"}},{"$f":"VLOOKUP($B46,登録選手!$B$1:$E$1103,3,FALSE)","v":{"$error":"#N/A"}},{"$error":"#N/A"},{"$f":"VLOOKUP(初期設定!$C$2,学校番号!$A$3:$D$50,4,FALSE)","v":{"$error":"#N/A"}},{"$error":"#N/A"}]
[43,{"$error":"#N/A"},{"$f":"VLOOKUP($B47,登録選手!$B$1:$E$1103,COLUMN()-1,FALSE)","v":{"$error":"#N/A"}},{"$f":"VLOOKUP($B47,登録選手!$B$1:$E$1103,3,FALSE)","v":{"$error":"#N/A"}},{"$error":"#N/A"},{"$f":"VLOOKUP(初期設定!$C$2,学校番号!$A$3:$D$50,4,FALSE)","v":{"$error":"#N/A"}},{"$error":"#N/A"}]
[44,{"$error":"#N/A"},{"$f":"VLOOKUP($B48,登録選手!$B$1:$E$1103,COLUMN()-1,FALSE)","v":{"$error":"#N/A"}},{"$f":"VLOOKUP($B48,登録選手!$B$1:$E$1103,3,FALSE)","v":{"$error":"#N/A"}},{"$error":"#N/A"},{"$f":"VLOOKUP(初期設定!$C$2,学校番号!$A$3:$D$50,4,FALSE)","v":{"$error":"#N/A"}},{"$error":"#N/A"}]
[45,{"$error":"#N/A"},{"$f":"VLOOKUP($B49,登録選手!$B$1:$E$1103,COLUMN()-1,FALSE)","v":{"$error":"#N/A"}},{"$f":"VLOOKUP($B49,登録選手!$B$1:$E$1103,3,FALSE)","v":{"$error":"#N/A"}},{"$error":"#N/A"},{"$f":"VLOOKUP(初期設定!$C$2,学校番号!$A$3:$D$50,4,FALSE)","v":{"$error":"#N/A"}},{"$error":"#N/A"}]
[46,{"$error":"#N/A"},{"$f":"VLOOKUP($B50,登録選手!$B$1:$E$1103,COLUMN()-1,FALSE)","v":{"$error":"#N/A"}},{"$f":"VLOOKUP($B50,登録選手!$B$1:$E$1103,3,FALSE)","v":{"$error":"#N/A"}},{"$error":"#N/A"},{"$f":"VLOOKUP(初期設定!$C$2,学校番号!$A$3:$D$50,4,FALSE)","v":{"$error":"#N/A"}},{"$error":"#N/A"}]
[47,{"$error":"#N/A"},{"$f":"VLOOKUP($B51,登録選手!$B$1:$E$1103,COLUMN()-1,FALSE)","v":{"$error":"#N/A"}},{"$f":"VLOOKUP($B51,登録選手!$B$1:$E$1103,3,FALSE)","v":{"$error":"#N/A"}},{"$error":"#N/A"},{"$f":"VLOOKUP(初期設定!$C$2,学校番号!$A$3:$D$50,4,FALSE)","v":{"$error":"#N/A"}},{"$error":"#N/A"}]
[48,{"$error":"#N/A"},{"$f":"VLOOKUP($B52,登録選手!$B$1:$E$1103,COLUMN()-1,FALSE)","v":{"$error":"#N/A"}},{"$f":"VLOOKUP($B52,登録選手!$B$1:$E$1103,3,FALSE)","v":{"$error":"#N/A"}},{"$error":"#N/A"},{"$f":"VLOOKUP(初期設定!$C$2,学校番号!$A$3:$D$50,4,FALSE)","v":{"$error":"#N/A"}},{"$error":"#N/A"}]
[49,{"$error":"#N/A"},{"$f":"VLOOKUP($B53,登録選手!$B$1:$E$1103,COLUMN()-1,FALSE)","v":{"$error":"#N/A"}},{"$f":"VLOOKUP($B53,登録選手!$B$1:$E$1103,3,FALSE)","v":{"$error":"#N/A"}},{"$error":"#N/A"},{"$f":"VLOOKUP(初期設定!$C$2,学校番号!$A$3:$D$50,4,FALSE)","v":{"$error":"#N/A"}},{"$error":"#N/A"}]
[50,{"$error":"#N/A"},{"$f":"VLOOKUP($B54,登録選手!$B$1:$E$1103,COLUMN()-1,FALSE)","v":{"$error":"#N/A"}},{"$f":"VLOOKUP($B54,登録選手!$B$1:$E$1103,3,FALSE)","v":{"$error":"#N/A"}},{"$error":"#N/A"},{"$f":"VLOOKUP(初期設定!$C$2,学校番号!$A$3:$D$50,4,FALSE)","v":{"$error":"#N/A"}},{"$error":"#N/A"}]
[51,{"$error":"#N/A"},{"$f":"VLOOKUP($B55,登録選手!$B$1:$E$1103,COLUMN()-1,FALSE)","v":{"$error":"#N/A"}},{"$f":"VLOOKUP($B55,登録選手!$B$1:$E$1103,3,FALSE)","v":{"$error":"#N/A"}},{"$error":"#N/A"},{"$f":"VLOOKUP(初期設定!$C$2,学校番号!$A$3:$D$50,4,FALSE)","v":{"$error":"#N/A"}},{"$error":"#N/A"}]
[52,{"$error":"#N/A"},{"$f":"VLOOKUP($B56,登録選手!$B$1:$E$1103,COLUMN()-1,FALSE)","v":{"$error":"#N/A"}},{"$f":"VLOOKUP($B56,登録選手!$B$1:$E$1103,3,FALSE)","v":{"$error":"#N/A"}},{"$error":"#N/A"},{"$f":"VLOOKUP(初期設定!$C$2,学校番号!$A$3:$D$50,4,FALSE)","v":{"$error":"#N/A"}},{"$error":"#N/A"}]
[53,{"$error":"#N/A"},{"$f":"VLOOKUP($B57,登録選手!$B$1:$E$1103,COLUMN()-1,FALSE)","v":{"$error":"#N/A"}},{"$f":"VLOOKUP($B57,登録選手!$B$1:$E$1103,3,FALSE)","v":{"$error":"#N/A"}},{"$error":"#N/A"},{"$f":"VLOOKUP(初期設定!$C$2,学校番号!$A$3:$D$50,4,FALSE)","v":{"$error":"#N/A"}},{"$error":"#N/A"}]
[54,{"$error":"#N/A"},{"$f":"VLOOKUP($B58,登録選手!$B$1:$E$1103,COLUMN()-1,FALSE)","v":{"$error":"#N/A"}},{"$f":"VLOOKUP($B58,登録選手!$B$1:$E$1103,3,FALSE)","v":{"$error":"#N/A"}},{"$f":"VALUE(RIGHT(C58,1))","v":{"$error":"#N/A"}},{"$f":"VLOOKUP(初期設定!$C$2,学校番号!$A$3:$D$50,4,FALSE)","v":{"$error":"#N/A"}},{"$error":"#N/A"}]
[55,{"$error":"#N/A"},{"$f":"VLOOKUP($B59,登録選手!$B$1:$E$1103,COLUMN()-1,FALSE)","v":{"$error":"#N/A"}},{"$f":"VLOOKUP($B59,登録選手!$B$1:$E$1103,3,FALSE)","v":{"$error":"#N/A"}},{"$error":"#N/A"},{"$f":"VLOOKUP(初期設定!$C$2,学校番号!$A$3:$D$50,4,FALSE)","v":{"$error":"#N/A"}},{"$error":"#N/A"}]
[56,{"$error":"#N/A"},{"$f":"VLOOKUP($B60,登録選手!$B$1:$E$1103,COLUMN()-1,FALSE)","v":{"$error":"#N/A"}},{"$f":"VLOOKUP($B60,登録選手!$B$1:$E$1103,3,FALSE)","v":{"$error":"#N/A"}},{"$error":"#N/A"},{"$f":"VLOOKUP(初期設定!$C$2,学校番号!$A$3:$D$50,4,FALSE)","v":{"$error":"#N/A"}},{"$error":"#N/A"}]
[57,{"$error":"#N/A"},{"$f":"VLOOKUP($B61,登録選手!$B$1:$E$1103,COLUMN()-1,FALSE)","v":{"$error":"#N/A"}},{"$f":"VLOOKUP($B61,登録選手!$B$1:$E$1103,3,FALSE)","v":{"$error":"#N/A"}},{"$error":"#N/A"},{"$f":"VLOOKUP(初期設定!$C$2,学校番号!$A$3:$D$50,4,FALSE)","v":{"$error":"#N/A"}},{"$error":"#N/A"}]
[58,{"$error":"#N/A"},{"$f":"VLOOKUP($B62,登録選手!$B$1:$E$1103,COLUMN()-1,FALSE)","v":{"$error":"#N/A"}},{"$f":"VLOOKUP($B62,登録選手!$B$1:$E$1103,3,FALSE)","v":{"$error":"#N/A"}},{"$error":"#N/A"},{"$f":"VLOOKUP(初期設定!$C$2,学校番号!$A$3:$D$50,4,FALSE)","v":{"$error":"#N/A"}},{"$error":"#N/A"}]
[59,{"$error":"#N/A"},{"$f":"VLOOKUP($B63,登録選手!$B$1:$E$1103,COLUMN()-1,FALSE)","v":{"$error":"#N/A"}},{"$f":"VLOOKUP($B63,登録選手!$B$1:$E$1103,3,FALSE)","v":{"$error":"#N/A"}},{"$error":"#N/A"},{"$f":"VLOOKUP(初期設定!$C$2,学校番号!$A$3:$D$50,4,FALSE)","v":{"$error":"#N/A"}},{"$error":"#N/A"}]
[60,{"$error":"#N/A"},{"$f":"VLOOKUP($B64,登録選手!$B$1:$E$1103,COLUMN()-1,FALSE)","v":{"$error":"#N/A"}},{"$f":"VLOOKUP($B64,登録選手!$B$1:$E$1103,3,FALSE)","v":{"$error":"#N/A"}},{"$error":"#N/A"},{"$f":"VLOOKUP(初期設定!$C$2,学校番号!$A$3:$D$50,4,FALSE)","v":{"$error":"#N/A"}},{"$error":"#N/A"}]
[61,{"$error":"#N/A"},{"$f":"VLOOKUP($B65,登録選手!$B$1:$E$1103,COLUMN()-1,FALSE)","v":{"$error":"#N/A"}},{"$f":"VLOOKUP($B65,登録選手!$B$1:$E$1103,3,FALSE)","v":{"$error":"#N/A"}},{"$error":"#N/A"},{"$f":"VLOOKUP(初期設定!$C$2,学校番号!$A$3:$D$50,4,FALSE)","v":{"$error":"#N/A"}},{"$error":"#N/A"}]
[62,{"$error":"#N/A"},{"$f":"VLOOKUP($B66,登録選手!$B$1:$E$1103,COLUMN()-1,FALSE)","v":{"$error":"#N/A"}},{"$f":"VLOOKUP($B66,登録選手!$B$1:$E$1103,3,FALSE)","v":{"$error":"#N/A"}},{"$error":"#N/A"},{"$f":"VLOOKUP(初期設定!$C$2,学校番号!$A$3:$D$50,4,FALSE)","v":{"$error":"#N/A"}},{"$error":"#N/A"}]
[63,{"$error":"#N/A"},{"$f":"VLOOKUP($B67,登録選手!$B$1:$E$1103,COLUMN()-1,FALSE)","v":{"$error":"#N/A"}},{"$f":"VLOOKUP($B67,登録選手!$B$1:$E$1103,3,FALSE)","v":{"$error":"#N/A"}},{"$error":"#N/A"},{"$f":"VLOOKUP(初期設定!$C$2,学校番号!$A$3:$D$50,4,FALSE)","v":{"$error":"#N/A"}},{"$error":"#N/A"}]
[64,{"$error":"#N/A"},{"$f":"VLOOKUP($B68,登録選手!$B$1:$E$1103,COLUMN()-1,FALSE)","v":{"$error":"#N/A"}},{"$f":"VLOOKUP($B68,登録選手!$B$1:$E$1103,3,FALSE)","v":{"$error":"#N/A"}},{"$error":"#N/A"},{"$f":"VLOOKUP(初期設定!$C$2,学校番号!$A$3:$D$50,4,FALSE)","v":{"$error":"#N/A"}},{"$error":"#N/A"}]
[65,{"$error":"#N/A"},{"$f":"VLOOKUP($B69,登録選手!$B$1:$E$1103,COLUMN()-1,FALSE)","v":{"$error":"#N/A"}},{"$f":"VLOOKUP($B69,登録選手!$B$1:$E$1103,3,FALSE)","v":{"$error":"#N/A"}},{"$error":"#N/A"},{"$f":"VLOOKUP(初期設定!$C$2,学校番号!$A$3:$D$50,4,FALSE)","v":{"$error":"#N/A"}},{"$error":"#N/A"}]
[66,{"$f":"$A$4+A70","v":{"$error":"#N/A"}},{"$f":"VLOOKUP($B70,登録選手!$B$1:$E$1103,COLUMN()-1,FALSE)","v":{"$error":"#N/A"}},{"$f":"VLOOKUP($B70,登録選手!$B$1:$E$1103,3,FALSE)","v":{"$error":"#N/A"}},{"$error":"#N/A"},{"$f":"VLOOKUP(初期設定!$C$2,学校番号!$A$3:$D$50,4,FALSE)","v":{"$error":"#N/A"}},{"$f":"C70","v":{"$error":"#N/A"}}]
[67,{"$error":"#N/A"},{"$f":"VLOOKUP($B71,登録選手!$B$1:$E$1103,COLUMN()-1,FALSE)","v":{"$error":"#N/A"}},{"$f":"VLOOKUP($B71,登録選手!$B$1:$E$1103,3,FALSE)","v":{"$error":"#N/A"}},{"$error":"#N/A"},{"$f":"VLOOKUP(初期設定!$C$2,学校番号!$A$3:$D$50,4,FALSE)","v":{"$error":"#N/A"}},{"$error":"#N/A"}]
[68,{"$error":"#N/A"},{"$f":"VLOOKUP($B72,登録選手!$B$1:$E$1103,COLUMN()-1,FALSE)","v":{"$error":"#N/A"}},{"$f":"VLOOKUP($B72,登録選手!$B$1:$E$1103,3,FALSE)","v":{"$error":"#N/A"}},{"$error":"#N/A"},{"$f":"VLOOKUP(初期設定!$C$2,学校番号!$A$3:$D$50,4,FALSE)","v":{"$error":"#N/A"}},{"$error":"#N/A"}]
[69,{"$error":"#N/A"},{"$f":"VLOOKUP($B73,登録選手!$B$1:$E$1103,COLUMN()-1,FALSE)","v":{"$error":"#N/A"}},{"$f":"VLOOKUP($B73,登録選手!$B$1:$E$1103,3,FALSE)","v":{"$error":"#N/A"}},{"$error":"#N/A"},{"$f":"VLOOKUP(初期設定!$C$2,学校番号!$A$3:$D$50,4,FALSE)","v":{"$error":"#N/A"}},{"$error":"#N/A"}]
[70,{"$error":"#N/A"},{"$f":"VLOOKUP($B74,登録選手!$B$1:$E$1103,COLUMN()-1,FALSE)","v":{"$error":"#N/A"}},{"$f":"VLOOKUP($B74,登録選手!$B$1:$E$1103,3,FALSE)","v":{"$error":"#N/A"}},{"$error":"#N/A"},{"$f":"VLOOKUP(初期設定!$C$2,学校番号!$A$3:$D$50,4,FALSE)","v":{"$error":"#N/A"}},{"$error":"#N/A"}]
[71,{"$error":"#N/A"},{"$f":"VLOOKUP($B75,登録選手!$B$1:$E$1103,COLUMN()-1,FALSE)","v":{"$error":"#N/A"}},{"$f":"VLOOKUP($B75,登録選手!$B$1:$E$1103,3,FALSE)","v":{"$error":"#N/A"}},{"$error":"#N/A"},{"$f":"VLOOKUP(初期設定!$C$2,学校番号!$A$3:$D$50,4,FALSE)","v":{"$error":"#N/A"}},{"$error":"#N/A"}]
[72,{"$error":"#N/A"},{"$f":"VLOOKUP($B76,登録選手!$B$1:$E$1103,COLUMN()-1,FALSE)","v":{"$error":"#N/A"}},{"$f":"VLOOKUP($B76,登録選手!$B$1:$E$1103,3,FALSE)","v":{"$error":"#N/A"}},{"$error":"#N/A"},{"$f":"VLOOKUP(初期設定!$C$2,学校番号!$A$3:$D$50,4,FALSE)","v":{"$error":"#N/A"}},{"$error":"#N/A"}]
[73,{"$error":"#N/A"},{"$f":"VLOOKUP($B77,登録選手!$B$1:$E$1103,COLUMN()-1,FALSE)","v":{"$error":"#N/A"}},{"$f":"VLOOKUP($B77,登録選手!$B$1:$E$1103,3,FALSE)","v":{"$error":"#N/A"}},{"$error":"#N/A"},{"$f":"VLOOKUP(初期設定!$C$2,学校番号!$A$3:$D$50,4,FALSE)","v":{"$error":"#N/A"}},{"$error":"#N/A"}]
[74,{"$error":"#N/A"},{"$f":"VLOOKUP($B78,登録選手!$B$1:$E$1103,COLUMN()-1,FALSE)","v":{"$error":"#N/A"}},{"$f":"VLOOKUP($B78,登録選手!$B$1:$E$1103,3,FALSE)","v":{"$error":"#N/A"}},{"$error":"#N/A"},{"$f":"VLOOKUP(初期設定!$C$2,学校番号!$A$3:$D$50,4,FALSE)","v":{"$error":"#N/A"}},{"$error":"#N/A"}]
[75,{"$error":"#N/A"},{"$f":"VLOOKUP($B79,登録選手!$B$1:$E$1103,COLUMN()-1,FALSE)","v":{"$error":"#N/A"}},{"$f":"VLOOKUP($B79,登録選手!$B$1:$E$1103,3,FALSE)","v":{"$error":"#N/A"}},{"$error":"#N/A"},{"$f":"VLOOKUP(初期設定!$C$2,学校番号!$A$3:$D$50,4,FALSE)","v":{"$error":"#N/A"}},{"$error":"#N/A"}]
[76,{"$error":"#N/A"},{"$f":"VLOOKUP($B80,登録選手!$B$1:$E$1103,COLUMN()-1,FALSE)","v":{"$error":"#N/A"}},{"$f":"VLOOKUP($B80,登録選手!$B$1:$E$1103,3,FALSE)","v":{"$error":"#N/A"}},{"$error":"#N/A"},{"$f":"VLOOKUP(初期設定!$C$2,学校番号!$A$3:$D$50,4,FALSE)","v":{"$error":"#N/A"}},{"$error":"#N/A"}]
[77,{"$error":"#N/A"},{"$f":"VLOOKUP($B81,登録選手!$B$1:$E$1103,COLUMN()-1,FALSE)","v":{"$error":"#N/A"}},{"$f":"VLOOKUP($B81,登録選手!$B$1:$E$1103,3,FALSE)","v":{"$error":"#N/A"}},{"$error":"#N/A"},{"$f":"VLOOKUP(初期設定!$C$2,学校番号!$A$3:$D$50,4,FALSE)","v":{"$error":"#N/A"}},{"$error":"#N/A"}]
[78,{"$error":"#N/A"},{"$f":"VLOOKUP($B82,登録選手!$B$1:$E$1103,COLUMN()-1,FALSE)","v":{"$error":"#N/A"}},{"$f":"VLOOKUP($B82,登録選手!$B$1:$E$1103,3,FALSE)","v":{"$error":"#N/A"}},{"$error":"#N/A"},{"$f":"VLOOKUP(初期設定!$C$2,学校番号!$A$3:$D$50,4,FALSE)","v":{"$error":"#N/A"}},{"$error":"#N/A"}]
[79,{"$error":"#N/A"},{"$f":"VLOOKUP($B83,登録選手!$B$1:$E$1103,COLUMN()-1,FALSE)","v":{"$error":"#N/A"}},{"$f":"VLOOKUP($B83,登録選手!$B$1:$E$1103,3,FALSE)","v":{"$error":"#N/A"}},{"$error":"#N/A"},{"$f":"VLOOKUP(初期設定!$C$2,学校番号!$A$3:$D$50,4,FALSE)","v":{"$error":"#N/A"}},{"$error":"#N/A"}]
[80,{"$error":"#N/A"},{"$f":"VLOOKUP($B84,登録選手!$B$1:$E$1103,COLUMN()-1,FALSE)","v":{"$error":"#N/A"}},{"$f":"VLOOKUP($B84,登録選手!$B$1:$E$1103,3,FALSE)","v":{"$error":"#N/A"}},{"$error":"#N/A"},{"$f":"VLOOKUP(初期設定!$C$2,学校番号!$A$3:$D$50,4,FALSE)","v":{"$error":"#N/A"}},{"$error":"#N/A"}]
[81,{"$error":"#N/A"},{"$f":"VLOOKUP($B85,登録選手!$B$1:$E$1103,COLUMN()-1,FALSE)","v":{"$error":"#N/A"}},{"$f":"VLOOKUP($B85,登録選手!$B$1:$E$1103,3,FALSE)","v":{"$error":"#N/A"}},{"$error":"#N/A"},{"$f":"VLOOKUP(初期設定!$C$2,学校番号!$A$3:$D$50,4,FALSE)","v":{"$error":"#N/A"}},{"$error":"#N/A"}]
[82,{"$error":"#N/A"},{"$f":"VLOOKUP($B86,登録選手!$B$1:$E$1103,COLUMN()-1,FALSE)","v":{"$error":"#N/A"}},{"$f":"VLOOKUP($B86,登録選手!$B$1:$E$1103,3,FALSE)","v":{"$error":"#N/A"}},{"$error":"#N/A"},{"$f":"VLOOKUP(初期設定!$C$2,学校番号!$A$3:$D$50,4,FALSE)","v":{"$error":"#N/A"}},{"$error":"#N/A"}]
[83,{"$error":"#N/A"},{"$f":"VLOOKUP($B87,登録選手!$B$1:$E$1103,COLUMN()-1,FALSE)","v":{"$error":"#N/A"}},{"$f":"VLOOKUP($B87,登録選手!$B$1:$E$1103,3,FALSE)","v":{"$error":"#N/A"}},{"$error":"#N/A"},{"$f":"VLOOKUP(初期設定!$C$2,学校番号!$A$3:$D$50,4,FALSE)","v":{"$error":"#N/A"}},{"$error":"#N/A"}]
[84,{"$error":"#N/A"},{"$f":"VLOOKUP($B88,登録選手!$B$1:$E$1103,COLUMN()-1,FALSE)","v":{"$error":"#N/A"}},{"$f":"VLOOKUP($B88,登録選手!$B$1:$E$1103,3,FALSE)","v":{"$error":"#N/A"}},{"$error":"#N/A"},{"$f":"VLOOKUP(初期設定!$C$2,学校番号!$A$3:$D$50,4,FALSE)","v":{"$error":"#N/A"}},{"$error":"#N/A"}]
[85,{"$error":"#N/A"},{"$f":"VLOOKUP($B89,登録選手!$B$1:$E$1103,COLUMN()-1,FALSE)","v":{"$error":"#N/A"}},{"$f":"VLOOKUP($B89,登録選手!$B$1:$E$1103,3,FALSE)","v":{"$error":"#N/A"}},{"$error":"#N/A"},{"$f":"VLOOKUP(初期設定!$C$2,学校番号!$A$3:$D$50,4,FALSE)","v":{"$error":"#N/A"}},{"$error":"#N/A"}]
[86,{"$error":"#N/A"},{"$f":"VLOOKUP($B90,登録選手!$B$1:$E$1103,COLUMN()-1,FALSE)","v":{"$error":"#N/A"}},{"$f":"VLOOKUP($B90,登録選手!$B$1:$E$1103,3,FALSE)","v":{"$error":"#N/A"}},{"$error":"#N/A"},{"$f":"VLOOKUP(初期設定!$C$2,学校番号!$A$3:$D$50,4,FALSE)","v":{"$error":"#N/A"}},{"$error":"#N/A"}]
[87,{"$error":"#N/A"},{"$f":"VLOOKUP($B91,登録選手!$B$1:$E$1103,COLUMN()-1,FALSE)","v":{"$error":"#N/A"}},{"$f":"VLOOKUP($B91,登録選手!$B$1:$E$1103,3,FALSE)","v":{"$error":"#N/A"}},{"$error":"#N/A"},{"$f":"VLOOKUP(初期設定!$C$2,学校番号!$A$3:$D$50,4,FALSE)","v":{"$error":"#N/A"}},{"$error":"#N/A"}]
[88,{"$error":"#N/A"},{"$f":"VLOOKUP($B92,登録選手!$B$1:$E$1103,COLUMN()-1,FALSE)","v":{"$error":"#N/A"}},{"$f":"VLOOKUP($B92,登録選手!$B$1:$E$1103,3,FALSE)","v":{"$error":"#N/A"}},{"$error":"#N/A"},{"$f":"VLOOKUP(初期設定!$C$2,学校番号!$A$3:$D$50,4,FALSE)","v":{"$error":"#N/A"}},{"$error":"#N/A"}]
[89,{"$error":"#N/A"},{"$f":"VLOOKUP($B93,登録選手!$B$1:$E$1103,COLUMN()-1,FALSE)","v":{"$error":"#N/A"}},{"$f":"VLOOKUP($B93,登録選手!$B$1:$E$1103,3,FALSE)","v":{"$error":"#N/A"}},{"$error":"#N/A"},{"$f":"VLOOKUP(初期設定!$C$2,学校番号!$A$3:$D$50,4,FALSE)","v":{"$error":"#N/A"}},{"$error":"#N/A"}]
[90,{"$error":"#N/A"},{"$f":"VLOOKUP($B94,登録選手!$B$1:$E$1103,COLUMN()-1,FALSE)","v":{"$error":"#N/A"}},{"$f":"VLOOKUP($B94,登録選手!$B$1:$E$1103,3,FALSE)","v":{"$error":"#N/A"}},{"$error":"#N/A"},{"$f":"VLOOKUP(初期設定!$C$2,学校番号!$A$3:$D$50,4,FALSE)","v":{"$error":"#N/A"}},{"$error":"#N/A"}]
[91,{"$error":"#N/A"},{"$f":"VLOOKUP($B95,登録選手!$B$1:$E$1103,COLUMN()-1,FALSE)","v":{"$error":"#N/A"}},{"$f":"VLOOKUP($B95,登録選手!$B$1:$E$1103,3,FALSE)","v":{"$error":"#N/A"}},{"$error":"#N/A"},{"$f":"VLOOKUP(初期設定!$C$2,学校番号!$A$3:$D$50,4,FALSE)","v":{"$error":"#N/A"}},{"$error":"#N/A"}]
[92,{"$error":"#N/A"},{"$f":"VLOOKUP($B96,登録選手!$B$1:$E$1103,COLUMN()-1,FALSE)","v":{"$error":"#N/A"}},{"$f":"VLOOKUP($B96,登録選手!$B$1:$E$1103,3,FALSE)","v":{"$error":"#N/A"}},{"$error":"#N/A"},{"$f":"VLOOKUP(初期設定!$C$2,学校番号!$A$3:$D$50,4,FALSE)","v":{"$error":"#N/A"}},{"$error":"#N/A"}]
[93,{"$error":"#N/A"},{"$f":"VLOOKUP($B97,登録選手!$B$1:$E$1103,COLUMN()-1,FALSE)","v":{"$error":"#N/A"}},{"$f":"VLOOKUP($B97,登録選手!$B$1:$E$1103,3,FALSE)","v":{"$error":"#N/A"}},{"$error":"#N/A"},{"$f":"VLOOKUP(初期設定!$C$2,学校番号!$A$3:$D$50,4,FALSE)","v":{"$error":"#N/A"}},{"$error":"#N/A"}]
[94,{"$error":"#N/A"},{"$f":"VLOOKUP($B98,登録選手!$B$1:$E$1103,COLUMN()-1,FALSE)","v":{"$error":"#N/A"}},{"$f":"VLOOKUP($B98,登録選手!$B$1:$E$1103,3,FALSE)","v":{"$error":"#N/A"}},{"$error":"#N/A"},{"$f":"VLOOKUP(初期設定!$C$2,学校番号!$A$3:$D$50,4,FALSE)","v":{"$error":"#N/A"}},{"$error":"#N/A"}]
[95,{"$error":"#N/A"},{"$f":"VLOOKUP($B99,登録選手!$B$1:$E$1103,COLUMN()-1,FALSE)","v":{"$error":"#N/A"}},{"$f":"VLOOKUP($B99,登録選手!$B$1:$E$1103,3,FALSE)","v":{"$error":"#N/A"}},{"$error":"#N/A"},{"$f":"VLOOKUP(初期設定!$C$2,学校番号!$A$3:$D$50,4,FALSE)","v":{"$error":"#N/A"}},{"$error":"#N/A"}]
[96,{"$error":"#N/A"},{"$f":"VLOOKUP($B100,登録選手!$B$1:$E$1103,COLUMN()-1,FALSE)","v":{"$error":"#N/A"}},{"$f":"VLOOKUP($B100,登録選手!$B$1:$E$1103,3,FALSE)","v":{"$error":"#N/A"}},{"$error":"#N/A"},{"$f":"VLOOKUP(初期設定!$C$2,学校番号!$A$3:$D$50,4,FALSE)","v":{"$error":"#N/A"}},{"$error":"#N/A"}]
[97,{"$error":"#N/A"},{"$f":"VLOOKUP($B101,登録選手!$B$1:$E$1103,COLUMN()-1,FALSE)","v":{"$error":"#N/A"}},{"$f":"VLOOKUP($B101,登録選手!$B$1:$E$1103,3,FALSE)","v":{"$error":"#N/A"}},{"$error":"#N/A"},{"$f":"VLOOKUP(初期設定!$C$2,学校番号!$A$3:$D$50,4,FALSE)","v":{"$error":"#N/A"}},{"$error":"#N/A"}]
[98,{"$error":"#N/A"},{"$f":"VLOOKUP($B102,登録選手!$B$1:$E$1103,COLUMN()-1,FALSE)","v":{"$error":"#N/A"}},{"$f":"VLOOKUP($B102,登録選手!$B$1:$E$1103,3,FALSE)","v":{"$error":"#N/A"}},{"$error":"#N/A"},{"$f":"VLOOKUP(初期設定!$C$2,学校番号!$A$3:$D$50,4,FALSE)","v":{"$error":"#N/A"}},{"$error":"#N/A"}]
[99,{"$error":"#N/A"},{"$f":"VLOOKUP($B103,登録選手!$B$1:$E$1103,COLUMN()-1,FALSE)","v":{"$error":"#N/A"}},{"$f":"VLOOKUP($B103,登録選手!$B$1:$E$1103,3,FALSE)","v":{"$error":"#N/A"}},{"$error":"#N/A"},{"$f":"VLOOKUP(初期設定!$C$2,学校番号!$A$3:$D$50,4,FALSE)","v":{"$error":"#N/A"}},{"$error":"#N/A"}]

{"sheet":"登録選手","index":3,"n_rows":843,"n_cols":9,"rows_kept":843,"cut":false,"hidden":false,"merged":[]}
[null,178,"小林  哲大(2)","ｺﾊﾞﾔｼ ﾃｯﾀ","県 尼 崎","男","3"]
[null,179,"矢吹  亮磨(2)","ﾔﾌﾞｷ ﾘｮｳﾏ","県 尼 崎","男","3"]
[null,180,"杉村  聡太(2)","ｽｷﾞﾑﾗ ｿｳﾀ","県 尼 崎","男","3"]
[null,181,"片岡    歌(2)","ｶﾀｵｶ ｳﾀ","県 尼 崎","男","3"]
[null,182,"谷口朔太郎(2)","ﾀﾆｸﾞﾁ ｻｸﾀﾛｳ","県 尼 崎","男","3"]
[null,184,"長谷川銀平(2)","ﾊｾｶﾞﾜ ｷﾞﾝﾍﾟｲ","県 尼 崎","男","3"]
[null,185,"東    亘佑(2)","ｱｽﾞﾏ ｺｳｽｹ","県 尼 崎","男","3"]
[null,186,"有本  椿季(2)","ｱﾘﾓﾄ ﾂﾊﾞｷ","県 尼 崎","男","2"]
[null,187,"山本  琉生(2)","ﾔﾏﾓﾄ ﾙｲ","県 尼 崎","男","2"]
[null,189,"小野  滉生(2)","ｵﾉ ﾋﾛｷ","県 尼 崎","男","2"]
[null,190,"鳴神  佑規(1)","ﾅﾙｶﾐ ﾕｳｷ","県 尼 崎","男","2"]
[null,191,"岩本  拓士(1)","ｲﾜﾓﾄ ﾀｸｼ","県 尼 崎","男","2"]
[null,192,"山口  心優(1)","ﾔﾏｸﾞﾁ ｼｭｳ","県 尼 崎","男","2"]
[null,193,"濵嵜    遥(1)","ﾊﾏｻｷ ﾊﾙ","県 尼 崎","男","2"]
[null,194,"井口  敬太(1)","ｲｸﾞﾁ ｹｲﾀ","県 尼 崎","男","2"]
[null,195,"保科  光一(1)","ﾎｼﾅ ｺｳｲﾁ","県 尼 崎","男","1"]
[null,196,"能勢  楓空(1)","ﾉｾ ﾌｳｱ","県 尼 崎","男","1"]
[null,197,"植田  廉三(1)","ｳｴﾀﾞ ﾚﾝｿﾞｳ","県 尼 崎","男","1"]
[null,198,"西尾弘太郎(1)","ﾆｼｵ ｺｳﾀﾛｳ","県 尼 崎","男","1"]
[null,199,"濱田  颯太(1)","ﾊﾏﾀﾞ ｿｳﾀ","県 尼 崎","男","1"]
[null,201,"竹内  湊真(1)","ﾀｹｳﾁ ｿｳﾏ","市 尼 崎","男","3"]
[null,202,"中村  晏琉(1)","ﾅｶﾑﾗ ﾊﾙ","市 尼 崎","男","3"]
[null,203,"岡田  悠介(1)","ｵｶﾀﾞ ﾕｳｽｹ","市 尼 崎","男","3"]
[null,204,"宮尾龍ノ介(1)","ﾐﾔｵ ﾘｭｳﾉｽｹ","市 尼 崎","男","3"]
[null,205,"広沢  悠橙(1)","ﾋﾛｻﾜ ﾕｳﾄ","市 尼 崎","男","3"]
[null,206,"石橋  優一(1)","ｲｼﾊﾞｼ ﾕｳｲﾁ","市 尼 崎","男","3"]
[null,207,"中村  樹月(1)","ﾅｶﾑﾗ ｲﾂｷ","市 尼 崎","男","3"]
[null,208,"塩見  玲雄(1)","ｼｵﾐ ﾚｵ","市 尼 崎","男","3"]
[null,209,"加藤  雄貴(1)","ｶﾄｳ ﾕｳｷ","市 尼 崎","男","3"]
[null,210,"森部  慶大(1)","ﾓﾘﾍﾞ ｹｲﾀﾞｲ","市 尼 崎","男","3"]
[null,211,"植田  羚矢(1)","ｳｴﾀﾞ ﾚｲﾔ","市 尼 崎","男","3"]
[null,212,"河﨑    聖(1)","ｶﾜｻｷ ｼｮｳ","市 尼 崎","男","3"]
[null,213,"峰元  謙志(1)","ﾐﾈﾓﾄ ｹﾝｼ","市 尼 崎","男","3"]
[null,214,"入谷  元巳(1)","ｲﾘﾀﾆ ﾓﾄﾐ","市 尼 崎","男","3"]
[null,215,"松田  瑛希(1)","ﾏﾂﾀﾞ ｴｲｷ","市 尼 崎","男","2"]
[null,216,"森    健剛(1)","ﾓﾘ ｹﾝｺﾞｳ","市 尼 崎","男","2"]
[null,217,"石藏  優希(1)","ｲｼｸﾗ ﾕｳｷ","市 尼 崎","男","2"]
[null,218,"森田  啓志(1)","ﾓﾘﾀ ｹｲｼ","市 尼 崎","男","2"]
[null,280,"有井  慈瑛(2)","ｱﾘｲ ｼﾞｴｲ","市 尼 崎","男","2"]
[null,281,"上原  和希(2)","ｳｴﾊﾗ ｶｽﾞｷ","市 尼 崎","男","2"]
[null,282,"奥田  春稀(2)","ｵｸﾀﾞ ﾊﾙｷ","市 尼 崎","男","2"]
[null,283,"駒井  響季(2)","ｺﾏｲ ﾋﾋﾞｷ","市 尼 崎","男","2"]
[null,285,"古田  紀貴(2)","ﾌﾙﾀ ｶｽﾞｷ","市 尼 崎","男","3"]
[null,286,"今屋  瑛都(2)","ｲﾏﾔ ｴｲﾄ","市 尼 崎","男","1"]
[null,287,"壽崎  大学(2)","ｽｻﾞｷ ﾀﾞｲｶﾞｸ","市 尼 崎","男","1"]
[null,288,"原田  惇輝(2)","ﾊﾗﾀﾞ ｱﾂｷ","市 尼 崎","男","1"]
[null,289,"三谷宗太郎(2)","ﾐﾀﾆ ｿｳﾀﾛｳ","市 尼 崎","男","1"]
[null,290,"宮垣    湊(2)","ﾐﾔｶﾞｷ ﾐﾅﾄ","市 尼 崎","男","1"]
[null,291,"竹内  勇人(2)","ﾀｹｳﾁ ﾊﾔﾄ","市 尼 崎","男","1"]
[null,292,"森    亮輔(2)","ﾓﾘ ﾘｮｳｽｹ","市 尼 崎","男","1"]
[null,293,"脇    祥太(2)","ﾜｷ ｼｮｳﾀ","市 尼 崎","男","1"]
[null,294,"佐藤  壮真(2)","ｻﾄｳ ｿｳﾏ","市 尼 崎","男","1"]
[null,295,"森本  颯翔(2)","ﾓﾘﾓﾄ ﾊﾔﾄ","市 尼 崎","男","1"]
[null,296,"辰巳  昊晴(2)","ﾀﾂﾐ ｺｳｾｲ","市 尼 崎","男","1"]
[null,297,"石井  理久(2)","ｲｼｲ ﾘｸ","市 尼 崎","男","1"]
[null,298,"榎本壮一郎(2)","ｴﾉﾓﾄ ｿｳｲﾁﾛｳ","市 尼 崎","男","1"]
[null,299,"赤瀬    奨(2)","ｱｶｾ ｼｮｳ","市 尼 崎","男","1"]
[null,329,"杉野  陽一(2)","ｽｷﾞﾉ ﾖｳｲﾁ","尼崎双星","男","3"]
[null,330,"池内  琉奏(2)","ｲｹｳﾁ ﾙｶﾅ","尼崎双星","男","3"]
[null,331,"大﨑  一輝(2)","ｵｵｻｷ ｶｽﾞｷ","尼崎双星","男","3"]
[null,332,"小川  大貴(2)","ｵｶﾞﾜ ﾀﾞｲｷ","尼崎双星","男","3"]
[null,333,"角谷  凪冴(2)","ｶｸﾀﾆ ﾅｷﾞｻ","尼崎双星","男","2"]
[null,334,"兼原  昌宏(2)","ｶﾈﾊﾗ ﾏｻﾋﾛ","尼崎双星","男","1"]
[null,335,"高面椋太郎(2)","ｺｳﾒﾝ ﾘｮｳﾀﾛｳ","尼崎双星","男","2"]
[null,336,"瀬良  七瀬(2)","ｾﾗ ﾅﾅｾ","尼崎双星","男","1"]
[null,337,"辰巳  颯太(2)","ﾀﾂﾐ ｿｳﾀ","尼崎双星","男","1"]
[null,338,"本道  樟磨(2)","ﾎﾝﾄﾞｳ ｼｮｳﾏ","尼崎双星","男","1"]
[null,339,"矢橋  大樹(2)","ﾔﾊｼ ﾀｲｼﾞｭ","尼崎双星","男","1"]
[null,340,"梅島悠一郎(2)","ｳﾒｼﾞﾏ ﾕｳｲﾁﾛｳ","尼崎双星","男","1"]
[null,341,"吉川  颯人(1)","ﾖｼｶﾜ ﾊﾔﾄ","尼崎双星","男","1"]
[null,342,"藤田  琉心(1)","ﾌｼﾞﾀ ﾘｭｳｼﾝ","尼崎双星","男","3"]
[null,343,"渡邉  晴琉(1)","ﾜﾀﾅﾍﾞ ﾊﾙ","尼崎双星","男","3"]
[null,344,"足立    光(1)","ｱﾀﾞﾁ ﾋｶﾙ","尼崎双星","男","2"]
[null,345,"桝田  悠人(1)","ﾏｽﾀﾞ ﾊﾙﾄ","尼崎双星","男","2"]
[null,469,"政木  元汰(2)","ﾏｻｷ ｹﾞﾝﾀ","尼 崎 西","男","1"]
[null,470,"宮本  琉誠(2)","ﾐﾔﾓﾄ ﾘｭｳｾｲ","尼 崎 西","男","1"]
[null,471,"渡部  遥人(2)","ﾜﾀﾅﾍﾞ ﾊﾙﾋﾄ","尼 崎 西","男","1"]
[null,472,"本村  優斗(2)","ﾓﾄﾑﾗ ﾕｳﾄ","尼 崎 西","男","1"]
[null,473,"生駒  叶翔(1)","ｲｺﾏ ｶﾅﾄ","尼 崎 西","男","1"]
[null,474,"市橋  克考(1)","ｲﾁﾊｼ ｶﾂﾀｶ","尼 崎 西","男","1"]
[null,475,"井戸本友穂(1)","ｲﾄﾞﾓﾄ ﾕｳﾎ","尼 崎 西","男","1"]
[null,476,"富谷  葵也(1)","ﾄﾐﾀﾆ ｷｲﾔ","尼 崎 西","男","1"]
[null,477,"畠    優心(1)","ﾊﾀｹ ﾕｳｼﾝ","尼 崎 西","男","1"]
[null,478,"村岡  陸空(1)","ﾑﾗｵｶ ﾘｸ","尼 崎 西","男","1"]
[null,479,"前田  陽和(1)","ﾏｴﾀﾞ ﾋﾖﾘ","尼 崎 西","男","1"]
[null,507,"北野  景大(2)","ｷﾀﾉ ｹｲﾀ","尼 崎 北","男","1"]
[null,508,"田中  大輔(2)","ﾀﾅｶ ﾀﾞｲｽｹ","尼 崎 北","男","1"]
[null,509,"中島  瞭佑(2)","ﾅｶｼﾏ ﾘｮｳｽｹ","尼 崎 北","男","3"]
[null,510,"武雄  悠人(2)","ﾀｹｵ ﾊﾙﾄ","尼 崎 北","男","3"]
[null,511,"杉山晟一朗(2)","ｽｷﾞﾔﾏ ｾｲｲﾁﾛｳ","尼 崎 北","男","3"]
[null,512,"吉田  伊吹(2)","ﾖｼﾀﾞ ｲﾌﾞｷ","尼 崎 北","男","3"]
[null,513,"山本  佳知(2)","ﾔﾏﾓﾄ ｶｲﾁ","尼 崎 北","男","3"]
[null,514,"本田  琉徠(2)","ﾎﾝﾀﾞ ﾘｷ","尼 崎 北","男","2"]
[null,516,"宇野  陽登(2)","ｳﾉ ﾊﾙﾄ","尼 崎 北","男","2"]
[null,518,"小山  拓紀(2)","ｺﾔﾏ ﾀｸｷ","尼 崎 北","男","2"]
[null,520,"藤川  隼世(1)","ﾌｼﾞｶﾜ ﾊﾔｾ","尼 崎 北","男","2"]
[null,521,"前田  啓太(1)","ﾏｴﾀﾞ ｹｲﾀ","尼 崎 北","男","2"]
[null,522,"村上  大翔(1)","ﾑﾗｶﾐ ﾋﾛﾄ","尼 崎 北","男","1"]
[null,523,"城田  晃佑(1)","ｼﾛﾀ ｺｳｽｹ","尼 崎 北","男","3"]
[null,524,"丹羽  亮太(1)","ﾆﾜ ﾘｮｳﾀ","尼 崎 北","男","3"]
[null,525,"前田  遼太(1)","ﾏｴﾀﾞ ﾘｮｳﾀ","尼 崎 北","男","3"]
[null,526,"山本  太一(1)","ﾔﾏﾓﾄ ﾀｲﾁ","尼 崎 北","男","3"]
[null,527,"酒井    優(1)","ｻｶｲ ﾕｳ","尼 崎 北","男","3"]
[null,528,"伏井    翠(1)","ﾌｼｲ ｽｲ","尼 崎 北","男","3"]
[null,634,"葉山洸千代(2)","ﾊﾔﾏ ﾀｹﾁﾖ","尼崎稲園","男","3"]
[null,635,"市島  優樹(2)","ｲﾁｼﾞﾏ ﾕｳｷ","尼崎稲園","男","3"]
[null,636,"佐藤  和哉(2)","ｻﾄｳ ｶｽﾞﾔ","尼崎稲園","男","3"]
[null,637,"森    悠登(2)","ﾓﾘ ﾊﾙﾄ","尼崎稲園","男","3"]
[null,638,"西村  颯真(2)","ﾆｼﾑﾗ ｿｳﾏ","尼崎稲園","男","3"]
[null,639,"蓑田  昊汰(2)","ﾐﾉﾀﾞ ｺｳﾀ","尼崎稲園","男","3"]
[null,640,"別芝  諒也(2)","ﾍﾞｯｼ ﾘｮｳﾔ","尼崎稲園","男","3"]
[null,641,"南野  翔太(2)","ﾅﾝﾉ ｼｮｳﾀ","尼崎稲園","男","2"]
[null,642,"大出  悠人(2)","ｵｵﾃﾞ ﾕｳﾄ","尼崎稲園","男","2"]
[null,643,"荒井  大輝(2)","ｱﾗｲ ﾀﾞｲｷ","尼崎稲園","男","2"]
[null,644,"村井  新汰(2)","ﾑﾗｲ ｱﾗﾀ","尼崎稲園","男","2"]
[null,645,"伊藤  立希(2)","ｲﾄｳ ﾘﾂｷ","尼崎稲園","男","3"]
[null,646,"品川    蓮(2)","ｼﾅｶﾞﾜ ﾚﾝ","尼崎稲園","男","1"]
[null,647,"釘宮  壮佑(2)","ｸｷﾞﾐﾔ ｿｳｽｹ","尼崎稲園","男","1"]
[null,648,"橋    陸仁(2)","ﾊｼ ﾘｸﾄ","尼崎稲園","男","1"]
[null,649,"国富  悠斗(1)","ｸﾆﾄﾐ ﾕｳﾄ","尼崎稲園","男","1"]
[null,650,"雫    友翔(1)","ｼｽﾞｸ ﾕｳﾄ","尼崎稲園","男","1"]
[null,651,"浅井  雄介(1)","ｱｻｲ ﾕｳｽｹ","尼崎稲園","男","1"]
[null,652,"横山  智大(1)","ﾖｺﾔﾏ ﾄﾓﾋﾛ","尼崎稲園","男","1"]
[null,653,"小笹  涼太(1)","ｵｻﾞｻ ﾘｮｳﾀ","尼崎稲園","男","1"]
[null,654,"小西  颯太(1)","ｺﾆｼ ﾊﾔﾀ","尼崎稲園","男","3"]
[null,655,"田口  煌稀(1)","ﾀｸﾞﾁ ｺｳｷ","尼崎稲園","男","3"]
[null,722,"德田  直人(2)","ﾄｸﾀﾞ ﾅｵﾄ","尼崎小田","男","2"]
[null,723,"金森  結叶(1)","ｶﾈﾓﾘ ﾕｲﾄ","尼崎小田","男","2"]
[null,724,"飯田    蓮(1)","ｲｲﾀﾞ ﾚﾝ","尼崎小田","男","2"]
[null,959,"江崎  龍己(1)","ｴｻｷ ﾘｭｳｷ","武庫荘総合","男","2"]
[null,960,"石田  凌太(1)","ｲｼﾀﾞ ﾘｮｳﾀ","武庫荘総合","男","2"]
[null,961,"勢志  晴樹(1)","ｾｼ ﾊﾙｷ","武庫荘総合","男","1"]
[null,1063,"新垣  丈琉(2)","ｼﾝｶﾞｷ ﾀｹﾙ","尼 崎 工","男","1"]
[null,1064,"佐藤    隼(2)","ｻﾄｳ ｼｭﾝ","尼 崎 工","男","3"]
[null,1065,"獅子内希悠(1)","ｼｼﾅｲ ﾕｳ","尼 崎 工","男","3"]
[null,1066,"篠畑矢真翔(1)","ｼﾉﾊﾀ ﾔﾏﾄ","尼 崎 工","男","3"]
[null,1067,"原田    蓮(1)","ﾊﾗﾀﾞ ﾚﾝ","尼 崎 工","男","3"]
[null,1068,"吉田  國鷹(1)","ﾖｼﾀﾞ ｸﾆﾀｶ","尼 崎 工","男","2"]
[null,1069,"井上  大雅(1)","ｲﾉｳｴ ﾀｲｶﾞ","尼 崎 工","男","2"]
[null,1070,"田原  蒼太(1)","ﾀﾊﾗ ｿｳﾀ","尼 崎 工","男","2"]
[null,1413,"植田  葉瑠(2)","ｳｴﾀﾞ ﾊﾙ","県 西 宮","男","2"]
[null,1414,"大庭  佑月(2)","ｵｵﾊﾞ ﾕﾂﾞｷ","県 西 宮","男","2"]
[null,1415,"鎌倉    希(2)","ｶﾏｸﾗ ﾉｿﾞﾑ","県 西 宮","男","1"]
[null,1416,"鎌田  蒼平(2)","ｶﾏﾀ ｿｳﾍｲ","県 西 宮","男","3"]
[null,1417,"國本    駿(2)","ｸﾆﾓﾄ ｼｭﾝ","県 西 宮","男","3"]
[null,1418,"坂本  悠真(2)","ｻｶﾓﾄ ﾕｳﾏ","県 西 宮","男","2"]
[null,1419,"城屋敷  篤(2)","ｼﾞｮｳﾔｼｷ ｱﾂｼ","県 西 宮","男","2"]
[null,1420,"中島  慶悟(2)","ﾅｶｼﾏ ｹｲｺﾞ","県 西 宮","男","2"]
[null,1421,"中村    旬(2)","ﾅｶﾑﾗ ｼｭﾝ","県 西 宮","男","2"]
[null,1422,"藤村航太郎(2)","ﾌｼﾞﾑﾗ ｺｳﾀﾛｳ","県 西 宮","男","2"]
[null,1423,"槇野晄太郎(2)","ﾏｷﾉ ｺｳﾀﾛｳ","県 西 宮","男","2"]
[null,1424,"宮本  武典(2)","ﾐﾔﾓﾄ ﾀｹﾉﾘ","県 西 宮","男","1"]
[null,1425,"向井  恒稀(2)","ﾑｶｲ ｺｳｷ","県 西 宮","男","1"]
[null,1426,"三浦  維央(2)","ﾐｳﾗ ｲｵ","県 西 宮","男","1"]
[null,1427,"坂田  夕海(1)","ｻｶﾀ ﾕｳﾅ","県 西 宮","男","1"]
[null,1428,"岩崎  令依(1)","ｲﾜｻｷ ﾚｲ","県 西 宮","男","1"]
[null,1429,"片山  慎也(1)","ｶﾀﾔﾏ ｼﾝﾔ","県 西 宮","男","1"]
[null,1430,"衣笠  翔馬(1)","ｷﾇｶﾞｻ ｼｮｳﾏ","県 西 宮","男","1"]
[null,1431,"坂口  大悟(1)","ｻｶｸﾞﾁ ﾀﾞｲｺﾞ","県 西 宮","男","1"]
[null,1432,"田村  峻也(1)","ﾀﾑﾗ ｼｭﾝﾔ","県 西 宮","男","1"]
[null,1433,"豊田  瑛士(1)","ﾄﾖﾀﾞ ｴｲｼﾞ","県 西 宮","男","1"]
[null,1434,"永井  悠介(1)","ﾅｶﾞｲ ﾕｳｽｹ","県 西 宮","男","1"]
[null,1435,"畑野  駿亮(1)","ﾊﾀﾉ ｼｭﾝｽｹ","県 西 宮","男","1"]
[null,1436,"真鍋  斗生(1)","ﾏﾅﾍﾞ ﾄｳｲ","県 西 宮","男","1"]
[null,1437,"水野  透麻(1)","ﾐｽﾞﾉ ﾄｳﾏ","県 西 宮","男","1"]
[null,1438,"本﨑  大湖(1)","ﾓﾄｻﾞｷ ﾀﾞｲｺﾞ","県 西 宮","男","1"]
[null,1439,"山根  大空(1)","ﾔﾏﾈ ｿﾗ","県 西 宮","男","1"]
[null,1440,"弓場  啓司(1)","ﾕﾝﾊﾞ ｹｲｼﾞ","県 西 宮","男","1"]
[null,1502,"松風    海(2)","ｼｮｳﾌｳ ｶｲ","市 西 宮","男","1"]
[null,1503,"今西  勇葵(2)","ｲﾏﾆｼ ﾕｳｷ","市 西 宮","男","1"]
[null,1504,"辰己  恭一(2)","ﾀﾂﾐ ｷｮｳｲﾁ","市 西 宮","男","1"]
[null,1505,"前田朔太朗(2)","ﾏｴﾀﾞ ｻｸﾀﾛｳ","市 西 宮","男","3"]
[null,1506,"本池  柚太(2)","ﾓﾄｲｹ ﾕｳﾀ","市 西 宮","男","3"]
[null,1507,"米澤  隼人(2)","ﾖﾈｻﾞﾜ ﾊﾔﾄ","市 西 宮","男","3"]
[null,1508,"上田禮次郎(2)","ｳｴﾀﾞ ﾚｲｼﾞﾛｳ","市 西 宮","男","3"]
[null,1509,"土井  優太(2)","ﾄﾞｲ ﾕｳﾀ","市 西 宮","男","3"]
[null,1510,"丸山  結翔(2)","ﾏﾙﾔﾏ ﾕｲﾄ","市 西 宮","男","3"]
[null,1511,"森本  啓太(2)","ﾓﾘﾓﾄ ｹｲﾀ","市 西 宮","男","3"]
[null,1512,"阿部  真士(2)","ｱﾍﾞ ﾏﾅﾄ","市 西 宮","男","2"]
[null,1513,"小原  匠海(2)","ｵﾊﾗ ﾀｸﾐ","市 西 宮","男","2"]
[null,1514,"辻  那悠太(2)","ﾂｼﾞ ﾅﾕﾀ","市 西 宮","男","2"]
[null,1515,"向井    円(2)","ﾑｶｲ ﾏﾄﾞｶ","市 西 宮","男","2"]
[null,1518,"山中  秀真(2)","ﾔﾏﾅｶ ｼｭｳﾏ","市 西 宮","男","2"]
[null,1519,"吉田  祐大(1)","ﾖｼﾀﾞ ﾕｳﾀﾞｲ","市 西 宮","男","2"]
[null,1520,"皆川晃太朗(1)","ﾐﾅｶﾞﾜ ｺｳﾀﾛｳ","市 西 宮","男","2"]
[null,1521,"間  研一郎(1)","ﾊｻﾞﾏ ｹﾝｲﾁﾛｳ","市 西 宮","男","2"]
[null,1522,"楠本    秀(1)","ｸｽﾓﾄ ｼｭｳ","市 西 宮","男","2"]
[null,1523,"薦田  泰知(1)","ｺﾓﾀﾞ ﾀｲﾁ","市 西 宮","男","2"]
[null,1524,"大塚  晴久(1)","ｵｵﾂｶ ﾊｸ","市 西 宮","男","2"]
[null,1525,"小畑  歩己(1)","ｵﾊﾞﾀ ｱﾕﾐ","市 西 宮","男","2"]
[null,1526,"佐奈  琉成(1)","ｻﾅ ﾘｭｳｾｲ","市 西 宮","男","1"]
[null,1527,"澤田  壮真(1)","ｻﾜﾀﾞ ｿｳﾏ","市 西 宮","男","1"]
[null,1528,"渋谷  宥成(1)","ｼﾌﾞﾔ ﾕｳｾｲ","市 西 宮","男","3"]
[null,1529,"中井  柊駕(1)","ﾅｶｲ ｼｭｳｶﾞ","市 西 宮","男","3"]
[null,1530,"福家  佑樹(1)","ﾌｹ ﾕｷ","市 西 宮","男","3"]
[null,1531,"三隅  利音(1)","ﾐｽﾐ ﾘｵﾝ","市 西 宮","男","3"]
[null,1532,"山中  悠輔(1)","ﾔﾏﾅｶ ﾕｳｽｹ","市 西 宮","男","3"]
[null,1533,"横山  数馬(1)","ﾖｺﾔﾏ ｶｽﾞﾏ","市 西 宮","男","3"]
[null,1534,"杉原  大悟(1)","ｽｷﾞﾊﾗ ﾀﾞｲｺﾞ","市 西 宮","男","3"]
[null,1601,"西田  温哉(2)","ﾆｼﾀﾞ ﾊﾙﾔ","西 宮 東","男","3"]
[null,1602,"廣田  大珂(2)","ﾋﾛﾀ ﾀｲｶﾞ","西 宮 東","男","3"]
[null,1603,"松林  和哉(2)","ﾏﾂﾊﾞﾔｼ ｶｽﾞﾔ","西 宮 東","男","3"]
[null,1604,"権田  雅暉(2)","ｺﾞﾝﾀﾞ ﾏｻｷ","西 宮 東","男","3"]
[null,1605,"小柳  柊那(2)","ｵﾔﾅｷﾞ ﾄｳﾅ","西 宮 東","男","3"]
[null,1606,"鳥本    翼(1)","ﾄﾘﾓﾄ ﾂﾊﾞｻ","西 宮 東","男","3"]
[null,1607,"畦地  一輝(1)","ｱｾﾞﾁ ｶｽﾞｷ","西 宮 東","男","2"]
[null,1608,"森    彬良(1)","ﾓﾘ ｱｷﾗ","西 宮 東","男","2"]
[null,1609,"髙嶋  悠翔(1)","ﾀｶｼﾏ ﾊﾙﾄ","西 宮 東","男","2"]
[null,1610,"小松  幸平(1)","ｺﾏﾂ ｺｳﾍｲ","西 宮 東","男","2"]
[null,1611,"𠮷川　一輝(1)","ﾖｼｶﾜ ｶｽﾞｷ","西 宮 東","男","2"]
[null,1612,"小玉  拓海(1)","ｺﾀﾞﾏ ﾀｸﾐ","西 宮 東","男","2"]
[null,1613,"三田  悠生(1)","ﾐﾀ ﾕｳｾｲ","西 宮 東","男","2"]
[null,1614,"添田  倖大(1)","ｿｴﾀﾞ ｺｳﾀﾞｲ","西 宮 東","男","2"]
[null,1615,"栗屋  岳弘(1)","ｸﾘﾔ ﾀｹﾋﾛ","西 宮 東","男","2"]
[null,1695,"尾上  航大(2)","ｵﾉｳｴ ｺｳﾀﾞｲ","西 宮 東","男","2"]
[null,1696,"木宮  肇太(2)","ｷﾐﾔ ﾊｼﾞﾒ","西 宮 東","男","2"]
[null,1697,"溝邉  翔大(2)","ﾐｿﾞﾍﾞ ｼｮｳﾀ","西 宮 東","男","2"]
[null,1698,"浅井  蒼天(2)","ｱｻｲ ｿｳﾏ","西 宮 東","男","1"]
[null,1699,"春田  圭悟(2)","ﾊﾙﾀ ｹｲｺﾞ","西 宮 東","男","1"]
[null,1782,"濵    英汰(2)","ﾊﾏ ｴｲﾀ","西 宮 南","男","1"]
[null,1783,"藤本  光祐(2)","ﾌｼﾞﾓﾄ ｺｳｽｹ","西 宮 南","男","1"]
[null,1784,"神木  彗汰(2)","ｶﾐｷ ｹｲﾀ","西 宮 南","男","1"]
[null,1785,"山橋  颯斗(2)","ﾔﾏﾊｼ ﾊﾔﾄ","西 宮 南","男","1"]
[null,1786,"松田  大空(2)","ﾏﾂﾀﾞ ｿﾗ","西 宮 南","男","1"]
[null,1788,"佐藤  由朔(2)","ｻﾄｳ ﾕｳｻｸ","西 宮 南","男","1"]
[null,1789,"山内  悠生(2)","ﾔﾏｳﾁ ﾕｳｷ","西 宮 南","男","1"]
[null,1790,"稲荷  優真(2)","ｲﾅﾘ ﾕｳﾏ","西 宮 南","男","1"]
[null,1791,"平木  大智(2)","ﾋﾗｷ ﾀﾞｲﾁ","西 宮 南","男","3"]
[null,1793,"田村  駿英(2)","ﾀﾑﾗ ﾄｼﾋﾃﾞ","西 宮 南","男","2"]
[null,1794,"薮田  紘生(1)","ﾔﾌﾞﾀ ｺｳｷ","西 宮 南","男","2"]
[null,1795,"榎本  理人(1)","ｴﾉﾓﾄ ﾘﾄ","西 宮 南","男","2"]
[null,1796,"髙橋  秀弥(1)","ﾀｶﾊｼ ｼｭｳﾔ","西 宮 南","男","2"]
[null,1797,"吉成  敬斗(1)","ﾖｼﾅﾘ ﾊﾔﾄ","西 宮 南","男","2"]
[null,1798,"上野    心(1)","ｳｴﾉ ｼﾝ","西 宮 南","男","1"]
[null,1799,"野口  征歩(1)","ﾉｸﾞﾁ ﾕｷｱ","西 宮 南","男","1"]
[null,1881,"足立    葵(2)","ｱﾀﾞﾁ ﾏﾓﾙ","西宮北苦楽園","男","1"]
[null,1884,"栁川  文吾(2)","ﾔﾅｶﾞﾜ ﾌﾞﾝｺﾞ","西宮北苦楽園","男","1"]
[null,1885,"鈴池  研徳(2)","ｽｽﾞｲｹ ｹﾝﾄｸ","西宮北苦楽園","男","1"]
[null,1886,"蕨野  凌多(2)","ﾜﾗﾋﾞﾉ ﾘｮｳﾀ","西宮北苦楽園","男","1"]
[null,1887,"田中  智葵(1)","ﾀﾅｶ ﾄﾓｷ","西宮北苦楽園","男","1"]
[null,1888,"小田桐  旭(1)","ｵﾀﾞｷﾞﾘ ｱｻﾋ","西宮北苦楽園","男","1"]
[null,1889,"川邊  裕也(1)","ｶﾜﾍﾞ ﾋﾛﾔ","西宮北苦楽園","男","1"]
[null,1890,"北村    閃(1)","ｷﾀﾑﾗ ｾﾝ","西宮北苦楽園","男","1"]
[null,1891,"中村  隼士(1)","ﾅｶﾑﾗ ﾊﾔﾄ","西宮北苦楽園","男","1"]
[null,1892,"飯田    慶(1)","ｲｲﾀﾞ ｹｲ","西宮北苦楽園","男","1"]
[null,1893,"池端    陽(1)","ｲｹﾊﾞﾀ ﾖｳ","西宮北苦楽園","男","1"]
[null,1894,"尾河  遼也(1)","ｵｶﾞﾜ ﾘｮｳﾔ","西宮北苦楽園","男","3"]
[null,1901,"嶋田    陸(2)","ｼﾏﾀﾞ ﾘｸ","鳴    尾","男","3"]
[null,1902,"杉本  賢祐(2)","ｽｷﾞﾓﾄ ｹﾝｽｹ","鳴    尾","男","2"]
[null,1903,"三浦  瞬成(2)","ﾐｳﾗ ｼｭﾝｾｲ","鳴    尾","男","2"]
[null,1904,"中川健志朗(2)","ﾅｶｶﾞﾜ ｹﾝｼﾛｳ","鳴    尾","男","1"]
[null,1905,"竹村  晃琉(2)","ﾀｹﾑﾗ ﾃﾙ","鳴    尾","男","1"]
[null,1906,"河    旺佑(2)","ｶﾜ ｵｳｽｹ","鳴    尾","男","1"]
[null,1908,"岡田  耀仁(1)","ｵｶﾀﾞ ｱｷﾄ","鳴    尾","男","1"]
[null,1909,"濵田  青波(1)","ﾊﾏﾀﾞ ｾｲﾊ","鳴    尾","男","1"]
[null,1910,"原田  航汰(1)","ﾊﾗﾀﾞ ｺｳﾀ","鳴    尾","男","1"]
[null,1911,"中谷  安吾(1)","ﾅｶﾀﾆ ｱﾝｺﾞ","鳴    尾","男","1"]
[null,1912,"高橋  大地(1)","ﾀｶﾊｼ ﾀﾞｲﾁ","鳴    尾","男","1"]
[null,1913,"櫻井  康多(1)","ｻｸﾗｲ ｺｳﾀ","鳴    尾","男","3"]
[null,1914,"有野  将貴(1)","ｱﾘﾉ ﾏｻｷ","鳴    尾","男","2"]
[null,1999,"射場  涼成(2)","ｲﾊﾞ ﾘｮｳｾｲ","鳴    尾","男","2"]
[null,2001,"福竹  照彦(1)","ﾌｸﾀｹ ﾃﾙﾋｺ","西宮今津","男","2"]
[null,2002,"磯山直太郎(1)","ｲｿﾔﾏ ﾅｵﾀﾛｳ","西宮今津","男","2"]
[null,2003,"今里  哉斗(1)","ｲﾏｻﾞﾄ ｶﾅﾄ","西宮今津","男","2"]
[null,2004,"同免木  蓮(1)","ﾄﾞｳﾒﾝｷ ﾚﾝ","西宮今津","男","2"]
[null,2005,"山﨑  颯太(1)","ﾔﾏｻｷ ｿｳﾀ","西宮今津","男","2"]
[null,2006,"後藤  真治(1)","ｺﾞﾄｳ ｼﾝｼﾞ","西宮今津","男","2"]
[null,2007,"山下  雅仁(1)","ﾔﾏｼﾀ ﾏｻﾋﾄ","西宮今津","男","2"]
[null,2008,"辻    壮真(1)","ﾂｼﾞ ｼｮｳﾏ","西宮今津","男","1"]
[null,2009,"鈴木  海生(1)","ｽｽﾞｷ ｶｲ","西宮今津","男","1"]
[null,2010,"田中  優也(1)","ﾀﾅｶ ﾕｳﾔ","西宮今津","男","1"]
[null,2011,"東    航平(1)","ｱｽﾞﾏ ｺｳﾍｲ","西宮今津","男","1"]
[null,2012,"川原  一輝(1)","ｶﾜﾊﾗ ｲﾂｷ","西宮今津","男","1"]
[null,2013,"藤原  直人(1)","ﾌｼﾞﾜﾗ ﾅｵﾄ","西宮今津","男","1"]
[null,2014,"濱田  知洋(1)","ﾊﾏﾀﾞ ﾁﾋﾛ","西宮今津","男","3"]
[null,2015,"奥村  悠誓(1)","ｵｸﾑﾗ ﾕｳｾｲ","西宮今津","男","3"]
[null,2092,"菅沼    剛(2)","ｽｶﾞﾇﾏ ﾂﾖｼ","西宮今津","男","3"]
[null,2093,"大谷  祐晴(2)","ｵｵﾀﾆ ﾕｳｾｲ","西宮今津","男","3"]
[null,2094,"加藤  友斗(2)","ｶﾄｳ ﾕｳﾄ","西宮今津","男","3"]
[null,2095,"宮本  一輝(2)","ﾐﾔﾓﾄ ｶｽﾞｷ","西宮今津","男","3"]
[null,2096,"松岡  南翔(2)","ﾏﾂｵｶ ﾐﾅﾄ","西宮今津","男","3"]
[null,2097,"杉本  修宇(2)","ｽｷﾞﾓﾄ ｼｭｳ","西宮今津","男","2"]
[null,2098,"逵    祐介(2)","ﾂｼﾞ ﾕｳｽｹ","西宮今津","男","2"]
[null,2099,"関本  雅久(1)","ｾｷﾓﾄ ｶﾞｸ","西宮今津","男","2"]
[null,2115,"西坂  虹勢(2)","ﾆｼｻｶ ﾅﾅｾ","西宮甲山","男","1"]
[null,2116,"岩本  拓翔(2)","ｲﾜﾓﾄ ﾀｸﾄ","西宮甲山","男","1"]
[null,2117,"岸本  祐真(2)","ｷｼﾓﾄ ﾕｳﾏ","西宮甲山","男","1"]
[null,2267,"平間    禮(2)","ﾋﾗﾏ ﾚｲ","甲    陽","男","1"]
[null,2268,"宮本    義(2)","ﾐﾔﾓﾄ ﾀﾀﾞｼ","甲    陽","男","1"]
[null,2269,"瀧    彰太(2)","ﾀｷ ｼｮｳﾀ","甲    陽","男","1"]
[null,2270,"吉井  聡明(2)","ﾖｼｲ ｻﾄｱｷ","甲    陽","男","1"]
[null,2271,"赤堀  永真(1)","ｱｶﾎﾘ ﾊﾙﾏ","甲    陽","男","1"]
[null,2272,"岩鶴  泰知(1)","ｲﾜﾂﾙ ﾀｲﾁ","甲    陽","男","1"]
[null,2273,"滝田  航太(1)","ﾀｷﾀ ｺｳﾀ","甲    陽","男","3"]
[null,2274,"田中航大郎(1)","ﾀﾅｶ ｺｳﾀﾛｳ","甲    陽","男","3"]
[null,2275,"松田    類(1)","ﾏﾂﾀﾞ ﾙｲ","甲    陽","男","3"]
[null,2276,"江川  薫瑠(1)","ｴｶﾞﾜ ｶｵﾙ","甲    陽","男","3"]
[null,2277,"児玉  蒼士(1)","ｺﾀﾞﾏ ｱｵｼ","甲    陽","男","3"]
[null,2278,"眞岩  亮侑(1)","ﾏｲﾜ ﾘｮｳ","甲    陽","男","2"]
[null,2279,"佐々木崚成(1)","ｻｻｷ ﾘｮｳｾｲ","甲    陽","男","2"]
[null,2327,"門脇  瑛人(2)","ｶﾄﾞﾜｷ ｴｲﾄ","関西学院","男","2"]
[null,2328,"古今堂辰弥(2)","ｺｷﾝﾄﾞｳ ﾀﾂﾔ","関西学院","男","2"]
[null,2329,"井上  拓海(2)","ｲﾉｳｴ ﾀｸﾐ","関西学院","男","2"]
[null,2330,"唐川  侑大(2)","ｶﾗｶﾜ ﾕｳﾀﾞｲ","関西学院","男","2"]
[null,2331,"菅江  奏太(2)","ｽｶﾞｴ ｿｳﾀ","関西学院","男","2"]
[null,2332,"角谷  俊輔(2)","ｽﾐﾔ ｼｭﾝｽｹ","関西学院","男","2"]
[null,2334,"藤原  大輝(2)","ﾌｼﾞﾜﾗ ﾀﾞｲｷ","関西学院","男","2"]
[null,2336,"今井  琉仁(2)","ｲﾏｲ ﾘｭｳﾄ","関西学院","男","2"]
[null,2337,"飯森  慎介(2)","ｲｲﾓﾘ ｼﾝｽｹ","関西学院","男","2"]
[null,2339,"中嶋    浬(2)","ﾅｶｼﾞﾏ ｶｲﾘ","関西学院","男","2"]
[null,2342,"大東  真空(2)","ｵｵﾋｶﾞｼ ﾏﾋﾛ","関西学院","男","1"]
[null,2344,"楠本  幸助(1)","ｸｽﾓﾄ ｺｳｽｹ","関西学院","男","1"]
[null,2345,"網内  創大(1)","ｱﾐｳﾁ ｿｳﾀﾞｲ","関西学院","男","1"]
[null,2346,"土井  瑛太(1)","ﾄﾞｲ ｴｲﾀ","関西学院","男","1"]
[null,2347,"中嶋  悠裕(1)","ﾅｶｼﾞﾏ ﾕｳｽｹ","関西学院","男","1"]
[null,2348,"平加  佳志(1)","ﾋﾗｶ ｹｲｼ","関西学院","男","1"]
[null,2349,"杉井  陸人(1)","ｽｷﾞｲ ﾘｸﾄ","関西学院","男","1"]
[null,2350,"森田  智哉(1)","ﾓﾘﾀ ﾄﾓﾔ","関西学院","男","1"]
[null,2351,"辰巳  佳祐(1)","ﾀﾂﾐ ｹｲｽｹ","関西学院","男","1"]
[null,2352,"山下    蓮(1)","ﾔﾏｼﾀ ﾚﾝ","関西学院","男","1"]
[null,2353,"桑田  悠生(1)","ｸﾜﾀ ﾕｳｾｲ","関西学院","男","3"]
[null,2354,"安樂    哲(1)","ｱﾝﾗｸ ｻﾄﾙ","関西学院","男","3"]
[null,2355,"今西  勇晴(1)","ｲﾏﾆｼ ﾕｳｾｲ","関西学院","男","3"]
[null,2356,"谷    謙志(1)","ﾀﾆ ｹﾝｼ","関西学院","男","2"]
[null,2357,"清水  裕充(1)","ｼﾐｽﾞ ﾋﾛﾐﾁ","関西学院","男","2"]
[null,2358,"成田  斗真(1)","ﾅﾘﾀ ﾄｳﾏ","関西学院","男","1"]
[null,2359,"松本    響(1)","ﾏﾂﾓﾄ ｷｮｳ","関西学院","男","1"]
[null,2503,"梅田  春翔(1)","ｳﾒﾀﾞ ﾊﾙﾄ","仁    川","男","1"]
[null,2513,"山本  圭悟(1)","ﾔﾏﾓﾄ ｹｲｺﾞ","仁    川","男","1"]
[null,2520,"村上  晃大(1)","ﾑﾗｶﾐ ｺｳﾀﾞｲ","仁    川","男","3"]
[null,2523,"土井  敬太(2)","ﾄﾞｲ ｹｲﾀ","仁    川","男","2"]
[null,2524,"小泉  雄万(2)","ｺｲｽﾞﾐ ﾕｳﾏ","仁    川","男","2"]
[null,2525,"市川  直幹(2)","ｲﾁｶﾜ ﾅｵｷ","仁    川","男","2"]
[null,2526,"鈴木  優斗(1)","ｽｽﾞｷ ﾋﾛﾄ","仁    川","男","2"]
[null,2527,"土居  祐貴(1)","ﾄﾞｲ ﾕｳｷ","仁    川","男","2"]
[null,2532,"舛永  啓泰(1)","ﾏｽﾅｶﾞ ﾋﾛﾔｽ","仁    川","男","2"]
[null,2533,"田淵  頌大(1)","ﾀﾌﾞﾁ ｼｮｳﾀ","仁    川","男","2"]
[null,2534,"浜松  そら(1)","ﾊﾏﾏﾂ ｿﾗ","仁    川","男","2"]
[null,2535,"阿部  蒼馬(1)","ｱﾍﾞ ｿｳﾏ","仁    川","男","1"]
[null,2536,"元井  太智(1)","ﾓﾄｲ ﾀﾞｲﾁ","仁    川","男","1"]
[null,2537,"髙松  祢徳(1)","ﾀｶﾏﾂ ﾅｲﾄ","仁    川","男","2"]
[null,2538,"三本松佑茉(1)","ｻﾝﾎﾞﾝﾏﾂ ﾕｳﾏ","仁    川","男","2"]
[null,2539,"増谷  佑太(1)","ﾏｽﾀﾆ ﾕｳﾀ","仁    川","男","2"]
[null,2540,"山本  修大(1)","ﾔﾏﾓﾄ ﾖｼﾋﾛ","仁    川","男","2"]
[null,2541,"川島  輝晃(1)","ｶﾜｼﾏ ﾃﾙｱｷ","仁    川","男","2"]
[null,2542,"小津  惺太(1)","ｵﾂﾞ ｾｲﾀ","仁    川","男","2"]
[null,2601,"佐野本大地(1)","ｻﾉﾓﾄ ﾀﾞｲﾁ","報    徳","男","2"]
[null,2602,"谷口  蒼佑(1)","ﾀﾆｸﾞﾁ ｿｳｽｹ","報    徳","男","2"]
[null,2603,"徳山  泰輝(1)","ﾄｸﾔﾏ ﾋﾛｷ","報    徳","男","2"]
[null,2604,"村上  慧宕(1)","ﾑﾗｶﾐ ｹｲｺﾞ","報    徳","男","2"]
[null,2605,"横山  千尋(1)","ﾖｺﾔﾏ ﾁﾋﾛ","報    徳","男","1"]
[null,2606,"野口  大成(1)","ﾉｸﾞﾁ ﾀｲｾｲ","報    徳","男","1"]
[null,2607,"太田  継聖(1)","ｵｵﾀ ｹｲｾｲ","報    徳","男","1"]
[null,2608,"品田  翔伍(1)","ｼﾅﾀﾞ ｼｮｳｺﾞ","報    徳","男","1"]
[null,2609,"堤    仁真(1)","ﾂﾂﾐ ﾄｵﾏ","報    徳","男","1"]
[null,2610,"杉谷  悠真(1)","ｽｷﾞﾀﾆ ﾊﾙﾏ","報    徳","男","1"]
[null,2671,"西海  光馬(2)","ﾆｼｳﾐ ﾃﾙﾏ","報    徳","男","1"]
[null,2672,"岩上琥太朗(2)","ｲﾜｶﾞﾐ ｺﾀﾛｳ","報    徳","男","1"]
[null,2673,"伊藤  拓海(2)","ｲﾄｳ ﾀｸﾐ","報    徳","男","1"]
[null,2674,"大野  遥矢(2)","ｵｵﾉ ﾊﾙﾔ","報    徳","男","1"]
[null,2675,"塩田  拓未(2)","ｼｵﾀ ﾀｸﾐ","報    徳","男","1"]
[null,2676,"谷田颯太朗(2)","ﾀﾆﾀﾞ ｿｳﾀﾛｳ","報    徳","男","1"]
[null,2677,"中里  唯人(2)","ﾅｶｻﾞﾄ ﾕｲﾄ","報    徳","男","3"]
[null,2679,"西向    蒼(2)","ﾆｼﾑｺ ｱｵｲ","報    徳","男","3"]
[null,2680,"馬場  祐多(2)","ﾊﾞﾊﾞ ﾕｳﾀ","報    徳","男","3"]
[null,2681,"林    大貴(2)","ﾊﾔｼ ﾀﾞｲｷ","報    徳","男","3"]
[null,2683,"南    唯嘉(2)","ﾐﾅﾐ ｲﾁｶ","報    徳","男","2"]
[null,2684,"持田  空我(2)","ﾓﾁﾀﾞ ｸｳｶﾞ","報    徳","男","2"]
[null,2685,"松本  羚也(2)","ﾏﾂﾓﾄ ﾚｲﾔ","報    徳","男","1"]
[null,2686,"楊井  大貴(2)","ﾔｷﾞｲ ﾀﾞｲｷ","報    徳","男","1"]
[null,2687,"大和    煌(2)","ﾔﾏﾄ ｶｶﾞﾘ","報    徳","男","1"]
[null,2688,"米田  尚恭(1)","ｺﾒﾀﾞ ﾅｵﾕｷ","報    徳","男","1"]
[null,2689,"椎谷  雄樹(1)","ｼｲﾀﾆ ﾕｳｷ","報    徳","男","1"]
[null,2690,"須内  遙也(1)","ｽｳﾁ ﾊﾙﾔ","報    徳","男","1"]
[null,2692,"辻    結太(1)","ﾂｼﾞ ﾕｳﾀ","報    徳","男","1"]
[null,2693,"富田  周佑(1)","ﾄﾐﾀ ｼｭｳｽｹ","報    徳","男","1"]
[null,2694,"福沢  賢心(1)","ﾌｸｻﾞﾜ ｹﾝｼﾝ","報    徳","男","1"]
[null,2695,"舟橋  奏佑(1)","ﾌﾅﾊｼ ｿｳｽｹ","報    徳","男","1"]
[null,2696,"井倉  琉惺(1)","ｲｸﾗ ﾘｭｳｾｲ","報    徳","男","1"]
[null,2697,"池田  稜弥(1)","ｲｹﾀﾞ ﾘｮｳﾔ","報    徳","男","2"]
[null,2698,"金井  俊弥(1)","ｶﾅｲ ｼｭﾝﾔ","報    徳","男","1"]
[null,2699,"小阪  琉碧(1)","ｺｻｶ ﾘｭｳｾｲ","報    徳","男","1"]
[null,3032,"髙橋  祐翔(2)","ﾀｶﾊｼ ﾋﾛﾄ","県 伊 丹","男","1"]
[null,3033,"中川  透輪(2)","ﾅｶｶﾞﾜ ﾄﾜ","県 伊 丹","男","1"]
[null,3034,"西森  真賢(2)","ﾆｼﾓﾘ ﾏｻﾄ","県 伊 丹","男","3"]
[null,3035,"菅生  汰朗(2)","ｽｺﾞｳ ﾀﾛｳ","県 伊 丹","男","3"]
[null,3036,"北住  惟央(2)","ｷﾀｽﾞﾐ ｲｵ","県 伊 丹","男","3"]
[null,3037,"清島  信惇(2)","ｷﾖｼﾏ ｼﾝﾄ","県 伊 丹","男","3"]
[null,3038,"三好  爽介(2)","ﾐﾖｼ ｻｽｹ","県 伊 丹","男","3"]
[null,3039,"大北  祥平(2)","ｵｵｷﾀ ｼｮｳﾍｲ","県 伊 丹","男","3"]
[null,3040,"柴田  昊明(2)","ｼﾊﾞﾀ ｺｳﾒｲ","県 伊 丹","男","3"]
[null,3041,"津村  将希(2)","ﾂﾑﾗ ｼｮｳｷ","県 伊 丹","男","2"]
[null,3042,"濵    悠太(2)","ﾊﾏ ﾕｳﾀ","県 伊 丹","男","2"]
[null,3043,"小倉    皓(2)","ｵｸﾞﾗ ﾋｶﾙ","県 伊 丹","男","2"]
[null,3044,"徳穂  隼祐(2)","ﾄｸﾎ ｼｭﾝｽｹ","県 伊 丹","男","2"]
[null,3045,"小谷  純己(1)","ｺﾀﾆ ｱﾂｷ","県 伊 丹","男","2"]
[null,3046,"森    祐太(1)","ﾓﾘ ﾕｳﾀ","県 伊 丹","男","2"]
[null,3047,"鎌田  大翔(1)","ｶﾏﾀﾞ ﾊﾙﾄ","県 伊 丹","男","2"]
[null,3048,"中野    樹(1)","ﾅｶﾉ ﾀﾂｷ","県 伊 丹","男","2"]
[null,3049,"小林  凌雅(1)","ｺﾊﾞﾔｼ ﾘｮｳｶﾞ","県 伊 丹","男","2"]
[null,3050,"久保田航陽(1)","ｸﾎﾞﾀ ｺｳﾖｳ","県 伊 丹","男","2"]
[null,3051,"古賀  大晴(1)","ｺｶﾞ ﾀｲｾｲ","県 伊 丹","男","2"]
[null,3052,"戸髙  友翔(1)","ﾄﾀﾞｶ ﾕｳﾄ","県 伊 丹","男","2"]
[null,3053,"森岡  咲太(1)","ﾓﾘｵｶ ｼｮｳﾀ","県 伊 丹","男","2"]
[null,3054,"伊藤  旬輝(1)","ｲﾄｳ ｼｭﾝｷ","県 伊 丹","男","2"]
[null,3055,"中西  宏将(1)","ﾅｶﾆｼ ﾋﾛﾄ","県 伊 丹","男","2"]
[null,3056,"井上    葵(1)","ｲﾉｳｴ ｱｵｲ","県 伊 丹","男","2"]
[null,3151,"丸田  陸人(2)","ﾏﾙﾀ ﾘｸﾄ","市 伊 丹","男","2"]
[null,3152,"頃安  陽仁(2)","ｺﾛﾔｽ ﾊﾙﾄ","市 伊 丹","男","2"]
[null,3153,"藤枝  晴生(2)","ﾌｼﾞｴﾀﾞ ﾊﾙｷ","市 伊 丹","男","2"]
[null,3154,"立花  将大(1)","ﾀﾁﾊﾞﾅ ｼｮｳﾄ","市 伊 丹","男","3"]
[null,3155,"宮脇  唯人(1)","ﾐﾔﾜｷ ﾕｲﾄ","市 伊 丹","男","3"]
[null,3156,"岡野  琉生(1)","ｵｶﾉ ﾙｲ","市 伊 丹","男","3"]
[null,3157,"河岸  拓臣(1)","ｶﾜｷﾞｼ ﾀｸﾐ","市 伊 丹","男","3"]
[null,3158,"寺田    隼(1)","ﾃﾗﾀﾞ ﾊﾔﾄ","市 伊 丹","男","3"]
[null,3159,"村社  春希(1)","ﾑﾗｺｿ ﾊﾙｷ","市 伊 丹","男","3"]
[null,3244,"大久保歩成(2)","ｵｵｸﾎﾞ ｱﾕﾅﾘ","伊 丹 西","男","3"]
[null,3245,"川﨑  稀生(2)","ｶﾜｻｷ ﾋﾅﾘ","伊 丹 西","男","3"]
[null,3246,"輔信  颯真(2)","ｽｹﾉﾌﾞ ｿｳﾏ","伊 丹 西","男","3"]
[null,3249,"田口  聖七(2)","ﾀｸﾞﾁ ｾﾅ","伊 丹 西","男","3"]
[null,3250,"鈴木    颯(2)","ｽｽﾞｷ ﾊﾔﾄ","伊 丹 西","男","3"]
[null,3251,"開田  陽大(1)","ｶｲﾀﾞ ﾊﾙﾄ","伊 丹 西","男","2"]
[null,3252,"向田  悠真(1)","ﾑｺｳﾀﾞ ﾕｳﾏ","伊 丹 西","男","2"]
[null,3253,"松本  知樹(1)","ﾏﾂﾓﾄ ﾄﾓｷ","伊 丹 西","男","2"]
[null,3254,"常賀  陽斗(1)","ﾂﾈｶﾞ ﾊﾙﾄ","伊 丹 西","男","2"]
[null,3255,"畑佐  海翔(1)","ﾊﾀｻ ｶｲﾄ","伊 丹 西","男","2"]
[null,3256,"京兼  広汰(1)","ｷｮｳｶﾈ ｺｳﾀ","伊 丹 西","男","2"]
[null,3257,"佐藤昂太郎(1)","ｻﾄｳ ｺｳﾀﾛｳ","伊 丹 西","男","2"]
[null,3258,"御﨑  大輔(1)","ﾐｻｷ ﾀﾞｲｽｹ","伊 丹 西","男","2"]
[null,3259,"桑田  凌冴(1)","ｸﾜﾀ ﾘｮｳｶﾞ","伊 丹 西","男","2"]
[null,3331,"菅原  真樹(2)","ｽｶﾞﾊﾗ ﾏｻｷ","伊 丹 北","男","1"]
[null,3332,"川筋  泰輔(2)","ｶﾜｽｼﾞ ﾀｲｽｹ","伊 丹 北","男","1"]
[null,3333,"平井  淳貴(2)","ﾋﾗｲ ｱﾂｷ","伊 丹 北","男","1"]
[null,3334,"兵頭  玲音(2)","ﾋｮｳﾄﾞｳ ﾚｵﾝ","伊 丹 北","男","1"]
[null,3335,"藤井  輝生(2)","ﾌｼﾞｲ ﾃﾙｷ","伊 丹 北","男","1"]
[null,3336,"米山  龍星(2)","ﾖﾈﾔﾏ ﾘｭｳｾｲ","伊 丹 北","男","1"]
[null,3337,"若松  遼泰(2)","ﾜｶﾏﾂ ﾘｮｳﾀ","伊 丹 北","男","1"]
[null,3338,"根占  航太(2)","ﾈｼﾞﾒ ｺｳﾀ","伊 丹 北","男","1"]
[null,3339,"河島  大翔(1)","ｶﾜｼﾏ ﾔﾏﾄ","伊 丹 北","男","1"]
[null,3340,"鈴木  庸平(1)","ｽｽﾞｷ ﾖｳﾍｲ","伊 丹 北","男","1"]
[null,3341,"土井慎太郎(1)","ﾄﾞｲ ｼﾝﾀﾛｳ","伊 丹 北","男","1"]
[null,3342,"本間    瞬(1)","ﾎﾝﾏ ｼｭﾝ","伊 丹 北","男","1"]
[null,3343,"小林  泰地(1)","ｺﾊﾞﾔｼ ﾀｲﾁ","伊 丹 北","男","1"]
[null,3344,"佐藤  聖悟(1)","ｻﾄｳ ｾｲｺﾞ","伊 丹 北","男","1"]
[null,3345,"佐藤  理雄(1)","ｻﾄｳ ﾘｵ","伊 丹 北","男","3"]
[null,3346,"田口  陽葵(1)","ﾀｸﾞﾁ ﾊﾙｷ","伊 丹 北","男","3"]
[null,3347,"中島  温太(1)","ﾅｶｼﾞﾏ ﾊﾙﾀ","伊 丹 北","男","3"]
[null,3348,"新田  啓翔(1)","ﾆｯﾀ ﾋﾛﾄ","伊 丹 北","男","2"]
[null,3349,"前田  大輝(1)","ﾏｴﾀﾞ ﾀﾞｲｷ","伊 丹 北","男","2"]
[null,3350,"前田  暦音(1)","ﾏｴﾀﾞ ﾚｵﾝ","伊 丹 北","男","2"]
[null,3351,"昌川  銀河(1)","ﾏｻｶﾜ ｷﾞﾝｶﾞ","伊 丹 北","男","2"]
[null,3352,"美吉  拓門(1)","ﾐﾖｼ ﾀｸﾄ","伊 丹 北","男","2"]
[null,3353,"吉田  捷人(1)","ﾖｼﾀﾞ ﾊﾔﾄ","伊 丹 北","男","2"]
[null,3464,"大杉    悠(2)","ｵｵｽｷﾞ ﾕｳ","川西緑台","男","2"]
[null,3465,"岡﨑  航輝(2)","ｵｶｻﾞｷ ｺｳｷ","川西緑台","男","2"]
[null,3466,"垣本  和輝(2)","ｶｷﾓﾄ ｶｽﾞｷ","川西緑台","男","2"]
[null,3467,"上良  幸土(2)","ｺﾛ ﾕｷﾄ","川西緑台","男","2"]
[null,3468,"佐々木  優(2)","ｻｻｷ ﾕｳ","川西緑台","男","1"]
[null,3470,"岡田  一真(2)","ｵｶﾀﾞ ｶｽﾞﾏ","川西緑台","男","1"]
[null,3471,"春田    敦(2)","ﾊﾙﾀ ｱﾂｼ","川西緑台","男","1"]
[null,3472,"引地  颯斗(2)","ﾋｷﾁ ﾊﾔﾄ","川西緑台","男","1"]
[null,3473,"横江  秀虎(2)","ﾖｺｴ ﾋﾃﾞﾄﾗ","川西緑台","男","1"]
[null,3474,"市原宇宙斗(1)","ｲﾁﾊﾗ ｿﾗﾄ","川西緑台","男","1"]
[null,3476,"辻    拓馬(1)","ﾂｼﾞ ﾀｸﾏ","川西緑台","男","1"]
[null,3476,"小谷  陽太(1)","ｺﾀﾆ ﾖｳﾀ","川西緑台","男","1"]
[null,3477,"由永  叡梧(1)","ﾖｼﾅｶﾞ ｴｲｺﾞ","川西緑台","男","1"]
[null,3478,"泉谷  捷斗(1)","ｲｽﾞﾀﾆ ﾊﾔﾄ","川西緑台","男","1"]
[null,3479,"小林聡一郎(1)","ｺﾊﾞﾔｼ ｿｳｲﾁﾛｳ","川西緑台","男","1"]
[null,3480,"齊藤  天飛(1)","ｻｲﾄｳ ｿﾗﾄ","川西緑台","男","1"]
[null,3481,"野村  将晃(1)","ﾉﾑﾗ ﾏｻｱｷ","川西緑台","男","1"]
[null,3482,"深見  亮仁(1)","ﾌｶﾐ ｱｷﾋﾄ","川西緑台","男","1"]
[null,3575,"森口  智成(2)","ﾓﾘｸﾞﾁ ﾄﾓﾅﾘ","川西明峰","男","1"]
[null,3576,"山下  幸斗(2)","ﾔﾏｼﾀ ﾕｷﾄ","川西明峰","男","3"]
[null,3579,"濱田  雄祐(2)","ﾊﾏﾀﾞ ﾕｳｽｹ","川西明峰","男","3"]
[null,3580,"長尾  羽琉(1)","ﾅｶﾞｵ ﾊﾙ","川西明峰","男","3"]
[null,3581,"伊藤  優月(1)","ｲﾄｳ ﾕﾂﾞｷ","川西明峰","男","3"]
[null,3618,"生田  宗輔(2)","ｲｸﾀ ｿｳｽｹ","川西北陵","男","3"]
[null,3619,"稲林  伸崇(2)","ｲﾅﾊﾞﾔｼ ﾉﾌﾞﾀｶ","川西北陵","男","3"]
[null,3620,"浦山    翔(2)","ｳﾗﾔﾏ ｼｮｳ","川西北陵","男","3"]
[null,3621,"音地  広翔(2)","ｵﾝﾁﾞ ﾋﾛﾄ","川西北陵","男","3"]
[null,3622,"香川    心(2)","ｶｶﾞﾜ ｼﾝ","川西北陵","男","3"]
[null,3625,"山本  剛義(2)","ﾔﾏﾓﾄ ﾂﾖｼ","川西北陵","男","3"]
[null,3626,"上内  大成(1)","ｳｴｳﾁ ﾀｲｾｲ","川西北陵","男","3"]
[null,3627,"宇杉  伊織(1)","ｳｽｷﾞ ｲｵﾘ","川西北陵","男","2"]
[null,3628,"亀岡    脩(1)","ｶﾒｵｶ ｼｭｳ","川西北陵","男","2"]
[null,3629,"國岡潤之祐(1)","ｸﾆｵｶ ｼﾞｭﾝﾉｽｹ","川西北陵","男","2"]
[null,3630,"糀谷    颯(1)","ｺｳｼﾞﾀﾆ ｿｳ","川西北陵","男","2"]
[null,3631,"高橋    央(1)","ﾀｶﾊｼ ﾋﾛ","川西北陵","男","2"]
[null,3632,"髙見  蒼汰(1)","ﾀｶﾐ ｿｳﾀ","川西北陵","男","2"]
[null,3633,"髙森  蒼空(1)","ﾀｶﾓﾘ ｿﾗ","川西北陵","男","2"]
[null,3634,"武村  光流(1)","ﾀｹﾑﾗ ﾋｶﾙ","川西北陵","男","1"]
[null,3635,"寺床  賢人(1)","ﾃﾗﾄｺ ｹﾝﾄ","川西北陵","男","1"]
[null,3636,"三浦  琉虹(1)","ﾐｳﾗ ﾙｳｸ","川西北陵","男","1"]
[null,3637,"瀬戸口里輝(2)","ｾﾄｸﾞﾁ ｻﾄｷ","川西北陵","男","1"]
[null,3777,"佐々木琉毅(2)","ｻｻｷ ﾘｭｳｷ","猪 名 川","男","1"]
[null,3778,"笹倉  理音(2)","ｻｻｸﾗ ﾘｵ","猪 名 川","男","1"]
[null,3779,"羽田野史弥(2)","ﾊﾀﾉ ﾌﾐﾔ","猪 名 川","男","3"]
[null,3781,"髙橋  雄大(2)","ﾀｶﾊｼ ﾕｳﾀﾞｲ","猪 名 川","男","3"]
[null,3783,"ロバートソン悠(2)","ﾛﾊﾞｰﾄｿﾝ ﾕｳ","猪 名 川","男","2"]
[null,3784,"上原  優也(2)","ｳｴﾊﾗ ﾕｳﾔ","猪 名 川","男","2"]
[null,3785,"北坂桜太朗(1)","ｷﾀｻｶ ｵｳﾀﾛｳ","猪 名 川","男","2"]
[null,3786,"福嶋  寛人(1)","ﾌｸｼﾏ ﾋﾛﾄ","猪 名 川","男","2"]
[null,3787,"橋本  舷斗(1)","ﾊｼﾓﾄ ｹﾞﾝﾄ","猪 名 川","男","2"]
[null,3788,"向田真太朗(1)","ﾑｺｳﾀﾞ ｼﾝﾀﾛｳ","猪 名 川","男","2"]
[null,3789,"日髙  陽斗(2)","ﾋﾀﾞｶ ﾊﾙﾄ","猪 名 川","男","2"]
[null,3790,"黒田  創介(2)","ｸﾛﾀﾞ ｿｳｽｹ","猪 名 川","男","2"]
[null,3819,"立花  友雅(2)","ﾀﾁﾊﾞﾅ ﾕｳｶﾞ","宝    塚","男","2"]
[null,3820,"中務  優和(2)","ﾅｶﾂｶｻ ﾕｳﾜ","宝    塚","男","1"]
[null,3821,"本多    翔(2)","ﾎﾝﾀﾞ ｶｹﾙ","宝    塚","男","1"]
[null,3822,"村上  亮斗(2)","ﾑﾗｶﾐ ｱｷﾄ","宝    塚","男","1"]
[null,3823,"宇都宮航生(2)","ｳﾂﾉﾐﾔ ｺｳｷ","宝    塚","男","1"]
[null,3824,"田尻  敦己(2)","ﾀｼﾞﾘ ｱﾂｷ","宝    塚","男","1"]
[null,3825,"谷口  颯亮(2)","ﾀﾆｸﾞﾁ ｿｳｽｹ","宝    塚","男","1"]
[null,3826,"友成  悠太(2)","ﾄﾓﾅﾘ ﾕｳﾀ","宝    塚","男","1"]
[null,3828,"藤井    暖(2)","ﾌｼﾞｲ ﾊﾙ","宝    塚","男","1"]
[null,3829,"渡辺  雅樹(2)","ﾜﾀﾅﾍﾞ ﾏｻｷ","宝    塚","男","1"]
[null,3829,"橋本  翔太(2)","ﾊｼﾓﾄ ｼｮｳﾀ","宝    塚","男","1"]
[null,3830,"時本  悠生(1)","ﾄｷﾓﾄ ﾕｳｷ","宝    塚","男","1"]
[null,3831,"前田  育人(1)","ﾏｴﾀﾞ ｲｸﾄ","宝    塚","男","1"]
[null,3832,"楠田  蒼甫(1)","ｸｽﾀﾞ ｿｳｽｹ","宝    塚","男","1"]
[null,3833,"山崎  煌貴(1)","ﾔﾏｻｷ ｺｳｷ","宝    塚","男","3"]
[null,3834,"塚本旺士郎(1)","ﾂｶﾓﾄ ｵｳｼﾛｳ","宝    塚","男","3"]
[null,3835,"田中  皓久(1)","ﾀﾅｶ ｱｷﾋｻ","宝    塚","男","3"]
[null,3836,"水口  悠大(1)","ﾐｽﾞｸﾞﾁ ﾕｳﾀﾞｲ","宝    塚","男","2"]
[null,3837,"神園    樹(1)","ｶﾐｿﾞﾉ ｲﾂｷ","宝    塚","男","2"]
[null,3838,"中村  友海(1)","ﾅｶﾑﾗ ﾕｳﾏ","宝    塚","男","1"]
[null,3901,"高瀬  陽路(1)","ﾀｶｾ ﾋﾛ","宝 塚 東","男","1"]
[null,3902,"熊    悠翔(1)","ｸﾏ ﾕｳﾄ","宝 塚 東","男","1"]
[null,3903,"奥野  祥史(1)","ｵｸﾉ ﾖｼﾌﾐ","宝 塚 東","男","1"]
[null,3904,"澤田  翔太(1)","ｻﾜﾀﾞ ｼｮｳﾀ","宝 塚 東","男","1"]
[null,3905,"植田  七碧(1)","ｳｴﾀﾞ ﾅﾅﾐ","宝 塚 東","男","3"]
[null,3906,"樋口  祥斗(1)","ﾋｸﾞﾁ ﾖｼﾄ","宝 塚 東","男","3"]
[null,3907,"古賀  陽葵(1)","ｺｶﾞ ﾊﾙｷ","宝 塚 東","男","3"]
[null,3994,"小笠原和己(2)","ｵｶﾞｻﾊﾗ ﾄﾓｷ","宝 塚 東","男","3"]
[null,3999,"田村    匠(1)","ﾀﾑﾗ ﾀｸﾐ","宝 塚 東","男","3"]
[null,4018,"四方  悠貴(2)","ｼｶﾀ ﾕｳｷ","宝 塚 西","男","3"]
[null,4019,"荻下直太郎(2)","ｵｷﾞｼﾀ ﾅｵﾀﾛｳ","宝 塚 西","男","3"]
[null,4020,"田中  拓斗(1)","ﾀﾅｶ ﾀｸﾄ","宝 塚 西","男","3"]
[null,4021,"光吉  智央(1)","ﾐﾂﾖｼ ﾁﾋﾛ","宝 塚 西","男","3"]
[null,4022,"西園  勇吹(1)","ﾆｼｿﾞﾉ ｲﾌﾞｷ","宝 塚 西","男","2"]
[null,4023,"佐藤  佑樹(2)","ｻﾄｳ ﾕｳｷ","宝 塚 西","男","2"]
[null,4024,"木原  脩太(1)","ｷﾊﾗ ｼｭｳﾀ","宝 塚 西","男","2"]
[null,4025,"木村  凌久(1)","ｷﾑﾗ ﾘｸ","宝 塚 西","男","2"]
[null,4026,"口田  瑛也(1)","ｸﾁﾀﾞ ﾃﾙﾔ","宝 塚 西","男","2"]
[null,4027,"高田  恭佑(1)","ﾀｶﾀﾞ ｷｮｳｽｹ","宝 塚 西","男","2"]
[null,4028,"市村  知寛(1)","ｲﾁﾑﾗ ﾁﾋﾛ","宝 塚 西","男","2"]
[null,4029,"丸小野  魁(1)","ﾏﾙｵﾉ ｶｲ","宝 塚 西","男","2"]
[null,4112,"阪上  蒼空(2)","ｻｶｳｴ ｿﾗ","宝 塚 北","男","2"]
[null,4113,"野村  絢也(2)","ﾉﾑﾗ ｹﾝﾔ","宝 塚 北","男","2"]
[null,4114,"山口  悠斗(2)","ﾔﾏｸﾞﾁ ﾕｳﾄ","宝 塚 北","男","2"]
[null,4115,"安達  巧馬(2)","ｱﾀﾞﾁ ﾀｸﾏ","宝 塚 北","男","3"]
[null,4116,"辻    快統(2)","ﾂｼﾞ ｶｲﾄ","宝 塚 北","男","2"]
[null,4117,"寺本  悠真(2)","ﾃﾗﾓﾄ ﾕｳｼﾝ","宝 塚 北","男","1"]
[null,4118,"石井  光騎(2)","ｲｼｲ ﾐﾂｷ","宝 塚 北","男","1"]
[null,4119,"島本  瑛真(2)","ｼﾏﾓﾄ ﾃﾙﾏ","宝 塚 北","男","1"]
[null,4120,"中山  瑛音(2)","ﾅｶﾔﾏ ｴｲﾄ","宝 塚 北","男","1"]
[null,4121,"伊賀  一騎(2)","ｲｶﾞ ｶｽﾞｷ","宝 塚 北","男","1"]
[null,4122,"山口  稜生(2)","ﾔﾏｸﾞﾁ ｲｽﾞｷ","宝 塚 北","男","1"]
[null,4123,"江川  凜祐(1)","ｴｶﾞﾜ ﾘﾝｽｹ","宝 塚 北","男","3"]
[null,4124,"沖    康太(1)","ｵｷ ｺｳﾀ","宝 塚 北","男","3"]
[null,4125,"栗原    優(1)","ｸﾘﾊﾗ ﾕｳ","宝 塚 北","男","3"]
[null,4126,"原田  壮真(1)","ﾊﾗﾀﾞ ｿｳﾏ","宝 塚 北","男","3"]
[null,4127,"前川  陽太(1)","ﾏｴｶﾞﾜ ﾊﾙﾀ","宝 塚 北","男","2"]
[null,4128,"松本    蒼(1)","ﾏﾂﾓﾄ ｱｵｲ","宝 塚 北","男","2"]
[null,4129,"下井  章歳(1)","ｼﾓｲ ｱｷﾄｼ","宝 塚 北","男","2"]
[null,4366,"住野  春樹(2)","ｽﾐﾉ ﾊﾙｷ","芦    屋","男","1"]
[null,4367,"吉田  圭志(2)","ﾖｼﾀﾞ ｹｲｼ","芦    屋","男","1"]
[null,4368,"磯川    友(2)","ｲｿｶﾜ ﾕｳ","芦    屋","男","1"]
[null,4369,"末定優之介(2)","ｽｴｻﾀﾞ ﾕｳﾉｽｹ","芦    屋","男","1"]
[null,4370,"森田  優羽(2)","ﾓﾘﾀ ﾕｳ","芦    屋","男","1"]
[null,4411,"仲  慶一朗(2)","ﾅｶ ｹｲｲﾁﾛｳ","雲 雀 丘","男","1"]
[null,4412,"窪井  亮人(2)","ｸﾎﾞｲ ﾘｮｳﾄ","雲 雀 丘","男","2"]
[null,4413,"村上  幸太(2)","ﾑﾗｶﾐ ｺｳﾀ","雲 雀 丘","男","2"]
[null,4414,"出口  大翔(2)","ﾃﾞｸﾞﾁ ﾀﾞｲﾄ","雲 雀 丘","男","2"]
[null,4415,"豊原  颯真(2)","ﾄﾖﾊﾗ ｿｳﾏ","雲 雀 丘","男","1"]
[null,4416,"吉田  隼悠(2)","ﾖｼﾀﾞ ﾄｼﾊﾙ","雲 雀 丘","男","1"]
[null,4417,"嶋本  拓磨(2)","ｼﾏﾓﾄ ﾀｸﾏ","雲 雀 丘","男","1"]
[null,4418,"山﨑  文暁(2)","ﾔﾏｻｷ ﾌﾐｱｷ","雲 雀 丘","男","1"]
[null,4419,"小寺  智仁(2)","ｺﾃﾗ ﾄﾓﾋﾄ","雲 雀 丘","男","1"]
[null,4420,"堺    皐樹(2)","ｻｶｲ ｺｳｷ","雲 雀 丘","男","1"]
[null,4421,"向井  陸人(2)","ﾑｶｲ ﾘｸﾄ","雲 雀 丘","男","1"]
[null,4423,"池田  壮達(2)","ｲｹﾀﾞ ｿｳﾀﾂ","雲 雀 丘","男","1"]
[null,4424,"紀伊聡一郎(2)","ｷｲ ｿｳｲﾁﾛｳ","雲 雀 丘","男","1"]
[null,4425,"平田  昇馬(2)","ﾋﾗﾀ ｼｮｳﾏ","雲 雀 丘","男","1"]
[null,4427,"町塚    悠(2)","ﾏﾁﾂﾞｶ ﾋｻｼ","雲 雀 丘","男","1"]
[null,4428,"蘓我原大翔(2)","ｿｶﾞﾊﾗ ﾊﾙﾄ","雲 雀 丘","男","1"]
[null,4429,"山下  慶輔(2)","ﾔﾏｼﾀ ｹｲｽｹ","雲 雀 丘","男","3"]
[null,4430,"竹中  琉生(1)","ﾀｹﾅｶ ﾙｲ","雲 雀 丘","男","3"]
[null,4431,"井田  陸王(1)","ｲﾀﾞ ﾘｵｳ","雲 雀 丘","男","3"]
[null,4432,"西村  健琉(1)","ﾆｼﾑﾗ ﾀｹﾙ","雲 雀 丘","男","2"]
[null,4433,"大﨑  陽太(1)","ｵｵｻｷ ﾋﾅﾀ","雲 雀 丘","男","2"]
[null,4434,"牧部  英幸(1)","ﾏｷﾍﾞ ﾋﾃﾞﾕｷ","雲 雀 丘","男","2"]
[null,4435,"松本  煌生(1)","ﾏﾂﾓﾄ ｺｳｾｲ","雲 雀 丘","男","2"]
[null,4436,"仁科  颯人(1)","ﾆｼﾅ ﾊﾔﾄ","雲 雀 丘","男","2"]
[null,4437,"中尾  颯志(1)","ﾅｶｵ ｿｳｼ","雲 雀 丘","男","2"]
[null,4438,"二木  侑隼(1)","ﾆｷ ﾕｳﾄ","雲 雀 丘","男","3"]
[null,4439,"橋本  寛平(1)","ﾊｼﾓﾄ ｶﾝﾍﾟｲ","雲 雀 丘","男","3"]
[null,4440,"岩下  明叡(1)","ｲﾜｼﾀ ｱｷｻﾄ","雲 雀 丘","男","3"]
[null,4441,"冨田  和佐(1)","ﾄﾐﾀ ｶｽﾞｻ","雲 雀 丘","男","2"]
[null,4442,"松本  拓也(1)","ﾏﾂﾓﾄ ﾀｸﾔ","雲 雀 丘","男","2"]
[null,4443,"戸田  天翔(1)","ﾄﾀﾞ ﾀｹﾙ","雲 雀 丘","男","2"]
[null,4444,"向井  陸人(1)","ﾑｶｲ ﾘｸﾄ","雲 雀 丘","男","2"]
[null,4445,"長島乘太朗(1)","ﾅｶﾞｼﾏ ｼﾞｮｳﾀﾛｳ","雲 雀 丘","男","2"]
[null,4446,"山口  泰生(1)","ﾔﾏｸﾞﾁ ﾋﾛｷ","雲 雀 丘","男","1"]
[null,4674,"森本  祥輝(2)","ﾓﾘﾓﾄ ｼｮｳｷ","芦屋学園","男","1"]
[null,4675,"南馬  大翔(2)","ﾅﾝﾊﾞ ﾔﾏﾄ","芦屋学園","男","1"]
[null,4676,"吉重  慧斗(2)","ﾖｼｼｹﾞ ｹｲﾄ","芦屋学園","男","1"]
[null,4677,"榎元  琉太(2)","ｴﾉﾓﾄ ﾘｭｳﾀ","芦屋学園","男","2"]
[null,4678,"野原  英心(2)","ﾉﾊﾗ ｴｲｼﾝ","芦屋学園","男","2"]
[null,4679,"井上  悠大(2)","ｲﾉｳｴ ﾕｳﾀ","芦屋学園","男","2"]
[null,4680,"柴田  健翔(2)","ｼﾊﾞﾀ ｹﾝｼｮｳ","芦屋学園","男","3"]
[null,4681,"衣笠  大地(2)","ｷﾇｶﾞｻ ﾀﾞｲﾁ","芦屋学園","男","1"]
[null,4683,"藤本    凱(1)","ﾌｼﾞﾓﾄ ｶｲ","芦屋学園","男","1"]
[null,4684,"大台  一真(1)","ｵｵﾀﾞｲ ｶｽﾞﾏ","芦屋学園","男","1"]
[null,4685,"若狹  大輔(1)","ﾜｶｻ ﾀﾞｲｽｹ","芦屋学園","男","1"]
[null,4686,"野邊  暖人(1)","ﾉﾍﾞ ﾊﾙﾄ","芦屋学園","男","1"]
[null,4687,"芳村  宇海(1)","ﾖｼﾑﾗ ｳﾐ","芦屋学園","男","1"]
[null,4688,"北畠  悠馬(1)","ｷﾀﾊﾞﾀｹ ﾕｳﾏ","芦屋学園","男","1"]
[null,4689,"中林  慶博(1)","ﾅｶﾊﾞﾔｼ ﾉﾘﾋﾛ","芦屋学園","男","1"]
[null,4690,"重栖  時史(1)","ｵﾓｽ ﾄｷﾌﾐ","芦屋学園","男","1"]
[null,4794,"廣田    樹(2)","ﾋﾛﾀ ｲﾂｷ","甲    南","男","1"]
[null,4798,"玉置    舜(1)","ﾀﾏｷ ｼｭﾝ","甲    南","男","1"]
[null,4814,"藤原  有毅(1)","ﾌｼﾞﾜﾗ ﾕｳｷ","芦国中等","男","1"]
[null,null,null,null,null,"男","3"]
[null,null,null,null,null,"男","3"]
[null,null,null,null,null,"男","3"]
[null,null,null,null,null,"男","3"]
[null,null,null,null,null,"男","3"]
[null,null,null,null,null,"男","3"]
[null,null,null,null,null,"男","3"]
[null,null,null,null,null,"男","3"]
[null,null,null,null,null,"男","2"]
[null,null,null,null,null,"男","2"]
[null,null,null,null,null,"男","2"]
[null,null,null,null,null,"男","2"]
[null,null,null,null,null,"男","2"]
[null,null,null,null,null,"男","3"]
[null,null,null,null,null,"男","3"]
[null,null,null,null,null,"男","2"]
[null,null,null,null,null,"男","2"]
[null,null,null,null,null,"男","2"]
[null,null,null,null,null,"男","2"]
[null,null,null,null,null,"男","2"]
[null,null,null,null,null,"男","2"]
[null,null,null,null,null,"男","2"]
[null,null,null,null,null,"男","2"]
[null,null,null,null,null,"男","1"]
[null,null,null,null,null,"男","1"]
[null,null,null,null,null,"男","2"]
[null,null,null,null,null,"男","1"]
[null,null,null,null,null,"男","1"]
[null,null,null,null,null,"男","1"]
[null,null,null,null,null,"男","1"]
[null,null,null,null,null,"男","2"]
[null,null,null,null,null,"男","2"]
[null,null,null,null,null,"男","2"]
[null,null,null,null,null,"男","2"]
[null,null,null,null,null,"男","2"]
[null,null,null,null,null,"男","2"]
[null,null,null,null,null,"男","2"]
[null,null,null,null,null,"男","2"]
[null,null,null,null,null,"男","1"]
[null,null,null,null,null,"男","1"]
[null,null,null,null,null,"男","1"]
[null,null,null,null,null,"男","1"]
[null,null,null,null,null,"男","1"]
[null,null,null,null,null,"男","3"]
[null,null,null,null,null,"男","3"]
[null,null,null,null,null,"男","3"]
[null,null,null,null,null,"男","3"]
[null,null,null,null,null,"男","3"]
[null,null,null,null,null,"男","3"]
[null,null,null,null,null,"男","3"]
[null,null,null,null,null,"男","3"]
[null,null,null,null,null,"男","3"]
[null,null,null,null,null,"男","3"]
[null,null,null,null,null,"男","3"]
[null,null,null,null,null,"男","3"]
[null,null,null,null,null,"男","2"]
[null,null,null,null,null,"男","1"]
[null,null,null,null,null,"男","1"]
[null,null,null,null,null,"男","1"]
[null,null,null,null,null,"男","1"]
[null,null,null,null,null,"男","1"]
[null,null,null,null,null,"男","1"]
[null,null,null,null,null,"男","1"]
[null,null,null,null,null,"男","1"]
[null,null,null,null,null,"男","1"]
[null,null,null,null,null,"男","1"]
[null,null,null,null,null,"男","1"]
[null,null,null,null,null,"男","3"]
[null,null,null,null,null,"男","3"]
[null,null,null,null,null,"男","3"]
[null,null,null,null,null,"男","3"]
[null,null,null,null,null,"男","3"]
[null,null,null,null,null,"男","3"]
[null,null,null,null,null,"男","3"]
[null,null,null,null,null,"男","3"]
[null,null,null,null,null,"男","3"]
[null,null,null,null,null,"男","3"]
[null,null,null,null,null,"男","3"]
[null,null,null,null,null,"男","3"]
[null,null,null,null,null,"男","2"]
[null,null,null,null,null,"男","2"]
[null,null,null,null,null,"男","2"]
[null,null,null,null,null,"男","2"]
[null,null,null,null,null,"男","2"]
[null,null,null,null,null,"男","2"]
[null,null,null,null,null,"男","2"]
[null,null,null,null,null,"男","3"]
[null,null,null,null,null,"男","3"]
[null,null,null,null,null,"男","3"]
[null,null,null,null,null,"男","3"]
[null,null,null,null,null,"男","3"]
[null,null,null,null,null,"男","3"]
[null,null,null,null,null,"男","2"]
[null,null,null,null,null,"男","2"]
[null,null,null,null,null,"男","2"]
[null,null,null,null,null,"男","1"]
[null,null,null,null,null,"男","1"]
[null,null,null,null,null,"男","1"]
[null,null,null,null,null,"男","2"]
[null,null,null,null,null,"男","1"]
[null,null,null,null,null,"男","1"]
[null,null,null,null,null,"男","1"]
[null,null,null,null,null,"男","1"]
[null,null,null,null,null,"男","1"]
[null,null,null,null,null,"男","1"]
[null,null,null,null,null,"男","1"]
[null,null,null,null,null,"男","1"]
[null,null,null,null,null,"男","1"]
[null,null,null,null,null,"男","3"]
[null,null,null,null,null,"男","3"]
[null,null,null,null,null,"男","3"]
[null,null,null,null,null,"男","3"]
[null,null,null,null,null,"男","3"]
[null,null,null,null,null,"男","3"]
[null,null,null,null,null,"男","3"]
[null,null,null,null,null,"男","3"]
[null,null,null,null,null,"男","2"]
[null,null,null,null,null,"男","2"]
[null,null,null,null,null,"男","2"]
[null,null,null,null,null,"男","2"]
[null,null,null,null,null,"男","2"]
[null,null,null,null,null,"男","2"]
[null,null,null,null,null,"男","2"]
[null,null,null,null,null,"男","2"]
[null,null,null,null,null,"男","2"]
[null,null,null,null,null,"男","2"]
[null,null,null,null,null,"男","2"]
[null,null,null,null,null,"男","2"]
[null,null,null,null,null,"男","2"]
[null,null,null,null,null,"男","3"]
[null,null,null,null,null,"男","3"]
[null,null,null,null,null,"男","3"]
[null,null,null,null,null,"男","3"]
[null,null,null,null,null,"男","3"]
[null,null,null,null,null,"男","3"]
[null,null,null,null,null,"男","3"]
[null,null,null,null,null,"男","3"]
[null,null,null,null,null,"男","3"]
[null,null,null,null,null,"男","2"]
[null,null,null,null,null,"男","2"]
[null,null,null,null,null,"男","1"]
[null,null,null,null,null,"男","2"]
[null,null,null,null,null,"男","1"]
[null,null,null,null,null,"男","1"]
[null,null,null,null,null,"男","1"]
[null,null,null,null,null,"男","1"]
[null,null,null,null,null,"男","1"]
[null,null,null,null,null,"男","1"]
[null,null,null,null,null,"男","2"]
[null,null,null,null,null,"男","2"]
[null,null,null,null,null,"男","3"]
[null,null,null,null,null,"男","2"]
[null,null,null,null,null,"男","2"]
[null,null,null,null,null,"男"]
[null,null,null,null,null,"男"]
[null,null,null,null,null,"男"]
[null,null,null,null,null,"男"]
[null,null,null,null,null,"男"]
[null,null,null,null,null,"男"]
[null,null,null,null,null,"男"]
[null,null,null,null,null,"男"]
[null,null,null,null,null,"男"]
[null,null,null,null,null,"男"]
[null,null,null,null,null,"男"]
[null,null,null,null,null,"男"]
[null,null,null,null,null,"男"]
[null,null,null,null,null,"男"]
[null,null,null,null,null,"男"]
[null,null,null,null,null,"男"]
[null,null,null,null,null,"男"]
[null,null,null,null,null,"男"]
[null,null,null,null,null,"男"]
[null,null,null,null,null,"男"]
[null,null,null,null,null,"男"]
[null,null,null,null,null,"男"]
[null,null,null,null,null,"男"]
[null,null,null,null,null,"男"]
[null,null,null,null,null,"男"]
[null,null,null,null,null,"男"]
[null,null,null,null,null,"男"]
[null,null,null,null,null,"男"]
[null,null,null,null,null,"男"]
[null,null,null,null,null,"男"]
[]
[]
[]
[]
[]
[]
[null,"登録番号","氏名 学年","ﾌﾘｶﾞﾅ","学校名"]
[null,null,null,null,{"$f":"IF(B814=\"\",\"\",初期設定!$F$3)","v":""},null,null,null,"追加登録選手等、入力が反映されない選手はこちらに入力してください。"]
[null,null,null,null,{"$f":"IF(B815=\"\",\"\",初期設定!$F$3)","v":""},null,null,null,"氏名 学年は次のように入力してください。"]
[null,null,null,null,{"$f":"IF(B816=\"\",\"\",初期設定!$F$3)","v":""},null,null,null,"野比　玉子(1)　　ﾉﾋﾞ ﾀﾏｺ　　4文字の場合、姓と名の間に全角スペース"]
[null,null,null,null,{"$f":"IF(B817=\"\",\"\",初期設定!$F$3)","v":""},null,null,null,"野比のび太(1)　　ﾉﾋﾞ ﾉﾋﾞﾀ 　5文字以上は姓と名の間のスペース無し"]
[null,null,null,null,{"$f":"IF(B818=\"\",\"\",初期設定!$F$3)","v":""},null,null,null,"源　　静香(1)　　ﾐﾅﾓﾄ ｼｽﾞｶ　3文字の場合姓と名の間は全角スペース２つ"]
[null,null,null,null,{"$f":"IF(B819=\"\",\"\",初期設定!$F$3)","v":""},null,null,null,"剛田　　武(1)　　ｺﾞｳﾀﾞ ﾀｹｼ　〃"]
[null,null,null,null,{"$f":"IF(B820=\"\",\"\",初期設定!$F$3)","v":""},null,null,null,"ﾌﾘｶﾞﾅの姓と名の間には半角スペースを入力してください。"]
[null,null,null,null,{"$f":"IF(B821=\"\",\"\",初期設定!$F$3)","v":""}]
[null,null,null,null,{"$f":"IF(B822=\"\",\"\",初期設定!$F$3)","v":""}]
[null,null,null,null,{"$f":"IF(B823=\"\",\"\",初期設定!$F$3)","v":""}]
[null,null,null,null,{"$f":"IF(B824=\"\",\"\",初期設定!$F$3)","v":""}]
[null,null,null,null,{"$f":"IF(B825=\"\",\"\",初期設定!$F$3)","v":""}]
[null,null,null,null,{"$f":"IF(B826=\"\",\"\",初期設定!$F$3)","v":""}]
[null,null,null,null,{"$f":"IF(B827=\"\",\"\",初期設定!$F$3)","v":""}]
[null,null,null,null,{"$f":"IF(B828=\"\",\"\",初期設定!$F$3)","v":""}]
[null,null,null,null,{"$f":"IF(B829=\"\",\"\",初期設定!$F$3)","v":""}]
[null,null,null,null,{"$f":"IF(B830=\"\",\"\",初期設定!$F$3)","v":""}]
[null,null,null,null,{"$f":"IF(B831=\"\",\"\",初期設定!$F$3)","v":""}]
[null,null,null,null,{"$f":"IF(B832=\"\",\"\",初期設定!$F$3)","v":""}]
[null,null,null,null,{"$f":"IF(B833=\"\",\"\",初期設定!$F$3)","v":""}]
[null,null,null,null,{"$f":"IF(B834=\"\",\"\",初期設定!$F$3)","v":""}]
[null,null,null,null,{"$f":"IF(B835=\"\",\"\",初期設定!$F$3)","v":""}]
[null,null,null,null,{"$f":"IF(B836=\"\",\"\",初期設定!$F$3)","v":""}]
[null,null,null,null,{"$f":"IF(B837=\"\",\"\",初期設定!$F$3)","v":""}]
[null,null,null,null,{"$f":"IF(B838=\"\",\"\",初期設定!$F$3)","v":""}]
[null,null,null,null,{"$f":"IF(B839=\"\",\"\",初期設定!$F$3)","v":""}]
[null,null,null,null,{"$f":"IF(B840=\"\",\"\",初期設定!$F$3)","v":""}]
[null,null,null,null,{"$f":"IF(B841=\"\",\"\",初期設定!$F$3)","v":""}]
[null,null,null,null,{"$f":"IF(B842=\"\",\"\",初期設定!$F$3)","v":""}]
[null,null,null,null,{"$f":"IF(B843=\"\",\"\",初期設定!$F$3)","v":""}]

{"sheet":"男子申込","index":4,"n_rows":76,"n_cols":22,"rows_kept":76,"cut":false,"hidden":false,"merged":[[56,3,56,6],[56,8,56,9],[49,1,49,2],[49,3,49,5],[52,1,56,2],[52,3,52,6],[52,8,52,9],[53,3,53,6],[53,8,53,9],[49,9,49,11],[50,1,50,2],[50,3,50,5],[50,6,50,8],[50,9,50,11],[49,6,49,8],[54,3,54,6],[54,8,54,9],[55,3,55,6],[7,21,8,21],[55,8,55,9],[7,6,7,11],[8,8,8,10],[11,1,33,1],[21,2,22,2],[23,2,24,2],[10,17,10,19],[3,1,3,2],[3,4,3,18],[5,2,5,3],[5,5,5,11],[5,13,5,15],[5,16,5,20],[7,1,8,3],[7,13,8,15],[7,16,8,20],[4,17,4,18]]}
[]
[]
[]
[null,"男  子",null,null,{"$f":"初期設定!C4","v":"第78回　阪神高等学校ジュニア陸上競技対校選手権大会　申込書"}]
[null,null,null,null,null,null,null,null,null,null,null,null,null,null,null,null,null,"（様式1）"]
[null,"学校番号",{"$f":"初期設定!$C$2","v":0},null,"学　校　名",{"$f":"初期設定!$C$3","v":""},null,null,null,null,null,null,null,"学校長氏名",null,null,{"$f":"初期設定!C8","v":0},null,null,null,null,"印"]
[]
[null,"学校所在地",null,null,{"$f":"CONCATENATE(学校番号!I2,初期設定!C5)","v":"〒"},null,{"$f":"初期設定!C7","v":""},null,null,null,null,null,null,"顧問氏名",null,null,{"$f":"初期設定!C9","v":0},null,null,null,null,"印"]
[null,null,null,null,null,null,null,"℡",{"$f":"初期設定!C6","v":""}]
[]
[null,"性","種    目","ナンバー","氏　名 /学年","記　録","ナンバー","氏　名 /学年","記　録","ナンバー","氏　名 /学年","記　録",null,"No","性","ﾅﾝﾊﾞ-","氏　名/学年","申 込 種 目",null,null,"400mR","1600mR"]
[null,"男　　　　　   子","100m",{"$f":"記録入力!$J4","v":""},{"$f":"記録入力!$K4","v":""},{"$f":"記録入力!$I4","v":""},{"$f":"記録入力!$J5","v":""},{"$f":"記録入力!$K5","v":""},{"$f":"記録入力!$I5","v":""},{"$f":"記録入力!$J6","v":""},{"$f":"記録入力!$K6","v":""},{"$f":"記録入力!$I6","v":""},null,1,{"$f":"IF(P12=\"\",\"\",\"男\")","v":""},{"$f":"IF(ISERROR(データ完成!C3),\"\",(データ完成!C3))","v":""},{"$f":"IF(ISERROR(データ完成!D3),\"\",データ完成!D3)","v":""},{"$f":"IF(ISERROR(データ完成!E3),\"\",データ完成!E3)","v":""},{"$f":"IF(ISERROR(データ完成!F3),\"\",データ完成!F3)","v":""},{"$f":"IF(ISERROR(データ完成!G3),\"\",データ完成!G3)","v":""},{"$f":"IF(ISERROR(データ完成!J3),\"\",データ完成!J3)","v":""},{"$f":"IF(ISERROR(データ完成!K3),\"\",データ完成!K3)","v":""}]
[null,null,"200m",{"$f":"記録入力!$J7","v":""},{"$f":"記録入力!$K7","v":""},{"$f":"記録入力!$I7","v":""},{"$f":"記録入力!$J8","v":""},{"$f":"記録入力!$K8","v":""},{"$f":"記録入力!$I8","v":""},{"$f":"記録入力!$J9","v":""},{"$f":"記録入力!$K9","v":""},{"$f":"記録入力!$I9","v":""},null,2,{"$f":"IF(P13=\"\",\"\",\"男\")","v":""},{"$f":"IF(ISERROR(データ完成!C4),\"\",(データ完成!C4))","v":""},{"$f":"IF(ISERROR(データ完成!D4),\"\",データ完成!D4)","v":""},{"$f":"データ完成!E4","v":""},{"$f":"データ完成!F4","v":""},{"$f":"データ完成!G4","v":""},{"$f":"IF(ISERROR(データ完成!J4),\"\",データ完成!J4)","v":""},{"$f":"IF(ISERROR(データ完成!K4),\"\",データ完成!K4)","v":""}]
[null,null,"400m",{"$f":"記録入力!$J10","v":""},{"$f":"記録入力!$K10","v":""},{"$f":"記録入力!$I10","v":""},{"$f":"記録入力!$J11","v":""},{"$f":"記録入力!$K11","v":""},{"$f":"記録入力!$I11","v":""},{"$f":"記録入力!$J12","v":""},{"$f":"記録入力!$K12","v":""},{"$f":"記録入力!$I12","v":""},null,3,"",{"$f":"IF(ISERROR(データ完成!C5),\"\",(データ完成!C5))","v":""},{"$f":"IF(ISERROR(データ完成!D5),\"\",データ完成!D5)","v":""},{"$f":"データ完成!E5","v":""},{"$f":"データ完成!F5","v":""},{"$f":"データ完成!G5","v":""},{"$f":"IF(ISERROR(データ完成!J5),\"\",データ完成!J5)","v":""},{"$f":"IF(ISERROR(データ完成!K5),\"\",データ完成!K5)","v":""}]
[null,null,"800m",{"$f":"記録入力!$J13","v":""},{"$f":"記録入力!$K13","v":""},{"$f":"記録入力!$I13","v":""},{"$f":"記録入力!$J14","v":""},{"$f":"記録入力!$K14","v":""},{"$f":"記録入力!$I14","v":""},{"$f":"記録入力!$J15","v":""},{"$f":"記録入力!$K15","v":""},{"$f":"記録入力!$I15","v":""},null,4,"",{"$f":"IF(ISERROR(データ完成!C6),\"\",(データ完成!C6))","v":""},{"$f":"IF(ISERROR(データ完成!D6),\"\",データ完成!D6)","v":""},{"$f":"データ完成!E6","v":""},{"$f":"データ完成!F6","v":""},{"$f":"データ完成!G6","v":""},{"$f":"IF(ISERROR(データ完成!J6),\"\",データ完成!J6)","v":""},{"$f":"IF(ISERROR(データ完成!K6),\"\",データ完成!K6)","v":""}]
[null,null,"1500m",{"$f":"記録入力!$J16","v":""},{"$f":"記録入力!$K16","v":""},{"$f":"記録入力!$I16","v":""},{"$f":"記録入力!$J17","v":""},{"$f":"記録入力!$K17","v":""},{"$f":"記録入力!$I17","v":""},{"$f":"記録入力!$J18","v":""},{"$f":"記録入力!$K18","v":""},{"$f":"記録入力!$I18","v":""},null,5,"",{"$f":"IF(ISERROR(データ完成!C7),\"\",(データ完成!C7))","v":""},{"$f":"IF(ISERROR(データ完成!D7),\"\",データ完成!D7)","v":""},{"$f":"データ完成!E7","v":""},{"$f":"データ完成!F7","v":""},{"$f":"データ完成!G7","v":""},{"$f":"IF(ISERROR(データ完成!J7),\"\",データ完成!J7)","v":""},{"$f":"IF(ISERROR(データ完成!K7),\"\",データ完成!K7)","v":""}]
[null,null,"5000m",{"$f":"記録入力!$J19","v":""},{"$f":"記録入力!$K19","v":""},{"$f":"記録入力!$I19","v":""},{"$f":"記録入力!$J20","v":""},{"$f":"記録入力!$K20","v":""},{"$f":"記録入力!$I20","v":""},{"$f":"記録入力!$J21","v":""},{"$f":"記録入力!$K21","v":""},{"$f":"記録入力!$I21","v":""},null,6,"",{"$f":"IF(ISERROR(データ完成!C8),\"\",(データ完成!C8))","v":""},{"$f":"IF(ISERROR(データ完成!D8),\"\",データ完成!D8)","v":""},{"$f":"データ完成!E8","v":""},{"$f":"データ完成!F8","v":""},{"$f":"データ完成!G8","v":""},{"$f":"IF(ISERROR(データ完成!J8),\"\",データ完成!J8)","v":""},{"$f":"IF(ISERROR(データ完成!K8),\"\",データ完成!K8)","v":""}]
[null,null,"110mH",{"$f":"記録入力!$J22","v":""},{"$f":"記録入力!$K22","v":""},{"$f":"記録入力!$I22","v":""},{"$f":"記録入力!$J23","v":""},{"$f":"記録入力!$K23","v":""},{"$f":"記録入力!$I23","v":""},{"$f":"記録入力!$J24","v":""},{"$f":"記録入力!$K24","v":""},{"$f":"記録入力!$I24","v":""},null,7,"",{"$f":"IF(ISERROR(データ完成!C9),\"\",(データ完成!C9))","v":""},{"$f":"IF(ISERROR(データ完成!D9),\"\",データ完成!D9)","v":""},{"$f":"データ完成!E9","v":""},{"$f":"データ完成!F9","v":""},{"$f":"データ完成!G9","v":""},{"$f":"IF(ISERROR(データ完成!J9),\"\",データ完成!J9)","v":""},{"$f":"IF(ISERROR(データ完成!K9),\"\",データ完成!K9)","v":""}]
[null,null,"400mH",{"$f":"記録入力!$J25","v":""},{"$f":"記録入力!$K25","v":""},{"$f":"記録入力!$I25","v":""},{"$f":"記録入力!$J26","v":""},{"$f":"記録入力!$K26","v":""},{"$f":"記録入力!$I26","v":""},{"$f":"記録入力!$J27","v":""},{"$f":"記録入力!$K27","v":""},{"$f":"記録入力!$I27","v":""},null,8,"",{"$f":"IF(ISERROR(データ完成!C10),\"\",(データ完成!C10))","v":""},{"$f":"IF(ISERROR(データ完成!D10),\"\",データ完成!D10)","v":""},{"$f":"データ完成!E10","v":""},{"$f":"データ完成!F10","v":""},{"$f":"データ完成!G10","v":""},{"$f":"IF(ISERROR(データ完成!J10),\"\",データ完成!J10)","v":""},{"$f":"IF(ISERROR(データ完成!K10),\"\",データ完成!K10)","v":""}]
[null,null,"3000mS･C",{"$f":"記録入力!$J28","v":""},{"$f":"記録入力!$K28","v":""},{"$f":"記録入力!$I28","v":""},{"$f":"記録入力!$J29","v":""},{"$f":"記録入力!$K29","v":""},{"$f":"記録入力!$I29","v":""},{"$f":"記録入力!$J30","v":""},{"$f":"記録入力!$K30","v":""},{"$f":"記録入力!$I30","v":""},null,9,"",{"$f":"IF(ISERROR(データ完成!C11),\"\",(データ完成!C11))","v":""},{"$f":"IF(ISERROR(データ完成!D11),\"\",データ完成!D11)","v":""},{"$f":"データ完成!E11","v":""},{"$f":"データ完成!F11","v":""},{"$f":"データ完成!G11","v":""},{"$f":"IF(ISERROR(データ完成!J11),\"\",データ完成!J11)","v":""},{"$f":"IF(ISERROR(データ完成!K11),\"\",データ完成!K11)","v":""}]
[null,null,"5000mW",{"$f":"記録入力!$J31","v":""},{"$f":"記録入力!$K31","v":""},{"$f":"記録入力!$I31","v":""},{"$f":"記録入力!$J32","v":""},{"$f":"記録入力!$K32","v":""},{"$f":"記録入力!$I32","v":""},{"$f":"記録入力!$J33","v":""},{"$f":"記録入力!$K33","v":""},{"$f":"記録入力!$I33","v":""},null,10,"",{"$f":"IF(ISERROR(データ完成!C12),\"\",(データ完成!C12))","v":""},{"$f":"IF(ISERROR(データ完成!D12),\"\",データ完成!D12)","v":""},{"$f":"データ完成!E12","v":""},{"$f":"データ完成!F12","v":""},{"$f":"データ完成!G12","v":""},{"$f":"IF(ISERROR(データ完成!J12),\"\",データ完成!J12)","v":""},{"$f":"IF(ISERROR(データ完成!K12),\"\",データ完成!K12)","v":""}]
[null,null,"4×100m",{"$f":"記録入力!J61","v":""},{"$f":"記録入力!K61","v":""},{"$f":"記録入力!I61","v":""},{"$f":"記録入力!J62","v":""},{"$f":"記録入力!K62","v":""},null,{"$f":"記録入力!J63","v":""},{"$f":"記録入力!K63","v":""},null,null,11,"",{"$f":"IF(ISERROR(データ完成!C13),\"\",(データ完成!C13))","v":""},{"$f":"IF(ISERROR(データ完成!D13),\"\",データ完成!D13)","v":""},{"$f":"データ完成!E13","v":""},{"$f":"データ完成!F13","v":""},{"$f":"データ完成!G13","v":""},{"$f":"IF(ISERROR(データ完成!J13),\"\",データ完成!J13)","v":""},{"$f":"IF(ISERROR(データ完成!K13),\"\",データ完成!K13)","v":""}]
[null,null,null,{"$f":"記録入力!J64","v":""},{"$f":"記録入力!K64","v":""},null,{"$f":"記録入力!J65","v":""},{"$f":"記録入力!K65","v":""},null,{"$f":"記録入力!J66","v":""},{"$f":"記録入力!K66","v":""},null,null,12,"",{"$f":"IF(ISERROR(データ完成!C14),\"\",(データ完成!C14))","v":""},{"$f":"IF(ISERROR(データ完成!D14),\"\",データ完成!D14)","v":""},{"$f":"データ完成!E14","v":""},{"$f":"データ完成!F14","v":""},{"$f":"データ完成!G14","v":""},{"$f":"IF(ISERROR(データ完成!J14),\"\",データ完成!J14)","v":""},{"$f":"IF(ISERROR(データ完成!K14),\"\",データ完成!K14)","v":""}]
[null,null,"4×400m",{"$f":"記録入力!J67","v":""},{"$f":"記録入力!K67","v":""},{"$f":"記録入力!I67","v":""},{"$f":"記録入力!J68","v":""},{"$f":"記録入力!K68","v":""},null,{"$f":"記録入力!J69","v":""},{"$f":"記録入力!K69","v":""},null,null,13,"",{"$f":"IF(ISERROR(データ完成!C15),\"\",(データ完成!C15))","v":""},{"$f":"IF(ISERROR(データ完成!D15),\"\",データ完成!D15)","v":""},{"$f":"データ完成!E15","v":""},{"$f":"データ完成!F15","v":""},{"$f":"データ完成!G15","v":""},{"$f":"IF(ISERROR(データ完成!J15),\"\",データ完成!J15)","v":""},{"$f":"IF(ISERROR(データ完成!K15),\"\",データ完成!K15)","v":""}]
[null,null,null,{"$f":"記録入力!J70","v":""},{"$f":"記録入力!K70","v":""},null,{"$f":"記録入力!J71","v":""},{"$f":"記録入力!K71","v":""},null,{"$f":"記録入力!J72","v":""},{"$f":"記録入力!K72","v":""},null,null,14,"",{"$f":"IF(ISERROR(データ完成!C16),\"\",(データ完成!C16))","v":""},{"$f":"IF(ISERROR(データ完成!D16),\"\",データ完成!D16)","v":""},{"$f":"データ完成!E16","v":""},{"$f":"データ完成!F16","v":""},{"$f":"データ完成!G16","v":""},{"$f":"IF(ISERROR(データ完成!J16),\"\",データ完成!J16)","v":""},{"$f":"IF(ISERROR(データ完成!K16),\"\",データ完成!K16)","v":""}]
[null,null,"走 高 跳",{"$f":"記録入力!$J34","v":""},{"$f":"記録入力!$K34","v":""},{"$f":"記録入力!$I34","v":""},{"$f":"記録入力!$J35","v":""},{"$f":"記録入力!$K35","v":""},{"$f":"記録入力!$I35","v":""},{"$f":"記録入力!$J36","v":""},{"$f":"記録入力!$K36","v":""},{"$f":"記録入力!$I36","v":""},null,15,"",{"$f":"IF(ISERROR(データ完成!C17),\"\",(データ完成!C17))","v":""},{"$f":"IF(ISERROR(データ完成!D17),\"\",データ完成!D17)","v":""},{"$f":"データ完成!E17","v":""},{"$f":"データ完成!F17","v":""},{"$f":"データ完成!G17","v":""},{"$f":"IF(ISERROR(データ完成!J17),\"\",データ完成!J17)","v":""},{"$f":"IF(ISERROR(データ完成!K17),\"\",データ完成!K17)","v":""}]
[null,null,"棒 高 跳",{"$f":"記録入力!$J37","v":""},{"$f":"記録入力!$K37","v":""},{"$f":"記録入力!$I37","v":""},{"$f":"記録入力!$J38","v":""},{"$f":"記録入力!$K38","v":""},{"$f":"記録入力!$I38","v":""},{"$f":"記録入力!$J39","v":""},{"$f":"記録入力!$K39","v":""},{"$f":"記録入力!$I39","v":""},null,16,"",{"$f":"IF(ISERROR(データ完成!C18),\"\",(データ完成!C18))","v":""},{"$f":"IF(ISERROR(データ完成!D18),\"\",データ完成!D18)","v":""},{"$f":"データ完成!E18","v":""},{"$f":"データ完成!F18","v":""},{"$f":"データ完成!G18","v":""},{"$f":"IF(ISERROR(データ完成!J18),\"\",データ完成!J18)","v":""},{"$f":"IF(ISERROR(データ完成!K18),\"\",データ完成!K18)","v":""}]
[null,null,"走 幅 跳",{"$f":"記録入力!$J40","v":""},{"$f":"記録入力!$K40","v":""},{"$f":"記録入力!$I40","v":""},{"$f":"記録入力!$J41","v":""},{"$f":"記録入力!$K41","v":""},{"$f":"記録入力!$I41","v":""},{"$f":"記録入力!$J42","v":""},{"$f":"記録入力!$K42","v":""},{"$f":"記録入力!$I42","v":""},null,17,"",{"$f":"IF(ISERROR(データ完成!C19),\"\",(データ完成!C19))","v":""},{"$f":"IF(ISERROR(データ完成!D19),\"\",データ完成!D19)","v":""},{"$f":"データ完成!E19","v":""},{"$f":"データ完成!F19","v":""},{"$f":"データ完成!G19","v":""},{"$f":"IF(ISERROR(データ完成!J19),\"\",データ完成!J19)","v":""},{"$f":"IF(ISERROR(データ完成!K19),\"\",データ完成!K19)","v":""}]
[null,null,"三 段 跳",{"$f":"記録入力!$J43","v":""},{"$f":"記録入力!$K43","v":""},{"$f":"記録入力!$I43","v":""},{"$f":"記録入力!$J44","v":""},{"$f":"記録入力!$K44","v":""},{"$f":"記録入力!$I44","v":""},{"$f":"記録入力!$J45","v":""},{"$f":"記録入力!$K45","v":""},{"$f":"記録入力!$I45","v":""},null,18,"",{"$f":"IF(ISERROR(データ完成!C20),\"\",(データ完成!C20))","v":""},{"$f":"IF(ISERROR(データ完成!D20),\"\",データ完成!D20)","v":""},{"$f":"データ完成!E20","v":""},{"$f":"データ完成!F20","v":""},{"$f":"データ完成!G20","v":""},{"$f":"IF(ISERROR(データ完成!J20),\"\",データ完成!J20)","v":""},{"$f":"IF(ISERROR(データ完成!K20),\"\",データ完成!K20)","v":""}]
[null,null,"砲 丸 投",{"$f":"記録入力!$J46","v":""},{"$f":"記録入力!$K46","v":""},{"$f":"記録入力!$I46","v":""},{"$f":"記録入力!$J47","v":""},{"$f":"記録入力!$K47","v":""},{"$f":"記録入力!$I47","v":""},{"$f":"記録入力!$J48","v":""},{"$f":"記録入力!$K48","v":""},{"$f":"記録入力!$I48","v":""},null,19,"",{"$f":"IF(ISERROR(データ完成!C21),\"\",(データ完成!C21))","v":""},{"$f":"IF(ISERROR(データ完成!D21),\"\",データ完成!D21)","v":""},{"$f":"データ完成!E21","v":""},{"$f":"データ完成!F21","v":""},{"$f":"データ完成!G21","v":""},{"$f":"IF(ISERROR(データ完成!J21),\"\",データ完成!J21)","v":""},{"$f":"IF(ISERROR(データ完成!K21),\"\",データ完成!K21)","v":""}]
[null,null,"円 盤 投",{"$f":"記録入力!$J49","v":""},{"$f":"記録入力!$K49","v":""},{"$f":"記録入力!$I49","v":""},{"$f":"記録入力!$J50","v":""},{"$f":"記録入力!$K50","v":""},{"$f":"記録入力!$I50","v":""},{"$f":"記録入力!$J51","v":""},{"$f":"記録入力!$K51","v":""},{"$f":"記録入力!$I51","v":""},null,20,"",{"$f":"IF(ISERROR(データ完成!C22),\"\",(データ完成!C22))","v":""},{"$f":"IF(ISERROR(データ完成!D22),\"\",データ完成!D22)","v":""},{"$f":"データ完成!E22","v":""},{"$f":"データ完成!F22","v":""},{"$f":"データ完成!G22","v":""},{"$f":"IF(ISERROR(データ完成!J22),\"\",データ完成!J22)","v":""},{"$f":"IF(ISERROR(データ完成!K22),\"\",データ完成!K22)","v":""}]
[null,null,"ﾊﾝﾏｰ投",{"$f":"記録入力!$J52","v":""},{"$f":"記録入力!$K52","v":""},{"$f":"記録入力!$I52","v":""},{"$f":"記録入力!$J53","v":""},{"$f":"記録入力!$K53","v":""},{"$f":"記録入力!$I53","v":""},{"$f":"記録入力!$J54","v":""},{"$f":"記録入力!$K54","v":""},{"$f":"記録入力!$I54","v":""},null,21,"",{"$f":"IF(ISERROR(データ完成!C23),\"\",(データ完成!C23))","v":""},{"$f":"IF(ISERROR(データ完成!D23),\"\",データ完成!D23)","v":""},{"$f":"データ完成!E23","v":""},{"$f":"データ完成!F23","v":""},{"$f":"データ完成!G23","v":""},{"$f":"IF(ISERROR(データ完成!J23),\"\",データ完成!J23)","v":""},{"$f":"IF(ISERROR(データ完成!K23),\"\",データ完成!K23)","v":""}]
[null,null,"や り 投",{"$f":"記録入力!$J55","v":""},{"$f":"記録入力!$K55","v":""},{"$f":"記録入力!$I55","v":""},{"$f":"記録入力!$J56","v":""},{"$f":"記録入力!$K56","v":""},{"$f":"記録入力!$I56","v":""},{"$f":"記録入力!$J57","v":""},{"$f":"記録入力!$K57","v":""},{"$f":"記録入力!$I57","v":""},null,22,"",{"$f":"IF(ISERROR(データ完成!C24),\"\",(データ完成!C24))","v":""},{"$f":"IF(ISERROR(データ完成!D24),\"\",データ完成!D24)","v":""},{"$f":"データ完成!E24","v":""},{"$f":"データ完成!F24","v":""},{"$f":"データ完成!G24","v":""},{"$f":"IF(ISERROR(データ完成!J24),\"\",データ完成!J24)","v":""},{"$f":"IF(ISERROR(データ完成!K24),\"\",データ完成!K24)","v":""}]
[null,null,"八種競技",{"$f":"記録入力!$J58","v":""},{"$f":"記録入力!$K58","v":""},{"$f":"記録入力!$I58","v":""},{"$f":"記録入力!$J59","v":""},{"$f":"記録入力!$K59","v":""},{"$f":"記録入力!$I59","v":""},{"$f":"記録入力!$J60","v":""},{"$f":"記録入力!$K60","v":""},{"$f":"記録入力!$I60","v":""},null,23,"",{"$f":"IF(ISERROR(データ完成!C25),\"\",(データ完成!C25))","v":""},{"$f":"IF(ISERROR(データ完成!D25),\"\",データ完成!D25)","v":""},{"$f":"データ完成!E25","v":""},{"$f":"データ完成!F25","v":""},{"$f":"データ完成!G25","v":""},{"$f":"IF(ISERROR(データ完成!J25),\"\",データ完成!J25)","v":""},{"$f":"IF(ISERROR(データ完成!K25),\"\",データ完成!K25)","v":""}]
[null,null,null,null,null,null,null,null,null,null,null,null,null,24,"",{"$f":"IF(ISERROR(データ完成!C26),\"\",(データ完成!C26))","v":""},{"$f":"IF(ISERROR(データ完成!D26),\"\",データ完成!D26)","v":""},{"$f":"データ完成!E26","v":""},{"$f":"データ完成!F26","v":""},{"$f":"データ完成!G26","v":""},{"$f":"IF(ISERROR(データ完成!J26),\"\",データ完成!J26)","v":""},{"$f":"IF(ISERROR(データ完成!K26),\"\",データ完成!K26)","v":""}]
[null,null,null,null,null,null,null,null,null,null,null,null,null,25,"",{"$f":"IF(ISERROR(データ完成!C27),\"\",(データ完成!C27))","v":""},{"$f":"IF(ISERROR(データ完成!D27),\"\",データ完成!D27)","v":""},{"$f":"データ完成!E27","v":""},{"$f":"データ完成!F27","v":""},{"$f":"データ完成!G27","v":""},{"$f":"IF(ISERROR(データ完成!J27),\"\",データ完成!J27)","v":""},{"$f":"IF(ISERROR(データ完成!K27),\"\",データ完成!K27)","v":""}]
[null,null,null,null,null,null,null,null,null,null,null,null,null,26,"",{"$f":"IF(ISERROR(データ完成!C28),\"\",(データ完成!C28))","v":""},{"$f":"IF(ISERROR(データ完成!D28),\"\",データ完成!D28)","v":""},{"$f":"データ完成!E28","v":""},{"$f":"データ完成!F28","v":""},{"$f":"データ完成!G28","v":""},{"$f":"IF(ISERROR(データ完成!J28),\"\",データ完成!J28)","v":""},{"$f":"IF(ISERROR(データ完成!K28),\"\",データ完成!K28)","v":""}]
[null,null,null,null,null,null,null,null,null,null,null,null,null,27,"",{"$f":"IF(ISERROR(データ完成!C29),\"\",(データ完成!C29))","v":""},{"$f":"IF(ISERROR(データ完成!D29),\"\",データ完成!D29)","v":""},{"$f":"データ完成!E29","v":""},{"$f":"データ完成!F29","v":""},{"$f":"データ完成!G29","v":""},{"$f":"IF(ISERROR(データ完成!J29),\"\",データ完成!J29)","v":""},{"$f":"IF(ISERROR(データ完成!K29),\"\",データ完成!K29)","v":""}]
[null,null,null,null,null,null,null,null,null,null,null,null,null,28,"",{"$f":"IF(ISERROR(データ完成!C30),\"\",(データ完成!C30))","v":""},{"$f":"IF(ISERROR(データ完成!D30),\"\",データ完成!D30)","v":""},{"$f":"データ完成!E30","v":""},{"$f":"データ完成!F30","v":""},{"$f":"データ完成!G30","v":""},{"$f":"IF(ISERROR(データ完成!J30),\"\",データ完成!J30)","v":""},{"$f":"IF(ISERROR(データ完成!K30),\"\",データ完成!K30)","v":""}]
[null,null,null,null,null,null,null,null,null,null,null,null,null,29,"",{"$f":"IF(ISERROR(データ完成!C31),\"\",(データ完成!C31))","v":""},{"$f":"IF(ISERROR(データ完成!D31),\"\",データ完成!D31)","v":""},{"$f":"データ完成!E31","v":""},{"$f":"データ完成!F31","v":""},{"$f":"データ完成!G31","v":""},{"$f":"IF(ISERROR(データ完成!J31),\"\",データ完成!J31)","v":""},{"$f":"IF(ISERROR(データ完成!K31),\"\",データ完成!K31)","v":""}]
[null,null,null,null,null,null,null,null,null,null,null,null,null,30,"",{"$f":"IF(ISERROR(データ完成!C32),\"\",(データ完成!C32))","v":""},{"$f":"IF(ISERROR(データ完成!D32),\"\",データ完成!D32)","v":""},{"$f":"データ完成!E32","v":""},{"$f":"データ完成!F32","v":""},{"$f":"データ完成!G32","v":""},{"$f":"IF(ISERROR(データ完成!J32),\"\",データ完成!J32)","v":""},{"$f":"IF(ISERROR(データ完成!K32),\"\",データ完成!K32)","v":""}]
[null,null,null,null,null,null,null,null,null,null,null,null,null,31,"",{"$f":"IF(ISERROR(データ完成!C33),\"\",(データ完成!C33))","v":""},{"$f":"IF(ISERROR(データ完成!D33),\"\",データ完成!D33)","v":""},{"$f":"データ完成!E33","v":""},{"$f":"データ完成!F33","v":""},{"$f":"データ完成!G33","v":""},{"$f":"IF(ISERROR(データ完成!J33),\"\",データ完成!J33)","v":""},{"$f":"IF(ISERROR(データ完成!K33),\"\",データ完成!K33)","v":""}]
[null,null,null,null,null,null,null,null,null,null,null,null,null,32,"",{"$f":"IF(ISERROR(データ完成!C34),\"\",(データ完成!C34))","v":""},{"$f":"IF(ISERROR(データ完成!D34),\"\",データ完成!D34)","v":""},{"$f":"データ完成!E34","v":""},{"$f":"データ完成!F34","v":""},{"$f":"データ完成!G34","v":""},{"$f":"IF(ISERROR(データ完成!J34),\"\",データ完成!J34)","v":""},{"$f":"IF(ISERROR(データ完成!K34),\"\",データ完成!K34)","v":""}]
[null,null,null,null,null,null,null,null,null,null,null,null,null,33,"",{"$f":"IF(ISERROR(データ完成!C35),\"\",(データ完成!C35))","v":""},{"$f":"IF(ISERROR(データ完成!D35),\"\",データ完成!D35)","v":""},{"$f":"データ完成!E35","v":""},{"$f":"データ完成!F35","v":""},{"$f":"データ完成!G35","v":""},{"$f":"IF(ISERROR(データ完成!J35),\"\",データ完成!J35)","v":""},{"$f":"IF(ISERROR(データ完成!K35),\"\",データ完成!K35)","v":""}]
[null,null,null,null,null,null,null,null,null,null,null,null,null,34,"",{"$f":"IF(ISERROR(データ完成!C36),\"\",(データ完成!C36))","v":""},{"$f":"IF(ISERROR(データ完成!D36),\"\",データ完成!D36)","v":""},{"$f":"データ完成!E36","v":""},{"$f":"データ完成!F36","v":""},{"$f":"データ完成!G36","v":""},{"$f":"IF(ISERROR(データ完成!J36),\"\",データ完成!J36)","v":""},{"$f":"IF(ISERROR(データ完成!K36),\"\",データ完成!K36)","v":""}]
[null,null,null,null,null,null,null,null,null,null,null,null,null,35,{"$f":"IF(P46=\"\",\"\",\"男\")","v":""},{"$f":"IF(ISERROR(データ完成!C37),\"\",(データ完成!C37))","v":""},{"$f":"IF(ISERROR(データ完成!D37),\"\",データ完成!D37)","v":""},{"$f":"データ完成!E37","v":""},{"$f":"データ完成!F37","v":""},{"$f":"データ完成!G37","v":""},{"$f":"IF(ISERROR(データ完成!J37),\"\",データ完成!J37)","v":""},{"$f":"IF(ISERROR(データ完成!K37),\"\",データ完成!K37)","v":""}]
[null,null,null,null,null,null,null,null,null,null,null,null,null,36,"",{"$f":"IF(ISERROR(データ完成!C38),\"\",(データ完成!C38))","v":""},{"$f":"IF(ISERROR(データ完成!D38),\"\",データ完成!D38)","v":""},{"$f":"データ完成!E38","v":""},{"$f":"データ完成!F38","v":""},{"$f":"データ完成!G38","v":""},{"$f":"IF(ISERROR(データ完成!J38),\"\",データ完成!J38)","v":""},{"$f":"IF(ISERROR(データ完成!K38),\"\",データ完成!K38)","v":""}]
[null,null,null,null,null,null,null,null,null,null,null,null,null,37,"",{"$f":"IF(ISERROR(データ完成!C39),\"\",(データ完成!C39))","v":""},{"$f":"IF(ISERROR(データ完成!D39),\"\",データ完成!D39)","v":""},{"$f":"データ完成!E39","v":""},{"$f":"データ完成!F39","v":""},{"$f":"データ完成!G39","v":""},{"$f":"IF(ISERROR(データ完成!J39),\"\",データ完成!J39)","v":""},{"$f":"IF(ISERROR(データ完成!K39),\"\",データ完成!K39)","v":""}]
[null,null,null,null,null,null,null,null,null,null,null,null,null,38,"",{"$f":"IF(ISERROR(データ完成!C40),\"\",(データ完成!C40))","v":""},{"$f":"IF(ISERROR(データ完成!D40),\"\",データ完成!D40)","v":""},{"$f":"データ完成!E40","v":""},{"$f":"データ完成!F40","v":""},{"$f":"データ完成!G40","v":""},{"$f":"IF(ISERROR(データ完成!J40),\"\",データ完成!J40)","v":""},{"$f":"IF(ISERROR(データ完成!K40),\"\",データ完成!K40)","v":""}]
[null,"申込人数",null,"男　　　　　子",null,null,"女　　　　　子",null,null,"合　　　　　計",null,null,null,39,"",{"$f":"IF(ISERROR(データ完成!C41),\"\",(データ完成!C41))","v":""},{"$f":"IF(ISERROR(データ完成!D41),\"\",データ完成!D41)","v":""},{"$f":"データ完成!E41","v":""},{"$f":"データ完成!F41","v":""},{"$f":"データ完成!G41","v":""},{"$f":"IF(ISERROR(データ完成!J41),\"\",データ完成!J41)","v":""},{"$f":"IF(ISERROR(データ完成!K41),\"\",データ完成!K41)","v":""}]
[null,"男　　子",null,{"$f":"初期設定!D16&\"   人\"","v":"0   人"},null,null,{"$f":"初期設定!D17&\"   人\"","v":"   人"},null,null,{"$f":"初期設定!D18&\"   人\"","v":"0   人"},null,null,null,40,"",{"$f":"IF(ISERROR(データ完成!C42),\"\",(データ完成!C42))","v":""},{"$f":"IF(ISERROR(データ完成!D42),\"\",データ完成!D42)","v":""},{"$f":"データ完成!E42","v":""},{"$f":"データ完成!F42","v":""},{"$f":"データ完成!G42","v":""},{"$f":"IF(ISERROR(データ完成!J42),\"\",データ完成!J42)","v":""},{"$f":"IF(ISERROR(データ完成!K42),\"\",データ完成!K42)","v":""}]
[null,null,null,null,null,null,null,null,null,null,null,null,null,41,"",{"$f":"IF(ISERROR(データ完成!C43),\"\",(データ完成!C43))","v":""},{"$f":"IF(ISERROR(データ完成!D43),\"\",データ完成!D43)","v":""},{"$f":"データ完成!E43","v":""},{"$f":"データ完成!F43","v":""},{"$f":"データ完成!G43","v":""},{"$f":"IF(ISERROR(データ完成!J43),\"\",データ完成!J43)","v":""},{"$f":"IF(ISERROR(データ完成!K43),\"\",データ完成!K43)","v":""}]
[null,"推薦審判員　　　確実に出席できる　　審判員を記入のこと",null,"氏　　　　　　名",null,null,null,"年　　齢","審判資格",null,null,null,null,42,"",{"$f":"IF(ISERROR(データ完成!C44),\"\",(データ完成!C44))","v":""},{"$f":"IF(ISERROR(データ完成!D44),\"\",データ完成!D44)","v":""},{"$f":"データ完成!E44","v":""},{"$f":"データ完成!F44","v":""},{"$f":"データ完成!G44","v":""},{"$f":"IF(ISERROR(データ完成!J44),\"\",データ完成!J44)","v":""},{"$f":"IF(ISERROR(データ完成!K44),\"\",データ完成!K44)","v":""}]
[null,null,null,{"$f":"IF(初期設定!C11=\"\",\"\",初期設定!C11)","v":""},null,null,null,{"$f":"IF(初期設定!D11=\"\",\"\",初期設定!D11)","v":""},{"$f":"IF(初期設定!E11=\"\",\"\",初期設定!E11)","v":""},null,null,null,null,43,"",{"$f":"IF(ISERROR(データ完成!C45),\"\",(データ完成!C45))","v":""},{"$f":"IF(ISERROR(データ完成!D45),\"\",データ完成!D45)","v":""},{"$f":"データ完成!E45","v":""},{"$f":"データ完成!F45","v":""},{"$f":"データ完成!G45","v":""},{"$f":"IF(ISERROR(データ完成!J45),\"\",データ完成!J45)","v":""},{"$f":"IF(ISERROR(データ完成!K45),\"\",データ完成!K45)","v":""}]
[null,null,null,{"$f":"IF(初期設定!C12=\"\",\"\",初期設定!C12)","v":""},null,null,null,{"$f":"IF(初期設定!D12=\"\",\"\",初期設定!D12)","v":""},{"$f":"IF(初期設定!E12=\"\",\"\",初期設定!E12)","v":""},null,null,null,null,44,"",{"$f":"IF(ISERROR(データ完成!C46),\"\",(データ完成!C46))","v":""},{"$f":"IF(ISERROR(データ完成!D46),\"\",データ完成!D46)","v":""},{"$f":"データ完成!E46","v":""},{"$f":"データ完成!F46","v":""},{"$f":"データ完成!G46","v":""},{"$f":"IF(ISERROR(データ完成!J46),\"\",データ完成!J46)","v":""},{"$f":"IF(ISERROR(データ完成!K46),\"\",データ完成!K46)","v":""}]
[null,null,null,{"$f":"IF(初期設定!C13=\"\",\"\",初期設定!C13)","v":""},null,null,null,{"$f":"IF(初期設定!D13=\"\",\"\",初期設定!D13)","v":""},{"$f":"IF(初期設定!E13=\"\",\"\",初期設定!E13)","v":""},null,null,null,null,45,"",{"$f":"IF(ISERROR(データ完成!C47),\"\",(データ完成!C47))","v":""},{"$f":"IF(ISERROR(データ完成!D47),\"\",データ完成!D47)","v":""},{"$f":"データ完成!E47","v":""},{"$f":"データ完成!F47","v":""},{"$f":"データ完成!G47","v":""},{"$f":"IF(ISERROR(データ完成!J47),\"\",データ完成!J47)","v":""},{"$f":"IF(ISERROR(データ完成!K47),\"\",データ完成!K47)","v":""}]
[null,null,null,{"$f":"IF(初期設定!C14=\"\",\"\",初期設定!C14)","v":""},null,null,null,{"$f":"IF(初期設定!D14=\"\",\"\",初期設定!D14)","v":""},{"$f":"IF(初期設定!E14=\"\",\"\",初期設定!E14)","v":""},null,null,null,null,46,"",{"$f":"IF(ISERROR(データ完成!C48),\"\",(データ完成!C48))","v":""},{"$f":"IF(ISERROR(データ完成!D48),\"\",データ完成!D48)","v":""},{"$f":"データ完成!E48","v":""},{"$f":"データ完成!F48","v":""},{"$f":"データ完成!G48","v":""},{"$f":"IF(ISERROR(データ完成!J48),\"\",データ完成!J48)","v":""},{"$f":"IF(ISERROR(データ完成!K48),\"\",データ完成!K48)","v":""}]
[null,null,null,null,null,null,null,null,null,null,null,null,null,47,"",{"$f":"IF(ISERROR(データ完成!C49),\"\",(データ完成!C49))","v":""},{"$f":"IF(ISERROR(データ完成!D49),\"\",データ完成!D49)","v":""},{"$f":"データ完成!E49","v":""},{"$f":"データ完成!F49","v":""},{"$f":"データ完成!G49","v":""},{"$f":"IF(ISERROR(データ完成!J49),\"\",データ完成!J49)","v":""},{"$f":"IF(ISERROR(データ完成!K49),\"\",データ完成!K49)","v":""}]
[null,null,null,null,null,null,null,null,null,null,null,null,null,48,"",{"$f":"IF(ISERROR(データ完成!C50),\"\",(データ完成!C50))","v":""},{"$f":"IF(ISERROR(データ完成!D50),\"\",データ完成!D50)","v":""},{"$f":"データ完成!E50","v":""},{"$f":"データ完成!F50","v":""},{"$f":"データ完成!G50","v":""},{"$f":"IF(ISERROR(データ完成!J50),\"\",データ完成!J50)","v":""},{"$f":"IF(ISERROR(データ完成!K50),\"\",データ完成!K50)","v":""}]
[null,null,null,null,null,null,null,null,null,null,null,null,null,49,"",{"$f":"IF(ISERROR(データ完成!C51),\"\",(データ完成!C51))","v":""},{"$f":"IF(ISERROR(データ完成!D51),\"\",データ完成!D51)","v":""},{"$f":"データ完成!E51","v":""},{"$f":"データ完成!F51","v":""},{"$f":"データ完成!G51","v":""},{"$f":"IF(ISERROR(データ完成!J51),\"\",データ完成!J51)","v":""},{"$f":"IF(ISERROR(データ完成!K51),\"\",データ完成!K51)","v":""}]
[null,null,null,null,null,null,null,null,null,null,null,null,null,50,"",{"$f":"IF(ISERROR(データ完成!C52),\"\",(データ完成!C52))","v":""},{"$f":"IF(ISERROR(データ完成!D52),\"\",データ完成!D52)","v":""},{"$f":"データ完成!E52","v":""},{"$f":"データ完成!F52","v":""},{"$f":"データ完成!G52","v":""},{"$f":"IF(ISERROR(データ完成!J52),\"\",データ完成!J52)","v":""},{"$f":"IF(ISERROR(データ完成!K52),\"\",データ完成!K52)","v":""}]
[null,null,null,null,null,null,null,null,null,null,null,null,null,51,{"$f":"IF(P62=\"\",\"\",\"男\")","v":""},{"$f":"IF(ISERROR(データ完成!C53),\"\",(データ完成!C53))","v":""},{"$f":"IF(ISERROR(データ完成!D53),\"\",データ完成!D53)","v":""},{"$f":"データ完成!E53","v":""},{"$f":"データ完成!F53","v":""},{"$f":"データ完成!G53","v":""},{"$f":"IF(ISERROR(データ完成!J53),\"\",データ完成!J53)","v":0},{"$f":"IF(ISERROR(データ完成!K53),\"\",データ完成!K53)","v":0}]
[null,null,null,null,null,null,null,null,null,null,null,null,null,52,"",{"$f":"IF(ISERROR(データ完成!C54),\"\",(データ完成!C54))","v":""},{"$f":"IF(ISERROR(データ完成!D54),\"\",データ完成!D54)","v":""},{"$f":"データ完成!E54","v":""},{"$f":"データ完成!F54","v":""},{"$f":"データ完成!G54","v":""},{"$f":"IF(ISERROR(データ完成!J54),\"\",データ完成!J54)","v":0},{"$f":"IF(ISERROR(データ完成!K54),\"\",データ完成!K54)","v":0}]
[null,null,null,null,null,null,null,null,null,null,null,null,null,53,"",{"$f":"IF(ISERROR(データ完成!C55),\"\",(データ完成!C55))","v":""},{"$f":"IF(ISERROR(データ完成!D55),\"\",データ完成!D55)","v":""},{"$f":"データ完成!E55","v":""},{"$f":"データ完成!F55","v":""},{"$f":"データ完成!G55","v":""},{"$f":"IF(ISERROR(データ完成!J55),\"\",データ完成!J55)","v":0},{"$f":"IF(ISERROR(データ完成!K55),\"\",データ完成!K55)","v":0}]
[null,null,null,null,null,null,null,null,null,null,null,null,null,54,"",{"$f":"IF(ISERROR(データ完成!C56),\"\",(データ完成!C56))","v":""},{"$f":"IF(ISERROR(データ完成!D56),\"\",データ完成!D56)","v":""},{"$f":"データ完成!E56","v":""},{"$f":"データ完成!F56","v":""},{"$f":"データ完成!G56","v":""},{"$f":"IF(ISERROR(データ完成!J56),\"\",データ完成!J56)","v":0},{"$f":"IF(ISERROR(データ完成!K56),\"\",データ完成!K56)","v":0}]
[null,null,null,null,null,null,null,null,null,null,null,null,null,55,"",{"$f":"IF(ISERROR(データ完成!C57),\"\",(データ完成!C57))","v":""},{"$f":"IF(ISERROR(データ完成!D57),\"\",データ完成!D57)","v":""},{"$f":"データ完成!E57","v":""},{"$f":"データ完成!F57","v":""},{"$f":"データ完成!G57","v":""},{"$f":"IF(ISERROR(データ完成!J57),\"\",データ完成!J57)","v":0},{"$f":"IF(ISERROR(データ完成!K57),\"\",データ完成!K57)","v":0}]
[null,null,null,null,null,null,null,null,null,null,null,null,null,56,"",{"$f":"IF(ISERROR(データ完成!C58),\"\",(データ完成!C58))","v":""},{"$f":"IF(ISERROR(データ完成!D58),\"\",データ完成!D58)","v":""},{"$f":"データ完成!E58","v":""},{"$f":"データ完成!F58","v":""},{"$f":"データ完成!G58","v":""},{"$f":"IF(ISERROR(データ完成!J58),\"\",データ完成!J58)","v":0},{"$f":"IF(ISERROR(データ完成!K58),\"\",データ完成!K58)","v":0}]
[null,null,null,null,null,null,null,null,null,null,null,null,null,57,"",{"$f":"IF(ISERROR(データ完成!C59),\"\",(データ完成!C59))","v":""},{"$f":"IF(ISERROR(データ完成!D59),\"\",データ完成!D59)","v":""},{"$f":"データ完成!E59","v":""},{"$f":"データ完成!F59","v":""},{"$f":"データ完成!G59","v":""},{"$f":"IF(ISERROR(データ完成!J59),\"\",データ完成!J59)","v":0},{"$f":"IF(ISERROR(データ完成!K59),\"\",データ完成!K59)","v":0}]
[null,null,null,null,null,null,null,null,null,null,null,null,null,58,"",{"$f":"IF(ISERROR(データ完成!C60),\"\",(データ完成!C60))","v":""},{"$f":"IF(ISERROR(データ完成!D60),\"\",データ完成!D60)","v":""},{"$f":"データ完成!E60","v":""},{"$f":"データ完成!F60","v":""},{"$f":"データ完成!G60","v":""},{"$f":"IF(ISERROR(データ完成!J60),\"\",データ完成!J60)","v":0},{"$f":"IF(ISERROR(データ完成!K60),\"\",データ完成!K60)","v":0}]
[null,null,null,null,null,null,null,null,null,null,null,null,null,59,"",{"$f":"IF(ISERROR(データ完成!C61),\"\",(データ完成!C61))","v":""},{"$f":"IF(ISERROR(データ完成!D61),\"\",データ完成!D61)","v":""},{"$f":"データ完成!E61","v":""},{"$f":"データ完成!F61","v":""},{"$f":"データ完成!G61","v":""},{"$f":"IF(ISERROR(データ完成!J61),\"\",データ完成!J61)","v":0},{"$f":"IF(ISERROR(データ完成!K61),\"\",データ完成!K61)","v":0}]
[null,null,null,null,null,null,null,null,null,null,null,null,null,60,"",{"$f":"IF(ISERROR(データ完成!C62),\"\",(データ完成!C62))","v":""},{"$f":"IF(ISERROR(データ完成!D62),\"\",データ完成!D62)","v":""},{"$f":"データ完成!E62","v":""},{"$f":"データ完成!F62","v":""},{"$f":"データ完成!G62","v":""},{"$f":"IF(ISERROR(データ完成!J62),\"\",データ完成!J62)","v":0},{"$f":"IF(ISERROR(データ完成!K62),\"\",データ完成!K62)","v":0}]
[null,null,null,null,null,null,null,null,null,null,null,null,null,61,"",{"$f":"IF(ISERROR(データ完成!C63),\"\",(データ完成!C63))","v":""},{"$f":"IF(ISERROR(データ完成!D63),\"\",データ完成!D63)","v":""},{"$f":"データ完成!E63","v":""},{"$f":"データ完成!F63","v":""},{"$f":"データ完成!G63","v":""},{"$f":"IF(ISERROR(データ完成!J63),\"\",データ完成!J63)","v":0},{"$f":"IF(ISERROR(データ完成!K63),\"\",データ完成!K63)","v":0}]
[null,null,null,null,null,null,null,null,null,null,null,null,null,62,"",{"$f":"IF(ISERROR(データ完成!C64),\"\",(データ完成!C64))","v":""},{"$f":"IF(ISERROR(データ完成!D64),\"\",データ完成!D64)","v":""},{"$f":"データ完成!E64","v":""},{"$f":"データ完成!F64","v":""},{"$f":"データ完成!G64","v":""},{"$f":"IF(ISERROR(データ完成!J64),\"\",データ完成!J64)","v":0},{"$f":"IF(ISERROR(データ完成!K64),\"\",データ完成!K64)","v":0}]
[null,null,null,null,null,null,null,null,null,null,null,null,null,63,"",{"$f":"IF(ISERROR(データ完成!C65),\"\",(データ完成!C65))","v":""},{"$f":"IF(ISERROR(データ完成!D65),\"\",データ完成!D65)","v":""},{"$f":"データ完成!E65","v":""},{"$f":"データ完成!F65","v":""},{"$f":"データ完成!G65","v":""},{"$f":"IF(ISERROR(データ完成!J65),\"\",データ完成!J65)","v":0},{"$f":"IF(ISERROR(データ完成!K65),\"\",データ完成!K65)","v":0}]
[null,null,null,null,null,null,null,null,null,null,null,null,null,64,"",{"$f":"IF(ISERROR(データ完成!C66),\"\",(データ完成!C66))","v":""},{"$f":"IF(ISERROR(データ完成!D66),\"\",データ完成!D66)","v":""},{"$f":"データ完成!E66","v":""},{"$f":"データ完成!F66","v":""},{"$f":"データ完成!G66","v":""},{"$f":"IF(ISERROR(データ完成!J66),\"\",データ完成!J66)","v":0},{"$f":"IF(ISERROR(データ完成!K66),\"\",データ完成!K66)","v":0}]
[null,null,null,null,null,null,null,null,null,null,null,null,null,65,"",{"$f":"IF(ISERROR(データ完成!C67),\"\",(データ完成!C67))","v":""},{"$f":"IF(ISERROR(データ完成!D67),\"\",データ完成!D67)","v":""},{"$f":"データ完成!E67","v":""},{"$f":"データ完成!F67","v":""},{"$f":"データ完成!G67","v":""},{"$f":"IF(ISERROR(データ完成!J67),\"\",データ完成!J67)","v":0},{"$f":"IF(ISERROR(データ完成!K67),\"\",データ完成!K67)","v":0}]

{"sheet":"データ貼付","index":5,"n_rows":102,"n_cols":10,"rows_kept":102,"cut":false,"hidden":true,"merged":[]}
[]
[null,null,null,"No.","氏名","種目","種目①","種目②"]
[{"$f":"IF(E3=\"\",\"\",IF(E2=E3,A2,A2+1))","v":""},{"$f":"IFERROR(IF(I3=\"\",A3*10+J3,A3*10+I3),\"\")","v":""},1,{"$f":"IF(計算①!E1=\"\",\"\",計算①!E1)","v":""},{"$f":"IF(D3=\"\",\"\",計算①!K1)","v":""},{"$f":"IF(D3=\"\",\"\",計算①!C1)","v":""},{"$f":"IF(F3=\"4x100R\",\"\",IF(F3=\"4x400R\",\"\",F3))","v":""},{"$f":"IF(G3=\"\",F3,\"\")","v":""},{"$f":"IF(G3=\"\",\"\",IF(D3=\"\",\"\",IF(D3=D2,I2+1,1)))","v":""},{"$f":"IF(H3=\"4x100R\",4,IF(H3=\"4x400R\",5,\"\"))","v":""}]
[{"$f":"IF(E4=\"\",\"\",IF(E3=E4,A3,A3+1))","v":""},{"$f":"IFERROR(IF(I4=\"\",A4*10+J4,A4*10+I4),\"\")","v":""},{"$f":"IF(E4=\"\",\"\",C3+1)","v":""},{"$f":"IF(計算①!E2=\"\",\"\",計算①!E2)","v":""},{"$f":"IF(D4=\"\",\"\",計算①!K2)","v":""},{"$f":"IF(D4=\"\",\"\",計算①!C2)","v":""},{"$f":"IF(F4=\"4x100R\",\"\",IF(F4=\"4x400R\",\"\",F4))","v":""},{"$f":"IF(G4=\"\",F4,\"\")","v":""},{"$f":"IF(G4=\"\",\"\",IF(D4=\"\",\"\",IF(D4=D3,I3+1,1)))","v":""},{"$f":"IF(H4=\"4x100R\",4,IF(H4=\"4x400R\",5,\"\"))","v":""}]
["","",{"$f":"IF(E5=\"\",\"\",C4+1)","v":""},{"$f":"IF(計算①!E3=\"\",\"\",計算①!E3)","v":""},{"$f":"IF(D5=\"\",\"\",計算①!K3)","v":""},{"$f":"IF(D5=\"\",\"\",計算①!C3)","v":""},"","","",""]
["","","",{"$f":"IF(計算①!E4=\"\",\"\",計算①!E4)","v":""},{"$f":"IF(D6=\"\",\"\",計算①!K4)","v":""},{"$f":"IF(D6=\"\",\"\",計算①!C4)","v":""},"","","",""]
["","","",{"$f":"IF(計算①!E5=\"\",\"\",計算①!E5)","v":""},{"$f":"IF(D7=\"\",\"\",計算①!K5)","v":""},{"$f":"IF(D7=\"\",\"\",計算①!C5)","v":""},"","","",""]
["","","",{"$f":"IF(計算①!E6=\"\",\"\",計算①!E6)","v":""},{"$f":"IF(D8=\"\",\"\",計算①!K6)","v":""},{"$f":"IF(D8=\"\",\"\",計算①!C6)","v":""},"","","",""]
["","","",{"$f":"IF(計算①!E7=\"\",\"\",計算①!E7)","v":""},{"$f":"IF(D9=\"\",\"\",計算①!K7)","v":""},{"$f":"IF(D9=\"\",\"\",計算①!C7)","v":""},"","","",""]
["","","",{"$f":"IF(計算①!E8=\"\",\"\",計算①!E8)","v":""},{"$f":"IF(D10=\"\",\"\",計算①!K8)","v":""},{"$f":"IF(D10=\"\",\"\",計算①!C8)","v":""},"","","",""]
["","","",{"$f":"IF(計算①!E9=\"\",\"\",計算①!E9)","v":""},{"$f":"IF(D11=\"\",\"\",計算①!K9)","v":""},{"$f":"IF(D11=\"\",\"\",計算①!C9)","v":""},"","","",""]
["","","",{"$f":"IF(計算①!E10=\"\",\"\",計算①!E10)","v":""},{"$f":"IF(D12=\"\",\"\",計算①!K10)","v":""},{"$f":"IF(D12=\"\",\"\",計算①!C10)","v":""},"","","",""]
["","","",{"$f":"IF(計算①!E11=\"\",\"\",計算①!E11)","v":""},{"$f":"IF(D13=\"\",\"\",計算①!K11)","v":""},{"$f":"IF(D13=\"\",\"\",計算①!C11)","v":""},"","","",""]
["","","",{"$f":"IF(計算①!E12=\"\",\"\",計算①!E12)","v":""},{"$f":"IF(D14=\"\",\"\",計算①!K12)","v":""},{"$f":"IF(D14=\"\",\"\",計算①!C12)","v":""},"","","",""]
["","","",{"$f":"IF(計算①!E13=\"\",\"\",計算①!E13)","v":""},{"$f":"IF(D15=\"\",\"\",計算①!K13)","v":""},{"$f":"IF(D15=\"\",\"\",計算①!C13)","v":""},"","","",""]
["","","",{"$f":"IF(計算①!E14=\"\",\"\",計算①!E14)","v":""},{"$f":"IF(D16=\"\",\"\",計算①!K14)","v":""},{"$f":"IF(D16=\"\",\"\",計算①!C14)","v":""},"","","",""]
["","","",{"$f":"IF(計算①!E15=\"\",\"\",計算①!E15)","v":""},{"$f":"IF(D17=\"\",\"\",計算①!K15)","v":""},{"$f":"IF(D17=\"\",\"\",計算①!C15)","v":""},"","","",""]
["","","",{"$f":"IF(計算①!E16=\"\",\"\",計算①!E16)","v":""},{"$f":"IF(D18=\"\",\"\",計算①!K16)","v":""},{"$f":"IF(D18=\"\",\"\",計算①!C16)","v":""},"","","",""]
["","","",{"$f":"IF(計算①!E17=\"\",\"\",計算①!E17)","v":""},{"$f":"IF(D19=\"\",\"\",計算①!K17)","v":""},{"$f":"IF(D19=\"\",\"\",計算①!C17)","v":""},"","","",""]
["","","",{"$f":"IF(計算①!E18=\"\",\"\",計算①!E18)","v":""},{"$f":"IF(D20=\"\",\"\",計算①!K18)","v":""},{"$f":"IF(D20=\"\",\"\",計算①!C18)","v":""},"","","",""]
["","","",{"$f":"IF(計算①!E19=\"\",\"\",計算①!E19)","v":""},{"$f":"IF(D21=\"\",\"\",計算①!K19)","v":""},{"$f":"IF(D21=\"\",\"\",計算①!C19)","v":""},"","","",""]
["","","",{"$f":"IF(計算①!E20=\"\",\"\",計算①!E20)","v":""},{"$f":"IF(D22=\"\",\"\",計算①!K20)","v":""},{"$f":"IF(D22=\"\",\"\",計算①!C20)","v":""},"","","",""]
["","","",{"$f":"IF(計算①!E21=\"\",\"\",計算①!E21)","v":""},{"$f":"IF(D23=\"\",\"\",計算①!K21)","v":""},{"$f":"IF(D23=\"\",\"\",計算①!C21)","v":""},"","","",""]
["","","",{"$f":"IF(計算①!E22=\"\",\"\",計算①!E22)","v":""},{"$f":"IF(D24=\"\",\"\",計算①!K22)","v":""},{"$f":"IF(D24=\"\",\"\",計算①!C22)","v":""},"","","",""]
["","","",{"$f":"IF(計算①!E23=\"\",\"\",計算①!E23)","v":""},{"$f":"IF(D25=\"\",\"\",計算①!K23)","v":""},{"$f":"IF(D25=\"\",\"\",計算①!C23)","v":""},"","","",""]
["","","",{"$f":"IF(計算①!E24=\"\",\"\",計算①!E24)","v":""},{"$f":"IF(D26=\"\",\"\",計算①!K24)","v":""},{"$f":"IF(D26=\"\",\"\",計算①!C24)","v":""},"","","",""]
["","","",{"$f":"IF(計算①!E25=\"\",\"\",計算①!E25)","v":""},{"$f":"IF(D27=\"\",\"\",計算①!K25)","v":""},{"$f":"IF(D27=\"\",\"\",計算①!C25)","v":""},"","","",""]
["","","",{"$f":"IF(計算①!E26=\"\",\"\",計算①!E26)","v":""},{"$f":"IF(D28=\"\",\"\",計算①!K26)","v":""},{"$f":"IF(D28=\"\",\"\",計算①!C26)","v":""},"","","",""]
["","","",{"$f":"IF(計算①!E27=\"\",\"\",計算①!E27)","v":""},{"$f":"IF(D29=\"\",\"\",計算①!K27)","v":""},{"$f":"IF(D29=\"\",\"\",計算①!C27)","v":""},"","","",""]
["","","",{"$f":"IF(計算①!E28=\"\",\"\",計算①!E28)","v":""},{"$f":"IF(D30=\"\",\"\",計算①!K28)","v":""},{"$f":"IF(D30=\"\",\"\",計算①!C28)","v":""},"","","",""]
["","","",{"$f":"IF(計算①!E29=\"\",\"\",計算①!E29)","v":""},{"$f":"IF(D31=\"\",\"\",計算①!K29)","v":""},{"$f":"IF(D31=\"\",\"\",計算①!C29)","v":""},"","","",""]
["","","",{"$f":"IF(計算①!E30=\"\",\"\",計算①!E30)","v":""},{"$f":"IF(D32=\"\",\"\",計算①!K30)","v":""},{"$f":"IF(D32=\"\",\"\",計算①!C30)","v":""},"","","",""]
["","","",{"$f":"IF(計算①!E31=\"\",\"\",計算①!E31)","v":""},{"$f":"IF(D33=\"\",\"\",計算①!K31)","v":""},{"$f":"IF(D33=\"\",\"\",計算①!C31)","v":""},"","","",""]
["","","",{"$f":"IF(計算①!E32=\"\",\"\",計算①!E32)","v":""},{"$f":"IF(D34=\"\",\"\",計算①!K32)","v":""},{"$f":"IF(D34=\"\",\"\",計算①!C32)","v":""},"","","",""]
["","","",{"$f":"IF(計算①!E33=\"\",\"\",計算①!E33)","v":""},{"$f":"IF(D35=\"\",\"\",計算①!K33)","v":""},{"$f":"IF(D35=\"\",\"\",計算①!C33)","v":""},"","","",""]
["","","",{"$f":"IF(計算①!E34=\"\",\"\",計算①!E34)","v":""},{"$f":"IF(D36=\"\",\"\",計算①!K34)","v":""},{"$f":"IF(D36=\"\",\"\",計算①!C34)","v":""},"","","",""]
["","","",{"$f":"IF(計算①!E35=\"\",\"\",計算①!E35)","v":""},{"$f":"IF(D37=\"\",\"\",計算①!K35)","v":""},{"$f":"IF(D37=\"\",\"\",計算①!C35)","v":""},"","","",""]
["","","",{"$f":"IF(計算①!E36=\"\",\"\",計算①!E36)","v":""},{"$f":"IF(D38=\"\",\"\",計算①!K36)","v":""},{"$f":"IF(D38=\"\",\"\",計算①!C36)","v":""},"","","",""]
["","","",{"$f":"IF(計算①!E37=\"\",\"\",計算①!E37)","v":""},{"$f":"IF(D39=\"\",\"\",計算①!K37)","v":""},{"$f":"IF(D39=\"\",\"\",計算①!C37)","v":""},"","","",""]
["","","",{"$f":"IF(計算①!E38=\"\",\"\",計算①!E38)","v":""},{"$f":"IF(D40=\"\",\"\",計算①!K38)","v":""},{"$f":"IF(D40=\"\",\"\",計算①!C38)","v":""},"","","",""]
["","","",{"$f":"IF(計算①!E39=\"\",\"\",計算①!E39)","v":""},{"$f":"IF(D41=\"\",\"\",計算①!K39)","v":""},{"$f":"IF(D41=\"\",\"\",計算①!C39)","v":""},"","","",""]
["","","",{"$f":"IF(計算①!E40=\"\",\"\",計算①!E40)","v":""},{"$f":"IF(D42=\"\",\"\",計算①!K40)","v":""},{"$f":"IF(D42=\"\",\"\",計算①!C40)","v":""},"","","",""]
["","","",{"$f":"IF(計算①!E41=\"\",\"\",計算①!E41)","v":""},{"$f":"IF(D43=\"\",\"\",計算①!K41)","v":""},{"$f":"IF(D43=\"\",\"\",計算①!C41)","v":""},"","","",""]
["","","",{"$f":"IF(計算①!E42=\"\",\"\",計算①!E42)","v":""},{"$f":"IF(D44=\"\",\"\",計算①!K42)","v":""},{"$f":"IF(D44=\"\",\"\",計算①!C42)","v":""},"","","",""]
["","","",{"$f":"IF(計算①!E43=\"\",\"\",計算①!E43)","v":""},{"$f":"IF(D45=\"\",\"\",計算①!K43)","v":""},{"$f":"IF(D45=\"\",\"\",計算①!C43)","v":""},"","","",""]
["","","",{"$f":"IF(計算①!E44=\"\",\"\",計算①!E44)","v":""},{"$f":"IF(D46=\"\",\"\",計算①!K44)","v":""},{"$f":"IF(D46=\"\",\"\",計算①!C44)","v":""},"","","",""]
["","","",{"$f":"IF(計算①!E45=\"\",\"\",計算①!E45)","v":""},{"$f":"IF(D47=\"\",\"\",計算①!K45)","v":""},{"$f":"IF(D47=\"\",\"\",計算①!C45)","v":""},"","","",""]
["","","",{"$f":"IF(計算①!E46=\"\",\"\",計算①!E46)","v":""},{"$f":"IF(D48=\"\",\"\",計算①!K46)","v":""},{"$f":"IF(D48=\"\",\"\",計算①!C46)","v":""},"","","",""]
["","","",{"$f":"IF(計算①!E47=\"\",\"\",計算①!E47)","v":""},{"$f":"IF(D49=\"\",\"\",計算①!K47)","v":""},{"$f":"IF(D49=\"\",\"\",計算①!C47)","v":""},"","","",""]
["","","",{"$f":"IF(計算①!E48=\"\",\"\",計算①!E48)","v":""},{"$f":"IF(D50=\"\",\"\",計算①!K48)","v":""},{"$f":"IF(D50=\"\",\"\",計算①!C48)","v":""},"","","",""]
["","","",{"$f":"IF(計算①!E49=\"\",\"\",計算①!E49)","v":""},{"$f":"IF(D51=\"\",\"\",計算①!K49)","v":""},{"$f":"IF(D51=\"\",\"\",計算①!C49)","v":""},"","","",""]
["","","",{"$f":"IF(計算①!E50=\"\",\"\",計算①!E50)","v":""},{"$f":"IF(D52=\"\",\"\",計算①!K50)","v":""},{"$f":"IF(D52=\"\",\"\",計算①!C50)","v":""},"","","",""]
["","","",{"$f":"IF(計算①!E51=\"\",\"\",計算①!E51)","v":""},{"$f":"IF(D53=\"\",\"\",計算①!K51)","v":""},{"$f":"IF(D53=\"\",\"\",計算①!C51)","v":""},"","","",""]
["","","",{"$f":"IF(計算①!E52=\"\",\"\",計算①!E52)","v":""},{"$f":"IF(D54=\"\",\"\",計算①!K52)","v":""},{"$f":"IF(D54=\"\",\"\",計算①!C52)","v":""},"","","",""]
["","","",{"$f":"IF(計算①!E53=\"\",\"\",計算①!E53)","v":""},{"$f":"IF(D55=\"\",\"\",計算①!K53)","v":""},{"$f":"IF(D55=\"\",\"\",計算①!C53)","v":""},"","","",""]
["","","",{"$f":"IF(計算①!E54=\"\",\"\",計算①!E54)","v":""},{"$f":"IF(D56=\"\",\"\",計算①!K54)","v":""},{"$f":"IF(D56=\"\",\"\",計算①!C54)","v":""},"","","",""]
["","","",{"$f":"IF(計算①!E55=\"\",\"\",計算①!E55)","v":""},{"$f":"IF(D57=\"\",\"\",計算①!K55)","v":""},{"$f":"IF(D57=\"\",\"\",計算①!C55)","v":""},"","","",""]
["","","",{"$f":"IF(計算①!E56=\"\",\"\",計算①!E56)","v":""},{"$f":"IF(D58=\"\",\"\",計算①!K56)","v":""},{"$f":"IF(D58=\"\",\"\",計算①!C56)","v":""},"","","",""]
["","","",{"$f":"IF(計算①!E57=\"\",\"\",計算①!E57)","v":""},{"$f":"IF(D59=\"\",\"\",計算①!K57)","v":""},{"$f":"IF(D59=\"\",\"\",計算①!C57)","v":""},"","","",""]
["","","",{"$f":"IF(計算①!E58=\"\",\"\",計算①!E58)","v":""},{"$f":"IF(D60=\"\",\"\",計算①!K58)","v":""},{"$f":"IF(D60=\"\",\"\",計算①!C58)","v":""},"","","",""]
["","","",{"$f":"IF(計算①!E59=\"\",\"\",計算①!E59)","v":""},{"$f":"IF(D61=\"\",\"\",計算①!K59)","v":""},{"$f":"IF(D61=\"\",\"\",計算①!C59)","v":""},"","","",""]
["","","",{"$f":"IF(計算①!E60=\"\",\"\",計算①!E60)","v":""},{"$f":"IF(D62=\"\",\"\",計算①!K60)","v":""},{"$f":"IF(D62=\"\",\"\",計算①!C60)","v":""},"","","",""]
["","","",{"$f":"IF(計算①!E61=\"\",\"\",計算①!E61)","v":""},{"$f":"IF(D63=\"\",\"\",計算①!K61)","v":""},{"$f":"IF(D63=\"\",\"\",計算①!C61)","v":""},"","","",""]
["","","",{"$f":"IF(計算①!E62=\"\",\"\",計算①!E62)","v":""},{"$f":"IF(D64=\"\",\"\",計算①!K62)","v":""},{"$f":"IF(D64=\"\",\"\",計算①!C62)","v":""},"","","",""]
["","","",{"$f":"IF(計算①!E63=\"\",\"\",計算①!E63)","v":""},{"$f":"IF(D65=\"\",\"\",計算①!K63)","v":""},{"$f":"IF(D65=\"\",\"\",計算①!C63)","v":""},"","","",""]
["","","",{"$f":"IF(計算①!E64=\"\",\"\",計算①!E64)","v":""},{"$f":"IF(D66=\"\",\"\",計算①!K64)","v":""},{"$f":"IF(D66=\"\",\"\",計算①!C64)","v":""},"","","",""]
["","","",{"$f":"IF(計算①!E65=\"\",\"\",計算①!E65)","v":""},{"$f":"IF(D67=\"\",\"\",計算①!K65)","v":""},{"$f":"IF(D67=\"\",\"\",計算①!C65)","v":""},"","","",""]
[{"$f":"IF(E68=\"\",\"\",IF(E67=E68,A67,A67+1))","v":""},{"$f":"IFERROR(IF(I68=\"\",A68*10+J68,A68*10+I68),\"\")","v":""},"",{"$f":"IF(計算①!E66=\"\",\"\",計算①!E66)","v":""},{"$f":"IF(D68=\"\",\"\",計算①!K66)","v":""},{"$f":"IF(D68=\"\",\"\",計算①!C66)","v":""},{"$f":"IF(F68=\"4x100R\",\"\",IF(F68=\"4x400R\",\"\",F68))","v":""},{"$f":"IF(G68=\"\",F68,\"\")","v":""},{"$f":"IF(G68=\"\",\"\",IF(D68=\"\",\"\",IF(D68=D67,I67+1,1)))","v":""},{"$f":"IF(H68=\"4x100R\",4,IF(H68=\"4x400R\",5,\"\"))","v":""}]
["","",{"$f":"IF(E69=\"\",\"\",C68+1)","v":""},{"$f":"IF(計算①!E67=\"\",\"\",計算①!E67)","v":""},{"$f":"IF(D69=\"\",\"\",計算①!K67)","v":""},{"$f":"IF(D69=\"\",\"\",計算①!C67)","v":""},"","","",""]
["","","",{"$f":"IF(計算①!E68=\"\",\"\",計算①!E68)","v":""},{"$f":"IF(D70=\"\",\"\",計算①!K68)","v":""},{"$f":"IF(D70=\"\",\"\",計算①!C68)","v":""},"","","",""]
["","","",{"$f":"IF(計算①!E69=\"\",\"\",計算①!E69)","v":""},{"$f":"IF(D71=\"\",\"\",計算①!K69)","v":""},{"$f":"IF(D71=\"\",\"\",計算①!C69)","v":""},"","","",""]
["","","",{"$f":"IF(計算①!E70=\"\",\"\",計算①!E70)","v":""},{"$f":"IF(D72=\"\",\"\",計算①!K70)","v":""},{"$f":"IF(D72=\"\",\"\",計算①!C70)","v":""},"","","",""]
["","","",{"$f":"IF(計算①!E71=\"\",\"\",計算①!E71)","v":""},{"$f":"IF(D73=\"\",\"\",計算①!K71)","v":""},{"$f":"IF(D73=\"\",\"\",計算①!C71)","v":""},"","","",""]
["","","",{"$f":"IF(計算①!E72=\"\",\"\",計算①!E72)","v":""},{"$f":"IF(D74=\"\",\"\",計算①!K72)","v":""},{"$f":"IF(D74=\"\",\"\",計算①!C72)","v":""},{"$f":"IF(F74=\"4x100R\",\"\",IF(F74=\"4x400R\",\"\",F74))","v":""},{"$f":"IF(G74=\"\",F74,\"\")","v":""},{"$f":"IF(G74=\"\",\"\",IF(D74=\"\",\"\",IF(D74=D73,I73+1,1)))","v":""},{"$f":"IF(H74=\"4x100R\",4,IF(H74=\"4x400R\",5,\"\"))","v":""}]
["","","",{"$f":"IF(計算①!E73=\"\",\"\",計算①!E73)","v":""},{"$f":"IF(D75=\"\",\"\",計算①!K73)","v":""},{"$f":"IF(D75=\"\",\"\",計算①!C73)","v":""},"","","",""]
["","","",{"$f":"IF(計算①!E74=\"\",\"\",計算①!E74)","v":""},{"$f":"IF(D76=\"\",\"\",計算①!K74)","v":""},{"$f":"IF(D76=\"\",\"\",計算①!C74)","v":""},"","","",""]
["","","",{"$f":"IF(計算①!E75=\"\",\"\",計算①!E75)","v":""},{"$f":"IF(D77=\"\",\"\",計算①!K75)","v":""},{"$f":"IF(D77=\"\",\"\",計算①!C75)","v":""},"","","",""]
["","","",{"$f":"IF(計算①!E76=\"\",\"\",計算①!E76)","v":""},{"$f":"IF(D78=\"\",\"\",計算①!K76)","v":""},{"$f":"IF(D78=\"\",\"\",計算①!C76)","v":""},"","","",""]
["","","",{"$f":"IF(計算①!E77=\"\",\"\",計算①!E77)","v":""},{"$f":"IF(D79=\"\",\"\",計算①!K77)","v":""},{"$f":"IF(D79=\"\",\"\",計算①!C77)","v":""},"","","",""]
["","","",{"$f":"IF(計算①!E78=\"\",\"\",計算①!E78)","v":""},{"$f":"IF(D80=\"\",\"\",計算①!K78)","v":""},{"$f":"IF(D80=\"\",\"\",計算①!C78)","v":""},"","","",""]
["","","",{"$f":"IF(計算①!E79=\"\",\"\",計算①!E79)","v":""},{"$f":"IF(D81=\"\",\"\",計算①!K79)","v":""},{"$f":"IF(D81=\"\",\"\",計算①!C79)","v":""},"","","",""]
["","","",{"$f":"IF(計算①!E80=\"\",\"\",計算①!E80)","v":""},{"$f":"IF(D82=\"\",\"\",計算①!K80)","v":""},{"$f":"IF(D82=\"\",\"\",計算①!C80)","v":""},"","","",""]
["","","",{"$f":"IF(計算①!E81=\"\",\"\",計算①!E81)","v":""},{"$f":"IF(D83=\"\",\"\",計算①!K81)","v":""},{"$f":"IF(D83=\"\",\"\",計算①!C81)","v":""},"","","",""]
["","","",{"$f":"IF(計算①!E82=\"\",\"\",計算①!E82)","v":""},{"$f":"IF(D84=\"\",\"\",計算①!K82)","v":""},{"$f":"IF(D84=\"\",\"\",計算①!C82)","v":""},"","","",""]
["","","",{"$f":"IF(計算①!E83=\"\",\"\",計算①!E83)","v":""},{"$f":"IF(D85=\"\",\"\",計算①!K83)","v":""},{"$f":"IF(D85=\"\",\"\",計算①!C83)","v":""},"","","",""]
["","","",{"$f":"IF(計算①!E84=\"\",\"\",計算①!E84)","v":""},{"$f":"IF(D86=\"\",\"\",計算①!K84)","v":""},{"$f":"IF(D86=\"\",\"\",計算①!C84)","v":""},"","","",""]
["","","",{"$f":"IF(計算①!E85=\"\",\"\",計算①!E85)","v":""},{"$f":"IF(D87=\"\",\"\",計算①!K85)","v":""},{"$f":"IF(D87=\"\",\"\",計算①!C85)","v":""},"","","",""]
["","","",{"$f":"IF(計算①!E86=\"\",\"\",計算①!E86)","v":""},{"$f":"IF(D88=\"\",\"\",計算①!K86)","v":""},{"$f":"IF(D88=\"\",\"\",計算①!C86)","v":""},"","","",""]
["","","",{"$f":"IF(計算①!E87=\"\",\"\",計算①!E87)","v":""},{"$f":"IF(D89=\"\",\"\",計算①!K87)","v":""},{"$f":"IF(D89=\"\",\"\",計算①!C87)","v":""},"","","",""]
["","","",{"$f":"IF(計算①!E88=\"\",\"\",計算①!E88)","v":""},{"$f":"IF(D90=\"\",\"\",計算①!K88)","v":""},{"$f":"IF(D90=\"\",\"\",計算①!C88)","v":""},"","","",""]
["","","",{"$f":"IF(計算①!E89=\"\",\"\",計算①!E89)","v":""},{"$f":"IF(D91=\"\",\"\",計算①!K89)","v":""},{"$f":"IF(D91=\"\",\"\",計算①!C89)","v":""},"","","",""]
["","","",{"$f":"IF(計算①!E90=\"\",\"\",計算①!E90)","v":""},{"$f":"IF(D92=\"\",\"\",計算①!K90)","v":""},{"$f":"IF(D92=\"\",\"\",計算①!C90)","v":""},"","","",""]
["","","",{"$f":"IF(計算①!E91=\"\",\"\",計算①!E91)","v":""},{"$f":"IF(D93=\"\",\"\",計算①!K91)","v":""},{"$f":"IF(D93=\"\",\"\",計算①!C91)","v":""},"","","",""]
["","","",{"$f":"IF(計算①!E92=\"\",\"\",計算①!E92)","v":""},{"$f":"IF(D94=\"\",\"\",計算①!K92)","v":""},{"$f":"IF(D94=\"\",\"\",計算①!C92)","v":""},"","","",""]
["","","",{"$f":"IF(計算①!E93=\"\",\"\",計算①!E93)","v":""},{"$f":"IF(D95=\"\",\"\",計算①!K93)","v":""},{"$f":"IF(D95=\"\",\"\",計算①!C93)","v":""},"","","",""]
["","","",{"$f":"IF(計算①!E94=\"\",\"\",計算①!E94)","v":""},{"$f":"IF(D96=\"\",\"\",計算①!K94)","v":""},{"$f":"IF(D96=\"\",\"\",計算①!C94)","v":""},"","","",""]
["","","",{"$f":"IF(計算①!E95=\"\",\"\",計算①!E95)","v":""},{"$f":"IF(D97=\"\",\"\",計算①!K95)","v":""},{"$f":"IF(D97=\"\",\"\",計算①!C95)","v":""},"","","",""]
["","","",{"$f":"IF(計算①!E96=\"\",\"\",計算①!E96)","v":""},{"$f":"IF(D98=\"\",\"\",計算①!K96)","v":""},{"$f":"IF(D98=\"\",\"\",計算①!C96)","v":""},"","","",""]
["","","",{"$f":"IF(計算①!E97=\"\",\"\",計算①!E97)","v":""},{"$f":"IF(D99=\"\",\"\",計算①!K97)","v":""},{"$f":"IF(D99=\"\",\"\",計算①!C97)","v":""},"","","",""]
["","","",{"$f":"IF(計算①!E98=\"\",\"\",計算①!E98)","v":""},{"$f":"IF(D100=\"\",\"\",計算①!K98)","v":""},{"$f":"IF(D100=\"\",\"\",計算①!C98)","v":""},"","","",""]
["","","",{"$f":"IF(計算①!E99=\"\",\"\",計算①!E99)","v":""},{"$f":"IF(D101=\"\",\"\",計算①!K99)","v":""},{"$f":"IF(D101=\"\",\"\",計算①!C99)","v":""},"","","",""]
["","","",{"$f":"IF(計算①!E100=\"\",\"\",計算①!E100)","v":""},{"$f":"IF(D102=\"\",\"\",計算①!K100)","v":""},{"$f":"IF(D102=\"\",\"\",計算①!C100)","v":""},"","","",""]

{"sheet":"データ完成","index":6,"n_rows":102,"n_cols":11,"rows_kept":102,"cut":false,"hidden":true,"merged":[]}
[]
[null,null,null,null,1,2,3,4,5]
[null,1,{"$f":"VLOOKUP($B3,データ貼付!$A$3:$I$102,4,FALSE)","v":{"$error":"#N/A"}},{"$f":"VLOOKUP($B3,データ貼付!$A$3:$I$102,5,FALSE)","v":{"$error":"#N/A"}},{"$f":"IF(ISERROR(VLOOKUP($B3*10+$E$2,データ貼付!$B$3:$F$102,5,FALSE)),\"\",VLOOKUP($B3*10+$E$2,データ貼付!$B$3:$F$102,5,FALSE))","v":""},{"$f":"IF(ISERROR(VLOOKUP($B3*10+$F$2,データ貼付!$B$3:$F$102,5,FALSE)),\"\",VLOOKUP($B3*10+$F$2,データ貼付!$B$3:$F$102,5,FALSE))","v":""},{"$f":"IF(ISERROR(VLOOKUP($B3*10+$G$2,データ貼付!$B$3:$F$102,5,FALSE)),\"\",VLOOKUP($B3*10+$G$2,データ貼付!$B$3:$F$102,5,FALSE))","v":""},{"$f":"IF(ISERROR(VLOOKUP($B3*10+$H$2,データ貼付!$B$3:$F$102,5,FALSE)),\"\",VLOOKUP($B3*10+$H$2,データ貼付!$B$3:$F$102,5,FALSE))","v":""},{"$f":"IF(ISERROR(VLOOKUP($B3*10+$I$2,データ貼付!$B$3:$F$102,5,FALSE)),\"\",VLOOKUP($B3*10+$I$2,データ貼付!$B$3:$F$102,5,FALSE))","v":""},{"$f":"IF(H3=\"\",\"\",\"○\")","v":""},{"$f":"IF(I3=\"\",\"\",\"○\")","v":""}]
[null,2,{"$f":"VLOOKUP($B4,データ貼付!$A$3:$I$102,4,FALSE)","v":{"$error":"#N/A"}},{"$f":"VLOOKUP($B4,データ貼付!$A$3:$I$102,5,FALSE)","v":{"$error":"#N/A"}},{"$f":"IF(ISERROR(VLOOKUP($B4*10+$E$2,データ貼付!$B$3:$F$102,5,FALSE)),\"\",VLOOKUP($B4*10+$E$2,データ貼付!$B$3:$F$102,5,FALSE))","v":""},{"$f":"IF(ISERROR(VLOOKUP($B4*10+$F$2,データ貼付!$B$3:$F$102,5,FALSE)),\"\",VLOOKUP($B4*10+$F$2,データ貼付!$B$3:$F$102,5,FALSE))","v":""},{"$f":"IF(ISERROR(VLOOKUP($B4*10+$G$2,データ貼付!$B$3:$F$102,5,FALSE)),\"\",VLOOKUP($B4*10+$G$2,データ貼付!$B$3:$F$102,5,FALSE))","v":""},{"$f":"IF(ISERROR(VLOOKUP($B4*10+$H$2,データ貼付!$B$3:$F$102,5,FALSE)),\"\",VLOOKUP($B4*10+$H$2,データ貼付!$B$3:$F$102,5,FALSE))","v":""},{"$f":"IF(ISERROR(VLOOKUP($B4*10+$I$2,データ貼付!$B$3:$F$102,5,FALSE)),\"\",VLOOKUP($B4*10+$I$2,データ貼付!$B$3:$F$102,5,FALSE))","v":""},{"$f":"IF(H4=\"\",\"\",\"○\")","v":""},{"$f":"IF(I4=\"\",\"\",\"○\")","v":""}]
[null,3,{"$f":"VLOOKUP($B5,データ貼付!$A$3:$I$102,4,FALSE)","v":{"$error":"#N/A"}},{"$f":"VLOOKUP($B5,データ貼付!$A$3:$I$102,5,FALSE)","v":{"$error":"#N/A"}},{"$f":"IF(ISERROR(VLOOKUP($B5*10+$E$2,データ貼付!$B$3:$F$102,5,FALSE)),\"\",VLOOKUP($B5*10+$E$2,データ貼付!$B$3:$F$102,5,FALSE))","v":""},{"$f":"IF(ISERROR(VLOOKUP($B5*10+$F$2,データ貼付!$B$3:$F$102,5,FALSE)),\"\",VLOOKUP($B5*10+$F$2,データ貼付!$B$3:$F$102,5,FALSE))","v":""},{"$f":"IF(ISERROR(VLOOKUP($B5*10+$G$2,データ貼付!$B$3:$F$102,5,FALSE)),\"\",VLOOKUP($B5*10+$G$2,データ貼付!$B$3:$F$102,5,FALSE))","v":""},{"$f":"IF(ISERROR(VLOOKUP($B5*10+$H$2,データ貼付!$B$3:$F$102,5,FALSE)),\"\",VLOOKUP($B5*10+$H$2,データ貼付!$B$3:$F$102,5,FALSE))","v":""},{"$f":"IF(ISERROR(VLOOKUP($B5*10+$I$2,データ貼付!$B$3:$F$102,5,FALSE)),\"\",VLOOKUP($B5*10+$I$2,データ貼付!$B$3:$F$102,5,FALSE))","v":""},"",""]
[null,4,{"$f":"VLOOKUP($B6,データ貼付!$A$3:$I$102,4,FALSE)","v":{"$error":"#N/A"}},{"$f":"VLOOKUP($B6,データ貼付!$A$3:$I$102,5,FALSE)","v":{"$error":"#N/A"}},{"$f":"IF(ISERROR(VLOOKUP($B6*10+$E$2,データ貼付!$B$3:$F$102,5,FALSE)),\"\",VLOOKUP($B6*10+$E$2,データ貼付!$B$3:$F$102,5,FALSE))","v":""},{"$f":"IF(ISERROR(VLOOKUP($B6*10+$F$2,データ貼付!$B$3:$F$102,5,FALSE)),\"\",VLOOKUP($B6*10+$F$2,データ貼付!$B$3:$F$102,5,FALSE))","v":""},{"$f":"IF(ISERROR(VLOOKUP($B6*10+$G$2,データ貼付!$B$3:$F$102,5,FALSE)),\"\",VLOOKUP($B6*10+$G$2,データ貼付!$B$3:$F$102,5,FALSE))","v":""},{"$f":"IF(ISERROR(VLOOKUP($B6*10+$H$2,データ貼付!$B$3:$F$102,5,FALSE)),\"\",VLOOKUP($B6*10+$H$2,データ貼付!$B$3:$F$102,5,FALSE))","v":""},{"$f":"IF(ISERROR(VLOOKUP($B6*10+$I$2,データ貼付!$B$3:$F$102,5,FALSE)),\"\",VLOOKUP($B6*10+$I$2,データ貼付!$B$3:$F$102,5,FALSE))","v":""},"",""]
[null,5,{"$f":"VLOOKUP($B7,データ貼付!$A$3:$I$102,4,FALSE)","v":{"$error":"#N/A"}},{"$f":"VLOOKUP($B7,データ貼付!$A$3:$I$102,5,FALSE)","v":{"$error":"#N/A"}},{"$f":"IF(ISERROR(VLOOKUP($B7*10+$E$2,データ貼付!$B$3:$F$102,5,FALSE)),\"\",VLOOKUP($B7*10+$E$2,データ貼付!$B$3:$F$102,5,FALSE))","v":""},{"$f":"IF(ISERROR(VLOOKUP($B7*10+$F$2,データ貼付!$B$3:$F$102,5,FALSE)),\"\",VLOOKUP($B7*10+$F$2,データ貼付!$B$3:$F$102,5,FALSE))","v":""},{"$f":"IF(ISERROR(VLOOKUP($B7*10+$G$2,データ貼付!$B$3:$F$102,5,FALSE)),\"\",VLOOKUP($B7*10+$G$2,データ貼付!$B$3:$F$102,5,FALSE))","v":""},{"$f":"IF(ISERROR(VLOOKUP($B7*10+$H$2,データ貼付!$B$3:$F$102,5,FALSE)),\"\",VLOOKUP($B7*10+$H$2,データ貼付!$B$3:$F$102,5,FALSE))","v":""},{"$f":"IF(ISERROR(VLOOKUP($B7*10+$I$2,データ貼付!$B$3:$F$102,5,FALSE)),\"\",VLOOKUP($B7*10+$I$2,データ貼付!$B$3:$F$102,5,FALSE))","v":""},"",""]
[null,6,{"$f":"VLOOKUP($B8,データ貼付!$A$3:$I$102,4,FALSE)","v":{"$error":"#N/A"}},{"$f":"VLOOKUP($B8,データ貼付!$A$3:$I$102,5,FALSE)","v":{"$error":"#N/A"}},{"$f":"IF(ISERROR(VLOOKUP($B8*10+$E$2,データ貼付!$B$3:$F$102,5,FALSE)),\"\",VLOOKUP($B8*10+$E$2,データ貼付!$B$3:$F$102,5,FALSE))","v":""},{"$f":"IF(ISERROR(VLOOKUP($B8*10+$F$2,データ貼付!$B$3:$F$102,5,FALSE)),\"\",VLOOKUP($B8*10+$F$2,データ貼付!$B$3:$F$102,5,FALSE))","v":""},{"$f":"IF(ISERROR(VLOOKUP($B8*10+$G$2,データ貼付!$B$3:$F$102,5,FALSE)),\"\",VLOOKUP($B8*10+$G$2,データ貼付!$B$3:$F$102,5,FALSE))","v":""},{"$f":"IF(ISERROR(VLOOKUP($B8*10+$H$2,データ貼付!$B$3:$F$102,5,FALSE)),\"\",VLOOKUP($B8*10+$H$2,データ貼付!$B$3:$F$102,5,FALSE))","v":""},{"$f":"IF(ISERROR(VLOOKUP($B8*10+$I$2,データ貼付!$B$3:$F$102,5,FALSE)),\"\",VLOOKUP($B8*10+$I$2,データ貼付!$B$3:$F$102,5,FALSE))","v":""},"",""]
[null,7,{"$f":"VLOOKUP($B9,データ貼付!$A$3:$I$102,4,FALSE)","v":{"$error":"#N/A"}},{"$f":"VLOOKUP($B9,データ貼付!$A$3:$I$102,5,FALSE)","v":{"$error":"#N/A"}},{"$f":"IF(ISERROR(VLOOKUP($B9*10+$E$2,データ貼付!$B$3:$F$102,5,FALSE)),\"\",VLOOKUP($B9*10+$E$2,データ貼付!$B$3:$F$102,5,FALSE))","v":""},{"$f":"IF(ISERROR(VLOOKUP($B9*10+$F$2,データ貼付!$B$3:$F$102,5,FALSE)),\"\",VLOOKUP($B9*10+$F$2,データ貼付!$B$3:$F$102,5,FALSE))","v":""},{"$f":"IF(ISERROR(VLOOKUP($B9*10+$G$2,データ貼付!$B$3:$F$102,5,FALSE)),\"\",VLOOKUP($B9*10+$G$2,データ貼付!$B$3:$F$102,5,FALSE))","v":""},{"$f":"IF(ISERROR(VLOOKUP($B9*10+$H$2,データ貼付!$B$3:$F$102,5,FALSE)),\"\",VLOOKUP($B9*10+$H$2,データ貼付!$B$3:$F$102,5,FALSE))","v":""},{"$f":"IF(ISERROR(VLOOKUP($B9*10+$I$2,データ貼付!$B$3:$F$102,5,FALSE)),\"\",VLOOKUP($B9*10+$I$2,データ貼付!$B$3:$F$102,5,FALSE))","v":""},"",""]
[null,8,{"$f":"VLOOKUP($B10,データ貼付!$A$3:$I$102,4,FALSE)","v":{"$error":"#N/A"}},{"$f":"VLOOKUP($B10,データ貼付!$A$3:$I$102,5,FALSE)","v":{"$error":"#N/A"}},{"$f":"IF(ISERROR(VLOOKUP($B10*10+$E$2,データ貼付!$B$3:$F$102,5,FALSE)),\"\",VLOOKUP($B10*10+$E$2,データ貼付!$B$3:$F$102,5,FALSE))","v":""},{"$f":"IF(ISERROR(VLOOKUP($B10*10+$F$2,データ貼付!$B$3:$F$102,5,FALSE)),\"\",VLOOKUP($B10*10+$F$2,データ貼付!$B$3:$F$102,5,FALSE))","v":""},{"$f":"IF(ISERROR(VLOOKUP($B10*10+$G$2,データ貼付!$B$3:$F$102,5,FALSE)),\"\",VLOOKUP($B10*10+$G$2,データ貼付!$B$3:$F$102,5,FALSE))","v":""},{"$f":"IF(ISERROR(VLOOKUP($B10*10+$H$2,データ貼付!$B$3:$F$102,5,FALSE)),\"\",VLOOKUP($B10*10+$H$2,データ貼付!$B$3:$F$102,5,FALSE))","v":""},{"$f":"IF(ISERROR(VLOOKUP($B10*10+$I$2,データ貼付!$B$3:$F$102,5,FALSE)),\"\",VLOOKUP($B10*10+$I$2,データ貼付!$B$3:$F$102,5,FALSE))","v":""},"",""]
[null,9,{"$f":"VLOOKUP($B11,データ貼付!$A$3:$I$102,4,FALSE)","v":{"$error":"#N/A"}},{"$f":"VLOOKUP($B11,データ貼付!$A$3:$I$102,5,FALSE)","v":{"$error":"#N/A"}},{"$f":"IF(ISERROR(VLOOKUP($B11*10+$E$2,データ貼付!$B$3:$F$102,5,FALSE)),\"\",VLOOKUP($B11*10+$E$2,データ貼付!$B$3:$F$102,5,FALSE))","v":""},{"$f":"IF(ISERROR(VLOOKUP($B11*10+$F$2,データ貼付!$B$3:$F$102,5,FALSE)),\"\",VLOOKUP($B11*10+$F$2,データ貼付!$B$3:$F$102,5,FALSE))","v":""},{"$f":"IF(ISERROR(VLOOKUP($B11*10+$G$2,データ貼付!$B$3:$F$102,5,FALSE)),\"\",VLOOKUP($B11*10+$G$2,データ貼付!$B$3:$F$102,5,FALSE))","v":""},{"$f":"IF(ISERROR(VLOOKUP($B11*10+$H$2,データ貼付!$B$3:$F$102,5,FALSE)),\"\",VLOOKUP($B11*10+$H$2,データ貼付!$B$3:$F$102,5,FALSE))","v":""},{"$f":"IF(ISERROR(VLOOKUP($B11*10+$I$2,データ貼付!$B$3:$F$102,5,FALSE)),\"\",VLOOKUP($B11*10+$I$2,データ貼付!$B$3:$F$102,5,FALSE))","v":""},"",""]
[null,10,{"$f":"VLOOKUP($B12,データ貼付!$A$3:$I$102,4,FALSE)","v":{"$error":"#N/A"}},{"$f":"VLOOKUP($B12,データ貼付!$A$3:$I$102,5,FALSE)","v":{"$error":"#N/A"}},{"$f":"IF(ISERROR(VLOOKUP($B12*10+$E$2,データ貼付!$B$3:$F$102,5,FALSE)),\"\",VLOOKUP($B12*10+$E$2,データ貼付!$B$3:$F$102,5,FALSE))","v":""},{"$f":"IF(ISERROR(VLOOKUP($B12*10+$F$2,データ貼付!$B$3:$F$102,5,FALSE)),\"\",VLOOKUP($B12*10+$F$2,データ貼付!$B$3:$F$102,5,FALSE))","v":""},{"$f":"IF(ISERROR(VLOOKUP($B12*10+$G$2,データ貼付!$B$3:$F$102,5,FALSE)),\"\",VLOOKUP($B12*10+$G$2,データ貼付!$B$3:$F$102,5,FALSE))","v":""},{"$f":"IF(ISERROR(VLOOKUP($B12*10+$H$2,データ貼付!$B$3:$F$102,5,FALSE)),\"\",VLOOKUP($B12*10+$H$2,データ貼付!$B$3:$F$102,5,FALSE))","v":""},{"$f":"IF(ISERROR(VLOOKUP($B12*10+$I$2,データ貼付!$B$3:$F$102,5,FALSE)),\"\",VLOOKUP($B12*10+$I$2,データ貼付!$B$3:$F$102,5,FALSE))","v":""},"",""]
[null,11,{"$f":"VLOOKUP($B13,データ貼付!$A$3:$I$102,4,FALSE)","v":{"$error":"#N/A"}},{"$f":"VLOOKUP($B13,データ貼付!$A$3:$I$102,5,FALSE)","v":{"$error":"#N/A"}},{"$f":"IF(ISERROR(VLOOKUP($B13*10+$E$2,データ貼付!$B$3:$F$102,5,FALSE)),\"\",VLOOKUP($B13*10+$E$2,データ貼付!$B$3:$F$102,5,FALSE))","v":""},{"$f":"IF(ISERROR(VLOOKUP($B13*10+$F$2,データ貼付!$B$3:$F$102,5,FALSE)),\"\",VLOOKUP($B13*10+$F$2,データ貼付!$B$3:$F$102,5,FALSE))","v":""},{"$f":"IF(ISERROR(VLOOKUP($B13*10+$G$2,データ貼付!$B$3:$F$102,5,FALSE)),\"\",VLOOKUP($B13*10+$G$2,データ貼付!$B$3:$F$102,5,FALSE))","v":""},{"$f":"IF(ISERROR(VLOOKUP($B13*10+$H$2,データ貼付!$B$3:$F$102,5,FALSE)),\"\",VLOOKUP($B13*10+$H$2,データ貼付!$B$3:$F$102,5,FALSE))","v":""},{"$f":"IF(ISERROR(VLOOKUP($B13*10+$I$2,データ貼付!$B$3:$F$102,5,FALSE)),\"\",VLOOKUP($B13*10+$I$2,データ貼付!$B$3:$F$102,5,FALSE))","v":""},"",""]
[null,12,{"$f":"VLOOKUP($B14,データ貼付!$A$3:$I$102,4,FALSE)","v":{"$error":"#N/A"}},{"$f":"VLOOKUP($B14,データ貼付!$A$3:$I$102,5,FALSE)","v":{"$error":"#N/A"}},{"$f":"IF(ISERROR(VLOOKUP($B14*10+$E$2,データ貼付!$B$3:$F$102,5,FALSE)),\"\",VLOOKUP($B14*10+$E$2,データ貼付!$B$3:$F$102,5,FALSE))","v":""},{"$f":"IF(ISERROR(VLOOKUP($B14*10+$F$2,データ貼付!$B$3:$F$102,5,FALSE)),\"\",VLOOKUP($B14*10+$F$2,データ貼付!$B$3:$F$102,5,FALSE))","v":""},{"$f":"IF(ISERROR(VLOOKUP($B14*10+$G$2,データ貼付!$B$3:$F$102,5,FALSE)),\"\",VLOOKUP($B14*10+$G$2,データ貼付!$B$3:$F$102,5,FALSE))","v":""},{"$f":"IF(ISERROR(VLOOKUP($B14*10+$H$2,データ貼付!$B$3:$F$102,5,FALSE)),\"\",VLOOKUP($B14*10+$H$2,データ貼付!$B$3:$F$102,5,FALSE))","v":""},{"$f":"IF(ISERROR(VLOOKUP($B14*10+$I$2,データ貼付!$B$3:$F$102,5,FALSE)),\"\",VLOOKUP($B14*10+$I$2,データ貼付!$B$3:$F$102,5,FALSE))","v":""},"",""]
[null,13,{"$f":"VLOOKUP($B15,データ貼付!$A$3:$I$102,4,FALSE)","v":{"$error":"#N/A"}},{"$f":"VLOOKUP($B15,データ貼付!$A$3:$I$102,5,FALSE)","v":{"$error":"#N/A"}},{"$f":"IF(ISERROR(VLOOKUP($B15*10+$E$2,データ貼付!$B$3:$F$102,5,FALSE)),\"\",VLOOKUP($B15*10+$E$2,データ貼付!$B$3:$F$102,5,FALSE))","v":""},{"$f":"IF(ISERROR(VLOOKUP($B15*10+$F$2,データ貼付!$B$3:$F$102,5,FALSE)),\"\",VLOOKUP($B15*10+$F$2,データ貼付!$B$3:$F$102,5,FALSE))","v":""},{"$f":"IF(ISERROR(VLOOKUP($B15*10+$G$2,データ貼付!$B$3:$F$102,5,FALSE)),\"\",VLOOKUP($B15*10+$G$2,データ貼付!$B$3:$F$102,5,FALSE))","v":""},{"$f":"IF(ISERROR(VLOOKUP($B15*10+$H$2,データ貼付!$B$3:$F$102,5,FALSE)),\"\",VLOOKUP($B15*10+$H$2,データ貼付!$B$3:$F$102,5,FALSE))","v":""},{"$f":"IF(ISERROR(VLOOKUP($B15*10+$I$2,データ貼付!$B$3:$F$102,5,FALSE)),\"\",VLOOKUP($B15*10+$I$2,データ貼付!$B$3:$F$102,5,FALSE))","v":""},"",""]
[null,14,{"$f":"VLOOKUP($B16,データ貼付!$A$3:$I$102,4,FALSE)","v":{"$error":"#N/A"}},{"$f":"VLOOKUP($B16,データ貼付!$A$3:$I$102,5,FALSE)","v":{"$error":"#N/A"}},{"$f":"IF(ISERROR(VLOOKUP($B16*10+$E$2,データ貼付!$B$3:$F$102,5,FALSE)),\"\",VLOOKUP($B16*10+$E$2,データ貼付!$B$3:$F$102,5,FALSE))","v":""},{"$f":"IF(ISERROR(VLOOKUP($B16*10+$F$2,データ貼付!$B$3:$F$102,5,FALSE)),\"\",VLOOKUP($B16*10+$F$2,データ貼付!$B$3:$F$102,5,FALSE))","v":""},{"$f":"IF(ISERROR(VLOOKUP($B16*10+$G$2,データ貼付!$B$3:$F$102,5,FALSE)),\"\",VLOOKUP($B16*10+$G$2,データ貼付!$B$3:$F$102,5,FALSE))","v":""},{"$f":"IF(ISERROR(VLOOKUP($B16*10+$H$2,データ貼付!$B$3:$F$102,5,FALSE)),\"\",VLOOKUP($B16*10+$H$2,データ貼付!$B$3:$F$102,5,FALSE))","v":""},{"$f":"IF(ISERROR(VLOOKUP($B16*10+$I$2,データ貼付!$B$3:$F$102,5,FALSE)),\"\",VLOOKUP($B16*10+$I$2,データ貼付!$B$3:$F$102,5,FALSE))","v":""},"",""]
[null,15,{"$f":"VLOOKUP($B17,データ貼付!$A$3:$I$102,4,FALSE)","v":{"$error":"#N/A"}},{"$f":"VLOOKUP($B17,データ貼付!$A$3:$I$102,5,FALSE)","v":{"$error":"#N/A"}},{"$f":"IF(ISERROR(VLOOKUP($B17*10+$E$2,データ貼付!$B$3:$F$102,5,FALSE)),\"\",VLOOKUP($B17*10+$E$2,データ貼付!$B$3:$F$102,5,FALSE))","v":""},{"$f":"IF(ISERROR(VLOOKUP($B17*10+$F$2,データ貼付!$B$3:$F$102,5,FALSE)),\"\",VLOOKUP($B17*10+$F$2,データ貼付!$B$3:$F$102,5,FALSE))","v":""},{"$f":"IF(ISERROR(VLOOKUP($B17*10+$G$2,データ貼付!$B$3:$F$102,5,FALSE)),\"\",VLOOKUP($B17*10+$G$2,データ貼付!$B$3:$F$102,5,FALSE))","v":""},{"$f":"IF(ISERROR(VLOOKUP($B17*10+$H$2,データ貼付!$B$3:$F$102,5,FALSE)),\"\",VLOOKUP($B17*10+$H$2,データ貼付!$B$3:$F$102,5,FALSE))","v":""},{"$f":"IF(ISERROR(VLOOKUP($B17*10+$I$2,データ貼付!$B$3:$F$102,5,FALSE)),\"\",VLOOKUP($B17*10+$I$2,データ貼付!$B$3:$F$102,5,FALSE))","v":""},"",""]
[null,16,{"$f":"VLOOKUP($B18,データ貼付!$A$3:$I$102,4,FALSE)","v":{"$error":"#N/A"}},{"$f":"VLOOKUP($B18,データ貼付!$A$3:$I$102,5,FALSE)","v":{"$error":"#N/A"}},{"$f":"IF(ISERROR(VLOOKUP($B18*10+$E$2,データ貼付!$B$3:$F$102,5,FALSE)),\"\",VLOOKUP($B18*10+$E$2,データ貼付!$B$3:$F$102,5,FALSE))","v":""},{"$f":"IF(ISERROR(VLOOKUP($B18*10+$F$2,データ貼付!$B$3:$F$102,5,FALSE)),\"\",VLOOKUP($B18*10+$F$2,データ貼付!$B$3:$F$102,5,FALSE))","v":""},{"$f":"IF(ISERROR(VLOOKUP($B18*10+$G$2,データ貼付!$B$3:$F$102,5,FALSE)),\"\",VLOOKUP($B18*10+$G$2,データ貼付!$B$3:$F$102,5,FALSE))","v":""},{"$f":"IF(ISERROR(VLOOKUP($B18*10+$H$2,データ貼付!$B$3:$F$102,5,FALSE)),\"\",VLOOKUP($B18*10+$H$2,データ貼付!$B$3:$F$102,5,FALSE))","v":""},{"$f":"IF(ISERROR(VLOOKUP($B18*10+$I$2,データ貼付!$B$3:$F$102,5,FALSE)),\"\",VLOOKUP($B18*10+$I$2,データ貼付!$B$3:$F$102,5,FALSE))","v":""},"",""]
[null,17,{"$f":"VLOOKUP($B19,データ貼付!$A$3:$I$102,4,FALSE)","v":{"$error":"#N/A"}},{"$f":"VLOOKUP($B19,データ貼付!$A$3:$I$102,5,FALSE)","v":{"$error":"#N/A"}},{"$f":"IF(ISERROR(VLOOKUP($B19*10+$E$2,データ貼付!$B$3:$F$102,5,FALSE)),\"\",VLOOKUP($B19*10+$E$2,データ貼付!$B$3:$F$102,5,FALSE))","v":""},{"$f":"IF(ISERROR(VLOOKUP($B19*10+$F$2,データ貼付!$B$3:$F$102,5,FALSE)),\"\",VLOOKUP($B19*10+$F$2,データ貼付!$B$3:$F$102,5,FALSE))","v":""},{"$f":"IF(ISERROR(VLOOKUP($B19*10+$G$2,データ貼付!$B$3:$F$102,5,FALSE)),\"\",VLOOKUP($B19*10+$G$2,データ貼付!$B$3:$F$102,5,FALSE))","v":""},{"$f":"IF(ISERROR(VLOOKUP($B19*10+$H$2,データ貼付!$B$3:$F$102,5,FALSE)),\"\",VLOOKUP($B19*10+$H$2,データ貼付!$B$3:$F$102,5,FALSE))","v":""},{"$f":"IF(ISERROR(VLOOKUP($B19*10+$I$2,データ貼付!$B$3:$F$102,5,FALSE)),\"\",VLOOKUP($B19*10+$I$2,データ貼付!$B$3:$F$102,5,FALSE))","v":""},"",""]
[null,18,{"$f":"VLOOKUP($B20,データ貼付!$A$3:$I$102,4,FALSE)","v":{"$error":"#N/A"}},{"$f":"VLOOKUP($B20,データ貼付!$A$3:$I$102,5,FALSE)","v":{"$error":"#N/A"}},{"$f":"IF(ISERROR(VLOOKUP($B20*10+$E$2,データ貼付!$B$3:$F$102,5,FALSE)),\"\",VLOOKUP($B20*10+$E$2,データ貼付!$B$3:$F$102,5,FALSE))","v":""},{"$f":"IF(ISERROR(VLOOKUP($B20*10+$F$2,データ貼付!$B$3:$F$102,5,FALSE)),\"\",VLOOKUP($B20*10+$F$2,データ貼付!$B$3:$F$102,5,FALSE))","v":""},{"$f":"IF(ISERROR(VLOOKUP($B20*10+$G$2,データ貼付!$B$3:$F$102,5,FALSE)),\"\",VLOOKUP($B20*10+$G$2,データ貼付!$B$3:$F$102,5,FALSE))","v":""},{"$f":"IF(ISERROR(VLOOKUP($B20*10+$H$2,データ貼付!$B$3:$F$102,5,FALSE)),\"\",VLOOKUP($B20*10+$H$2,データ貼付!$B$3:$F$102,5,FALSE))","v":""},{"$f":"IF(ISERROR(VLOOKUP($B20*10+$I$2,データ貼付!$B$3:$F$102,5,FALSE)),\"\",VLOOKUP($B20*10+$I$2,データ貼付!$B$3:$F$102,5,FALSE))","v":""},"",""]
[null,19,{"$f":"VLOOKUP($B21,データ貼付!$A$3:$I$102,4,FALSE)","v":{"$error":"#N/A"}},{"$f":"VLOOKUP($B21,データ貼付!$A$3:$I$102,5,FALSE)","v":{"$error":"#N/A"}},{"$f":"IF(ISERROR(VLOOKUP($B21*10+$E$2,データ貼付!$B$3:$F$102,5,FALSE)),\"\",VLOOKUP($B21*10+$E$2,データ貼付!$B$3:$F$102,5,FALSE))","v":""},{"$f":"IF(ISERROR(VLOOKUP($B21*10+$F$2,データ貼付!$B$3:$F$102,5,FALSE)),\"\",VLOOKUP($B21*10+$F$2,データ貼付!$B$3:$F$102,5,FALSE))","v":""},{"$f":"IF(ISERROR(VLOOKUP($B21*10+$G$2,データ貼付!$B$3:$F$102,5,FALSE)),\"\",VLOOKUP($B21*10+$G$2,データ貼付!$B$3:$F$102,5,FALSE))","v":""},{"$f":"IF(ISERROR(VLOOKUP($B21*10+$H$2,データ貼付!$B$3:$F$102,5,FALSE)),\"\",VLOOKUP($B21*10+$H$2,データ貼付!$B$3:$F$102,5,FALSE))","v":""},{"$f":"IF(ISERROR(VLOOKUP($B21*10+$I$2,データ貼付!$B$3:$F$102,5,FALSE)),\"\",VLOOKUP($B21*10+$I$2,データ貼付!$B$3:$F$102,5,FALSE))","v":""},"",""]
[null,20,{"$f":"VLOOKUP($B22,データ貼付!$A$3:$I$102,4,FALSE)","v":{"$error":"#N/A"}},{"$f":"VLOOKUP($B22,データ貼付!$A$3:$I$102,5,FALSE)","v":{"$error":"#N/A"}},{"$f":"IF(ISERROR(VLOOKUP($B22*10+$E$2,データ貼付!$B$3:$F$102,5,FALSE)),\"\",VLOOKUP($B22*10+$E$2,データ貼付!$B$3:$F$102,5,FALSE))","v":""},{"$f":"IF(ISERROR(VLOOKUP($B22*10+$F$2,データ貼付!$B$3:$F$102,5,FALSE)),\"\",VLOOKUP($B22*10+$F$2,データ貼付!$B$3:$F$102,5,FALSE))","v":""},{"$f":"IF(ISERROR(VLOOKUP($B22*10+$G$2,データ貼付!$B$3:$F$102,5,FALSE)),\"\",VLOOKUP($B22*10+$G$2,データ貼付!$B$3:$F$102,5,FALSE))","v":""},{"$f":"IF(ISERROR(VLOOKUP($B22*10+$H$2,データ貼付!$B$3:$F$102,5,FALSE)),\"\",VLOOKUP($B22*10+$H$2,データ貼付!$B$3:$F$102,5,FALSE))","v":""},{"$f":"IF(ISERROR(VLOOKUP($B22*10+$I$2,データ貼付!$B$3:$F$102,5,FALSE)),\"\",VLOOKUP($B22*10+$I$2,データ貼付!$B$3:$F$102,5,FALSE))","v":""},"",""]
[null,21,{"$f":"VLOOKUP($B23,データ貼付!$A$3:$I$102,4,FALSE)","v":{"$error":"#N/A"}},{"$f":"VLOOKUP($B23,データ貼付!$A$3:$I$102,5,FALSE)","v":{"$error":"#N/A"}},{"$f":"IF(ISERROR(VLOOKUP($B23*10+$E$2,データ貼付!$B$3:$F$102,5,FALSE)),\"\",VLOOKUP($B23*10+$E$2,データ貼付!$B$3:$F$102,5,FALSE))","v":""},{"$f":"IF(ISERROR(VLOOKUP($B23*10+$F$2,データ貼付!$B$3:$F$102,5,FALSE)),\"\",VLOOKUP($B23*10+$F$2,データ貼付!$B$3:$F$102,5,FALSE))","v":""},{"$f":"IF(ISERROR(VLOOKUP($B23*10+$G$2,データ貼付!$B$3:$F$102,5,FALSE)),\"\",VLOOKUP($B23*10+$G$2,データ貼付!$B$3:$F$102,5,FALSE))","v":""},{"$f":"IF(ISERROR(VLOOKUP($B23*10+$H$2,データ貼付!$B$3:$F$102,5,FALSE)),\"\",VLOOKUP($B23*10+$H$2,データ貼付!$B$3:$F$102,5,FALSE))","v":""},{"$f":"IF(ISERROR(VLOOKUP($B23*10+$I$2,データ貼付!$B$3:$F$102,5,FALSE)),\"\",VLOOKUP($B23*10+$I$2,データ貼付!$B$3:$F$102,5,FALSE))","v":""},"",""]
[null,22,{"$f":"VLOOKUP($B24,データ貼付!$A$3:$I$102,4,FALSE)","v":{"$error":"#N/A"}},{"$f":"VLOOKUP($B24,データ貼付!$A$3:$I$102,5,FALSE)","v":{"$error":"#N/A"}},{"$f":"IF(ISERROR(VLOOKUP($B24*10+$E$2,データ貼付!$B$3:$F$102,5,FALSE)),\"\",VLOOKUP($B24*10+$E$2,データ貼付!$B$3:$F$102,5,FALSE))","v":""},{"$f":"IF(ISERROR(VLOOKUP($B24*10+$F$2,データ貼付!$B$3:$F$102,5,FALSE)),\"\",VLOOKUP($B24*10+$F$2,データ貼付!$B$3:$F$102,5,FALSE))","v":""},{"$f":"IF(ISERROR(VLOOKUP($B24*10+$G$2,データ貼付!$B$3:$F$102,5,FALSE)),\"\",VLOOKUP($B24*10+$G$2,データ貼付!$B$3:$F$102,5,FALSE))","v":""},{"$f":"IF(ISERROR(VLOOKUP($B24*10+$H$2,データ貼付!$B$3:$F$102,5,FALSE)),\"\",VLOOKUP($B24*10+$H$2,データ貼付!$B$3:$F$102,5,FALSE))","v":""},{"$f":"IF(ISERROR(VLOOKUP($B24*10+$I$2,データ貼付!$B$3:$F$102,5,FALSE)),\"\",VLOOKUP($B24*10+$I$2,データ貼付!$B$3:$F$102,5,FALSE))","v":""},"",""]
[null,23,{"$f":"VLOOKUP($B25,データ貼付!$A$3:$I$102,4,FALSE)","v":{"$error":"#N/A"}},{"$f":"VLOOKUP($B25,データ貼付!$A$3:$I$102,5,FALSE)","v":{"$error":"#N/A"}},{"$f":"IF(ISERROR(VLOOKUP($B25*10+$E$2,データ貼付!$B$3:$F$102,5,FALSE)),\"\",VLOOKUP($B25*10+$E$2,データ貼付!$B$3:$F$102,5,FALSE))","v":""},{"$f":"IF(ISERROR(VLOOKUP($B25*10+$F$2,データ貼付!$B$3:$F$102,5,FALSE)),\"\",VLOOKUP($B25*10+$F$2,データ貼付!$B$3:$F$102,5,FALSE))","v":""},{"$f":"IF(ISERROR(VLOOKUP($B25*10+$G$2,データ貼付!$B$3:$F$102,5,FALSE)),\"\",VLOOKUP($B25*10+$G$2,データ貼付!$B$3:$F$102,5,FALSE))","v":""},{"$f":"IF(ISERROR(VLOOKUP($B25*10+$H$2,データ貼付!$B$3:$F$102,5,FALSE)),\"\",VLOOKUP($B25*10+$H$2,データ貼付!$B$3:$F$102,5,FALSE))","v":""},{"$f":"IF(ISERROR(VLOOKUP($B25*10+$I$2,データ貼付!$B$3:$F$102,5,FALSE)),\"\",VLOOKUP($B25*10+$I$2,データ貼付!$B$3:$F$102,5,FALSE))","v":""},"",""]
[null,24,{"$f":"VLOOKUP($B26,データ貼付!$A$3:$I$102,4,FALSE)","v":{"$error":"#N/A"}},{"$f":"VLOOKUP($B26,データ貼付!$A$3:$I$102,5,FALSE)","v":{"$error":"#N/A"}},{"$f":"IF(ISERROR(VLOOKUP($B26*10+$E$2,データ貼付!$B$3:$F$102,5,FALSE)),\"\",VLOOKUP($B26*10+$E$2,データ貼付!$B$3:$F$102,5,FALSE))","v":""},{"$f":"IF(ISERROR(VLOOKUP($B26*10+$F$2,データ貼付!$B$3:$F$102,5,FALSE)),\"\",VLOOKUP($B26*10+$F$2,データ貼付!$B$3:$F$102,5,FALSE))","v":""},{"$f":"IF(ISERROR(VLOOKUP($B26*10+$G$2,データ貼付!$B$3:$F$102,5,FALSE)),\"\",VLOOKUP($B26*10+$G$2,データ貼付!$B$3:$F$102,5,FALSE))","v":""},{"$f":"IF(ISERROR(VLOOKUP($B26*10+$H$2,データ貼付!$B$3:$F$102,5,FALSE)),\"\",VLOOKUP($B26*10+$H$2,データ貼付!$B$3:$F$102,5,FALSE))","v":""},{"$f":"IF(ISERROR(VLOOKUP($B26*10+$I$2,データ貼付!$B$3:$F$102,5,FALSE)),\"\",VLOOKUP($B26*10+$I$2,データ貼付!$B$3:$F$102,5,FALSE))","v":""},"",""]
[null,25,{"$f":"VLOOKUP($B27,データ貼付!$A$3:$I$102,4,FALSE)","v":{"$error":"#N/A"}},{"$f":"VLOOKUP($B27,データ貼付!$A$3:$I$102,5,FALSE)","v":{"$error":"#N/A"}},{"$f":"IF(ISERROR(VLOOKUP($B27*10+$E$2,データ貼付!$B$3:$F$102,5,FALSE)),\"\",VLOOKUP($B27*10+$E$2,データ貼付!$B$3:$F$102,5,FALSE))","v":""},{"$f":"IF(ISERROR(VLOOKUP($B27*10+$F$2,データ貼付!$B$3:$F$102,5,FALSE)),\"\",VLOOKUP($B27*10+$F$2,データ貼付!$B$3:$F$102,5,FALSE))","v":""},{"$f":"IF(ISERROR(VLOOKUP($B27*10+$G$2,データ貼付!$B$3:$F$102,5,FALSE)),\"\",VLOOKUP($B27*10+$G$2,データ貼付!$B$3:$F$102,5,FALSE))","v":""},{"$f":"IF(ISERROR(VLOOKUP($B27*10+$H$2,データ貼付!$B$3:$F$102,5,FALSE)),\"\",VLOOKUP($B27*10+$H$2,データ貼付!$B$3:$F$102,5,FALSE))","v":""},{"$f":"IF(ISERROR(VLOOKUP($B27*10+$I$2,データ貼付!$B$3:$F$102,5,FALSE)),\"\",VLOOKUP($B27*10+$I$2,データ貼付!$B$3:$F$102,5,FALSE))","v":""},"",""]
[null,26,{"$f":"VLOOKUP($B28,データ貼付!$A$3:$I$102,4,FALSE)","v":{"$error":"#N/A"}},{"$f":"VLOOKUP($B28,データ貼付!$A$3:$I$102,5,FALSE)","v":{"$error":"#N/A"}},{"$f":"IF(ISERROR(VLOOKUP($B28*10+$E$2,データ貼付!$B$3:$F$102,5,FALSE)),\"\",VLOOKUP($B28*10+$E$2,データ貼付!$B$3:$F$102,5,FALSE))","v":""},{"$f":"IF(ISERROR(VLOOKUP($B28*10+$F$2,データ貼付!$B$3:$F$102,5,FALSE)),\"\",VLOOKUP($B28*10+$F$2,データ貼付!$B$3:$F$102,5,FALSE))","v":""},{"$f":"IF(ISERROR(VLOOKUP($B28*10+$G$2,データ貼付!$B$3:$F$102,5,FALSE)),\"\",VLOOKUP($B28*10+$G$2,データ貼付!$B$3:$F$102,5,FALSE))","v":""},{"$f":"IF(ISERROR(VLOOKUP($B28*10+$H$2,データ貼付!$B$3:$F$102,5,FALSE)),\"\",VLOOKUP($B28*10+$H$2,データ貼付!$B$3:$F$102,5,FALSE))","v":""},{"$f":"IF(ISERROR(VLOOKUP($B28*10+$I$2,データ貼付!$B$3:$F$102,5,FALSE)),\"\",VLOOKUP($B28*10+$I$2,データ貼付!$B$3:$F$102,5,FALSE))","v":""},"",""]
[null,27,{"$f":"VLOOKUP($B29,データ貼付!$A$3:$I$102,4,FALSE)","v":{"$error":"#N/A"}},{"$f":"VLOOKUP($B29,データ貼付!$A$3:$I$102,5,FALSE)","v":{"$error":"#N/A"}},{"$f":"IF(ISERROR(VLOOKUP($B29*10+$E$2,データ貼付!$B$3:$F$102,5,FALSE)),\"\",VLOOKUP($B29*10+$E$2,データ貼付!$B$3:$F$102,5,FALSE))","v":""},{"$f":"IF(ISERROR(VLOOKUP($B29*10+$F$2,データ貼付!$B$3:$F$102,5,FALSE)),\"\",VLOOKUP($B29*10+$F$2,データ貼付!$B$3:$F$102,5,FALSE))","v":""},{"$f":"IF(ISERROR(VLOOKUP($B29*10+$G$2,データ貼付!$B$3:$F$102,5,FALSE)),\"\",VLOOKUP($B29*10+$G$2,データ貼付!$B$3:$F$102,5,FALSE))","v":""},{"$f":"IF(ISERROR(VLOOKUP($B29*10+$H$2,データ貼付!$B$3:$F$102,5,FALSE)),\"\",VLOOKUP($B29*10+$H$2,データ貼付!$B$3:$F$102,5,FALSE))","v":""},{"$f":"IF(ISERROR(VLOOKUP($B29*10+$I$2,データ貼付!$B$3:$F$102,5,FALSE)),\"\",VLOOKUP($B29*10+$I$2,データ貼付!$B$3:$F$102,5,FALSE))","v":""},"",""]
[null,28,{"$f":"VLOOKUP($B30,データ貼付!$A$3:$I$102,4,FALSE)","v":{"$error":"#N/A"}},{"$f":"VLOOKUP($B30,データ貼付!$A$3:$I$102,5,FALSE)","v":{"$error":"#N/A"}},{"$f":"IF(ISERROR(VLOOKUP($B30*10+$E$2,データ貼付!$B$3:$F$102,5,FALSE)),\"\",VLOOKUP($B30*10+$E$2,データ貼付!$B$3:$F$102,5,FALSE))","v":""},{"$f":"IF(ISERROR(VLOOKUP($B30*10+$F$2,データ貼付!$B$3:$F$102,5,FALSE)),\"\",VLOOKUP($B30*10+$F$2,データ貼付!$B$3:$F$102,5,FALSE))","v":""},{"$f":"IF(ISERROR(VLOOKUP($B30*10+$G$2,データ貼付!$B$3:$F$102,5,FALSE)),\"\",VLOOKUP($B30*10+$G$2,データ貼付!$B$3:$F$102,5,FALSE))","v":""},{"$f":"IF(ISERROR(VLOOKUP($B30*10+$H$2,データ貼付!$B$3:$F$102,5,FALSE)),\"\",VLOOKUP($B30*10+$H$2,データ貼付!$B$3:$F$102,5,FALSE))","v":""},{"$f":"IF(ISERROR(VLOOKUP($B30*10+$I$2,データ貼付!$B$3:$F$102,5,FALSE)),\"\",VLOOKUP($B30*10+$I$2,データ貼付!$B$3:$F$102,5,FALSE))","v":""},"",""]
[null,29,{"$f":"VLOOKUP($B31,データ貼付!$A$3:$I$102,4,FALSE)","v":{"$error":"#N/A"}},{"$f":"VLOOKUP($B31,データ貼付!$A$3:$I$102,5,FALSE)","v":{"$error":"#N/A"}},{"$f":"IF(ISERROR(VLOOKUP($B31*10+$E$2,データ貼付!$B$3:$F$102,5,FALSE)),\"\",VLOOKUP($B31*10+$E$2,データ貼付!$B$3:$F$102,5,FALSE))","v":""},{"$f":"IF(ISERROR(VLOOKUP($B31*10+$F$2,データ貼付!$B$3:$F$102,5,FALSE)),\"\",VLOOKUP($B31*10+$F$2,データ貼付!$B$3:$F$102,5,FALSE))","v":""},{"$f":"IF(ISERROR(VLOOKUP($B31*10+$G$2,データ貼付!$B$3:$F$102,5,FALSE)),\"\",VLOOKUP($B31*10+$G$2,データ貼付!$B$3:$F$102,5,FALSE))","v":""},{"$f":"IF(ISERROR(VLOOKUP($B31*10+$H$2,データ貼付!$B$3:$F$102,5,FALSE)),\"\",VLOOKUP($B31*10+$H$2,データ貼付!$B$3:$F$102,5,FALSE))","v":""},{"$f":"IF(ISERROR(VLOOKUP($B31*10+$I$2,データ貼付!$B$3:$F$102,5,FALSE)),\"\",VLOOKUP($B31*10+$I$2,データ貼付!$B$3:$F$102,5,FALSE))","v":""},"",""]
[null,30,{"$f":"VLOOKUP($B32,データ貼付!$A$3:$I$102,4,FALSE)","v":{"$error":"#N/A"}},{"$f":"VLOOKUP($B32,データ貼付!$A$3:$I$102,5,FALSE)","v":{"$error":"#N/A"}},{"$f":"IF(ISERROR(VLOOKUP($B32*10+$E$2,データ貼付!$B$3:$F$102,5,FALSE)),\"\",VLOOKUP($B32*10+$E$2,データ貼付!$B$3:$F$102,5,FALSE))","v":""},{"$f":"IF(ISERROR(VLOOKUP($B32*10+$F$2,データ貼付!$B$3:$F$102,5,FALSE)),\"\",VLOOKUP($B32*10+$F$2,データ貼付!$B$3:$F$102,5,FALSE))","v":""},{"$f":"IF(ISERROR(VLOOKUP($B32*10+$G$2,データ貼付!$B$3:$F$102,5,FALSE)),\"\",VLOOKUP($B32*10+$G$2,データ貼付!$B$3:$F$102,5,FALSE))","v":""},{"$f":"IF(ISERROR(VLOOKUP($B32*10+$H$2,データ貼付!$B$3:$F$102,5,FALSE)),\"\",VLOOKUP($B32*10+$H$2,データ貼付!$B$3:$F$102,5,FALSE))","v":""},{"$f":"IF(ISERROR(VLOOKUP($B32*10+$I$2,データ貼付!$B$3:$F$102,5,FALSE)),\"\",VLOOKUP($B32*10+$I$2,データ貼付!$B$3:$F$102,5,FALSE))","v":""},"",""]
[null,31,{"$f":"VLOOKUP($B33,データ貼付!$A$3:$I$102,4,FALSE)","v":{"$error":"#N/A"}},{"$f":"VLOOKUP($B33,データ貼付!$A$3:$I$102,5,FALSE)","v":{"$error":"#N/A"}},{"$f":"IF(ISERROR(VLOOKUP($B33*10+$E$2,データ貼付!$B$3:$F$102,5,FALSE)),\"\",VLOOKUP($B33*10+$E$2,データ貼付!$B$3:$F$102,5,FALSE))","v":""},{"$f":"IF(ISERROR(VLOOKUP($B33*10+$F$2,データ貼付!$B$3:$F$102,5,FALSE)),\"\",VLOOKUP($B33*10+$F$2,データ貼付!$B$3:$F$102,5,FALSE))","v":""},{"$f":"IF(ISERROR(VLOOKUP($B33*10+$G$2,データ貼付!$B$3:$F$102,5,FALSE)),\"\",VLOOKUP($B33*10+$G$2,データ貼付!$B$3:$F$102,5,FALSE))","v":""},{"$f":"IF(ISERROR(VLOOKUP($B33*10+$H$2,データ貼付!$B$3:$F$102,5,FALSE)),\"\",VLOOKUP($B33*10+$H$2,データ貼付!$B$3:$F$102,5,FALSE))","v":""},{"$f":"IF(ISERROR(VLOOKUP($B33*10+$I$2,データ貼付!$B$3:$F$102,5,FALSE)),\"\",VLOOKUP($B33*10+$I$2,データ貼付!$B$3:$F$102,5,FALSE))","v":""},"",""]
[null,32,{"$f":"VLOOKUP($B34,データ貼付!$A$3:$I$102,4,FALSE)","v":{"$error":"#N/A"}},{"$f":"VLOOKUP($B34,データ貼付!$A$3:$I$102,5,FALSE)","v":{"$error":"#N/A"}},{"$f":"IF(ISERROR(VLOOKUP($B34*10+$E$2,データ貼付!$B$3:$F$102,5,FALSE)),\"\",VLOOKUP($B34*10+$E$2,データ貼付!$B$3:$F$102,5,FALSE))","v":""},{"$f":"IF(ISERROR(VLOOKUP($B34*10+$F$2,データ貼付!$B$3:$F$102,5,FALSE)),\"\",VLOOKUP($B34*10+$F$2,データ貼付!$B$3:$F$102,5,FALSE))","v":""},{"$f":"IF(ISERROR(VLOOKUP($B34*10+$G$2,データ貼付!$B$3:$F$102,5,FALSE)),\"\",VLOOKUP($B34*10+$G$2,データ貼付!$B$3:$F$102,5,FALSE))","v":""},{"$f":"IF(ISERROR(VLOOKUP($B34*10+$H$2,データ貼付!$B$3:$F$102,5,FALSE)),\"\",VLOOKUP($B34*10+$H$2,データ貼付!$B$3:$F$102,5,FALSE))","v":""},{"$f":"IF(ISERROR(VLOOKUP($B34*10+$I$2,データ貼付!$B$3:$F$102,5,FALSE)),\"\",VLOOKUP($B34*10+$I$2,データ貼付!$B$3:$F$102,5,FALSE))","v":""},"",""]
[null,33,{"$f":"VLOOKUP($B35,データ貼付!$A$3:$I$102,4,FALSE)","v":{"$error":"#N/A"}},{"$f":"VLOOKUP($B35,データ貼付!$A$3:$I$102,5,FALSE)","v":{"$error":"#N/A"}},{"$f":"IF(ISERROR(VLOOKUP($B35*10+$E$2,データ貼付!$B$3:$F$102,5,FALSE)),\"\",VLOOKUP($B35*10+$E$2,データ貼付!$B$3:$F$102,5,FALSE))","v":""},{"$f":"IF(ISERROR(VLOOKUP($B35*10+$F$2,データ貼付!$B$3:$F$102,5,FALSE)),\"\",VLOOKUP($B35*10+$F$2,データ貼付!$B$3:$F$102,5,FALSE))","v":""},{"$f":"IF(ISERROR(VLOOKUP($B35*10+$G$2,データ貼付!$B$3:$F$102,5,FALSE)),\"\",VLOOKUP($B35*10+$G$2,データ貼付!$B$3:$F$102,5,FALSE))","v":""},{"$f":"IF(ISERROR(VLOOKUP($B35*10+$H$2,データ貼付!$B$3:$F$102,5,FALSE)),\"\",VLOOKUP($B35*10+$H$2,データ貼付!$B$3:$F$102,5,FALSE))","v":""},{"$f":"IF(ISERROR(VLOOKUP($B35*10+$I$2,データ貼付!$B$3:$F$102,5,FALSE)),\"\",VLOOKUP($B35*10+$I$2,データ貼付!$B$3:$F$102,5,FALSE))","v":""},"",""]
[null,34,{"$f":"VLOOKUP($B36,データ貼付!$A$3:$I$102,4,FALSE)","v":{"$error":"#N/A"}},{"$f":"VLOOKUP($B36,データ貼付!$A$3:$I$102,5,FALSE)","v":{"$error":"#N/A"}},{"$f":"IF(ISERROR(VLOOKUP($B36*10+$E$2,データ貼付!$B$3:$F$102,5,FALSE)),\"\",VLOOKUP($B36*10+$E$2,データ貼付!$B$3:$F$102,5,FALSE))","v":""},{"$f":"IF(ISERROR(VLOOKUP($B36*10+$F$2,データ貼付!$B$3:$F$102,5,FALSE)),\"\",VLOOKUP($B36*10+$F$2,データ貼付!$B$3:$F$102,5,FALSE))","v":""},{"$f":"IF(ISERROR(VLOOKUP($B36*10+$G$2,データ貼付!$B$3:$F$102,5,FALSE)),\"\",VLOOKUP($B36*10+$G$2,データ貼付!$B$3:$F$102,5,FALSE))","v":""},{"$f":"IF(ISERROR(VLOOKUP($B36*10+$H$2,データ貼付!$B$3:$F$102,5,FALSE)),\"\",VLOOKUP($B36*10+$H$2,データ貼付!$B$3:$F$102,5,FALSE))","v":""},{"$f":"IF(ISERROR(VLOOKUP($B36*10+$I$2,データ貼付!$B$3:$F$102,5,FALSE)),\"\",VLOOKUP($B36*10+$I$2,データ貼付!$B$3:$F$102,5,FALSE))","v":""},"",""]
[null,35,{"$f":"VLOOKUP($B37,データ貼付!$A$3:$I$102,4,FALSE)","v":{"$error":"#N/A"}},{"$f":"VLOOKUP($B37,データ貼付!$A$3:$I$102,5,FALSE)","v":{"$error":"#N/A"}},{"$f":"IF(ISERROR(VLOOKUP($B37*10+$E$2,データ貼付!$B$3:$F$102,5,FALSE)),\"\",VLOOKUP($B37*10+$E$2,データ貼付!$B$3:$F$102,5,FALSE))","v":""},{"$f":"IF(ISERROR(VLOOKUP($B37*10+$F$2,データ貼付!$B$3:$F$102,5,FALSE)),\"\",VLOOKUP($B37*10+$F$2,データ貼付!$B$3:$F$102,5,FALSE))","v":""},{"$f":"IF(ISERROR(VLOOKUP($B37*10+$G$2,データ貼付!$B$3:$F$102,5,FALSE)),\"\",VLOOKUP($B37*10+$G$2,データ貼付!$B$3:$F$102,5,FALSE))","v":""},{"$f":"IF(ISERROR(VLOOKUP($B37*10+$H$2,データ貼付!$B$3:$F$102,5,FALSE)),\"\",VLOOKUP($B37*10+$H$2,データ貼付!$B$3:$F$102,5,FALSE))","v":""},{"$f":"IF(ISERROR(VLOOKUP($B37*10+$I$2,データ貼付!$B$3:$F$102,5,FALSE)),\"\",VLOOKUP($B37*10+$I$2,データ貼付!$B$3:$F$102,5,FALSE))","v":""},"",""]
[null,36,{"$f":"VLOOKUP($B38,データ貼付!$A$3:$I$102,4,FALSE)","v":{"$error":"#N/A"}},{"$f":"VLOOKUP($B38,データ貼付!$A$3:$I$102,5,FALSE)","v":{"$error":"#N/A"}},{"$f":"IF(ISERROR(VLOOKUP($B38*10+$E$2,データ貼付!$B$3:$F$102,5,FALSE)),\"\",VLOOKUP($B38*10+$E$2,データ貼付!$B$3:$F$102,5,FALSE))","v":""},{"$f":"IF(ISERROR(VLOOKUP($B38*10+$F$2,データ貼付!$B$3:$F$102,5,FALSE)),\"\",VLOOKUP($B38*10+$F$2,データ貼付!$B$3:$F$102,5,FALSE))","v":""},{"$f":"IF(ISERROR(VLOOKUP($B38*10+$G$2,データ貼付!$B$3:$F$102,5,FALSE)),\"\",VLOOKUP($B38*10+$G$2,データ貼付!$B$3:$F$102,5,FALSE))","v":""},{"$f":"IF(ISERROR(VLOOKUP($B38*10+$H$2,データ貼付!$B$3:$F$102,5,FALSE)),\"\",VLOOKUP($B38*10+$H$2,データ貼付!$B$3:$F$102,5,FALSE))","v":""},{"$f":"IF(ISERROR(VLOOKUP($B38*10+$I$2,データ貼付!$B$3:$F$102,5,FALSE)),\"\",VLOOKUP($B38*10+$I$2,データ貼付!$B$3:$F$102,5,FALSE))","v":""},"",""]
[null,37,{"$f":"VLOOKUP($B39,データ貼付!$A$3:$I$102,4,FALSE)","v":{"$error":"#N/A"}},{"$f":"VLOOKUP($B39,データ貼付!$A$3:$I$102,5,FALSE)","v":{"$error":"#N/A"}},{"$f":"IF(ISERROR(VLOOKUP($B39*10+$E$2,データ貼付!$B$3:$F$102,5,FALSE)),\"\",VLOOKUP($B39*10+$E$2,データ貼付!$B$3:$F$102,5,FALSE))","v":""},{"$f":"IF(ISERROR(VLOOKUP($B39*10+$F$2,データ貼付!$B$3:$F$102,5,FALSE)),\"\",VLOOKUP($B39*10+$F$2,データ貼付!$B$3:$F$102,5,FALSE))","v":""},{"$f":"IF(ISERROR(VLOOKUP($B39*10+$G$2,データ貼付!$B$3:$F$102,5,FALSE)),\"\",VLOOKUP($B39*10+$G$2,データ貼付!$B$3:$F$102,5,FALSE))","v":""},{"$f":"IF(ISERROR(VLOOKUP($B39*10+$H$2,データ貼付!$B$3:$F$102,5,FALSE)),\"\",VLOOKUP($B39*10+$H$2,データ貼付!$B$3:$F$102,5,FALSE))","v":""},{"$f":"IF(ISERROR(VLOOKUP($B39*10+$I$2,データ貼付!$B$3:$F$102,5,FALSE)),\"\",VLOOKUP($B39*10+$I$2,データ貼付!$B$3:$F$102,5,FALSE))","v":""},"",""]
[null,38,{"$f":"VLOOKUP($B40,データ貼付!$A$3:$I$102,4,FALSE)","v":{"$error":"#N/A"}},{"$f":"VLOOKUP($B40,データ貼付!$A$3:$I$102,5,FALSE)","v":{"$error":"#N/A"}},{"$f":"IF(ISERROR(VLOOKUP($B40*10+$E$2,データ貼付!$B$3:$F$102,5,FALSE)),\"\",VLOOKUP($B40*10+$E$2,データ貼付!$B$3:$F$102,5,FALSE))","v":""},{"$f":"IF(ISERROR(VLOOKUP($B40*10+$F$2,データ貼付!$B$3:$F$102,5,FALSE)),\"\",VLOOKUP($B40*10+$F$2,データ貼付!$B$3:$F$102,5,FALSE))","v":""},{"$f":"IF(ISERROR(VLOOKUP($B40*10+$G$2,データ貼付!$B$3:$F$102,5,FALSE)),\"\",VLOOKUP($B40*10+$G$2,データ貼付!$B$3:$F$102,5,FALSE))","v":""},{"$f":"IF(ISERROR(VLOOKUP($B40*10+$H$2,データ貼付!$B$3:$F$102,5,FALSE)),\"\",VLOOKUP($B40*10+$H$2,データ貼付!$B$3:$F$102,5,FALSE))","v":""},{"$f":"IF(ISERROR(VLOOKUP($B40*10+$I$2,データ貼付!$B$3:$F$102,5,FALSE)),\"\",VLOOKUP($B40*10+$I$2,データ貼付!$B$3:$F$102,5,FALSE))","v":""},"",""]
[null,39,{"$f":"VLOOKUP($B41,データ貼付!$A$3:$I$102,4,FALSE)","v":{"$error":"#N/A"}},{"$f":"VLOOKUP($B41,データ貼付!$A$3:$I$102,5,FALSE)","v":{"$error":"#N/A"}},{"$f":"IF(ISERROR(VLOOKUP($B41*10+$E$2,データ貼付!$B$3:$F$102,5,FALSE)),\"\",VLOOKUP($B41*10+$E$2,データ貼付!$B$3:$F$102,5,FALSE))","v":""},{"$f":"IF(ISERROR(VLOOKUP($B41*10+$F$2,データ貼付!$B$3:$F$102,5,FALSE)),\"\",VLOOKUP($B41*10+$F$2,データ貼付!$B$3:$F$102,5,FALSE))","v":""},{"$f":"IF(ISERROR(VLOOKUP($B41*10+$G$2,データ貼付!$B$3:$F$102,5,FALSE)),\"\",VLOOKUP($B41*10+$G$2,データ貼付!$B$3:$F$102,5,FALSE))","v":""},{"$f":"IF(ISERROR(VLOOKUP($B41*10+$H$2,データ貼付!$B$3:$F$102,5,FALSE)),\"\",VLOOKUP($B41*10+$H$2,データ貼付!$B$3:$F$102,5,FALSE))","v":""},{"$f":"IF(ISERROR(VLOOKUP($B41*10+$I$2,データ貼付!$B$3:$F$102,5,FALSE)),\"\",VLOOKUP($B41*10+$I$2,データ貼付!$B$3:$F$102,5,FALSE))","v":""},"",""]
[null,40,{"$f":"VLOOKUP($B42,データ貼付!$A$3:$I$102,4,FALSE)","v":{"$error":"#N/A"}},{"$f":"VLOOKUP($B42,データ貼付!$A$3:$I$102,5,FALSE)","v":{"$error":"#N/A"}},{"$f":"IF(ISERROR(VLOOKUP($B42*10+$E$2,データ貼付!$B$3:$F$102,5,FALSE)),\"\",VLOOKUP($B42*10+$E$2,データ貼付!$B$3:$F$102,5,FALSE))","v":""},{"$f":"IF(ISERROR(VLOOKUP($B42*10+$F$2,データ貼付!$B$3:$F$102,5,FALSE)),\"\",VLOOKUP($B42*10+$F$2,データ貼付!$B$3:$F$102,5,FALSE))","v":""},{"$f":"IF(ISERROR(VLOOKUP($B42*10+$G$2,データ貼付!$B$3:$F$102,5,FALSE)),\"\",VLOOKUP($B42*10+$G$2,データ貼付!$B$3:$F$102,5,FALSE))","v":""},{"$f":"IF(ISERROR(VLOOKUP($B42*10+$H$2,データ貼付!$B$3:$F$102,5,FALSE)),\"\",VLOOKUP($B42*10+$H$2,データ貼付!$B$3:$F$102,5,FALSE))","v":""},{"$f":"IF(ISERROR(VLOOKUP($B42*10+$I$2,データ貼付!$B$3:$F$102,5,FALSE)),\"\",VLOOKUP($B42*10+$I$2,データ貼付!$B$3:$F$102,5,FALSE))","v":""},"",""]
[null,41,{"$f":"VLOOKUP($B43,データ貼付!$A$3:$I$102,4,FALSE)","v":{"$error":"#N/A"}},{"$f":"VLOOKUP($B43,データ貼付!$A$3:$I$102,5,FALSE)","v":{"$error":"#N/A"}},{"$f":"IF(ISERROR(VLOOKUP($B43*10+$E$2,データ貼付!$B$3:$F$102,5,FALSE)),\"\",VLOOKUP($B43*10+$E$2,データ貼付!$B$3:$F$102,5,FALSE))","v":""},{"$f":"IF(ISERROR(VLOOKUP($B43*10+$F$2,データ貼付!$B$3:$F$102,5,FALSE)),\"\",VLOOKUP($B43*10+$F$2,データ貼付!$B$3:$F$102,5,FALSE))","v":""},{"$f":"IF(ISERROR(VLOOKUP($B43*10+$G$2,データ貼付!$B$3:$F$102,5,FALSE)),\"\",VLOOKUP($B43*10+$G$2,データ貼付!$B$3:$F$102,5,FALSE))","v":""},{"$f":"IF(ISERROR(VLOOKUP($B43*10+$H$2,データ貼付!$B$3:$F$102,5,FALSE)),\"\",VLOOKUP($B43*10+$H$2,データ貼付!$B$3:$F$102,5,FALSE))","v":""},{"$f":"IF(ISERROR(VLOOKUP($B43*10+$I$2,データ貼付!$B$3:$F$102,5,FALSE)),\"\",VLOOKUP($B43*10+$I$2,データ貼付!$B$3:$F$102,5,FALSE))","v":""},"",""]
[null,42,{"$f":"VLOOKUP($B44,データ貼付!$A$3:$I$102,4,FALSE)","v":{"$error":"#N/A"}},{"$f":"VLOOKUP($B44,データ貼付!$A$3:$I$102,5,FALSE)","v":{"$error":"#N/A"}},{"$f":"IF(ISERROR(VLOOKUP($B44*10+$E$2,データ貼付!$B$3:$F$102,5,FALSE)),\"\",VLOOKUP($B44*10+$E$2,データ貼付!$B$3:$F$102,5,FALSE))","v":""},{"$f":"IF(ISERROR(VLOOKUP($B44*10+$F$2,データ貼付!$B$3:$F$102,5,FALSE)),\"\",VLOOKUP($B44*10+$F$2,データ貼付!$B$3:$F$102,5,FALSE))","v":""},{"$f":"IF(ISERROR(VLOOKUP($B44*10+$G$2,データ貼付!$B$3:$F$102,5,FALSE)),\"\",VLOOKUP($B44*10+$G$2,データ貼付!$B$3:$F$102,5,FALSE))","v":""},{"$f":"IF(ISERROR(VLOOKUP($B44*10+$H$2,データ貼付!$B$3:$F$102,5,FALSE)),\"\",VLOOKUP($B44*10+$H$2,データ貼付!$B$3:$F$102,5,FALSE))","v":""},{"$f":"IF(ISERROR(VLOOKUP($B44*10+$I$2,データ貼付!$B$3:$F$102,5,FALSE)),\"\",VLOOKUP($B44*10+$I$2,データ貼付!$B$3:$F$102,5,FALSE))","v":""},"",""]
[null,43,{"$f":"VLOOKUP($B45,データ貼付!$A$3:$I$102,4,FALSE)","v":{"$error":"#N/A"}},{"$f":"VLOOKUP($B45,データ貼付!$A$3:$I$102,5,FALSE)","v":{"$error":"#N/A"}},{"$f":"IF(ISERROR(VLOOKUP($B45*10+$E$2,データ貼付!$B$3:$F$102,5,FALSE)),\"\",VLOOKUP($B45*10+$E$2,データ貼付!$B$3:$F$102,5,FALSE))","v":""},{"$f":"IF(ISERROR(VLOOKUP($B45*10+$F$2,データ貼付!$B$3:$F$102,5,FALSE)),\"\",VLOOKUP($B45*10+$F$2,データ貼付!$B$3:$F$102,5,FALSE))","v":""},{"$f":"IF(ISERROR(VLOOKUP($B45*10+$G$2,データ貼付!$B$3:$F$102,5,FALSE)),\"\",VLOOKUP($B45*10+$G$2,データ貼付!$B$3:$F$102,5,FALSE))","v":""},{"$f":"IF(ISERROR(VLOOKUP($B45*10+$H$2,データ貼付!$B$3:$F$102,5,FALSE)),\"\",VLOOKUP($B45*10+$H$2,データ貼付!$B$3:$F$102,5,FALSE))","v":""},{"$f":"IF(ISERROR(VLOOKUP($B45*10+$I$2,データ貼付!$B$3:$F$102,5,FALSE)),\"\",VLOOKUP($B45*10+$I$2,データ貼付!$B$3:$F$102,5,FALSE))","v":""},"",""]
[null,44,{"$f":"VLOOKUP($B46,データ貼付!$A$3:$I$102,4,FALSE)","v":{"$error":"#N/A"}},{"$f":"VLOOKUP($B46,データ貼付!$A$3:$I$102,5,FALSE)","v":{"$error":"#N/A"}},{"$f":"IF(ISERROR(VLOOKUP($B46*10+$E$2,データ貼付!$B$3:$F$102,5,FALSE)),\"\",VLOOKUP($B46*10+$E$2,データ貼付!$B$3:$F$102,5,FALSE))","v":""},{"$f":"IF(ISERROR(VLOOKUP($B46*10+$F$2,データ貼付!$B$3:$F$102,5,FALSE)),\"\",VLOOKUP($B46*10+$F$2,データ貼付!$B$3:$F$102,5,FALSE))","v":""},{"$f":"IF(ISERROR(VLOOKUP($B46*10+$G$2,データ貼付!$B$3:$F$102,5,FALSE)),\"\",VLOOKUP($B46*10+$G$2,データ貼付!$B$3:$F$102,5,FALSE))","v":""},{"$f":"IF(ISERROR(VLOOKUP($B46*10+$H$2,データ貼付!$B$3:$F$102,5,FALSE)),\"\",VLOOKUP($B46*10+$H$2,データ貼付!$B$3:$F$102,5,FALSE))","v":""},{"$f":"IF(ISERROR(VLOOKUP($B46*10+$I$2,データ貼付!$B$3:$F$102,5,FALSE)),\"\",VLOOKUP($B46*10+$I$2,データ貼付!$B$3:$F$102,5,FALSE))","v":""},"",""]
[null,45,{"$f":"VLOOKUP($B47,データ貼付!$A$3:$I$102,4,FALSE)","v":{"$error":"#N/A"}},{"$f":"VLOOKUP($B47,データ貼付!$A$3:$I$102,5,FALSE)","v":{"$error":"#N/A"}},{"$f":"IF(ISERROR(VLOOKUP($B47*10+$E$2,データ貼付!$B$3:$F$102,5,FALSE)),\"\",VLOOKUP($B47*10+$E$2,データ貼付!$B$3:$F$102,5,FALSE))","v":""},{"$f":"IF(ISERROR(VLOOKUP($B47*10+$F$2,データ貼付!$B$3:$F$102,5,FALSE)),\"\",VLOOKUP($B47*10+$F$2,データ貼付!$B$3:$F$102,5,FALSE))","v":""},{"$f":"IF(ISERROR(VLOOKUP($B47*10+$G$2,データ貼付!$B$3:$F$102,5,FALSE)),\"\",VLOOKUP($B47*10+$G$2,データ貼付!$B$3:$F$102,5,FALSE))","v":""},{"$f":"IF(ISERROR(VLOOKUP($B47*10+$H$2,データ貼付!$B$3:$F$102,5,FALSE)),\"\",VLOOKUP($B47*10+$H$2,データ貼付!$B$3:$F$102,5,FALSE))","v":""},{"$f":"IF(ISERROR(VLOOKUP($B47*10+$I$2,データ貼付!$B$3:$F$102,5,FALSE)),\"\",VLOOKUP($B47*10+$I$2,データ貼付!$B$3:$F$102,5,FALSE))","v":""},"",""]
[null,46,{"$f":"VLOOKUP($B48,データ貼付!$A$3:$I$102,4,FALSE)","v":{"$error":"#N/A"}},{"$f":"VLOOKUP($B48,データ貼付!$A$3:$I$102,5,FALSE)","v":{"$error":"#N/A"}},{"$f":"IF(ISERROR(VLOOKUP($B48*10+$E$2,データ貼付!$B$3:$F$102,5,FALSE)),\"\",VLOOKUP($B48*10+$E$2,データ貼付!$B$3:$F$102,5,FALSE))","v":""},{"$f":"IF(ISERROR(VLOOKUP($B48*10+$F$2,データ貼付!$B$3:$F$102,5,FALSE)),\"\",VLOOKUP($B48*10+$F$2,データ貼付!$B$3:$F$102,5,FALSE))","v":""},{"$f":"IF(ISERROR(VLOOKUP($B48*10+$G$2,データ貼付!$B$3:$F$102,5,FALSE)),\"\",VLOOKUP($B48*10+$G$2,データ貼付!$B$3:$F$102,5,FALSE))","v":""},{"$f":"IF(ISERROR(VLOOKUP($B48*10+$H$2,データ貼付!$B$3:$F$102,5,FALSE)),\"\",VLOOKUP($B48*10+$H$2,データ貼付!$B$3:$F$102,5,FALSE))","v":""},{"$f":"IF(ISERROR(VLOOKUP($B48*10+$I$2,データ貼付!$B$3:$F$102,5,FALSE)),\"\",VLOOKUP($B48*10+$I$2,データ貼付!$B$3:$F$102,5,FALSE))","v":""},"",""]
[null,47,{"$f":"VLOOKUP($B49,データ貼付!$A$3:$I$102,4,FALSE)","v":{"$error":"#N/A"}},{"$f":"VLOOKUP($B49,データ貼付!$A$3:$I$102,5,FALSE)","v":{"$error":"#N/A"}},{"$f":"IF(ISERROR(VLOOKUP($B49*10+$E$2,データ貼付!$B$3:$F$102,5,FALSE)),\"\",VLOOKUP($B49*10+$E$2,データ貼付!$B$3:$F$102,5,FALSE))","v":""},{"$f":"IF(ISERROR(VLOOKUP($B49*10+$F$2,データ貼付!$B$3:$F$102,5,FALSE)),\"\",VLOOKUP($B49*10+$F$2,データ貼付!$B$3:$F$102,5,FALSE))","v":""},{"$f":"IF(ISERROR(VLOOKUP($B49*10+$G$2,データ貼付!$B$3:$F$102,5,FALSE)),\"\",VLOOKUP($B49*10+$G$2,データ貼付!$B$3:$F$102,5,FALSE))","v":""},{"$f":"IF(ISERROR(VLOOKUP($B49*10+$H$2,データ貼付!$B$3:$F$102,5,FALSE)),\"\",VLOOKUP($B49*10+$H$2,データ貼付!$B$3:$F$102,5,FALSE))","v":""},{"$f":"IF(ISERROR(VLOOKUP($B49*10+$I$2,データ貼付!$B$3:$F$102,5,FALSE)),\"\",VLOOKUP($B49*10+$I$2,データ貼付!$B$3:$F$102,5,FALSE))","v":""},"",""]
[null,48,{"$f":"VLOOKUP($B50,データ貼付!$A$3:$I$102,4,FALSE)","v":{"$error":"#N/A"}},{"$f":"VLOOKUP($B50,データ貼付!$A$3:$I$102,5,FALSE)","v":{"$error":"#N/A"}},{"$f":"IF(ISERROR(VLOOKUP($B50*10+$E$2,データ貼付!$B$3:$F$102,5,FALSE)),\"\",VLOOKUP($B50*10+$E$2,データ貼付!$B$3:$F$102,5,FALSE))","v":""},{"$f":"IF(ISERROR(VLOOKUP($B50*10+$F$2,データ貼付!$B$3:$F$102,5,FALSE)),\"\",VLOOKUP($B50*10+$F$2,データ貼付!$B$3:$F$102,5,FALSE))","v":""},{"$f":"IF(ISERROR(VLOOKUP($B50*10+$G$2,データ貼付!$B$3:$F$102,5,FALSE)),\"\",VLOOKUP($B50*10+$G$2,データ貼付!$B$3:$F$102,5,FALSE))","v":""},{"$f":"IF(ISERROR(VLOOKUP($B50*10+$H$2,データ貼付!$B$3:$F$102,5,FALSE)),\"\",VLOOKUP($B50*10+$H$2,データ貼付!$B$3:$F$102,5,FALSE))","v":""},{"$f":"IF(ISERROR(VLOOKUP($B50*10+$I$2,データ貼付!$B$3:$F$102,5,FALSE)),\"\",VLOOKUP($B50*10+$I$2,データ貼付!$B$3:$F$102,5,FALSE))","v":""},"",""]
[null,49,{"$f":"VLOOKUP($B51,データ貼付!$A$3:$I$102,4,FALSE)","v":{"$error":"#N/A"}},{"$f":"VLOOKUP($B51,データ貼付!$A$3:$I$102,5,FALSE)","v":{"$error":"#N/A"}},{"$f":"IF(ISERROR(VLOOKUP($B51*10+$E$2,データ貼付!$B$3:$F$102,5,FALSE)),\"\",VLOOKUP($B51*10+$E$2,データ貼付!$B$3:$F$102,5,FALSE))","v":""},{"$f":"IF(ISERROR(VLOOKUP($B51*10+$F$2,データ貼付!$B$3:$F$102,5,FALSE)),\"\",VLOOKUP($B51*10+$F$2,データ貼付!$B$3:$F$102,5,FALSE))","v":""},{"$f":"IF(ISERROR(VLOOKUP($B51*10+$G$2,データ貼付!$B$3:$F$102,5,FALSE)),\"\",VLOOKUP($B51*10+$G$2,データ貼付!$B$3:$F$102,5,FALSE))","v":""},{"$f":"IF(ISERROR(VLOOKUP($B51*10+$H$2,データ貼付!$B$3:$F$102,5,FALSE)),\"\",VLOOKUP($B51*10+$H$2,データ貼付!$B$3:$F$102,5,FALSE))","v":""},{"$f":"IF(ISERROR(VLOOKUP($B51*10+$I$2,データ貼付!$B$3:$F$102,5,FALSE)),\"\",VLOOKUP($B51*10+$I$2,データ貼付!$B$3:$F$102,5,FALSE))","v":""},"",""]
[null,50,{"$f":"VLOOKUP($B52,データ貼付!$A$3:$I$102,4,FALSE)","v":{"$error":"#N/A"}},{"$f":"VLOOKUP($B52,データ貼付!$A$3:$I$102,5,FALSE)","v":{"$error":"#N/A"}},{"$f":"IF(ISERROR(VLOOKUP($B52*10+$E$2,データ貼付!$B$3:$F$102,5,FALSE)),\"\",VLOOKUP($B52*10+$E$2,データ貼付!$B$3:$F$102,5,FALSE))","v":""},{"$f":"IF(ISERROR(VLOOKUP($B52*10+$F$2,データ貼付!$B$3:$F$102,5,FALSE)),\"\",VLOOKUP($B52*10+$F$2,データ貼付!$B$3:$F$102,5,FALSE))","v":""},{"$f":"IF(ISERROR(VLOOKUP($B52*10+$G$2,データ貼付!$B$3:$F$102,5,FALSE)),\"\",VLOOKUP($B52*10+$G$2,データ貼付!$B$3:$F$102,5,FALSE))","v":""},{"$f":"IF(ISERROR(VLOOKUP($B52*10+$H$2,データ貼付!$B$3:$F$102,5,FALSE)),\"\",VLOOKUP($B52*10+$H$2,データ貼付!$B$3:$F$102,5,FALSE))","v":""},{"$f":"IF(ISERROR(VLOOKUP($B52*10+$I$2,データ貼付!$B$3:$F$102,5,FALSE)),\"\",VLOOKUP($B52*10+$I$2,データ貼付!$B$3:$F$102,5,FALSE))","v":""},"",""]
[null,51,{"$f":"VLOOKUP($B53,データ貼付!$A$3:$I$102,4,FALSE)","v":{"$error":"#N/A"}},{"$f":"VLOOKUP($B53,データ貼付!$A$3:$I$102,5,FALSE)","v":{"$error":"#N/A"}},{"$f":"IF(ISERROR(VLOOKUP($B53*10+$E$2,データ貼付!$B$3:$F$102,5,FALSE)),\"\",VLOOKUP($B53*10+$E$2,データ貼付!$B$3:$F$102,5,FALSE))","v":""},{"$f":"IF(ISERROR(VLOOKUP($B53*10+$F$2,データ貼付!$B$3:$F$102,5,FALSE)),\"\",VLOOKUP($B53*10+$F$2,データ貼付!$B$3:$F$102,5,FALSE))","v":""},{"$f":"IF(ISERROR(VLOOKUP($B53*10+$G$2,データ貼付!$B$3:$F$102,5,FALSE)),\"\",VLOOKUP($B53*10+$G$2,データ貼付!$B$3:$F$102,5,FALSE))","v":""},{"$f":"IF(ISERROR(VLOOKUP($B53*10+$H$2,データ貼付!$B$3:$F$102,5,FALSE)),\"\",VLOOKUP($B53*10+$H$2,データ貼付!$B$3:$F$102,5,FALSE))","v":""},{"$f":"IF(ISERROR(VLOOKUP($B53*10+$I$2,データ貼付!$B$3:$F$102,5,FALSE)),\"\",VLOOKUP($B53*10+$I$2,データ貼付!$B$3:$F$102,5,FALSE))","v":""}]
[null,52,{"$f":"VLOOKUP($B54,データ貼付!$A$3:$I$102,4,FALSE)","v":{"$error":"#N/A"}},{"$f":"VLOOKUP($B54,データ貼付!$A$3:$I$102,5,FALSE)","v":{"$error":"#N/A"}},{"$f":"IF(ISERROR(VLOOKUP($B54*10+$E$2,データ貼付!$B$3:$F$102,5,FALSE)),\"\",VLOOKUP($B54*10+$E$2,データ貼付!$B$3:$F$102,5,FALSE))","v":""},{"$f":"IF(ISERROR(VLOOKUP($B54*10+$F$2,データ貼付!$B$3:$F$102,5,FALSE)),\"\",VLOOKUP($B54*10+$F$2,データ貼付!$B$3:$F$102,5,FALSE))","v":""},{"$f":"IF(ISERROR(VLOOKUP($B54*10+$G$2,データ貼付!$B$3:$F$102,5,FALSE)),\"\",VLOOKUP($B54*10+$G$2,データ貼付!$B$3:$F$102,5,FALSE))","v":""},{"$f":"IF(ISERROR(VLOOKUP($B54*10+$H$2,データ貼付!$B$3:$F$102,5,FALSE)),\"\",VLOOKUP($B54*10+$H$2,データ貼付!$B$3:$F$102,5,FALSE))","v":""},{"$f":"IF(ISERROR(VLOOKUP($B54*10+$I$2,データ貼付!$B$3:$F$102,5,FALSE)),\"\",VLOOKUP($B54*10+$I$2,データ貼付!$B$3:$F$102,5,FALSE))","v":""}]
[null,53,{"$f":"VLOOKUP($B55,データ貼付!$A$3:$I$102,4,FALSE)","v":{"$error":"#N/A"}},{"$f":"VLOOKUP($B55,データ貼付!$A$3:$I$102,5,FALSE)","v":{"$error":"#N/A"}},{"$f":"IF(ISERROR(VLOOKUP($B55*10+$E$2,データ貼付!$B$3:$F$102,5,FALSE)),\"\",VLOOKUP($B55*10+$E$2,データ貼付!$B$3:$F$102,5,FALSE))","v":""},{"$f":"IF(ISERROR(VLOOKUP($B55*10+$F$2,データ貼付!$B$3:$F$102,5,FALSE)),\"\",VLOOKUP($B55*10+$F$2,データ貼付!$B$3:$F$102,5,FALSE))","v":""},{"$f":"IF(ISERROR(VLOOKUP($B55*10+$G$2,データ貼付!$B$3:$F$102,5,FALSE)),\"\",VLOOKUP($B55*10+$G$2,データ貼付!$B$3:$F$102,5,FALSE))","v":""},{"$f":"IF(ISERROR(VLOOKUP($B55*10+$H$2,データ貼付!$B$3:$F$102,5,FALSE)),\"\",VLOOKUP($B55*10+$H$2,データ貼付!$B$3:$F$102,5,FALSE))","v":""},{"$f":"IF(ISERROR(VLOOKUP($B55*10+$I$2,データ貼付!$B$3:$F$102,5,FALSE)),\"\",VLOOKUP($B55*10+$I$2,データ貼付!$B$3:$F$102,5,FALSE))","v":""}]
[null,54,{"$f":"VLOOKUP($B56,データ貼付!$A$3:$I$102,4,FALSE)","v":{"$error":"#N/A"}},{"$f":"VLOOKUP($B56,データ貼付!$A$3:$I$102,5,FALSE)","v":{"$error":"#N/A"}},{"$f":"IF(ISERROR(VLOOKUP($B56*10+$E$2,データ貼付!$B$3:$F$102,5,FALSE)),\"\",VLOOKUP($B56*10+$E$2,データ貼付!$B$3:$F$102,5,FALSE))","v":""},{"$f":"IF(ISERROR(VLOOKUP($B56*10+$F$2,データ貼付!$B$3:$F$102,5,FALSE)),\"\",VLOOKUP($B56*10+$F$2,データ貼付!$B$3:$F$102,5,FALSE))","v":""},{"$f":"IF(ISERROR(VLOOKUP($B56*10+$G$2,データ貼付!$B$3:$F$102,5,FALSE)),\"\",VLOOKUP($B56*10+$G$2,データ貼付!$B$3:$F$102,5,FALSE))","v":""},{"$f":"IF(ISERROR(VLOOKUP($B56*10+$H$2,データ貼付!$B$3:$F$102,5,FALSE)),\"\",VLOOKUP($B56*10+$H$2,データ貼付!$B$3:$F$102,5,FALSE))","v":""},{"$f":"IF(ISERROR(VLOOKUP($B56*10+$I$2,データ貼付!$B$3:$F$102,5,FALSE)),\"\",VLOOKUP($B56*10+$I$2,データ貼付!$B$3:$F$102,5,FALSE))","v":""}]
[null,55,{"$f":"VLOOKUP($B57,データ貼付!$A$3:$I$102,4,FALSE)","v":{"$error":"#N/A"}},{"$f":"VLOOKUP($B57,データ貼付!$A$3:$I$102,5,FALSE)","v":{"$error":"#N/A"}},{"$f":"IF(ISERROR(VLOOKUP($B57*10+$E$2,データ貼付!$B$3:$F$102,5,FALSE)),\"\",VLOOKUP($B57*10+$E$2,データ貼付!$B$3:$F$102,5,FALSE))","v":""},{"$f":"IF(ISERROR(VLOOKUP($B57*10+$F$2,データ貼付!$B$3:$F$102,5,FALSE)),\"\",VLOOKUP($B57*10+$F$2,データ貼付!$B$3:$F$102,5,FALSE))","v":""},{"$f":"IF(ISERROR(VLOOKUP($B57*10+$G$2,データ貼付!$B$3:$F$102,5,FALSE)),\"\",VLOOKUP($B57*10+$G$2,データ貼付!$B$3:$F$102,5,FALSE))","v":""},{"$f":"IF(ISERROR(VLOOKUP($B57*10+$H$2,データ貼付!$B$3:$F$102,5,FALSE)),\"\",VLOOKUP($B57*10+$H$2,データ貼付!$B$3:$F$102,5,FALSE))","v":""},{"$f":"IF(ISERROR(VLOOKUP($B57*10+$I$2,データ貼付!$B$3:$F$102,5,FALSE)),\"\",VLOOKUP($B57*10+$I$2,データ貼付!$B$3:$F$102,5,FALSE))","v":""}]
[null,56,{"$f":"VLOOKUP($B58,データ貼付!$A$3:$I$102,4,FALSE)","v":{"$error":"#N/A"}},{"$f":"VLOOKUP($B58,データ貼付!$A$3:$I$102,5,FALSE)","v":{"$error":"#N/A"}},{"$f":"IF(ISERROR(VLOOKUP($B58*10+$E$2,データ貼付!$B$3:$F$102,5,FALSE)),\"\",VLOOKUP($B58*10+$E$2,データ貼付!$B$3:$F$102,5,FALSE))","v":""},{"$f":"IF(ISERROR(VLOOKUP($B58*10+$F$2,データ貼付!$B$3:$F$102,5,FALSE)),\"\",VLOOKUP($B58*10+$F$2,データ貼付!$B$3:$F$102,5,FALSE))","v":""},{"$f":"IF(ISERROR(VLOOKUP($B58*10+$G$2,データ貼付!$B$3:$F$102,5,FALSE)),\"\",VLOOKUP($B58*10+$G$2,データ貼付!$B$3:$F$102,5,FALSE))","v":""},{"$f":"IF(ISERROR(VLOOKUP($B58*10+$H$2,データ貼付!$B$3:$F$102,5,FALSE)),\"\",VLOOKUP($B58*10+$H$2,データ貼付!$B$3:$F$102,5,FALSE))","v":""},{"$f":"IF(ISERROR(VLOOKUP($B58*10+$I$2,データ貼付!$B$3:$F$102,5,FALSE)),\"\",VLOOKUP($B58*10+$I$2,データ貼付!$B$3:$F$102,5,FALSE))","v":""}]
[null,57,{"$f":"VLOOKUP($B59,データ貼付!$A$3:$I$102,4,FALSE)","v":{"$error":"#N/A"}},{"$f":"VLOOKUP($B59,データ貼付!$A$3:$I$102,5,FALSE)","v":{"$error":"#N/A"}},{"$f":"IF(ISERROR(VLOOKUP($B59*10+$E$2,データ貼付!$B$3:$F$102,5,FALSE)),\"\",VLOOKUP($B59*10+$E$2,データ貼付!$B$3:$F$102,5,FALSE))","v":""},{"$f":"IF(ISERROR(VLOOKUP($B59*10+$F$2,データ貼付!$B$3:$F$102,5,FALSE)),\"\",VLOOKUP($B59*10+$F$2,データ貼付!$B$3:$F$102,5,FALSE))","v":""},{"$f":"IF(ISERROR(VLOOKUP($B59*10+$G$2,データ貼付!$B$3:$F$102,5,FALSE)),\"\",VLOOKUP($B59*10+$G$2,データ貼付!$B$3:$F$102,5,FALSE))","v":""},{"$f":"IF(ISERROR(VLOOKUP($B59*10+$H$2,データ貼付!$B$3:$F$102,5,FALSE)),\"\",VLOOKUP($B59*10+$H$2,データ貼付!$B$3:$F$102,5,FALSE))","v":""},{"$f":"IF(ISERROR(VLOOKUP($B59*10+$I$2,データ貼付!$B$3:$F$102,5,FALSE)),\"\",VLOOKUP($B59*10+$I$2,データ貼付!$B$3:$F$102,5,FALSE))","v":""}]
[null,58,{"$f":"VLOOKUP($B60,データ貼付!$A$3:$I$102,4,FALSE)","v":{"$error":"#N/A"}},{"$f":"VLOOKUP($B60,データ貼付!$A$3:$I$102,5,FALSE)","v":{"$error":"#N/A"}},{"$f":"IF(ISERROR(VLOOKUP($B60*10+$E$2,データ貼付!$B$3:$F$102,5,FALSE)),\"\",VLOOKUP($B60*10+$E$2,データ貼付!$B$3:$F$102,5,FALSE))","v":""},{"$f":"IF(ISERROR(VLOOKUP($B60*10+$F$2,データ貼付!$B$3:$F$102,5,FALSE)),\"\",VLOOKUP($B60*10+$F$2,データ貼付!$B$3:$F$102,5,FALSE))","v":""},{"$f":"IF(ISERROR(VLOOKUP($B60*10+$G$2,データ貼付!$B$3:$F$102,5,FALSE)),\"\",VLOOKUP($B60*10+$G$2,データ貼付!$B$3:$F$102,5,FALSE))","v":""},{"$f":"IF(ISERROR(VLOOKUP($B60*10+$H$2,データ貼付!$B$3:$F$102,5,FALSE)),\"\",VLOOKUP($B60*10+$H$2,データ貼付!$B$3:$F$102,5,FALSE))","v":""},{"$f":"IF(ISERROR(VLOOKUP($B60*10+$I$2,データ貼付!$B$3:$F$102,5,FALSE)),\"\",VLOOKUP($B60*10+$I$2,データ貼付!$B$3:$F$102,5,FALSE))","v":""}]
[null,59,{"$f":"VLOOKUP($B61,データ貼付!$A$3:$I$102,4,FALSE)","v":{"$error":"#N/A"}},{"$f":"VLOOKUP($B61,データ貼付!$A$3:$I$102,5,FALSE)","v":{"$error":"#N/A"}},{"$f":"IF(ISERROR(VLOOKUP($B61*10+$E$2,データ貼付!$B$3:$F$102,5,FALSE)),\"\",VLOOKUP($B61*10+$E$2,データ貼付!$B$3:$F$102,5,FALSE))","v":""},{"$f":"IF(ISERROR(VLOOKUP($B61*10+$F$2,データ貼付!$B$3:$F$102,5,FALSE)),\"\",VLOOKUP($B61*10+$F$2,データ貼付!$B$3:$F$102,5,FALSE))","v":""},{"$f":"IF(ISERROR(VLOOKUP($B61*10+$G$2,データ貼付!$B$3:$F$102,5,FALSE)),\"\",VLOOKUP($B61*10+$G$2,データ貼付!$B$3:$F$102,5,FALSE))","v":""},{"$f":"IF(ISERROR(VLOOKUP($B61*10+$H$2,データ貼付!$B$3:$F$102,5,FALSE)),\"\",VLOOKUP($B61*10+$H$2,データ貼付!$B$3:$F$102,5,FALSE))","v":""},{"$f":"IF(ISERROR(VLOOKUP($B61*10+$I$2,データ貼付!$B$3:$F$102,5,FALSE)),\"\",VLOOKUP($B61*10+$I$2,データ貼付!$B$3:$F$102,5,FALSE))","v":""}]
[null,60,{"$f":"VLOOKUP($B62,データ貼付!$A$3:$I$102,4,FALSE)","v":{"$error":"#N/A"}},{"$f":"VLOOKUP($B62,データ貼付!$A$3:$I$102,5,FALSE)","v":{"$error":"#N/A"}},{"$f":"IF(ISERROR(VLOOKUP($B62*10+$E$2,データ貼付!$B$3:$F$102,5,FALSE)),\"\",VLOOKUP($B62*10+$E$2,データ貼付!$B$3:$F$102,5,FALSE))","v":""},{"$f":"IF(ISERROR(VLOOKUP($B62*10+$F$2,データ貼付!$B$3:$F$102,5,FALSE)),\"\",VLOOKUP($B62*10+$F$2,データ貼付!$B$3:$F$102,5,FALSE))","v":""},{"$f":"IF(ISERROR(VLOOKUP($B62*10+$G$2,データ貼付!$B$3:$F$102,5,FALSE)),\"\",VLOOKUP($B62*10+$G$2,データ貼付!$B$3:$F$102,5,FALSE))","v":""},{"$f":"IF(ISERROR(VLOOKUP($B62*10+$H$2,データ貼付!$B$3:$F$102,5,FALSE)),\"\",VLOOKUP($B62*10+$H$2,データ貼付!$B$3:$F$102,5,FALSE))","v":""},{"$f":"IF(ISERROR(VLOOKUP($B62*10+$I$2,データ貼付!$B$3:$F$102,5,FALSE)),\"\",VLOOKUP($B62*10+$I$2,データ貼付!$B$3:$F$102,5,FALSE))","v":""}]
[null,61,{"$f":"VLOOKUP($B63,データ貼付!$A$3:$I$102,4,FALSE)","v":{"$error":"#N/A"}},{"$f":"VLOOKUP($B63,データ貼付!$A$3:$I$102,5,FALSE)","v":{"$error":"#N/A"}},{"$f":"IF(ISERROR(VLOOKUP($B63*10+$E$2,データ貼付!$B$3:$F$102,5,FALSE)),\"\",VLOOKUP($B63*10+$E$2,データ貼付!$B$3:$F$102,5,FALSE))","v":""},{"$f":"IF(ISERROR(VLOOKUP($B63*10+$F$2,データ貼付!$B$3:$F$102,5,FALSE)),\"\",VLOOKUP($B63*10+$F$2,データ貼付!$B$3:$F$102,5,FALSE))","v":""},{"$f":"IF(ISERROR(VLOOKUP($B63*10+$G$2,データ貼付!$B$3:$F$102,5,FALSE)),\"\",VLOOKUP($B63*10+$G$2,データ貼付!$B$3:$F$102,5,FALSE))","v":""},{"$f":"IF(ISERROR(VLOOKUP($B63*10+$H$2,データ貼付!$B$3:$F$102,5,FALSE)),\"\",VLOOKUP($B63*10+$H$2,データ貼付!$B$3:$F$102,5,FALSE))","v":""},{"$f":"IF(ISERROR(VLOOKUP($B63*10+$I$2,データ貼付!$B$3:$F$102,5,FALSE)),\"\",VLOOKUP($B63*10+$I$2,データ貼付!$B$3:$F$102,5,FALSE))","v":""}]
[null,62,{"$f":"VLOOKUP($B64,データ貼付!$A$3:$I$102,4,FALSE)","v":{"$error":"#N/A"}},{"$f":"VLOOKUP($B64,データ貼付!$A$3:$I$102,5,FALSE)","v":{"$error":"#N/A"}},{"$f":"IF(ISERROR(VLOOKUP($B64*10+$E$2,データ貼付!$B$3:$F$102,5,FALSE)),\"\",VLOOKUP($B64*10+$E$2,データ貼付!$B$3:$F$102,5,FALSE))","v":""},{"$f":"IF(ISERROR(VLOOKUP($B64*10+$F$2,データ貼付!$B$3:$F$102,5,FALSE)),\"\",VLOOKUP($B64*10+$F$2,データ貼付!$B$3:$F$102,5,FALSE))","v":""},{"$f":"IF(ISERROR(VLOOKUP($B64*10+$G$2,データ貼付!$B$3:$F$102,5,FALSE)),\"\",VLOOKUP($B64*10+$G$2,データ貼付!$B$3:$F$102,5,FALSE))","v":""},{"$f":"IF(ISERROR(VLOOKUP($B64*10+$H$2,データ貼付!$B$3:$F$102,5,FALSE)),\"\",VLOOKUP($B64*10+$H$2,データ貼付!$B$3:$F$102,5,FALSE))","v":""},{"$f":"IF(ISERROR(VLOOKUP($B64*10+$I$2,データ貼付!$B$3:$F$102,5,FALSE)),\"\",VLOOKUP($B64*10+$I$2,データ貼付!$B$3:$F$102,5,FALSE))","v":""}]
[null,63,{"$f":"VLOOKUP($B65,データ貼付!$A$3:$I$102,4,FALSE)","v":{"$error":"#N/A"}},{"$f":"VLOOKUP($B65,データ貼付!$A$3:$I$102,5,FALSE)","v":{"$error":"#N/A"}},{"$f":"IF(ISERROR(VLOOKUP($B65*10+$E$2,データ貼付!$B$3:$F$102,5,FALSE)),\"\",VLOOKUP($B65*10+$E$2,データ貼付!$B$3:$F$102,5,FALSE))","v":""},{"$f":"IF(ISERROR(VLOOKUP($B65*10+$F$2,データ貼付!$B$3:$F$102,5,FALSE)),\"\",VLOOKUP($B65*10+$F$2,データ貼付!$B$3:$F$102,5,FALSE))","v":""},{"$f":"IF(ISERROR(VLOOKUP($B65*10+$G$2,データ貼付!$B$3:$F$102,5,FALSE)),\"\",VLOOKUP($B65*10+$G$2,データ貼付!$B$3:$F$102,5,FALSE))","v":""},{"$f":"IF(ISERROR(VLOOKUP($B65*10+$H$2,データ貼付!$B$3:$F$102,5,FALSE)),\"\",VLOOKUP($B65*10+$H$2,データ貼付!$B$3:$F$102,5,FALSE))","v":""},{"$f":"IF(ISERROR(VLOOKUP($B65*10+$I$2,データ貼付!$B$3:$F$102,5,FALSE)),\"\",VLOOKUP($B65*10+$I$2,データ貼付!$B$3:$F$102,5,FALSE))","v":""}]
[null,64,{"$f":"VLOOKUP($B66,データ貼付!$A$3:$I$102,4,FALSE)","v":{"$error":"#N/A"}},{"$f":"VLOOKUP($B66,データ貼付!$A$3:$I$102,5,FALSE)","v":{"$error":"#N/A"}},{"$f":"IF(ISERROR(VLOOKUP($B66*10+$E$2,データ貼付!$B$3:$F$102,5,FALSE)),\"\",VLOOKUP($B66*10+$E$2,データ貼付!$B$3:$F$102,5,FALSE))","v":""},{"$f":"IF(ISERROR(VLOOKUP($B66*10+$F$2,データ貼付!$B$3:$F$102,5,FALSE)),\"\",VLOOKUP($B66*10+$F$2,データ貼付!$B$3:$F$102,5,FALSE))","v":""},{"$f":"IF(ISERROR(VLOOKUP($B66*10+$G$2,データ貼付!$B$3:$F$102,5,FALSE)),\"\",VLOOKUP($B66*10+$G$2,データ貼付!$B$3:$F$102,5,FALSE))","v":""},{"$f":"IF(ISERROR(VLOOKUP($B66*10+$H$2,データ貼付!$B$3:$F$102,5,FALSE)),\"\",VLOOKUP($B66*10+$H$2,データ貼付!$B$3:$F$102,5,FALSE))","v":""},{"$f":"IF(ISERROR(VLOOKUP($B66*10+$I$2,データ貼付!$B$3:$F$102,5,FALSE)),\"\",VLOOKUP($B66*10+$I$2,データ貼付!$B$3:$F$102,5,FALSE))","v":""}]
[null,65,{"$f":"VLOOKUP($B67,データ貼付!$A$3:$I$102,4,FALSE)","v":{"$error":"#N/A"}},{"$f":"VLOOKUP($B67,データ貼付!$A$3:$I$102,5,FALSE)","v":{"$error":"#N/A"}},{"$f":"IF(ISERROR(VLOOKUP($B67*10+$E$2,データ貼付!$B$3:$F$102,5,FALSE)),\"\",VLOOKUP($B67*10+$E$2,データ貼付!$B$3:$F$102,5,FALSE))","v":""},{"$f":"IF(ISERROR(VLOOKUP($B67*10+$F$2,データ貼付!$B$3:$F$102,5,FALSE)),\"\",VLOOKUP($B67*10+$F$2,データ貼付!$B$3:$F$102,5,FALSE))","v":""},{"$f":"IF(ISERROR(VLOOKUP($B67*10+$G$2,データ貼付!$B$3:$F$102,5,FALSE)),\"\",VLOOKUP($B67*10+$G$2,データ貼付!$B$3:$F$102,5,FALSE))","v":""},{"$f":"IF(ISERROR(VLOOKUP($B67*10+$H$2,データ貼付!$B$3:$F$102,5,FALSE)),\"\",VLOOKUP($B67*10+$H$2,データ貼付!$B$3:$F$102,5,FALSE))","v":""},{"$f":"IF(ISERROR(VLOOKUP($B67*10+$I$2,データ貼付!$B$3:$F$102,5,FALSE)),\"\",VLOOKUP($B67*10+$I$2,データ貼付!$B$3:$F$102,5,FALSE))","v":""}]
[null,66,{"$f":"VLOOKUP($B68,データ貼付!$A$3:$I$102,4,FALSE)","v":{"$error":"#N/A"}},{"$f":"VLOOKUP($B68,データ貼付!$A$3:$I$102,5,FALSE)","v":{"$error":"#N/A"}},{"$f":"IF(ISERROR(VLOOKUP($B68*10+$E$2,データ貼付!$B$3:$F$102,5,FALSE)),\"\",VLOOKUP($B68*10+$E$2,データ貼付!$B$3:$F$102,5,FALSE))","v":""},{"$f":"IF(ISERROR(VLOOKUP($B68*10+$F$2,データ貼付!$B$3:$F$102,5,FALSE)),\"\",VLOOKUP($B68*10+$F$2,データ貼付!$B$3:$F$102,5,FALSE))","v":""},{"$f":"IF(ISERROR(VLOOKUP($B68*10+$G$2,データ貼付!$B$3:$F$102,5,FALSE)),\"\",VLOOKUP($B68*10+$G$2,データ貼付!$B$3:$F$102,5,FALSE))","v":""},{"$f":"IF(ISERROR(VLOOKUP($B68*10+$H$2,データ貼付!$B$3:$F$102,5,FALSE)),\"\",VLOOKUP($B68*10+$H$2,データ貼付!$B$3:$F$102,5,FALSE))","v":""},{"$f":"IF(ISERROR(VLOOKUP($B68*10+$I$2,データ貼付!$B$3:$F$102,5,FALSE)),\"\",VLOOKUP($B68*10+$I$2,データ貼付!$B$3:$F$102,5,FALSE))","v":""}]
[null,67,{"$f":"VLOOKUP($B69,データ貼付!$A$3:$I$102,4,FALSE)","v":{"$error":"#N/A"}},{"$f":"VLOOKUP($B69,データ貼付!$A$3:$I$102,5,FALSE)","v":{"$error":"#N/A"}},{"$f":"IF(ISERROR(VLOOKUP($B69*10+$E$2,データ貼付!$B$3:$F$102,5,FALSE)),\"\",VLOOKUP($B69*10+$E$2,データ貼付!$B$3:$F$102,5,FALSE))","v":""},{"$f":"IF(ISERROR(VLOOKUP($B69*10+$F$2,データ貼付!$B$3:$F$102,5,FALSE)),\"\",VLOOKUP($B69*10+$F$2,データ貼付!$B$3:$F$102,5,FALSE))","v":""},{"$f":"IF(ISERROR(VLOOKUP($B69*10+$G$2,データ貼付!$B$3:$F$102,5,FALSE)),\"\",VLOOKUP($B69*10+$G$2,データ貼付!$B$3:$F$102,5,FALSE))","v":""},{"$f":"IF(ISERROR(VLOOKUP($B69*10+$H$2,データ貼付!$B$3:$F$102,5,FALSE)),\"\",VLOOKUP($B69*10+$H$2,データ貼付!$B$3:$F$102,5,FALSE))","v":""},{"$f":"IF(ISERROR(VLOOKUP($B69*10+$I$2,データ貼付!$B$3:$F$102,5,FALSE)),\"\",VLOOKUP($B69*10+$I$2,データ貼付!$B$3:$F$102,5,FALSE))","v":""}]
[null,68,{"$f":"VLOOKUP($B70,データ貼付!$A$3:$I$102,4,FALSE)","v":{"$error":"#N/A"}},{"$f":"VLOOKUP($B70,データ貼付!$A$3:$I$102,5,FALSE)","v":{"$error":"#N/A"}},{"$f":"IF(ISERROR(VLOOKUP($B70*10+$E$2,データ貼付!$B$3:$F$102,5,FALSE)),\"\",VLOOKUP($B70*10+$E$2,データ貼付!$B$3:$F$102,5,FALSE))","v":""},{"$f":"IF(ISERROR(VLOOKUP($B70*10+$F$2,データ貼付!$B$3:$F$102,5,FALSE)),\"\",VLOOKUP($B70*10+$F$2,データ貼付!$B$3:$F$102,5,FALSE))","v":""},{"$f":"IF(ISERROR(VLOOKUP($B70*10+$G$2,データ貼付!$B$3:$F$102,5,FALSE)),\"\",VLOOKUP($B70*10+$G$2,データ貼付!$B$3:$F$102,5,FALSE))","v":""},{"$f":"IF(ISERROR(VLOOKUP($B70*10+$H$2,データ貼付!$B$3:$F$102,5,FALSE)),\"\",VLOOKUP($B70*10+$H$2,データ貼付!$B$3:$F$102,5,FALSE))","v":""},{"$f":"IF(ISERROR(VLOOKUP($B70*10+$I$2,データ貼付!$B$3:$F$102,5,FALSE)),\"\",VLOOKUP($B70*10+$I$2,データ貼付!$B$3:$F$102,5,FALSE))","v":""}]
[null,69,{"$f":"VLOOKUP($B71,データ貼付!$A$3:$I$102,4,FALSE)","v":{"$error":"#N/A"}},{"$f":"VLOOKUP($B71,データ貼付!$A$3:$I$102,5,FALSE)","v":{"$error":"#N/A"}},{"$f":"IF(ISERROR(VLOOKUP($B71*10+$E$2,データ貼付!$B$3:$F$102,5,FALSE)),\"\",VLOOKUP($B71*10+$E$2,データ貼付!$B$3:$F$102,5,FALSE))","v":""},{"$f":"IF(ISERROR(VLOOKUP($B71*10+$F$2,データ貼付!$B$3:$F$102,5,FALSE)),\"\",VLOOKUP($B71*10+$F$2,データ貼付!$B$3:$F$102,5,FALSE))","v":""},{"$f":"IF(ISERROR(VLOOKUP($B71*10+$G$2,データ貼付!$B$3:$F$102,5,FALSE)),\"\",VLOOKUP($B71*10+$G$2,データ貼付!$B$3:$F$102,5,FALSE))","v":""},{"$f":"IF(ISERROR(VLOOKUP($B71*10+$H$2,データ貼付!$B$3:$F$102,5,FALSE)),\"\",VLOOKUP($B71*10+$H$2,データ貼付!$B$3:$F$102,5,FALSE))","v":""},{"$f":"IF(ISERROR(VLOOKUP($B71*10+$I$2,データ貼付!$B$3:$F$102,5,FALSE)),\"\",VLOOKUP($B71*10+$I$2,データ貼付!$B$3:$F$102,5,FALSE))","v":""}]
[null,70,{"$f":"VLOOKUP($B72,データ貼付!$A$3:$I$102,4,FALSE)","v":{"$error":"#N/A"}},{"$f":"VLOOKUP($B72,データ貼付!$A$3:$I$102,5,FALSE)","v":{"$error":"#N/A"}},{"$f":"IF(ISERROR(VLOOKUP($B72*10+$E$2,データ貼付!$B$3:$F$102,5,FALSE)),\"\",VLOOKUP($B72*10+$E$2,データ貼付!$B$3:$F$102,5,FALSE))","v":""},{"$f":"IF(ISERROR(VLOOKUP($B72*10+$F$2,データ貼付!$B$3:$F$102,5,FALSE)),\"\",VLOOKUP($B72*10+$F$2,データ貼付!$B$3:$F$102,5,FALSE))","v":""},{"$f":"IF(ISERROR(VLOOKUP($B72*10+$G$2,データ貼付!$B$3:$F$102,5,FALSE)),\"\",VLOOKUP($B72*10+$G$2,データ貼付!$B$3:$F$102,5,FALSE))","v":""},{"$f":"IF(ISERROR(VLOOKUP($B72*10+$H$2,データ貼付!$B$3:$F$102,5,FALSE)),\"\",VLOOKUP($B72*10+$H$2,データ貼付!$B$3:$F$102,5,FALSE))","v":""},{"$f":"IF(ISERROR(VLOOKUP($B72*10+$I$2,データ貼付!$B$3:$F$102,5,FALSE)),\"\",VLOOKUP($B72*10+$I$2,データ貼付!$B$3:$F$102,5,FALSE))","v":""}]
[null,71,{"$f":"VLOOKUP($B73,データ貼付!$A$3:$I$102,4,FALSE)","v":{"$error":"#N/A"}},{"$f":"VLOOKUP($B73,データ貼付!$A$3:$I$102,5,FALSE)","v":{"$error":"#N/A"}},{"$f":"IF(ISERROR(VLOOKUP($B73*10+$E$2,データ貼付!$B$3:$F$102,5,FALSE)),\"\",VLOOKUP($B73*10+$E$2,データ貼付!$B$3:$F$102,5,FALSE))","v":""},{"$f":"IF(ISERROR(VLOOKUP($B73*10+$F$2,データ貼付!$B$3:$F$102,5,FALSE)),\"\",VLOOKUP($B73*10+$F$2,データ貼付!$B$3:$F$102,5,FALSE))","v":""},{"$f":"IF(ISERROR(VLOOKUP($B73*10+$G$2,データ貼付!$B$3:$F$102,5,FALSE)),\"\",VLOOKUP($B73*10+$G$2,データ貼付!$B$3:$F$102,5,FALSE))","v":""},{"$f":"IF(ISERROR(VLOOKUP($B73*10+$H$2,データ貼付!$B$3:$F$102,5,FALSE)),\"\",VLOOKUP($B73*10+$H$2,データ貼付!$B$3:$F$102,5,FALSE))","v":""},{"$f":"IF(ISERROR(VLOOKUP($B73*10+$I$2,データ貼付!$B$3:$F$102,5,FALSE)),\"\",VLOOKUP($B73*10+$I$2,データ貼付!$B$3:$F$102,5,FALSE))","v":""}]
[null,72,{"$f":"VLOOKUP($B74,データ貼付!$A$3:$I$102,4,FALSE)","v":{"$error":"#N/A"}},{"$f":"VLOOKUP($B74,データ貼付!$A$3:$I$102,5,FALSE)","v":{"$error":"#N/A"}},{"$f":"IF(ISERROR(VLOOKUP($B74*10+$E$2,データ貼付!$B$3:$F$102,5,FALSE)),\"\",VLOOKUP($B74*10+$E$2,データ貼付!$B$3:$F$102,5,FALSE))","v":""},{"$f":"IF(ISERROR(VLOOKUP($B74*10+$F$2,データ貼付!$B$3:$F$102,5,FALSE)),\"\",VLOOKUP($B74*10+$F$2,データ貼付!$B$3:$F$102,5,FALSE))","v":""},{"$f":"IF(ISERROR(VLOOKUP($B74*10+$G$2,データ貼付!$B$3:$F$102,5,FALSE)),\"\",VLOOKUP($B74*10+$G$2,データ貼付!$B$3:$F$102,5,FALSE))","v":""},{"$f":"IF(ISERROR(VLOOKUP($B74*10+$H$2,データ貼付!$B$3:$F$102,5,FALSE)),\"\",VLOOKUP($B74*10+$H$2,データ貼付!$B$3:$F$102,5,FALSE))","v":""},{"$f":"IF(ISERROR(VLOOKUP($B74*10+$I$2,データ貼付!$B$3:$F$102,5,FALSE)),\"\",VLOOKUP($B74*10+$I$2,データ貼付!$B$3:$F$102,5,FALSE))","v":""}]
[null,73,{"$f":"VLOOKUP($B75,データ貼付!$A$3:$I$102,4,FALSE)","v":{"$error":"#N/A"}},{"$f":"VLOOKUP($B75,データ貼付!$A$3:$I$102,5,FALSE)","v":{"$error":"#N/A"}},{"$f":"IF(ISERROR(VLOOKUP($B75*10+$E$2,データ貼付!$B$3:$F$102,5,FALSE)),\"\",VLOOKUP($B75*10+$E$2,データ貼付!$B$3:$F$102,5,FALSE))","v":""},{"$f":"IF(ISERROR(VLOOKUP($B75*10+$F$2,データ貼付!$B$3:$F$102,5,FALSE)),\"\",VLOOKUP($B75*10+$F$2,データ貼付!$B$3:$F$102,5,FALSE))","v":""},{"$f":"IF(ISERROR(VLOOKUP($B75*10+$G$2,データ貼付!$B$3:$F$102,5,FALSE)),\"\",VLOOKUP($B75*10+$G$2,データ貼付!$B$3:$F$102,5,FALSE))","v":""},{"$f":"IF(ISERROR(VLOOKUP($B75*10+$H$2,データ貼付!$B$3:$F$102,5,FALSE)),\"\",VLOOKUP($B75*10+$H$2,データ貼付!$B$3:$F$102,5,FALSE))","v":""},{"$f":"IF(ISERROR(VLOOKUP($B75*10+$I$2,データ貼付!$B$3:$F$102,5,FALSE)),\"\",VLOOKUP($B75*10+$I$2,データ貼付!$B$3:$F$102,5,FALSE))","v":""}]
[null,74,{"$f":"VLOOKUP($B76,データ貼付!$A$3:$I$102,4,FALSE)","v":{"$error":"#N/A"}},{"$f":"VLOOKUP($B76,データ貼付!$A$3:$I$102,5,FALSE)","v":{"$error":"#N/A"}},{"$f":"IF(ISERROR(VLOOKUP($B76*10+$E$2,データ貼付!$B$3:$F$102,5,FALSE)),\"\",VLOOKUP($B76*10+$E$2,データ貼付!$B$3:$F$102,5,FALSE))","v":""},{"$f":"IF(ISERROR(VLOOKUP($B76*10+$F$2,データ貼付!$B$3:$F$102,5,FALSE)),\"\",VLOOKUP($B76*10+$F$2,データ貼付!$B$3:$F$102,5,FALSE))","v":""},{"$f":"IF(ISERROR(VLOOKUP($B76*10+$G$2,データ貼付!$B$3:$F$102,5,FALSE)),\"\",VLOOKUP($B76*10+$G$2,データ貼付!$B$3:$F$102,5,FALSE))","v":""},{"$f":"IF(ISERROR(VLOOKUP($B76*10+$H$2,データ貼付!$B$3:$F$102,5,FALSE)),\"\",VLOOKUP($B76*10+$H$2,データ貼付!$B$3:$F$102,5,FALSE))","v":""},{"$f":"IF(ISERROR(VLOOKUP($B76*10+$I$2,データ貼付!$B$3:$F$102,5,FALSE)),\"\",VLOOKUP($B76*10+$I$2,データ貼付!$B$3:$F$102,5,FALSE))","v":""}]
[null,75,{"$f":"VLOOKUP($B77,データ貼付!$A$3:$I$102,4,FALSE)","v":{"$error":"#N/A"}},{"$f":"VLOOKUP($B77,データ貼付!$A$3:$I$102,5,FALSE)","v":{"$error":"#N/A"}},{"$f":"IF(ISERROR(VLOOKUP($B77*10+$E$2,データ貼付!$B$3:$F$102,5,FALSE)),\"\",VLOOKUP($B77*10+$E$2,データ貼付!$B$3:$F$102,5,FALSE))","v":""},{"$f":"IF(ISERROR(VLOOKUP($B77*10+$F$2,データ貼付!$B$3:$F$102,5,FALSE)),\"\",VLOOKUP($B77*10+$F$2,データ貼付!$B$3:$F$102,5,FALSE))","v":""},{"$f":"IF(ISERROR(VLOOKUP($B77*10+$G$2,データ貼付!$B$3:$F$102,5,FALSE)),\"\",VLOOKUP($B77*10+$G$2,データ貼付!$B$3:$F$102,5,FALSE))","v":""},{"$f":"IF(ISERROR(VLOOKUP($B77*10+$H$2,データ貼付!$B$3:$F$102,5,FALSE)),\"\",VLOOKUP($B77*10+$H$2,データ貼付!$B$3:$F$102,5,FALSE))","v":""},{"$f":"IF(ISERROR(VLOOKUP($B77*10+$I$2,データ貼付!$B$3:$F$102,5,FALSE)),\"\",VLOOKUP($B77*10+$I$2,データ貼付!$B$3:$F$102,5,FALSE))","v":""}]
[null,76,{"$f":"VLOOKUP($B78,データ貼付!$A$3:$I$102,4,FALSE)","v":{"$error":"#N/A"}},{"$f":"VLOOKUP($B78,データ貼付!$A$3:$I$102,5,FALSE)","v":{"$error":"#N/A"}},{"$f":"IF(ISERROR(VLOOKUP($B78*10+$E$2,データ貼付!$B$3:$F$102,5,FALSE)),\"\",VLOOKUP($B78*10+$E$2,データ貼付!$B$3:$F$102,5,FALSE))","v":""},{"$f":"IF(ISERROR(VLOOKUP($B78*10+$F$2,データ貼付!$B$3:$F$102,5,FALSE)),\"\",VLOOKUP($B78*10+$F$2,データ貼付!$B$3:$F$102,5,FALSE))","v":""},{"$f":"IF(ISERROR(VLOOKUP($B78*10+$G$2,データ貼付!$B$3:$F$102,5,FALSE)),\"\",VLOOKUP($B78*10+$G$2,データ貼付!$B$3:$F$102,5,FALSE))","v":""},{"$f":"IF(ISERROR(VLOOKUP($B78*10+$H$2,データ貼付!$B$3:$F$102,5,FALSE)),\"\",VLOOKUP($B78*10+$H$2,データ貼付!$B$3:$F$102,5,FALSE))","v":""},{"$f":"IF(ISERROR(VLOOKUP($B78*10+$I$2,データ貼付!$B$3:$F$102,5,FALSE)),\"\",VLOOKUP($B78*10+$I$2,データ貼付!$B$3:$F$102,5,FALSE))","v":""}]
[null,77,{"$f":"VLOOKUP($B79,データ貼付!$A$3:$I$102,4,FALSE)","v":{"$error":"#N/A"}},{"$f":"VLOOKUP($B79,データ貼付!$A$3:$I$102,5,FALSE)","v":{"$error":"#N/A"}},{"$f":"IF(ISERROR(VLOOKUP($B79*10+$E$2,データ貼付!$B$3:$F$102,5,FALSE)),\"\",VLOOKUP($B79*10+$E$2,データ貼付!$B$3:$F$102,5,FALSE))","v":""},{"$f":"IF(ISERROR(VLOOKUP($B79*10+$F$2,データ貼付!$B$3:$F$102,5,FALSE)),\"\",VLOOKUP($B79*10+$F$2,データ貼付!$B$3:$F$102,5,FALSE))","v":""},{"$f":"IF(ISERROR(VLOOKUP($B79*10+$G$2,データ貼付!$B$3:$F$102,5,FALSE)),\"\",VLOOKUP($B79*10+$G$2,データ貼付!$B$3:$F$102,5,FALSE))","v":""},{"$f":"IF(ISERROR(VLOOKUP($B79*10+$H$2,データ貼付!$B$3:$F$102,5,FALSE)),\"\",VLOOKUP($B79*10+$H$2,データ貼付!$B$3:$F$102,5,FALSE))","v":""},{"$f":"IF(ISERROR(VLOOKUP($B79*10+$I$2,データ貼付!$B$3:$F$102,5,FALSE)),\"\",VLOOKUP($B79*10+$I$2,データ貼付!$B$3:$F$102,5,FALSE))","v":""}]
[null,78,{"$f":"VLOOKUP($B80,データ貼付!$A$3:$I$102,4,FALSE)","v":{"$error":"#N/A"}},{"$f":"VLOOKUP($B80,データ貼付!$A$3:$I$102,5,FALSE)","v":{"$error":"#N/A"}},{"$f":"IF(ISERROR(VLOOKUP($B80*10+$E$2,データ貼付!$B$3:$F$102,5,FALSE)),\"\",VLOOKUP($B80*10+$E$2,データ貼付!$B$3:$F$102,5,FALSE))","v":""},{"$f":"IF(ISERROR(VLOOKUP($B80*10+$F$2,データ貼付!$B$3:$F$102,5,FALSE)),\"\",VLOOKUP($B80*10+$F$2,データ貼付!$B$3:$F$102,5,FALSE))","v":""},{"$f":"IF(ISERROR(VLOOKUP($B80*10+$G$2,データ貼付!$B$3:$F$102,5,FALSE)),\"\",VLOOKUP($B80*10+$G$2,データ貼付!$B$3:$F$102,5,FALSE))","v":""},{"$f":"IF(ISERROR(VLOOKUP($B80*10+$H$2,データ貼付!$B$3:$F$102,5,FALSE)),\"\",VLOOKUP($B80*10+$H$2,データ貼付!$B$3:$F$102,5,FALSE))","v":""},{"$f":"IF(ISERROR(VLOOKUP($B80*10+$I$2,データ貼付!$B$3:$F$102,5,FALSE)),\"\",VLOOKUP($B80*10+$I$2,データ貼付!$B$3:$F$102,5,FALSE))","v":""}]
[null,79,{"$f":"VLOOKUP($B81,データ貼付!$A$3:$I$102,4,FALSE)","v":{"$error":"#N/A"}},{"$f":"VLOOKUP($B81,データ貼付!$A$3:$I$102,5,FALSE)","v":{"$error":"#N/A"}},{"$f":"IF(ISERROR(VLOOKUP($B81*10+$E$2,データ貼付!$B$3:$F$102,5,FALSE)),\"\",VLOOKUP($B81*10+$E$2,データ貼付!$B$3:$F$102,5,FALSE))","v":""},{"$f":"IF(ISERROR(VLOOKUP($B81*10+$F$2,データ貼付!$B$3:$F$102,5,FALSE)),\"\",VLOOKUP($B81*10+$F$2,データ貼付!$B$3:$F$102,5,FALSE))","v":""},{"$f":"IF(ISERROR(VLOOKUP($B81*10+$G$2,データ貼付!$B$3:$F$102,5,FALSE)),\"\",VLOOKUP($B81*10+$G$2,データ貼付!$B$3:$F$102,5,FALSE))","v":""},{"$f":"IF(ISERROR(VLOOKUP($B81*10+$H$2,データ貼付!$B$3:$F$102,5,FALSE)),\"\",VLOOKUP($B81*10+$H$2,データ貼付!$B$3:$F$102,5,FALSE))","v":""},{"$f":"IF(ISERROR(VLOOKUP($B81*10+$I$2,データ貼付!$B$3:$F$102,5,FALSE)),\"\",VLOOKUP($B81*10+$I$2,データ貼付!$B$3:$F$102,5,FALSE))","v":""}]
[null,80,{"$f":"VLOOKUP($B82,データ貼付!$A$3:$I$102,4,FALSE)","v":{"$error":"#N/A"}},{"$f":"VLOOKUP($B82,データ貼付!$A$3:$I$102,5,FALSE)","v":{"$error":"#N/A"}},{"$f":"IF(ISERROR(VLOOKUP($B82*10+$E$2,データ貼付!$B$3:$F$102,5,FALSE)),\"\",VLOOKUP($B82*10+$E$2,データ貼付!$B$3:$F$102,5,FALSE))","v":""},{"$f":"IF(ISERROR(VLOOKUP($B82*10+$F$2,データ貼付!$B$3:$F$102,5,FALSE)),\"\",VLOOKUP($B82*10+$F$2,データ貼付!$B$3:$F$102,5,FALSE))","v":""},{"$f":"IF(ISERROR(VLOOKUP($B82*10+$G$2,データ貼付!$B$3:$F$102,5,FALSE)),\"\",VLOOKUP($B82*10+$G$2,データ貼付!$B$3:$F$102,5,FALSE))","v":""},{"$f":"IF(ISERROR(VLOOKUP($B82*10+$H$2,データ貼付!$B$3:$F$102,5,FALSE)),\"\",VLOOKUP($B82*10+$H$2,データ貼付!$B$3:$F$102,5,FALSE))","v":""},{"$f":"IF(ISERROR(VLOOKUP($B82*10+$I$2,データ貼付!$B$3:$F$102,5,FALSE)),\"\",VLOOKUP($B82*10+$I$2,データ貼付!$B$3:$F$102,5,FALSE))","v":""}]
[null,81,{"$f":"VLOOKUP($B83,データ貼付!$A$3:$I$102,4,FALSE)","v":{"$error":"#N/A"}},{"$f":"VLOOKUP($B83,データ貼付!$A$3:$I$102,5,FALSE)","v":{"$error":"#N/A"}},{"$f":"IF(ISERROR(VLOOKUP($B83*10+$E$2,データ貼付!$B$3:$F$102,5,FALSE)),\"\",VLOOKUP($B83*10+$E$2,データ貼付!$B$3:$F$102,5,FALSE))","v":""},{"$f":"IF(ISERROR(VLOOKUP($B83*10+$F$2,データ貼付!$B$3:$F$102,5,FALSE)),\"\",VLOOKUP($B83*10+$F$2,データ貼付!$B$3:$F$102,5,FALSE))","v":""},{"$f":"IF(ISERROR(VLOOKUP($B83*10+$G$2,データ貼付!$B$3:$F$102,5,FALSE)),\"\",VLOOKUP($B83*10+$G$2,データ貼付!$B$3:$F$102,5,FALSE))","v":""},{"$f":"IF(ISERROR(VLOOKUP($B83*10+$H$2,データ貼付!$B$3:$F$102,5,FALSE)),\"\",VLOOKUP($B83*10+$H$2,データ貼付!$B$3:$F$102,5,FALSE))","v":""},{"$f":"IF(ISERROR(VLOOKUP($B83*10+$I$2,データ貼付!$B$3:$F$102,5,FALSE)),\"\",VLOOKUP($B83*10+$I$2,データ貼付!$B$3:$F$102,5,FALSE))","v":""}]
[null,82,{"$f":"VLOOKUP($B84,データ貼付!$A$3:$I$102,4,FALSE)","v":{"$error":"#N/A"}},{"$f":"VLOOKUP($B84,データ貼付!$A$3:$I$102,5,FALSE)","v":{"$error":"#N/A"}},{"$f":"IF(ISERROR(VLOOKUP($B84*10+$E$2,データ貼付!$B$3:$F$102,5,FALSE)),\"\",VLOOKUP($B84*10+$E$2,データ貼付!$B$3:$F$102,5,FALSE))","v":""},{"$f":"IF(ISERROR(VLOOKUP($B84*10+$F$2,データ貼付!$B$3:$F$102,5,FALSE)),\"\",VLOOKUP($B84*10+$F$2,データ貼付!$B$3:$F$102,5,FALSE))","v":""},{"$f":"IF(ISERROR(VLOOKUP($B84*10+$G$2,データ貼付!$B$3:$F$102,5,FALSE)),\"\",VLOOKUP($B84*10+$G$2,データ貼付!$B$3:$F$102,5,FALSE))","v":""},{"$f":"IF(ISERROR(VLOOKUP($B84*10+$H$2,データ貼付!$B$3:$F$102,5,FALSE)),\"\",VLOOKUP($B84*10+$H$2,データ貼付!$B$3:$F$102,5,FALSE))","v":""},{"$f":"IF(ISERROR(VLOOKUP($B84*10+$I$2,データ貼付!$B$3:$F$102,5,FALSE)),\"\",VLOOKUP($B84*10+$I$2,データ貼付!$B$3:$F$102,5,FALSE))","v":""}]
[null,83,{"$f":"VLOOKUP($B85,データ貼付!$A$3:$I$102,4,FALSE)","v":{"$error":"#N/A"}},{"$f":"VLOOKUP($B85,データ貼付!$A$3:$I$102,5,FALSE)","v":{"$error":"#N/A"}},{"$f":"IF(ISERROR(VLOOKUP($B85*10+$E$2,データ貼付!$B$3:$F$102,5,FALSE)),\"\",VLOOKUP($B85*10+$E$2,データ貼付!$B$3:$F$102,5,FALSE))","v":""},{"$f":"IF(ISERROR(VLOOKUP($B85*10+$F$2,データ貼付!$B$3:$F$102,5,FALSE)),\"\",VLOOKUP($B85*10+$F$2,データ貼付!$B$3:$F$102,5,FALSE))","v":""},{"$f":"IF(ISERROR(VLOOKUP($B85*10+$G$2,データ貼付!$B$3:$F$102,5,FALSE)),\"\",VLOOKUP($B85*10+$G$2,データ貼付!$B$3:$F$102,5,FALSE))","v":""},{"$f":"IF(ISERROR(VLOOKUP($B85*10+$H$2,データ貼付!$B$3:$F$102,5,FALSE)),\"\",VLOOKUP($B85*10+$H$2,データ貼付!$B$3:$F$102,5,FALSE))","v":""},{"$f":"IF(ISERROR(VLOOKUP($B85*10+$I$2,データ貼付!$B$3:$F$102,5,FALSE)),\"\",VLOOKUP($B85*10+$I$2,データ貼付!$B$3:$F$102,5,FALSE))","v":""}]
[null,84,{"$f":"VLOOKUP($B86,データ貼付!$A$3:$I$102,4,FALSE)","v":{"$error":"#N/A"}},{"$f":"VLOOKUP($B86,データ貼付!$A$3:$I$102,5,FALSE)","v":{"$error":"#N/A"}},{"$f":"IF(ISERROR(VLOOKUP($B86*10+$E$2,データ貼付!$B$3:$F$102,5,FALSE)),\"\",VLOOKUP($B86*10+$E$2,データ貼付!$B$3:$F$102,5,FALSE))","v":""},{"$f":"IF(ISERROR(VLOOKUP($B86*10+$F$2,データ貼付!$B$3:$F$102,5,FALSE)),\"\",VLOOKUP($B86*10+$F$2,データ貼付!$B$3:$F$102,5,FALSE))","v":""},{"$f":"IF(ISERROR(VLOOKUP($B86*10+$G$2,データ貼付!$B$3:$F$102,5,FALSE)),\"\",VLOOKUP($B86*10+$G$2,データ貼付!$B$3:$F$102,5,FALSE))","v":""},{"$f":"IF(ISERROR(VLOOKUP($B86*10+$H$2,データ貼付!$B$3:$F$102,5,FALSE)),\"\",VLOOKUP($B86*10+$H$2,データ貼付!$B$3:$F$102,5,FALSE))","v":""},{"$f":"IF(ISERROR(VLOOKUP($B86*10+$I$2,データ貼付!$B$3:$F$102,5,FALSE)),\"\",VLOOKUP($B86*10+$I$2,データ貼付!$B$3:$F$102,5,FALSE))","v":""}]
[null,85,{"$f":"VLOOKUP($B87,データ貼付!$A$3:$I$102,4,FALSE)","v":{"$error":"#N/A"}},{"$f":"VLOOKUP($B87,データ貼付!$A$3:$I$102,5,FALSE)","v":{"$error":"#N/A"}},{"$f":"IF(ISERROR(VLOOKUP($B87*10+$E$2,データ貼付!$B$3:$F$102,5,FALSE)),\"\",VLOOKUP($B87*10+$E$2,データ貼付!$B$3:$F$102,5,FALSE))","v":""},{"$f":"IF(ISERROR(VLOOKUP($B87*10+$F$2,データ貼付!$B$3:$F$102,5,FALSE)),\"\",VLOOKUP($B87*10+$F$2,データ貼付!$B$3:$F$102,5,FALSE))","v":""},{"$f":"IF(ISERROR(VLOOKUP($B87*10+$G$2,データ貼付!$B$3:$F$102,5,FALSE)),\"\",VLOOKUP($B87*10+$G$2,データ貼付!$B$3:$F$102,5,FALSE))","v":""},{"$f":"IF(ISERROR(VLOOKUP($B87*10+$H$2,データ貼付!$B$3:$F$102,5,FALSE)),\"\",VLOOKUP($B87*10+$H$2,データ貼付!$B$3:$F$102,5,FALSE))","v":""},{"$f":"IF(ISERROR(VLOOKUP($B87*10+$I$2,データ貼付!$B$3:$F$102,5,FALSE)),\"\",VLOOKUP($B87*10+$I$2,データ貼付!$B$3:$F$102,5,FALSE))","v":""}]
[null,86,{"$f":"VLOOKUP($B88,データ貼付!$A$3:$I$102,4,FALSE)","v":{"$error":"#N/A"}},{"$f":"VLOOKUP($B88,データ貼付!$A$3:$I$102,5,FALSE)","v":{"$error":"#N/A"}},{"$f":"IF(ISERROR(VLOOKUP($B88*10+$E$2,データ貼付!$B$3:$F$102,5,FALSE)),\"\",VLOOKUP($B88*10+$E$2,データ貼付!$B$3:$F$102,5,FALSE))","v":""},{"$f":"IF(ISERROR(VLOOKUP($B88*10+$F$2,データ貼付!$B$3:$F$102,5,FALSE)),\"\",VLOOKUP($B88*10+$F$2,データ貼付!$B$3:$F$102,5,FALSE))","v":""},{"$f":"IF(ISERROR(VLOOKUP($B88*10+$G$2,データ貼付!$B$3:$F$102,5,FALSE)),\"\",VLOOKUP($B88*10+$G$2,データ貼付!$B$3:$F$102,5,FALSE))","v":""},{"$f":"IF(ISERROR(VLOOKUP($B88*10+$H$2,データ貼付!$B$3:$F$102,5,FALSE)),\"\",VLOOKUP($B88*10+$H$2,データ貼付!$B$3:$F$102,5,FALSE))","v":""},{"$f":"IF(ISERROR(VLOOKUP($B88*10+$I$2,データ貼付!$B$3:$F$102,5,FALSE)),\"\",VLOOKUP($B88*10+$I$2,データ貼付!$B$3:$F$102,5,FALSE))","v":""}]
[null,87,{"$f":"VLOOKUP($B89,データ貼付!$A$3:$I$102,4,FALSE)","v":{"$error":"#N/A"}},{"$f":"VLOOKUP($B89,データ貼付!$A$3:$I$102,5,FALSE)","v":{"$error":"#N/A"}},{"$f":"IF(ISERROR(VLOOKUP($B89*10+$E$2,データ貼付!$B$3:$F$102,5,FALSE)),\"\",VLOOKUP($B89*10+$E$2,データ貼付!$B$3:$F$102,5,FALSE))","v":""},{"$f":"IF(ISERROR(VLOOKUP($B89*10+$F$2,データ貼付!$B$3:$F$102,5,FALSE)),\"\",VLOOKUP($B89*10+$F$2,データ貼付!$B$3:$F$102,5,FALSE))","v":""},{"$f":"IF(ISERROR(VLOOKUP($B89*10+$G$2,データ貼付!$B$3:$F$102,5,FALSE)),\"\",VLOOKUP($B89*10+$G$2,データ貼付!$B$3:$F$102,5,FALSE))","v":""},{"$f":"IF(ISERROR(VLOOKUP($B89*10+$H$2,データ貼付!$B$3:$F$102,5,FALSE)),\"\",VLOOKUP($B89*10+$H$2,データ貼付!$B$3:$F$102,5,FALSE))","v":""},{"$f":"IF(ISERROR(VLOOKUP($B89*10+$I$2,データ貼付!$B$3:$F$102,5,FALSE)),\"\",VLOOKUP($B89*10+$I$2,データ貼付!$B$3:$F$102,5,FALSE))","v":""}]
[null,88,{"$f":"VLOOKUP($B90,データ貼付!$A$3:$I$102,4,FALSE)","v":{"$error":"#N/A"}},{"$f":"VLOOKUP($B90,データ貼付!$A$3:$I$102,5,FALSE)","v":{"$error":"#N/A"}},{"$f":"IF(ISERROR(VLOOKUP($B90*10+$E$2,データ貼付!$B$3:$F$102,5,FALSE)),\"\",VLOOKUP($B90*10+$E$2,データ貼付!$B$3:$F$102,5,FALSE))","v":""},{"$f":"IF(ISERROR(VLOOKUP($B90*10+$F$2,データ貼付!$B$3:$F$102,5,FALSE)),\"\",VLOOKUP($B90*10+$F$2,データ貼付!$B$3:$F$102,5,FALSE))","v":""},{"$f":"IF(ISERROR(VLOOKUP($B90*10+$G$2,データ貼付!$B$3:$F$102,5,FALSE)),\"\",VLOOKUP($B90*10+$G$2,データ貼付!$B$3:$F$102,5,FALSE))","v":""},{"$f":"IF(ISERROR(VLOOKUP($B90*10+$H$2,データ貼付!$B$3:$F$102,5,FALSE)),\"\",VLOOKUP($B90*10+$H$2,データ貼付!$B$3:$F$102,5,FALSE))","v":""},{"$f":"IF(ISERROR(VLOOKUP($B90*10+$I$2,データ貼付!$B$3:$F$102,5,FALSE)),\"\",VLOOKUP($B90*10+$I$2,データ貼付!$B$3:$F$102,5,FALSE))","v":""}]
[null,89,{"$f":"VLOOKUP($B91,データ貼付!$A$3:$I$102,4,FALSE)","v":{"$error":"#N/A"}},{"$f":"VLOOKUP($B91,データ貼付!$A$3:$I$102,5,FALSE)","v":{"$error":"#N/A"}},{"$f":"IF(ISERROR(VLOOKUP($B91*10+$E$2,データ貼付!$B$3:$F$102,5,FALSE)),\"\",VLOOKUP($B91*10+$E$2,データ貼付!$B$3:$F$102,5,FALSE))","v":""},{"$f":"IF(ISERROR(VLOOKUP($B91*10+$F$2,データ貼付!$B$3:$F$102,5,FALSE)),\"\",VLOOKUP($B91*10+$F$2,データ貼付!$B$3:$F$102,5,FALSE))","v":""},{"$f":"IF(ISERROR(VLOOKUP($B91*10+$G$2,データ貼付!$B$3:$F$102,5,FALSE)),\"\",VLOOKUP($B91*10+$G$2,データ貼付!$B$3:$F$102,5,FALSE))","v":""},{"$f":"IF(ISERROR(VLOOKUP($B91*10+$H$2,データ貼付!$B$3:$F$102,5,FALSE)),\"\",VLOOKUP($B91*10+$H$2,データ貼付!$B$3:$F$102,5,FALSE))","v":""},{"$f":"IF(ISERROR(VLOOKUP($B91*10+$I$2,データ貼付!$B$3:$F$102,5,FALSE)),\"\",VLOOKUP($B91*10+$I$2,データ貼付!$B$3:$F$102,5,FALSE))","v":""}]
[null,90,{"$f":"VLOOKUP($B92,データ貼付!$A$3:$I$102,4,FALSE)","v":{"$error":"#N/A"}},{"$f":"VLOOKUP($B92,データ貼付!$A$3:$I$102,5,FALSE)","v":{"$error":"#N/A"}},{"$f":"IF(ISERROR(VLOOKUP($B92*10+$E$2,データ貼付!$B$3:$F$102,5,FALSE)),\"\",VLOOKUP($B92*10+$E$2,データ貼付!$B$3:$F$102,5,FALSE))","v":""},{"$f":"IF(ISERROR(VLOOKUP($B92*10+$F$2,データ貼付!$B$3:$F$102,5,FALSE)),\"\",VLOOKUP($B92*10+$F$2,データ貼付!$B$3:$F$102,5,FALSE))","v":""},{"$f":"IF(ISERROR(VLOOKUP($B92*10+$G$2,データ貼付!$B$3:$F$102,5,FALSE)),\"\",VLOOKUP($B92*10+$G$2,データ貼付!$B$3:$F$102,5,FALSE))","v":""},{"$f":"IF(ISERROR(VLOOKUP($B92*10+$H$2,データ貼付!$B$3:$F$102,5,FALSE)),\"\",VLOOKUP($B92*10+$H$2,データ貼付!$B$3:$F$102,5,FALSE))","v":""},{"$f":"IF(ISERROR(VLOOKUP($B92*10+$I$2,データ貼付!$B$3:$F$102,5,FALSE)),\"\",VLOOKUP($B92*10+$I$2,データ貼付!$B$3:$F$102,5,FALSE))","v":""}]
[null,91,{"$f":"VLOOKUP($B93,データ貼付!$A$3:$I$102,4,FALSE)","v":{"$error":"#N/A"}},{"$f":"VLOOKUP($B93,データ貼付!$A$3:$I$102,5,FALSE)","v":{"$error":"#N/A"}},{"$f":"IF(ISERROR(VLOOKUP($B93*10+$E$2,データ貼付!$B$3:$F$102,5,FALSE)),\"\",VLOOKUP($B93*10+$E$2,データ貼付!$B$3:$F$102,5,FALSE))","v":""},{"$f":"IF(ISERROR(VLOOKUP($B93*10+$F$2,データ貼付!$B$3:$F$102,5,FALSE)),\"\",VLOOKUP($B93*10+$F$2,データ貼付!$B$3:$F$102,5,FALSE))","v":""},{"$f":"IF(ISERROR(VLOOKUP($B93*10+$G$2,データ貼付!$B$3:$F$102,5,FALSE)),\"\",VLOOKUP($B93*10+$G$2,データ貼付!$B$3:$F$102,5,FALSE))","v":""},{"$f":"IF(ISERROR(VLOOKUP($B93*10+$H$2,データ貼付!$B$3:$F$102,5,FALSE)),\"\",VLOOKUP($B93*10+$H$2,データ貼付!$B$3:$F$102,5,FALSE))","v":""},{"$f":"IF(ISERROR(VLOOKUP($B93*10+$I$2,データ貼付!$B$3:$F$102,5,FALSE)),\"\",VLOOKUP($B93*10+$I$2,データ貼付!$B$3:$F$102,5,FALSE))","v":""}]
[null,92,{"$f":"VLOOKUP($B94,データ貼付!$A$3:$I$102,4,FALSE)","v":{"$error":"#N/A"}},{"$f":"VLOOKUP($B94,データ貼付!$A$3:$I$102,5,FALSE)","v":{"$error":"#N/A"}},{"$f":"IF(ISERROR(VLOOKUP($B94*10+$E$2,データ貼付!$B$3:$F$102,5,FALSE)),\"\",VLOOKUP($B94*10+$E$2,データ貼付!$B$3:$F$102,5,FALSE))","v":""},{"$f":"IF(ISERROR(VLOOKUP($B94*10+$F$2,データ貼付!$B$3:$F$102,5,FALSE)),\"\",VLOOKUP($B94*10+$F$2,データ貼付!$B$3:$F$102,5,FALSE))","v":""},{"$f":"IF(ISERROR(VLOOKUP($B94*10+$G$2,データ貼付!$B$3:$F$102,5,FALSE)),\"\",VLOOKUP($B94*10+$G$2,データ貼付!$B$3:$F$102,5,FALSE))","v":""},{"$f":"IF(ISERROR(VLOOKUP($B94*10+$H$2,データ貼付!$B$3:$F$102,5,FALSE)),\"\",VLOOKUP($B94*10+$H$2,データ貼付!$B$3:$F$102,5,FALSE))","v":""},{"$f":"IF(ISERROR(VLOOKUP($B94*10+$I$2,データ貼付!$B$3:$F$102,5,FALSE)),\"\",VLOOKUP($B94*10+$I$2,データ貼付!$B$3:$F$102,5,FALSE))","v":""}]
[null,93,{"$f":"VLOOKUP($B95,データ貼付!$A$3:$I$102,4,FALSE)","v":{"$error":"#N/A"}},{"$f":"VLOOKUP($B95,データ貼付!$A$3:$I$102,5,FALSE)","v":{"$error":"#N/A"}},{"$f":"IF(ISERROR(VLOOKUP($B95*10+$E$2,データ貼付!$B$3:$F$102,5,FALSE)),\"\",VLOOKUP($B95*10+$E$2,データ貼付!$B$3:$F$102,5,FALSE))","v":""},{"$f":"IF(ISERROR(VLOOKUP($B95*10+$F$2,データ貼付!$B$3:$F$102,5,FALSE)),\"\",VLOOKUP($B95*10+$F$2,データ貼付!$B$3:$F$102,5,FALSE))","v":""},{"$f":"IF(ISERROR(VLOOKUP($B95*10+$G$2,データ貼付!$B$3:$F$102,5,FALSE)),\"\",VLOOKUP($B95*10+$G$2,データ貼付!$B$3:$F$102,5,FALSE))","v":""},{"$f":"IF(ISERROR(VLOOKUP($B95*10+$H$2,データ貼付!$B$3:$F$102,5,FALSE)),\"\",VLOOKUP($B95*10+$H$2,データ貼付!$B$3:$F$102,5,FALSE))","v":""},{"$f":"IF(ISERROR(VLOOKUP($B95*10+$I$2,データ貼付!$B$3:$F$102,5,FALSE)),\"\",VLOOKUP($B95*10+$I$2,データ貼付!$B$3:$F$102,5,FALSE))","v":""}]
[null,94,{"$f":"VLOOKUP($B96,データ貼付!$A$3:$I$102,4,FALSE)","v":{"$error":"#N/A"}},{"$f":"VLOOKUP($B96,データ貼付!$A$3:$I$102,5,FALSE)","v":{"$error":"#N/A"}},{"$f":"IF(ISERROR(VLOOKUP($B96*10+$E$2,データ貼付!$B$3:$F$102,5,FALSE)),\"\",VLOOKUP($B96*10+$E$2,データ貼付!$B$3:$F$102,5,FALSE))","v":""},{"$f":"IF(ISERROR(VLOOKUP($B96*10+$F$2,データ貼付!$B$3:$F$102,5,FALSE)),\"\",VLOOKUP($B96*10+$F$2,データ貼付!$B$3:$F$102,5,FALSE))","v":""},{"$f":"IF(ISERROR(VLOOKUP($B96*10+$G$2,データ貼付!$B$3:$F$102,5,FALSE)),\"\",VLOOKUP($B96*10+$G$2,データ貼付!$B$3:$F$102,5,FALSE))","v":""},{"$f":"IF(ISERROR(VLOOKUP($B96*10+$H$2,データ貼付!$B$3:$F$102,5,FALSE)),\"\",VLOOKUP($B96*10+$H$2,データ貼付!$B$3:$F$102,5,FALSE))","v":""},{"$f":"IF(ISERROR(VLOOKUP($B96*10+$I$2,データ貼付!$B$3:$F$102,5,FALSE)),\"\",VLOOKUP($B96*10+$I$2,データ貼付!$B$3:$F$102,5,FALSE))","v":""}]
[null,95,{"$f":"VLOOKUP($B97,データ貼付!$A$3:$I$102,4,FALSE)","v":{"$error":"#N/A"}},{"$f":"VLOOKUP($B97,データ貼付!$A$3:$I$102,5,FALSE)","v":{"$error":"#N/A"}},{"$f":"IF(ISERROR(VLOOKUP($B97*10+$E$2,データ貼付!$B$3:$F$102,5,FALSE)),\"\",VLOOKUP($B97*10+$E$2,データ貼付!$B$3:$F$102,5,FALSE))","v":""},{"$f":"IF(ISERROR(VLOOKUP($B97*10+$F$2,データ貼付!$B$3:$F$102,5,FALSE)),\"\",VLOOKUP($B97*10+$F$2,データ貼付!$B$3:$F$102,5,FALSE))","v":""},{"$f":"IF(ISERROR(VLOOKUP($B97*10+$G$2,データ貼付!$B$3:$F$102,5,FALSE)),\"\",VLOOKUP($B97*10+$G$2,データ貼付!$B$3:$F$102,5,FALSE))","v":""},{"$f":"IF(ISERROR(VLOOKUP($B97*10+$H$2,データ貼付!$B$3:$F$102,5,FALSE)),\"\",VLOOKUP($B97*10+$H$2,データ貼付!$B$3:$F$102,5,FALSE))","v":""},{"$f":"IF(ISERROR(VLOOKUP($B97*10+$I$2,データ貼付!$B$3:$F$102,5,FALSE)),\"\",VLOOKUP($B97*10+$I$2,データ貼付!$B$3:$F$102,5,FALSE))","v":""}]
[null,96,{"$f":"VLOOKUP($B98,データ貼付!$A$3:$I$102,4,FALSE)","v":{"$error":"#N/A"}},{"$f":"VLOOKUP($B98,データ貼付!$A$3:$I$102,5,FALSE)","v":{"$error":"#N/A"}},{"$f":"IF(ISERROR(VLOOKUP($B98*10+$E$2,データ貼付!$B$3:$F$102,5,FALSE)),\"\",VLOOKUP($B98*10+$E$2,データ貼付!$B$3:$F$102,5,FALSE))","v":""},{"$f":"IF(ISERROR(VLOOKUP($B98*10+$F$2,データ貼付!$B$3:$F$102,5,FALSE)),\"\",VLOOKUP($B98*10+$F$2,データ貼付!$B$3:$F$102,5,FALSE))","v":""},{"$f":"IF(ISERROR(VLOOKUP($B98*10+$G$2,データ貼付!$B$3:$F$102,5,FALSE)),\"\",VLOOKUP($B98*10+$G$2,データ貼付!$B$3:$F$102,5,FALSE))","v":""},{"$f":"IF(ISERROR(VLOOKUP($B98*10+$H$2,データ貼付!$B$3:$F$102,5,FALSE)),\"\",VLOOKUP($B98*10+$H$2,データ貼付!$B$3:$F$102,5,FALSE))","v":""},{"$f":"IF(ISERROR(VLOOKUP($B98*10+$I$2,データ貼付!$B$3:$F$102,5,FALSE)),\"\",VLOOKUP($B98*10+$I$2,データ貼付!$B$3:$F$102,5,FALSE))","v":""}]
[null,97,{"$f":"VLOOKUP($B99,データ貼付!$A$3:$I$102,4,FALSE)","v":{"$error":"#N/A"}},{"$f":"VLOOKUP($B99,データ貼付!$A$3:$I$102,5,FALSE)","v":{"$error":"#N/A"}},{"$f":"IF(ISERROR(VLOOKUP($B99*10+$E$2,データ貼付!$B$3:$F$102,5,FALSE)),\"\",VLOOKUP($B99*10+$E$2,データ貼付!$B$3:$F$102,5,FALSE))","v":""},{"$f":"IF(ISERROR(VLOOKUP($B99*10+$F$2,データ貼付!$B$3:$F$102,5,FALSE)),\"\",VLOOKUP($B99*10+$F$2,データ貼付!$B$3:$F$102,5,FALSE))","v":""},{"$f":"IF(ISERROR(VLOOKUP($B99*10+$G$2,データ貼付!$B$3:$F$102,5,FALSE)),\"\",VLOOKUP($B99*10+$G$2,データ貼付!$B$3:$F$102,5,FALSE))","v":""},{"$f":"IF(ISERROR(VLOOKUP($B99*10+$H$2,データ貼付!$B$3:$F$102,5,FALSE)),\"\",VLOOKUP($B99*10+$H$2,データ貼付!$B$3:$F$102,5,FALSE))","v":""},{"$f":"IF(ISERROR(VLOOKUP($B99*10+$I$2,データ貼付!$B$3:$F$102,5,FALSE)),\"\",VLOOKUP($B99*10+$I$2,データ貼付!$B$3:$F$102,5,FALSE))","v":""}]
[null,98,{"$f":"VLOOKUP($B100,データ貼付!$A$3:$I$102,4,FALSE)","v":{"$error":"#N/A"}},{"$f":"VLOOKUP($B100,データ貼付!$A$3:$I$102,5,FALSE)","v":{"$error":"#N/A"}},{"$f":"IF(ISERROR(VLOOKUP($B100*10+$E$2,データ貼付!$B$3:$F$102,5,FALSE)),\"\",VLOOKUP($B100*10+$E$2,データ貼付!$B$3:$F$102,5,FALSE))","v":""},{"$f":"IF(ISERROR(VLOOKUP($B100*10+$F$2,データ貼付!$B$3:$F$102,5,FALSE)),\"\",VLOOKUP($B100*10+$F$2,データ貼付!$B$3:$F$102,5,FALSE))","v":""},{"$f":"IF(ISERROR(VLOOKUP($B100*10+$G$2,データ貼付!$B$3:$F$102,5,FALSE)),\"\",VLOOKUP($B100*10+$G$2,データ貼付!$B$3:$F$102,5,FALSE))","v":""},{"$f":"IF(ISERROR(VLOOKUP($B100*10+$H$2,データ貼付!$B$3:$F$102,5,FALSE)),\"\",VLOOKUP($B100*10+$H$2,データ貼付!$B$3:$F$102,5,FALSE))","v":""},{"$f":"IF(ISERROR(VLOOKUP($B100*10+$I$2,データ貼付!$B$3:$F$102,5,FALSE)),\"\",VLOOKUP($B100*10+$I$2,データ貼付!$B$3:$F$102,5,FALSE))","v":""}]
[null,99,{"$f":"VLOOKUP($B101,データ貼付!$A$3:$I$102,4,FALSE)","v":{"$error":"#N/A"}},{"$f":"VLOOKUP($B101,データ貼付!$A$3:$I$102,5,FALSE)","v":{"$error":"#N/A"}},{"$f":"IF(ISERROR(VLOOKUP($B101*10+$E$2,データ貼付!$B$3:$F$102,5,FALSE)),\"\",VLOOKUP($B101*10+$E$2,データ貼付!$B$3:$F$102,5,FALSE))","v":""},{"$f":"IF(ISERROR(VLOOKUP($B101*10+$F$2,データ貼付!$B$3:$F$102,5,FALSE)),\"\",VLOOKUP($B101*10+$F$2,データ貼付!$B$3:$F$102,5,FALSE))","v":""},{"$f":"IF(ISERROR(VLOOKUP($B101*10+$G$2,データ貼付!$B$3:$F$102,5,FALSE)),\"\",VLOOKUP($B101*10+$G$2,データ貼付!$B$3:$F$102,5,FALSE))","v":""},{"$f":"IF(ISERROR(VLOOKUP($B101*10+$H$2,データ貼付!$B$3:$F$102,5,FALSE)),\"\",VLOOKUP($B101*10+$H$2,データ貼付!$B$3:$F$102,5,FALSE))","v":""},{"$f":"IF(ISERROR(VLOOKUP($B101*10+$I$2,データ貼付!$B$3:$F$102,5,FALSE)),\"\",VLOOKUP($B101*10+$I$2,データ貼付!$B$3:$F$102,5,FALSE))","v":""}]
[null,100,{"$f":"VLOOKUP($B102,データ貼付!$A$3:$I$102,4,FALSE)","v":{"$error":"#N/A"}},{"$f":"VLOOKUP($B102,データ貼付!$A$3:$I$102,5,FALSE)","v":{"$error":"#N/A"}},{"$f":"IF(ISERROR(VLOOKUP($B102*10+$E$2,データ貼付!$B$3:$F$102,5,FALSE)),\"\",VLOOKUP($B102*10+$E$2,データ貼付!$B$3:$F$102,5,FALSE))","v":""},{"$f":"IF(ISERROR(VLOOKUP($B102*10+$F$2,データ貼付!$B$3:$F$102,5,FALSE)),\"\",VLOOKUP($B102*10+$F$2,データ貼付!$B$3:$F$102,5,FALSE))","v":""},{"$f":"IF(ISERROR(VLOOKUP($B102*10+$G$2,データ貼付!$B$3:$F$102,5,FALSE)),\"\",VLOOKUP($B102*10+$G$2,データ貼付!$B$3:$F$102,5,FALSE))","v":""},{"$f":"IF(ISERROR(VLOOKUP($B102*10+$H$2,データ貼付!$B$3:$F$102,5,FALSE)),\"\",VLOOKUP($B102*10+$H$2,データ貼付!$B$3:$F$102,5,FALSE))","v":""},{"$f":"IF(ISERROR(VLOOKUP($B102*10+$I$2,データ貼付!$B$3:$F$102,5,FALSE)),\"\",VLOOKUP($B102*10+$I$2,データ貼付!$B$3:$F$102,5,FALSE))","v":""}]

{"sheet":"計算①","index":7,"n_rows":0,"n_cols":0,"rows_kept":0,"cut":false,"hidden":false,"merged":[]}

{"sheet":"学校番号","index":8,"n_rows":50,"n_cols":9,"rows_kept":50,"cut":false,"hidden":false,"merged":[]}
[]
[100,null,"ゼッケン",null,null,null,null,null,"〒"]
[4101,"県立尼崎高等学校",100,"県尼崎","660-0804","尼崎市北大物町18-1","06-6401-0643",null,"第78回　兵庫県高等学校陸上競技対校選手権大会地区予選会　申込書"]
[4102,"市立尼崎高等学校",200,"市尼崎","661-0014","尼崎市上ノ島町1-38-1","06-6429-0169",null,"第78回　阪神高等学校ジュニア陸上競技対校選手権大会　申込書"]
[4103,"市立尼崎双星高等学校",300,"尼崎双星","661-0983","尼崎市口田中2-8-1","06-6491-7000"]
[4104,"県立尼崎西高等学校",400,"尼崎西","660-0076","尼崎市大島2-34-1","06-6417-5021"]
[4105,"県立尼崎北高等学校",500,"尼崎北","661-0002","尼崎市塚口町5-40-1","06-6421-0132"]
[4106,"県立尼崎稲園高等学校",600,"尼崎稲園","661-0981","尼崎市猪名寺3-1-1","06-6422-0271"]
[4107,"県立尼崎小田高等学校",700,"尼崎小田","660-0802","尼崎市長洲中通2-17-46","06-6488-5335"]
[4108,null,800]
[4109,"県立武庫荘総合高等学校",900,"武庫荘総合","661-0035","尼崎市武庫之荘8-31-1","06-6431-5520"]
[4110,"県立尼崎工業高等学校",1000,"尼崎工","660-0802","尼崎市長洲中通1-13-1","06-6481-4841"]
[4111,null,1100]
[4112,"園田学園高等学校",1200,"園田学園","661-0012","尼崎市塚口町1-24-16","06-6428-2242"]
[4113]
[4114,"県立西宮高等学校",1400,"県西宮","662-0813","西宮市上甲東園2-4-32","0798-52-0185"]
[4115,"市立西宮高等学校",1500,"市西宮","662-0872","西宮市高座町14-117","0798-74-6711"]
[4116,"市立西宮東高等学校",1600,"西宮東","663-8185","西宮市古川町1-12","0798-47-6013"]
[4117,"県立西宮南高等学校",1700,"西宮南","663-8141","西宮市高須町2-1-43","0798-45-2043"]
[4118,"県立西宮北苦楽園高等学校",1800,"西宮北苦楽園","662-0082","西宮市苦楽園二番町16-80","0798-71-1301"]
[4119,"県立鳴尾高等学校",1900,"鳴尾","663-8182","西宮市学文殿町2-1-60","0798-47-1324"]
[4120,"県立西宮今津高等学校",2000,"西宮今津","663-8154","西宮市浜甲子園4-1-5","0798-45-1941"]
[4121,"県立西宮甲山高等学校",2100,"西宮甲山","662-0004","西宮市鷲林寺字剣谷10","0798-74-2460"]
[4122,"甲陽学院高等学校",2200,"甲陽","662-0096","西宮市角石長3-138","0798-73-3011"]
[4123,"関西学院高等部",2300,"関西学院","662-8501","西宮市上ヶ原一番町1-155","0798-51-0975"]
[4124,null,2400]
[4125,"仁川学院高等学校",2500,"仁川","662-0812","西宮市甲東園2-13-9","0798-51-3621"]
[4126,"報徳学園高等学校",2600,"報徳","663-8003","西宮市上大市5丁目28-19 ","0798-65-6100"]
[4127,"武庫川女子大学付属高等学校",2700,"武庫川大附","663-8143","西宮市枝川町4-16","0798-47-6436"]
[4128]
[4129,null,2900]
[4130,"県立伊丹高等学校",3000,"県伊丹","664-0012","伊丹市緑が丘7-31-1","072-782-2065"]
[4131,"市立伊丹高等学校",3100,"市伊丹","664-0857","伊丹市行基町4-1","072-772-2040"]
[4132,"県立伊丹西高等学校",3200,"伊丹西","664-0025","伊丹市奥畑3-5","0727-77-3711"]
[4133,"県立伊丹北高等学校",3300,"伊丹北","664-0006","伊丹市鴻池7-2-1","072-779-4651"]
[4134,"県立川西緑台高等学校",3400,"川西緑台","666-0115","川西市向陽台1-8","072-793-0361"]
[4135,"県立川西明峰高等学校",3500,"川西明峰","666-0006","川西市萩原台西2-324","072-757-8826"]
[4136,"県立川西北陵高等学校",3600,"川西北陵","666-0157","川西市緑が丘2-14-1","072-794-7411"]
[4137,"県立猪名川高等学校",3700,"猪名川","666-0233","川辺郡猪名川町紫合字新林4-4","072-766-0101"]
[4138,"県立宝塚高等学校",3800,"宝塚","665-0024","宝塚市逆瀬台2-2-1","0797-71-0345"]
[4139,"県立宝塚東高等学校",3900,"宝塚東","665-0871","宝塚市中山五月台1-12-1","0797-89-3751"]
[4140,"県立宝塚西高等学校",4000,"宝塚西","665-0025","宝塚市ゆずり葉台1-1-1","0797-73-4035"]
[4141,"県立宝塚北高等学校",4100,"宝塚北","665-0847","宝塚市すみれガ丘4-1-1","0797-86-3291"]
[4142,"小林聖心女子学院高等学校",4200,"小林聖心","665-0073","宝塚市塔の町3-113","0797-71-7321"]
[4143,"県立芦屋高等学校",4300,"芦屋","659-0063","芦屋市宮川町6-3","0797-32-2325"]
[4144,"雲雀丘学園高等学校",4400,"雲雀丘","665-0805","宝塚市雲雀丘4-2-1","072-759-1300"]
[4145,"県立国際高等学校",4500,"県国際","659-0031","芦屋市新浜町1-2","0797-35-5931"]
[4146,"芦屋学園高等学校",4600,"芦屋学園","659-0011","芦屋市六麓荘町16-18","0797-31-0666"]
[4147,"甲南高等学校",4700,"甲南","659-0096","芦屋市山手町31-3","0797-31-0551"]
[4148,"県立芦屋国際中等教育学校",4800,"芦国中等","659-0031","芦屋市新浜町1-2","0797-38-2293"]

{"sheet":"csv","index":9,"n_rows":70,"n_cols":8,"rows_kept":70,"cut":false,"hidden":true,"merged":[]}
["DB","N1","N2","SX","KC","MC","ZK","S1"]
[{"$f":"IF(計算①!J1=\"\",\"\",128&初期設定!$C$2&RIGHT(計算①!J1,2))","v":""},{"$f":"計算①!K1","v":0},{"$f":"IF(A2=\"\",\"\",VLOOKUP(G2,男子選手!$B$5:$E$103,3,FALSE))","v":""},{"$f":"IF(A2=\"\",\"\",1)","v":""},{"$f":"IF(A2=\"\",\"\",1)","v":""},{"$f":"IF(A2=\"\",\"\",28&初期設定!$C$2)","v":""},{"$f":"IF(計算①!J1=\"\",\"\",計算①!J1)","v":""},{"$f":"IF(csv!A2=\"\",\"\",計算①!A1&\" \"&IF(計算①!D1=\"01T\",TEXT(計算①!N1,\"0000000\"),TEXT(計算①!N1,\"00000\")))","v":""}]
[{"$f":"IF(計算①!J2=\"\",\"\",128&初期設定!$C$2&RIGHT(計算①!J2,2))","v":""},{"$f":"計算①!K2","v":0},{"$f":"IF(A3=\"\",\"\",VLOOKUP(G3,男子選手!$B$5:$E$103,3,FALSE))","v":""},{"$f":"IF(A3=\"\",\"\",1)","v":""},{"$f":"IF(A3=\"\",\"\",1)","v":""},{"$f":"IF(A3=\"\",\"\",28&初期設定!$C$2)","v":""},{"$f":"IF(計算①!J2=\"\",\"\",計算①!J2)","v":""},{"$f":"IF(csv!A3=\"\",\"\",計算①!A2&\" \"&IF(計算①!D2=\"01T\",TEXT(計算①!N2,\"0000000\"),TEXT(計算①!N2,\"00000\")))","v":""}]
[{"$f":"IF(計算①!J3=\"\",\"\",128&初期設定!$C$2&RIGHT(計算①!J3,2))","v":""},{"$f":"計算①!K3","v":0},{"$f":"IF(A4=\"\",\"\",VLOOKUP(G4,男子選手!$B$5:$E$103,3,FALSE))","v":""},"","",{"$f":"IF(A4=\"\",\"\",28&初期設定!$C$2)","v":""},{"$f":"IF(計算①!J3=\"\",\"\",計算①!J3)","v":""},{"$f":"IF(csv!A4=\"\",\"\",計算①!A3&\" \"&IF(計算①!D3=\"01T\",TEXT(計算①!N3,\"0000000\"),TEXT(計算①!N3,\"00000\")))","v":""}]
[{"$f":"IF(計算①!J4=\"\",\"\",128&初期設定!$C$2&RIGHT(計算①!J4,2))","v":""},{"$f":"計算①!K4","v":0},{"$f":"IF(A5=\"\",\"\",VLOOKUP(G5,男子選手!$B$5:$E$103,3,FALSE))","v":""},"","",{"$f":"IF(A5=\"\",\"\",28&初期設定!$C$2)","v":""},{"$f":"IF(計算①!J4=\"\",\"\",計算①!J4)","v":""},{"$f":"IF(csv!A5=\"\",\"\",計算①!A4&\" \"&IF(計算①!D4=\"01T\",TEXT(計算①!N4,\"0000000\"),TEXT(計算①!N4,\"00000\")))","v":""}]
[{"$f":"IF(計算①!J5=\"\",\"\",128&初期設定!$C$2&RIGHT(計算①!J5,2))","v":""},{"$f":"計算①!K5","v":0},{"$f":"IF(A6=\"\",\"\",VLOOKUP(G6,男子選手!$B$5:$E$103,3,FALSE))","v":""},"","",{"$f":"IF(A6=\"\",\"\",28&初期設定!$C$2)","v":""},{"$f":"IF(計算①!J5=\"\",\"\",計算①!J5)","v":""},{"$f":"IF(csv!A6=\"\",\"\",計算①!A5&\" \"&IF(計算①!D5=\"01T\",TEXT(計算①!N5,\"0000000\"),TEXT(計算①!N5,\"00000\")))","v":""}]
[{"$f":"IF(計算①!J6=\"\",\"\",128&初期設定!$C$2&RIGHT(計算①!J6,2))","v":""},{"$f":"計算①!K6","v":0},{"$f":"IF(A7=\"\",\"\",VLOOKUP(G7,男子選手!$B$5:$E$103,3,FALSE))","v":""},"","",{"$f":"IF(A7=\"\",\"\",28&初期設定!$C$2)","v":""},{"$f":"IF(計算①!J6=\"\",\"\",計算①!J6)","v":""},{"$f":"IF(csv!A7=\"\",\"\",計算①!A6&\" \"&IF(計算①!D6=\"01T\",TEXT(計算①!N6,\"0000000\"),TEXT(計算①!N6,\"00000\")))","v":""}]
[{"$f":"IF(計算①!J7=\"\",\"\",128&初期設定!$C$2&RIGHT(計算①!J7,2))","v":""},{"$f":"計算①!K7","v":0},{"$f":"IF(A8=\"\",\"\",VLOOKUP(G8,男子選手!$B$5:$E$103,3,FALSE))","v":""},"","",{"$f":"IF(A8=\"\",\"\",28&初期設定!$C$2)","v":""},{"$f":"IF(計算①!J7=\"\",\"\",計算①!J7)","v":""},{"$f":"IF(csv!A8=\"\",\"\",計算①!A7&\" \"&IF(計算①!D7=\"01T\",TEXT(計算①!N7,\"0000000\"),TEXT(計算①!N7,\"00000\")))","v":""}]
[{"$f":"IF(計算①!J8=\"\",\"\",128&初期設定!$C$2&RIGHT(計算①!J8,2))","v":""},{"$f":"計算①!K8","v":0},{"$f":"IF(A9=\"\",\"\",VLOOKUP(G9,男子選手!$B$5:$E$103,3,FALSE))","v":""},"","",{"$f":"IF(A9=\"\",\"\",28&初期設定!$C$2)","v":""},{"$f":"IF(計算①!J8=\"\",\"\",計算①!J8)","v":""},{"$f":"IF(csv!A9=\"\",\"\",計算①!A8&\" \"&IF(計算①!D8=\"01T\",TEXT(計算①!N8,\"0000000\"),TEXT(計算①!N8,\"00000\")))","v":""}]
[{"$f":"IF(計算①!J9=\"\",\"\",128&初期設定!$C$2&RIGHT(計算①!J9,2))","v":""},{"$f":"計算①!K9","v":0},{"$f":"IF(A10=\"\",\"\",VLOOKUP(G10,男子選手!$B$5:$E$103,3,FALSE))","v":""},"","",{"$f":"IF(A10=\"\",\"\",28&初期設定!$C$2)","v":""},{"$f":"IF(計算①!J9=\"\",\"\",計算①!J9)","v":""},{"$f":"IF(csv!A10=\"\",\"\",計算①!A9&\" \"&IF(計算①!D9=\"01T\",TEXT(計算①!N9,\"0000000\"),TEXT(計算①!N9,\"00000\")))","v":""}]
[{"$f":"IF(計算①!J10=\"\",\"\",128&初期設定!$C$2&RIGHT(計算①!J10,2))","v":""},{"$f":"計算①!K10","v":0},{"$f":"IF(A11=\"\",\"\",VLOOKUP(G11,男子選手!$B$5:$E$103,3,FALSE))","v":""},"","",{"$f":"IF(A11=\"\",\"\",28&初期設定!$C$2)","v":""},{"$f":"IF(計算①!J10=\"\",\"\",計算①!J10)","v":""},{"$f":"IF(csv!A11=\"\",\"\",計算①!A10&\" \"&IF(計算①!D10=\"01T\",TEXT(計算①!N10,\"0000000\"),TEXT(計算①!N10,\"00000\")))","v":""}]
[{"$f":"IF(計算①!J11=\"\",\"\",128&初期設定!$C$2&RIGHT(計算①!J11,2))","v":""},{"$f":"計算①!K11","v":0},{"$f":"IF(A12=\"\",\"\",VLOOKUP(G12,男子選手!$B$5:$E$103,3,FALSE))","v":""},"","",{"$f":"IF(A12=\"\",\"\",28&初期設定!$C$2)","v":""},{"$f":"IF(計算①!J11=\"\",\"\",計算①!J11)","v":""},{"$f":"IF(csv!A12=\"\",\"\",計算①!A11&\" \"&IF(計算①!D11=\"01T\",TEXT(計算①!N11,\"0000000\"),TEXT(計算①!N11,\"00000\")))","v":""}]
[{"$f":"IF(計算①!J12=\"\",\"\",128&初期設定!$C$2&RIGHT(計算①!J12,2))","v":""},{"$f":"計算①!K12","v":0},{"$f":"IF(A13=\"\",\"\",VLOOKUP(G13,男子選手!$B$5:$E$103,3,FALSE))","v":""},"","",{"$f":"IF(A13=\"\",\"\",28&初期設定!$C$2)","v":""},{"$f":"IF(計算①!J12=\"\",\"\",計算①!J12)","v":""},{"$f":"IF(csv!A13=\"\",\"\",計算①!A12&\" \"&IF(計算①!D12=\"01T\",TEXT(計算①!N12,\"0000000\"),TEXT(計算①!N12,\"00000\")))","v":""}]
[{"$f":"IF(計算①!J13=\"\",\"\",128&初期設定!$C$2&RIGHT(計算①!J13,2))","v":""},{"$f":"計算①!K13","v":0},{"$f":"IF(A14=\"\",\"\",VLOOKUP(G14,男子選手!$B$5:$E$103,3,FALSE))","v":""},"","",{"$f":"IF(A14=\"\",\"\",28&初期設定!$C$2)","v":""},{"$f":"IF(計算①!J13=\"\",\"\",計算①!J13)","v":""},{"$f":"IF(csv!A14=\"\",\"\",計算①!A13&\" \"&IF(計算①!D13=\"01T\",TEXT(計算①!N13,\"0000000\"),TEXT(計算①!N13,\"00000\")))","v":""}]
[{"$f":"IF(計算①!J14=\"\",\"\",128&初期設定!$C$2&RIGHT(計算①!J14,2))","v":""},{"$f":"計算①!K14","v":0},{"$f":"IF(A15=\"\",\"\",VLOOKUP(G15,男子選手!$B$5:$E$103,3,FALSE))","v":""},"","",{"$f":"IF(A15=\"\",\"\",28&初期設定!$C$2)","v":""},{"$f":"IF(計算①!J14=\"\",\"\",計算①!J14)","v":""},{"$f":"IF(csv!A15=\"\",\"\",計算①!A14&\" \"&IF(計算①!D14=\"01T\",TEXT(計算①!N14,\"0000000\"),TEXT(計算①!N14,\"00000\")))","v":""}]
[{"$f":"IF(計算①!J15=\"\",\"\",128&初期設定!$C$2&RIGHT(計算①!J15,2))","v":""},{"$f":"計算①!K15","v":0},{"$f":"IF(A16=\"\",\"\",VLOOKUP(G16,男子選手!$B$5:$E$103,3,FALSE))","v":""},"","",{"$f":"IF(A16=\"\",\"\",28&初期設定!$C$2)","v":""},{"$f":"IF(計算①!J15=\"\",\"\",計算①!J15)","v":""},{"$f":"IF(csv!A16=\"\",\"\",計算①!A15&\" \"&IF(計算①!D15=\"01T\",TEXT(計算①!N15,\"0000000\"),TEXT(計算①!N15,\"00000\")))","v":""}]
[{"$f":"IF(計算①!J16=\"\",\"\",128&初期設定!$C$2&RIGHT(計算①!J16,2))","v":""},{"$f":"計算①!K16","v":0},{"$f":"IF(A17=\"\",\"\",VLOOKUP(G17,男子選手!$B$5:$E$103,3,FALSE))","v":""},"","",{"$f":"IF(A17=\"\",\"\",28&初期設定!$C$2)","v":""},{"$f":"IF(計算①!J16=\"\",\"\",計算①!J16)","v":""},{"$f":"IF(csv!A17=\"\",\"\",計算①!A16&\" \"&IF(計算①!D16=\"01T\",TEXT(計算①!N16,\"0000000\"),TEXT(計算①!N16,\"00000\")))","v":""}]
[{"$f":"IF(計算①!J17=\"\",\"\",128&初期設定!$C$2&RIGHT(計算①!J17,2))","v":""},{"$f":"計算①!K17","v":0},{"$f":"IF(A18=\"\",\"\",VLOOKUP(G18,男子選手!$B$5:$E$103,3,FALSE))","v":""},"","",{"$f":"IF(A18=\"\",\"\",28&初期設定!$C$2)","v":""},{"$f":"IF(計算①!J17=\"\",\"\",計算①!J17)","v":""},{"$f":"IF(csv!A18=\"\",\"\",計算①!A17&\" \"&IF(計算①!D17=\"01T\",TEXT(計算①!N17,\"0000000\"),TEXT(計算①!N17,\"00000\")))","v":""}]
[{"$f":"IF(計算①!J18=\"\",\"\",128&初期設定!$C$2&RIGHT(計算①!J18,2))","v":""},{"$f":"計算①!K18","v":0},{"$f":"IF(A19=\"\",\"\",VLOOKUP(G19,男子選手!$B$5:$E$103,3,FALSE))","v":""},"","",{"$f":"IF(A19=\"\",\"\",28&初期設定!$C$2)","v":""},{"$f":"IF(計算①!J18=\"\",\"\",計算①!J18)","v":""},{"$f":"IF(csv!A19=\"\",\"\",計算①!A18&\" \"&IF(計算①!D18=\"01T\",TEXT(計算①!N18,\"0000000\"),TEXT(計算①!N18,\"00000\")))","v":""}]
[{"$f":"IF(計算①!J19=\"\",\"\",128&初期設定!$C$2&RIGHT(計算①!J19,2))","v":""},{"$f":"計算①!K19","v":0},{"$f":"IF(A20=\"\",\"\",VLOOKUP(G20,男子選手!$B$5:$E$103,3,FALSE))","v":""},"","",{"$f":"IF(A20=\"\",\"\",28&初期設定!$C$2)","v":""},{"$f":"IF(計算①!J19=\"\",\"\",計算①!J19)","v":""},{"$f":"IF(csv!A20=\"\",\"\",計算①!A19&\" \"&IF(計算①!D19=\"01T\",TEXT(計算①!N19,\"0000000\"),TEXT(計算①!N19,\"00000\")))","v":""}]
[{"$f":"IF(計算①!J20=\"\",\"\",128&初期設定!$C$2&RIGHT(計算①!J20,2))","v":""},{"$f":"計算①!K20","v":0},{"$f":"IF(A21=\"\",\"\",VLOOKUP(G21,男子選手!$B$5:$E$103,3,FALSE))","v":""},"","",{"$f":"IF(A21=\"\",\"\",28&初期設定!$C$2)","v":""},{"$f":"IF(計算①!J20=\"\",\"\",計算①!J20)","v":""},{"$f":"IF(csv!A21=\"\",\"\",計算①!A20&\" \"&IF(計算①!D20=\"01T\",TEXT(計算①!N20,\"0000000\"),TEXT(計算①!N20,\"00000\")))","v":""}]
[{"$f":"IF(計算①!J21=\"\",\"\",128&初期設定!$C$2&RIGHT(計算①!J21,2))","v":""},{"$f":"計算①!K21","v":0},{"$f":"IF(A22=\"\",\"\",VLOOKUP(G22,男子選手!$B$5:$E$103,3,FALSE))","v":""},"","",{"$f":"IF(A22=\"\",\"\",28&初期設定!$C$2)","v":""},{"$f":"IF(計算①!J21=\"\",\"\",計算①!J21)","v":""},{"$f":"IF(csv!A22=\"\",\"\",計算①!A21&\" \"&IF(計算①!D21=\"01T\",TEXT(計算①!N21,\"0000000\"),TEXT(計算①!N21,\"00000\")))","v":""}]
[{"$f":"IF(計算①!J22=\"\",\"\",128&初期設定!$C$2&RIGHT(計算①!J22,2))","v":""},{"$f":"計算①!K22","v":0},{"$f":"IF(A23=\"\",\"\",VLOOKUP(G23,男子選手!$B$5:$E$103,3,FALSE))","v":""},"","",{"$f":"IF(A23=\"\",\"\",28&初期設定!$C$2)","v":""},{"$f":"IF(計算①!J22=\"\",\"\",計算①!J22)","v":""},{"$f":"IF(csv!A23=\"\",\"\",計算①!A22&\" \"&IF(計算①!D22=\"01T\",TEXT(計算①!N22,\"0000000\"),TEXT(計算①!N22,\"00000\")))","v":""}]
[{"$f":"IF(計算①!J23=\"\",\"\",128&初期設定!$C$2&RIGHT(計算①!J23,2))","v":""},{"$f":"計算①!K23","v":0},{"$f":"IF(A24=\"\",\"\",VLOOKUP(G24,男子選手!$B$5:$E$103,3,FALSE))","v":""},"","",{"$f":"IF(A24=\"\",\"\",28&初期設定!$C$2)","v":""},{"$f":"IF(計算①!J23=\"\",\"\",計算①!J23)","v":""},{"$f":"IF(csv!A24=\"\",\"\",計算①!A23&\" \"&IF(計算①!D23=\"01T\",TEXT(計算①!N23,\"0000000\"),TEXT(計算①!N23,\"00000\")))","v":""}]
[{"$f":"IF(計算①!J24=\"\",\"\",128&初期設定!$C$2&RIGHT(計算①!J24,2))","v":""},{"$f":"計算①!K24","v":0},{"$f":"IF(A25=\"\",\"\",VLOOKUP(G25,男子選手!$B$5:$E$103,3,FALSE))","v":""},"","",{"$f":"IF(A25=\"\",\"\",28&初期設定!$C$2)","v":""},{"$f":"IF(計算①!J24=\"\",\"\",計算①!J24)","v":""},{"$f":"IF(csv!A25=\"\",\"\",計算①!A24&\" \"&IF(計算①!D24=\"01T\",TEXT(計算①!N24,\"0000000\"),TEXT(計算①!N24,\"00000\")))","v":""}]
[{"$f":"IF(計算①!J25=\"\",\"\",128&初期設定!$C$2&RIGHT(計算①!J25,2))","v":""},{"$f":"計算①!K25","v":0},{"$f":"IF(A26=\"\",\"\",VLOOKUP(G26,男子選手!$B$5:$E$103,3,FALSE))","v":""},"","",{"$f":"IF(A26=\"\",\"\",28&初期設定!$C$2)","v":""},{"$f":"IF(計算①!J25=\"\",\"\",計算①!J25)","v":""},{"$f":"IF(csv!A26=\"\",\"\",計算①!A25&\" \"&IF(計算①!D25=\"01T\",TEXT(計算①!N25,\"0000000\"),TEXT(計算①!N25,\"00000\")))","v":""}]
[{"$f":"IF(計算①!J26=\"\",\"\",128&初期設定!$C$2&RIGHT(計算①!J26,2))","v":""},{"$f":"計算①!K26","v":0},{"$f":"IF(A27=\"\",\"\",VLOOKUP(G27,男子選手!$B$5:$E$103,3,FALSE))","v":""},"","",{"$f":"IF(A27=\"\",\"\",28&初期設定!$C$2)","v":""},{"$f":"IF(計算①!J26=\"\",\"\",計算①!J26)","v":""},{"$f":"IF(csv!A27=\"\",\"\",計算①!A26&\" \"&IF(計算①!D26=\"01T\",TEXT(計算①!N26,\"0000000\"),TEXT(計算①!N26,\"00000\")))","v":""}]
[{"$f":"IF(計算①!J27=\"\",\"\",128&初期設定!$C$2&RIGHT(計算①!J27,2))","v":""},{"$f":"計算①!K27","v":0},{"$f":"IF(A28=\"\",\"\",VLOOKUP(G28,男子選手!$B$5:$E$103,3,FALSE))","v":""},"","",{"$f":"IF(A28=\"\",\"\",28&初期設定!$C$2)","v":""},{"$f":"IF(計算①!J27=\"\",\"\",計算①!J27)","v":""},{"$f":"IF(csv!A28=\"\",\"\",計算①!A27&\" \"&IF(計算①!D27=\"01T\",TEXT(計算①!N27,\"0000000\"),TEXT(計算①!N27,\"00000\")))","v":""}]
[{"$f":"IF(計算①!J28=\"\",\"\",128&初期設定!$C$2&RIGHT(計算①!J28,2))","v":""},{"$f":"計算①!K28","v":0},{"$f":"IF(A29=\"\",\"\",VLOOKUP(G29,男子選手!$B$5:$E$103,3,FALSE))","v":""},"","",{"$f":"IF(A29=\"\",\"\",28&初期設定!$C$2)","v":""},{"$f":"IF(計算①!J28=\"\",\"\",計算①!J28)","v":""},{"$f":"IF(csv!A29=\"\",\"\",計算①!A28&\" \"&IF(計算①!D28=\"01T\",TEXT(計算①!N28,\"0000000\"),TEXT(計算①!N28,\"00000\")))","v":""}]
[{"$f":"IF(計算①!J29=\"\",\"\",128&初期設定!$C$2&RIGHT(計算①!J29,2))","v":""},{"$f":"計算①!K29","v":0},{"$f":"IF(A30=\"\",\"\",VLOOKUP(G30,男子選手!$B$5:$E$103,3,FALSE))","v":""},"","",{"$f":"IF(A30=\"\",\"\",28&初期設定!$C$2)","v":""},{"$f":"IF(計算①!J29=\"\",\"\",計算①!J29)","v":""},{"$f":"IF(csv!A30=\"\",\"\",計算①!A29&\" \"&IF(計算①!D29=\"01T\",TEXT(計算①!N29,\"0000000\"),TEXT(計算①!N29,\"00000\")))","v":""}]
[{"$f":"IF(計算①!J30=\"\",\"\",128&初期設定!$C$2&RIGHT(計算①!J30,2))","v":""},{"$f":"計算①!K30","v":0},{"$f":"IF(A31=\"\",\"\",VLOOKUP(G31,男子選手!$B$5:$E$103,3,FALSE))","v":""},"","",{"$f":"IF(A31=\"\",\"\",28&初期設定!$C$2)","v":""},{"$f":"IF(計算①!J30=\"\",\"\",計算①!J30)","v":""},{"$f":"IF(csv!A31=\"\",\"\",計算①!A30&\" \"&IF(計算①!D30=\"01T\",TEXT(計算①!N30,\"0000000\"),TEXT(計算①!N30,\"00000\")))","v":""}]
[{"$f":"IF(計算①!J31=\"\",\"\",128&初期設定!$C$2&RIGHT(計算①!J31,2))","v":""},{"$f":"計算①!K31","v":0},{"$f":"IF(A32=\"\",\"\",VLOOKUP(G32,男子選手!$B$5:$E$103,3,FALSE))","v":""},"","",{"$f":"IF(A32=\"\",\"\",28&初期設定!$C$2)","v":""},{"$f":"IF(計算①!J31=\"\",\"\",計算①!J31)","v":""},{"$f":"IF(csv!A32=\"\",\"\",計算①!A31&\" \"&IF(計算①!D31=\"01T\",TEXT(計算①!N31,\"0000000\"),TEXT(計算①!N31,\"00000\")))","v":""}]
[{"$f":"IF(計算①!J32=\"\",\"\",128&初期設定!$C$2&RIGHT(計算①!J32,2))","v":""},{"$f":"計算①!K32","v":0},{"$f":"IF(A33=\"\",\"\",VLOOKUP(G33,男子選手!$B$5:$E$103,3,FALSE))","v":""},"","",{"$f":"IF(A33=\"\",\"\",28&初期設定!$C$2)","v":""},{"$f":"IF(計算①!J32=\"\",\"\",計算①!J32)","v":""},{"$f":"IF(csv!A33=\"\",\"\",計算①!A32&\" \"&IF(計算①!D32=\"01T\",TEXT(計算①!N32,\"0000000\"),TEXT(計算①!N32,\"00000\")))","v":""}]
[{"$f":"IF(計算①!J33=\"\",\"\",128&初期設定!$C$2&RIGHT(計算①!J33,2))","v":""},{"$f":"計算①!K33","v":0},{"$f":"IF(A34=\"\",\"\",VLOOKUP(G34,男子選手!$B$5:$E$103,3,FALSE))","v":""},"","",{"$f":"IF(A34=\"\",\"\",28&初期設定!$C$2)","v":""},{"$f":"IF(計算①!J33=\"\",\"\",計算①!J33)","v":""},{"$f":"IF(csv!A34=\"\",\"\",計算①!A33&\" \"&IF(計算①!D33=\"01T\",TEXT(計算①!N33,\"0000000\"),TEXT(計算①!N33,\"00000\")))","v":""}]
[{"$f":"IF(計算①!J34=\"\",\"\",128&初期設定!$C$2&RIGHT(計算①!J34,2))","v":""},{"$f":"計算①!K34","v":0},{"$f":"IF(A35=\"\",\"\",VLOOKUP(G35,男子選手!$B$5:$E$103,3,FALSE))","v":""},"","",{"$f":"IF(A35=\"\",\"\",28&初期設定!$C$2)","v":""},{"$f":"IF(計算①!J34=\"\",\"\",計算①!J34)","v":""},{"$f":"IF(csv!A35=\"\",\"\",計算①!A34&\" \"&IF(計算①!D34=\"01T\",TEXT(計算①!N34,\"0000000\"),TEXT(計算①!N34,\"00000\")))","v":""}]
[{"$f":"IF(計算①!J35=\"\",\"\",128&初期設定!$C$2&RIGHT(計算①!J35,2))","v":""},{"$f":"計算①!K35","v":0},{"$f":"IF(A36=\"\",\"\",VLOOKUP(G36,男子選手!$B$5:$E$103,3,FALSE))","v":""},"","",{"$f":"IF(A36=\"\",\"\",28&初期設定!$C$2)","v":""},{"$f":"IF(計算①!J35=\"\",\"\",計算①!J35)","v":""},{"$f":"IF(csv!A36=\"\",\"\",計算①!A35&\" \"&IF(計算①!D35=\"01T\",TEXT(計算①!N35,\"0000000\"),TEXT(計算①!N35,\"00000\")))","v":""}]
[{"$f":"IF(計算①!J36=\"\",\"\",128&初期設定!$C$2&RIGHT(計算①!J36,2))","v":""},{"$f":"計算①!K36","v":0},{"$f":"IF(A37=\"\",\"\",VLOOKUP(G37,男子選手!$B$5:$E$103,3,FALSE))","v":""},"","",{"$f":"IF(A37=\"\",\"\",28&初期設定!$C$2)","v":""},{"$f":"IF(計算①!J36=\"\",\"\",計算①!J36)","v":""},{"$f":"IF(csv!A37=\"\",\"\",計算①!A36&\" \"&IF(計算①!D36=\"01T\",TEXT(計算①!N36,\"0000000\"),TEXT(計算①!N36,\"00000\")))","v":""}]
[{"$f":"IF(計算①!J37=\"\",\"\",128&初期設定!$C$2&RIGHT(計算①!J37,2))","v":""},{"$f":"計算①!K37","v":0},{"$f":"IF(A38=\"\",\"\",VLOOKUP(G38,男子選手!$B$5:$E$103,3,FALSE))","v":""},"","",{"$f":"IF(A38=\"\",\"\",28&初期設定!$C$2)","v":""},{"$f":"IF(計算①!J37=\"\",\"\",計算①!J37)","v":""},{"$f":"IF(csv!A38=\"\",\"\",計算①!A37&\" \"&IF(計算①!D37=\"01T\",TEXT(計算①!N37,\"0000000\"),TEXT(計算①!N37,\"00000\")))","v":""}]
[{"$f":"IF(計算①!J38=\"\",\"\",128&初期設定!$C$2&RIGHT(計算①!J38,2))","v":""},{"$f":"計算①!K38","v":0},{"$f":"IF(A39=\"\",\"\",VLOOKUP(G39,男子選手!$B$5:$E$103,3,FALSE))","v":""},"","",{"$f":"IF(A39=\"\",\"\",28&初期設定!$C$2)","v":""},{"$f":"IF(計算①!J38=\"\",\"\",計算①!J38)","v":""},{"$f":"IF(csv!A39=\"\",\"\",計算①!A38&\" \"&IF(計算①!D38=\"01T\",TEXT(計算①!N38,\"0000000\"),TEXT(計算①!N38,\"00000\")))","v":""}]
[{"$f":"IF(計算①!J39=\"\",\"\",128&初期設定!$C$2&RIGHT(計算①!J39,2))","v":""},{"$f":"計算①!K39","v":0},{"$f":"IF(A40=\"\",\"\",VLOOKUP(G40,男子選手!$B$5:$E$103,3,FALSE))","v":""},"","",{"$f":"IF(A40=\"\",\"\",28&初期設定!$C$2)","v":""},{"$f":"IF(計算①!J39=\"\",\"\",計算①!J39)","v":""},{"$f":"IF(csv!A40=\"\",\"\",計算①!A39&\" \"&IF(計算①!D39=\"01T\",TEXT(計算①!N39,\"0000000\"),TEXT(計算①!N39,\"00000\")))","v":""}]
[{"$f":"IF(計算①!J40=\"\",\"\",128&初期設定!$C$2&RIGHT(計算①!J40,2))","v":""},{"$f":"計算①!K40","v":0},{"$f":"IF(A41=\"\",\"\",VLOOKUP(G41,男子選手!$B$5:$E$103,3,FALSE))","v":""},"","",{"$f":"IF(A41=\"\",\"\",28&初期設定!$C$2)","v":""},{"$f":"IF(計算①!J40=\"\",\"\",計算①!J40)","v":""},{"$f":"IF(csv!A41=\"\",\"\",計算①!A40&\" \"&IF(計算①!D40=\"01T\",TEXT(計算①!N40,\"0000000\"),TEXT(計算①!N40,\"00000\")))","v":""}]
[{"$f":"IF(計算①!J41=\"\",\"\",128&初期設定!$C$2&RIGHT(計算①!J41,2))","v":""},{"$f":"計算①!K41","v":0},{"$f":"IF(A42=\"\",\"\",VLOOKUP(G42,男子選手!$B$5:$E$103,3,FALSE))","v":""},"","",{"$f":"IF(A42=\"\",\"\",28&初期設定!$C$2)","v":""},{"$f":"IF(計算①!J41=\"\",\"\",計算①!J41)","v":""},{"$f":"IF(csv!A42=\"\",\"\",計算①!A41&\" \"&IF(計算①!D41=\"01T\",TEXT(計算①!N41,\"0000000\"),TEXT(計算①!N41,\"00000\")))","v":""}]
[{"$f":"IF(計算①!J42=\"\",\"\",128&初期設定!$C$2&RIGHT(計算①!J42,2))","v":""},{"$f":"計算①!K42","v":0},{"$f":"IF(A43=\"\",\"\",VLOOKUP(G43,男子選手!$B$5:$E$103,3,FALSE))","v":""},"","",{"$f":"IF(A43=\"\",\"\",28&初期設定!$C$2)","v":""},{"$f":"IF(計算①!J42=\"\",\"\",計算①!J42)","v":""},{"$f":"IF(csv!A43=\"\",\"\",計算①!A42&\" \"&IF(計算①!D42=\"01T\",TEXT(計算①!N42,\"0000000\"),TEXT(計算①!N42,\"00000\")))","v":""}]
[{"$f":"IF(計算①!J43=\"\",\"\",128&初期設定!$C$2&RIGHT(計算①!J43,2))","v":""},{"$f":"計算①!K43","v":0},{"$f":"IF(A44=\"\",\"\",VLOOKUP(G44,男子選手!$B$5:$E$103,3,FALSE))","v":""},"","",{"$f":"IF(A44=\"\",\"\",28&初期設定!$C$2)","v":""},{"$f":"IF(計算①!J43=\"\",\"\",計算①!J43)","v":""},{"$f":"IF(csv!A44=\"\",\"\",計算①!A43&\" \"&IF(計算①!D43=\"01T\",TEXT(計算①!N43,\"0000000\"),TEXT(計算①!N43,\"00000\")))","v":""}]
[{"$f":"IF(計算①!J44=\"\",\"\",128&初期設定!$C$2&RIGHT(計算①!J44,2))","v":""},{"$f":"計算①!K44","v":0},{"$f":"IF(A45=\"\",\"\",VLOOKUP(G45,男子選手!$B$5:$E$103,3,FALSE))","v":""},"","",{"$f":"IF(A45=\"\",\"\",28&初期設定!$C$2)","v":""},{"$f":"IF(計算①!J44=\"\",\"\",計算①!J44)","v":""},{"$f":"IF(csv!A45=\"\",\"\",計算①!A44&\" \"&IF(計算①!D44=\"01T\",TEXT(計算①!N44,\"0000000\"),TEXT(計算①!N44,\"00000\")))","v":""}]
[{"$f":"IF(計算①!J45=\"\",\"\",128&初期設定!$C$2&RIGHT(計算①!J45,2))","v":""},{"$f":"計算①!K45","v":0},{"$f":"IF(A46=\"\",\"\",VLOOKUP(G46,男子選手!$B$5:$E$103,3,FALSE))","v":""},"","",{"$f":"IF(A46=\"\",\"\",28&初期設定!$C$2)","v":""},{"$f":"IF(計算①!J45=\"\",\"\",計算①!J45)","v":""},{"$f":"IF(csv!A46=\"\",\"\",計算①!A45&\" \"&IF(計算①!D45=\"01T\",TEXT(計算①!N45,\"0000000\"),TEXT(計算①!N45,\"00000\")))","v":""}]
[{"$f":"IF(計算①!J46=\"\",\"\",128&初期設定!$C$2&RIGHT(計算①!J46,2))","v":""},{"$f":"計算①!K46","v":0},{"$f":"IF(A47=\"\",\"\",VLOOKUP(G47,男子選手!$B$5:$E$103,3,FALSE))","v":""},"","",{"$f":"IF(A47=\"\",\"\",28&初期設定!$C$2)","v":""},{"$f":"IF(計算①!J46=\"\",\"\",計算①!J46)","v":""},{"$f":"IF(csv!A47=\"\",\"\",計算①!A46&\" \"&IF(計算①!D46=\"01T\",TEXT(計算①!N46,\"0000000\"),TEXT(計算①!N46,\"00000\")))","v":""}]
[{"$f":"IF(計算①!J47=\"\",\"\",128&初期設定!$C$2&RIGHT(計算①!J47,2))","v":""},{"$f":"計算①!K47","v":0},{"$f":"IF(A48=\"\",\"\",VLOOKUP(G48,男子選手!$B$5:$E$103,3,FALSE))","v":""},"","",{"$f":"IF(A48=\"\",\"\",28&初期設定!$C$2)","v":""},{"$f":"IF(計算①!J47=\"\",\"\",計算①!J47)","v":""},{"$f":"IF(csv!A48=\"\",\"\",計算①!A47&\" \"&IF(計算①!D47=\"01T\",TEXT(計算①!N47,\"0000000\"),TEXT(計算①!N47,\"00000\")))","v":""}]
[{"$f":"IF(計算①!J48=\"\",\"\",128&初期設定!$C$2&RIGHT(計算①!J48,2))","v":""},{"$f":"計算①!K48","v":0},{"$f":"IF(A49=\"\",\"\",VLOOKUP(G49,男子選手!$B$5:$E$103,3,FALSE))","v":""},"","",{"$f":"IF(A49=\"\",\"\",28&初期設定!$C$2)","v":""},{"$f":"IF(計算①!J48=\"\",\"\",計算①!J48)","v":""},{"$f":"IF(csv!A49=\"\",\"\",計算①!A48&\" \"&IF(計算①!D48=\"01T\",TEXT(計算①!N48,\"0000000\"),TEXT(計算①!N48,\"00000\")))","v":""}]
[{"$f":"IF(計算①!J49=\"\",\"\",128&初期設定!$C$2&RIGHT(計算①!J49,2))","v":""},{"$f":"計算①!K49","v":0},{"$f":"IF(A50=\"\",\"\",VLOOKUP(G50,男子選手!$B$5:$E$103,3,FALSE))","v":""},"","",{"$f":"IF(A50=\"\",\"\",28&初期設定!$C$2)","v":""},{"$f":"IF(計算①!J49=\"\",\"\",計算①!J49)","v":""},{"$f":"IF(csv!A50=\"\",\"\",計算①!A49&\" \"&IF(計算①!D49=\"01T\",TEXT(計算①!N49,\"0000000\"),TEXT(計算①!N49,\"00000\")))","v":""}]
[{"$f":"IF(計算①!J50=\"\",\"\",128&初期設定!$C$2&RIGHT(計算①!J50,2))","v":""},{"$f":"計算①!K50","v":0},{"$f":"IF(A51=\"\",\"\",VLOOKUP(G51,男子選手!$B$5:$E$103,3,FALSE))","v":""},"","",{"$f":"IF(A51=\"\",\"\",28&初期設定!$C$2)","v":""},{"$f":"IF(計算①!J50=\"\",\"\",計算①!J50)","v":""},{"$f":"IF(csv!A51=\"\",\"\",計算①!A50&\" \"&IF(計算①!D50=\"01T\",TEXT(計算①!N50,\"0000000\"),TEXT(計算①!N50,\"00000\")))","v":""}]
[{"$f":"IF(計算①!J51=\"\",\"\",128&初期設定!$C$2&RIGHT(計算①!J51,2))","v":""},{"$f":"計算①!K51","v":0},{"$f":"IF(A52=\"\",\"\",VLOOKUP(G52,男子選手!$B$5:$E$103,3,FALSE))","v":""},"","",{"$f":"IF(A52=\"\",\"\",28&初期設定!$C$2)","v":""},{"$f":"IF(計算①!J51=\"\",\"\",計算①!J51)","v":""},{"$f":"IF(csv!A52=\"\",\"\",計算①!A51&\" \"&IF(計算①!D51=\"01T\",TEXT(計算①!N51,\"0000000\"),TEXT(計算①!N51,\"00000\")))","v":""}]
[{"$f":"IF(計算①!J52=\"\",\"\",128&初期設定!$C$2&RIGHT(計算①!J52,2))","v":""},{"$f":"計算①!K52","v":0},{"$f":"IF(A53=\"\",\"\",VLOOKUP(G53,男子選手!$B$5:$E$103,3,FALSE))","v":""},"","",{"$f":"IF(A53=\"\",\"\",28&初期設定!$C$2)","v":""},{"$f":"IF(計算①!J52=\"\",\"\",計算①!J52)","v":""},{"$f":"IF(csv!A53=\"\",\"\",計算①!A52&\" \"&IF(計算①!D52=\"01T\",TEXT(計算①!N52,\"0000000\"),TEXT(計算①!N52,\"00000\")))","v":""}]
[{"$f":"IF(計算①!J53=\"\",\"\",128&初期設定!$C$2&RIGHT(計算①!J53,2))","v":""},{"$f":"計算①!K53","v":0},{"$f":"IF(A54=\"\",\"\",VLOOKUP(G54,男子選手!$B$5:$E$103,3,FALSE))","v":""},"","",{"$f":"IF(A54=\"\",\"\",28&初期設定!$C$2)","v":""},{"$f":"IF(計算①!J53=\"\",\"\",計算①!J53)","v":""},{"$f":"IF(csv!A54=\"\",\"\",計算①!A53&\" \"&IF(計算①!D53=\"01T\",TEXT(計算①!N53,\"0000000\"),TEXT(計算①!N53,\"00000\")))","v":""}]
[{"$f":"IF(計算①!J54=\"\",\"\",128&初期設定!$C$2&RIGHT(計算①!J54,2))","v":""},{"$f":"計算①!K54","v":0},{"$f":"IF(A55=\"\",\"\",VLOOKUP(G55,男子選手!$B$5:$E$103,3,FALSE))","v":""},"","",{"$f":"IF(A55=\"\",\"\",28&初期設定!$C$2)","v":""},{"$f":"IF(計算①!J54=\"\",\"\",計算①!J54)","v":""},{"$f":"IF(csv!A55=\"\",\"\",計算①!A54&\" \"&IF(計算①!D54=\"01T\",TEXT(計算①!N54,\"0000000\"),TEXT(計算①!N54,\"00000\")))","v":""}]
[{"$f":"IF(計算①!J55=\"\",\"\",128&初期設定!$C$2&RIGHT(計算①!J55,2))","v":""},{"$f":"計算①!K55","v":0},{"$f":"IF(A56=\"\",\"\",VLOOKUP(G56,男子選手!$B$5:$E$103,3,FALSE))","v":""},"","",{"$f":"IF(A56=\"\",\"\",28&初期設定!$C$2)","v":""},{"$f":"IF(計算①!J55=\"\",\"\",計算①!J55)","v":""},{"$f":"IF(csv!A56=\"\",\"\",計算①!A55&\" \"&IF(計算①!D55=\"01T\",TEXT(計算①!N55,\"0000000\"),TEXT(計算①!N55,\"00000\")))","v":""}]
[{"$f":"IF(計算①!J56=\"\",\"\",128&初期設定!$C$2&RIGHT(計算①!J56,2))","v":""},{"$f":"計算①!K56","v":0},{"$f":"IF(A57=\"\",\"\",VLOOKUP(G57,男子選手!$B$5:$E$103,3,FALSE))","v":""},"","",{"$f":"IF(A57=\"\",\"\",28&初期設定!$C$2)","v":""},{"$f":"IF(計算①!J56=\"\",\"\",計算①!J56)","v":""},{"$f":"IF(csv!A57=\"\",\"\",計算①!A56&\" \"&IF(計算①!D56=\"01T\",TEXT(計算①!N56,\"0000000\"),TEXT(計算①!N56,\"00000\")))","v":""}]
[{"$f":"IF(計算①!J57=\"\",\"\",128&初期設定!$C$2&RIGHT(計算①!J57,2))","v":""},{"$f":"計算①!K57","v":0},{"$f":"IF(A58=\"\",\"\",VLOOKUP(G58,男子選手!$B$5:$E$103,3,FALSE))","v":""},"","",{"$f":"IF(A58=\"\",\"\",28&初期設定!$C$2)","v":""},{"$f":"IF(計算①!J57=\"\",\"\",計算①!J57)","v":""},{"$f":"IF(csv!A58=\"\",\"\",計算①!A57&\" \"&IF(計算①!D57=\"01T\",TEXT(計算①!N57,\"0000000\"),TEXT(計算①!N57,\"00000\")))","v":""}]
[{"$f":"IF(計算①!J58=\"\",\"\",128&初期設定!$C$2&RIGHT(計算①!J58,2))","v":""},{"$f":"計算①!K58","v":0},{"$f":"IF(A59=\"\",\"\",VLOOKUP(G59,男子選手!$B$5:$E$103,3,FALSE))","v":""},"","",{"$f":"IF(A59=\"\",\"\",28&初期設定!$C$2)","v":""},{"$f":"IF(計算①!J58=\"\",\"\",計算①!J58)","v":""},{"$f":"IF(csv!A59=\"\",\"\",計算①!A58&\" \"&IF(計算①!D58=\"01T\",TEXT(計算①!N58,\"0000000\"),TEXT(計算①!N58,\"00000\")))","v":""}]
[{"$f":"IF(計算①!J59=\"\",\"\",128&初期設定!$C$2&RIGHT(計算①!J59,2))","v":""},{"$f":"計算①!K59","v":0},{"$f":"IF(A60=\"\",\"\",VLOOKUP(G60,男子選手!$B$5:$E$103,3,FALSE))","v":""},"","",{"$f":"IF(A60=\"\",\"\",28&初期設定!$C$2)","v":""},{"$f":"IF(計算①!J59=\"\",\"\",計算①!J59)","v":""},{"$f":"IF(csv!A60=\"\",\"\",計算①!A59&\" \"&IF(計算①!D59=\"01T\",TEXT(計算①!N59,\"0000000\"),TEXT(計算①!N59,\"00000\")))","v":""}]
[{"$f":"IF(計算①!J60=\"\",\"\",128&初期設定!$C$2&RIGHT(計算①!J60,2))","v":""},{"$f":"計算①!K60","v":0},{"$f":"IF(A61=\"\",\"\",VLOOKUP(G61,男子選手!$B$5:$E$103,3,FALSE))","v":""},"","",{"$f":"IF(A61=\"\",\"\",28&初期設定!$C$2)","v":""},{"$f":"IF(計算①!J60=\"\",\"\",計算①!J60)","v":""},{"$f":"IF(csv!A61=\"\",\"\",計算①!A60&\" \"&IF(計算①!D60=\"01T\",TEXT(計算①!N60,\"0000000\"),TEXT(計算①!N60,\"00000\")))","v":""}]
[{"$f":"IF(計算①!J61=\"\",\"\",128&初期設定!$C$2&RIGHT(計算①!J61,2))","v":""},{"$f":"計算①!K61","v":0},{"$f":"IF(A62=\"\",\"\",VLOOKUP(G62,男子選手!$B$5:$E$103,3,FALSE))","v":""},"","",{"$f":"IF(A62=\"\",\"\",28&初期設定!$C$2)","v":""},{"$f":"IF(計算①!J61=\"\",\"\",計算①!J61)","v":""},{"$f":"IF(csv!A62=\"\",\"\",計算①!A61&\" \"&IF(計算①!D61=\"01T\",TEXT(計算①!N61,\"0000000\"),TEXT(計算①!N61,\"00000\")))","v":""}]
[{"$f":"IF(計算①!J62=\"\",\"\",128&初期設定!$C$2&RIGHT(計算①!J62,2))","v":""},{"$f":"計算①!K62","v":0},{"$f":"IF(A63=\"\",\"\",VLOOKUP(G63,男子選手!$B$5:$E$103,3,FALSE))","v":""},"","",{"$f":"IF(A63=\"\",\"\",28&初期設定!$C$2)","v":""},{"$f":"IF(計算①!J62=\"\",\"\",計算①!J62)","v":""},{"$f":"IF(csv!A63=\"\",\"\",計算①!A62&\" \"&IF(計算①!D62=\"01T\",TEXT(計算①!N62,\"0000000\"),TEXT(計算①!N62,\"00000\")))","v":""}]
[{"$f":"IF(計算①!J63=\"\",\"\",128&初期設定!$C$2&RIGHT(計算①!J63,2))","v":""},{"$f":"計算①!K63","v":0},{"$f":"IF(A64=\"\",\"\",VLOOKUP(G64,男子選手!$B$5:$E$103,3,FALSE))","v":""},"","",{"$f":"IF(A64=\"\",\"\",28&初期設定!$C$2)","v":""},{"$f":"IF(計算①!J63=\"\",\"\",計算①!J63)","v":""},{"$f":"IF(csv!A64=\"\",\"\",計算①!A63&\" \"&IF(計算①!D63=\"01T\",TEXT(計算①!N63,\"0000000\"),TEXT(計算①!N63,\"00000\")))","v":""}]
[{"$f":"IF(計算①!J64=\"\",\"\",128&初期設定!$C$2&RIGHT(計算①!J64,2))","v":""},{"$f":"計算①!K64","v":0},{"$f":"IF(A65=\"\",\"\",VLOOKUP(G65,男子選手!$B$5:$E$103,3,FALSE))","v":""},"","",{"$f":"IF(A65=\"\",\"\",28&初期設定!$C$2)","v":""},{"$f":"IF(計算①!J64=\"\",\"\",計算①!J64)","v":""},{"$f":"IF(csv!A65=\"\",\"\",計算①!A64&\" \"&IF(計算①!D64=\"01T\",TEXT(計算①!N64,\"0000000\"),TEXT(計算①!N64,\"00000\")))","v":""}]
[{"$f":"IF(計算①!J65=\"\",\"\",128&初期設定!$C$2&RIGHT(計算①!J65,2))","v":""},{"$f":"計算①!K65","v":0},{"$f":"IF(A66=\"\",\"\",VLOOKUP(G66,男子選手!$B$5:$E$103,3,FALSE))","v":""},"","",{"$f":"IF(A66=\"\",\"\",28&初期設定!$C$2)","v":""},{"$f":"IF(計算①!J65=\"\",\"\",計算①!J65)","v":""},{"$f":"IF(csv!A66=\"\",\"\",計算①!A65&\" \"&IF(計算①!D65=\"01T\",TEXT(計算①!N65,\"0000000\"),TEXT(計算①!N65,\"00000\")))","v":""}]
[{"$f":"IF(計算①!J66=\"\",\"\",128&初期設定!$C$2&RIGHT(計算①!J66,2))","v":""},{"$f":"計算①!K66","v":0},{"$f":"IF(A67=\"\",\"\",VLOOKUP(G67,男子選手!$B$5:$E$103,3,FALSE))","v":""},{"$f":"IF(A67=\"\",\"\",1)","v":""},{"$f":"IF(A67=\"\",\"\",1)","v":""},{"$f":"IF(A67=\"\",\"\",28&初期設定!$C$2)","v":""},{"$f":"IF(計算①!J66=\"\",\"\",計算①!J66)","v":""},{"$f":"IF(csv!A67=\"\",\"\",計算①!A66&\" \"&IF(計算①!D66=\"01T\",TEXT(計算①!N66,\"0000000\"),TEXT(計算①!N66,\"00000\")))","v":""}]
[{"$f":"IF(計算①!J67=\"\",\"\",128&初期設定!$C$2&RIGHT(計算①!J67,2))","v":""},{"$f":"計算①!K67","v":0},{"$f":"IF(A68=\"\",\"\",VLOOKUP(G68,男子選手!$B$5:$E$103,3,FALSE))","v":""},"","",{"$f":"IF(A68=\"\",\"\",28&初期設定!$C$2)","v":""},{"$f":"IF(計算①!J67=\"\",\"\",計算①!J67)","v":""},{"$f":"IF(csv!A68=\"\",\"\",計算①!A67&\" \"&IF(計算①!D67=\"01T\",TEXT(計算①!N67,\"0000000\"),TEXT(計算①!N67,\"00000\")))","v":""}]
[{"$f":"IF(計算①!J68=\"\",\"\",128&初期設定!$C$2&RIGHT(計算①!J68,2))","v":""},{"$f":"計算①!K68","v":0},{"$f":"IF(A69=\"\",\"\",VLOOKUP(G69,男子選手!$B$5:$E$103,3,FALSE))","v":""},"","",{"$f":"IF(A69=\"\",\"\",28&初期設定!$C$2)","v":""},{"$f":"IF(計算①!J68=\"\",\"\",計算①!J68)","v":""},{"$f":"IF(csv!A69=\"\",\"\",計算①!A68&\" \"&IF(計算①!D68=\"01T\",TEXT(計算①!N68,\"0000000\"),TEXT(計算①!N68,\"00000\")))","v":""}]
[{"$f":"IF(計算①!J69=\"\",\"\",128&初期設定!$C$2&RIGHT(計算①!J69,2))","v":""},{"$f":"計算①!K69","v":0},{"$f":"IF(A70=\"\",\"\",VLOOKUP(G70,男子選手!$B$5:$E$103,3,FALSE))","v":""},"","",{"$f":"IF(A70=\"\",\"\",28&初期設定!$C$2)","v":""},{"$f":"IF(計算①!J69=\"\",\"\",計算①!J69)","v":""},{"$f":"IF(csv!A70=\"\",\"\",計算①!A69&\" \"&IF(計算①!D69=\"01T\",TEXT(計算①!N69,\"0000000\"),TEXT(計算①!N69,\"00000\")))","v":""}]