{"text_format":"1","workbook":"xlsx","n_sheets":10,"sheets":["初期設定","記録入力","女子選手","登録選手","女子申込","データ貼付","データ完成","計算①","csv","学校番号"],"not_rendered":{"charts":0,"images":1,"macros":1,"external_links":0,"defined_names":1,"comments":1,"pivot_tables":0},"unopened":[],"bounds":{"document_bytes":16777216,"sheet_cells":100000,"rows_first":2000,"rows_last":500,"rows_between":2000,"halvings":0,"cell_chars":16384,"cell_head_chars":4096},"cells_cut":0,"cells_raw":0,"read":"whole","date_system":"1900"}

{"sheet":"初期設定","index":0,"n_rows":40,"n_cols":8,"rows_kept":40,"cut":false,"hidden":false,"merged":[[18,0,38,0],[8,2,8,4],[2,2,2,4],[1,2,1,4],[4,2,4,4],[5,2,5,4],[6,2,6,4],[7,2,7,4],[3,2,3,4]]}
[null,null,"初期設定シート",null,null,null,"まずはじめに学校番号を入力してください"]
[null,"学校番号",null,null,null,null,"次に大会名を選択してください(最初は阪神ジュニアになっています）"]
[null,"学校名",{"$f":"IF($C$2=\"\",\"\",VLOOKUP($C$2,学校番号!$A$3:$G$50,2,FALSE))","v":""},null,null,{"$f":"IF($C$2=\"\",\"\",VLOOKUP($C$2,学校番号!$A$3:$G$50,4,FALSE))","v":""},null,"①初期設定シート、学校番号を入力"]
[null,"大会名","第77回　兵庫県高等学校陸上競技対校選手権大会地区予選会　申込書",null,null,null,null,"②女子選手シートに名前、ﾌﾘｶﾞﾅ、学年を入力"]
[null,"郵便番号",{"$f":"IF($C$2=\"\",\"\",VLOOKUP($C$2,学校番号!$A$3:$G$50,5,FALSE))","v":""},null,null,null,null,"③記録入力シートに各種目出場者データを入力（登録番号、記録）"]
[null,"電話番号",{"$f":"IF($C$2=\"\",\"\",VLOOKUP($C$2,学校番号!$A$3:$G$50,7,FALSE))","v":""},null,null,null,null,"④記録入力シート一覧表ボタンをクリック"]
[null,"住所",{"$f":"IF($C$2=\"\",\"\",VLOOKUP($C$2,学校番号!$A$3:$G$50,6,FALSE))","v":""},null,null,null,null,"⑤一覧表を印刷"]
[null,"学校長氏名"]
[null,"顧問氏名"]
[null,"推薦審判員","名前","年齢","資格"]
[null,"    〃",null,null,null,null,null,"男子の申し込み人数を入力してください"]
[null,"    〃"]
[null,"    〃",null,null,null,null,null,"※学校のデータが間違っている場合、シート”学校番号”で修正してください。"]
[null,"    〃"]
[null,"申込人数",null,"申込人数",null,null,null,"このファイルと出力されたCSVファイルをtandf@ichiita.comに送信してください"]
[null,null,"男　子 (人)",null,null,null,null,"ファイル名は学校番号・学校略称・性別でお願いします　　例）4136川西北陵女子"]
[null,null,"女　子 (人)",{"$f":"COUNTIF(女子申込!$O$12:$O$61,\"女\")","v":0}]
[null,null,"合　計 (人)",{"$f":"D16+D17","v":0}]
["女　　　　　子","種目コード","種目","T-F-C","高体連ｺｰﾄﾞ","種目"]
[null,"00200","100m","01T",{"$f":"B20","v":"00200"},{"$f":"C20","v":"100m"}]
[null,"00300","200m","01T",{"$f":"B21","v":"00300"},{"$f":"C21","v":"200m"}]
[null,"00500","400m","01T","00500","400m"]
[null,"00600","800m","01T","00600","800m"]
[null,"00800","1500m","01T","00800","1500m"]
[null,"01000","3000m","01T","01000","3000m"]
[null,"04400","100mH","01T","04400","100mH"]
[null,"04600","400mH","01T","04600","400mH"]
[null,"05300","3000SC","01T","05300","3000SC"]
[null,"06100","5000mW","01T","06100","5000mW"]
[null,"60100","4x100R","01T","60100","4x100R"]
[null,"60300","4x400R","01T","60300","4x400R"]
[null,"07100","走高跳","02F","07100","走高跳"]
[null,"07200","棒高跳","02F","07200","棒高跳"]
[null,"07300","走幅跳","02F","07300","走幅跳"]
[null,"07400","三段跳","02F","07400","三段跳"]
[null,"08400","砲丸投","02F","08400","砲丸投"]
[null,"08800","円盤投","02F","08800","円盤投"]
[null,"09400","ﾊﾝﾏ-投","02F","09400","ﾊﾝﾏ-投"]
[null,"09300","やり投","02F","09300","やり投"]
[null,"20200","7種競技","03C","20200","7種競技"]

{"sheet":"記録入力","index":1,"n_rows":72,"n_cols":14,"rows_kept":72,"cut":false,"hidden":false,"merged":[[1,0,2,0],[57,5,57,7],[58,5,58,7],[59,5,59,7],[1,13,2,13],[1,1,2,1],[1,2,2,2],[1,3,2,3],[1,4,2,4],[1,8,2,8],[1,9,2,9],[1,10,2,10],[1,11,2,11],[1,12,2,12]]}
[2,null,3,4,7,8,9,10,12,14,15,16,17,20]
["種目\nコード","性","種    目","TFC","No","分","秒","1/100","記録","No","氏名","学校名","学校番号"]
[null,null,null,null,null,null,"m","cm"]
["00200","女",{"$f":"VLOOKUP(A4,初期設定!$B$20:$F$40,2,0)","v":"100m"},{"$f":"VLOOKUP(A4,初期設定!$B$20:$F$40,3,0)","v":"01T"},null,null,null,null,{"$f":"IF(AND(F4=\"\",G4=\"\",H4=\"\"),\"\",IF(D4=\"01T\",IF(F4=\"\",G4&\"\"\"\"&H4,F4&\"'\"&G4&\"\"\"\"&H4),IF(D4=\"02F\",G4&\"m\"&H4,H4&\"点\")))","v":""},{"$f":"IF(E4=\"\",\"\",E4)","v":""},{"$f":"IF(ISERROR(VLOOKUP(E4,女子選手!$B$5:$G$195,6,FALSE)),\"\",VLOOKUP(E4,女子選手!$B$5:$G$195,6,FALSE))","v":""},{"$f":"IF(K4=\"\",\"\",VLOOKUP(M4,学校番号!$A$3:$D$50,4,0))","v":""},{"$f":"IF(K4=\"\",\"\",初期設定!$C$2)","v":""},{"$f":"CONCATENATE(F4,G4,H4)","v":""}]
["00200","女",{"$f":"VLOOKUP(A5,初期設定!$B$20:$F$40,2,0)","v":"100m"},{"$f":"VLOOKUP(A5,初期設定!$B$20:$F$40,3,0)","v":"01T"},null,null,null,null,"",{"$f":"IF(E5=\"\",\"\",E5)","v":""},{"$f":"IF(ISERROR(VLOOKUP(E5,女子選手!$B$5:$G$195,6,FALSE)),\"\",VLOOKUP(E5,女子選手!$B$5:$G$195,6,FALSE))","v":""},{"$f":"IF(K5=\"\",\"\",VLOOKUP(M5,学校番号!$A$3:$D$50,4,0))","v":""},{"$f":"IF(K5=\"\",\"\",初期設定!$C$2)","v":""},{"$f":"CONCATENATE(F5,G5,H5)","v":""}]
["00200","女",{"$f":"VLOOKUP(A6,初期設定!$B$20:$F$40,2,0)","v":"100m"},{"$f":"VLOOKUP(A6,初期設定!$B$20:$F$40,3,0)","v":"01T"},null,null,null,null,"","",{"$f":"IF(ISERROR(VLOOKUP(E6,女子選手!$B$5:$G$195,6,FALSE)),\"\",VLOOKUP(E6,女子選手!$B$5:$G$195,6,FALSE))","v":""},{"$f":"IF(K6=\"\",\"\",VLOOKUP(M6,学校番号!$A$3:$D$50,4,0))","v":""},{"$f":"IF(K6=\"\",\"\",初期設定!$C$2)","v":""},""]
["00300","女",{"$f":"VLOOKUP(A7,初期設定!$B$20:$F$40,2,0)","v":"200m"},{"$f":"VLOOKUP(A7,初期設定!$B$20:$F$40,3,0)","v":"01T"},null,null,null,null,"","",{"$f":"IF(ISERROR(VLOOKUP(E7,女子選手!$B$5:$G$195,6,FALSE)),\"\",VLOOKUP(E7,女子選手!$B$5:$G$195,6,FALSE))","v":""},{"$f":"IF(K7=\"\",\"\",VLOOKUP(M7,学校番号!$A$3:$D$50,4,0))","v":""},{"$f":"IF(K7=\"\",\"\",初期設定!$C$2)","v":""},""]
["00300","女",{"$f":"VLOOKUP(A8,初期設定!$B$20:$F$40,2,0)","v":"200m"},{"$f":"VLOOKUP(A8,初期設定!$B$20:$F$40,3,0)","v":"01T"},null,null,null,null,"","",{"$f":"IF(ISERROR(VLOOKUP(E8,女子選手!$B$5:$G$195,6,FALSE)),\"\",VLOOKUP(E8,女子選手!$B$5:$G$195,6,FALSE))","v":""},{"$f":"IF(K8=\"\",\"\",VLOOKUP(M8,学校番号!$A$3:$D$50,4,0))","v":""},{"$f":"IF(K8=\"\",\"\",初期設定!$C$2)","v":""},""]
["00300","女",{"$f":"VLOOKUP(A9,初期設定!$B$20:$F$40,2,0)","v":"200m"},{"$f":"VLOOKUP(A9,初期設定!$B$20:$F$40,3,0)","v":"01T"},null,null,null,null,"","",{"$f":"IF(ISERROR(VLOOKUP(E9,女子選手!$B$5:$G$195,6,FALSE)),\"\",VLOOKUP(E9,女子選手!$B$5:$G$195,6,FALSE))","v":""},{"$f":"IF(K9=\"\",\"\",VLOOKUP(M9,学校番号!$A$3:$D$50,4,0))","v":""},{"$f":"IF(K9=\"\",\"\",初期設定!$C$2)","v":""},""]
["00500","女",{"$f":"VLOOKUP(A10,初期設定!$B$20:$F$40,2,0)","v":"400m"},{"$f":"VLOOKUP(A10,初期設定!$B$20:$F$40,3,0)","v":"01T"},null,null,null,null,"","",{"$f":"IF(ISERROR(VLOOKUP(E10,女子選手!$B$5:$G$195,6,FALSE)),\"\",VLOOKUP(E10,女子選手!$B$5:$G$195,6,FALSE))","v":""},{"$f":"IF(K10=\"\",\"\",VLOOKUP(M10,学校番号!$A$3:$D$50,4,0))","v":""},{"$f":"IF(K10=\"\",\"\",初期設定!$C$2)","v":""},""]
["00500","女",{"$f":"VLOOKUP(A11,初期設定!$B$20:$F$40,2,0)","v":"400m"},{"$f":"VLOOKUP(A11,初期設定!$B$20:$F$40,3,0)","v":"01T"},null,null,null,null,"","",{"$f":"IF(ISERROR(VLOOKUP(E11,女子選手!$B$5:$G$195,6,FALSE)),\"\",VLOOKUP(E11,女子選手!$B$5:$G$195,6,FALSE))","v":""},{"$f":"IF(K11=\"\",\"\",VLOOKUP(M11,学校番号!$A$3:$D$50,4,0))","v":""},{"$f":"IF(K11=\"\",\"\",初期設定!$C$2)","v":""},""]
["00500","女",{"$f":"VLOOKUP(A12,初期設定!$B$20:$F$40,2,0)","v":"400m"},{"$f":"VLOOKUP(A12,初期設定!$B$20:$F$40,3,0)","v":"01T"},null,null,null,null,"","",{"$f":"IF(ISERROR(VLOOKUP(E12,女子選手!$B$5:$G$195,6,FALSE)),\"\",VLOOKUP(E12,女子選手!$B$5:$G$195,6,FALSE))","v":""},{"$f":"IF(K12=\"\",\"\",VLOOKUP(M12,学校番号!$A$3:$D$50,4,0))","v":""},{"$f":"IF(K12=\"\",\"\",初期設定!$C$2)","v":""},""]
["00600","女",{"$f":"VLOOKUP(A13,初期設定!$B$20:$F$40,2,0)","v":"800m"},{"$f":"VLOOKUP(A13,初期設定!$B$20:$F$40,3,0)","v":"01T"},null,null,null,null,"","",{"$f":"IF(ISERROR(VLOOKUP(E13,女子選手!$B$5:$G$195,6,FALSE)),\"\",VLOOKUP(E13,女子選手!$B$5:$G$195,6,FALSE))","v":""},{"$f":"IF(K13=\"\",\"\",VLOOKUP(M13,学校番号!$A$3:$D$50,4,0))","v":""},{"$f":"IF(K13=\"\",\"\",初期設定!$C$2)","v":""},""]
["00600","女",{"$f":"VLOOKUP(A14,初期設定!$B$20:$F$40,2,0)","v":"800m"},{"$f":"VLOOKUP(A14,初期設定!$B$20:$F$40,3,0)","v":"01T"},null,null,null,null,"","",{"$f":"IF(ISERROR(VLOOKUP(E14,女子選手!$B$5:$G$195,6,FALSE)),\"\",VLOOKUP(E14,女子選手!$B$5:$G$195,6,FALSE))","v":""},{"$f":"IF(K14=\"\",\"\",VLOOKUP(M14,学校番号!$A$3:$D$50,4,0))","v":""},{"$f":"IF(K14=\"\",\"\",初期設定!$C$2)","v":""},""]
["00600","女",{"$f":"VLOOKUP(A15,初期設定!$B$20:$F$40,2,0)","v":"800m"},{"$f":"VLOOKUP(A15,初期設定!$B$20:$F$40,3,0)","v":"01T"},null,null,null,null,"","",{"$f":"IF(ISERROR(VLOOKUP(E15,女子選手!$B$5:$G$195,6,FALSE)),\"\",VLOOKUP(E15,女子選手!$B$5:$G$195,6,FALSE))","v":""},{"$f":"IF(K15=\"\",\"\",VLOOKUP(M15,学校番号!$A$3:$D$50,4,0))","v":""},{"$f":"IF(K15=\"\",\"\",初期設定!$C$2)","v":""},""]
["00800","女",{"$f":"VLOOKUP(A16,初期設定!$B$20:$F$40,2,0)","v":"1500m"},{"$f":"VLOOKUP(A16,初期設定!$B$20:$F$40,3,0)","v":"01T"},null,null,null,null,"","",{"$f":"IF(ISERROR(VLOOKUP(E16,女子選手!$B$5:$G$195,6,FALSE)),\"\",VLOOKUP(E16,女子選手!$B$5:$G$195,6,FALSE))","v":""},{"$f":"IF(K16=\"\",\"\",VLOOKUP(M16,学校番号!$A$3:$D$50,4,0))","v":""},{"$f":"IF(K16=\"\",\"\",初期設定!$C$2)","v":""},""]
["00800","女",{"$f":"VLOOKUP(A17,初期設定!$B$20:$F$40,2,0)","v":"1500m"},{"$f":"VLOOKUP(A17,初期設定!$B$20:$F$40,3,0)","v":"01T"},null,null,null,null,"","",{"$f":"IF(ISERROR(VLOOKUP(E17,女子選手!$B$5:$G$195,6,FALSE)),\"\",VLOOKUP(E17,女子選手!$B$5:$G$195,6,FALSE))","v":""},{"$f":"IF(K17=\"\",\"\",VLOOKUP(M17,学校番号!$A$3:$D$50,4,0))","v":""},{"$f":"IF(K17=\"\",\"\",初期設定!$C$2)","v":""},""]
["00800","女",{"$f":"VLOOKUP(A18,初期設定!$B$20:$F$40,2,0)","v":"1500m"},{"$f":"VLOOKUP(A18,初期設定!$B$20:$F$40,3,0)","v":"01T"},null,null,null,null,"","",{"$f":"IF(ISERROR(VLOOKUP(E18,女子選手!$B$5:$G$195,6,FALSE)),\"\",VLOOKUP(E18,女子選手!$B$5:$G$195,6,FALSE))","v":""},{"$f":"IF(K18=\"\",\"\",VLOOKUP(M18,学校番号!$A$3:$D$50,4,0))","v":""},{"$f":"IF(K18=\"\",\"\",初期設定!$C$2)","v":""},""]
["01000","女",{"$f":"VLOOKUP(A19,初期設定!$B$20:$F$40,2,0)","v":"3000m"},{"$f":"VLOOKUP(A19,初期設定!$B$20:$F$40,3,0)","v":"01T"},null,null,null,null,"","",{"$f":"IF(ISERROR(VLOOKUP(E19,女子選手!$B$5:$G$195,6,FALSE)),\"\",VLOOKUP(E19,女子選手!$B$5:$G$195,6,FALSE))","v":""},{"$f":"IF(K19=\"\",\"\",VLOOKUP(M19,学校番号!$A$3:$D$50,4,0))","v":""},{"$f":"IF(K19=\"\",\"\",初期設定!$C$2)","v":""},""]
["01000","女",{"$f":"VLOOKUP(A20,初期設定!$B$20:$F$40,2,0)","v":"3000m"},{"$f":"VLOOKUP(A20,初期設定!$B$20:$F$40,3,0)","v":"01T"},null,null,null,null,"","",{"$f":"IF(ISERROR(VLOOKUP(E20,女子選手!$B$5:$G$195,6,FALSE)),\"\",VLOOKUP(E20,女子選手!$B$5:$G$195,6,FALSE))","v":""},{"$f":"IF(K20=\"\",\"\",VLOOKUP(M20,学校番号!$A$3:$D$50,4,0))","v":""},{"$f":"IF(K20=\"\",\"\",初期設定!$C$2)","v":""},""]
["01000","女",{"$f":"VLOOKUP(A21,初期設定!$B$20:$F$40,2,0)","v":"3000m"},{"$f":"VLOOKUP(A21,初期設定!$B$20:$F$40,3,0)","v":"01T"},null,null,null,null,"","",{"$f":"IF(ISERROR(VLOOKUP(E21,女子選手!$B$5:$G$195,6,FALSE)),\"\",VLOOKUP(E21,女子選手!$B$5:$G$195,6,FALSE))","v":""},{"$f":"IF(K21=\"\",\"\",VLOOKUP(M21,学校番号!$A$3:$D$50,4,0))","v":""},{"$f":"IF(K21=\"\",\"\",初期設定!$C$2)","v":""},""]
["04400","女",{"$f":"VLOOKUP(A22,初期設定!$B$20:$F$40,2,0)","v":"100mH"},{"$f":"VLOOKUP(A22,初期設定!$B$20:$F$40,3,0)","v":"01T"},null,null,null,null,"","",{"$f":"IF(ISERROR(VLOOKUP(E22,女子選手!$B$5:$G$195,6,FALSE)),\"\",VLOOKUP(E22,女子選手!$B$5:$G$195,6,FALSE))","v":""},{"$f":"IF(K22=\"\",\"\",VLOOKUP(M22,学校番号!$A$3:$D$50,4,0))","v":""},{"$f":"IF(K22=\"\",\"\",初期設定!$C$2)","v":""},""]
["04400","女",{"$f":"VLOOKUP(A23,初期設定!$B$20:$F$40,2,0)","v":"100mH"},{"$f":"VLOOKUP(A23,初期設定!$B$20:$F$40,3,0)","v":"01T"},null,null,null,null,"","",{"$f":"IF(ISERROR(VLOOKUP(E23,女子選手!$B$5:$G$195,6,FALSE)),\"\",VLOOKUP(E23,女子選手!$B$5:$G$195,6,FALSE))","v":""},{"$f":"IF(K23=\"\",\"\",VLOOKUP(M23,学校番号!$A$3:$D$50,4,0))","v":""},{"$f":"IF(K23=\"\",\"\",初期設定!$C$2)","v":""},""]
["04400","女",{"$f":"VLOOKUP(A24,初期設定!$B$20:$F$40,2,0)","v":"100mH"},{"$f":"VLOOKUP(A24,初期設定!$B$20:$F$40,3,0)","v":"01T"},null,null,null,null,"","",{"$f":"IF(ISERROR(VLOOKUP(E24,女子選手!$B$5:$G$195,6,FALSE)),\"\",VLOOKUP(E24,女子選手!$B$5:$G$195,6,FALSE))","v":""},{"$f":"IF(K24=\"\",\"\",VLOOKUP(M24,学校番号!$A$3:$D$50,4,0))","v":""},{"$f":"IF(K24=\"\",\"\",初期設定!$C$2)","v":""},""]
["04600","女",{"$f":"VLOOKUP(A25,初期設定!$B$20:$F$40,2,0)","v":"400mH"},{"$f":"VLOOKUP(A25,初期設定!$B$20:$F$40,3,0)","v":"01T"},null,null,null,null,"","",{"$f":"IF(ISERROR(VLOOKUP(E25,女子選手!$B$5:$G$195,6,FALSE)),\"\",VLOOKUP(E25,女子選手!$B$5:$G$195,6,FALSE))","v":""},{"$f":"IF(K25=\"\",\"\",VLOOKUP(M25,学校番号!$A$3:$D$50,4,0))","v":""},{"$f":"IF(K25=\"\",\"\",初期設定!$C$2)","v":""},""]
["04600","女",{"$f":"VLOOKUP(A26,初期設定!$B$20:$F$40,2,0)","v":"400mH"},{"$f":"VLOOKUP(A26,初期設定!$B$20:$F$40,3,0)","v":"01T"},null,null,null,null,"","",{"$f":"IF(ISERROR(VLOOKUP(E26,女子選手!$B$5:$G$195,6,FALSE)),\"\",VLOOKUP(E26,女子選手!$B$5:$G$195,6,FALSE))","v":""},{"$f":"IF(K26=\"\",\"\",VLOOKUP(M26,学校番号!$A$3:$D$50,4,0))","v":""},{"$f":"IF(K26=\"\",\"\",初期設定!$C$2)","v":""},""]
["04600","女",{"$f":"VLOOKUP(A27,初期設定!$B$20:$F$40,2,0)","v":"400mH"},{"$f":"VLOOKUP(A27,初期設定!$B$20:$F$40,3,0)","v":"01T"},null,null,null,null,"","",{"$f":"IF(ISERROR(VLOOKUP(E27,女子選手!$B$5:$G$195,6,FALSE)),\"\",VLOOKUP(E27,女子選手!$B$5:$G$195,6,FALSE))","v":""},{"$f":"IF(K27=\"\",\"\",VLOOKUP(M27,学校番号!$A$3:$D$50,4,0))","v":""},{"$f":"IF(K27=\"\",\"\",初期設定!$C$2)","v":""},""]
["05300","女",null,{"$f":"VLOOKUP(A28,初期設定!$B$20:$F$40,3,0)","v":"01T"},null,null,null,null,"","",{"$f":"IF(ISERROR(VLOOKUP(E28,女子選手!$B$5:$G$195,6,FALSE)),\"\",VLOOKUP(E28,女子選手!$B$5:$G$195,6,FALSE))","v":""},{"$f":"IF(K28=\"\",\"\",VLOOKUP(M28,学校番号!$A$3:$D$50,4,0))","v":""},{"$f":"IF(K28=\"\",\"\",初期設定!$C$2)","v":""},""]
["05300","女",null,{"$f":"VLOOKUP(A29,初期設定!$B$20:$F$40,3,0)","v":"01T"},null,null,null,null,"","",{"$f":"IF(ISERROR(VLOOKUP(E29,女子選手!$B$5:$G$195,6,FALSE)),\"\",VLOOKUP(E29,女子選手!$B$5:$G$195,6,FALSE))","v":""},{"$f":"IF(K29=\"\",\"\",VLOOKUP(M29,学校番号!$A$3:$D$50,4,0))","v":""},{"$f":"IF(K29=\"\",\"\",初期設定!$C$2)","v":""},""]
["05300","女",null,{"$f":"VLOOKUP(A30,初期設定!$B$20:$F$40,3,0)","v":"01T"},null,null,null,null,"","",{"$f":"IF(ISERROR(VLOOKUP(E30,女子選手!$B$5:$G$195,6,FALSE)),\"\",VLOOKUP(E30,女子選手!$B$5:$G$195,6,FALSE))","v":""},{"$f":"IF(K30=\"\",\"\",VLOOKUP(M30,学校番号!$A$3:$D$50,4,0))","v":""},{"$f":"IF(K30=\"\",\"\",初期設定!$C$2)","v":""},""]
["06100","女",{"$f":"VLOOKUP(A31,初期設定!$B$20:$F$40,2,0)","v":"5000mW"},{"$f":"VLOOKUP(A31,初期設定!$B$20:$F$40,3,0)","v":"01T"},null,null,null,null,"","",{"$f":"IF(ISERROR(VLOOKUP(E31,女子選手!$B$5:$G$195,6,FALSE)),\"\",VLOOKUP(E31,女子選手!$B$5:$G$195,6,FALSE))","v":""},{"$f":"IF(K31=\"\",\"\",VLOOKUP(M31,学校番号!$A$3:$D$50,4,0))","v":""},{"$f":"IF(K31=\"\",\"\",初期設定!$C$2)","v":""},""]
["06100","女",{"$f":"VLOOKUP(A32,初期設定!$B$20:$F$40,2,0)","v":"5000mW"},{"$f":"VLOOKUP(A32,初期設定!$B$20:$F$40,3,0)","v":"01T"},null,null,null,null,"","",{"$f":"IF(ISERROR(VLOOKUP(E32,女子選手!$B$5:$G$195,6,FALSE)),\"\",VLOOKUP(E32,女子選手!$B$5:$G$195,6,FALSE))","v":""},{"$f":"IF(K32=\"\",\"\",VLOOKUP(M32,学校番号!$A$3:$D$50,4,0))","v":""},{"$f":"IF(K32=\"\",\"\",初期設定!$C$2)","v":""},""]
["06100","女",{"$f":"VLOOKUP(A33,初期設定!$B$20:$F$40,2,0)","v":"5000mW"},{"$f":"VLOOKUP(A33,初期設定!$B$20:$F$40,3,0)","v":"01T"},null,null,null,null,"","",{"$f":"IF(ISERROR(VLOOKUP(E33,女子選手!$B$5:$G$195,6,FALSE)),\"\",VLOOKUP(E33,女子選手!$B$5:$G$195,6,FALSE))","v":""},{"$f":"IF(K33=\"\",\"\",VLOOKUP(M33,学校番号!$A$3:$D$50,4,0))","v":""},{"$f":"IF(K33=\"\",\"\",初期設定!$C$2)","v":""},""]
["07100","女",{"$f":"VLOOKUP(A34,初期設定!$B$20:$F$40,2,0)","v":"走高跳"},{"$f":"VLOOKUP(A34,初期設定!$B$20:$F$40,3,0)","v":"02F"},null,null,null,null,"","",{"$f":"IF(ISERROR(VLOOKUP(E34,女子選手!$B$5:$G$195,6,FALSE)),\"\",VLOOKUP(E34,女子選手!$B$5:$G$195,6,FALSE))","v":""},{"$f":"IF(K34=\"\",\"\",VLOOKUP(M34,学校番号!$A$3:$D$50,4,0))","v":""},{"$f":"IF(K34=\"\",\"\",初期設定!$C$2)","v":""},""]
["07100","女",{"$f":"VLOOKUP(A35,初期設定!$B$20:$F$40,2,0)","v":"走高跳"},{"$f":"VLOOKUP(A35,初期設定!$B$20:$F$40,3,0)","v":"02F"},null,null,null,null,"","",{"$f":"IF(ISERROR(VLOOKUP(E35,女子選手!$B$5:$G$195,6,FALSE)),\"\",VLOOKUP(E35,女子選手!$B$5:$G$195,6,FALSE))","v":""},{"$f":"IF(K35=\"\",\"\",VLOOKUP(M35,学校番号!$A$3:$D$50,4,0))","v":""},{"$f":"IF(K35=\"\",\"\",初期設定!$C$2)","v":""},""]
["07100","女",{"$f":"VLOOKUP(A36,初期設定!$B$20:$F$40,2,0)","v":"走高跳"},{"$f":"VLOOKUP(A36,初期設定!$B$20:$F$40,3,0)","v":"02F"},null,null,null,null,{"$f":"IF(AND(F36=\"\",G36=\"\",H36=\"\"),\"\",IF(D36=\"01T\",IF(F36=\"\",G36&\"\"\"\"&H36,F36&\"'\"&G36&\"\"\"\"&H36),IF(D36=\"02F\",G36&\"m\"&H36,H36&\"点\")))","v":""},"",{"$f":"IF(ISERROR(VLOOKUP(E36,女子選手!$B$5:$G$195,6,FALSE)),\"\",VLOOKUP(E36,女子選手!$B$5:$G$195,6,FALSE))","v":""},{"$f":"IF(K36=\"\",\"\",VLOOKUP(M36,学校番号!$A$3:$D$50,4,0))","v":""},{"$f":"IF(K36=\"\",\"\",初期設定!$C$2)","v":""},""]
["07200","女",{"$f":"VLOOKUP(A37,初期設定!$B$20:$F$40,2,0)","v":"棒高跳"},{"$f":"VLOOKUP(A37,初期設定!$B$20:$F$40,3,0)","v":"02F"},null,null,null,null,"","",{"$f":"IF(ISERROR(VLOOKUP(E37,女子選手!$B$5:$G$195,6,FALSE)),\"\",VLOOKUP(E37,女子選手!$B$5:$G$195,6,FALSE))","v":""},{"$f":"IF(K37=\"\",\"\",VLOOKUP(M37,学校番号!$A$3:$D$50,4,0))","v":""},{"$f":"IF(K37=\"\",\"\",初期設定!$C$2)","v":""},""]
["07200","女",{"$f":"VLOOKUP(A38,初期設定!$B$20:$F$40,2,0)","v":"棒高跳"},{"$f":"VLOOKUP(A38,初期設定!$B$20:$F$40,3,0)","v":"02F"},null,null,null,null,"","",{"$f":"IF(ISERROR(VLOOKUP(E38,女子選手!$B$5:$G$195,6,FALSE)),\"\",VLOOKUP(E38,女子選手!$B$5:$G$195,6,FALSE))","v":""},{"$f":"IF(K38=\"\",\"\",VLOOKUP(M38,学校番号!$A$3:$D$50,4,0))","v":""},{"$f":"IF(K38=\"\",\"\",初期設定!$C$2)","v":""},""]
["07200","女",{"$f":"VLOOKUP(A39,初期設定!$B$20:$F$40,2,0)","v":"棒高跳"},{"$f":"VLOOKUP(A39,初期設定!$B$20:$F$40,3,0)","v":"02F"},null,null,null,null,"","",{"$f":"IF(ISERROR(VLOOKUP(E39,女子選手!$B$5:$G$195,6,FALSE)),\"\",VLOOKUP(E39,女子選手!$B$5:$G$195,6,FALSE))","v":""},{"$f":"IF(K39=\"\",\"\",VLOOKUP(M39,学校番号!$A$3:$D$50,4,0))","v":""},{"$f":"IF(K39=\"\",\"\",初期設定!$C$2)","v":""},""]
["07300","女",{"$f":"VLOOKUP(A40,初期設定!$B$20:$F$40,2,0)","v":"走幅跳"},{"$f":"VLOOKUP(A40,初期設定!$B$20:$F$40,3,0)","v":"02F"},null,null,null,null,"","",{"$f":"IF(ISERROR(VLOOKUP(E40,女子選手!$B$5:$G$195,6,FALSE)),\"\",VLOOKUP(E40,女子選手!$B$5:$G$195,6,FALSE))","v":""},{"$f":"IF(K40=\"\",\"\",VLOOKUP(M40,学校番号!$A$3:$D$50,4,0))","v":""},{"$f":"IF(K40=\"\",\"\",初期設定!$C$2)","v":""},""]
["07300","女",{"$f":"VLOOKUP(A41,初期設定!$B$20:$F$40,2,0)","v":"走幅跳"},{"$f":"VLOOKUP(A41,初期設定!$B$20:$F$40,3,0)","v":"02F"},null,null,null,null,"","",{"$f":"IF(ISERROR(VLOOKUP(E41,女子選手!$B$5:$G$195,6,FALSE)),\"\",VLOOKUP(E41,女子選手!$B$5:$G$195,6,FALSE))","v":""},{"$f":"IF(K41=\"\",\"\",VLOOKUP(M41,学校番号!$A$3:$D$50,4,0))","v":""},{"$f":"IF(K41=\"\",\"\",初期設定!$C$2)","v":""},""]
["07300","女",{"$f":"VLOOKUP(A42,初期設定!$B$20:$F$40,2,0)","v":"走幅跳"},{"$f":"VLOOKUP(A42,初期設定!$B$20:$F$40,3,0)","v":"02F"},null,null,null,null,"","",{"$f":"IF(ISERROR(VLOOKUP(E42,女子選手!$B$5:$G$195,6,FALSE)),\"\",VLOOKUP(E42,女子選手!$B$5:$G$195,6,FALSE))","v":""},{"$f":"IF(K42=\"\",\"\",VLOOKUP(M42,学校番号!$A$3:$D$50,4,0))","v":""},{"$f":"IF(K42=\"\",\"\",初期設定!$C$2)","v":""},""]
["07400","女",{"$f":"VLOOKUP(A43,初期設定!$B$20:$F$40,2,0)","v":"三段跳"},{"$f":"VLOOKUP(A43,初期設定!$B$20:$F$40,3,0)","v":"02F"},null,null,null,null,"","",{"$f":"IF(ISERROR(VLOOKUP(E43,女子選手!$B$5:$G$195,6,FALSE)),\"\",VLOOKUP(E43,女子選手!$B$5:$G$195,6,FALSE))","v":""},{"$f":"IF(K43=\"\",\"\",VLOOKUP(M43,学校番号!$A$3:$D$50,4,0))","v":""},{"$f":"IF(K43=\"\",\"\",初期設定!$C$2)","v":""},""]
["07400","女",{"$f":"VLOOKUP(A44,初期設定!$B$20:$F$40,2,0)","v":"三段跳"},{"$f":"VLOOKUP(A44,初期設定!$B$20:$F$40,3,0)","v":"02F"},null,null,null,null,"","",{"$f":"IF(ISERROR(VLOOKUP(E44,女子選手!$B$5:$G$195,6,FALSE)),\"\",VLOOKUP(E44,女子選手!$B$5:$G$195,6,FALSE))","v":""},{"$f":"IF(K44=\"\",\"\",VLOOKUP(M44,学校番号!$A$3:$D$50,4,0))","v":""},{"$f":"IF(K44=\"\",\"\",初期設定!$C$2)","v":""},""]
["07400","女",{"$f":"VLOOKUP(A45,初期設定!$B$20:$F$40,2,0)","v":"三段跳"},{"$f":"VLOOKUP(A45,初期設定!$B$20:$F$40,3,0)","v":"02F"},null,null,null,null,"","",{"$f":"IF(ISERROR(VLOOKUP(E45,女子選手!$B$5:$G$195,6,FALSE)),\"\",VLOOKUP(E45,女子選手!$B$5:$G$195,6,FALSE))","v":""},{"$f":"IF(K45=\"\",\"\",VLOOKUP(M45,学校番号!$A$3:$D$50,4,0))","v":""},{"$f":"IF(K45=\"\",\"\",初期設定!$C$2)","v":""},""]
["08400","女",{"$f":"VLOOKUP(A46,初期設定!$B$20:$F$40,2,0)","v":"砲丸投"},{"$f":"VLOOKUP(A46,初期設定!$B$20:$F$40,3,0)","v":"02F"},null,null,null,null,"","",{"$f":"IF(ISERROR(VLOOKUP(E46,女子選手!$B$5:$G$195,6,FALSE)),\"\",VLOOKUP(E46,女子選手!$B$5:$G$195,6,FALSE))","v":""},{"$f":"IF(K46=\"\",\"\",VLOOKUP(M46,学校番号!$A$3:$D$50,4,0))","v":""},{"$f":"IF(K46=\"\",\"\",初期設定!$C$2)","v":""},""]
["08400","女",{"$f":"VLOOKUP(A47,初期設定!$B$20:$F$40,2,0)","v":"砲丸投"},{"$f":"VLOOKUP(A47,初期設定!$B$20:$F$40,3,0)","v":"02F"},null,null,null,null,"","",{"$f":"IF(ISERROR(VLOOKUP(E47,女子選手!$B$5:$G$195,6,FALSE)),\"\",VLOOKUP(E47,女子選手!$B$5:$G$195,6,FALSE))","v":""},{"$f":"IF(K47=\"\",\"\",VLOOKUP(M47,学校番号!$A$3:$D$50,4,0))","v":""},{"$f":"IF(K47=\"\",\"\",初期設定!$C$2)","v":""},""]
["08400","女",{"$f":"VLOOKUP(A48,初期設定!$B$20:$F$40,2,0)","v":"砲丸投"},{"$f":"VLOOKUP(A48,初期設定!$B$20:$F$40,3,0)","v":"02F"},null,null,null,null,"","",{"$f":"IF(ISERROR(VLOOKUP(E48,女子選手!$B$5:$G$195,6,FALSE)),\"\",VLOOKUP(E48,女子選手!$B$5:$G$195,6,FALSE))","v":""},{"$f":"IF(K48=\"\",\"\",VLOOKUP(M48,学校番号!$A$3:$D$50,4,0))","v":""},{"$f":"IF(K48=\"\",\"\",初期設定!$C$2)","v":""},""]
["08800","女",{"$f":"VLOOKUP(A49,初期設定!$B$20:$F$40,2,0)","v":"円盤投"},{"$f":"VLOOKUP(A49,初期設定!$B$20:$F$40,3,0)","v":"02F"},null,null,null,null,"","",{"$f":"IF(ISERROR(VLOOKUP(E49,女子選手!$B$5:$G$195,6,FALSE)),\"\",VLOOKUP(E49,女子選手!$B$5:$G$195,6,FALSE))","v":""},{"$f":"IF(K49=\"\",\"\",VLOOKUP(M49,学校番号!$A$3:$D$50,4,0))","v":""},{"$f":"IF(K49=\"\",\"\",初期設定!$C$2)","v":""},""]
["08800","女",{"$f":"VLOOKUP(A50,初期設定!$B$20:$F$40,2,0)","v":"円盤投"},{"$f":"VLOOKUP(A50,初期設定!$B$20:$F$40,3,0)","v":"02F"},null,null,null,null,"","",{"$f":"IF(ISERROR(VLOOKUP(E50,女子選手!$B$5:$G$195,6,FALSE)),\"\",VLOOKUP(E50,女子選手!$B$5:$G$195,6,FALSE))","v":""},{"$f":"IF(K50=\"\",\"\",VLOOKUP(M50,学校番号!$A$3:$D$50,4,0))","v":""},{"$f":"IF(K50=\"\",\"\",初期設定!$C$2)","v":""},""]
["08800","女",{"$f":"VLOOKUP(A51,初期設定!$B$20:$F$40,2,0)","v":"円盤投"},{"$f":"VLOOKUP(A51,初期設定!$B$20:$F$40,3,0)","v":"02F"},null,null,null,null,"","",{"$f":"IF(ISERROR(VLOOKUP(E51,女子選手!$B$5:$G$195,6,FALSE)),\"\",VLOOKUP(E51,女子選手!$B$5:$G$195,6,FALSE))","v":""},{"$f":"IF(K51=\"\",\"\",VLOOKUP(M51,学校番号!$A$3:$D$50,4,0))","v":""},{"$f":"IF(K51=\"\",\"\",初期設定!$C$2)","v":""},""]
["09400","女",{"$f":"VLOOKUP(A52,初期設定!$B$20:$F$40,2,0)","v":"ﾊﾝﾏ-投"},{"$f":"VLOOKUP(A52,初期設定!$B$20:$F$40,3,0)","v":"02F"},null,null,null,null,"","",{"$f":"IF(ISERROR(VLOOKUP(E52,女子選手!$B$5:$G$195,6,FALSE)),\"\",VLOOKUP(E52,女子選手!$B$5:$G$195,6,FALSE))","v":""},{"$f":"IF(K52=\"\",\"\",VLOOKUP(M52,学校番号!$A$3:$D$50,4,0))","v":""},{"$f":"IF(K52=\"\",\"\",初期設定!$C$2)","v":""},""]
["09400","女",{"$f":"VLOOKUP(A53,初期設定!$B$20:$F$40,2,0)","v":"ﾊﾝﾏ-投"},{"$f":"VLOOKUP(A53,初期設定!$B$20:$F$40,3,0)","v":"02F"},null,null,null,null,"","",{"$f":"IF(ISERROR(VLOOKUP(E53,女子選手!$B$5:$G$195,6,FALSE)),\"\",VLOOKUP(E53,女子選手!$B$5:$G$195,6,FALSE))","v":""},{"$f":"IF(K53=\"\",\"\",VLOOKUP(M53,学校番号!$A$3:$D$50,4,0))","v":""},{"$f":"IF(K53=\"\",\"\",初期設定!$C$2)","v":""},""]
["09400","女",{"$f":"VLOOKUP(A54,初期設定!$B$20:$F$40,2,0)","v":"ﾊﾝﾏ-投"},{"$f":"VLOOKUP(A54,初期設定!$B$20:$F$40,3,0)","v":"02F"},null,null,null,null,"","",{"$f":"IF(ISERROR(VLOOKUP(E54,女子選手!$B$5:$G$195,6,FALSE)),\"\",VLOOKUP(E54,女子選手!$B$5:$G$195,6,FALSE))","v":""},{"$f":"IF(K54=\"\",\"\",VLOOKUP(M54,学校番号!$A$3:$D$50,4,0))","v":""},{"$f":"IF(K54=\"\",\"\",初期設定!$C$2)","v":""},""]
["09300","女",{"$f":"VLOOKUP(A55,初期設定!$B$20:$F$40,2,0)","v":"やり投"},{"$f":"VLOOKUP(A55,初期設定!$B$20:$F$40,3,0)","v":"02F"},null,null,null,null,"","",{"$f":"IF(ISERROR(VLOOKUP(E55,女子選手!$B$5:$G$195,6,FALSE)),\"\",VLOOKUP(E55,女子選手!$B$5:$G$195,6,FALSE))","v":""},{"$f":"IF(K55=\"\",\"\",VLOOKUP(M55,学校番号!$A$3:$D$50,4,0))","v":""},{"$f":"IF(K55=\"\",\"\",初期設定!$C$2)","v":""},""]
["09300","女",{"$f":"VLOOKUP(A56,初期設定!$B$20:$F$40,2,0)","v":"やり投"},{"$f":"VLOOKUP(A56,初期設定!$B$20:$F$40,3,0)","v":"02F"},null,null,null,null,"","",{"$f":"IF(ISERROR(VLOOKUP(E56,女子選手!$B$5:$G$195,6,FALSE)),\"\",VLOOKUP(E56,女子選手!$B$5:$G$195,6,FALSE))","v":""},{"$f":"IF(K56=\"\",\"\",VLOOKUP(M56,学校番号!$A$3:$D$50,4,0))","v":""},{"$f":"IF(K56=\"\",\"\",初期設定!$C$2)","v":""},""]
["09300","女",{"$f":"VLOOKUP(A57,初期設定!$B$20:$F$40,2,0)","v":"やり投"},{"$f":"VLOOKUP(A57,初期設定!$B$20:$F$40,3,0)","v":"02F"},null,null,null,null,"",{"$f":"IF(E57=\"\",\"\",E57)","v":""},{"$f":"IF(ISERROR(VLOOKUP(E57,女子選手!$B$5:$G$195,6,FALSE)),\"\",VLOOKUP(E57,女子選手!$B$5:$G$195,6,FALSE))","v":""},{"$f":"IF(K57=\"\",\"\",VLOOKUP(M57,学校番号!$A$3:$D$50,4,0))","v":""},{"$f":"IF(K57=\"\",\"\",初期設定!$C$2)","v":""},""]
["20200","女",{"$f":"VLOOKUP(A58,初期設定!$B$20:$F$40,2,0)","v":"7種競技"},{"$f":"VLOOKUP(A58,初期設定!$B$20:$F$40,3,0)","v":"03C"},null,null,null,null,{"$f":"IF(F58=\"\",\"\",F58&\"点\")","v":""},{"$f":"IF(E58=\"\",\"\",E58)","v":""},{"$f":"IF(ISERROR(VLOOKUP(E58,女子選手!$B$5:$G$195,6,FALSE)),\"\",VLOOKUP(E58,女子選手!$B$5:$G$195,6,FALSE))","v":""},{"$f":"IF(K58=\"\",\"\",VLOOKUP(M58,学校番号!$A$3:$D$50,4,0))","v":""},{"$f":"IF(K58=\"\",\"\",初期設定!$C$2)","v":""},""]
["20200","女",{"$f":"VLOOKUP(A59,初期設定!$B$20:$F$40,2,0)","v":"7種競技"},{"$f":"VLOOKUP(A59,初期設定!$B$20:$F$40,3,0)","v":"03C"},null,null,null,null,{"$f":"IF(F59=\"\",\"\",F59&\"点\")","v":""},{"$f":"IF(E59=\"\",\"\",E59)","v":""},{"$f":"IF(ISERROR(VLOOKUP(E59,女子選手!$B$5:$G$195,6,FALSE)),\"\",VLOOKUP(E59,女子選手!$B$5:$G$195,6,FALSE))","v":""},{"$f":"IF(K59=\"\",\"\",VLOOKUP(M59,学校番号!$A$3:$D$50,4,0))","v":""},{"$f":"IF(K59=\"\",\"\",初期設定!$C$2)","v":""},""]
["20200","女",{"$f":"VLOOKUP(A60,初期設定!$B$20:$F$40,2,0)","v":"7種競技"},{"$f":"VLOOKUP(A60,初期設定!$B$20:$F$40,3,0)","v":"03C"},null,null,null,null,{"$f":"IF(F60=\"\",\"\",F60&\"点\")","v":""},{"$f":"IF(E60=\"\",\"\",E60)","v":""},{"$f":"IF(ISERROR(VLOOKUP(E60,女子選手!$B$5:$G$195,6,FALSE)),\"\",VLOOKUP(E60,女子選手!$B$5:$G$195,6,FALSE))","v":""},{"$f":"IF(K60=\"\",\"\",VLOOKUP(M60,学校番号!$A$3:$D$50,4,0))","v":""},{"$f":"IF(K60=\"\",\"\",初期設定!$C$2)","v":""},""]
["60100","女","4x100R",{"$f":"VLOOKUP(A61,初期設定!$B$20:$F$40,3,0)","v":"01T"},null,null,null,null,{"$f":"IF(AND(F61=\"\",G61=\"\",H61=\"\"),\"\",IF(D61=\"01T\",IF(F61=\"\",G61&\"\"\"\"&H61,F61&\"'\"&G61&\"\"\"\"&H61),IF(D61=\"02F\",G61&\"m\"&H61,H61&\"点\")))","v":""},{"$f":"IF(E61=\"\",\"\",E61)","v":""},{"$f":"IF(ISERROR(VLOOKUP(E61,女子選手!$B$5:$G$195,6,FALSE)),\"\",VLOOKUP(E61,女子選手!$B$5:$G$195,6,FALSE))","v":""},{"$f":"IF(K61=\"\",\"\",VLOOKUP(M61,学校番号!$A$3:$D$50,4,0))","v":""},{"$f":"IF(K61=\"\",\"\",初期設定!$C$2)","v":""},""]
["60100","女","4x100R",{"$f":"VLOOKUP(A62,初期設定!$B$20:$F$40,3,0)","v":"01T"},null,null,null,null,"",{"$f":"IF(E62=\"\",\"\",E62)","v":""},{"$f":"IF(ISERROR(VLOOKUP(E62,女子選手!$B$5:$G$195,6,FALSE)),\"\",VLOOKUP(E62,女子選手!$B$5:$G$195,6,FALSE))","v":""},{"$f":"IF(K62=\"\",\"\",VLOOKUP(M62,学校番号!$A$3:$D$50,4,0))","v":""},{"$f":"IF(K62=\"\",\"\",初期設定!$C$2)","v":""}]
["60100","女","4x100R",{"$f":"VLOOKUP(A63,初期設定!$B$20:$F$40,3,0)","v":"01T"},null,null,null,null,"","",{"$f":"IF(ISERROR(VLOOKUP(E63,女子選手!$B$5:$G$195,6,FALSE)),\"\",VLOOKUP(E63,女子選手!$B$5:$G$195,6,FALSE))","v":""},{"$f":"IF(K63=\"\",\"\",VLOOKUP(M63,学校番号!$A$3:$D$50,4,0))","v":""},{"$f":"IF(K63=\"\",\"\",初期設定!$C$2)","v":""}]
["60100","女","4x100R",{"$f":"VLOOKUP(A64,初期設定!$B$20:$F$40,3,0)","v":"01T"},null,null,null,null,"","",{"$f":"IF(ISERROR(VLOOKUP(E64,女子選手!$B$5:$G$195,6,FALSE)),\"\",VLOOKUP(E64,女子選手!$B$5:$G$195,6,FALSE))","v":""},{"$f":"IF(K64=\"\",\"\",VLOOKUP(M64,学校番号!$A$3:$D$50,4,0))","v":""},{"$f":"IF(K64=\"\",\"\",初期設定!$C$2)","v":""}]
["60100","女","4x100R",{"$f":"VLOOKUP(A65,初期設定!$B$20:$F$40,3,0)","v":"01T"},null,null,null,null,"","",{"$f":"IF(ISERROR(VLOOKUP(E65,女子選手!$B$5:$G$195,6,FALSE)),\"\",VLOOKUP(E65,女子選手!$B$5:$G$195,6,FALSE))","v":""},{"$f":"IF(K65=\"\",\"\",VLOOKUP(M65,学校番号!$A$3:$D$50,4,0))","v":""},{"$f":"IF(K65=\"\",\"\",初期設定!$C$2)","v":""}]
["60100","女","4x100R",{"$f":"VLOOKUP(A66,初期設定!$B$20:$F$40,3,0)","v":"01T"},null,null,null,null,"","",{"$f":"IF(ISERROR(VLOOKUP(E66,女子選手!$B$5:$G$195,6,FALSE)),\"\",VLOOKUP(E66,女子選手!$B$5:$G$195,6,FALSE))","v":""},{"$f":"IF(K66=\"\",\"\",VLOOKUP(M66,学校番号!$A$3:$D$50,4,0))","v":""},{"$f":"IF(K66=\"\",\"\",初期設定!$C$2)","v":""}]
["60300","女","4x400R",{"$f":"VLOOKUP(A67,初期設定!$B$20:$F$40,3,0)","v":"01T"},null,null,null,null,"","",{"$f":"IF(ISERROR(VLOOKUP(E67,女子選手!$B$5:$G$195,6,FALSE)),\"\",VLOOKUP(E67,女子選手!$B$5:$G$195,6,FALSE))","v":""},{"$f":"IF(K67=\"\",\"\",VLOOKUP(M67,学校番号!$A$3:$D$50,4,0))","v":""},{"$f":"IF(K67=\"\",\"\",初期設定!$C$2)","v":""},""]
["60300","女","4x400R",{"$f":"VLOOKUP(A68,初期設定!$B$20:$F$40,3,0)","v":"01T"},null,null,null,null,"","",{"$f":"IF(ISERROR(VLOOKUP(E68,女子選手!$B$5:$G$195,6,FALSE)),\"\",VLOOKUP(E68,女子選手!$B$5:$G$195,6,FALSE))","v":""},{"$f":"IF(K68=\"\",\"\",VLOOKUP(M68,学校番号!$A$3:$D$50,4,0))","v":""},{"$f":"IF(K68=\"\",\"\",初期設定!$C$2)","v":""}]
["60300","女","4x400R",{"$f":"VLOOKUP(A69,初期設定!$B$20:$F$40,3,0)","v":"01T"},null,null,null,null,"","",{"$f":"IF(ISERROR(VLOOKUP(E69,女子選手!$B$5:$G$195,6,FALSE)),\"\",VLOOKUP(E69,女子選手!$B$5:$G$195,6,FALSE))","v":""},{"$f":"IF(K69=\"\",\"\",VLOOKUP(M69,学校番号!$A$3:$D$50,4,0))","v":""},{"$f":"IF(K69=\"\",\"\",初期設定!$C$2)","v":""}]
["60300","女","4x400R",{"$f":"VLOOKUP(A70,初期設定!$B$20:$F$40,3,0)","v":"01T"},null,null,null,null,"","",{"$f":"IF(ISERROR(VLOOKUP(E70,女子選手!$B$5:$G$195,6,FALSE)),\"\",VLOOKUP(E70,女子選手!$B$5:$G$195,6,FALSE))","v":""},{"$f":"IF(K70=\"\",\"\",VLOOKUP(M70,学校番号!$A$3:$D$50,4,0))","v":""},{"$f":"IF(K70=\"\",\"\",初期設定!$C$2)","v":""}]
["60300","女","4x400R",{"$f":"VLOOKUP(A71,初期設定!$B$20:$F$40,3,0)","v":"01T"},null,null,null,null,"","",{"$f":"IF(ISERROR(VLOOKUP(E71,女子選手!$B$5:$G$195,6,FALSE)),\"\",VLOOKUP(E71,女子選手!$B$5:$G$195,6,FALSE))","v":""},{"$f":"IF(K71=\"\",\"\",VLOOKUP(M71,学校番号!$A$3:$D$50,4,0))","v":""},{"$f":"IF(K71=\"\",\"\",初期設定!$C$2)","v":""}]
["60300","女","4x400R",{"$f":"VLOOKUP(A72,初期設定!$B$20:$F$40,3,0)","v":"01T"},null,null,null,null,"","",{"$f":"IF(ISERROR(VLOOKUP(E72,女子選手!$B$5:$G$195,6,FALSE)),\"\",VLOOKUP(E72,女子選手!$B$5:$G$195,6,FALSE))","v":""},{"$f":"IF(K72=\"\",\"\",VLOOKUP(M72,学校番号!$A$3:$D$50,4,0))","v":""},{"$f":"IF(K72=\"\",\"\",初期設定!$C$2)","v":""}]

{"sheet":"女子選手","index":2,"n_rows":103,"n_cols":7,"rows_kept":103,"cut":false,"hidden":false,"merged":[]}
[]
[]
[]
[{"$f":"VLOOKUP(初期設定!C2,学校番号!A3:D50,3,FALSE)","v":{"$error":"#N/A"}},"登録番号","名前","ﾌﾘｶﾞﾅ","学年","所属"]
[1,{"$f":"$A$4+A5","v":{"$error":"#N/A"}},{"$f":"IFERROR(VLOOKUP($B5,登録選手!$B$1:$D$1000,COLUMN()-1,FALSE),\"\")","v":""},{"$f":"IFERROR(VLOOKUP($B5,登録選手!$B$1:$D$1000,COLUMN()-1,FALSE),\"\")","v":""},{"$f":"RIGHT(C5)","v":""},{"$f":"VLOOKUP(初期設定!$C$2,学校番号!$A$3:$D$50,4,FALSE)","v":{"$error":"#N/A"}},{"$f":"C5","v":""}]
[2,{"$f":"$A$4+A6","v":{"$error":"#N/A"}},{"$f":"IFERROR(VLOOKUP($B6,登録選手!$B$1:$D$1000,COLUMN()-1,FALSE),\"\")","v":""},{"$f":"IFERROR(VLOOKUP($B6,登録選手!$B$1:$D$1000,COLUMN()-1,FALSE),\"\")","v":""},{"$f":"RIGHT(C6)","v":""},{"$f":"VLOOKUP(初期設定!$C$2,学校番号!$A$3:$D$50,4,FALSE)","v":{"$error":"#N/A"}},{"$f":"C6","v":""}]
[3,{"$error":"#N/A"},{"$f":"IFERROR(VLOOKUP($B7,登録選手!$B$1:$D$1000,COLUMN()-1,FALSE),\"\")","v":""},{"$f":"IFERROR(VLOOKUP($B7,登録選手!$B$1:$D$1000,COLUMN()-1,FALSE),\"\")","v":""},"",{"$f":"VLOOKUP(初期設定!$C$2,学校番号!$A$3:$D$50,4,FALSE)","v":{"$error":"#N/A"}},""]
[4,{"$error":"#N/A"},{"$f":"IFERROR(VLOOKUP($B8,登録選手!$B$1:$D$1000,COLUMN()-1,FALSE),\"\")","v":""},{"$f":"IFERROR(VLOOKUP($B8,登録選手!$B$1:$D$1000,COLUMN()-1,FALSE),\"\")","v":""},"",{"$f":"VLOOKUP(初期設定!$C$2,学校番号!$A$3:$D$50,4,FALSE)","v":{"$error":"#N/A"}},""]
[5,{"$error":"#N/A"},{"$f":"IFERROR(VLOOKUP($B9,登録選手!$B$1:$D$1000,COLUMN()-1,FALSE),\"\")","v":""},{"$f":"IFERROR(VLOOKUP($B9,登録選手!$B$1:$D$1000,COLUMN()-1,FALSE),\"\")","v":""},"",{"$f":"VLOOKUP(初期設定!$C$2,学校番号!$A$3:$D$50,4,FALSE)","v":{"$error":"#N/A"}},""]
[6,{"$error":"#N/A"},{"$f":"IFERROR(VLOOKUP($B10,登録選手!$B$1:$D$1000,COLUMN()-1,FALSE),\"\")","v":""},{"$f":"IFERROR(VLOOKUP($B10,登録選手!$B$1:$D$1000,COLUMN()-1,FALSE),\"\")","v":""},"",{"$f":"VLOOKUP(初期設定!$C$2,学校番号!$A$3:$D$50,4,FALSE)","v":{"$error":"#N/A"}},""]
[7,{"$error":"#N/A"},{"$f":"IFERROR(VLOOKUP($B11,登録選手!$B$1:$D$1000,COLUMN()-1,FALSE),\"\")","v":""},{"$f":"IFERROR(VLOOKUP($B11,登録選手!$B$1:$D$1000,COLUMN()-1,FALSE),\"\")","v":""},"",{"$f":"VLOOKUP(初期設定!$C$2,学校番号!$A$3:$D$50,4,FALSE)","v":{"$error":"#N/A"}},""]
[8,{"$error":"#N/A"},{"$f":"IFERROR(VLOOKUP($B12,登録選手!$B$1:$D$1000,COLUMN()-1,FALSE),\"\")","v":""},{"$f":"IFERROR(VLOOKUP($B12,登録選手!$B$1:$D$1000,COLUMN()-1,FALSE),\"\")","v":""},"",{"$f":"VLOOKUP(初期設定!$C$2,学校番号!$A$3:$D$50,4,FALSE)","v":{"$error":"#N/A"}},""]
[9,{"$error":"#N/A"},{"$f":"IFERROR(VLOOKUP($B13,登録選手!$B$1:$D$1000,COLUMN()-1,FALSE),\"\")","v":""},{"$f":"IFERROR(VLOOKUP($B13,登録選手!$B$1:$D$1000,COLUMN()-1,FALSE),\"\")","v":""},"",{"$f":"VLOOKUP(初期設定!$C$2,学校番号!$A$3:$D$50,4,FALSE)","v":{"$error":"#N/A"}},""]
[10,{"$error":"#N/A"},{"$f":"IFERROR(VLOOKUP($B14,登録選手!$B$1:$D$1000,COLUMN()-1,FALSE),\"\")","v":""},{"$f":"IFERROR(VLOOKUP($B14,登録選手!$B$1:$D$1000,COLUMN()-1,FALSE),\"\")","v":""},"",{"$f":"VLOOKUP(初期設定!$C$2,学校番号!$A$3:$D$50,4,FALSE)","v":{"$error":"#N/A"}},""]
[11,{"$error":"#N/A"},{"$f":"IFERROR(VLOOKUP($B15,登録選手!$B$1:$D$1000,COLUMN()-1,FALSE),\"\")","v":""},{"$f":"IFERROR(VLOOKUP($B15,登録選手!$B$1:$D$1000,COLUMN()-1,FALSE),\"\")","v":""},"",{"$f":"VLOOKUP(初期設定!$C$2,学校番号!$A$3:$D$50,4,FALSE)","v":{"$error":"#N/A"}},""]
[12,{"$error":"#N/A"},{"$f":"IFERROR(VLOOKUP($B16,登録選手!$B$1:$D$1000,COLUMN()-1,FALSE),\"\")","v":""},{"$f":"IFERROR(VLOOKUP($B16,登録選手!$B$1:$D$1000,COLUMN()-1,FALSE),\"\")","v":""},"",{"$f":"VLOOKUP(初期設定!$C$2,学校番号!$A$3:$D$50,4,FALSE)","v":{"$error":"#N/A"}},""]
[13,{"$error":"#N/A"},{"$f":"IFERROR(VLOOKUP($B17,登録選手!$B$1:$D$1000,COLUMN()-1,FALSE),\"\")","v":""},{"$f":"IFERROR(VLOOKUP($B17,登録選手!$B$1:$D$1000,COLUMN()-1,FALSE),\"\")","v":""},"",{"$f":"VLOOKUP(初期設定!$C$2,学校番号!$A$3:$D$50,4,FALSE)","v":{"$error":"#N/A"}},""]
[14,{"$error":"#N/A"},{"$f":"IFERROR(VLOOKUP($B18,登録選手!$B$1:$D$1000,COLUMN()-1,FALSE),\"\")","v":""},{"$f":"IFERROR(VLOOKUP($B18,登録選手!$B$1:$D$1000,COLUMN()-1,FALSE),\"\")","v":""},"",{"$f":"VLOOKUP(初期設定!$C$2,学校番号!$A$3:$D$50,4,FALSE)","v":{"$error":"#N/A"}},""]
[15,{"$error":"#N/A"},{"$f":"IFERROR(VLOOKUP($B19,登録選手!$B$1:$D$1000,COLUMN()-1,FALSE),\"\")","v":""},{"$f":"IFERROR(VLOOKUP($B19,登録選手!$B$1:$D$1000,COLUMN()-1,FALSE),\"\")","v":""},"",{"$f":"VLOOKUP(初期設定!$C$2,学校番号!$A$3:$D$50,4,FALSE)","v":{"$error":"#N/A"}},""]
[16,{"$error":"#N/A"},{"$f":"IFERROR(VLOOKUP($B20,登録選手!$B$1:$D$1000,COLUMN()-1,FALSE),\"\")","v":""},{"$f":"IFERROR(VLOOKUP($B20,登録選手!$B$1:$D$1000,COLUMN()-1,FALSE),\"\")","v":""},"",{"$f":"VLOOKUP(初期設定!$C$2,学校番号!$A$3:$D$50,4,FALSE)","v":{"$error":"#N/A"}},""]
[17,{"$error":"#N/A"},{"$f":"IFERROR(VLOOKUP($B21,登録選手!$B$1:$D$1000,COLUMN()-1,FALSE),\"\")","v":""},{"$f":"IFERROR(VLOOKUP($B21,登録選手!$B$1:$D$1000,COLUMN()-1,FALSE),\"\")","v":""},"",{"$f":"VLOOKUP(初期設定!$C$2,学校番号!$A$3:$D$50,4,FALSE)","v":{"$error":"#N/A"}},""]
[18,{"$error":"#N/A"},{"$f":"IFERROR(VLOOKUP($B22,登録選手!$B$1:$D$1000,COLUMN()-1,FALSE),\"\")","v":""},{"$f":"IFERROR(VLOOKUP($B22,登録選手!$B$1:$D$1000,COLUMN()-1,FALSE),\"\")","v":""},"",{"$f":"VLOOKUP(初期設定!$C$2,学校番号!$A$3:$D$50,4,FALSE)","v":{"$error":"#N/A"}},""]
[19,{"$error":"#N/A"},{"$f":"IFERROR(VLOOKUP($B23,登録選手!$B$1:$D$1000,COLUMN()-1,FALSE),\"\")","v":""},{"$f":"IFERROR(VLOOKUP($B23,登録選手!$B$1:$D$1000,COLUMN()-1,FALSE),\"\")","v":""},"",{"$f":"VLOOKUP(初期設定!$C$2,学校番号!$A$3:$D$50,4,FALSE)","v":{"$error":"#N/A"}},""]
[20,{"$error":"#N/A"},{"$f":"IFERROR(VLOOKUP($B24,登録選手!$B$1:$D$1000,COLUMN()-1,FALSE),\"\")","v":""},{"$f":"IFERROR(VLOOKUP($B24,登録選手!$B$1:$D$1000,COLUMN()-1,FALSE),\"\")","v":""},"",{"$f":"VLOOKUP(初期設定!$C$2,学校番号!$A$3:$D$50,4,FALSE)","v":{"$error":"#N/A"}},""]
[21,{"$error":"#N/A"},{"$f":"IFERROR(VLOOKUP($B25,登録選手!$B$1:$D$1000,COLUMN()-1,FALSE),\"\")","v":""},{"$f":"IFERROR(VLOOKUP($B25,登録選手!$B$1:$D$1000,COLUMN()-1,FALSE),\"\")","v":""},{"$f":"RIGHT(C25)","v":""},{"$f":"VLOOKUP(初期設定!$C$2,学校番号!$A$3:$D$50,4,FALSE)","v":{"$error":"#N/A"}},""]
[22,{"$error":"#N/A"},{"$f":"IFERROR(VLOOKUP($B26,登録選手!$B$1:$D$1000,COLUMN()-1,FALSE),\"\")","v":""},{"$f":"IFERROR(VLOOKUP($B26,登録選手!$B$1:$D$1000,COLUMN()-1,FALSE),\"\")","v":""},"",{"$f":"VLOOKUP(初期設定!$C$2,学校番号!$A$3:$D$50,4,FALSE)","v":{"$error":"#N/A"}},""]
[23,{"$error":"#N/A"},{"$f":"IFERROR(VLOOKUP($B27,登録選手!$B$1:$D$1000,COLUMN()-1,FALSE),\"\")","v":""},{"$f":"IFERROR(VLOOKUP($B27,登録選手!$B$1:$D$1000,COLUMN()-1,FALSE),\"\")","v":""},"",{"$f":"VLOOKUP(初期設定!$C$2,学校番号!$A$3:$D$50,4,FALSE)","v":{"$error":"#N/A"}},""]
[24,{"$error":"#N/A"},{"$f":"IFERROR(VLOOKUP($B28,登録選手!$B$1:$D$1000,COLUMN()-1,FALSE),\"\")","v":""},{"$f":"IFERROR(VLOOKUP($B28,登録選手!$B$1:$D$1000,COLUMN()-1,FALSE),\"\")","v":""},"",{"$f":"VLOOKUP(初期設定!$C$2,学校番号!$A$3:$D$50,4,FALSE)","v":{"$error":"#N/A"}},""]
[25,{"$error":"#N/A"},{"$f":"IFERROR(VLOOKUP($B29,登録選手!$B$1:$D$1000,COLUMN()-1,FALSE),\"\")","v":""},{"$f":"IFERROR(VLOOKUP($B29,登録選手!$B$1:$D$1000,COLUMN()-1,FALSE),\"\")","v":""},"",{"$f":"VLOOKUP(初期設定!$C$2,学校番号!$A$3:$D$50,4,FALSE)","v":{"$error":"#N/A"}},""]
[26,{"$error":"#N/A"},{"$f":"IFERROR(VLOOKUP($B30,登録選手!$B$1:$D$1000,COLUMN()-1,FALSE),\"\")","v":""},{"$f":"IFERROR(VLOOKUP($B30,登録選手!$B$1:$D$1000,COLUMN()-1,FALSE),\"\")","v":""},"",{"$f":"VLOOKUP(初期設定!$C$2,学校番号!$A$3:$D$50,4,FALSE)","v":{"$error":"#N/A"}},""]
[27,{"$error":"#N/A"},{"$f":"IFERROR(VLOOKUP($B31,登録選手!$B$1:$D$1000,COLUMN()-1,FALSE),\"\")","v":""},{"$f":"IFERROR(VLOOKUP($B31,登録選手!$B$1:$D$1000,COLUMN()-1,FALSE),\"\")","v":""},"",{"$f":"VLOOKUP(初期設定!$C$2,学校番号!$A$3:$D$50,4,FALSE)","v":{"$error":"#N/A"}},""]
[28,{"$error":"#N/A"},{"$f":"IFERROR(VLOOKUP($B32,登録選手!$B$1:$D$1000,COLUMN()-1,FALSE),\"\")","v":""},{"$f":"IFERROR(VLOOKUP($B32,登録選手!$B$1:$D$1000,COLUMN()-1,FALSE),\"\")","v":""},"",{"$f":"VLOOKUP(初期設定!$C$2,学校番号!$A$3:$D$50,4,FALSE)","v":{"$error":"#N/A"}},""]
[29,{"$error":"#N/A"},{"$f":"IFERROR(VLOOKUP($B33,登録選手!$B$1:$D$1000,COLUMN()-1,FALSE),\"\")","v":""},{"$f":"IFERROR(VLOOKUP($B33,登録選手!$B$1:$D$1000,COLUMN()-1,FALSE),\"\")","v":""},"",{"$f":"VLOOKUP(初期設定!$C$2,学校番号!$A$3:$D$50,4,FALSE)","v":{"$error":"#N/A"}},""]
[30,{"$error":"#N/A"},{"$f":"IFERROR(VLOOKUP($B34,登録選手!$B$1:$D$1000,COLUMN()-1,FALSE),\"\")","v":""},{"$f":"IFERROR(VLOOKUP($B34,登録選手!$B$1:$D$1000,COLUMN()-1,FALSE),\"\")","v":""},"",{"$f":"VLOOKUP(初期設定!$C$2,学校番号!$A$3:$D$50,4,FALSE)","v":{"$error":"#N/A"}},""]
[31,{"$error":"#N/A"},{"$f":"IFERROR(VLOOKUP($B35,登録選手!$B$1:$D$1000,COLUMN()-1,FALSE),\"\")","v":""},{"$f":"IFERROR(VLOOKUP($B35,登録選手!$B$1:$D$1000,COLUMN()-1,FALSE),\"\")","v":""},"",{"$f":"VLOOKUP(初期設定!$C$2,学校番号!$A$3:$D$50,4,FALSE)","v":{"$error":"#N/A"}},""]
[32,{"$error":"#N/A"},{"$f":"IFERROR(VLOOKUP($B36,登録選手!$B$1:$D$1000,COLUMN()-1,FALSE),\"\")","v":""},{"$f":"IFERROR(VLOOKUP($B36,登録選手!$B$1:$D$1000,COLUMN()-1,FALSE),\"\")","v":""},"",{"$f":"VLOOKUP(初期設定!$C$2,学校番号!$A$3:$D$50,4,FALSE)","v":{"$error":"#N/A"}},""]
[33,{"$error":"#N/A"},{"$f":"IFERROR(VLOOKUP($B37,登録選手!$B$1:$D$1000,COLUMN()-1,FALSE),\"\")","v":""},{"$f":"IFERROR(VLOOKUP($B37,登録選手!$B$1:$D$1000,COLUMN()-1,FALSE),\"\")","v":""},"",{"$f":"VLOOKUP(初期設定!$C$2,学校番号!$A$3:$D$50,4,FALSE)","v":{"$error":"#N/A"}},""]
[34,{"$error":"#N/A"},{"$f":"IFERROR(VLOOKUP($B38,登録選手!$B$1:$D$1000,COLUMN()-1,FALSE),\"\")","v":""},{"$f":"IFERROR(VLOOKUP($B38,登録選手!$B$1:$D$1000,COLUMN()-1,FALSE),\"\")","v":""},"",{"$f":"VLOOKUP(初期設定!$C$2,学校番号!$A$3:$D$50,4,FALSE)","v":{"$error":"#N/A"}},""]
[35,{"$error":"#N/A"},{"$f":"IFERROR(VLOOKUP($B39,登録選手!$B$1:$D$1000,COLUMN()-1,FALSE),\"\")","v":""},{"$f":"IFERROR(VLOOKUP($B39,登録選手!$B$1:$D$1000,COLUMN()-1,FALSE),\"\")","v":""},"",{"$f":"VLOOKUP(初期設定!$C$2,学校番号!$A$3:$D$50,4,FALSE)","v":{"$error":"#N/A"}},""]
[36,{"$error":"#N/A"},{"$f":"IFERROR(VLOOKUP($B40,登録選手!$B$1:$D$1000,COLUMN()-1,FALSE),\"\")","v":""},{"$f":"IFERROR(VLOOKUP($B40,登録選手!$B$1:$D$1000,COLUMN()-1,FALSE),\"\")","v":""},"",{"$f":"VLOOKUP(初期設定!$C$2,学校番号!$A$3:$D$50,4,FALSE)","v":{"$error":"#N/A"}},""]
[37,{"$error":"#N/A"},{"$f":"IFERROR(VLOOKUP($B41,登録選手!$B$1:$D$1000,COLUMN()-1,FALSE),\"\")","v":""},{"$f":"IFERROR(VLOOKUP($B41,登録選手!$B$1:$D$1000,COLUMN()-1,FALSE),\"\")","v":""},"",{"$f":"VLOOKUP(初期設定!$C$2,学校番号!$A$3:$D$50,4,FALSE)","v":{"$error":"#N/A"}},""]
[38,{"$error":"#N/A"},{"$f":"IFERROR(VLOOKUP($B42,登録選手!$B$1:$D$1000,COLUMN()-1,FALSE),\"\")","v":""},{"$f":"IFERROR(VLOOKUP($B42,登録選手!$B$1:$D$1000,COLUMN()-1,FALSE),\"\")","v":""},"",{"$f":"VLOOKUP(初期設定!$C$2,学校番号!$A$3:$D$50,4,FALSE)","v":{"$error":"#N/A"}},""]
[39,{"$error":"#N/A"},{"$f":"IFERROR(VLOOKUP($B43,登録選手!$B$1:$D$1000,COLUMN()-1,FALSE),\"\")","v":""},{"$f":"IFERROR(VLOOKUP($B43,登録選手!$B$1:$D$1000,COLUMN()-1,FALSE),\"\")","v":""},"",{"$f":"VLOOKUP(初期設定!$C$2,学校番号!$A$3:$D$50,4,FALSE)","v":{"$error":"#N/A"}},""]
[40,{"$error":"#N/A"},{"$f":"IFERROR(VLOOKUP($B44,登録選手!$B$1:$D$1000,COLUMN()-1,FALSE),\"\")","v":""},{"$f":"IFERROR(VLOOKUP($B44,登録選手!$B$1:$D$1000,COLUMN()-1,FALSE),\"\")","v":""},"",{"$f":"VLOOKUP(初期設定!$C$2,学校番号!$A$3:$D$50,4,FALSE)","v":{"$error":"#N/A"}},""]
[41,{"$error":"#N/A"},{"$f":"IFERROR(VLOOKUP($B45,登録選手!$B$1:$D$1000,COLUMN()-1,FALSE),\"\")","v":""},{"$f":"IFERROR(VLOOKUP($B45,登録選手!$B$1:$D$1000,COLUMN()-1,FALSE),\"\")","v":""},"",{"$f":"VLOOKUP(初期設定!$C$2,学校番号!$A$3:$D$50,4,FALSE)","v":{"$error":"#N/A"}},""]
[42,{"$error":"#N/A"},{"$f":"IFERROR(VLOOKUP($B46,登録選手!$B$1:$D$1000,COLUMN()-1,FALSE),\"\")","v":""},{"$f":"IFERROR(VLOOKUP($B46,登録選手!$B$1:$D$1000,COLUMN()-1,FALSE),\"\")","v":""},"",{"$f":"VLOOKUP(初期設定!$C$2,学校番号!$A$3:$D$50,4,FALSE)","v":{"$error":"#N/A"}},""]
[43,{"$error":"#N/A"},{"$f":"IFERROR(VLOOKUP($B47,登録選手!$B$1:$D$1000,COLUMN()-1,FALSE),\"\")","v":""},{"$f":"IFERROR(VLOOKUP($B47,登録選手!$B$1:$D$1000,COLUMN()-1,FALSE),\"\")","v":""},"",{"$f":"VLOOKUP(初期設定!$C$2,学校番号!$A$3:$D$50,4,FALSE)","v":{"$error":"#N/A"}},""]
[44,{"$error":"#N/A"},{"$f":"IFERROR(VLOOKUP($B48,登録選手!$B$1:$D$1000,COLUMN()-1,FALSE),\"\")","v":""},{"$f":"IFERROR(VLOOKUP($B48,登録選手!$B$1:$D$1000,COLUMN()-1,FALSE),\"\")","v":""},"",{"$f":"VLOOKUP(初期設定!$C$2,学校番号!$A$3:$D$50,4,FALSE)","v":{"$error":"#N/A"}},""]
[45,{"$error":"#N/A"},{"$f":"IFERROR(VLOOKUP($B49,登録選手!$B$1:$D$1000,COLUMN()-1,FALSE),\"\")","v":""},{"$f":"IFERROR(VLOOKUP($B49,登録選手!$B$1:$D$1000,COLUMN()-1,FALSE),\"\")","v":""},"",{"$f":"VLOOKUP(初期設定!$C$2,学校番号!$A$3:$D$50,4,FALSE)","v":{"$error":"#N/A"}},""]
[46,{"$error":"#N/A"},{"$f":"IFERROR(VLOOKUP($B50,登録選手!$B$1:$D$1000,COLUMN()-1,FALSE),\"\")","v":""},{"$f":"IFERROR(VLOOKUP($B50,登録選手!$B$1:$D$1000,COLUMN()-1,FALSE),\"\")","v":""},"",{"$f":"VLOOKUP(初期設定!$C$2,学校番号!$A$3:$D$50,4,FALSE)","v":{"$error":"#N/A"}},""]
[47,{"$error":"#N/A"},{"$f":"IFERROR(VLOOKUP($B51,登録選手!$B$1:$D$1000,COLUMN()-1,FALSE),\"\")","v":""},{"$f":"IFERROR(VLOOKUP($B51,登録選手!$B$1:$D$1000,COLUMN()-1,FALSE),\"\")","v":""},"",{"$f":"VLOOKUP(初期設定!$C$2,学校番号!$A$3:$D$50,4,FALSE)","v":{"$error":"#N/A"}},""]
[48,{"$error":"#N/A"},{"$f":"IFERROR(VLOOKUP($B52,登録選手!$B$1:$D$1000,COLUMN()-1,FALSE),\"\")","v":""},{"$f":"IFERROR(VLOOKUP($B52,登録選手!$B$1:$D$1000,COLUMN()-1,FALSE),\"\")","v":""},"",{"$f":"VLOOKUP(初期設定!$C$2,学校番号!$A$3:$D$50,4,FALSE)","v":{"$error":"#N/A"}},""]
[49,{"$error":"#N/A"},{"$f":"IFERROR(VLOOKUP($B53,登録選手!$B$1:$D$1000,COLUMN()-1,FALSE),\"\")","v":""},{"$f":"IFERROR(VLOOKUP($B53,登録選手!$B$1:$D$1000,COLUMN()-1,FALSE),\"\")","v":""},"",{"$f":"VLOOKUP(初期設定!$C$2,学校番号!$A$3:$D$50,4,FALSE)","v":{"$error":"#N/A"}},""]
[50,{"$error":"#N/A"},{"$f":"IFERROR(VLOOKUP($B54,登録選手!$B$1:$D$1000,COLUMN()-1,FALSE),\"\")","v":""},{"$f":"IFERROR(VLOOKUP($B54,登録選手!$B$1:$D$1000,COLUMN()-1,FALSE),\"\")","v":""},"",{"$f":"VLOOKUP(初期設定!$C$2,学校番号!$A$3:$D$50,4,FALSE)","v":{"$error":"#N/A"}},""]
[51,{"$error":"#N/A"},{"$f":"IFERROR(VLOOKUP($B55,登録選手!$B$1:$D$1000,COLUMN()-1,FALSE),\"\")","v":""},{"$f":"IFERROR(VLOOKUP($B55,登録選手!$B$1:$D$1000,COLUMN()-1,FALSE),\"\")","v":""},"",{"$f":"VLOOKUP(初期設定!$C$2,学校番号!$A$3:$D$50,4,FALSE)","v":{"$error":"#N/A"}},""]
[52,{"$error":"#N/A"},{"$f":"IFERROR(VLOOKUP($B56,登録選手!$B$1:$D$1000,COLUMN()-1,FALSE),\"\")","v":""},{"$f":"IFERROR(VLOOKUP($B56,登録選手!$B$1:$D$1000,COLUMN()-1,FALSE),\"\")","v":""},"",{"$f":"VLOOKUP(初期設定!$C$2,学校番号!$A$3:$D$50,4,FALSE)","v":{"$error":"#N/A"}},""]
[53,{"$error":"#N/A"},{"$f":"IFERROR(VLOOKUP($B57,登録選手!$B$1:$D$1000,COLUMN()-1,FALSE),\"\")","v":""},{"$f":"IFERROR(VLOOKUP($B57,登録選手!$B$1:$D$1000,COLUMN()-1,FALSE),\"\")","v":""},"",{"$f":"VLOOKUP(初期設定!$C$2,学校番号!$A$3:$D$50,4,FALSE)","v":{"$error":"#N/A"}},""]
[54,{"$error":"#N/A"},{"$f":"IFERROR(VLOOKUP($B58,登録選手!$B$1:$D$1000,COLUMN()-1,FALSE),\"\")","v":""},{"$f":"IFERROR(VLOOKUP($B58,登録選手!$B$1:$D$1000,COLUMN()-1,FALSE),\"\")","v":""},"",{"$f":"VLOOKUP(初期設定!$C$2,学校番号!$A$3:$D$50,4,FALSE)","v":{"$error":"#N/A"}},""]
[55,{"$error":"#N/A"},{"$f":"IFERROR(VLOOKUP($B59,登録選手!$B$1:$D$1000,COLUMN()-1,FALSE),\"\")","v":""},{"$f":"IFERROR(VLOOKUP($B59,登録選手!$B$1:$D$1000,COLUMN()-1,FALSE),\"\")","v":""},"",{"$f":"VLOOKUP(初期設定!$C$2,学校番号!$A$3:$D$50,4,FALSE)","v":{"$error":"#N/A"}},""]
[56,{"$error":"#N/A"},{"$f":"IFERROR(VLOOKUP($B60,登録選手!$B$1:$D$1000,COLUMN()-1,FALSE),\"\")","v":""},{"$f":"IFERROR(VLOOKUP($B60,登録選手!$B$1:$D$1000,COLUMN()-1,FALSE),\"\")","v":""},"",{"$f":"VLOOKUP(初期設定!$C$2,学校番号!$A$3:$D$50,4,FALSE)","v":{"$error":"#N/A"}},""]
[57,{"$error":"#N/A"},{"$f":"IFERROR(VLOOKUP($B61,登録選手!$B$1:$D$1000,COLUMN()-1,FALSE),\"\")","v":""},{"$f":"IFERROR(VLOOKUP($B61,登録選手!$B$1:$D$1000,COLUMN()-1,FALSE),\"\")","v":""},"",{"$f":"VLOOKUP(初期設定!$C$2,学校番号!$A$3:$D$50,4,FALSE)","v":{"$error":"#N/A"}},""]
[58,{"$error":"#N/A"},{"$f":"IFERROR(VLOOKUP($B62,登録選手!$B$1:$D$1000,COLUMN()-1,FALSE),\"\")","v":""},{"$f":"IFERROR(VLOOKUP($B62,登録選手!$B$1:$D$1000,COLUMN()-1,FALSE),\"\")","v":""},"",{"$f":"VLOOKUP(初期設定!$C$2,学校番号!$A$3:$D$50,4,FALSE)","v":{"$error":"#N/A"}},""]
[59,{"$error":"#N/A"},{"$f":"IFERROR(VLOOKUP($B63,登録選手!$B$1:$D$1000,COLUMN()-1,FALSE),\"\")","v":""},{"$f":"IFERROR(VLOOKUP($B63,登録選手!$B$1:$D$1000,COLUMN()-1,FALSE),\"\")","v":""},"",{"$f":"VLOOKUP(初期設定!$C$2,学校番号!$A$3:$D$50,4,FALSE)","v":{"$error":"#N/A"}},""]
[60,{"$error":"#N/A"},{"$f":"IFERROR(VLOOKUP($B64,登録選手!$B$1:$D$1000,COLUMN()-1,FALSE),\"\")","v":""},{"$f":"IFERROR(VLOOKUP($B64,登録選手!$B$1:$D$1000,COLUMN()-1,FALSE),\"\")","v":""},"",{"$f":"VLOOKUP(初期設定!$C$2,学校番号!$A$3:$D$50,4,FALSE)","v":{"$error":"#N/A"}},""]
[61,{"$error":"#N/A"},{"$f":"IFERROR(VLOOKUP($B65,登録選手!$B$1:$D$1000,COLUMN()-1,FALSE),\"\")","v":""},{"$f":"IFERROR(VLOOKUP($B65,登録選手!$B$1:$D$1000,COLUMN()-1,FALSE),\"\")","v":""},"",{"$f":"VLOOKUP(初期設定!$C$2,学校番号!$A$3:$D$50,4,FALSE)","v":{"$error":"#N/A"}},""]
[62,{"$error":"#N/A"},{"$f":"IFERROR(VLOOKUP($B66,登録選手!$B$1:$D$1000,COLUMN()-1,FALSE),\"\")","v":""},{"$f":"IFERROR(VLOOKUP($B66,登録選手!$B$1:$D$1000,COLUMN()-1,FALSE),\"\")","v":""},"",{"$f":"VLOOKUP(初期設定!$C$2,学校番号!$A$3:$D$50,4,FALSE)","v":{"$error":"#N/A"}},""]
[63,{"$error":"#N/A"},{"$f":"IFERROR(VLOOKUP($B67,登録選手!$B$1:$D$1000,COLUMN()-1,FALSE),\"\")","v":""},{"$f":"IFERROR(VLOOKUP($B67,登録選手!$B$1:$D$1000,COLUMN()-1,FALSE),\"\")","v":""},"",{"$f":"VLOOKUP(初期設定!$C$2,学校番号!$A$3:$D$50,4,FALSE)","v":{"$error":"#N/A"}},""]
[64,{"$error":"#N/A"},{"$f":"IFERROR(VLOOKUP($B68,登録選手!$B$1:$D$1000,COLUMN()-1,FALSE),\"\")","v":""},{"$f":"IFERROR(VLOOKUP($B68,登録選手!$B$1:$D$1000,COLUMN()-1,FALSE),\"\")","v":""},"",{"$f":"VLOOKUP(初期設定!$C$2,学校番号!$A$3:$D$50,4,FALSE)","v":{"$error":"#N/A"}},""]
[65,{"$error":"#N/A"},{"$f":"IFERROR(VLOOKUP($B69,登録選手!$B$1:$D$1000,COLUMN()-1,FALSE),\"\")","v":""},{"$f":"IFERROR(VLOOKUP($B69,登録選手!$B$1:$D$1000,COLUMN()-1,FALSE),\"\")","v":""},"",{"$f":"VLOOKUP(初期設定!$C$2,学校番号!$A$3:$D$50,4,FALSE)","v":{"$error":"#N/A"}},""]
[66,{"$f":"$A$4+A70","v":{"$error":"#N/A"}},{"$f":"IFERROR(VLOOKUP($B70,登録選手!$B$1:$D$1000,COLUMN()-1,FALSE),\"\")","v":""},{"$f":"IFERROR(VLOOKUP($B70,登録選手!$B$1:$D$1000,COLUMN()-1,FALSE),\"\")","v":""},{"$f":"RIGHT(C70)","v":""},{"$f":"VLOOKUP(初期設定!$C$2,学校番号!$A$3:$D$50,4,FALSE)","v":{"$error":"#N/A"}},{"$f":"C70","v":""}]
[67,{"$error":"#N/A"},{"$f":"IFERROR(VLOOKUP($B71,登録選手!$B$1:$D$1000,COLUMN()-1,FALSE),\"\")","v":""},{"$f":"IFERROR(VLOOKUP($B71,登録選手!$B$1:$D$1000,COLUMN()-1,FALSE),\"\")","v":""},"",{"$f":"VLOOKUP(初期設定!$C$2,学校番号!$A$3:$D$50,4,FALSE)","v":{"$error":"#N/A"}},""]
[68,{"$f":"$A$4+A72","v":{"$error":"#N/A"}},{"$f":"IFERROR(VLOOKUP($B72,登録選手!$B$1:$D$1000,COLUMN()-1,FALSE),\"\")","v":""},{"$f":"IFERROR(VLOOKUP($B72,登録選手!$B$1:$D$1000,COLUMN()-1,FALSE),\"\")","v":""},"",{"$f":"VLOOKUP(初期設定!$C$2,学校番号!$A$3:$D$50,4,FALSE)","v":{"$error":"#N/A"}},""]
[69,{"$error":"#N/A"},{"$f":"IFERROR(VLOOKUP($B73,登録選手!$B$1:$D$1000,COLUMN()-1,FALSE),\"\")","v":""},{"$f":"IFERROR(VLOOKUP($B73,登録選手!$B$1:$D$1000,COLUMN()-1,FALSE),\"\")","v":""},"",{"$f":"VLOOKUP(初期設定!$C$2,学校番号!$A$3:$D$50,4,FALSE)","v":{"$error":"#N/A"}},""]
[70,{"$error":"#N/A"},{"$f":"IFERROR(VLOOKUP($B74,登録選手!$B$1:$D$1000,COLUMN()-1,FALSE),\"\")","v":""},{"$f":"IFERROR(VLOOKUP($B74,登録選手!$B$1:$D$1000,COLUMN()-1,FALSE),\"\")","v":""},"",{"$f":"VLOOKUP(初期設定!$C$2,学校番号!$A$3:$D$50,4,FALSE)","v":{"$error":"#N/A"}},""]
[71,{"$error":"#N/A"},{"$f":"IFERROR(VLOOKUP($B75,登録選手!$B$1:$D$1000,COLUMN()-1,FALSE),\"\")","v":""},{"$f":"IFERROR(VLOOKUP($B75,登録選手!$B$1:$D$1000,COLUMN()-1,FALSE),\"\")","v":""},"",{"$f":"VLOOKUP(初期設定!$C$2,学校番号!$A$3:$D$50,4,FALSE)","v":{"$error":"#N/A"}},""]
[72,{"$error":"#N/A"},{"$f":"IFERROR(VLOOKUP($B76,登録選手!$B$1:$D$1000,COLUMN()-1,FALSE),\"\")","v":""},{"$f":"IFERROR(VLOOKUP($B76,登録選手!$B$1:$D$1000,COLUMN()-1,FALSE),\"\")","v":""},"",{"$f":"VLOOKUP(初期設定!$C$2,学校番号!$A$3:$D$50,4,FALSE)","v":{"$error":"#N/A"}},""]
[73,{"$error":"#N/A"},{"$f":"IFERROR(VLOOKUP($B77,登録選手!$B$1:$D$1000,COLUMN()-1,FALSE),\"\")","v":""},{"$f":"IFERROR(VLOOKUP($B77,登録選手!$B$1:$D$1000,COLUMN()-1,FALSE),\"\")","v":""},"",{"$f":"VLOOKUP(初期設定!$C$2,学校番号!$A$3:$D$50,4,FALSE)","v":{"$error":"#N/A"}},""]
[74,{"$error":"#N/A"},{"$f":"IFERROR(VLOOKUP($B78,登録選手!$B$1:$D$1000,COLUMN()-1,FALSE),\"\")","v":""},{"$f":"IFERROR(VLOOKUP($B78,登録選手!$B$1:$D$1000,COLUMN()-1,FALSE),\"\")","v":""},"",{"$f":"VLOOKUP(初期設定!$C$2,学校番号!$A$3:$D$50,4,FALSE)","v":{"$error":"#N/A"}},""]
[75,{"$error":"#N/A"},{"$f":"IFERROR(VLOOKUP($B79,登録選手!$B$1:$D$1000,COLUMN()-1,FALSE),\"\")","v":""},{"$f":"IFERROR(VLOOKUP($B79,登録選手!$B$1:$D$1000,COLUMN()-1,FALSE),\"\")","v":""},"",{"$f":"VLOOKUP(初期設定!$C$2,学校番号!$A$3:$D$50,4,FALSE)","v":{"$error":"#N/A"}},""]
[76,{"$error":"#N/A"},{"$f":"IFERROR(VLOOKUP($B80,登録選手!$B$1:$D$1000,COLUMN()-1,FALSE),\"\")","v":""},{"$f":"IFERROR(VLOOKUP($B80,登録選手!$B$1:$D$1000,COLUMN()-1,FALSE),\"\")","v":""},"",{"$f":"VLOOKUP(初期設定!$C$2,学校番号!$A$3:$D$50,4,FALSE)","v":{"$error":"#N/A"}},""]
[77,{"$error":"#N/A"},{"$f":"IFERROR(VLOOKUP($B81,登録選手!$B$1:$D$1000,COLUMN()-1,FALSE),\"\")","v":""},{"$f":"IFERROR(VLOOKUP($B81,登録選手!$B$1:$D$1000,COLUMN()-1,FALSE),\"\")","v":""},"",{"$f":"VLOOKUP(初期設定!$C$2,学校番号!$A$3:$D$50,4,FALSE)","v":{"$error":"#N/A"}},""]
[78,{"$error":"#N/A"},{"$f":"IFERROR(VLOOKUP($B82,登録選手!$B$1:$D$1000,COLUMN()-1,FALSE),\"\")","v":""},{"$f":"IFERROR(VLOOKUP($B82,登録選手!$B$1:$D$1000,COLUMN()-1,FALSE),\"\")","v":""},"",{"$f":"VLOOKUP(初期設定!$C$2,学校番号!$A$3:$D$50,4,FALSE)","v":{"$error":"#N/A"}},""]
[79,{"$error":"#N/A"},{"$f":"IFERROR(VLOOKUP($B83,登録選手!$B$1:$D$1000,COLUMN()-1,FALSE),\"\")","v":""},{"$f":"IFERROR(VLOOKUP($B83,登録選手!$B$1:$D$1000,COLUMN()-1,FALSE),\"\")","v":""},"",{"$f":"VLOOKUP(初期設定!$C$2,学校番号!$A$3:$D$50,4,FALSE)","v":{"$error":"#N/A"}},""]
[80,{"$error":"#N/A"},{"$f":"IFERROR(VLOOKUP($B84,登録選手!$B$1:$D$1000,COLUMN()-1,FALSE),\"\")","v":""},{"$f":"IFERROR(VLOOKUP($B84,登録選手!$B$1:$D$1000,COLUMN()-1,FALSE),\"\")","v":""},"",{"$f":"VLOOKUP(初期設定!$C$2,学校番号!$A$3:$D$50,4,FALSE)","v":{"$error":"#N/A"}},""]
[81,{"$error":"#N/A"},{"$f":"IFERROR(VLOOKUP($B85,登録選手!$B$1:$D$1000,COLUMN()-1,FALSE),\"\")","v":""},{"$f":"IFERROR(VLOOKUP($B85,登録選手!$B$1:$D$1000,COLUMN()-1,FALSE),\"\")","v":""},"",{"$f":"VLOOKUP(初期設定!$C$2,学校番号!$A$3:$D$50,4,FALSE)","v":{"$error":"#N/A"}},""]
[82,{"$error":"#N/A"},{"$f":"IFERROR(VLOOKUP($B86,登録選手!$B$1:$D$1000,COLUMN()-1,FALSE),\"\")","v":""},{"$f":"IFERROR(VLOOKUP($B86,登録選手!$B$1:$D$1000,COLUMN()-1,FALSE),\"\")","v":""},"",{"$f":"VLOOKUP(初期設定!$C$2,学校番号!$A$3:$D$50,4,FALSE)","v":{"$error":"#N/A"}},""]
[83,{"$error":"#N/A"},{"$f":"IFERROR(VLOOKUP($B87,登録選手!$B$1:$D$1000,COLUMN()-1,FALSE),\"\")","v":""},{"$f":"IFERROR(VLOOKUP($B87,登録選手!$B$1:$D$1000,COLUMN()-1,FALSE),\"\")","v":""},"",{"$f":"VLOOKUP(初期設定!$C$2,学校番号!$A$3:$D$50,4,FALSE)","v":{"$error":"#N/A"}},""]
[84,{"$error":"#N/A"},{"$f":"IFERROR(VLOOKUP($B88,登録選手!$B$1:$D$1000,COLUMN()-1,FALSE),\"\")","v":""},{"$f":"IFERROR(VLOOKUP($B88,登録選手!$B$1:$D$1000,COLUMN()-1,FALSE),\"\")","v":""},"",{"$f":"VLOOKUP(初期設定!$C$2,学校番号!$A$3:$D$50,4,FALSE)","v":{"$error":"#N/A"}},""]
[85,{"$error":"#N/A"},{"$f":"IFERROR(VLOOKUP($B89,登録選手!$B$1:$D$1000,COLUMN()-1,FALSE),\"\")","v":""},{"$f":"IFERROR(VLOOKUP($B89,登録選手!$B$1:$D$1000,COLUMN()-1,FALSE),\"\")","v":""},"",{"$f":"VLOOKUP(初期設定!$C$2,学校番号!$A$3:$D$50,4,FALSE)","v":{"$error":"#N/A"}},""]
[86,{"$error":"#N/A"},{"$f":"IFERROR(VLOOKUP($B90,登録選手!$B$1:$D$1000,COLUMN()-1,FALSE),\"\")","v":""},{"$f":"IFERROR(VLOOKUP($B90,登録選手!$B$1:$D$1000,COLUMN()-1,FALSE),\"\")","v":""},"",{"$f":"VLOOKUP(初期設定!$C$2,学校番号!$A$3:$D$50,4,FALSE)","v":{"$error":"#N/A"}},""]
[87,{"$error":"#N/A"},{"$f":"IFERROR(VLOOKUP($B91,登録選手!$B$1:$D$1000,COLUMN()-1,FALSE),\"\")","v":""},{"$f":"IFERROR(VLOOKUP($B91,登録選手!$B$1:$D$1000,COLUMN()-1,FALSE),\"\")","v":""},"",{"$f":"VLOOKUP(初期設定!$C$2,学校番号!$A$3:$D$50,4,FALSE)","v":{"$error":"#N/A"}},""]
[88,{"$error":"#N/A"},{"$f":"IFERROR(VLOOKUP($B92,登録選手!$B$1:$D$1000,COLUMN()-1,FALSE),\"\")","v":""},{"$f":"IFERROR(VLOOKUP($B92,登録選手!$B$1:$D$1000,COLUMN()-1,FALSE),\"\")","v":""},"",{"$f":"VLOOKUP(初期設定!$C$2,学校番号!$A$3:$D$50,4,FALSE)","v":{"$error":"#N/A"}},""]
[89,{"$error":"#N/A"},{"$f":"IFERROR(VLOOKUP($B93,登録選手!$B$1:$D$1000,COLUMN()-1,FALSE),\"\")","v":""},{"$f":"IFERROR(VLOOKUP($B93,登録選手!$B$1:$D$1000,COLUMN()-1,FALSE),\"\")","v":""},"",{"$f":"VLOOKUP(初期設定!$C$2,学校番号!$A$3:$D$50,4,FALSE)","v":{"$error":"#N/A"}},""]
[90,{"$error":"#N/A"},{"$f":"IFERROR(VLOOKUP($B94,登録選手!$B$1:$D$1000,COLUMN()-1,FALSE),\"\")","v":""},{"$f":"IFERROR(VLOOKUP($B94,登録選手!$B$1:$D$1000,COLUMN()-1,FALSE),\"\")","v":""},"",{"$f":"VLOOKUP(初期設定!$C$2,学校番号!$A$3:$D$50,4,FALSE)","v":{"$error":"#N/A"}},""]
[91,{"$error":"#N/A"},{"$f":"IFERROR(VLOOKUP($B95,登録選手!$B$1:$D$1000,COLUMN()-1,FALSE),\"\")","v":""},{"$f":"IFERROR(VLOOKUP($B95,登録選手!$B$1:$D$1000,COLUMN()-1,FALSE),\"\")","v":""},"",{"$f":"VLOOKUP(初期設定!$C$2,学校番号!$A$3:$D$50,4,FALSE)","v":{"$error":"#N/A"}},""]
[92,{"$error":"#N/A"},{"$f":"IFERROR(VLOOKUP($B96,登録選手!$B$1:$D$1000,COLUMN()-1,FALSE),\"\")","v":""},{"$f":"IFERROR(VLOOKUP($B96,登録選手!$B$1:$D$1000,COLUMN()-1,FALSE),\"\")","v":""},"",{"$f":"VLOOKUP(初期設定!$C$2,学校番号!$A$3:$D$50,4,FALSE)","v":{"$error":"#N/A"}},""]
[93,{"$error":"#N/A"},{"$f":"IFERROR(VLOOKUP($B97,登録選手!$B$1:$D$1000,COLUMN()-1,FALSE),\"\")","v":""},{"$f":"IFERROR(VLOOKUP($B97,登録選手!$B$1:$D$1000,COLUMN()-1,FALSE),\"\")","v":""},"",{"$f":"VLOOKUP(初期設定!$C$2,学校番号!$A$3:$D$50,4,FALSE)","v":{"$error":"#N/A"}},""]
[94,{"$error":"#N/A"},{"$f":"IFERROR(VLOOKUP($B98,登録選手!$B$1:$D$1000,COLUMN()-1,FALSE),\"\")","v":""},{"$f":"IFERROR(VLOOKUP($B98,登録選手!$B$1:$D$1000,COLUMN()-1,FALSE),\"\")","v":""},"",{"$f":"VLOOKUP(初期設定!$C$2,学校番号!$A$3:$D$50,4,FALSE)","v":{"$error":"#N/A"}},""]
[95,{"$error":"#N/A"},{"$f":"IFERROR(VLOOKUP($B99,登録選手!$B$1:$D$1000,COLUMN()-1,FALSE),\"\")","v":""},{"$f":"IFERROR(VLOOKUP($B99,登録選手!$B$1:$D$1000,COLUMN()-1,FALSE),\"\")","v":""},"",{"$f":"VLOOKUP(初期設定!$C$2,学校番号!$A$3:$D$50,4,FALSE)","v":{"$error":"#N/A"}},""]
[96,{"$error":"#N/A"},{"$f":"IFERROR(VLOOKUP($B100,登録選手!$B$1:$D$1000,COLUMN()-1,FALSE),\"\")","v":""},{"$f":"IFERROR(VLOOKUP($B100,登録選手!$B$1:$D$1000,COLUMN()-1,FALSE),\"\")","v":""},"",{"$f":"VLOOKUP(初期設定!$C$2,学校番号!$A$3:$D$50,4,FALSE)","v":{"$error":"#N/A"}},""]
[97,{"$error":"#N/A"},{"$f":"IFERROR(VLOOKUP($B101,登録選手!$B$1:$D$1000,COLUMN()-1,FALSE),\"\")","v":""},{"$f":"IFERROR(VLOOKUP($B101,登録選手!$B$1:$D$1000,COLUMN()-1,FALSE),\"\")","v":""},"",{"$f":"VLOOKUP(初期設定!$C$2,学校番号!$A$3:$D$50,4,FALSE)","v":{"$error":"#N/A"}},""]
[98,{"$error":"#N/A"},{"$f":"IFERROR(VLOOKUP($B102,登録選手!$B$1:$D$1000,COLUMN()-1,FALSE),\"\")","v":""},{"$f":"IFERROR(VLOOKUP($B102,登録選手!$B$1:$D$1000,COLUMN()-1,FALSE),\"\")","v":""},"",{"$f":"VLOOKUP(初期設定!$C$2,学校番号!$A$3:$D$50,4,FALSE)","v":{"$error":"#N/A"}},""]
[99,{"$error":"#N/A"},{"$f":"IFERROR(VLOOKUP($B103,登録選手!$B$1:$D$1000,COLUMN()-1,FALSE),\"\")","v":""},{"$f":"IFERROR(VLOOKUP($B103,登録選手!$B$1:$D$1000,COLUMN()-1,FALSE),\"\")","v":""},"",{"$f":"VLOOKUP(初期設定!$C$2,学校番号!$A$3:$D$50,4,FALSE)","v":{"$error":"#N/A"}},""]

{"sheet":"登録選手","index":3,"n_rows":530,"n_cols":9,"rows_kept":530,"cut":false,"hidden":false,"merged":[]}
[10,178,"廣岡  咲良(3)","ﾋﾛｵｶ ｻｸﾗ","県尼崎","女"]
[10,180,"堀    夏海(3)","ﾎﾘ ﾅﾂﾐ","県尼崎","女"]
[10,182,"藤田  優來(3)","ﾌｼﾞﾀ ﾕﾗ","県尼崎","女"]
[10,183,"高見  絢瞳(2)","ﾀｶﾐ ｱﾔﾒ","県尼崎","女"]
[10,185,"芝村  悠里(2)","ｼﾊﾞﾑﾗ ﾕｳﾘ","県尼崎","女"]
[10,186,"前田  栄愛(1)","ﾏｴﾀﾞ ｴﾅ","県尼崎","女"]
[10,243,"松村穂乃香(3)","ﾏﾂﾑﾗ ﾎﾉｶ","市尼崎","女"]
[10,244,"藺牟田夏穂(3)","ｲﾑﾀ ｶﾎ","市尼崎","女"]
[10,245,"青木  花梨(2)","ｱｵｷ ｶﾘﾝ","市尼崎","女"]
[10,246,"谷脇  穂香(2)","ﾀﾆﾜｷ ﾎﾉｶ","市尼崎","女"]
[10,247,"吉田  七海(2)","ﾖｼﾀﾞ ﾅﾅﾐ","市尼崎","女"]
[10,248,"永井    遼(2)","ﾅｶﾞｲ ﾊﾙｶ","市尼崎","女"]
[10,249,"中嶋  葵花(2)","ﾅｶｼﾞﾏ ｱｵｲ","市尼崎","女"]
[10,250,"浜木    梓(2)","ﾊﾏｷ ｱｽﾞｻ","市尼崎","女"]
[10,251,"田中  冬子(2)","ﾀﾅｶ ﾄｳｺ","市尼崎","女"]
[10,252,"竹内  凛和(2)","ﾀｹｳﾁ ﾘﾝﾅ","市尼崎","女"]
[10,253,"浅野  百子(2)","ｱｻﾉ ﾓﾓｺ","市尼崎","女"]
[10,254,"井上  綾乃(2)","ｲﾉｳｴ ｱﾔﾉ","市尼崎","女"]
[10,301,"平田  伊織(3)","ﾋﾗﾀ ｲｵﾘ","尼崎双星","女"]
[10,302,"井上りんか(3)","ｲﾉｳｴ ﾘﾝｶ","尼崎双星","女"]
[10,304,"岡部  沙和(3)","ｵｶﾍﾞ ｻﾜ","尼崎双星","女"]
[10,306,"秦    桃香(2)","ﾊﾀ ﾓﾓｶ","尼崎双星","女"]
[10,307,"川口紗稀音(2)","ｶﾜｸﾞﾁ ｻｷﾈ","尼崎双星","女"]
[10,310,"飯田  ゆあ(2)","ｲｲﾀﾞ ﾕｱ","尼崎双星","女"]
[10,311,"熊谷  なな(2)","ｸﾏｶﾞｲ ﾅﾅ","尼崎双星","女"]
[10,314,"若宮    麗(2)","ﾜｶﾐﾔ ｳﾗﾗ","尼崎双星","女"]
[10,317,"森岡  優衣(2)","ﾓﾘｵｶ ﾕｲ","尼崎双星","女"]
[10,318,"木村  智美(2)","ｷﾑﾗ ﾄﾓﾐ","尼崎双星","女"]
[10,398,"松下  來未(3)","ﾏﾂｼﾀ ﾕﾐ","尼崎双星","女"]
[10,399,"富永  芽唯(3)","ﾄﾐﾅｶﾞ ﾒｲ","尼崎双星","女"]
[10,466,"大久保美優(2)","ｵｵｸﾎﾞ ﾐﾕｳ","尼崎西","女"]
[10,467,"山下  果耶(2)","ﾔﾏｼﾀ ｶﾔ","尼崎西","女"]
[10,468,"大坂  珠梨(2)","ｵｵｻｶ ｼﾞｭﾘ","尼崎西","女"]
[10,469,"鈴木  心遥(2)","ｽｽﾞｷ ｺﾊﾙ","尼崎西","女"]
[10,470,"多衛野杏樹(2)","ﾀｴﾉ ｱﾝｼﾞｭ","尼崎西","女"]
[10,471,"田上  璃音(3)","ﾀﾉｳｴ ﾘﾉﾝ","尼崎西","女"]
[10,472,"紺谷  汐凪(3)","ｺﾝﾀﾆ ｾﾅ","尼崎西","女"]
[10,514,"乾    衣澄(3)","ｲﾇｲ ｲｽﾞﾐ","尼崎北","女"]
[10,515,"小川  桃子(3)","ｵｶﾞﾜ ﾄｳｺ","尼崎北","女"]
[10,516,"中野  一葉(3)","ﾅｶﾉ ｲﾁﾊ","尼崎北","女"]
[10,517,"廣瀬  未羽(3)","ﾋﾛｾ ﾐｳ","尼崎北","女"]
[10,518,"森本  真緒(2)","ﾓﾘﾓﾄ ﾏｵ","尼崎北","女"]
[10,519,"笠谷  瑠南(2)","ｶｻﾀﾆ ﾙﾅ","尼崎北","女"]
[10,520,"密本  彩乃(2)","ﾐﾂﾓﾄ ｱﾔﾉ","尼崎北","女"]
[10,646,"水野いろは(3)","ﾐｽﾞﾉ ｲﾛﾊ","尼崎稲園","女"]
[10,647,"佐野  晴菜(3)","ｻﾉ ﾊﾙﾅ","尼崎稲園","女"]
[10,648,"綿越  友唯(3)","ﾜﾀｺﾞｼ ﾕｲ","尼崎稲園","女"]
[10,649,"福本  夏帆(3)","ﾌｸﾓﾄ ｶﾎ","尼崎稲園","女"]
[10,650,"具志堅  凜(3)","ｸﾞｼｹﾝ ﾘﾝ","尼崎稲園","女"]
[10,651,"坂本美優菜(3)","ｻｶﾓﾄ ﾐﾕﾅ","尼崎稲園","女"]
[10,652,"重村  咲希(3)","ｼｹﾞﾑﾗ ｻｷ","尼崎稲園","女"]
[10,653,"福本  涼菜(3)","ﾌｸﾓﾄ ｽｽﾞﾅ","尼崎稲園","女"]
[10,654,"粂    咲子(2)","ｸﾒ ｻｷｺ","尼崎稲園","女"]
[10,655,"岡本  莉子(2)","ｵｶﾓﾄ ﾘｺ","尼崎稲園","女"]
[10,656,"松田  美和(2)","ﾏﾂﾀﾞ ﾐﾜ","尼崎稲園","女"]
[10,657,"上田  悠月(2)","ｳｴﾀﾞ ﾕﾂﾞｷ","尼崎稲園","女"]
[10,721,"松田    葵(3)","ﾏﾂﾀﾞ ｱｵｲ","尼崎小田","女"]
[10,722,"飯田  聖菜(3)","ｲｲﾀﾞ ｼｮｳﾅ","尼崎小田","女"]
[10,724,"山内  架音(2)","ﾔﾏｳﾁ ｶﾉﾝ","尼崎小田","女"]
[10,725,"須田  楓夏(2)","ｽﾀﾞ ﾌｳｶ","尼崎小田","女"]
[10,726,"祐永  姫那(2)","ｽｹﾅｶﾞ ﾋﾅ","尼崎小田","女"]
[10,727,"佐々木美月(2)","ｻｻｷ ﾐﾂﾞｷ","尼崎小田","女"]
[10,908,"池田  千里(3)","ｲｹﾀﾞ ﾁｻﾄ","武庫荘総合","女"]
[10,909,"内山  鈴理(3)","ｳﾁﾔﾏ ｽｽﾞﾘ","武庫荘総合","女"]
[10,910,"河野ひなた(3)","ｶﾜﾉ ﾋﾅﾀ","武庫荘総合","女"]
[10,911,"桐谷  結沙(3)","ｷﾘﾀﾆ ﾕｻ","武庫荘総合","女"]
[10,912,"冨士菜々子(3)","ﾌｼﾞ ﾅﾅｺ","武庫荘総合","女"]
[10,913,"中井  葉蕗(3)","ﾅｶｲ ﾊﾛ","武庫荘総合","女"]
[10,915,"後藤  由奈(2)","ｺﾞﾄｳ ﾕﾅ","武庫荘総合","女"]
[10,916,"平    美優(2)","ﾀｲﾗ ﾐﾕ","武庫荘総合","女"]
[10,917,"寺本  咲来(2)","ﾃﾗﾓﾄ ｻｸﾗ","武庫荘総合","女"]
[10,1201,"吉田  帆花(3)","ﾖｼﾀﾞ ﾎﾉｶ","園田","女"]
[10,1202,"村上  葵彩(3)","ﾑﾗｶﾐ ｱｵｲ","園田","女"]
[10,1203,"池上  嬉和(2)","ｲｹｶﾞﾐ ｷﾖﾘ","園田","女"]
[10,1204,"柿谷  沙奈(2)","ｶｷﾀﾆ ｼｲﾅ","園田","女"]
[10,1205,"佐藤  舞奈(2)","ｻﾄｳ ﾏﾅ","園田","女"]
[10,1206,"澤田  裕佳(2)","ｻﾜﾀﾞ ﾋﾛｶ","園田","女"]
[10,1207,"田村  佳菜(2)","ﾀﾑﾗ ｶﾅ","園田","女"]
[10,1208,"鳥居佑璃那(2)","ﾄﾘｲ ﾕﾘﾅ","園田","女"]
[10,1209,"本多    七(2)","ﾎﾝﾀﾞ ﾅﾂ","園田","女"]
[10,1210,"水田  彩花(2)","ﾐｽﾞﾀ ｱﾔｶ","園田","女"]
[10,1211,"山下  愛梨(2)","ﾔﾏｼﾀ ｱｲﾘ","園田","女"]
[10,1212,"谷    愛菜(2)","ﾀﾆ ｱｲﾅ","園田","女"]
[10,1213,"池田  妃那(1)","ｲｹﾀﾞ ﾋﾅ","園田","女"]
[10,1214,"大神  彩羽(1)","ｵｵｶﾞﾐ ｲﾛﾊ","園田","女"]
[10,1215,"大城  奏衣(1)","ｵｵｷﾞ ｿﾉｲ","園田","女"]
[10,1216,"亀岡きらな(1)","ｶﾒｵｶ ｷﾗﾅ","園田","女"]
[10,1217,"川見  瑠依(1)","ｶﾜﾐ ﾙｲ","園田","女"]
[10,1218,"國生  和花(1)","ｺｸｼｮｳ ﾜｶ","園田","女"]
[10,1219,"小林  流歌(1)","ｺﾊﾞﾔｼ ﾙｶ","園田","女"]
[10,1220,"坂本  楓夏(1)","ｻｶﾓﾄ ﾌｳｶ","園田","女"]
[10,1221,"多田優衣香(1)","ﾀﾀﾞ ﾕｲｶ","園田","女"]
[10,1222,"田中  芽依(1)","ﾀﾅｶ ﾒｲ","園田","女"]
[10,1223,"田中  夕映(1)","ﾀﾅｶ ﾕｴ","園田","女"]
[10,1224,"戸田  智唯(1)","ﾄﾀﾞ ﾁｲ","園田","女"]
[10,1225,"長瀬  早紀(1)","ﾅｶﾞｾ ｻｷ","園田","女"]
[10,1226,"早川  侑希(1)","ﾊﾔｶﾜ ﾕｳｷ","園田","女"]
[10,1227,"林    佑亜(1)","ﾊﾔｼ ﾕｱ","園田","女"]
[10,1228,"福井  絢乃(1)","ﾌｸｲ ｱﾔﾉ","園田","女"]
[10,1229,"堀  香里奈(1)","ﾎﾘ ｶﾘﾅ","園田","女"]
[10,1230,"宮岸依瑳菜(1)","ﾐﾔｷﾞｼ ｲｻﾅ","園田","女"]
[10,1231,"村上姫以菜(1)","ﾑﾗｶﾐ ﾋｲﾅ","園田","女"]
[10,1232,"安田  風羽(1)","ﾔｽﾀﾞ ﾌｳ","園田","女"]
[10,1287,"芦田  真由(3)","ｱｼﾀﾞ ﾏﾕ","園田","女"]
[10,1288,"岡本  実来(3)","ｵｶﾓﾄ ﾐｸ","園田","女"]
[10,1289,"小西  流月(3)","ｺﾆｼ ﾙﾅ","園田","女"]
[10,1290,"近藤  百華(3)","ｺﾝﾄﾞｳ ﾓﾓｶ","園田","女"]
[10,1291,"島田  幸羽(3)","ｼﾏﾀﾞ ｺﾊﾈ","園田","女"]
[10,1292,"辻川  海月(3)","ﾂｼﾞｶﾜ ﾐﾂｷ","園田","女"]
[10,1293,"照    りこ(3)","ﾃﾗｼ ﾘｺ","園田","女"]
[10,1294,"中尾  巴映(3)","ﾅｶｵ ﾄﾓｴ","園田","女"]
[10,1295,"野田  瑚羽(3)","ﾉﾀﾞ ｺﾊﾈ","園田","女"]
[10,1296,"久留  未羽(3)","ﾋｻﾄﾞﾒ ﾐｳ","園田","女"]
[10,1297,"松田  美月(3)","ﾏﾂﾀﾞ ﾐﾂｷ","園田","女"]
[10,1298,"丸野    梓(3)","ﾏﾙﾉ ｱﾂﾞｻ","園田","女"]
[10,1299,"宮﨑    凛(3)","ﾐﾔｻﾞｷ ﾘﾝ","園田","女"]
[10,1418,"上川  紗季(3)","ｶﾐｶﾜ ｻｷ","県西宮","女"]
[10,1419,"清永  英杏(3)","ｷﾖﾅｶﾞ ｴｱﾝ","県西宮","女"]
[10,1420,"黒瀨友希乃(3)","ｸﾛｾ ﾕｷﾉ","県西宮","女"]
[10,1421,"戸井  裕菜(3)","ﾄｲ ﾕｳﾅ","県西宮","女"]
[10,1422,"佐伯  愛莉(3)","ｻｴｷ ｱｲﾘ","県西宮","女"]
[10,1423,"副島  悠花(3)","ｿｴｼﾞﾏ ﾕｳｶ","県西宮","女"]
[10,1424,"松本  純怜(3)","ﾏﾂﾓﾄ ｽﾐﾚ","県西宮","女"]
[10,1428,"井口  綾乃(2)","ｲｸﾞﾁ ｱﾔﾉ","県西宮","女"]
[10,1429,"木村  春香(2)","ｷﾑﾗ ﾊﾙｶ","県西宮","女"]
[10,1430,"真田  深愛(2)","ｻﾅﾀﾞ ﾐﾗｲ","県西宮","女"]
[10,1431,"中林  美咲(2)","ﾅｶﾊﾞﾔｼ ﾐｻ","県西宮","女"]
[10,1432,"大藤  歩子(2)","ｵｵﾌｼﾞ ｱｺ","県西宮","女"]
[10,1532,"井東  紗弓(3)","ｲﾄｳ ｻﾕﾐ","市西宮","女"]
[10,1533,"伊藤  里子(3)","ｲﾄｳ ﾘｺ","市西宮","女"]
[10,1534,"仲埜  心葉(3)","ﾅｶﾉ ｺﾄﾊ","市西宮","女"]
[10,1535,"阪本  千紘(3)","ｻｶﾓﾄ ﾁﾋﾛ","市西宮","女"]
[10,1536,"柳    心乃(3)","ﾔﾅｷﾞ ｺｺﾉ","市西宮","女"]
[10,1537,"荒谷  香実(3)","ｱﾗﾀﾆ ｺﾉﾐ","市西宮","女"]
[10,1538,"黒田  涼音(3)","ｸﾛﾀﾞ ｽｽﾞﾈ","市西宮","女"]
[10,1539,"龍本ユリナ(3)","ﾘｭｳﾓﾄ ﾕﾘﾅ","市西宮","女"]
[10,1540,"牟田かれん(3)","ﾑﾀ ｶﾚﾝ","市西宮","女"]
[10,1542,"久戸瀬心美(3)","ｸﾄﾞｾ ｺｺﾐ","市西宮","女"]
[10,1543,"小川  凜花(3)","ｵｶﾞﾜ ﾘﾝｶ","市西宮","女"]
[10,1544,"中島  帆南(3)","ﾅｶｼﾞﾏ ﾎﾅﾐ","市西宮","女"]
[10,1545,"松下  心優(2)","ﾏﾂｼﾀ ﾐﾕ","市西宮","女"]
[10,1546,"大矢根理紗(2)","ｵｵﾔﾈ ﾘｻ","市西宮","女"]
[10,1547,"石田  乙羽(2)","ｲｼﾀﾞ ｵﾄﾊ","市西宮","女"]
[10,1548,"高    雨橋(2)","ｺｳ ｳｷｮｳ","市西宮","女"]
[10,1549,"向井  志織(2)","ﾑｶｲ ｼｵﾘ","市西宮","女"]
[10,1550,"森  明日香(2)","ﾓﾘ ｱｽｶ","市西宮","女"]
[10,1551,"髙田  涼華(2)","ﾀｶﾀ ｽｽﾞｶ","市西宮","女"]
[10,1553,"山上  那苗(2)","ﾔﾏｶﾞﾐ ﾅﾅｴ","市西宮","女"]
[10,1603,"増田  望美(3)","ﾏｽﾀﾞ ﾉｿﾞﾐ","西宮東","女"]
[10,1604,"名越  心優(3)","ﾅｺﾞｼ ﾐﾋﾛ","西宮東","女"]
[10,1605,"森    心優(3)","ﾓﾘ ﾐﾋﾛ","西宮東","女"]
[10,1606,"東条  真優(3)","ﾄｳｼﾞｮｳ ﾏﾕ","西宮東","女"]
[10,1607,"古賀美知瑠(3)","ｺｶﾞ ﾐﾁﾙ","西宮東","女"]
[10,1608,"石田  陽楽(2)","ｲｼﾀﾞ ﾋﾗ","西宮東","女"]
[10,1609,"森山  凛夏(2)","ﾓﾘﾔﾏ ﾘﾝｶ","西宮東","女"]
[10,1610,"和唐萌々花(2)","ﾜﾄｳ ﾓﾓｶ","西宮東","女"]
[10,1611,"首藤あすか(2)","ｼｭﾄｳ ｱｽｶ","西宮東","女"]
[10,1612,"籔田このみ(2)","ﾔﾌﾞﾀ ｺﾉﾐ","西宮東","女"]
[10,1613,"小泉  美結(2)","ｺｲｽﾞﾐ ﾐﾕ","西宮東","女"]
[10,1718,"馬場  梨愛(3)","ﾊﾞﾊﾞ ﾘｱ","西宮南","女"]
[10,1719,"好士﨑春佳(3)","ｺｳｼｻﾞｷ ﾊﾙｶ","西宮南","女"]
[10,1720,"石川  歩美(3)","ｲｼｶﾜ ｱﾕﾐ","西宮南","女"]
[10,1721,"横田    椿(2)","ﾖｺﾀ ﾂﾊﾞｷ","西宮南","女"]
[10,1722,"塚本  紗衣(2)","ﾂｶﾓﾄ ｻｴ","西宮南","女"]
[10,1725,"櫻木  柚花(2)","ｻｸﾗｷﾞ ﾕｽﾞｶ","西宮南","女"]
[10,1726,"武智  美海(2)","ﾀｹﾁ ﾐｳ","西宮南","女"]
[10,1727,"美濃部十希(2)","ﾐﾉﾍﾞ ﾄｷ","西宮南","女"]
[10,1801,"島田理紗子(2)","ｼﾏﾀﾞ ﾘｻｺ","西宮北","女"]
[10,1802,"松川  貴子(2)","ﾏﾂｶﾜ ﾀｶｺ","西宮北","女"]
[10,1803,"矢須  央栞(2)","ﾔｽ ﾋﾛｶ","西宮北","女"]
[10,1897,"佐々木夏帆(3)","ｻｻｷ ﾅﾂﾎ","西宮北","女"]
[10,1898,"西田  理紗(3)","ﾆｼﾀﾞ ﾘｻ","西宮北","女"]
[10,1899,"籾山  結菜(3)","ﾓﾐﾔﾏ ﾕﾅ","西宮北","女"]
[10,1904,"宇田美津希(3)","ｳﾀﾞ ﾐﾂｷ","鳴尾","女"]
[10,1905,"岡    穂純(3)","ｵｶ ﾎｽﾞﾐ","鳴尾","女"]
[10,1906,"面髙  瑠花(3)","ｵﾓﾀｶ ﾙｶ","鳴尾","女"]
[10,1907,"楠本つむぎ(3)","ｸｽﾓﾄ ﾂﾑｷﾞ","鳴尾","女"]
[10,1909,"向井  莉子(3)","ﾑｶｲ ﾘｺ","鳴尾","女"]
[10,1911,"沢井  愛実(2)","ｻﾜｲ ﾏﾅﾐ","鳴尾","女"]
[10,1912,"藤田  陽菜(2)","ﾌｼﾞﾀ ﾋﾅ","鳴尾","女"]
[10,1913,"皆木萌々華(2)","ﾐﾅｷﾞ ﾓﾓｶ","鳴尾","女"]
[10,1914,"濱口  夢葉(2)","ﾊﾏｸﾞﾁ ﾕﾒﾊ","鳴尾","女"]
[10,2001,"猪股  詩織(2)","ｲﾉﾏﾀ ｼｵﾘ","西宮今津","女"]
[10,2002,"吉成  真蕗(2)","ﾖｼﾅﾘ ﾏﾌﾞｷ","西宮今津","女"]
[10,2097,"井原今日香(3)","ｲﾊﾗ ｷｮｳｶ","西宮今津","女"]
[10,2098,"眞殿  悠希(3)","ﾏﾄﾞﾉ ﾕｷ","西宮今津","女"]
[10,2099,"大本  歩佳(2)","ｵｵﾓﾄ ｱﾕｶ","西宮今津","女"]
[10,2148,"鍋谷久美子(3)","ﾅﾍﾞﾀﾆ ｸﾐｺ","西宮甲山","女"]
[10,2151,"平内  りあ(2)","ﾋﾗｳﾁ ﾘｱ","西宮甲山","女"]
[10,2152,"加藤    光(2)","ｶﾄｳ ﾋｶﾙ","西宮甲山","女"]
[10,2352,"勝野  七菜(3)","ｶﾂﾉ ﾅﾅ","関学","女"]
[10,2354,"岸    穂香(2)","ｷｼ ﾎﾉｶ","関学","女"]
[10,2355,"松浦  花萌(2)","ﾏﾂｳﾗ ｶﾎ","関学","女"]
[10,2356,"久保田理子(2)","ｸﾎﾞﾀ ﾘｺ","関学","女"]
[10,2358,"荒井  祐香(1)","ｱﾗｲ ﾕｳｶ","関学","女"]
[10,2359,"井上  梨奈(1)","ｲﾉｳｴ ﾘﾅ","関学","女"]
[10,2567,"城下  朔美(3)","ｼﾛｼﾀ ｻｸﾐ","仁川","女"]
[10,2571,"夏  亜八華(2)","ﾅﾂ ｱﾔｶ","仁川","女"]
[10,2572,"ｼﾞｾﾞﾙ  ｼｮｰ(2)","ｼﾞｾﾞﾙ ｼｮｰ","仁川","女"]
[10,2745,"藤田  真子(3)","ﾌｼﾞﾀ ﾏｺ","武庫川大附","女"]
[10,2746,"吉村  美佑(3)","ﾖｼﾑﾗ ﾐﾕｳ","武庫川大附","女"]
[10,2747,"木下  京香(3)","ｷﾉｼﾀ ｷｮｳｶ","武庫川大附","女"]
[10,2748,"山口  万由(3)","ﾔﾏｸﾞﾁ ﾏﾕ","武庫川大附","女"]
[10,2749,"藤田  春風(3)","ﾌｼﾞﾀ ﾊﾙｶ","武庫川大附","女"]
[10,2751,"林    真央(2)","ﾊﾔｼ ﾏｵ","武庫川大附","女"]
[10,2754,"山村  榎鈴(2)","ﾔﾏﾑﾗ ｶﾘﾝ","武庫川大附","女"]
[10,2755,"中井  優空(2)","ﾅｶｲ ﾕﾗ","武庫川大附","女"]
[10,3015,"上平  紗希(3)","ｶﾐﾀﾞｲﾗ ｻｷ","県伊丹","女"]
[10,3016,"大前  優音(3)","ｵｵﾏｴ ﾕﾉﾝ","県伊丹","女"]
[10,3018,"蔭山  明希(3)","ｶｹﾞﾔﾏ ｱｷ","県伊丹","女"]
[10,3020,"足立きよら(2)","ｱﾀﾞﾁ ｷﾖﾗ","県伊丹","女"]
[10,3021,"宮田  茉奈(2)","ﾐﾔﾀ ﾏﾅ","県伊丹","女"]
[10,3022,"竹内  心優(2)","ﾀｹｳﾁ ﾕﾐ","県伊丹","女"]
[10,3024,"牧野  衣葉(2)","ﾏｷﾉ ｲﾛﾊ","県伊丹","女"]
[10,3025,"永石  柚華(2)","ﾅｶﾞｲｼ ﾕｽﾞﾊ","県伊丹","女"]
[10,3026,"亀田  遥愛(2)","ｶﾒﾀ ﾊﾙｱ","県伊丹","女"]
[10,3027,"小西  麻央(2)","ｺﾆｼ ﾏｵ","県伊丹","女"]
[10,3105,"角野  里奈(3)","ｶｸﾉ ﾘﾅ","市伊丹","女"]
[10,3106,"吉川  侑来(3)","ﾖｼｶﾜ ﾕﾗ","市伊丹","女"]
[10,3107,"影山  ゆな(3)","ｶｹﾞﾔﾏ ﾕﾅ","市伊丹","女"]
[10,3108,"梶田  梨津(3)","ｶｼﾞﾀ ﾘﾂ","市伊丹","女"]
[10,3109,"柏原  菜那(3)","ｶｼﾜﾊﾞﾗ ﾅﾅ","市伊丹","女"]
[10,3110,"竹内  千夏(3)","ﾀｹｳﾁ ﾁｶ","市伊丹","女"]
[10,3111,"波田  梨花(3)","ﾊﾀﾞ ﾘﾝｶ","市伊丹","女"]
[10,3112,"高橋  彩音(3)","ﾀｶﾊｼ ｱﾔﾈ","市伊丹","女"]
[10,3113,"溜池  果歩(3)","ﾀﾒｲｹ ｶﾎ","市伊丹","女"]
[10,3114,"加治屋歩泉(2)","ｶｼﾞﾔ ｱﾕﾐ","市伊丹","女"]
[10,3115,"富永  実優(2)","ﾄﾐﾅｶﾞ ﾐﾕ","市伊丹","女"]
[10,3116,"峰松    葵(2)","ﾐﾈﾏﾂ ｱｵｲ","市伊丹","女"]
[10,3117,"衣川    風(2)","ｷﾇｶﾞﾜ ﾌｳﾉ","市伊丹","女"]
[10,3118,"柏原  寧音(2)","ｶｼﾜﾊﾞﾗ ﾈﾈ","市伊丹","女"]
[10,3119,"羽野亜珠美(2)","ﾊﾉ ｱｽﾞﾐ","市伊丹","女"]
[10,3120,"高橋    葵(2)","ﾀｶﾊｼ ｱｵｲ","市伊丹","女"]
[10,3121,"若林  奏音(2)","ﾜｶﾊﾞﾔｼ ｶﾉﾝ","市伊丹","女"]
[10,3214,"岡本  一華(3)","ｵｶﾓﾄ ｲﾁｶ","伊丹西","女"]
[10,3216,"松本  芽依(2)","ﾏﾂﾓﾄ ﾒｲ","伊丹西","女"]
[10,3217,"深井  陽菜(2)","ﾌｶｲ ﾋﾅ","伊丹西","女"]
[10,3218,"萩原    凛(2)","ﾊｷﾞﾊﾗ ﾘﾝ","伊丹西","女"]
[10,3304,"上田  莉奈(3)","ｳｴﾀﾞ ﾘﾅ","伊丹北","女"]
[10,3305,"上野  琴音(3)","ｳｴﾉ ｺﾄﾈ","伊丹北","女"]
[10,3307,"増原  愛莉(3)","ﾏｽﾊﾗ ｱｲﾘ","伊丹北","女"]
[10,3308,"佐藤  優月(2)","ｻﾄｳ ﾕﾂﾞｷ","伊丹北","女"]
[10,3309,"桑原  はな(2)","ｸﾜﾊﾗ ﾊﾅ","伊丹北","女"]
[10,3310,"加藤一千琉(2)","ｶﾄｳ ｲﾁﾙ","伊丹北","女"]
[10,3311,"菅野帆万里(2)","ｽｶﾞﾉ ﾎﾏﾘ","伊丹北","女"]
[10,3462,"朽木  陽香(3)","ｸﾂｷ ﾊﾙｶ","川西緑台","女"]
[10,3463,"藤原    睦(3)","ﾌｼﾞﾊﾗ ﾏｺﾄ","川西緑台","女"]
[10,3465,"大畑  花音(3)","ｵｵﾊﾀ ｶﾉﾝ","川西緑台","女"]
[10,3467,"大槻  優和(2)","ｵｵﾂｷ ﾕｳﾅ","川西緑台","女"]
[10,3468,"田中  里奈(2)","ﾀﾅｶ ﾘﾅ","川西緑台","女"]
[10,3590,"中村  夢咲(3)","ﾅｶﾑﾗ ﾐｻｷ","川西明峰","女"]
[10,3784,"立石  奈緒(3)","ﾀﾃｲｼ ﾅｵ","猪名川","女"]
[10,3785,"小川  舞夕(3)","ｵｶﾞﾜ ﾏﾕ","猪名川","女"]
[10,3787,"南    芽泉(3)","ﾐﾅﾐ ﾒｲ","猪名川","女"]
[10,3823,"浦    仁菜(3)","ｳﾗ ﾆｲﾅ","宝塚","女"]
[10,3824,"大宅  奈優(3)","ｵｵﾔ ﾅﾕ","宝塚","女"]
[10,3825,"東島  みゆ(3)","ﾋｶﾞｼﾞﾏ ﾐﾕ","宝塚","女"]
[10,3826,"若杉  あい(3)","ﾜｶｽｷﾞ ｱｲ","宝塚","女"]
[10,3990,"中川  珠佑(2)","ﾅｶｶﾞﾜ ｼｭｳ","宝塚東","女"]
[10,4047,"山村  優奈(3)","ﾔﾏﾑﾗ ﾕﾅ","宝塚西","女"]
[10,4048,"大岸  由奈(3)","ｵｵｷﾞｼ ﾕﾅ","宝塚西","女"]
[10,4049,"月山  華連(3)","ﾂｷﾔﾏ ｶﾚﾝ","宝塚西","女"]
[10,4051,"秋田  琴音(3)","ｱｷﾀ ｺﾄﾈ","宝塚西","女"]
[10,4053,"西園  水玲(3)","ﾆｼｿﾞﾉ ﾐﾚｲ","宝塚西","女"]
[10,4054,"樽木  真子(3)","ﾀﾙｷ ﾏｺ","宝塚西","女"]
[10,4055,"森    歩花(3)","ﾓﾘ ﾎﾉｶ","宝塚西","女"]
[10,4056,"永吉  結衣(2)","ﾅｶﾞﾖｼ ﾕｲ","宝塚西","女"]
[10,4057,"德永  春花(2)","ﾄｸﾅｶﾞ ﾊﾙｶ","宝塚西","女"]
[10,4058,"金子優里奈(2)","ｶﾈｺ ﾕﾘﾅ","宝塚西","女"]
[10,4059,"黒田  光瑠(2)","ｸﾛﾀﾞ ﾋｶﾙ","宝塚西","女"]
[10,4060,"加藤  瑚涼(2)","ｶﾄｳ ｺｽｽﾞ","宝塚西","女"]
[10,4061,"関    真陽(2)","ｾｷ ﾏﾋﾙ","宝塚西","女"]
[10,4062,"戸階結衣花(2)","ﾄｼﾅ ﾕｲｶ","宝塚西","女"]
[10,4171,"石橋  栄奈(3)","ｲｼﾊﾞｼ ﾊﾙﾅ","宝塚北","女"]
[10,4172,"植松由里子(3)","ｳｴﾏﾂ ﾕﾘｺ","宝塚北","女"]
[10,4173,"奥村  芽衣(3)","ｵｸﾑﾗ ﾒｲ","宝塚北","女"]
[10,4174,"小田  陽愛(3)","ｵﾀﾞ ﾊﾙﾅ","宝塚北","女"]
[10,4175,"黒木  千美(3)","ｸﾛｷ ﾁﾄ","宝塚北","女"]
[10,4176,"山本  友菜(3)","ﾔﾏﾓﾄ ﾕｳﾅ","宝塚北","女"]
[10,4177,"瀧北    優(3)","ﾀｷｷﾀ ﾕｳ","宝塚北","女"]
[10,4178,"渕田ももか(2)","ﾌﾁﾀ ﾓﾓｶ","宝塚北","女"]
[10,4308,"松本  夏海(3)","ﾏﾂﾓﾄ ﾅﾂﾐ","芦屋","女"]
[10,4309,"坂田    栞(3)","ｻｶﾀ ｼｵﾘ","芦屋","女"]
[10,4310,"中野  日葵(3)","ﾅｶﾉ ﾋﾏﾘ","芦屋","女"]
[10,4311,"真野  愛理(3)","ﾏﾉ ｱｲﾘ","芦屋","女"]
[10,4312,"中野  恋子(2)","ﾅｶﾉ ｺｺ","芦屋","女"]
[10,4313,"山脇  瑠璃(3)","ﾔﾏﾜｷ ﾙﾘ","芦屋","女"]
[10,4458,"谷本    光(3)","ﾀﾆﾓﾄ ﾋｶﾙ","雲雀丘","女"]
[10,4459,"堀  咲音子(3)","ﾎﾘ ｻﾄｺ","雲雀丘","女"]
[10,4460,"児島はんな(3)","ｺｼﾞﾏ ﾊﾝﾅ","雲雀丘","女"]
[10,4462,"山﨑  美穂(3)","ﾔﾏｻｷ ﾐﾎ","雲雀丘","女"]
[10,4463,"猪飼  幸和(3)","ｲｶｲ ｻﾜ","雲雀丘","女"]
[10,4464,"大廣  一椛(3)","ｵｵﾋﾛ ｲﾁｶ","雲雀丘","女"]
[10,4465,"芝田菜々子(2)","ｼﾊﾞﾀ ﾅﾅｺ","雲雀丘","女"]
[10,4466,"酒井菜々美(2)","ｻｶｲ ﾅﾅﾐ","雲雀丘","女"]
[10,4469,"後藤  妃那(2)","ｺﾞﾄｳ ﾋﾅ","雲雀丘","女"]
[10,4470,"川中  結葵(2)","ｶﾜﾅｶ ﾕｷ","雲雀丘","女"]
[10,4471,"石原  怜奈(2)","ｲｼﾊﾗ ﾚﾅ","雲雀丘","女"]
[10,4472,"鬼倉    雅(2)","ｵﾆｸﾗ ﾐﾔﾋﾞ","雲雀丘","女"]
[10,4574,"松井  優衣(3)","ﾏﾂｲ ﾕｲ","県国際","女"]
[10,4575,"ｾﾅｳｨｰﾗﾃﾞｨｱﾅ心優(3)","ｾﾅｳｨｰﾗ ﾃﾞｨｱﾅﾐﾕ","県国際","女"]
[10,4576,"大久保むつみ(2)","ｵｵｸﾎﾞ ﾑﾂﾐ","県国際","女"]
[10,4851,"宮野  桃歌(3)","ﾐﾔﾉ ﾓﾓｶ","芦国中等","女"]
[10,4855,"矢野  蒼來(1)","ﾔﾉ ｿﾗ","芦国中等","女"]
[10,null,null,null,null,"女"]
[10,null,null,null,null,"女"]
[10,null,null,null,null,"女"]
[10,null,null,null,null,"女"]
[10,null,null,null,null,"女"]
[10,null,null,null,null,"女"]
[10,null,null,null,null,"女"]
[10,null,null,null,null,"女"]
[10,null,null,null,null,"女"]
[10,null,null,null,null,"女"]
[10,null,null,null,null,"女"]
[10,null,null,null,null,"女"]
[10,null,null,null,null,"女"]
[10,null,null,null,null,"女"]
[10,null,null,null,null,"女"]
[10,null,null,null,null,"女"]
[10,null,null,null,null,"女"]
[10,null,null,null,null,"女"]
[10,null,null,null,null,"女"]
[10,null,null,null,null,"女"]
[10,null,null,null,null,"女"]
[10,null,null,null,null,"女"]
[10,null,null,null,null,"女"]
[10,null,null,null,null,"女"]
[10,null,null,null,null,"女"]
[10,null,null,null,null,"女"]
[10,null,null,null,null,"女"]
[10,null,null,null,null,"女"]
[10,null,null,null,null,"女"]
[10,null,null,null,null,"女"]
[10,null,null,null,null,"女"]
[10,null,null,null,null,"女"]
[10,null,null,null,null,"女"]
[10,null,null,null,null,"女"]
[10,null,null,null,null,"女"]
[10,null,null,null,null,"女"]
[10,null,null,null,null,"女"]
[10,null,null,null,null,"女"]
[10,null,null,null,null,"女"]
[10,null,null,null,null,"女"]
[10,null,null,null,null,"女"]
[10,null,null,null,null,"女"]
[10,null,null,null,null,"女"]
[10,null,null,null,null,"女"]
[10,null,null,null,null,"女"]
[10,null,null,null,null,"女"]
[10,null,null,null,null,"女"]
[10,null,null,null,null,"女"]
[10,null,null,null,null,"女"]
[10,null,null,null,null,"女"]
[10,null,null,null,null,"女"]
[10,null,null,null,null,"女"]
[10,null,null,null,null,"女"]
[10,null,null,null,null,"女"]
[10,null,null,null,null,"女"]
[10,null,null,null,null,"女"]
[10,null,null,null,null,"女"]
[10,null,null,null,null,"女"]
[10,null,null,null,null,"女"]
[10,null,null,null,null,"女"]
[10,null,null,null,null,"女"]
[10,null,null,null,null,"女"]
[10,null,null,null,null,"女"]
[10,null,null,null,null,"女"]
[10,null,null,null,null,"女"]
[10,null,null,null,null,"女"]
[10,null,null,null,null,"女"]
[10,null,null,null,null,"女"]
[10,null,null,null,null,"女"]
[10,null,null,null,null,"女"]
[10,null,null,null,null,"女"]
[10,null,null,null,null,"女"]
[10,null,null,null,null,"女"]
[10,null,null,null,null,"女"]
[10,null,null,null,null,"女"]
[10,null,null,null,null,"女"]
[10,null,null,null,null,"女"]
[10,null,null,null,null,"女"]
[10,null,null,null,null,"女"]
[10,null,null,null,null,"女"]
[10,null,null,null,null,"女"]
[10,null,null,null,null,"女"]
[10,null,null,null,null,"女"]
[10,null,null,null,null,"女"]
[10,null,null,null,null,"女"]
[10,null,null,null,null,"女"]
[10,null,null,null,null,"女"]
[10,null,null,null,null,"女"]
[10,null,null,null,null,"女"]
[10,null,null,null,null,"女"]
[10,null,null,null,null,"女"]
[10,null,null,null,null,"女"]
[10,null,null,null,null,"女"]
[10,null,null,null,null,"女"]
[10,null,null,null,null,"女"]
[10,null,null,null,null,"女"]
[10,null,null,null,null,"女"]
[10,null,null,null,null,"女"]
[10,null,null,null,null,"女"]
[10,null,null,null,null,"女"]
[10,null,null,null,null,"女"]
[10,null,null,null,null,"女"]
[10,null,null,null,null,"女"]
[10,null,null,null,null,"女"]
[10,null,null,null,null,"女"]
[10,null,null,null,null,"女"]
[10,null,null,null,null,"女"]
[10,null,null,null,null,"女"]
[10,null,null,null,null,"女"]
[10,null,null,null,null,"女"]
[10,null,null,null,null,"女"]
[10,null,null,null,null,"女"]
[10,null,null,null,null,"女"]
[10,null,null,null,null,"女"]
[10,null,null,null,null,"女"]
[10,null,null,null,null,"女"]
[10,null,null,null,null,"女"]
[10,null,null,null,null,"女"]
[10,null,null,null,null,"女"]
[10,null,null,null,null,"女"]
[10,null,null,null,null,"女"]
[10,null,null,null,null,"女"]
[10,null,null,null,null,"女"]
[10,null,null,null,null,"女"]
[10,null,null,null,null,"女"]
[10,null,null,null,null,"女"]
[10,null,null,null,null,"女"]
[10,null,null,null,null,"女"]
[10,null,null,null,null,"女"]
[10,null,null,null,null,"女"]
[10,null,null,null,null,"女"]
[10,null,null,null,null,"女"]
[10,null,null,null,null,"女"]
[10,null,null,null,null,"女"]
[10,null,null,null,null,"女"]
[10,null,null,null,null,"女"]
[10,null,null,null,null,"女"]
[10,null,null,null,null,"女"]
[10,null,null,null,null,"女"]
[10,null,null,null,null,"女"]
[10,null,null,null,null,"女"]
[10,null,null,null,null,"●"]
[10,null,null,null,null,"●"]
[10,null,null,null,null,"●"]
[10,null,null,null,null,"●"]
[10,null,null,null,null,"●"]
[10,null,null,null,null,"●"]
[10,null,null,null,null,"●"]
[10,null,null,null,null,"●"]
[10,null,null,null,null,"●"]
[10,null,null,null,null,"●"]
[10,null,null,null,null,"●"]
[10,null,null,null,null,"●"]
[10,null,null,null,null,"●"]
[10,null,null,null,null,"●"]
[10,null,null,null,null,"●"]
[10,null,null,null,null,"●"]
[10,null,null,null,null,"●"]
[10,null,null,null,null,"●"]
[10,null,null,null,null,"●"]
[10,null,null,null,null,"●"]
[10,null,null,null,null,"●"]
[10,null,null,null,null,"●"]
[10,null,null,null,null,"●"]
[10,null,null,null,null,"●"]
[10,null,null,null,null,"●"]
[10,null,null,null,null,"●"]
[]
[]
[]
[]
[]
[]
[]
[]
[]
[]
[]
[]
[]
[]
[]
[]
[]
[]
[]
[]
[]
[]
[]
[]
[]
[]
[]
[]
[null,"登録番号","氏名 学年","ﾌﾘｶﾞﾅ","学校名"]
[null,null,null,null,"",null,null,null,"追加登録選手等、入力が反映されない選手はこちらに入力してください。"]
[null,null,null,null,"",null,null,null,"氏名 学年は次のように入力してください。"]
[null,null,null,null,"",null,null,null,"野比　玉子(1)　　ﾉﾋﾞ ﾀﾏｺ　　4文字の場合、姓と名の間に全角スペース"]
[null,null,null,null,"",null,null,null,"野比のび太(1)　　ﾉﾋﾞ ﾉﾋﾞﾀ 　5文字以上は姓と名の間のスペース無し"]
[null,null,null,null,"",null,null,null,"源　　静香(1)　　ﾐﾅﾓﾄ ｼｽﾞｶ　3文字の場合姓と名の間は全角スペース２つ"]
[null,null,null,null,"",null,null,null,"剛田　　武(1)　　ｺﾞｳﾀﾞ ﾀｹｼ　〃"]
[null,null,null,null,"",null,null,null,"ﾌﾘｶﾞﾅの姓と名の間には半角スペースを入力してください。"]
[null,null,null,null,""]
[null,null,null,null,""]
[null,null,null,null,""]
[null,null,null,null,""]
[null,null,null,null,""]
[null,null,null,null,""]
[null,null,null,null,""]
[null,null,null,null,""]
[null,null,null,null,""]
[null,null,null,null,""]
[null,null,null,null,""]
[null,null,null,null,""]
[null,null,null,null,""]
[null,null,null,null,""]
[null,null,null,null,""]
[null,null,null,null,""]
[null,null,null,null,""]
[null,null,null,null,""]
[null,null,null,null,""]
[null,null,null,null,""]
[null,null,null,null,""]
[null,null,null,null,""]
[null,null,null,null,""]

{"sheet":"女子申込","index":4,"n_rows":76,"n_cols":22,"rows_kept":76,"cut":false,"hidden":false,"merged":[[11,1,33,1],[21,2,22,2],[23,2,24,2],[10,17,10,19],[3,1,3,2],[3,4,3,18],[5,2,5,3],[5,5,5,11],[5,13,5,15],[5,16,5,20],[7,1,8,3],[7,13,8,15],[7,16,8,20],[4,17,4,18],[54,8,54,9],[55,3,55,6],[7,21,8,21],[55,8,55,9],[7,6,7,11],[8,8,8,10],[56,3,56,6],[56,8,56,9],[49,1,49,2],[49,3,49,5],[52,1,56,2],[52,3,52,6],[52,8,52,9],[53,3,53,6],[53,8,53,9],[49,9,49,11],[50,1,50,2],[50,3,50,5],[50,6,50,8],[50,9,50,11],[49,6,49,8],[54,3,54,6]]}
[]
[]
[]
[null,"女　子",null,null,{"$f":"初期設定!C4","v":"第77回　兵庫県高等学校陸上競技対校選手権大会地区予選会　申込書"}]
[null,null,null,null,null,null,null,null,null,null,null,null,null,null,null,null,null,"（様式1）"]
[null,"学校番号",{"$f":"初期設定!$C$2","v":0},null,"学　校　名",{"$f":"初期設定!$C$3","v":""},null,null,null,null,null,null,null,"学校長氏名",null,null,{"$f":"初期設定!C8","v":0},null,null,null,null,"印"]
[]
[null,"学校所在地",null,null,{"$f":"CONCATENATE(学校番号!I2,初期設定!C5)","v":"〒"},null,{"$f":"初期設定!C7","v":""},null,null,null,null,null,null,"顧問氏名",null,null,{"$f":"初期設定!C9","v":0},null,null,null,null,"印"]
[null,null,null,null,null,null,null,"℡",{"$f":"初期設定!C6","v":""}]
[]
[null,"性","種    目","ナンバー","氏　名 /学年","記　録","ナンバー","氏　名 /学年","記　録","ナンバー","氏　名 /学年","記　録",null,"No","性","ﾅﾝﾊﾞ-","氏　名/学年","申 込 種 目",null,null,"400mR","1600mR"]
[null,"女　　　　子","100m",{"$f":"記録入力!$J4","v":""},{"$f":"記録入力!$K4","v":""},{"$f":"記録入力!$I4","v":""},{"$f":"記録入力!$J5","v":""},{"$f":"記録入力!$K5","v":""},{"$f":"記録入力!$I5","v":""},{"$f":"記録入力!$J6","v":""},{"$f":"記録入力!$K6","v":""},{"$f":"記録入力!$I6","v":""},null,1,{"$f":"IF(P12=\"\",\"\",\"女\")","v":""},{"$f":"IF(ISERROR(データ完成!C3),\"\",(データ完成!C3))","v":""},{"$f":"IF(ISERROR(データ完成!D3),\"\",データ完成!D3)","v":""},{"$f":"IF(ISERROR(データ完成!E3),\"\",データ完成!E3)","v":""},{"$f":"IF(ISERROR(データ完成!F3),\"\",データ完成!F3)","v":""},{"$f":"IF(ISERROR(データ完成!G3),\"\",データ完成!G3)","v":""},{"$f":"IF(ISERROR(データ完成!J3),\"\",データ完成!J3)","v":""},{"$f":"IF(ISERROR(データ完成!K3),\"\",データ完成!K3)","v":""}]
[null,null,"200m",{"$f":"記録入力!$J7","v":""},{"$f":"記録入力!$K7","v":""},{"$f":"記録入力!$I7","v":""},{"$f":"記録入力!$J8","v":""},{"$f":"記録入力!$K8","v":""},{"$f":"記録入力!$I8","v":""},{"$f":"記録入力!$J9","v":""},{"$f":"記録入力!$K9","v":""},{"$f":"記録入力!$I9","v":""},null,2,{"$f":"IF(P13=\"\",\"\",\"女\")","v":""},{"$f":"IF(ISERROR(データ完成!C4),\"\",(データ完成!C4))","v":""},{"$f":"IF(ISERROR(データ完成!D4),\"\",データ完成!D4)","v":""},{"$f":"データ完成!E4","v":""},{"$f":"データ完成!F4","v":""},{"$f":"データ完成!G4","v":""},{"$f":"IF(ISERROR(データ完成!J4),\"\",データ完成!J4)","v":""},{"$f":"IF(ISERROR(データ完成!K4),\"\",データ完成!K4)","v":""}]
[null,null,"400m",{"$f":"記録入力!$J10","v":""},{"$f":"記録入力!$K10","v":""},{"$f":"記録入力!$I10","v":""},{"$f":"記録入力!$J11","v":""},{"$f":"記録入力!$K11","v":""},{"$f":"記録入力!$I11","v":""},{"$f":"記録入力!$J12","v":""},{"$f":"記録入力!$K12","v":""},{"$f":"記録入力!$I12","v":""},null,3,"",{"$f":"IF(ISERROR(データ完成!C5),\"\",(データ完成!C5))","v":""},{"$f":"IF(ISERROR(データ完成!D5),\"\",データ完成!D5)","v":""},{"$f":"データ完成!E5","v":""},{"$f":"データ完成!F5","v":""},{"$f":"データ完成!G5","v":""},{"$f":"IF(ISERROR(データ完成!J5),\"\",データ完成!J5)","v":""},{"$f":"IF(ISERROR(データ完成!K5),\"\",データ完成!K5)","v":""}]
[null,null,"800m",{"$f":"記録入力!$J13","v":""},{"$f":"記録入力!$K13","v":""},{"$f":"記録入力!$I13","v":""},{"$f":"記録入力!$J14","v":""},{"$f":"記録入力!$K14","v":""},{"$f":"記録入力!$I14","v":""},{"$f":"記録入力!$J15","v":""},{"$f":"記録入力!$K15","v":""},{"$f":"記録入力!$I15","v":""},null,4,"",{"$f":"IF(ISERROR(データ完成!C6),\"\",(データ完成!C6))","v":""},{"$f":"IF(ISERROR(データ完成!D6),\"\",データ完成!D6)","v":""},{"$f":"データ完成!E6","v":""},{"$f":"データ完成!F6","v":""},{"$f":"データ完成!G6","v":""},{"$f":"IF(ISERROR(データ完成!J6),\"\",データ完成!J6)","v":""},{"$f":"IF(ISERROR(データ完成!K6),\"\",データ完成!K6)","v":""}]
[null,null,"1500m",{"$f":"記録入力!$J16","v":""},{"$f":"記録入力!$K16","v":""},{"$f":"記録入力!$I16","v":""},{"$f":"記録入力!$J17","v":""},{"$f":"記録入力!$K17","v":""},{"$f":"記録入力!$I17","v":""},{"$f":"記録入力!$J18","v":""},{"$f":"記録入力!$K18","v":""},{"$f":"記録入力!$I18","v":""},null,5,"",{"$f":"IF(ISERROR(データ完成!C7),\"\",(データ完成!C7))","v":""},{"$f":"IF(ISERROR(データ完成!D7),\"\",データ完成!D7)","v":""},{"$f":"データ完成!E7","v":""},{"$f":"データ完成!F7","v":""},{"$f":"データ完成!G7","v":""},{"$f":"IF(ISERROR(データ完成!J7),\"\",データ完成!J7)","v":""},{"$f":"IF(ISERROR(データ完成!K7),\"\",データ完成!K7)","v":""}]
[null,null,"3000m",{"$f":"記録入力!$J19","v":""},{"$f":"記録入力!$K19","v":""},{"$f":"記録入力!$I19","v":""},{"$f":"記録入力!$J20","v":""},{"$f":"記録入力!$K20","v":""},{"$f":"記録入力!$I20","v":""},{"$f":"記録入力!$J21","v":""},{"$f":"記録入力!$K21","v":""},{"$f":"記録入力!$I21","v":""},null,6,"",{"$f":"IF(ISERROR(データ完成!C8),\"\",(データ完成!C8))","v":""},{"$f":"IF(ISERROR(データ完成!D8),\"\",データ完成!D8)","v":""},{"$f":"データ完成!E8","v":""},{"$f":"データ完成!F8","v":""},{"$f":"データ完成!G8","v":""},{"$f":"IF(ISERROR(データ完成!J8),\"\",データ完成!J8)","v":""},{"$f":"IF(ISERROR(データ完成!K8),\"\",データ完成!K8)","v":""}]
[null,null,"100mH",{"$f":"記録入力!$J22","v":""},{"$f":"記録入力!$K22","v":""},{"$f":"記録入力!$I22","v":""},{"$f":"記録入力!$J23","v":""},{"$f":"記録入力!$K23","v":""},{"$f":"記録入力!$I23","v":""},{"$f":"記録入力!$J24","v":""},{"$f":"記録入力!$K24","v":""},{"$f":"記録入力!$I24","v":""},null,7,"",{"$f":"IF(ISERROR(データ完成!C9),\"\",(データ完成!C9))","v":""},{"$f":"IF(ISERROR(データ完成!D9),\"\",データ完成!D9)","v":""},{"$f":"データ完成!E9","v":""},{"$f":"データ完成!F9","v":""},{"$f":"データ完成!G9","v":""},{"$f":"IF(ISERROR(データ完成!J9),\"\",データ完成!J9)","v":""},{"$f":"IF(ISERROR(データ完成!K9),\"\",データ完成!K9)","v":""}]
[null,null,"400mH",{"$f":"記録入力!$J25","v":""},{"$f":"記録入力!$K25","v":""},{"$f":"記録入力!$I25","v":""},{"$f":"記録入力!$J26","v":""},{"$f":"記録入力!$K26","v":""},{"$f":"記録入力!$I26","v":""},{"$f":"記録入力!$J27","v":""},{"$f":"記録入力!$K27","v":""},{"$f":"記録入力!$I27","v":""},null,8,"",{"$f":"IF(ISERROR(データ完成!C10),\"\",(データ完成!C10))","v":""},{"$f":"IF(ISERROR(データ完成!D10),\"\",データ完成!D10)","v":""},{"$f":"データ完成!E10","v":""},{"$f":"データ完成!F10","v":""},{"$f":"データ完成!G10","v":""},{"$f":"IF(ISERROR(データ完成!J10),\"\",データ完成!J10)","v":""},{"$f":"IF(ISERROR(データ完成!K10),\"\",データ完成!K10)","v":""}]
[null,null,null,{"$f":"記録入力!$J28","v":""},{"$f":"記録入力!$K28","v":""},{"$f":"記録入力!$I28","v":""},{"$f":"記録入力!$J29","v":""},{"$f":"記録入力!$K29","v":""},{"$f":"記録入力!$I29","v":""},{"$f":"記録入力!$J30","v":""},{"$f":"記録入力!$K30","v":""},{"$f":"記録入力!$I30","v":""},null,9,"",{"$f":"IF(ISERROR(データ完成!C11),\"\",(データ完成!C11))","v":""},{"$f":"IF(ISERROR(データ完成!D11),\"\",データ完成!D11)","v":""},{"$f":"データ完成!E11","v":""},{"$f":"データ完成!F11","v":""},{"$f":"データ完成!G11","v":""},{"$f":"IF(ISERROR(データ完成!J11),\"\",データ完成!J11)","v":""},{"$f":"IF(ISERROR(データ完成!K11),\"\",データ完成!K11)","v":""}]
[null,null,"5000mW",{"$f":"記録入力!$J31","v":""},{"$f":"記録入力!$K31","v":""},{"$f":"記録入力!$I31","v":""},{"$f":"記録入力!$J32","v":""},{"$f":"記録入力!$K32","v":""},{"$f":"記録入力!$I32","v":""},{"$f":"記録入力!$J33","v":""},{"$f":"記録入力!$K33","v":""},{"$f":"記録入力!$I33","v":""},null,10,"",{"$f":"IF(ISERROR(データ完成!C12),\"\",(データ完成!C12))","v":""},{"$f":"IF(ISERROR(データ完成!D12),\"\",データ完成!D12)","v":""},{"$f":"データ完成!E12","v":""},{"$f":"データ完成!F12","v":""},{"$f":"データ完成!G12","v":""},{"$f":"IF(ISERROR(データ完成!J12),\"\",データ完成!J12)","v":""},{"$f":"IF(ISERROR(データ完成!K12),\"\",データ完成!K12)","v":""}]
[null,null,"4×100m",{"$f":"記録入力!J61","v":""},{"$f":"記録入力!K61","v":""},{"$f":"記録入力!I61","v":""},{"$f":"記録入力!J62","v":""},{"$f":"記録入力!K62","v":""},null,{"$f":"記録入力!J63","v":""},{"$f":"記録入力!K63","v":""},null,null,11,"",{"$f":"IF(ISERROR(データ完成!C13),\"\",(データ完成!C13))","v":""},{"$f":"IF(ISERROR(データ完成!D13),\"\",データ完成!D13)","v":""},{"$f":"データ完成!E13","v":""},{"$f":"データ完成!F13","v":""},{"$f":"データ完成!G13","v":""},{"$f":"IF(ISERROR(データ完成!J13),\"\",データ完成!J13)","v":""},{"$f":"IF(ISERROR(データ完成!K13),\"\",データ完成!K13)","v":""}]
[null,null,null,{"$f":"記録入力!J64","v":""},{"$f":"記録入力!K64","v":""},null,{"$f":"記録入力!J65","v":""},{"$f":"記録入力!K65","v":""},null,{"$f":"記録入力!J66","v":""},{"$f":"記録入力!K66","v":""},null,null,12,"",{"$f":"IF(ISERROR(データ完成!C14),\"\",(データ完成!C14))","v":""},{"$f":"IF(ISERROR(データ完成!D14),\"\",データ完成!D14)","v":""},{"$f":"データ完成!E14","v":""},{"$f":"データ完成!F14","v":""},{"$f":"データ完成!G14","v":""},{"$f":"IF(ISERROR(データ完成!J14),\"\",データ完成!J14)","v":""},{"$f":"IF(ISERROR(データ完成!K14),\"\",データ完成!K14)","v":""}]
[null,null,"4×400m",{"$f":"記録入力!J67","v":""},{"$f":"記録入力!K67","v":""},{"$f":"記録入力!I67","v":""},{"$f":"記録入力!J68","v":""},{"$f":"記録入力!K68","v":""},null,{"$f":"記録入力!J69","v":""},{"$f":"記録入力!K69","v":""},null,null,13,"",{"$f":"IF(ISERROR(データ完成!C15),\"\",(データ完成!C15))","v":""},{"$f":"IF(ISERROR(データ完成!D15),\"\",データ完成!D15)","v":""},{"$f":"データ完成!E15","v":""},{"$f":"データ完成!F15","v":""},{"$f":"データ完成!G15","v":""},{"$f":"IF(ISERROR(データ完成!J15),\"\",データ完成!J15)","v":""},{"$f":"IF(ISERROR(データ完成!K15),\"\",データ完成!K15)","v":""}]
[null,null,null,{"$f":"記録入力!J70","v":""},{"$f":"記録入力!K70","v":""},null,{"$f":"記録入力!J71","v":""},{"$f":"記録入力!K71","v":""},null,{"$f":"記録入力!J72","v":""},{"$f":"記録入力!K72","v":""},null,null,14,"",{"$f":"IF(ISERROR(データ完成!C16),\"\",(データ完成!C16))","v":""},{"$f":"IF(ISERROR(データ完成!D16),\"\",データ完成!D16)","v":""},{"$f":"データ完成!E16","v":""},{"$f":"データ完成!F16","v":""},{"$f":"データ完成!G16","v":""},{"$f":"IF(ISERROR(データ完成!J16),\"\",データ完成!J16)","v":""},{"$f":"IF(ISERROR(データ完成!K16),\"\",データ完成!K16)","v":""}]
[null,null,"走 高 跳",{"$f":"記録入力!$J34","v":""},{"$f":"記録入力!$K34","v":""},{"$f":"記録入力!$I34","v":""},{"$f":"記録入力!$J35","v":""},{"$f":"記録入力!$K35","v":""},{"$f":"記録入力!$I35","v":""},{"$f":"記録入力!$J36","v":""},{"$f":"記録入力!$K36","v":""},{"$f":"記録入力!$I36","v":""},null,15,"",{"$f":"IF(ISERROR(データ完成!C17),\"\",(データ完成!C17))","v":""},{"$f":"IF(ISERROR(データ完成!D17),\"\",データ完成!D17)","v":""},{"$f":"データ完成!E17","v":""},{"$f":"データ完成!F17","v":""},{"$f":"データ完成!G17","v":""},{"$f":"IF(ISERROR(データ完成!J17),\"\",データ完成!J17)","v":""},{"$f":"IF(ISERROR(データ完成!K17),\"\",データ完成!K17)","v":""}]
[null,null,"棒 高 跳",{"$f":"記録入力!$J37","v":""},{"$f":"記録入力!$K37","v":""},{"$f":"記録入力!$I37","v":""},{"$f":"記録入力!$J38","v":""},{"$f":"記録入力!$K38","v":""},{"$f":"記録入力!$I38","v":""},{"$f":"記録入力!$J39","v":""},{"$f":"記録入力!$K39","v":""},{"$f":"記録入力!$I39","v":""},null,16,"",{"$f":"IF(ISERROR(データ完成!C18),\"\",(データ完成!C18))","v":""},{"$f":"IF(ISERROR(データ完成!D18),\"\",データ完成!D18)","v":""},{"$f":"データ完成!E18","v":""},{"$f":"データ完成!F18","v":""},{"$f":"データ完成!G18","v":""},{"$f":"IF(ISERROR(データ完成!J18),\"\",データ完成!J18)","v":""},{"$f":"IF(ISERROR(データ完成!K18),\"\",データ完成!K18)","v":""}]
[null,null,"走 幅 跳",{"$f":"記録入力!$J40","v":""},{"$f":"記録入力!$K40","v":""},{"$f":"記録入力!$I40","v":""},{"$f":"記録入力!$J41","v":""},{"$f":"記録入力!$K41","v":""},{"$f":"記録入力!$I41","v":""},{"$f":"記録入力!$J42","v":""},{"$f":"記録入力!$K42","v":""},{"$f":"記録入力!$I42","v":""},null,17,"",{"$f":"IF(ISERROR(データ完成!C19),\"\",(データ完成!C19))","v":""},{"$f":"IF(ISERROR(データ完成!D19),\"\",データ完成!D19)","v":""},{"$f":"データ完成!E19","v":""},{"$f":"データ完成!F19","v":""},{"$f":"データ完成!G19","v":""},{"$f":"IF(ISERROR(データ完成!J19),\"\",データ完成!J19)","v":""},{"$f":"IF(ISERROR(データ完成!K19),\"\",データ完成!K19)","v":""}]
[null,null,"三 段 跳",{"$f":"記録入力!$J43","v":""},{"$f":"記録入力!$K43","v":""},{"$f":"記録入力!$I43","v":""},{"$f":"記録入力!$J44","v":""},{"$f":"記録入力!$K44","v":""},{"$f":"記録入力!$I44","v":""},{"$f":"記録入力!$J45","v":""},{"$f":"記録入力!$K45","v":""},{"$f":"記録入力!$I45","v":""},null,18,"",{"$f":"IF(ISERROR(データ完成!C20),\"\",(データ完成!C20))","v":""},{"$f":"IF(ISERROR(データ完成!D20),\"\",データ完成!D20)","v":""},{"$f":"データ完成!E20","v":""},{"$f":"データ完成!F20","v":""},{"$f":"データ完成!G20","v":""},{"$f":"IF(ISERROR(データ完成!J20),\"\",データ完成!J20)","v":""},{"$f":"IF(ISERROR(データ完成!K20),\"\",データ完成!K20)","v":""}]
[null,null,"砲 丸 投",{"$f":"記録入力!$J46","v":""},{"$f":"記録入力!$K46","v":""},{"$f":"記録入力!$I46","v":""},{"$f":"記録入力!$J47","v":""},{"$f":"記録入力!$K47","v":""},{"$f":"記録入力!$I47","v":""},{"$f":"記録入力!$J48","v":""},{"$f":"記録入力!$K48","v":""},{"$f":"記録入力!$I48","v":""},null,19,"",{"$f":"IF(ISERROR(データ完成!C21),\"\",(データ完成!C21))","v":""},{"$f":"IF(ISERROR(データ完成!D21),\"\",データ完成!D21)","v":""},{"$f":"データ完成!E21","v":""},{"$f":"データ完成!F21","v":""},{"$f":"データ完成!G21","v":""},{"$f":"IF(ISERROR(データ完成!J21),\"\",データ完成!J21)","v":""},{"$f":"IF(ISERROR(データ完成!K21),\"\",データ完成!K21)","v":""}]
[null,null,"円 盤 投",{"$f":"記録入力!$J49","v":""},{"$f":"記録入力!$K49","v":""},{"$f":"記録入力!$I49","v":""},{"$f":"記録入力!$J50","v":""},{"$f":"記録入力!$K50","v":""},{"$f":"記録入力!$I50","v":""},{"$f":"記録入力!$J51","v":""},{"$f":"記録入力!$K51","v":""},{"$f":"記録入力!$I51","v":""},null,20,"",{"$f":"IF(ISERROR(データ完成!C22),\"\",(データ完成!C22))","v":""},{"$f":"IF(ISERROR(データ完成!D22),\"\",データ完成!D22)","v":""},{"$f":"データ完成!E22","v":""},{"$f":"データ完成!F22","v":""},{"$f":"データ完成!G22","v":""},{"$f":"IF(ISERROR(データ完成!J22),\"\",データ完成!J22)","v":""},{"$f":"IF(ISERROR(データ完成!K22),\"\",データ完成!K22)","v":""}]
[null,null,"ﾊﾝﾏｰ投",{"$f":"記録入力!$J52","v":""},{"$f":"記録入力!$K52","v":""},{"$f":"記録入力!$I52","v":""},{"$f":"記録入力!$J53","v":""},{"$f":"記録入力!$K53","v":""},{"$f":"記録入力!$I53","v":""},{"$f":"記録入力!$J54","v":""},{"$f":"記録入力!$K54","v":""},{"$f":"記録入力!$I54","v":""},null,21,"",{"$f":"IF(ISERROR(データ完成!C23),\"\",(データ完成!C23))","v":""},{"$f":"IF(ISERROR(データ完成!D23),\"\",データ完成!D23)","v":""},{"$f":"データ完成!E23","v":""},{"$f":"データ完成!F23","v":""},{"$f":"データ完成!G23","v":""},{"$f":"IF(ISERROR(データ完成!J23),\"\",データ完成!J23)","v":""},{"$f":"IF(ISERROR(データ完成!K23),\"\",データ完成!K23)","v":""}]
[null,null,"や り 投",{"$f":"記録入力!$J55","v":""},{"$f":"記録入力!$K55","v":""},{"$f":"記録入力!$I55","v":""},{"$f":"記録入力!$J56","v":""},{"$f":"記録入力!$K56","v":""},{"$f":"記録入力!$I56","v":""},{"$f":"記録入力!$J57","v":""},{"$f":"記録入力!$K57","v":""},{"$f":"記録入力!$I57","v":""},null,22,"",{"$f":"IF(ISERROR(データ完成!C24),\"\",(データ完成!C24))","v":""},{"$f":"IF(ISERROR(データ完成!D24),\"\",データ完成!D24)","v":""},{"$f":"データ完成!E24","v":""},{"$f":"データ完成!F24","v":""},{"$f":"データ完成!G24","v":""},{"$f":"IF(ISERROR(データ完成!J24),\"\",データ完成!J24)","v":""},{"$f":"IF(ISERROR(データ完成!K24),\"\",データ完成!K24)","v":""}]
[null,null,"七種競技",{"$f":"記録入力!$J58","v":""},{"$f":"記録入力!$K58","v":""},{"$f":"記録入力!$I58","v":""},{"$f":"記録入力!$J59","v":""},{"$f":"記録入力!$K59","v":""},{"$f":"記録入力!$I59","v":""},{"$f":"記録入力!$J60","v":""},{"$f":"記録入力!$K60","v":""},{"$f":"記録入力!$I60","v":""},null,23,"",{"$f":"IF(ISERROR(データ完成!C25),\"\",(データ完成!C25))","v":""},{"$f":"IF(ISERROR(データ完成!D25),\"\",データ完成!D25)","v":""},{"$f":"データ完成!E25","v":""},{"$f":"データ完成!F25","v":""},{"$f":"データ完成!G25","v":""},{"$f":"IF(ISERROR(データ完成!J25),\"\",データ完成!J25)","v":""},{"$f":"IF(ISERROR(データ完成!K25),\"\",データ完成!K25)","v":""}]
[null,null,null,null,null,null,null,null,null,null,null,null,null,24,"",{"$f":"IF(ISERROR(データ完成!C26),\"\",(データ完成!C26))","v":""},{"$f":"IF(ISERROR(データ完成!D26),\"\",データ完成!D26)","v":""},{"$f":"データ完成!E26","v":""},{"$f":"データ完成!F26","v":""},{"$f":"データ完成!G26","v":""},{"$f":"IF(ISERROR(データ完成!J26),\"\",データ完成!J26)","v":""},{"$f":"IF(ISERROR(データ完成!K26),\"\",データ完成!K26)","v":""}]
[null,null,null,null,null,null,null,null,null,null,null,null,null,25,"",{"$f":"IF(ISERROR(データ完成!C27),\"\",(データ完成!C27))","v":""},{"$f":"IF(ISERROR(データ完成!D27),\"\",データ完成!D27)","v":""},{"$f":"データ完成!E27","v":""},{"$f":"データ完成!F27","v":""},{"$f":"データ完成!G27","v":""},{"$f":"IF(ISERROR(データ完成!J27),\"\",データ完成!J27)","v":""},{"$f":"IF(ISERROR(データ完成!K27),\"\",データ完成!K27)","v":""}]
[null,null,null,null,null,null,null,null,null,null,null,null,null,26,"",{"$f":"IF(ISERROR(データ完成!C28),\"\",(データ完成!C28))","v":""},{"$f":"IF(ISERROR(データ完成!D28),\"\",データ完成!D28)","v":""},{"$f":"データ完成!E28","v":""},{"$f":"データ完成!F28","v":""},{"$f":"データ完成!G28","v":""},{"$f":"IF(ISERROR(データ完成!J28),\"\",データ完成!J28)","v":""},{"$f":"IF(ISERROR(データ完成!K28),\"\",データ完成!K28)","v":""}]
[null,null,null,null,null,null,null,null,null,null,null,null,null,27,"",{"$f":"IF(ISERROR(データ完成!C29),\"\",(データ完成!C29))","v":""},{"$f":"IF(ISERROR(データ完成!D29),\"\",データ完成!D29)","v":""},{"$f":"データ完成!E29","v":""},{"$f":"データ完成!F29","v":""},{"$f":"データ完成!G29","v":""},{"$f":"IF(ISERROR(データ完成!J29),\"\",データ完成!J29)","v":""},{"$f":"IF(ISERROR(データ完成!K29),\"\",データ完成!K29)","v":""}]
[null,null,null,null,null,null,null,null,null,null,null,null,null,28,"",{"$f":"IF(ISERROR(データ完成!C30),\"\",(データ完成!C30))","v":""},{"$f":"IF(ISERROR(データ完成!D30),\"\",データ完成!D30)","v":""},{"$f":"データ完成!E30","v":""},{"$f":"データ完成!F30","v":""},{"$f":"データ完成!G30","v":""},{"$f":"IF(ISERROR(データ完成!J30),\"\",データ完成!J30)","v":""},{"$f":"IF(ISERROR(データ完成!K30),\"\",データ完成!K30)","v":""}]
[null,null,null,null,null,null,null,null,null,null,null,null,null,29,"",{"$f":"IF(ISERROR(データ完成!C31),\"\",(データ完成!C31))","v":""},{"$f":"IF(ISERROR(データ完成!D31),\"\",データ完成!D31)","v":""},{"$f":"データ完成!E31","v":""},{"$f":"データ完成!F31","v":""},{"$f":"データ完成!G31","v":""},{"$f":"IF(ISERROR(データ完成!J31),\"\",データ完成!J31)","v":""},{"$f":"IF(ISERROR(データ完成!K31),\"\",データ完成!K31)","v":""}]
[null,null,null,null,null,null,null,null,null,null,null,null,null,30,"",{"$f":"IF(ISERROR(データ完成!C32),\"\",(データ完成!C32))","v":""},{"$f":"IF(ISERROR(データ完成!D32),\"\",データ完成!D32)","v":""},{"$f":"データ完成!E32","v":""},{"$f":"データ完成!F32","v":""},{"$f":"データ完成!G32","v":""},{"$f":"IF(ISERROR(データ完成!J32),\"\",データ完成!J32)","v":""},{"$f":"IF(ISERROR(データ完成!K32),\"\",データ完成!K32)","v":""}]
[null,null,null,null,null,null,null,null,null,null,null,null,null,31,"",{"$f":"IF(ISERROR(データ完成!C33),\"\",(データ完成!C33))","v":""},{"$f":"IF(ISERROR(データ完成!D33),\"\",データ完成!D33)","v":""},{"$f":"データ完成!E33","v":""},{"$f":"データ完成!F33","v":""},{"$f":"データ完成!G33","v":""},{"$f":"IF(ISERROR(データ完成!J33),\"\",データ完成!J33)","v":""},{"$f":"IF(ISERROR(データ完成!K33),\"\",データ完成!K33)","v":""}]
[null,null,null,null,null,null,null,null,null,null,null,null,null,32,"",{"$f":"IF(ISERROR(データ完成!C34),\"\",(データ完成!C34))","v":""},{"$f":"IF(ISERROR(データ完成!D34),\"\",データ完成!D34)","v":""},{"$f":"データ完成!E34","v":""},{"$f":"データ完成!F34","v":""},{"$f":"データ完成!G34","v":""},{"$f":"IF(ISERROR(データ完成!J34),\"\",データ完成!J34)","v":""},{"$f":"IF(ISERROR(データ完成!K34),\"\",データ完成!K34)","v":""}]
[null,null,null,null,null,null,null,null,null,null,null,null,null,33,"",{"$f":"IF(ISERROR(データ完成!C35),\"\",(データ完成!C35))","v":""},{"$f":"IF(ISERROR(データ完成!D35),\"\",データ完成!D35)","v":""},{"$f":"データ完成!E35","v":""},{"$f":"データ完成!F35","v":""},{"$f":"データ完成!G35","v":""},{"$f":"IF(ISERROR(データ完成!J35),\"\",データ完成!J35)","v":""},{"$f":"IF(ISERROR(データ完成!K35),\"\",データ完成!K35)","v":""}]
[null,null,null,null,null,null,null,null,null,null,null,null,null,34,"",{"$f":"IF(ISERROR(データ完成!C36),\"\",(データ完成!C36))","v":""},{"$f":"IF(ISERROR(データ完成!D36),\"\",データ完成!D36)","v":""},{"$f":"データ完成!E36","v":""},{"$f":"データ完成!F36","v":""},{"$f":"データ完成!G36","v":""},{"$f":"IF(ISERROR(データ完成!J36),\"\",データ完成!J36)","v":""},{"$f":"IF(ISERROR(データ完成!K36),\"\",データ完成!K36)","v":""}]
[null,null,null,null,null,null,null,null,null,null,null,null,null,35,"",{"$f":"IF(ISERROR(データ完成!C37),\"\",(データ完成!C37))","v":""},{"$f":"IF(ISERROR(データ完成!D37),\"\",データ完成!D37)","v":""},{"$f":"データ完成!E37","v":""},{"$f":"データ完成!F37","v":""},{"$f":"データ完成!G37","v":""},{"$f":"IF(ISERROR(データ完成!J37),\"\",データ完成!J37)","v":""},{"$f":"IF(ISERROR(データ完成!K37),\"\",データ完成!K37)","v":""}]
[null,null,null,null,null,null,null,null,null,null,null,null,null,36,"",{"$f":"IF(ISERROR(データ完成!C38),\"\",(データ完成!C38))","v":""},{"$f":"IF(ISERROR(データ完成!D38),\"\",データ完成!D38)","v":""},{"$f":"データ完成!E38","v":""},{"$f":"データ完成!F38","v":""},{"$f":"データ完成!G38","v":""},{"$f":"IF(ISERROR(データ完成!J38),\"\",データ完成!J38)","v":""},{"$f":"IF(ISERROR(データ完成!K38),\"\",データ完成!K38)","v":""}]
[null,null,null,null,null,null,null,null,null,null,null,null,null,37,"",{"$f":"IF(ISERROR(データ完成!C39),\"\",(データ完成!C39))","v":""},{"$f":"IF(ISERROR(データ完成!D39),\"\",データ完成!D39)","v":""},{"$f":"データ完成!E39","v":""},{"$f":"データ完成!F39","v":""},{"$f":"データ完成!G39","v":""},{"$f":"IF(ISERROR(データ完成!J39),\"\",データ完成!J39)","v":""},{"$f":"IF(ISERROR(データ完成!K39),\"\",データ完成!K39)","v":""}]
[null,null,null,null,null,null,null,null,null,null,null,null,null,38,"",{"$f":"IF(ISERROR(データ完成!C40),\"\",(データ完成!C40))","v":""},{"$f":"IF(ISERROR(データ完成!D40),\"\",データ完成!D40)","v":""},{"$f":"データ完成!E40","v":""},{"$f":"データ完成!F40","v":""},{"$f":"データ完成!G40","v":""},{"$f":"IF(ISERROR(データ完成!J40),\"\",データ完成!J40)","v":""},{"$f":"IF(ISERROR(データ完成!K40),\"\",データ完成!K40)","v":""}]
[null,"申込人数",null,"男　　　　　子",null,null,"女　　　　　子",null,null,"合　　　　　計",null,null,null,39,"",{"$f":"IF(ISERROR(データ完成!C41),\"\",(データ完成!C41))","v":""},{"$f":"IF(ISERROR(データ完成!D41),\"\",データ完成!D41)","v":""},{"$f":"データ完成!E41","v":""},{"$f":"データ完成!F41","v":""},{"$f":"データ完成!G41","v":""},{"$f":"IF(ISERROR(データ完成!J41),\"\",データ完成!J41)","v":""},{"$f":"IF(ISERROR(データ完成!K41),\"\",データ完成!K41)","v":""}]
[null,"男　　子",null,{"$f":"初期設定!D16&\"   人\"","v":"   人"},null,null,{"$f":"初期設定!D17&\"   人\"","v":"0   人"},null,null,{"$f":"初期設定!D18&\"   人\"","v":"0   人"},null,null,null,40,"",{"$f":"IF(ISERROR(データ完成!C42),\"\",(データ完成!C42))","v":""},{"$f":"IF(ISERROR(データ完成!D42),\"\",データ完成!D42)","v":""},{"$f":"データ完成!E42","v":""},{"$f":"データ完成!F42","v":""},{"$f":"データ完成!G42","v":""},{"$f":"IF(ISERROR(データ完成!J42),\"\",データ完成!J42)","v":""},{"$f":"IF(ISERROR(データ完成!K42),\"\",データ完成!K42)","v":""}]
[null,null,null,null,null,null,null,null,null,null,null,null,null,41,"",{"$f":"IF(ISERROR(データ完成!C43),\"\",(データ完成!C43))","v":""},{"$f":"IF(ISERROR(データ完成!D43),\"\",データ完成!D43)","v":""},{"$f":"データ完成!E43","v":""},{"$f":"データ完成!F43","v":""},{"$f":"データ完成!G43","v":""},{"$f":"IF(ISERROR(データ完成!J43),\"\",データ完成!J43)","v":""},{"$f":"IF(ISERROR(データ完成!K43),\"\",データ完成!K43)","v":""}]
[null,"推薦審判員　　　確実に出席できる　　審判員を記入のこと",null,"氏　　　　　　名",null,null,null,"年　　齢","審判資格",null,null,null,null,42,"",{"$f":"IF(ISERROR(データ完成!C44),\"\",(データ完成!C44))","v":""},{"$f":"IF(ISERROR(データ完成!D44),\"\",データ完成!D44)","v":""},{"$f":"データ完成!E44","v":""},{"$f":"データ完成!F44","v":""},{"$f":"データ完成!G44","v":""},{"$f":"IF(ISERROR(データ完成!J44),\"\",データ完成!J44)","v":""},{"$f":"IF(ISERROR(データ完成!K44),\"\",データ完成!K44)","v":""}]
[null,null,null,{"$f":"IF(初期設定!C11=\"\",\"\",初期設定!C11)","v":""},null,null,null,{"$f":"IF(初期設定!D11=\"\",\"\",初期設定!D11)","v":""},{"$f":"IF(初期設定!E11=\"\",\"\",初期設定!E11)","v":""},null,null,null,null,43,"",{"$f":"IF(ISERROR(データ完成!C45),\"\",(データ完成!C45))","v":""},{"$f":"IF(ISERROR(データ完成!D45),\"\",データ完成!D45)","v":""},{"$f":"データ完成!E45","v":""},{"$f":"データ完成!F45","v":""},{"$f":"データ完成!G45","v":""},{"$f":"IF(ISERROR(データ完成!J45),\"\",データ完成!J45)","v":""},{"$f":"IF(ISERROR(データ完成!K45),\"\",データ完成!K45)","v":""}]
[null,null,null,{"$f":"IF(初期設定!C12=\"\",\"\",初期設定!C12)","v":""},null,null,null,{"$f":"IF(初期設定!D12=\"\",\"\",初期設定!D12)","v":""},{"$f":"IF(初期設定!E12=\"\",\"\",初期設定!E12)","v":""},null,null,null,null,44,"",{"$f":"IF(ISERROR(データ完成!C46),\"\",(データ完成!C46))","v":""},{"$f":"IF(ISERROR(データ完成!D46),\"\",データ完成!D46)","v":""},{"$f":"データ完成!E46","v":""},{"$f":"データ完成!F46","v":""},{"$f":"データ完成!G46","v":""},{"$f":"IF(ISERROR(データ完成!J46),\"\",データ完成!J46)","v":""},{"$f":"IF(ISERROR(データ完成!K46),\"\",データ完成!K46)","v":""}]
[null,null,null,{"$f":"IF(初期設定!C13=\"\",\"\",初期設定!C13)","v":""},null,null,null,{"$f":"IF(初期設定!D13=\"\",\"\",初期設定!D13)","v":""},{"$f":"IF(初期設定!E13=\"\",\"\",初期設定!E13)","v":""},null,null,null,null,45,"",{"$f":"IF(ISERROR(データ完成!C47),\"\",(データ完成!C47))","v":""},{"$f":"IF(ISERROR(データ完成!D47),\"\",データ完成!D47)","v":""},{"$f":"データ完成!E47","v":""},{"$f":"データ完成!F47","v":""},{"$f":"データ完成!G47","v":""},{"$f":"IF(ISERROR(データ完成!J47),\"\",データ完成!J47)","v":""},{"$f":"IF(ISERROR(データ完成!K47),\"\",データ完成!K47)","v":""}]
[null,null,null,{"$f":"IF(初期設定!C14=\"\",\"\",初期設定!C14)","v":""},null,null,null,{"$f":"IF(初期設定!D14=\"\",\"\",初期設定!D14)","v":""},{"$f":"IF(初期設定!E14=\"\",\"\",初期設定!E14)","v":""},null,null,null,null,46,"",{"$f":"IF(ISERROR(データ完成!C48),\"\",(データ完成!C48))","v":""},{"$f":"IF(ISERROR(データ完成!D48),\"\",データ完成!D48)","v":""},{"$f":"データ完成!E48","v":""},{"$f":"データ完成!F48","v":""},{"$f":"データ完成!G48","v":""},{"$f":"IF(ISERROR(データ完成!J48),\"\",データ完成!J48)","v":""},{"$f":"IF(ISERROR(データ完成!K48),\"\",データ完成!K48)","v":""}]
[null,null,null,null,null,null,null,null,null,null,null,null,null,47,"",{"$f":"IF(ISERROR(データ完成!C49),\"\",(データ完成!C49))","v":""},{"$f":"IF(ISERROR(データ完成!D49),\"\",データ完成!D49)","v":""},{"$f":"データ完成!E49","v":""},{"$f":"データ完成!F49","v":""},{"$f":"データ完成!G49","v":""},{"$f":"IF(ISERROR(データ完成!J49),\"\",データ完成!J49)","v":""},{"$f":"IF(ISERROR(データ完成!K49),\"\",データ完成!K49)","v":""}]
[null,null,null,null,null,null,null,null,null,null,null,null,null,48,"",{"$f":"IF(ISERROR(データ完成!C50),\"\",(データ完成!C50))","v":""},{"$f":"IF(ISERROR(データ完成!D50),\"\",データ完成!D50)","v":""},{"$f":"データ完成!E50","v":""},{"$f":"データ完成!F50","v":""},{"$f":"データ完成!G50","v":""},{"$f":"IF(ISERROR(データ完成!J50),\"\",データ完成!J50)","v":""},{"$f":"IF(ISERROR(データ完成!K50),\"\",データ完成!K50)","v":""}]
[null,null,null,null,null,null,null,null,null,null,null,null,null,49,"",{"$f":"IF(ISERROR(データ完成!C51),\"\",(データ完成!C51))","v":""},{"$f":"IF(ISERROR(データ完成!D51),\"\",データ完成!D51)","v":""},{"$f":"データ完成!E51","v":""},{"$f":"データ完成!F51","v":""},{"$f":"データ完成!G51","v":""},{"$f":"IF(ISERROR(データ完成!J51),\"\",データ完成!J51)","v":""},{"$f":"IF(ISERROR(データ完成!K51),\"\",データ完成!K51)","v":""}]
[null,null,null,null,null,null,null,null,null,null,null,null,null,50,"",{"$f":"IF(ISERROR(データ完成!C52),\"\",(データ完成!C52))","v":""},{"$f":"IF(ISERROR(データ完成!D52),\"\",データ完成!D52)","v":""},{"$f":"データ完成!E52","v":""},{"$f":"データ完成!F52","v":""},{"$f":"データ完成!G52","v":""},{"$f":"IF(ISERROR(データ完成!J52),\"\",データ完成!J52)","v":""},{"$f":"IF(ISERROR(データ完成!K52),\"\",データ完成!K52)","v":""}]
[null,null,null,null,null,null,null,null,null,null,null,null,null,51,"",{"$f":"IF(ISERROR(データ完成!C53),\"\",(データ完成!C53))","v":""},{"$f":"IF(ISERROR(データ完成!D53),\"\",データ完成!D53)","v":""},{"$f":"データ完成!E53","v":""},{"$f":"データ完成!F53","v":""},{"$f":"データ完成!G53","v":""},{"$f":"IF(ISERROR(データ完成!J53),\"\",データ完成!J53)","v":0},{"$f":"IF(ISERROR(データ完成!K53),\"\",データ完成!K53)","v":0}]
[null,null,null,null,null,null,null,null,null,null,null,null,null,52,"",{"$f":"IF(ISERROR(データ完成!C54),\"\",(データ完成!C54))","v":""},{"$f":"IF(ISERROR(データ完成!D54),\"\",データ完成!D54)","v":""},{"$f":"データ完成!E54","v":""},{"$f":"データ完成!F54","v":""},{"$f":"データ完成!G54","v":""},{"$f":"IF(ISERROR(データ完成!J54),\"\",データ完成!J54)","v":0},{"$f":"IF(ISERROR(データ完成!K54),\"\",データ完成!K54)","v":0}]
[null,null,null,null,null,null,null,null,null,null,null,null,null,53,"",{"$f":"IF(ISERROR(データ完成!C55),\"\",(データ完成!C55))","v":""},{"$f":"IF(ISERROR(データ完成!D55),\"\",データ完成!D55)","v":""},{"$f":"データ完成!E55","v":""},{"$f":"データ完成!F55","v":""},{"$f":"データ完成!G55","v":""},{"$f":"IF(ISERROR(データ完成!J55),\"\",データ完成!J55)","v":0},{"$f":"IF(ISERROR(データ完成!K55),\"\",データ完成!K55)","v":0}]
[null,null,null,null,null,null,null,null,null,null,null,null,null,54,"",{"$f":"IF(ISERROR(データ完成!C56),\"\",(データ完成!C56))","v":""},{"$f":"IF(ISERROR(データ完成!D56),\"\",データ完成!D56)","v":""},{"$f":"データ完成!E56","v":""},{"$f":"データ完成!F56","v":""},{"$f":"データ完成!G56","v":""},{"$f":"IF(ISERROR(データ完成!J56),\"\",データ完成!J56)","v":0},{"$f":"IF(ISERROR(データ完成!K56),\"\",データ完成!K56)","v":0}]
[null,null,null,null,null,null,null,null,null,null,null,null,null,55,"",{"$f":"IF(ISERROR(データ完成!C57),\"\",(データ完成!C57))","v":""},{"$f":"IF(ISERROR(データ完成!D57),\"\",データ完成!D57)","v":""},{"$f":"データ完成!E57","v":""},{"$f":"データ完成!F57","v":""},{"$f":"データ完成!G57","v":""},{"$f":"IF(ISERROR(データ完成!J57),\"\",データ完成!J57)","v":0},{"$f":"IF(ISERROR(データ完成!K57),\"\",データ完成!K57)","v":0}]
[null,null,null,null,null,null,null,null,null,null,null,null,null,56,"",{"$f":"IF(ISERROR(データ完成!C58),\"\",(データ完成!C58))","v":""},{"$f":"IF(ISERROR(データ完成!D58),\"\",データ完成!D58)","v":""},{"$f":"データ完成!E58","v":""},{"$f":"データ完成!F58","v":""},{"$f":"データ完成!G58","v":""},{"$f":"IF(ISERROR(データ完成!J58),\"\",データ完成!J58)","v":0},{"$f":"IF(ISERROR(データ完成!K58),\"\",データ完成!K58)","v":0}]
[null,null,null,null,null,null,null,null,null,null,null,null,null,57,"",{"$f":"IF(ISERROR(データ完成!C59),\"\",(データ完成!C59))","v":""},{"$f":"IF(ISERROR(データ完成!D59),\"\",データ完成!D59)","v":""},{"$f":"データ完成!E59","v":""},{"$f":"データ完成!F59","v":""},{"$f":"データ完成!G59","v":""},{"$f":"IF(ISERROR(データ完成!J59),\"\",データ完成!J59)","v":0},{"$f":"IF(ISERROR(データ完成!K59),\"\",データ完成!K59)","v":0}]
[null,null,null,null,null,null,null,null,null,null,null,null,null,58,"",{"$f":"IF(ISERROR(データ完成!C60),\"\",(データ完成!C60))","v":""},{"$f":"IF(ISERROR(データ完成!D60),\"\",データ完成!D60)","v":""},{"$f":"データ完成!E60","v":""},{"$f":"データ完成!F60","v":""},{"$f":"データ完成!G60","v":""},{"$f":"IF(ISERROR(データ完成!J60),\"\",データ完成!J60)","v":0},{"$f":"IF(ISERROR(データ完成!K60),\"\",データ完成!K60)","v":0}]
[null,null,null,null,null,null,null,null,null,null,null,null,null,59,"",{"$f":"IF(ISERROR(データ完成!C61),\"\",(データ完成!C61))","v":""},{"$f":"IF(ISERROR(データ完成!D61),\"\",データ完成!D61)","v":""},{"$f":"データ完成!E61","v":""},{"$f":"データ完成!F61","v":""},{"$f":"データ完成!G61","v":""},{"$f":"IF(ISERROR(データ完成!J61),\"\",データ完成!J61)","v":0},{"$f":"IF(ISERROR(データ完成!K61),\"\",データ完成!K61)","v":0}]
[null,null,null,null,null,null,null,null,null,null,null,null,null,60,"",{"$f":"IF(ISERROR(データ完成!C62),\"\",(データ完成!C62))","v":""},{"$f":"IF(ISERROR(データ完成!D62),\"\",データ完成!D62)","v":""},{"$f":"データ完成!E62","v":""},{"$f":"データ完成!F62","v":""},{"$f":"データ完成!G62","v":""},{"$f":"IF(ISERROR(データ完成!J62),\"\",データ完成!J62)","v":0},{"$f":"IF(ISERROR(データ完成!K62),\"\",データ完成!K62)","v":0}]
[null,null,null,null,null,null,null,null,null,null,null,null,null,61,"",{"$f":"IF(ISERROR(データ完成!C63),\"\",(データ完成!C63))","v":""},{"$f":"IF(ISERROR(データ完成!D63),\"\",データ完成!D63)","v":""},{"$f":"データ完成!E63","v":""},{"$f":"データ完成!F63","v":""},{"$f":"データ完成!G63","v":""},{"$f":"IF(ISERROR(データ完成!J63),\"\",データ完成!J63)","v":0},{"$f":"IF(ISERROR(データ完成!K63),\"\",データ完成!K63)","v":0}]
[null,null,null,null,null,null,null,null,null,null,null,null,null,62,"",{"$f":"IF(ISERROR(データ完成!C64),\"\",(データ完成!C64))","v":""},{"$f":"IF(ISERROR(データ完成!D64),\"\",データ完成!D64)","v":""},{"$f":"データ完成!E64","v":""},{"$f":"データ完成!F64","v":""},{"$f":"データ完成!G64","v":""},{"$f":"IF(ISERROR(データ完成!J64),\"\",データ完成!J64)","v":0},{"$f":"IF(ISERROR(データ完成!K64),\"\",データ完成!K64)","v":0}]
[null,null,null,null,null,null,null,null,null,null,null,null,null,63,"",{"$f":"IF(ISERROR(データ完成!C65),\"\",(データ完成!C65))","v":""},{"$f":"IF(ISERROR(データ完成!D65),\"\",データ完成!D65)","v":""},{"$f":"データ完成!E65","v":""},{"$f":"データ完成!F65","v":""},{"$f":"データ完成!G65","v":""},{"$f":"IF(ISERROR(データ完成!J65),\"\",データ完成!J65)","v":0},{"$f":"IF(ISERROR(データ完成!K65),\"\",データ完成!K65)","v":0}]
[null,null,null,null,null,null,null,null,null,null,null,null,null,64,"",{"$f":"IF(ISERROR(データ完成!C66),\"\",(データ完成!C66))","v":""},{"$f":"IF(ISERROR(データ完成!D66),\"\",データ完成!D66)","v":""},{"$f":"データ完成!E66","v":""},{"$f":"データ完成!F66","v":""},{"$f":"データ完成!G66","v":""},{"$f":"IF(ISERROR(データ完成!J66),\"\",データ完成!J66)","v":0},{"$f":"IF(ISERROR(データ完成!K66),\"\",データ完成!K66)","v":0}]
[null,null,null,null,null,null,null,null,null,null,null,null,null,65,"",{"$f":"IF(ISERROR(データ完成!C67),\"\",(データ完成!C67))","v":""},{"$f":"IF(ISERROR(データ完成!D67),\"\",データ完成!D67)","v":""},{"$f":"データ完成!E67","v":""},{"$f":"データ完成!F67","v":""},{"$f":"データ完成!G67","v":""},{"$f":"IF(ISERROR(データ完成!J67),\"\",データ完成!J67)","v":0},{"$f":"IF(ISERROR(データ完成!K67),\"\",データ完成!K67)","v":0}]

{"sheet":"データ貼付","index":5,"n_rows":102,"n_cols":10,"rows_kept":102,"cut":false,"hidden":true,"merged":[]}
[]
[null,null,null,"No.","氏名","種目","種目①","種目②"]
[{"$f":"IF(E3=\"\",\"\",IF(E2=E3,A2,A2+1))","v":""},{"$f":"IFERROR(IF(I3=\"\",A3*10+J3,A3*10+I3),\"\")","v":""},1,{"$f":"IF(計算①!E1=\"\",\"\",計算①!E1)","v":""},{"$f":"IF(D3=\"\",\"\",計算①!K1)","v":""},{"$f":"IF(D3=\"\",\"\",計算①!C1)","v":""},{"$f":"IF(F3=\"4x100R\",\"\",IF(F3=\"4x400R\",\"\",F3))","v":""},{"$f":"IF(G3=\"\",F3,\"\")","v":""},{"$f":"IF(G3=\"\",\"\",IF(D3=\"\",\"\",IF(D3=D2,I2+1,1)))","v":""},{"$f":"IF(H3=\"4x100R\",4,IF(H3=\"4x400R\",5,\"\"))","v":""}]
[{"$f":"IF(E4=\"\",\"\",IF(E3=E4,A3,A3+1))","v":""},{"$f":"IFERROR(IF(I4=\"\",A4*10+J4,A4*10+I4),\"\")","v":""},{"$f":"IF(E4=\"\",\"\",C3+1)","v":""},{"$f":"IF(計算①!E2=\"\",\"\",計算①!E2)","v":""},{"$f":"IF(D4=\"\",\"\",計算①!K2)","v":""},{"$f":"IF(D4=\"\",\"\",計算①!C2)","v":""},{"$f":"IF(F4=\"4x100R\",\"\",IF(F4=\"4x400R\",\"\",F4))","v":""},{"$f":"IF(G4=\"\",F4,\"\")","v":""},{"$f":"IF(G4=\"\",\"\",IF(D4=\"\",\"\",IF(D4=D3,I3+1,1)))","v":""},{"$f":"IF(H4=\"4x100R\",4,IF(H4=\"4x400R\",5,\"\"))","v":""}]
["","",{"$f":"IF(E5=\"\",\"\",C4+1)","v":""},{"$f":"IF(計算①!E3=\"\",\"\",計算①!E3)","v":""},{"$f":"IF(D5=\"\",\"\",計算①!K3)","v":""},{"$f":"IF(D5=\"\",\"\",計算①!C3)","v":""},"","","",""]
["","","",{"$f":"IF(計算①!E4=\"\",\"\",計算①!E4)","v":""},{"$f":"IF(D6=\"\",\"\",計算①!K4)","v":""},{"$f":"IF(D6=\"\",\"\",計算①!C4)","v":""},"","","",""]
["","","",{"$f":"IF(計算①!E5=\"\",\"\",計算①!E5)","v":""},{"$f":"IF(D7=\"\",\"\",計算①!K5)","v":""},{"$f":"IF(D7=\"\",\"\",計算①!C5)","v":""},"","","",""]
["","","",{"$f":"IF(計算①!E6=\"\",\"\",計算①!E6)","v":""},{"$f":"IF(D8=\"\",\"\",計算①!K6)","v":""},{"$f":"IF(D8=\"\",\"\",計算①!C6)","v":""},"","","",""]
["","","",{"$f":"IF(計算①!E7=\"\",\"\",計算①!E7)","v":""},{"$f":"IF(D9=\"\",\"\",計算①!K7)","v":""},{"$f":"IF(D9=\"\",\"\",計算①!C7)","v":""},"","","",""]
["","","",{"$f":"IF(計算①!E8=\"\",\"\",計算①!E8)","v":""},{"$f":"IF(D10=\"\",\"\",計算①!K8)","v":""},{"$f":"IF(D10=\"\",\"\",計算①!C8)","v":""},"","","",""]
["","","",{"$f":"IF(計算①!E9=\"\",\"\",計算①!E9)","v":""},{"$f":"IF(D11=\"\",\"\",計算①!K9)","v":""},{"$f":"IF(D11=\"\",\"\",計算①!C9)","v":""},"","","",""]
["","","",{"$f":"IF(計算①!E10=\"\",\"\",計算①!E10)","v":""},{"$f":"IF(D12=\"\",\"\",計算①!K10)","v":""},{"$f":"IF(D12=\"\",\"\",計算①!C10)","v":""},"","","",""]
["","","",{"$f":"IF(計算①!E11=\"\",\"\",計算①!E11)","v":""},{"$f":"IF(D13=\"\",\"\",計算①!K11)","v":""},{"$f":"IF(D13=\"\",\"\",計算①!C11)","v":""},"","","",""]
["","","",{"$f":"IF(計算①!E12=\"\",\"\",計算①!E12)","v":""},{"$f":"IF(D14=\"\",\"\",計算①!K12)","v":""},{"$f":"IF(D14=\"\",\"\",計算①!C12)","v":""},"","","",""]
["","","",{"$f":"IF(計算①!E13=\"\",\"\",計算①!E13)","v":""},{"$f":"IF(D15=\"\",\"\",計算①!K13)","v":""},{"$f":"IF(D15=\"\",\"\",計算①!C13)","v":""},"","","",""]
["","","",{"$f":"IF(計算①!E14=\"\",\"\",計算①!E14)","v":""},{"$f":"IF(D16=\"\",\"\",計算①!K14)","v":""},{"$f":"IF(D16=\"\",\"\",計算①!C14)","v":""},"","","",""]
["","","",{"$f":"IF(計算①!E15=\"\",\"\",計算①!E15)","v":""},{"$f":"IF(D17=\"\",\"\",計算①!K15)","v":""},{"$f":"IF(D17=\"\",\"\",計算①!C15)","v":""},"","","",""]
["","","",{"$f":"IF(計算①!E16=\"\",\"\",計算①!E16)","v":""},{"$f":"IF(D18=\"\",\"\",計算①!K16)","v":""},{"$f":"IF(D18=\"\",\"\",計算①!C16)","v":""},"","","",""]
["","","",{"$f":"IF(計算①!E17=\"\",\"\",計算①!E17)","v":""},{"$f":"IF(D19=\"\",\"\",計算①!K17)","v":""},{"$f":"IF(D19=\"\",\"\",計算①!C17)","v":""},"","","",""]
["","","",{"$f":"IF(計算①!E18=\"\",\"\",計算①!E18)","v":""},{"$f":"IF(D20=\"\",\"\",計算①!K18)","v":""},{"$f":"IF(D20=\"\",\"\",計算①!C18)","v":""},"","","",""]
["","","",{"$f":"IF(計算①!E19=\"\",\"\",計算①!E19)","v":""},{"$f":"IF(D21=\"\",\"\",計算①!K19)","v":""},{"$f":"IF(D21=\"\",\"\",計算①!C19)","v":""},"","","",""]
["","","",{"$f":"IF(計算①!E20=\"\",\"\",計算①!E20)","v":""},{"$f":"IF(D22=\"\",\"\",計算①!K20)","v":""},{"$f":"IF(D22=\"\",\"\",計算①!C20)","v":""},"","","",""]
["","","",{"$f":"IF(計算①!E21=\"\",\"\",計算①!E21)","v":""},{"$f":"IF(D23=\"\",\"\",計算①!K21)","v":""},{"$f":"IF(D23=\"\",\"\",計算①!C21)","v":""},"","","",""]
["","","",{"$f":"IF(計算①!E22=\"\",\"\",計算①!E22)","v":""},{"$f":"IF(D24=\"\",\"\",計算①!K22)","v":""},{"$f":"IF(D24=\"\",\"\",計算①!C22)","v":""},"","","",""]
["","","",{"$f":"IF(計算①!E23=\"\",\"\",計算①!E23)","v":""},{"$f":"IF(D25=\"\",\"\",計算①!K23)","v":""},{"$f":"IF(D25=\"\",\"\",計算①!C23)","v":""},"","","",""]
["","","",{"$f":"IF(計算①!E24=\"\",\"\",計算①!E24)","v":""},{"$f":"IF(D26=\"\",\"\",計算①!K24)","v":""},{"$f":"IF(D26=\"\",\"\",計算①!C24)","v":""},"","","",""]
["","","",{"$f":"IF(計算①!E25=\"\",\"\",計算①!E25)","v":""},{"$f":"IF(D27=\"\",\"\",計算①!K25)","v":""},{"$f":"IF(D27=\"\",\"\",計算①!C25)","v":""},"","","",""]
["","","",{"$f":"IF(計算①!E26=\"\",\"\",計算①!E26)","v":""},{"$f":"IF(D28=\"\",\"\",計算①!K26)","v":""},{"$f":"IF(D28=\"\",\"\",計算①!C26)","v":""},"","","",""]
["","","",{"$f":"IF(計算①!E27=\"\",\"\",計算①!E27)","v":""},{"$f":"IF(D29=\"\",\"\",計算①!K27)","v":""},{"$f":"IF(D29=\"\",\"\",計算①!C27)","v":""},"","","",""]
["","","",{"$f":"IF(計算①!E28=\"\",\"\",計算①!E28)","v":""},{"$f":"IF(D30=\"\",\"\",計算①!K28)","v":""},{"$f":"IF(D30=\"\",\"\",計算①!C28)","v":""},"","","",""]
["","","",{"$f":"IF(計算①!E29=\"\",\"\",計算①!E29)","v":""},{"$f":"IF(D31=\"\",\"\",計算①!K29)","v":""},{"$f":"IF(D31=\"\",\"\",計算①!C29)","v":""},"","","",""]
["","","",{"$f":"IF(計算①!E30=\"\",\"\",計算①!E30)","v":""},{"$f":"IF(D32=\"\",\"\",計算①!K30)","v":""},{"$f":"IF(D32=\"\",\"\",計算①!C30)","v":""},"","","",""]
["","","",{"$f":"IF(計算①!E31=\"\",\"\",計算①!E31)","v":""},{"$f":"IF(D33=\"\",\"\",計算①!K31)","v":""},{"$f":"IF(D33=\"\",\"\",計算①!C31)","v":""},"","","",""]
["","","",{"$f":"IF(計算①!E32=\"\",\"\",計算①!E32)","v":""},{"$f":"IF(D34=\"\",\"\",計算①!K32)","v":""},{"$f":"IF(D34=\"\",\"\",計算①!C32)","v":""},"","","",""]
["","","",{"$f":"IF(計算①!E33=\"\",\"\",計算①!E33)","v":""},{"$f":"IF(D35=\"\",\"\",計算①!K33)","v":""},{"$f":"IF(D35=\"\",\"\",計算①!C33)","v":""},"","","",""]
["","","",{"$f":"IF(計算①!E34=\"\",\"\",計算①!E34)","v":""},{"$f":"IF(D36=\"\",\"\",計算①!K34)","v":""},{"$f":"IF(D36=\"\",\"\",計算①!C34)","v":""},"","","",""]
["","","",{"$f":"IF(計算①!E35=\"\",\"\",計算①!E35)","v":""},{"$f":"IF(D37=\"\",\"\",計算①!K35)","v":""},{"$f":"IF(D37=\"\",\"\",計算①!C35)","v":""},"","","",""]
["","","",{"$f":"IF(計算①!E36=\"\",\"\",計算①!E36)","v":""},{"$f":"IF(D38=\"\",\"\",計算①!K36)","v":""},{"$f":"IF(D38=\"\",\"\",計算①!C36)","v":""},"","","",""]
["","","",{"$f":"IF(計算①!E37=\"\",\"\",計算①!E37)","v":""},{"$f":"IF(D39=\"\",\"\",計算①!K37)","v":""},{"$f":"IF(D39=\"\",\"\",計算①!C37)","v":""},"","","",""]
["","","",{"$f":"IF(計算①!E38=\"\",\"\",計算①!E38)","v":""},{"$f":"IF(D40=\"\",\"\",計算①!K38)","v":""},{"$f":"IF(D40=\"\",\"\",計算①!C38)","v":""},"","","",""]
["","","",{"$f":"IF(計算①!E39=\"\",\"\",計算①!E39)","v":""},{"$f":"IF(D41=\"\",\"\",計算①!K39)","v":""},{"$f":"IF(D41=\"\",\"\",計算①!C39)","v":""},"","","",""]
["","","",{"$f":"IF(計算①!E40=\"\",\"\",計算①!E40)","v":""},{"$f":"IF(D42=\"\",\"\",計算①!K40)","v":""},{"$f":"IF(D42=\"\",\"\",計算①!C40)","v":""},"","","",""]
["","","",{"$f":"IF(計算①!E41=\"\",\"\",計算①!E41)","v":""},{"$f":"IF(D43=\"\",\"\",計算①!K41)","v":""},{"$f":"IF(D43=\"\",\"\",計算①!C41)","v":""},"","","",""]
["","","",{"$f":"IF(計算①!E42=\"\",\"\",計算①!E42)","v":""},{"$f":"IF(D44=\"\",\"\",計算①!K42)","v":""},{"$f":"IF(D44=\"\",\"\",計算①!C42)","v":""},"","","",""]
["","","",{"$f":"IF(計算①!E43=\"\",\"\",計算①!E43)","v":""},{"$f":"IF(D45=\"\",\"\",計算①!K43)","v":""},{"$f":"IF(D45=\"\",\"\",計算①!C43)","v":""},"","","",""]
["","","",{"$f":"IF(計算①!E44=\"\",\"\",計算①!E44)","v":""},{"$f":"IF(D46=\"\",\"\",計算①!K44)","v":""},{"$f":"IF(D46=\"\",\"\",計算①!C44)","v":""},"","","",""]
["","","",{"$f":"IF(計算①!E45=\"\",\"\",計算①!E45)","v":""},{"$f":"IF(D47=\"\",\"\",計算①!K45)","v":""},{"$f":"IF(D47=\"\",\"\",計算①!C45)","v":""},"","","",""]
["","","",{"$f":"IF(計算①!E46=\"\",\"\",計算①!E46)","v":""},{"$f":"IF(D48=\"\",\"\",計算①!K46)","v":""},{"$f":"IF(D48=\"\",\"\",計算①!C46)","v":""},"","","",""]
["","","",{"$f":"IF(計算①!E47=\"\",\"\",計算①!E47)","v":""},{"$f":"IF(D49=\"\",\"\",計算①!K47)","v":""},{"$f":"IF(D49=\"\",\"\",計算①!C47)","v":""},"","","",""]
["","","",{"$f":"IF(計算①!E48=\"\",\"\",計算①!E48)","v":""},{"$f":"IF(D50=\"\",\"\",計算①!K48)","v":""},{"$f":"IF(D50=\"\",\"\",計算①!C48)","v":""},"","","",""]
["","","",{"$f":"IF(計算①!E49=\"\",\"\",計算①!E49)","v":""},{"$f":"IF(D51=\"\",\"\",計算①!K49)","v":""},{"$f":"IF(D51=\"\",\"\",計算①!C49)","v":""},"","","",""]
["","","",{"$f":"IF(計算①!E50=\"\",\"\",計算①!E50)","v":""},{"$f":"IF(D52=\"\",\"\",計算①!K50)","v":""},{"$f":"IF(D52=\"\",\"\",計算①!C50)","v":""},"","","",""]
["","","",{"$f":"IF(計算①!E51=\"\",\"\",計算①!E51)","v":""},{"$f":"IF(D53=\"\",\"\",計算①!K51)","v":""},{"$f":"IF(D53=\"\",\"\",計算①!C51)","v":""},"","","",""]
["","","",{"$f":"IF(計算①!E52=\"\",\"\",計算①!E52)","v":""},{"$f":"IF(D54=\"\",\"\",計算①!K52)","v":""},{"$f":"IF(D54=\"\",\"\",計算①!C52)","v":""},"","","",""]
["","","",{"$f":"IF(計算①!E53=\"\",\"\",計算①!E53)","v":""},{"$f":"IF(D55=\"\",\"\",計算①!K53)","v":""},{"$f":"IF(D55=\"\",\"\",計算①!C53)","v":""},"","","",""]
["","","",{"$f":"IF(計算①!E54=\"\",\"\",計算①!E54)","v":""},{"$f":"IF(D56=\"\",\"\",計算①!K54)","v":""},{"$f":"IF(D56=\"\",\"\",計算①!C54)","v":""},"","","",""]
["","","",{"$f":"IF(計算①!E55=\"\",\"\",計算①!E55)","v":""},{"$f":"IF(D57=\"\",\"\",計算①!K55)","v":""},{"$f":"IF(D57=\"\",\"\",計算①!C55)","v":""},"","","",""]
["","","",{"$f":"IF(計算①!E56=\"\",\"\",計算①!E56)","v":""},{"$f":"IF(D58=\"\",\"\",計算①!K56)","v":""},{"$f":"IF(D58=\"\",\"\",計算①!C56)","v":""},"","","",""]
["","","",{"$f":"IF(計算①!E57=\"\",\"\",計算①!E57)","v":""},{"$f":"IF(D59=\"\",\"\",計算①!K57)","v":""},{"$f":"IF(D59=\"\",\"\",計算①!C57)","v":""},"","","",""]
["","","",{"$f":"IF(計算①!E58=\"\",\"\",計算①!E58)","v":""},{"$f":"IF(D60=\"\",\"\",計算①!K58)","v":""},{"$f":"IF(D60=\"\",\"\",計算①!C58)","v":""},"","","",""]
["","","",{"$f":"IF(計算①!E59=\"\",\"\",計算①!E59)","v":""},{"$f":"IF(D61=\"\",\"\",計算①!K59)","v":""},{"$f":"IF(D61=\"\",\"\",計算①!C59)","v":""},"","","",""]
["","","",{"$f":"IF(計算①!E60=\"\",\"\",計算①!E60)","v":""},{"$f":"IF(D62=\"\",\"\",計算①!K60)","v":""},{"$f":"IF(D62=\"\",\"\",計算①!C60)","v":""},"","","",""]
["","","",{"$f":"IF(計算①!E61=\"\",\"\",計算①!E61)","v":""},{"$f":"IF(D63=\"\",\"\",計算①!K61)","v":""},{"$f":"IF(D63=\"\",\"\",計算①!C61)","v":""},"","","",""]
["","","",{"$f":"IF(計算①!E62=\"\",\"\",計算①!E62)","v":""},{"$f":"IF(D64=\"\",\"\",計算①!K62)","v":""},{"$f":"IF(D64=\"\",\"\",計算①!C62)","v":""},"","","",""]
["","","",{"$f":"IF(計算①!E63=\"\",\"\",計算①!E63)","v":""},{"$f":"IF(D65=\"\",\"\",計算①!K63)","v":""},{"$f":"IF(D65=\"\",\"\",計算①!C63)","v":""},"","","",""]
["","","",{"$f":"IF(計算①!E64=\"\",\"\",計算①!E64)","v":""},{"$f":"IF(D66=\"\",\"\",計算①!K64)","v":""},{"$f":"IF(D66=\"\",\"\",計算①!C64)","v":""},"","","",""]
["","","",{"$f":"IF(計算①!E65=\"\",\"\",計算①!E65)","v":""},{"$f":"IF(D67=\"\",\"\",計算①!K65)","v":""},{"$f":"IF(D67=\"\",\"\",計算①!C65)","v":""},"","","",""]
[{"$f":"IF(E68=\"\",\"\",IF(E67=E68,A67,A67+1))","v":""},{"$f":"IFERROR(IF(I68=\"\",A68*10+J68,A68*10+I68),\"\")","v":""},"",{"$f":"IF(計算①!E66=\"\",\"\",計算①!E66)","v":""},{"$f":"IF(D68=\"\",\"\",計算①!K66)","v":""},{"$f":"IF(D68=\"\",\"\",計算①!C66)","v":""},{"$f":"IF(F68=\"4x100R\",\"\",IF(F68=\"4x400R\",\"\",F68))","v":""},{"$f":"IF(G68=\"\",F68,\"\")","v":""},{"$f":"IF(G68=\"\",\"\",IF(D68=\"\",\"\",IF(D68=D67,I67+1,1)))","v":""},{"$f":"IF(H68=\"4x100R\",4,IF(H68=\"4x400R\",5,\"\"))","v":""}]
["","",{"$f":"IF(E69=\"\",\"\",C68+1)","v":""},{"$f":"IF(計算①!E67=\"\",\"\",計算①!E67)","v":""},{"$f":"IF(D69=\"\",\"\",計算①!K67)","v":""},{"$f":"IF(D69=\"\",\"\",計算①!C67)","v":""},"","","",""]
["","","",{"$f":"IF(計算①!E68=\"\",\"\",計算①!E68)","v":""},{"$f":"IF(D70=\"\",\"\",計算①!K68)","v":""},{"$f":"IF(D70=\"\",\"\",計算①!C68)","v":""},"","","",""]
["","","",{"$f":"IF(計算①!E69=\"\",\"\",計算①!E69)","v":""},{"$f":"IF(D71=\"\",\"\",計算①!K69)","v":""},{"$f":"IF(D71=\"\",\"\",計算①!C69)","v":""},"","","",""]
["","","",{"$f":"IF(計算①!E70=\"\",\"\",計算①!E70)","v":""},{"$f":"IF(D72=\"\",\"\",計算①!K70)","v":""},{"$f":"IF(D72=\"\",\"\",計算①!C70)","v":""},"","","",""]
["","","",{"$f":"IF(計算①!E71=\"\",\"\",計算①!E71)","v":""},{"$f":"IF(D73=\"\",\"\",計算①!K71)","v":""},{"$f":"IF(D73=\"\",\"\",計算①!C71)","v":""},"","","",""]
["","","",{"$f":"IF(計算①!E72=\"\",\"\",計算①!E72)","v":""},{"$f":"IF(D74=\"\",\"\",計算①!K72)","v":""},{"$f":"IF(D74=\"\",\"\",計算①!C72)","v":""},{"$f":"IF(F74=\"4x100R\",\"\",IF(F74=\"4x400R\",\"\",F74))","v":""},{"$f":"IF(G74=\"\",F74,\"\")","v":""},{"$f":"IF(G74=\"\",\"\",IF(D74=\"\",\"\",IF(D74=D73,I73+1,1)))","v":""},{"$f":"IF(H74=\"4x100R\",4,IF(H74=\"4x400R\",5,\"\"))","v":""}]
["","","",{"$f":"IF(計算①!E73=\"\",\"\",計算①!E73)","v":""},{"$f":"IF(D75=\"\",\"\",計算①!K73)","v":""},{"$f":"IF(D75=\"\",\"\",計算①!C73)","v":""},"","","",""]
["","","",{"$f":"IF(計算①!E74=\"\",\"\",計算①!E74)","v":""},{"$f":"IF(D76=\"\",\"\",計算①!K74)","v":""},{"$f":"IF(D76=\"\",\"\",計算①!C74)","v":""},"","","",""]
["","","",{"$f":"IF(計算①!E75=\"\",\"\",計算①!E75)","v":""},{"$f":"IF(D77=\"\",\"\",計算①!K75)","v":""},{"$f":"IF(D77=\"\",\"\",計算①!C75)","v":""},"","","",""]
["","","",{"$f":"IF(計算①!E76=\"\",\"\",計算①!E76)","v":""},{"$f":"IF(D78=\"\",\"\",計算①!K76)","v":""},{"$f":"IF(D78=\"\",\"\",計算①!C76)","v":""},"","","",""]
["","","",{"$f":"IF(計算①!E77=\"\",\"\",計算①!E77)","v":""},{"$f":"IF(D79=\"\",\"\",計算①!K77)","v":""},{"$f":"IF(D79=\"\",\"\",計算①!C77)","v":""},"","","",""]
["","","",{"$f":"IF(計算①!E78=\"\",\"\",計算①!E78)","v":""},{"$f":"IF(D80=\"\",\"\",計算①!K78)","v":""},{"$f":"IF(D80=\"\",\"\",計算①!C78)","v":""},"","","",""]
["","","",{"$f":"IF(計算①!E79=\"\",\"\",計算①!E79)","v":""},{"$f":"IF(D81=\"\",\"\",計算①!K79)","v":""},{"$f":"IF(D81=\"\",\"\",計算①!C79)","v":""},"","","",""]
["","","",{"$f":"IF(計算①!E80=\"\",\"\",計算①!E80)","v":""},{"$f":"IF(D82=\"\",\"\",計算①!K80)","v":""},{"$f":"IF(D82=\"\",\"\",計算①!C80)","v":""},"","","",""]
["","","",{"$f":"IF(計算①!E81=\"\",\"\",計算①!E81)","v":""},{"$f":"IF(D83=\"\",\"\",計算①!K81)","v":""},{"$f":"IF(D83=\"\",\"\",計算①!C81)","v":""},"","","",""]
["","","",{"$f":"IF(計算①!E82=\"\",\"\",計算①!E82)","v":""},{"$f":"IF(D84=\"\",\"\",計算①!K82)","v":""},{"$f":"IF(D84=\"\",\"\",計算①!C82)","v":""},"","","",""]
["","","",{"$f":"IF(計算①!E83=\"\",\"\",計算①!E83)","v":""},{"$f":"IF(D85=\"\",\"\",計算①!K83)","v":""},{"$f":"IF(D85=\"\",\"\",計算①!C83)","v":""},"","","",""]
["","","",{"$f":"IF(計算①!E84=\"\",\"\",計算①!E84)","v":""},{"$f":"IF(D86=\"\",\"\",計算①!K84)","v":""},{"$f":"IF(D86=\"\",\"\",計算①!C84)","v":""},"","","",""]
["","","",{"$f":"IF(計算①!E85=\"\",\"\",計算①!E85)","v":""},{"$f":"IF(D87=\"\",\"\",計算①!K85)","v":""},{"$f":"IF(D87=\"\",\"\",計算①!C85)","v":""},"","","",""]
["","","",{"$f":"IF(計算①!E86=\"\",\"\",計算①!E86)","v":""},{"$f":"IF(D88=\"\",\"\",計算①!K86)","v":""},{"$f":"IF(D88=\"\",\"\",計算①!C86)","v":""},"","","",""]
["","","",{"$f":"IF(計算①!E87=\"\",\"\",計算①!E87)","v":""},{"$f":"IF(D89=\"\",\"\",計算①!K87)","v":""},{"$f":"IF(D89=\"\",\"\",計算①!C87)","v":""},"","","",""]
["","","",{"$f":"IF(計算①!E88=\"\",\"\",計算①!E88)","v":""},{"$f":"IF(D90=\"\",\"\",計算①!K88)","v":""},{"$f":"IF(D90=\"\",\"\",計算①!C88)","v":""},"","","",""]
["","","",{"$f":"IF(計算①!E89=\"\",\"\",計算①!E89)","v":""},{"$f":"IF(D91=\"\",\"\",計算①!K89)","v":""},{"$f":"IF(D91=\"\",\"\",計算①!C89)","v":""},"","","",""]
["","","",{"$f":"IF(計算①!E90=\"\",\"\",計算①!E90)","v":""},{"$f":"IF(D92=\"\",\"\",計算①!K90)","v":""},{"$f":"IF(D92=\"\",\"\",計算①!C90)","v":""},"","","",""]
["","","",{"$f":"IF(計算①!E91=\"\",\"\",計算①!E91)","v":""},{"$f":"IF(D93=\"\",\"\",計算①!K91)","v":""},{"$f":"IF(D93=\"\",\"\",計算①!C91)","v":""},"","","",""]
["","","",{"$f":"IF(計算①!E92=\"\",\"\",計算①!E92)","v":""},{"$f":"IF(D94=\"\",\"\",計算①!K92)","v":""},{"$f":"IF(D94=\"\",\"\",計算①!C92)","v":""},"","","",""]
["","","",{"$f":"IF(計算①!E93=\"\",\"\",計算①!E93)","v":""},{"$f":"IF(D95=\"\",\"\",計算①!K93)","v":""},{"$f":"IF(D95=\"\",\"\",計算①!C93)","v":""},"","","",""]
["","","",{"$f":"IF(計算①!E94=\"\",\"\",計算①!E94)","v":""},{"$f":"IF(D96=\"\",\"\",計算①!K94)","v":""},{"$f":"IF(D96=\"\",\"\",計算①!C94)","v":""},"","","",""]
["","","",{"$f":"IF(計算①!E95=\"\",\"\",計算①!E95)","v":""},{"$f":"IF(D97=\"\",\"\",計算①!K95)","v":""},{"$f":"IF(D97=\"\",\"\",計算①!C95)","v":""},"","","",""]
["","","",{"$f":"IF(計算①!E96=\"\",\"\",計算①!E96)","v":""},{"$f":"IF(D98=\"\",\"\",計算①!K96)","v":""},{"$f":"IF(D98=\"\",\"\",計算①!C96)","v":""},"","","",""]
["","","",{"$f":"IF(計算①!E97=\"\",\"\",計算①!E97)","v":""},{"$f":"IF(D99=\"\",\"\",計算①!K97)","v":""},{"$f":"IF(D99=\"\",\"\",計算①!C97)","v":""},"","","",""]
["","","",{"$f":"IF(計算①!E98=\"\",\"\",計算①!E98)","v":""},{"$f":"IF(D100=\"\",\"\",計算①!K98)","v":""},{"$f":"IF(D100=\"\",\"\",計算①!C98)","v":""},"","","",""]
["","","",{"$f":"IF(計算①!E99=\"\",\"\",計算①!E99)","v":""},{"$f":"IF(D101=\"\",\"\",計算①!K99)","v":""},{"$f":"IF(D101=\"\",\"\",計算①!C99)","v":""},"","","",""]
["","","",{"$f":"IF(計算①!E100=\"\",\"\",計算①!E100)","v":""},{"$f":"IF(D102=\"\",\"\",計算①!K100)","v":""},{"$f":"IF(D102=\"\",\"\",計算①!C100)","v":""},"","","",""]

{"sheet":"データ完成","index":6,"n_rows":102,"n_cols":11,"rows_kept":102,"cut":false,"hidden":true,"merged":[]}
[]
[null,null,null,null,1,2,3,4,5]
[null,1,{"$f":"VLOOKUP($B3,データ貼付!$A$3:$I$102,4,FALSE)","v":{"$error":"#N/A"}},{"$f":"VLOOKUP($B3,データ貼付!$A$3:$I$102,5,FALSE)","v":{"$error":"#N/A"}},{"$f":"IF(ISERROR(VLOOKUP($B3*10+$E$2,データ貼付!$B$3:$F$102,5,FALSE)),\"\",VLOOKUP($B3*10+$E$2,データ貼付!$B$3:$F$102,5,FALSE))","v":""},{"$f":"IF(ISERROR(VLOOKUP($B3*10+$F$2,データ貼付!$B$3:$F$102,5,FALSE)),\"\",VLOOKUP($B3*10+$F$2,データ貼付!$B$3:$F$102,5,FALSE))","v":""},{"$f":"IF(ISERROR(VLOOKUP($B3*10+$G$2,データ貼付!$B$3:$F$102,5,FALSE)),\"\",VLOOKUP($B3*10+$G$2,データ貼付!$B$3:$F$102,5,FALSE))","v":""},{"$f":"IF(ISERROR(VLOOKUP($B3*10+$H$2,データ貼付!$B$3:$F$102,5,FALSE)),\"\",VLOOKUP($B3*10+$H$2,データ貼付!$B$3:$F$102,5,FALSE))","v":""},{"$f":"IF(ISERROR(VLOOKUP($B3*10+$I$2,データ貼付!$B$3:$F$102,5,FALSE)),\"\",VLOOKUP($B3*10+$I$2,データ貼付!$B$3:$F$102,5,FALSE))","v":""},{"$f":"IF(H3=\"\",\"\",\"○\")","v":""},{"$f":"IF(I3=\"\",\"\",\"○\")","v":""}]
[null,2,{"$f":"VLOOKUP($B4,データ貼付!$A$3:$I$102,4,FALSE)","v":{"$error":"#N/A"}},{"$f":"VLOOKUP($B4,データ貼付!$A$3:$I$102,5,FALSE)","v":{"$error":"#N/A"}},{"$f":"IF(ISERROR(VLOOKUP($B4*10+$E$2,データ貼付!$B$3:$F$102,5,FALSE)),\"\",VLOOKUP($B4*10+$E$2,データ貼付!$B$3:$F$102,5,FALSE))","v":""},{"$f":"IF(ISERROR(VLOOKUP($B4*10+$F$2,データ貼付!$B$3:$F$102,5,FALSE)),\"\",VLOOKUP($B4*10+$F$2,データ貼付!$B$3:$F$102,5,FALSE))","v":""},{"$f":"IF(ISERROR(VLOOKUP($B4*10+$G$2,データ貼付!$B$3:$F$102,5,FALSE)),\"\",VLOOKUP($B4*10+$G$2,データ貼付!$B$3:$F$102,5,FALSE))","v":""},{"$f":"IF(ISERROR(VLOOKUP($B4*10+$H$2,データ貼付!$B$3:$F$102,5,FALSE)),\"\",VLOOKUP($B4*10+$H$2,データ貼付!$B$3:$F$102,5,FALSE))","v":""},{"$f":"IF(ISERROR(VLOOKUP($B4*10+$I$2,データ貼付!$B$3:$F$102,5,FALSE)),\"\",VLOOKUP($B4*10+$I$2,データ貼付!$B$3:$F$102,5,FALSE))","v":""},{"$f":"IF(H4=\"\",\"\",\"○\")","v":""},{"$f":"IF(I4=\"\",\"\",\"○\")","v":""}]
[null,3,{"$f":"VLOOKUP($B5,データ貼付!$A$3:$I$102,4,FALSE)","v":{"$error":"#N/A"}},{"$f":"VLOOKUP($B5,データ貼付!$A$3:$I$102,5,FALSE)","v":{"$error":"#N/A"}},{"$f":"IF(ISERROR(VLOOKUP($B5*10+$E$2,データ貼付!$B$3:$F$102,5,FALSE)),\"\",VLOOKUP($B5*10+$E$2,データ貼付!$B$3:$F$102,5,FALSE))","v":""},{"$f":"IF(ISERROR(VLOOKUP($B5*10+$F$2,データ貼付!$B$3:$F$102,5,FALSE)),\"\",VLOOKUP($B5*10+$F$2,データ貼付!$B$3:$F$102,5,FALSE))","v":""},{"$f":"IF(ISERROR(VLOOKUP($B5*10+$G$2,データ貼付!$B$3:$F$102,5,FALSE)),\"\",VLOOKUP($B5*10+$G$2,データ貼付!$B$3:$F$102,5,FALSE))","v":""},{"$f":"IF(ISERROR(VLOOKUP($B5*10+$H$2,データ貼付!$B$3:$F$102,5,FALSE)),\"\",VLOOKUP($B5*10+$H$2,データ貼付!$B$3:$F$102,5,FALSE))","v":""},{"$f":"IF(ISERROR(VLOOKUP($B5*10+$I$2,データ貼付!$B$3:$F$102,5,FALSE)),\"\",VLOOKUP($B5*10+$I$2,データ貼付!$B$3:$F$102,5,FALSE))","v":""},"",""]
[null,4,{"$f":"VLOOKUP($B6,データ貼付!$A$3:$I$102,4,FALSE)","v":{"$error":"#N/A"}},{"$f":"VLOOKUP($B6,データ貼付!$A$3:$I$102,5,FALSE)","v":{"$error":"#N/A"}},{"$f":"IF(ISERROR(VLOOKUP($B6*10+$E$2,データ貼付!$B$3:$F$102,5,FALSE)),\"\",VLOOKUP($B6*10+$E$2,データ貼付!$B$3:$F$102,5,FALSE))","v":""},{"$f":"IF(ISERROR(VLOOKUP($B6*10+$F$2,データ貼付!$B$3:$F$102,5,FALSE)),\"\",VLOOKUP($B6*10+$F$2,データ貼付!$B$3:$F$102,5,FALSE))","v":""},{"$f":"IF(ISERROR(VLOOKUP($B6*10+$G$2,データ貼付!$B$3:$F$102,5,FALSE)),\"\",VLOOKUP($B6*10+$G$2,データ貼付!$B$3:$F$102,5,FALSE))","v":""},{"$f":"IF(ISERROR(VLOOKUP($B6*10+$H$2,データ貼付!$B$3:$F$102,5,FALSE)),\"\",VLOOKUP($B6*10+$H$2,データ貼付!$B$3:$F$102,5,FALSE))","v":""},{"$f":"IF(ISERROR(VLOOKUP($B6*10+$I$2,データ貼付!$B$3:$F$102,5,FALSE)),\"\",VLOOKUP($B6*10+$I$2,データ貼付!$B$3:$F$102,5,FALSE))","v":""},"",""]
[null,5,{"$f":"VLOOKUP($B7,データ貼付!$A$3:$I$102,4,FALSE)","v":{"$error":"#N/A"}},{"$f":"VLOOKUP($B7,データ貼付!$A$3:$I$102,5,FALSE)","v":{"$error":"#N/A"}},{"$f":"IF(ISERROR(VLOOKUP($B7*10+$E$2,データ貼付!$B$3:$F$102,5,FALSE)),\"\",VLOOKUP($B7*10+$E$2,データ貼付!$B$3:$F$102,5,FALSE))","v":""},{"$f":"IF(ISERROR(VLOOKUP($B7*10+$F$2,データ貼付!$B$3:$F$102,5,FALSE)),\"\",VLOOKUP($B7*10+$F$2,データ貼付!$B$3:$F$102,5,FALSE))","v":""},{"$f":"IF(ISERROR(VLOOKUP($B7*10+$G$2,データ貼付!$B$3:$F$102,5,FALSE)),\"\",VLOOKUP($B7*10+$G$2,データ貼付!$B$3:$F$102,5,FALSE))","v":""},{"$f":"IF(ISERROR(VLOOKUP($B7*10+$H$2,データ貼付!$B$3:$F$102,5,FALSE)),\"\",VLOOKUP($B7*10+$H$2,データ貼付!$B$3:$F$102,5,FALSE))","v":""},{"$f":"IF(ISERROR(VLOOKUP($B7*10+$I$2,データ貼付!$B$3:$F$102,5,FALSE)),\"\",VLOOKUP($B7*10+$I$2,データ貼付!$B$3:$F$102,5,FALSE))","v":""},"",""]
[null,6,{"$f":"VLOOKUP($B8,データ貼付!$A$3:$I$102,4,FALSE)","v":{"$error":"#N/A"}},{"$f":"VLOOKUP($B8,データ貼付!$A$3:$I$102,5,FALSE)","v":{"$error":"#N/A"}},{"$f":"IF(ISERROR(VLOOKUP($B8*10+$E$2,データ貼付!$B$3:$F$102,5,FALSE)),\"\",VLOOKUP($B8*10+$E$2,データ貼付!$B$3:$F$102,5,FALSE))","v":""},{"$f":"IF(ISERROR(VLOOKUP($B8*10+$F$2,データ貼付!$B$3:$F$102,5,FALSE)),\"\",VLOOKUP($B8*10+$F$2,データ貼付!$B$3:$F$102,5,FALSE))","v":""},{"$f":"IF(ISERROR(VLOOKUP($B8*10+$G$2,データ貼付!$B$3:$F$102,5,FALSE)),\"\",VLOOKUP($B8*10+$G$2,データ貼付!$B$3:$F$102,5,FALSE))","v":""},{"$f":"IF(ISERROR(VLOOKUP($B8*10+$H$2,データ貼付!$B$3:$F$102,5,FALSE)),\"\",VLOOKUP($B8*10+$H$2,データ貼付!$B$3:$F$102,5,FALSE))","v":""},{"$f":"IF(ISERROR(VLOOKUP($B8*10+$I$2,データ貼付!$B$3:$F$102,5,FALSE)),\"\",VLOOKUP($B8*10+$I$2,データ貼付!$B$3:$F$102,5,FALSE))","v":""},"",""]
[null,7,{"$f":"VLOOKUP($B9,データ貼付!$A$3:$I$102,4,FALSE)","v":{"$error":"#N/A"}},{"$f":"VLOOKUP($B9,データ貼付!$A$3:$I$102,5,FALSE)","v":{"$error":"#N/A"}},{"$f":"IF(ISERROR(VLOOKUP($B9*10+$E$2,データ貼付!$B$3:$F$102,5,FALSE)),\"\",VLOOKUP($B9*10+$E$2,データ貼付!$B$3:$F$102,5,FALSE))","v":""},{"$f":"IF(ISERROR(VLOOKUP($B9*10+$F$2,データ貼付!$B$3:$F$102,5,FALSE)),\"\",VLOOKUP($B9*10+$F$2,データ貼付!$B$3:$F$102,5,FALSE))","v":""},{"$f":"IF(ISERROR(VLOOKUP($B9*10+$G$2,データ貼付!$B$3:$F$102,5,FALSE)),\"\",VLOOKUP($B9*10+$G$2,データ貼付!$B$3:$F$102,5,FALSE))","v":""},{"$f":"IF(ISERROR(VLOOKUP($B9*10+$H$2,データ貼付!$B$3:$F$102,5,FALSE)),\"\",VLOOKUP($B9*10+$H$2,データ貼付!$B$3:$F$102,5,FALSE))","v":""},{"$f":"IF(ISERROR(VLOOKUP($B9*10+$I$2,データ貼付!$B$3:$F$102,5,FALSE)),\"\",VLOOKUP($B9*10+$I$2,データ貼付!$B$3:$F$102,5,FALSE))","v":""},"",""]
[null,8,{"$f":"VLOOKUP($B10,データ貼付!$A$3:$I$102,4,FALSE)","v":{"$error":"#N/A"}},{"$f":"VLOOKUP($B10,データ貼付!$A$3:$I$102,5,FALSE)","v":{"$error":"#N/A"}},{"$f":"IF(ISERROR(VLOOKUP($B10*10+$E$2,データ貼付!$B$3:$F$102,5,FALSE)),\"\",VLOOKUP($B10*10+$E$2,データ貼付!$B$3:$F$102,5,FALSE))","v":""},{"$f":"IF(ISERROR(VLOOKUP($B10*10+$F$2,データ貼付!$B$3:$F$102,5,FALSE)),\"\",VLOOKUP($B10*10+$F$2,データ貼付!$B$3:$F$102,5,FALSE))","v":""},{"$f":"IF(ISERROR(VLOOKUP($B10*10+$G$2,データ貼付!$B$3:$F$102,5,FALSE)),\"\",VLOOKUP($B10*10+$G$2,データ貼付!$B$3:$F$102,5,FALSE))","v":""},{"$f":"IF(ISERROR(VLOOKUP($B10*10+$H$2,データ貼付!$B$3:$F$102,5,FALSE)),\"\",VLOOKUP($B10*10+$H$2,データ貼付!$B$3:$F$102,5,FALSE))","v":""},{"$f":"IF(ISERROR(VLOOKUP($B10*10+$I$2,データ貼付!$B$3:$F$102,5,FALSE)),\"\",VLOOKUP($B10*10+$I$2,データ貼付!$B$3:$F$102,5,FALSE))","v":""},"",""]
[null,9,{"$f":"VLOOKUP($B11,データ貼付!$A$3:$I$102,4,FALSE)","v":{"$error":"#N/A"}},{"$f":"VLOOKUP($B11,データ貼付!$A$3:$I$102,5,FALSE)","v":{"$error":"#N/A"}},{"$f":"IF(ISERROR(VLOOKUP($B11*10+$E$2,データ貼付!$B$3:$F$102,5,FALSE)),\"\",VLOOKUP($B11*10+$E$2,データ貼付!$B$3:$F$102,5,FALSE))","v":""},{"$f":"IF(ISERROR(VLOOKUP($B11*10+$F$2,データ貼付!$B$3:$F$102,5,FALSE)),\"\",VLOOKUP($B11*10+$F$2,データ貼付!$B$3:$F$102,5,FALSE))","v":""},{"$f":"IF(ISERROR(VLOOKUP($B11*10+$G$2,データ貼付!$B$3:$F$102,5,FALSE)),\"\",VLOOKUP($B11*10+$G$2,データ貼付!$B$3:$F$102,5,FALSE))","v":""},{"$f":"IF(ISERROR(VLOOKUP($B11*10+$H$2,データ貼付!$B$3:$F$102,5,FALSE)),\"\",VLOOKUP($B11*10+$H$2,データ貼付!$B$3:$F$102,5,FALSE))","v":""},{"$f":"IF(ISERROR(VLOOKUP($B11*10+$I$2,データ貼付!$B$3:$F$102,5,FALSE)),\"\",VLOOKUP($B11*10+$I$2,データ貼付!$B$3:$F$102,5,FALSE))","v":""},"",""]
[null,10,{"$f":"VLOOKUP($B12,データ貼付!$A$3:$I$102,4,FALSE)","v":{"$error":"#N/A"}},{"$f":"VLOOKUP($B12,データ貼付!$A$3:$I$102,5,FALSE)","v":{"$error":"#N/A"}},{"$f":"IF(ISERROR(VLOOKUP($B12*10+$E$2,データ貼付!$B$3:$F$102,5,FALSE)),\"\",VLOOKUP($B12*10+$E$2,データ貼付!$B$3:$F$102,5,FALSE))","v":""},{"$f":"IF(ISERROR(VLOOKUP($B12*10+$F$2,データ貼付!$B$3:$F$102,5,FALSE)),\"\",VLOOKUP($B12*10+$F$2,データ貼付!$B$3:$F$102,5,FALSE))","v":""},{"$f":"IF(ISERROR(VLOOKUP($B12*10+$G$2,データ貼付!$B$3:$F$102,5,FALSE)),\"\",VLOOKUP($B12*10+$G$2,データ貼付!$B$3:$F$102,5,FALSE))","v":""},{"$f":"IF(ISERROR(VLOOKUP($B12*10+$H$2,データ貼付!$B$3:$F$102,5,FALSE)),\"\",VLOOKUP($B12*10+$H$2,データ貼付!$B$3:$F$102,5,FALSE))","v":""},{"$f":"IF(ISERROR(VLOOKUP($B12*10+$I$2,データ貼付!$B$3:$F$102,5,FALSE)),\"\",VLOOKUP($B12*10+$I$2,データ貼付!$B$3:$F$102,5,FALSE))","v":""},"",""]
[null,11,{"$f":"VLOOKUP($B13,データ貼付!$A$3:$I$102,4,FALSE)","v":{"$error":"#N/A"}},{"$f":"VLOOKUP($B13,データ貼付!$A$3:$I$102,5,FALSE)","v":{"$error":"#N/A"}},{"$f":"IF(ISERROR(VLOOKUP($B13*10+$E$2,データ貼付!$B$3:$F$102,5,FALSE)),\"\",VLOOKUP($B13*10+$E$2,データ貼付!$B$3:$F$102,5,FALSE))","v":""},{"$f":"IF(ISERROR(VLOOKUP($B13*10+$F$2,データ貼付!$B$3:$F$102,5,FALSE)),\"\",VLOOKUP($B13*10+$F$2,データ貼付!$B$3:$F$102,5,FALSE))","v":""},{"$f":"IF(ISERROR(VLOOKUP($B13*10+$G$2,データ貼付!$B$3:$F$102,5,FALSE)),\"\",VLOOKUP($B13*10+$G$2,データ貼付!$B$3:$F$102,5,FALSE))","v":""},{"$f":"IF(ISERROR(VLOOKUP($B13*10+$H$2,データ貼付!$B$3:$F$102,5,FALSE)),\"\",VLOOKUP($B13*10+$H$2,データ貼付!$B$3:$F$102,5,FALSE))","v":""},{"$f":"IF(ISERROR(VLOOKUP($B13*10+$I$2,データ貼付!$B$3:$F$102,5,FALSE)),\"\",VLOOKUP($B13*10+$I$2,データ貼付!$B$3:$F$102,5,FALSE))","v":""},"",""]
[null,12,{"$f":"VLOOKUP($B14,データ貼付!$A$3:$I$102,4,FALSE)","v":{"$error":"#N/A"}},{"$f":"VLOOKUP($B14,データ貼付!$A$3:$I$102,5,FALSE)","v":{"$error":"#N/A"}},{"$f":"IF(ISERROR(VLOOKUP($B14*10+$E$2,データ貼付!$B$3:$F$102,5,FALSE)),\"\",VLOOKUP($B14*10+$E$2,データ貼付!$B$3:$F$102,5,FALSE))","v":""},{"$f":"IF(ISERROR(VLOOKUP($B14*10+$F$2,データ貼付!$B$3:$F$102,5,FALSE)),\"\",VLOOKUP($B14*10+$F$2,データ貼付!$B$3:$F$102,5,FALSE))","v":""},{"$f":"IF(ISERROR(VLOOKUP($B14*10+$G$2,データ貼付!$B$3:$F$102,5,FALSE)),\"\",VLOOKUP($B14*10+$G$2,データ貼付!$B$3:$F$102,5,FALSE))","v":""},{"$f":"IF(ISERROR(VLOOKUP($B14*10+$H$2,データ貼付!$B$3:$F$102,5,FALSE)),\"\",VLOOKUP($B14*10+$H$2,データ貼付!$B$3:$F$102,5,FALSE))","v":""},{"$f":"IF(ISERROR(VLOOKUP($B14*10+$I$2,データ貼付!$B$3:$F$102,5,FALSE)),\"\",VLOOKUP($B14*10+$I$2,データ貼付!$B$3:$F$102,5,FALSE))","v":""},"",""]
[null,13,{"$f":"VLOOKUP($B15,データ貼付!$A$3:$I$102,4,FALSE)","v":{"$error":"#N/A"}},{"$f":"VLOOKUP($B15,データ貼付!$A$3:$I$102,5,FALSE)","v":{"$error":"#N/A"}},{"$f":"IF(ISERROR(VLOOKUP($B15*10+$E$2,データ貼付!$B$3:$F$102,5,FALSE)),\"\",VLOOKUP($B15*10+$E$2,データ貼付!$B$3:$F$102,5,FALSE))","v":""},{"$f":"IF(ISERROR(VLOOKUP($B15*10+$F$2,データ貼付!$B$3:$F$102,5,FALSE)),\"\",VLOOKUP($B15*10+$F$2,データ貼付!$B$3:$F$102,5,FALSE))","v":""},{"$f":"IF(ISERROR(VLOOKUP($B15*10+$G$2,データ貼付!$B$3:$F$102,5,FALSE)),\"\",VLOOKUP($B15*10+$G$2,データ貼付!$B$3:$F$102,5,FALSE))","v":""},{"$f":"IF(ISERROR(VLOOKUP($B15*10+$H$2,データ貼付!$B$3:$F$102,5,FALSE)),\"\",VLOOKUP($B15*10+$H$2,データ貼付!$B$3:$F$102,5,FALSE))","v":""},{"$f":"IF(ISERROR(VLOOKUP($B15*10+$I$2,データ貼付!$B$3:$F$102,5,FALSE)),\"\",VLOOKUP($B15*10+$I$2,データ貼付!$B$3:$F$102,5,FALSE))","v":""},"",""]
[null,14,{"$f":"VLOOKUP($B16,データ貼付!$A$3:$I$102,4,FALSE)","v":{"$error":"#N/A"}},{"$f":"VLOOKUP($B16,データ貼付!$A$3:$I$102,5,FALSE)","v":{"$error":"#N/A"}},{"$f":"IF(ISERROR(VLOOKUP($B16*10+$E$2,データ貼付!$B$3:$F$102,5,FALSE)),\"\",VLOOKUP($B16*10+$E$2,データ貼付!$B$3:$F$102,5,FALSE))","v":""},{"$f":"IF(ISERROR(VLOOKUP($B16*10+$F$2,データ貼付!$B$3:$F$102,5,FALSE)),\"\",VLOOKUP($B16*10+$F$2,データ貼付!$B$3:$F$102,5,FALSE))","v":""},{"$f":"IF(ISERROR(VLOOKUP($B16*10+$G$2,データ貼付!$B$3:$F$102,5,FALSE)),\"\",VLOOKUP($B16*10+$G$2,データ貼付!$B$3:$F$102,5,FALSE))","v":""},{"$f":"IF(ISERROR(VLOOKUP($B16*10+$H$2,データ貼付!$B$3:$F$102,5,FALSE)),\"\",VLOOKUP($B16*10+$H$2,データ貼付!$B$3:$F$102,5,FALSE))","v":""},{"$f":"IF(ISERROR(VLOOKUP($B16*10+$I$2,データ貼付!$B$3:$F$102,5,FALSE)),\"\",VLOOKUP($B16*10+$I$2,データ貼付!$B$3:$F$102,5,FALSE))","v":""},"",""]
[null,15,{"$f":"VLOOKUP($B17,データ貼付!$A$3:$I$102,4,FALSE)","v":{"$error":"#N/A"}},{"$f":"VLOOKUP($B17,データ貼付!$A$3:$I$102,5,FALSE)","v":{"$error":"#N/A"}},{"$f":"IF(ISERROR(VLOOKUP($B17*10+$E$2,データ貼付!$B$3:$F$102,5,FALSE)),\"\",VLOOKUP($B17*10+$E$2,データ貼付!$B$3:$F$102,5,FALSE))","v":""},{"$f":"IF(ISERROR(VLOOKUP($B17*10+$F$2,データ貼付!$B$3:$F$102,5,FALSE)),\"\",VLOOKUP($B17*10+$F$2,データ貼付!$B$3:$F$102,5,FALSE))","v":""},{"$f":"IF(ISERROR(VLOOKUP($B17*10+$G$2,データ貼付!$B$3:$F$102,5,FALSE)),\"\",VLOOKUP($B17*10+$G$2,データ貼付!$B$3:$F$102,5,FALSE))","v":""},{"$f":"IF(ISERROR(VLOOKUP($B17*10+$H$2,データ貼付!$B$3:$F$102,5,FALSE)),\"\",VLOOKUP($B17*10+$H$2,データ貼付!$B$3:$F$102,5,FALSE))","v":""},{"$f":"IF(ISERROR(VLOOKUP($B17*10+$I$2,データ貼付!$B$3:$F$102,5,FALSE)),\"\",VLOOKUP($B17*10+$I$2,データ貼付!$B$3:$F$102,5,FALSE))","v":""},"",""]
[null,16,{"$f":"VLOOKUP($B18,データ貼付!$A$3:$I$102,4,FALSE)","v":{"$error":"#N/A"}},{"$f":"VLOOKUP($B18,データ貼付!$A$3:$I$102,5,FALSE)","v":{"$error":"#N/A"}},{"$f":"IF(ISERROR(VLOOKUP($B18*10+$E$2,データ貼付!$B$3:$F$102,5,FALSE)),\"\",VLOOKUP($B18*10+$E$2,データ貼付!$B$3:$F$102,5,FALSE))","v":""},{"$f":"IF(ISERROR(VLOOKUP($B18*10+$F$2,データ貼付!$B$3:$F$102,5,FALSE)),\"\",VLOOKUP($B18*10+$F$2,データ貼付!$B$3:$F$102,5,FALSE))","v":""},{"$f":"IF(ISERROR(VLOOKUP($B18*10+$G$2,データ貼付!$B$3:$F$102,5,FALSE)),\"\",VLOOKUP($B18*10+$G$2,データ貼付!$B$3:$F$102,5,FALSE))","v":""},{"$f":"IF(ISERROR(VLOOKUP($B18*10+$H$2,データ貼付!$B$3:$F$102,5,FALSE)),\"\",VLOOKUP($B18*10+$H$2,データ貼付!$B$3:$F$102,5,FALSE))","v":""},{"$f":"IF(ISERROR(VLOOKUP($B18*10+$I$2,データ貼付!$B$3:$F$102,5,FALSE)),\"\",VLOOKUP($B18*10+$I$2,データ貼付!$B$3:$F$102,5,FALSE))","v":""},"",""]
[null,17,{"$f":"VLOOKUP($B19,データ貼付!$A$3:$I$102,4,FALSE)","v":{"$error":"#N/A"}},{"$f":"VLOOKUP($B19,データ貼付!$A$3:$I$102,5,FALSE)","v":{"$error":"#N/A"}},{"$f":"IF(ISERROR(VLOOKUP($B19*10+$E$2,データ貼付!$B$3:$F$102,5,FALSE)),\"\",VLOOKUP($B19*10+$E$2,データ貼付!$B$3:$F$102,5,FALSE))","v":""},{"$f":"IF(ISERROR(VLOOKUP($B19*10+$F$2,データ貼付!$B$3:$F$102,5,FALSE)),\"\",VLOOKUP($B19*10+$F$2,データ貼付!$B$3:$F$102,5,FALSE))","v":""},{"$f":"IF(ISERROR(VLOOKUP($B19*10+$G$2,データ貼付!$B$3:$F$102,5,FALSE)),\"\",VLOOKUP($B19*10+$G$2,データ貼付!$B$3:$F$102,5,FALSE))","v":""},{"$f":"IF(ISERROR(VLOOKUP($B19*10+$H$2,データ貼付!$B$3:$F$102,5,FALSE)),\"\",VLOOKUP($B19*10+$H$2,データ貼付!$B$3:$F$102,5,FALSE))","v":""},{"$f":"IF(ISERROR(VLOOKUP($B19*10+$I$2,データ貼付!$B$3:$F$102,5,FALSE)),\"\",VLOOKUP($B19*10+$I$2,データ貼付!$B$3:$F$102,5,FALSE))","v":""},"",""]
[null,18,{"$f":"VLOOKUP($B20,データ貼付!$A$3:$I$102,4,FALSE)","v":{"$error":"#N/A"}},{"$f":"VLOOKUP($B20,データ貼付!$A$3:$I$102,5,FALSE)","v":{"$error":"#N/A"}},{"$f":"IF(ISERROR(VLOOKUP($B20*10+$E$2,データ貼付!$B$3:$F$102,5,FALSE)),\"\",VLOOKUP($B20*10+$E$2,データ貼付!$B$3:$F$102,5,FALSE))","v":""},{"$f":"IF(ISERROR(VLOOKUP($B20*10+$F$2,データ貼付!$B$3:$F$102,5,FALSE)),\"\",VLOOKUP($B20*10+$F$2,データ貼付!$B$3:$F$102,5,FALSE))","v":""},{"$f":"IF(ISERROR(VLOOKUP($B20*10+$G$2,データ貼付!$B$3:$F$102,5,FALSE)),\"\",VLOOKUP($B20*10+$G$2,データ貼付!$B$3:$F$102,5,FALSE))","v":""},{"$f":"IF(ISERROR(VLOOKUP($B20*10+$H$2,データ貼付!$B$3:$F$102,5,FALSE)),\"\",VLOOKUP($B20*10+$H$2,データ貼付!$B$3:$F$102,5,FALSE))","v":""},{"$f":"IF(ISERROR(VLOOKUP($B20*10+$I$2,データ貼付!$B$3:$F$102,5,FALSE)),\"\",VLOOKUP($B20*10+$I$2,データ貼付!$B$3:$F$102,5,FALSE))","v":""},"",""]
[null,19,{"$f":"VLOOKUP($B21,データ貼付!$A$3:$I$102,4,FALSE)","v":{"$error":"#N/A"}},{"$f":"VLOOKUP($B21,データ貼付!$A$3:$I$102,5,FALSE)","v":{"$error":"#N/A"}},{"$f":"IF(ISERROR(VLOOKUP($B21*10+$E$2,データ貼付!$B$3:$F$102,5,FALSE)),\"\",VLOOKUP($B21*10+$E$2,データ貼付!$B$3:$F$102,5,FALSE))","v":""},{"$f":"IF(ISERROR(VLOOKUP($B21*10+$F$2,データ貼付!$B$3:$F$102,5,FALSE)),\"\",VLOOKUP($B21*10+$F$2,データ貼付!$B$3:$F$102,5,FALSE))","v":""},{"$f":"IF(ISERROR(VLOOKUP($B21*10+$G$2,データ貼付!$B$3:$F$102,5,FALSE)),\"\",VLOOKUP($B21*10+$G$2,データ貼付!$B$3:$F$102,5,FALSE))","v":""},{"$f":"IF(ISERROR(VLOOKUP($B21*10+$H$2,データ貼付!$B$3:$F$102,5,FALSE)),\"\",VLOOKUP($B21*10+$H$2,データ貼付!$B$3:$F$102,5,FALSE))","v":""},{"$f":"IF(ISERROR(VLOOKUP($B21*10+$I$2,データ貼付!$B$3:$F$102,5,FALSE)),\"\",VLOOKUP($B21*10+$I$2,データ貼付!$B$3:$F$102,5,FALSE))","v":""},"",""]
[null,20,{"$f":"VLOOKUP($B22,データ貼付!$A$3:$I$102,4,FALSE)","v":{"$error":"#N/A"}},{"$f":"VLOOKUP($B22,データ貼付!$A$3:$I$102,5,FALSE)","v":{"$error":"#N/A"}},{"$f":"IF(ISERROR(VLOOKUP($B22*10+$E$2,データ貼付!$B$3:$F$102,5,FALSE)),\"\",VLOOKUP($B22*10+$E$2,データ貼付!$B$3:$F$102,5,FALSE))","v":""},{"$f":"IF(ISERROR(VLOOKUP($B22*10+$F$2,データ貼付!$B$3:$F$102,5,FALSE)),\"\",VLOOKUP($B22*10+$F$2,データ貼付!$B$3:$F$102,5,FALSE))","v":""},{"$f":"IF(ISERROR(VLOOKUP($B22*10+$G$2,データ貼付!$B$3:$F$102,5,FALSE)),\"\",VLOOKUP($B22*10+$G$2,データ貼付!$B$3:$F$102,5,FALSE))","v":""},{"$f":"IF(ISERROR(VLOOKUP($B22*10+$H$2,データ貼付!$B$3:$F$102,5,FALSE)),\"\",VLOOKUP($B22*10+$H$2,データ貼付!$B$3:$F$102,5,FALSE))","v":""},{"$f":"IF(ISERROR(VLOOKUP($B22*10+$I$2,データ貼付!$B$3:$F$102,5,FALSE)),\"\",VLOOKUP($B22*10+$I$2,データ貼付!$B$3:$F$102,5,FALSE))","v":""},"",""]
[null,21,{"$f":"VLOOKUP($B23,データ貼付!$A$3:$I$102,4,FALSE)","v":{"$error":"#N/A"}},{"$f":"VLOOKUP($B23,データ貼付!$A$3:$I$102,5,FALSE)","v":{"$error":"#N/A"}},{"$f":"IF(ISERROR(VLOOKUP($B23*10+$E$2,データ貼付!$B$3:$F$102,5,FALSE)),\"\",VLOOKUP($B23*10+$E$2,データ貼付!$B$3:$F$102,5,FALSE))","v":""},{"$f":"IF(ISERROR(VLOOKUP($B23*10+$F$2,データ貼付!$B$3:$F$102,5,FALSE)),\"\",VLOOKUP($B23*10+$F$2,データ貼付!$B$3:$F$102,5,FALSE))","v":""},{"$f":"IF(ISERROR(VLOOKUP($B23*10+$G$2,データ貼付!$B$3:$F$102,5,FALSE)),\"\",VLOOKUP($B23*10+$G$2,データ貼付!$B$3:$F$102,5,FALSE))","v":""},{"$f":"IF(ISERROR(VLOOKUP($B23*10+$H$2,データ貼付!$B$3:$F$102,5,FALSE)),\"\",VLOOKUP($B23*10+$H$2,データ貼付!$B$3:$F$102,5,FALSE))","v":""},{"$f":"IF(ISERROR(VLOOKUP($B23*10+$I$2,データ貼付!$B$3:$F$102,5,FALSE)),\"\",VLOOKUP($B23*10+$I$2,データ貼付!$B$3:$F$102,5,FALSE))","v":""},"",""]
[null,22,{"$f":"VLOOKUP($B24,データ貼付!$A$3:$I$102,4,FALSE)","v":{"$error":"#N/A"}},{"$f":"VLOOKUP($B24,データ貼付!$A$3:$I$102,5,FALSE)","v":{"$error":"#N/A"}},{"$f":"IF(ISERROR(VLOOKUP($B24*10+$E$2,データ貼付!$B$3:$F$102,5,FALSE)),\"\",VLOOKUP($B24*10+$E$2,データ貼付!$B$3:$F$102,5,FALSE))","v":""},{"$f":"IF(ISERROR(VLOOKUP($B24*10+$F$2,データ貼付!$B$3:$F$102,5,FALSE)),\"\",VLOOKUP($B24*10+$F$2,データ貼付!$B$3:$F$102,5,FALSE))","v":""},{"$f":"IF(ISERROR(VLOOKUP($B24*10+$G$2,データ貼付!$B$3:$F$102,5,FALSE)),\"\",VLOOKUP($B24*10+$G$2,データ貼付!$B$3:$F$102,5,FALSE))","v":""},{"$f":"IF(ISERROR(VLOOKUP($B24*10+$H$2,データ貼付!$B$3:$F$102,5,FALSE)),\"\",VLOOKUP($B24*10+$H$2,データ貼付!$B$3:$F$102,5,FALSE))","v":""},{"$f":"IF(ISERROR(VLOOKUP($B24*10+$I$2,データ貼付!$B$3:$F$102,5,FALSE)),\"\",VLOOKUP($B24*10+$I$2,データ貼付!$B$3:$F$102,5,FALSE))","v":""},"",""]
[null,23,{"$f":"VLOOKUP($B25,データ貼付!$A$3:$I$102,4,FALSE)","v":{"$error":"#N/A"}},{"$f":"VLOOKUP($B25,データ貼付!$A$3:$I$102,5,FALSE)","v":{"$error":"#N/A"}},{"$f":"IF(ISERROR(VLOOKUP($B25*10+$E$2,データ貼付!$B$3:$F$102,5,FALSE)),\"\",VLOOKUP($B25*10+$E$2,データ貼付!$B$3:$F$102,5,FALSE))","v":""},{"$f":"IF(ISERROR(VLOOKUP($B25*10+$F$2,データ貼付!$B$3:$F$102,5,FALSE)),\"\",VLOOKUP($B25*10+$F$2,データ貼付!$B$3:$F$102,5,FALSE))","v":""},{"$f":"IF(ISERROR(VLOOKUP($B25*10+$G$2,データ貼付!$B$3:$F$102,5,FALSE)),\"\",VLOOKUP($B25*10+$G$2,データ貼付!$B$3:$F$102,5,FALSE))","v":""},{"$f":"IF(ISERROR(VLOOKUP($B25*10+$H$2,データ貼付!$B$3:$F$102,5,FALSE)),\"\",VLOOKUP($B25*10+$H$2,データ貼付!$B$3:$F$102,5,FALSE))","v":""},{"$f":"IF(ISERROR(VLOOKUP($B25*10+$I$2,データ貼付!$B$3:$F$102,5,FALSE)),\"\",VLOOKUP($B25*10+$I$2,データ貼付!$B$3:$F$102,5,FALSE))","v":""},"",""]
[null,24,{"$f":"VLOOKUP($B26,データ貼付!$A$3:$I$102,4,FALSE)","v":{"$error":"#N/A"}},{"$f":"VLOOKUP($B26,データ貼付!$A$3:$I$102,5,FALSE)","v":{"$error":"#N/A"}},{"$f":"IF(ISERROR(VLOOKUP($B26*10+$E$2,データ貼付!$B$3:$F$102,5,FALSE)),\"\",VLOOKUP($B26*10+$E$2,データ貼付!$B$3:$F$102,5,FALSE))","v":""},{"$f":"IF(ISERROR(VLOOKUP($B26*10+$F$2,データ貼付!$B$3:$F$102,5,FALSE)),\"\",VLOOKUP($B26*10+$F$2,データ貼付!$B$3:$F$102,5,FALSE))","v":""},{"$f":"IF(ISERROR(VLOOKUP($B26*10+$G$2,データ貼付!$B$3:$F$102,5,FALSE)),\"\",VLOOKUP($B26*10+$G$2,データ貼付!$B$3:$F$102,5,FALSE))","v":""},{"$f":"IF(ISERROR(VLOOKUP($B26*10+$H$2,データ貼付!$B$3:$F$102,5,FALSE)),\"\",VLOOKUP($B26*10+$H$2,データ貼付!$B$3:$F$102,5,FALSE))","v":""},{"$f":"IF(ISERROR(VLOOKUP($B26*10+$I$2,データ貼付!$B$3:$F$102,5,FALSE)),\"\",VLOOKUP($B26*10+$I$2,データ貼付!$B$3:$F$102,5,FALSE))","v":""},"",""]
[null,25,{"$f":"VLOOKUP($B27,データ貼付!$A$3:$I$102,4,FALSE)","v":{"$error":"#N/A"}},{"$f":"VLOOKUP($B27,データ貼付!$A$3:$I$102,5,FALSE)","v":{"$error":"#N/A"}},{"$f":"IF(ISERROR(VLOOKUP($B27*10+$E$2,データ貼付!$B$3:$F$102,5,FALSE)),\"\",VLOOKUP($B27*10+$E$2,データ貼付!$B$3:$F$102,5,FALSE))","v":""},{"$f":"IF(ISERROR(VLOOKUP($B27*10+$F$2,データ貼付!$B$3:$F$102,5,FALSE)),\"\",VLOOKUP($B27*10+$F$2,データ貼付!$B$3:$F$102,5,FALSE))","v":""},{"$f":"IF(ISERROR(VLOOKUP($B27*10+$G$2,データ貼付!$B$3:$F$102,5,FALSE)),\"\",VLOOKUP($B27*10+$G$2,データ貼付!$B$3:$F$102,5,FALSE))","v":""},{"$f":"IF(ISERROR(VLOOKUP($B27*10+$H$2,データ貼付!$B$3:$F$102,5,FALSE)),\"\",VLOOKUP($B27*10+$H$2,データ貼付!$B$3:$F$102,5,FALSE))","v":""},{"$f":"IF(ISERROR(VLOOKUP($B27*10+$I$2,データ貼付!$B$3:$F$102,5,FALSE)),\"\",VLOOKUP($B27*10+$I$2,データ貼付!$B$3:$F$102,5,FALSE))","v":""},"",""]
[null,26,{"$f":"VLOOKUP($B28,データ貼付!$A$3:$I$102,4,FALSE)","v":{"$error":"#N/A"}},{"$f":"VLOOKUP($B28,データ貼付!$A$3:$I$102,5,FALSE)","v":{"$error":"#N/A"}},{"$f":"IF(ISERROR(VLOOKUP($B28*10+$E$2,データ貼付!$B$3:$F$102,5,FALSE)),\"\",VLOOKUP($B28*10+$E$2,データ貼付!$B$3:$F$102,5,FALSE))","v":""},{"$f":"IF(ISERROR(VLOOKUP($B28*10+$F$2,データ貼付!$B$3:$F$102,5,FALSE)),\"\",VLOOKUP($B28*10+$F$2,データ貼付!$B$3:$F$102,5,FALSE))","v":""},{"$f":"IF(ISERROR(VLOOKUP($B28*10+$G$2,データ貼付!$B$3:$F$102,5,FALSE)),\"\",VLOOKUP($B28*10+$G$2,データ貼付!$B$3:$F$102,5,FALSE))","v":""},{"$f":"IF(ISERROR(VLOOKUP($B28*10+$H$2,データ貼付!$B$3:$F$102,5,FALSE)),\"\",VLOOKUP($B28*10+$H$2,データ貼付!$B$3:$F$102,5,FALSE))","v":""},{"$f":"IF(ISERROR(VLOOKUP($B28*10+$I$2,データ貼付!$B$3:$F$102,5,FALSE)),\"\",VLOOKUP($B28*10+$I$2,データ貼付!$B$3:$F$102,5,FALSE))","v":""},"",""]
[null,27,{"$f":"VLOOKUP($B29,データ貼付!$A$3:$I$102,4,FALSE)","v":{"$error":"#N/A"}},{"$f":"VLOOKUP($B29,データ貼付!$A$3:$I$102,5,FALSE)","v":{"$error":"#N/A"}},{"$f":"IF(ISERROR(VLOOKUP($B29*10+$E$2,データ貼付!$B$3:$F$102,5,FALSE)),\"\",VLOOKUP($B29*10+$E$2,データ貼付!$B$3:$F$102,5,FALSE))","v":""},{"$f":"IF(ISERROR(VLOOKUP($B29*10+$F$2,データ貼付!$B$3:$F$102,5,FALSE)),\"\",VLOOKUP($B29*10+$F$2,データ貼付!$B$3:$F$102,5,FALSE))","v":""},{"$f":"IF(ISERROR(VLOOKUP($B29*10+$G$2,データ貼付!$B$3:$F$102,5,FALSE)),\"\",VLOOKUP($B29*10+$G$2,データ貼付!$B$3:$F$102,5,FALSE))","v":""},{"$f":"IF(ISERROR(VLOOKUP($B29*10+$H$2,データ貼付!$B$3:$F$102,5,FALSE)),\"\",VLOOKUP($B29*10+$H$2,データ貼付!$B$3:$F$102,5,FALSE))","v":""},{"$f":"IF(ISERROR(VLOOKUP($B29*10+$I$2,データ貼付!$B$3:$F$102,5,FALSE)),\"\",VLOOKUP($B29*10+$I$2,データ貼付!$B$3:$F$102,5,FALSE))","v":""},"",""]
[null,28,{"$f":"VLOOKUP($B30,データ貼付!$A$3:$I$102,4,FALSE)","v":{"$error":"#N/A"}},{"$f":"VLOOKUP($B30,データ貼付!$A$3:$I$102,5,FALSE)","v":{"$error":"#N/A"}},{"$f":"IF(ISERROR(VLOOKUP($B30*10+$E$2,データ貼付!$B$3:$F$102,5,FALSE)),\"\",VLOOKUP($B30*10+$E$2,データ貼付!$B$3:$F$102,5,FALSE))","v":""},{"$f":"IF(ISERROR(VLOOKUP($B30*10+$F$2,データ貼付!$B$3:$F$102,5,FALSE)),\"\",VLOOKUP($B30*10+$F$2,データ貼付!$B$3:$F$102,5,FALSE))","v":""},{"$f":"IF(ISERROR(VLOOKUP($B30*10+$G$2,データ貼付!$B$3:$F$102,5,FALSE)),\"\",VLOOKUP($B30*10+$G$2,データ貼付!$B$3:$F$102,5,FALSE))","v":""},{"$f":"IF(ISERROR(VLOOKUP($B30*10+$H$2,データ貼付!$B$3:$F$102,5,FALSE)),\"\",VLOOKUP($B30*10+$H$2,データ貼付!$B$3:$F$102,5,FALSE))","v":""},{"$f":"IF(ISERROR(VLOOKUP($B30*10+$I$2,データ貼付!$B$3:$F$102,5,FALSE)),\"\",VLOOKUP($B30*10+$I$2,データ貼付!$B$3:$F$102,5,FALSE))","v":""},"",""]
[null,29,{"$f":"VLOOKUP($B31,データ貼付!$A$3:$I$102,4,FALSE)","v":{"$error":"#N/A"}},{"$f":"VLOOKUP($B31,データ貼付!$A$3:$I$102,5,FALSE)","v":{"$error":"#N/A"}},{"$f":"IF(ISERROR(VLOOKUP($B31*10+$E$2,データ貼付!$B$3:$F$102,5,FALSE)),\"\",VLOOKUP($B31*10+$E$2,データ貼付!$B$3:$F$102,5,FALSE))","v":""},{"$f":"IF(ISERROR(VLOOKUP($B31*10+$F$2,データ貼付!$B$3:$F$102,5,FALSE)),\"\",VLOOKUP($B31*10+$F$2,データ貼付!$B$3:$F$102,5,FALSE))","v":""},{"$f":"IF(ISERROR(VLOOKUP($B31*10+$G$2,データ貼付!$B$3:$F$102,5,FALSE)),\"\",VLOOKUP($B31*10+$G$2,データ貼付!$B$3:$F$102,5,FALSE))","v":""},{"$f":"IF(ISERROR(VLOOKUP($B31*10+$H$2,データ貼付!$B$3:$F$102,5,FALSE)),\"\",VLOOKUP($B31*10+$H$2,データ貼付!$B$3:$F$102,5,FALSE))","v":""},{"$f":"IF(ISERROR(VLOOKUP($B31*10+$I$2,データ貼付!$B$3:$F$102,5,FALSE)),\"\",VLOOKUP($B31*10+$I$2,データ貼付!$B$3:$F$102,5,FALSE))","v":""},"",""]
[null,30,{"$f":"VLOOKUP($B32,データ貼付!$A$3:$I$102,4,FALSE)","v":{"$error":"#N/A"}},{"$f":"VLOOKUP($B32,データ貼付!$A$3:$I$102,5,FALSE)","v":{"$error":"#N/A"}},{"$f":"IF(ISERROR(VLOOKUP($B32*10+$E$2,データ貼付!$B$3:$F$102,5,FALSE)),\"\",VLOOKUP($B32*10+$E$2,データ貼付!$B$3:$F$102,5,FALSE))","v":""},{"$f":"IF(ISERROR(VLOOKUP($B32*10+$F$2,データ貼付!$B$3:$F$102,5,FALSE)),\"\",VLOOKUP($B32*10+$F$2,データ貼付!$B$3:$F$102,5,FALSE))","v":""},{"$f":"IF(ISERROR(VLOOKUP($B32*10+$G$2,データ貼付!$B$3:$F$102,5,FALSE)),\"\",VLOOKUP($B32*10+$G$2,データ貼付!$B$3:$F$102,5,FALSE))","v":""},{"$f":"IF(ISERROR(VLOOKUP($B32*10+$H$2,データ貼付!$B$3:$F$102,5,FALSE)),\"\",VLOOKUP($B32*10+$H$2,データ貼付!$B$3:$F$102,5,FALSE))","v":""},{"$f":"IF(ISERROR(VLOOKUP($B32*10+$I$2,データ貼付!$B$3:$F$102,5,FALSE)),\"\",VLOOKUP($B32*10+$I$2,データ貼付!$B$3:$F$102,5,FALSE))","v":""},"",""]
[null,31,{"$f":"VLOOKUP($B33,データ貼付!$A$3:$I$102,4,FALSE)","v":{"$error":"#N/A"}},{"$f":"VLOOKUP($B33,データ貼付!$A$3:$I$102,5,FALSE)","v":{"$error":"#N/A"}},{"$f":"IF(ISERROR(VLOOKUP($B33*10+$E$2,データ貼付!$B$3:$F$102,5,FALSE)),\"\",VLOOKUP($B33*10+$E$2,データ貼付!$B$3:$F$102,5,FALSE))","v":""},{"$f":"IF(ISERROR(VLOOKUP($B33*10+$F$2,データ貼付!$B$3:$F$102,5,FALSE)),\"\",VLOOKUP($B33*10+$F$2,データ貼付!$B$3:$F$102,5,FALSE))","v":""},{"$f":"IF(ISERROR(VLOOKUP($B33*10+$G$2,データ貼付!$B$3:$F$102,5,FALSE)),\"\",VLOOKUP($B33*10+$G$2,データ貼付!$B$3:$F$102,5,FALSE))","v":""},{"$f":"IF(ISERROR(VLOOKUP($B33*10+$H$2,データ貼付!$B$3:$F$102,5,FALSE)),\"\",VLOOKUP($B33*10+$H$2,データ貼付!$B$3:$F$102,5,FALSE))","v":""},{"$f":"IF(ISERROR(VLOOKUP($B33*10+$I$2,データ貼付!$B$3:$F$102,5,FALSE)),\"\",VLOOKUP($B33*10+$I$2,データ貼付!$B$3:$F$102,5,FALSE))","v":""},"",""]
[null,32,{"$f":"VLOOKUP($B34,データ貼付!$A$3:$I$102,4,FALSE)","v":{"$error":"#N/A"}},{"$f":"VLOOKUP($B34,データ貼付!$A$3:$I$102,5,FALSE)","v":{"$error":"#N/A"}},{"$f":"IF(ISERROR(VLOOKUP($B34*10+$E$2,データ貼付!$B$3:$F$102,5,FALSE)),\"\",VLOOKUP($B34*10+$E$2,データ貼付!$B$3:$F$102,5,FALSE))","v":""},{"$f":"IF(ISERROR(VLOOKUP($B34*10+$F$2,データ貼付!$B$3:$F$102,5,FALSE)),\"\",VLOOKUP($B34*10+$F$2,データ貼付!$B$3:$F$102,5,FALSE))","v":""},{"$f":"IF(ISERROR(VLOOKUP($B34*10+$G$2,データ貼付!$B$3:$F$102,5,FALSE)),\"\",VLOOKUP($B34*10+$G$2,データ貼付!$B$3:$F$102,5,FALSE))","v":""},{"$f":"IF(ISERROR(VLOOKUP($B34*10+$H$2,データ貼付!$B$3:$F$102,5,FALSE)),\"\",VLOOKUP($B34*10+$H$2,データ貼付!$B$3:$F$102,5,FALSE))","v":""},{"$f":"IF(ISERROR(VLOOKUP($B34*10+$I$2,データ貼付!$B$3:$F$102,5,FALSE)),\"\",VLOOKUP($B34*10+$I$2,データ貼付!$B$3:$F$102,5,FALSE))","v":""},"",""]
[null,33,{"$f":"VLOOKUP($B35,データ貼付!$A$3:$I$102,4,FALSE)","v":{"$error":"#N/A"}},{"$f":"VLOOKUP($B35,データ貼付!$A$3:$I$102,5,FALSE)","v":{"$error":"#N/A"}},{"$f":"IF(ISERROR(VLOOKUP($B35*10+$E$2,データ貼付!$B$3:$F$102,5,FALSE)),\"\",VLOOKUP($B35*10+$E$2,データ貼付!$B$3:$F$102,5,FALSE))","v":""},{"$f":"IF(ISERROR(VLOOKUP($B35*10+$F$2,データ貼付!$B$3:$F$102,5,FALSE)),\"\",VLOOKUP($B35*10+$F$2,データ貼付!$B$3:$F$102,5,FALSE))","v":""},{"$f":"IF(ISERROR(VLOOKUP($B35*10+$G$2,データ貼付!$B$3:$F$102,5,FALSE)),\"\",VLOOKUP($B35*10+$G$2,データ貼付!$B$3:$F$102,5,FALSE))","v":""},{"$f":"IF(ISERROR(VLOOKUP($B35*10+$H$2,データ貼付!$B$3:$F$102,5,FALSE)),\"\",VLOOKUP($B35*10+$H$2,データ貼付!$B$3:$F$102,5,FALSE))","v":""},{"$f":"IF(ISERROR(VLOOKUP($B35*10+$I$2,データ貼付!$B$3:$F$102,5,FALSE)),\"\",VLOOKUP($B35*10+$I$2,データ貼付!$B$3:$F$102,5,FALSE))","v":""},"",""]
[null,34,{"$f":"VLOOKUP($B36,データ貼付!$A$3:$I$102,4,FALSE)","v":{"$error":"#N/A"}},{"$f":"VLOOKUP($B36,データ貼付!$A$3:$I$102,5,FALSE)","v":{"$error":"#N/A"}},{"$f":"IF(ISERROR(VLOOKUP($B36*10+$E$2,データ貼付!$B$3:$F$102,5,FALSE)),\"\",VLOOKUP($B36*10+$E$2,データ貼付!$B$3:$F$102,5,FALSE))","v":""},{"$f":"IF(ISERROR(VLOOKUP($B36*10+$F$2,データ貼付!$B$3:$F$102,5,FALSE)),\"\",VLOOKUP($B36*10+$F$2,データ貼付!$B$3:$F$102,5,FALSE))","v":""},{"$f":"IF(ISERROR(VLOOKUP($B36*10+$G$2,データ貼付!$B$3:$F$102,5,FALSE)),\"\",VLOOKUP($B36*10+$G$2,データ貼付!$B$3:$F$102,5,FALSE))","v":""},{"$f":"IF(ISERROR(VLOOKUP($B36*10+$H$2,データ貼付!$B$3:$F$102,5,FALSE)),\"\",VLOOKUP($B36*10+$H$2,データ貼付!$B$3:$F$102,5,FALSE))","v":""},{"$f":"IF(ISERROR(VLOOKUP($B36*10+$I$2,データ貼付!$B$3:$F$102,5,FALSE)),\"\",VLOOKUP($B36*10+$I$2,データ貼付!$B$3:$F$102,5,FALSE))","v":""},"",""]
[null,35,{"$f":"VLOOKUP($B37,データ貼付!$A$3:$I$102,4,FALSE)","v":{"$error":"#N/A"}},{"$f":"VLOOKUP($B37,データ貼付!$A$3:$I$102,5,FALSE)","v":{"$error":"#N/A"}},{"$f":"IF(ISERROR(VLOOKUP($B37*10+$E$2,データ貼付!$B$3:$F$102,5,FALSE)),\"\",VLOOKUP($B37*10+$E$2,データ貼付!$B$3:$F$102,5,FALSE))","v":""},{"$f":"IF(ISERROR(VLOOKUP($B37*10+$F$2,データ貼付!$B$3:$F$102,5,FALSE)),\"\",VLOOKUP($B37*10+$F$2,データ貼付!$B$3:$F$102,5,FALSE))","v":""},{"$f":"IF(ISERROR(VLOOKUP($B37*10+$G$2,データ貼付!$B$3:$F$102,5,FALSE)),\"\",VLOOKUP($B37*10+$G$2,データ貼付!$B$3:$F$102,5,FALSE))","v":""},{"$f":"IF(ISERROR(VLOOKUP($B37*10+$H$2,データ貼付!$B$3:$F$102,5,FALSE)),\"\",VLOOKUP($B37*10+$H$2,データ貼付!$B$3:$F$102,5,FALSE))","v":""},{"$f":"IF(ISERROR(VLOOKUP($B37*10+$I$2,データ貼付!$B$3:$F$102,5,FALSE)),\"\",VLOOKUP($B37*10+$I$2,データ貼付!$B$3:$F$102,5,FALSE))","v":""},"",""]
[null,36,{"$f":"VLOOKUP($B38,データ貼付!$A$3:$I$102,4,FALSE)","v":{"$error":"#N/A"}},{"$f":"VLOOKUP($B38,データ貼付!$A$3:$I$102,5,FALSE)","v":{"$error":"#N/A"}},{"$f":"IF(ISERROR(VLOOKUP($B38*10+$E$2,データ貼付!$B$3:$F$102,5,FALSE)),\"\",VLOOKUP($B38*10+$E$2,データ貼付!$B$3:$F$102,5,FALSE))","v":""},{"$f":"IF(ISERROR(VLOOKUP($B38*10+$F$2,データ貼付!$B$3:$F$102,5,FALSE)),\"\",VLOOKUP($B38*10+$F$2,データ貼付!$B$3:$F$102,5,FALSE))","v":""},{"$f":"IF(ISERROR(VLOOKUP($B38*10+$G$2,データ貼付!$B$3:$F$102,5,FALSE)),\"\",VLOOKUP($B38*10+$G$2,データ貼付!$B$3:$F$102,5,FALSE))","v":""},{"$f":"IF(ISERROR(VLOOKUP($B38*10+$H$2,データ貼付!$B$3:$F$102,5,FALSE)),\"\",VLOOKUP($B38*10+$H$2,データ貼付!$B$3:$F$102,5,FALSE))","v":""},{"$f":"IF(ISERROR(VLOOKUP($B38*10+$I$2,データ貼付!$B$3:$F$102,5,FALSE)),\"\",VLOOKUP($B38*10+$I$2,データ貼付!$B$3:$F$102,5,FALSE))","v":""},"",""]
[null,37,{"$f":"VLOOKUP($B39,データ貼付!$A$3:$I$102,4,FALSE)","v":{"$error":"#N/A"}},{"$f":"VLOOKUP($B39,データ貼付!$A$3:$I$102,5,FALSE)","v":{"$error":"#N/A"}},{"$f":"IF(ISERROR(VLOOKUP($B39*10+$E$2,データ貼付!$B$3:$F$102,5,FALSE)),\"\",VLOOKUP($B39*10+$E$2,データ貼付!$B$3:$F$102,5,FALSE))","v":""},{"$f":"IF(ISERROR(VLOOKUP($B39*10+$F$2,データ貼付!$B$3:$F$102,5,FALSE)),\"\",VLOOKUP($B39*10+$F$2,データ貼付!$B$3:$F$102,5,FALSE))","v":""},{"$f":"IF(ISERROR(VLOOKUP($B39*10+$G$2,データ貼付!$B$3:$F$102,5,FALSE)),\"\",VLOOKUP($B39*10+$G$2,データ貼付!$B$3:$F$102,5,FALSE))","v":""},{"$f":"IF(ISERROR(VLOOKUP($B39*10+$H$2,データ貼付!$B$3:$F$102,5,FALSE)),\"\",VLOOKUP($B39*10+$H$2,データ貼付!$B$3:$F$102,5,FALSE))","v":""},{"$f":"IF(ISERROR(VLOOKUP($B39*10+$I$2,データ貼付!$B$3:$F$102,5,FALSE)),\"\",VLOOKUP($B39*10+$I$2,データ貼付!$B$3:$F$102,5,FALSE))","v":""},"",""]
[null,38,{"$f":"VLOOKUP($B40,データ貼付!$A$3:$I$102,4,FALSE)","v":{"$error":"#N/A"}},{"$f":"VLOOKUP($B40,データ貼付!$A$3:$I$102,5,FALSE)","v":{"$error":"#N/A"}},{"$f":"IF(ISERROR(VLOOKUP($B40*10+$E$2,データ貼付!$B$3:$F$102,5,FALSE)),\"\",VLOOKUP($B40*10+$E$2,データ貼付!$B$3:$F$102,5,FALSE))","v":""},{"$f":"IF(ISERROR(VLOOKUP($B40*10+$F$2,データ貼付!$B$3:$F$102,5,FALSE)),\"\",VLOOKUP($B40*10+$F$2,データ貼付!$B$3:$F$102,5,FALSE))","v":""},{"$f":"IF(ISERROR(VLOOKUP($B40*10+$G$2,データ貼付!$B$3:$F$102,5,FALSE)),\"\",VLOOKUP($B40*10+$G$2,データ貼付!$B$3:$F$102,5,FALSE))","v":""},{"$f":"IF(ISERROR(VLOOKUP($B40*10+$H$2,データ貼付!$B$3:$F$102,5,FALSE)),\"\",VLOOKUP($B40*10+$H$2,データ貼付!$B$3:$F$102,5,FALSE))","v":""},{"$f":"IF(ISERROR(VLOOKUP($B40*10+$I$2,データ貼付!$B$3:$F$102,5,FALSE)),\"\",VLOOKUP($B40*10+$I$2,データ貼付!$B$3:$F$102,5,FALSE))","v":""},"",""]
[null,39,{"$f":"VLOOKUP($B41,データ貼付!$A$3:$I$102,4,FALSE)","v":{"$error":"#N/A"}},{"$f":"VLOOKUP($B41,データ貼付!$A$3:$I$102,5,FALSE)","v":{"$error":"#N/A"}},{"$f":"IF(ISERROR(VLOOKUP($B41*10+$E$2,データ貼付!$B$3:$F$102,5,FALSE)),\"\",VLOOKUP($B41*10+$E$2,データ貼付!$B$3:$F$102,5,FALSE))","v":""},{"$f":"IF(ISERROR(VLOOKUP($B41*10+$F$2,データ貼付!$B$3:$F$102,5,FALSE)),\"\",VLOOKUP($B41*10+$F$2,データ貼付!$B$3:$F$102,5,FALSE))","v":""},{"$f":"IF(ISERROR(VLOOKUP($B41*10+$G$2,データ貼付!$B$3:$F$102,5,FALSE)),\"\",VLOOKUP($B41*10+$G$2,データ貼付!$B$3:$F$102,5,FALSE))","v":""},{"$f":"IF(ISERROR(VLOOKUP($B41*10+$H$2,データ貼付!$B$3:$F$102,5,FALSE)),\"\",VLOOKUP($B41*10+$H$2,データ貼付!$B$3:$F$102,5,FALSE))","v":""},{"$f":"IF(ISERROR(VLOOKUP($B41*10+$I$2,データ貼付!$B$3:$F$102,5,FALSE)),\"\",VLOOKUP($B41*10+$I$2,データ貼付!$B$3:$F$102,5,FALSE))","v":""},"",""]
[null,40,{"$f":"VLOOKUP($B42,データ貼付!$A$3:$I$102,4,FALSE)","v":{"$error":"#N/A"}},{"$f":"VLOOKUP($B42,データ貼付!$A$3:$I$102,5,FALSE)","v":{"$error":"#N/A"}},{"$f":"IF(ISERROR(VLOOKUP($B42*10+$E$2,データ貼付!$B$3:$F$102,5,FALSE)),\"\",VLOOKUP($B42*10+$E$2,データ貼付!$B$3:$F$102,5,FALSE))","v":""},{"$f":"IF(ISERROR(VLOOKUP($B42*10+$F$2,データ貼付!$B$3:$F$102,5,FALSE)),\"\",VLOOKUP($B42*10+$F$2,データ貼付!$B$3:$F$102,5,FALSE))","v":""},{"$f":"IF(ISERROR(VLOOKUP($B42*10+$G$2,データ貼付!$B$3:$F$102,5,FALSE)),\"\",VLOOKUP($B42*10+$G$2,データ貼付!$B$3:$F$102,5,FALSE))","v":""},{"$f":"IF(ISERROR(VLOOKUP($B42*10+$H$2,データ貼付!$B$3:$F$102,5,FALSE)),\"\",VLOOKUP($B42*10+$H$2,データ貼付!$B$3:$F$102,5,FALSE))","v":""},{"$f":"IF(ISERROR(VLOOKUP($B42*10+$I$2,データ貼付!$B$3:$F$102,5,FALSE)),\"\",VLOOKUP($B42*10+$I$2,データ貼付!$B$3:$F$102,5,FALSE))","v":""},"",""]
[null,41,{"$f":"VLOOKUP($B43,データ貼付!$A$3:$I$102,4,FALSE)","v":{"$error":"#N/A"}},{"$f":"VLOOKUP($B43,データ貼付!$A$3:$I$102,5,FALSE)","v":{"$error":"#N/A"}},{"$f":"IF(ISERROR(VLOOKUP($B43*10+$E$2,データ貼付!$B$3:$F$102,5,FALSE)),\"\",VLOOKUP($B43*10+$E$2,データ貼付!$B$3:$F$102,5,FALSE))","v":""},{"$f":"IF(ISERROR(VLOOKUP($B43*10+$F$2,データ貼付!$B$3:$F$102,5,FALSE)),\"\",VLOOKUP($B43*10+$F$2,データ貼付!$B$3:$F$102,5,FALSE))","v":""},{"$f":"IF(ISERROR(VLOOKUP($B43*10+$G$2,データ貼付!$B$3:$F$102,5,FALSE)),\"\",VLOOKUP($B43*10+$G$2,データ貼付!$B$3:$F$102,5,FALSE))","v":""},{"$f":"IF(ISERROR(VLOOKUP($B43*10+$H$2,データ貼付!$B$3:$F$102,5,FALSE)),\"\",VLOOKUP($B43*10+$H$2,データ貼付!$B$3:$F$102,5,FALSE))","v":""},{"$f":"IF(ISERROR(VLOOKUP($B43*10+$I$2,データ貼付!$B$3:$F$102,5,FALSE)),\"\",VLOOKUP($B43*10+$I$2,データ貼付!$B$3:$F$102,5,FALSE))","v":""},"",""]
[null,42,{"$f":"VLOOKUP($B44,データ貼付!$A$3:$I$102,4,FALSE)","v":{"$error":"#N/A"}},{"$f":"VLOOKUP($B44,データ貼付!$A$3:$I$102,5,FALSE)","v":{"$error":"#N/A"}},{"$f":"IF(ISERROR(VLOOKUP($B44*10+$E$2,データ貼付!$B$3:$F$102,5,FALSE)),\"\",VLOOKUP($B44*10+$E$2,データ貼付!$B$3:$F$102,5,FALSE))","v":""},{"$f":"IF(ISERROR(VLOOKUP($B44*10+$F$2,データ貼付!$B$3:$F$102,5,FALSE)),\"\",VLOOKUP($B44*10+$F$2,データ貼付!$B$3:$F$102,5,FALSE))","v":""},{"$f":"IF(ISERROR(VLOOKUP($B44*10+$G$2,データ貼付!$B$3:$F$102,5,FALSE)),\"\",VLOOKUP($B44*10+$G$2,データ貼付!$B$3:$F$102,5,FALSE))","v":""},{"$f":"IF(ISERROR(VLOOKUP($B44*10+$H$2,データ貼付!$B$3:$F$102,5,FALSE)),\"\",VLOOKUP($B44*10+$H$2,データ貼付!$B$3:$F$102,5,FALSE))","v":""},{"$f":"IF(ISERROR(VLOOKUP($B44*10+$I$2,データ貼付!$B$3:$F$102,5,FALSE)),\"\",VLOOKUP($B44*10+$I$2,データ貼付!$B$3:$F$102,5,FALSE))","v":""},"",""]
[null,43,{"$f":"VLOOKUP($B45,データ貼付!$A$3:$I$102,4,FALSE)","v":{"$error":"#N/A"}},{"$f":"VLOOKUP($B45,データ貼付!$A$3:$I$102,5,FALSE)","v":{"$error":"#N/A"}},{"$f":"IF(ISERROR(VLOOKUP($B45*10+$E$2,データ貼付!$B$3:$F$102,5,FALSE)),\"\",VLOOKUP($B45*10+$E$2,データ貼付!$B$3:$F$102,5,FALSE))","v":""},{"$f":"IF(ISERROR(VLOOKUP($B45*10+$F$2,データ貼付!$B$3:$F$102,5,FALSE)),\"\",VLOOKUP($B45*10+$F$2,データ貼付!$B$3:$F$102,5,FALSE))","v":""},{"$f":"IF(ISERROR(VLOOKUP($B45*10+$G$2,データ貼付!$B$3:$F$102,5,FALSE)),\"\",VLOOKUP($B45*10+$G$2,データ貼付!$B$3:$F$102,5,FALSE))","v":""},{"$f":"IF(ISERROR(VLOOKUP($B45*10+$H$2,データ貼付!$B$3:$F$102,5,FALSE)),\"\",VLOOKUP($B45*10+$H$2,データ貼付!$B$3:$F$102,5,FALSE))","v":""},{"$f":"IF(ISERROR(VLOOKUP($B45*10+$I$2,データ貼付!$B$3:$F$102,5,FALSE)),\"\",VLOOKUP($B45*10+$I$2,データ貼付!$B$3:$F$102,5,FALSE))","v":""},"",""]
[null,44,{"$f":"VLOOKUP($B46,データ貼付!$A$3:$I$102,4,FALSE)","v":{"$error":"#N/A"}},{"$f":"VLOOKUP($B46,データ貼付!$A$3:$I$102,5,FALSE)","v":{"$error":"#N/A"}},{"$f":"IF(ISERROR(VLOOKUP($B46*10+$E$2,データ貼付!$B$3:$F$102,5,FALSE)),\"\",VLOOKUP($B46*10+$E$2,データ貼付!$B$3:$F$102,5,FALSE))","v":""},{"$f":"IF(ISERROR(VLOOKUP($B46*10+$F$2,データ貼付!$B$3:$F$102,5,FALSE)),\"\",VLOOKUP($B46*10+$F$2,データ貼付!$B$3:$F$102,5,FALSE))","v":""},{"$f":"IF(ISERROR(VLOOKUP($B46*10+$G$2,データ貼付!$B$3:$F$102,5,FALSE)),\"\",VLOOKUP($B46*10+$G$2,データ貼付!$B$3:$F$102,5,FALSE))","v":""},{"$f":"IF(ISERROR(VLOOKUP($B46*10+$H$2,データ貼付!$B$3:$F$102,5,FALSE)),\"\",VLOOKUP($B46*10+$H$2,データ貼付!$B$3:$F$102,5,FALSE))","v":""},{"$f":"IF(ISERROR(VLOOKUP($B46*10+$I$2,データ貼付!$B$3:$F$102,5,FALSE)),\"\",VLOOKUP($B46*10+$I$2,データ貼付!$B$3:$F$102,5,FALSE))","v":""},"",""]
[null,45,{"$f":"VLOOKUP($B47,データ貼付!$A$3:$I$102,4,FALSE)","v":{"$error":"#N/A"}},{"$f":"VLOOKUP($B47,データ貼付!$A$3:$I$102,5,FALSE)","v":{"$error":"#N/A"}},{"$f":"IF(ISERROR(VLOOKUP($B47*10+$E$2,データ貼付!$B$3:$F$102,5,FALSE)),\"\",VLOOKUP($B47*10+$E$2,データ貼付!$B$3:$F$102,5,FALSE))","v":""},{"$f":"IF(ISERROR(VLOOKUP($B47*10+$F$2,データ貼付!$B$3:$F$102,5,FALSE)),\"\",VLOOKUP($B47*10+$F$2,データ貼付!$B$3:$F$102,5,FALSE))","v":""},{"$f":"IF(ISERROR(VLOOKUP($B47*10+$G$2,データ貼付!$B$3:$F$102,5,FALSE)),\"\",VLOOKUP($B47*10+$G$2,データ貼付!$B$3:$F$102,5,FALSE))","v":""},{"$f":"IF(ISERROR(VLOOKUP($B47*10+$H$2,データ貼付!$B$3:$F$102,5,FALSE)),\"\",VLOOKUP($B47*10+$H$2,データ貼付!$B$3:$F$102,5,FALSE))","v":""},{"$f":"IF(ISERROR(VLOOKUP($B47*10+$I$2,データ貼付!$B$3:$F$102,5,FALSE)),\"\",VLOOKUP($B47*10+$I$2,データ貼付!$B$3:$F$102,5,FALSE))","v":""},"",""]
[null,46,{"$f":"VLOOKUP($B48,データ貼付!$A$3:$I$102,4,FALSE)","v":{"$error":"#N/A"}},{"$f":"VLOOKUP($B48,データ貼付!$A$3:$I$102,5,FALSE)","v":{"$error":"#N/A"}},{"$f":"IF(ISERROR(VLOOKUP($B48*10+$E$2,データ貼付!$B$3:$F$102,5,FALSE)),\"\",VLOOKUP($B48*10+$E$2,データ貼付!$B$3:$F$102,5,FALSE))","v":""},{"$f":"IF(ISERROR(VLOOKUP($B48*10+$F$2,データ貼付!$B$3:$F$102,5,FALSE)),\"\",VLOOKUP($B48*10+$F$2,データ貼付!$B$3:$F$102,5,FALSE))","v":""},{"$f":"IF(ISERROR(VLOOKUP($B48*10+$G$2,データ貼付!$B$3:$F$102,5,FALSE)),\"\",VLOOKUP($B48*10+$G$2,データ貼付!$B$3:$F$102,5,FALSE))","v":""},{"$f":"IF(ISERROR(VLOOKUP($B48*10+$H$2,データ貼付!$B$3:$F$102,5,FALSE)),\"\",VLOOKUP($B48*10+$H$2,データ貼付!$B$3:$F$102,5,FALSE))","v":""},{"$f":"IF(ISERROR(VLOOKUP($B48*10+$I$2,データ貼付!$B$3:$F$102,5,FALSE)),\"\",VLOOKUP($B48*10+$I$2,データ貼付!$B$3:$F$102,5,FALSE))","v":""},"",""]
[null,47,{"$f":"VLOOKUP($B49,データ貼付!$A$3:$I$102,4,FALSE)","v":{"$error":"#N/A"}},{"$f":"VLOOKUP($B49,データ貼付!$A$3:$I$102,5,FALSE)","v":{"$error":"#N/A"}},{"$f":"IF(ISERROR(VLOOKUP($B49*10+$E$2,データ貼付!$B$3:$F$102,5,FALSE)),\"\",VLOOKUP($B49*10+$E$2,データ貼付!$B$3:$F$102,5,FALSE))","v":""},{"$f":"IF(ISERROR(VLOOKUP($B49*10+$F$2,データ貼付!$B$3:$F$102,5,FALSE)),\"\",VLOOKUP($B49*10+$F$2,データ貼付!$B$3:$F$102,5,FALSE))","v":""},{"$f":"IF(ISERROR(VLOOKUP($B49*10+$G$2,データ貼付!$B$3:$F$102,5,FALSE)),\"\",VLOOKUP($B49*10+$G$2,データ貼付!$B$3:$F$102,5,FALSE))","v":""},{"$f":"IF(ISERROR(VLOOKUP($B49*10+$H$2,データ貼付!$B$3:$F$102,5,FALSE)),\"\",VLOOKUP($B49*10+$H$2,データ貼付!$B$3:$F$102,5,FALSE))","v":""},{"$f":"IF(ISERROR(VLOOKUP($B49*10+$I$2,データ貼付!$B$3:$F$102,5,FALSE)),\"\",VLOOKUP($B49*10+$I$2,データ貼付!$B$3:$F$102,5,FALSE))","v":""},"",""]
[null,48,{"$f":"VLOOKUP($B50,データ貼付!$A$3:$I$102,4,FALSE)","v":{"$error":"#N/A"}},{"$f":"VLOOKUP($B50,データ貼付!$A$3:$I$102,5,FALSE)","v":{"$error":"#N/A"}},{"$f":"IF(ISERROR(VLOOKUP($B50*10+$E$2,データ貼付!$B$3:$F$102,5,FALSE)),\"\",VLOOKUP($B50*10+$E$2,データ貼付!$B$3:$F$102,5,FALSE))","v":""},{"$f":"IF(ISERROR(VLOOKUP($B50*10+$F$2,データ貼付!$B$3:$F$102,5,FALSE)),\"\",VLOOKUP($B50*10+$F$2,データ貼付!$B$3:$F$102,5,FALSE))","v":""},{"$f":"IF(ISERROR(VLOOKUP($B50*10+$G$2,データ貼付!$B$3:$F$102,5,FALSE)),\"\",VLOOKUP($B50*10+$G$2,データ貼付!$B$3:$F$102,5,FALSE))","v":""},{"$f":"IF(ISERROR(VLOOKUP($B50*10+$H$2,データ貼付!$B$3:$F$102,5,FALSE)),\"\",VLOOKUP($B50*10+$H$2,データ貼付!$B$3:$F$102,5,FALSE))","v":""},{"$f":"IF(ISERROR(VLOOKUP($B50*10+$I$2,データ貼付!$B$3:$F$102,5,FALSE)),\"\",VLOOKUP($B50*10+$I$2,データ貼付!$B$3:$F$102,5,FALSE))","v":""},"",""]
[null,49,{"$f":"VLOOKUP($B51,データ貼付!$A$3:$I$102,4,FALSE)","v":{"$error":"#N/A"}},{"$f":"VLOOKUP($B51,データ貼付!$A$3:$I$102,5,FALSE)","v":{"$error":"#N/A"}},{"$f":"IF(ISERROR(VLOOKUP($B51*10+$E$2,データ貼付!$B$3:$F$102,5,FALSE)),\"\",VLOOKUP($B51*10+$E$2,データ貼付!$B$3:$F$102,5,FALSE))","v":""},{"$f":"IF(ISERROR(VLOOKUP($B51*10+$F$2,データ貼付!$B$3:$F$102,5,FALSE)),\"\",VLOOKUP($B51*10+$F$2,データ貼付!$B$3:$F$102,5,FALSE))","v":""},{"$f":"IF(ISERROR(VLOOKUP($B51*10+$G$2,データ貼付!$B$3:$F$102,5,FALSE)),\"\",VLOOKUP($B51*10+$G$2,データ貼付!$B$3:$F$102,5,FALSE))","v":""},{"$f":"IF(ISERROR(VLOOKUP($B51*10+$H$2,データ貼付!$B$3:$F$102,5,FALSE)),\"\",VLOOKUP($B51*10+$H$2,データ貼付!$B$3:$F$102,5,FALSE))","v":""},{"$f":"IF(ISERROR(VLOOKUP($B51*10+$I$2,データ貼付!$B$3:$F$102,5,FALSE)),\"\",VLOOKUP($B51*10+$I$2,データ貼付!$B$3:$F$102,5,FALSE))","v":""},"",""]
[null,50,{"$f":"VLOOKUP($B52,データ貼付!$A$3:$I$102,4,FALSE)","v":{"$error":"#N/A"}},{"$f":"VLOOKUP($B52,データ貼付!$A$3:$I$102,5,FALSE)","v":{"$error":"#N/A"}},{"$f":"IF(ISERROR(VLOOKUP($B52*10+$E$2,データ貼付!$B$3:$F$102,5,FALSE)),\"\",VLOOKUP($B52*10+$E$2,データ貼付!$B$3:$F$102,5,FALSE))","v":""},{"$f":"IF(ISERROR(VLOOKUP($B52*10+$F$2,データ貼付!$B$3:$F$102,5,FALSE)),\"\",VLOOKUP($B52*10+$F$2,データ貼付!$B$3:$F$102,5,FALSE))","v":""},{"$f":"IF(ISERROR(VLOOKUP($B52*10+$G$2,データ貼付!$B$3:$F$102,5,FALSE)),\"\",VLOOKUP($B52*10+$G$2,データ貼付!$B$3:$F$102,5,FALSE))","v":""},{"$f":"IF(ISERROR(VLOOKUP($B52*10+$H$2,データ貼付!$B$3:$F$102,5,FALSE)),\"\",VLOOKUP($B52*10+$H$2,データ貼付!$B$3:$F$102,5,FALSE))","v":""},{"$f":"IF(ISERROR(VLOOKUP($B52*10+$I$2,データ貼付!$B$3:$F$102,5,FALSE)),\"\",VLOOKUP($B52*10+$I$2,データ貼付!$B$3:$F$102,5,FALSE))","v":""},"",""]
[null,51,{"$f":"VLOOKUP($B53,データ貼付!$A$3:$I$102,4,FALSE)","v":{"$error":"#N/A"}},{"$f":"VLOOKUP($B53,データ貼付!$A$3:$I$102,5,FALSE)","v":{"$error":"#N/A"}},{"$f":"IF(ISERROR(VLOOKUP($B53*10+$E$2,データ貼付!$B$3:$F$102,5,FALSE)),\"\",VLOOKUP($B53*10+$E$2,データ貼付!$B$3:$F$102,5,FALSE))","v":""},{"$f":"IF(ISERROR(VLOOKUP($B53*10+$F$2,データ貼付!$B$3:$F$102,5,FALSE)),\"\",VLOOKUP($B53*10+$F$2,データ貼付!$B$3:$F$102,5,FALSE))","v":""},{"$f":"IF(ISERROR(VLOOKUP($B53*10+$G$2,データ貼付!$B$3:$F$102,5,FALSE)),\"\",VLOOKUP($B53*10+$G$2,データ貼付!$B$3:$F$102,5,FALSE))","v":""},{"$f":"IF(ISERROR(VLOOKUP($B53*10+$H$2,データ貼付!$B$3:$F$102,5,FALSE)),\"\",VLOOKUP($B53*10+$H$2,データ貼付!$B$3:$F$102,5,FALSE))","v":""},{"$f":"IF(ISERROR(VLOOKUP($B53*10+$I$2,データ貼付!$B$3:$F$102,5,FALSE)),\"\",VLOOKUP($B53*10+$I$2,データ貼付!$B$3:$F$102,5,FALSE))","v":""}]
[null,52,{"$f":"VLOOKUP($B54,データ貼付!$A$3:$I$102,4,FALSE)","v":{"$error":"#N/A"}},{"$f":"VLOOKUP($B54,データ貼付!$A$3:$I$102,5,FALSE)","v":{"$error":"#N/A"}},{"$f":"IF(ISERROR(VLOOKUP($B54*10+$E$2,データ貼付!$B$3:$F$102,5,FALSE)),\"\",VLOOKUP($B54*10+$E$2,データ貼付!$B$3:$F$102,5,FALSE))","v":""},{"$f":"IF(ISERROR(VLOOKUP($B54*10+$F$2,データ貼付!$B$3:$F$102,5,FALSE)),\"\",VLOOKUP($B54*10+$F$2,データ貼付!$B$3:$F$102,5,FALSE))","v":""},{"$f":"IF(ISERROR(VLOOKUP($B54*10+$G$2,データ貼付!$B$3:$F$102,5,FALSE)),\"\",VLOOKUP($B54*10+$G$2,データ貼付!$B$3:$F$102,5,FALSE))","v":""},{"$f":"IF(ISERROR(VLOOKUP($B54*10+$H$2,データ貼付!$B$3:$F$102,5,FALSE)),\"\",VLOOKUP($B54*10+$H$2,データ貼付!$B$3:$F$102,5,FALSE))","v":""},{"$f":"IF(ISERROR(VLOOKUP($B54*10+$I$2,データ貼付!$B$3:$F$102,5,FALSE)),\"\",VLOOKUP($B54*10+$I$2,データ貼付!$B$3:$F$102,5,FALSE))","v":""}]
[null,53,{"$f":"VLOOKUP($B55,データ貼付!$A$3:$I$102,4,FALSE)","v":{"$error":"#N/A"}},{"$f":"VLOOKUP($B55,データ貼付!$A$3:$I$102,5,FALSE)","v":{"$error":"#N/A"}},{"$f":"IF(ISERROR(VLOOKUP($B55*10+$E$2,データ貼付!$B$3:$F$102,5,FALSE)),\"\",VLOOKUP($B55*10+$E$2,データ貼付!$B$3:$F$102,5,FALSE))","v":""},{"$f":"IF(ISERROR(VLOOKUP($B55*10+$F$2,データ貼付!$B$3:$F$102,5,FALSE)),\"\",VLOOKUP($B55*10+$F$2,データ貼付!$B$3:$F$102,5,FALSE))","v":""},{"$f":"IF(ISERROR(VLOOKUP($B55*10+$G$2,データ貼付!$B$3:$F$102,5,FALSE)),\"\",VLOOKUP($B55*10+$G$2,データ貼付!$B$3:$F$102,5,FALSE))","v":""},{"$f":"IF(ISERROR(VLOOKUP($B55*10+$H$2,データ貼付!$B$3:$F$102,5,FALSE)),\"\",VLOOKUP($B55*10+$H$2,データ貼付!$B$3:$F$102,5,FALSE))","v":""},{"$f":"IF(ISERROR(VLOOKUP($B55*10+$I$2,データ貼付!$B$3:$F$102,5,FALSE)),\"\",VLOOKUP($B55*10+$I$2,データ貼付!$B$3:$F$102,5,FALSE))","v":""}]
[null,54,{"$f":"VLOOKUP($B56,データ貼付!$A$3:$I$102,4,FALSE)","v":{"$error":"#N/A"}},{"$f":"VLOOKUP($B56,データ貼付!$A$3:$I$102,5,FALSE)","v":{"$error":"#N/A"}},{"$f":"IF(ISERROR(VLOOKUP($B56*10+$E$2,データ貼付!$B$3:$F$102,5,FALSE)),\"\",VLOOKUP($B56*10+$E$2,データ貼付!$B$3:$F$102,5,FALSE))","v":""},{"$f":"IF(ISERROR(VLOOKUP($B56*10+$F$2,データ貼付!$B$3:$F$102,5,FALSE)),\"\",VLOOKUP($B56*10+$F$2,データ貼付!$B$3:$F$102,5,FALSE))","v":""},{"$f":"IF(ISERROR(VLOOKUP($B56*10+$G$2,データ貼付!$B$3:$F$102,5,FALSE)),\"\",VLOOKUP($B56*10+$G$2,データ貼付!$B$3:$F$102,5,FALSE))","v":""},{"$f":"IF(ISERROR(VLOOKUP($B56*10+$H$2,データ貼付!$B$3:$F$102,5,FALSE)),\"\",VLOOKUP($B56*10+$H$2,データ貼付!$B$3:$F$102,5,FALSE))","v":""},{"$f":"IF(ISERROR(VLOOKUP($B56*10+$I$2,データ貼付!$B$3:$F$102,5,FALSE)),\"\",VLOOKUP($B56*10+$I$2,データ貼付!$B$3:$F$102,5,FALSE))","v":""}]
[null,55,{"$f":"VLOOKUP($B57,データ貼付!$A$3:$I$102,4,FALSE)","v":{"$error":"#N/A"}},{"$f":"VLOOKUP($B57,データ貼付!$A$3:$I$102,5,FALSE)","v":{"$error":"#N/A"}},{"$f":"IF(ISERROR(VLOOKUP($B57*10+$E$2,データ貼付!$B$3:$F$102,5,FALSE)),\"\",VLOOKUP($B57*10+$E$2,データ貼付!$B$3:$F$102,5,FALSE))","v":""},{"$f":"IF(ISERROR(VLOOKUP($B57*10+$F$2,データ貼付!$B$3:$F$102,5,FALSE)),\"\",VLOOKUP($B57*10+$F$2,データ貼付!$B$3:$F$102,5,FALSE))","v":""},{"$f":"IF(ISERROR(VLOOKUP($B57*10+$G$2,データ貼付!$B$3:$F$102,5,FALSE)),\"\",VLOOKUP($B57*10+$G$2,データ貼付!$B$3:$F$102,5,FALSE))","v":""},{"$f":"IF(ISERROR(VLOOKUP($B57*10+$H$2,データ貼付!$B$3:$F$102,5,FALSE)),\"\",VLOOKUP($B57*10+$H$2,データ貼付!$B$3:$F$102,5,FALSE))","v":""},{"$f":"IF(ISERROR(VLOOKUP($B57*10+$I$2,データ貼付!$B$3:$F$102,5,FALSE)),\"\",VLOOKUP($B57*10+$I$2,データ貼付!$B$3:$F$102,5,FALSE))","v":""}]
[null,56,{"$f":"VLOOKUP($B58,データ貼付!$A$3:$I$102,4,FALSE)","v":{"$error":"#N/A"}},{"$f":"VLOOKUP($B58,データ貼付!$A$3:$I$102,5,FALSE)","v":{"$error":"#N/A"}},{"$f":"IF(ISERROR(VLOOKUP($B58*10+$E$2,データ貼付!$B$3:$F$102,5,FALSE)),\"\",VLOOKUP($B58*10+$E$2,データ貼付!$B$3:$F$102,5,FALSE))","v":""},{"$f":"IF(ISERROR(VLOOKUP($B58*10+$F$2,データ貼付!$B$3:$F$102,5,FALSE)),\"\",VLOOKUP($B58*10+$F$2,データ貼付!$B$3:$F$102,5,FALSE))","v":""},{"$f":"IF(ISERROR(VLOOKUP($B58*10+$G$2,データ貼付!$B$3:$F$102,5,FALSE)),\"\",VLOOKUP($B58*10+$G$2,データ貼付!$B$3:$F$102,5,FALSE))","v":""},{"$f":"IF(ISERROR(VLOOKUP($B58*10+$H$2,データ貼付!$B$3:$F$102,5,FALSE)),\"\",VLOOKUP($B58*10+$H$2,データ貼付!$B$3:$F$102,5,FALSE))","v":""},{"$f":"IF(ISERROR(VLOOKUP($B58*10+$I$2,データ貼付!$B$3:$F$102,5,FALSE)),\"\",VLOOKUP($B58*10+$I$2,データ貼付!$B$3:$F$102,5,FALSE))","v":""}]
[null,57,{"$f":"VLOOKUP($B59,データ貼付!$A$3:$I$102,4,FALSE)","v":{"$error":"#N/A"}},{"$f":"VLOOKUP($B59,データ貼付!$A$3:$I$102,5,FALSE)","v":{"$error":"#N/A"}},{"$f":"IF(ISERROR(VLOOKUP($B59*10+$E$2,データ貼付!$B$3:$F$102,5,FALSE)),\"\",VLOOKUP($B59*10+$E$2,データ貼付!$B$3:$F$102,5,FALSE))","v":""},{"$f":"IF(ISERROR(VLOOKUP($B59*10+$F$2,データ貼付!$B$3:$F$102,5,FALSE)),\"\",VLOOKUP($B59*10+$F$2,データ貼付!$B$3:$F$102,5,FALSE))","v":""},{"$f":"IF(ISERROR(VLOOKUP($B59*10+$G$2,データ貼付!$B$3:$F$102,5,FALSE)),\"\",VLOOKUP($B59*10+$G$2,データ貼付!$B$3:$F$102,5,FALSE))","v":""},{"$f":"IF(ISERROR(VLOOKUP($B59*10+$H$2,データ貼付!$B$3:$F$102,5,FALSE)),\"\",VLOOKUP($B59*10+$H$2,データ貼付!$B$3:$F$102,5,FALSE))","v":""},{"$f":"IF(ISERROR(VLOOKUP($B59*10+$I$2,データ貼付!$B$3:$F$102,5,FALSE)),\"\",VLOOKUP($B59*10+$I$2,データ貼付!$B$3:$F$102,5,FALSE))","v":""}]
[null,58,{"$f":"VLOOKUP($B60,データ貼付!$A$3:$I$102,4,FALSE)","v":{"$error":"#N/A"}},{"$f":"VLOOKUP($B60,データ貼付!$A$3:$I$102,5,FALSE)","v":{"$error":"#N/A"}},{"$f":"IF(ISERROR(VLOOKUP($B60*10+$E$2,データ貼付!$B$3:$F$102,5,FALSE)),\"\",VLOOKUP($B60*10+$E$2,データ貼付!$B$3:$F$102,5,FALSE))","v":""},{"$f":"IF(ISERROR(VLOOKUP($B60*10+$F$2,データ貼付!$B$3:$F$102,5,FALSE)),\"\",VLOOKUP($B60*10+$F$2,データ貼付!$B$3:$F$102,5,FALSE))","v":""},{"$f":"IF(ISERROR(VLOOKUP($B60*10+$G$2,データ貼付!$B$3:$F$102,5,FALSE)),\"\",VLOOKUP($B60*10+$G$2,データ貼付!$B$3:$F$102,5,FALSE))","v":""},{"$f":"IF(ISERROR(VLOOKUP($B60*10+$H$2,データ貼付!$B$3:$F$102,5,FALSE)),\"\",VLOOKUP($B60*10+$H$2,データ貼付!$B$3:$F$102,5,FALSE))","v":""},{"$f":"IF(ISERROR(VLOOKUP($B60*10+$I$2,データ貼付!$B$3:$F$102,5,FALSE)),\"\",VLOOKUP($B60*10+$I$2,データ貼付!$B$3:$F$102,5,FALSE))","v":""}]
[null,59,{"$f":"VLOOKUP($B61,データ貼付!$A$3:$I$102,4,FALSE)","v":{"$error":"#N/A"}},{"$f":"VLOOKUP($B61,データ貼付!$A$3:$I$102,5,FALSE)","v":{"$error":"#N/A"}},{"$f":"IF(ISERROR(VLOOKUP($B61*10+$E$2,データ貼付!$B$3:$F$102,5,FALSE)),\"\",VLOOKUP($B61*10+$E$2,データ貼付!$B$3:$F$102,5,FALSE))","v":""},{"$f":"IF(ISERROR(VLOOKUP($B61*10+$F$2,データ貼付!$B$3:$F$102,5,FALSE)),\"\",VLOOKUP($B61*10+$F$2,データ貼付!$B$3:$F$102,5,FALSE))","v":""},{"$f":"IF(ISERROR(VLOOKUP($B61*10+$G$2,データ貼付!$B$3:$F$102,5,FALSE)),\"\",VLOOKUP($B61*10+$G$2,データ貼付!$B$3:$F$102,5,FALSE))","v":""},{"$f":"IF(ISERROR(VLOOKUP($B61*10+$H$2,データ貼付!$B$3:$F$102,5,FALSE)),\"\",VLOOKUP($B61*10+$H$2,データ貼付!$B$3:$F$102,5,FALSE))","v":""},{"$f":"IF(ISERROR(VLOOKUP($B61*10+$I$2,データ貼付!$B$3:$F$102,5,FALSE)),\"\",VLOOKUP($B61*10+$I$2,データ貼付!$B$3:$F$102,5,FALSE))","v":""}]
[null,60,{"$f":"VLOOKUP($B62,データ貼付!$A$3:$I$102,4,FALSE)","v":{"$error":"#N/A"}},{"$f":"VLOOKUP($B62,データ貼付!$A$3:$I$102,5,FALSE)","v":{"$error":"#N/A"}},{"$f":"IF(ISERROR(VLOOKUP($B62*10+$E$2,データ貼付!$B$3:$F$102,5,FALSE)),\"\",VLOOKUP($B62*10+$E$2,データ貼付!$B$3:$F$102,5,FALSE))","v":""},{"$f":"IF(ISERROR(VLOOKUP($B62*10+$F$2,データ貼付!$B$3:$F$102,5,FALSE)),\"\",VLOOKUP($B62*10+$F$2,データ貼付!$B$3:$F$102,5,FALSE))","v":""},{"$f":"IF(ISERROR(VLOOKUP($B62*10+$G$2,データ貼付!$B$3:$F$102,5,FALSE)),\"\",VLOOKUP($B62*10+$G$2,データ貼付!$B$3:$F$102,5,FALSE))","v":""},{"$f":"IF(ISERROR(VLOOKUP($B62*10+$H$2,データ貼付!$B$3:$F$102,5,FALSE)),\"\",VLOOKUP($B62*10+$H$2,データ貼付!$B$3:$F$102,5,FALSE))","v":""},{"$f":"IF(ISERROR(VLOOKUP($B62*10+$I$2,データ貼付!$B$3:$F$102,5,FALSE)),\"\",VLOOKUP($B62*10+$I$2,データ貼付!$B$3:$F$102,5,FALSE))","v":""}]
[null,61,{"$f":"VLOOKUP($B63,データ貼付!$A$3:$I$102,4,FALSE)","v":{"$error":"#N/A"}},{"$f":"VLOOKUP($B63,データ貼付!$A$3:$I$102,5,FALSE)","v":{"$error":"#N/A"}},{"$f":"IF(ISERROR(VLOOKUP($B63*10+$E$2,データ貼付!$B$3:$F$102,5,FALSE)),\"\",VLOOKUP($B63*10+$E$2,データ貼付!$B$3:$F$102,5,FALSE))","v":""},{"$f":"IF(ISERROR(VLOOKUP($B63*10+$F$2,データ貼付!$B$3:$F$102,5,FALSE)),\"\",VLOOKUP($B63*10+$F$2,データ貼付!$B$3:$F$102,5,FALSE))","v":""},{"$f":"IF(ISERROR(VLOOKUP($B63*10+$G$2,データ貼付!$B$3:$F$102,5,FALSE)),\"\",VLOOKUP($B63*10+$G$2,データ貼付!$B$3:$F$102,5,FALSE))","v":""},{"$f":"IF(ISERROR(VLOOKUP($B63*10+$H$2,データ貼付!$B$3:$F$102,5,FALSE)),\"\",VLOOKUP($B63*10+$H$2,データ貼付!$B$3:$F$102,5,FALSE))","v":""},{"$f":"IF(ISERROR(VLOOKUP($B63*10+$I$2,データ貼付!$B$3:$F$102,5,FALSE)),\"\",VLOOKUP($B63*10+$I$2,データ貼付!$B$3:$F$102,5,FALSE))","v":""}]
[null,62,{"$f":"VLOOKUP($B64,データ貼付!$A$3:$I$102,4,FALSE)","v":{"$error":"#N/A"}},{"$f":"VLOOKUP($B64,データ貼付!$A$3:$I$102,5,FALSE)","v":{"$error":"#N/A"}},{"$f":"IF(ISERROR(VLOOKUP($B64*10+$E$2,データ貼付!$B$3:$F$102,5,FALSE)),\"\",VLOOKUP($B64*10+$E$2,データ貼付!$B$3:$F$102,5,FALSE))","v":""},{"$f":"IF(ISERROR(VLOOKUP($B64*10+$F$2,データ貼付!$B$3:$F$102,5,FALSE)),\"\",VLOOKUP($B64*10+$F$2,データ貼付!$B$3:$F$102,5,FALSE))","v":""},{"$f":"IF(ISERROR(VLOOKUP($B64*10+$G$2,データ貼付!$B$3:$F$102,5,FALSE)),\"\",VLOOKUP($B64*10+$G$2,データ貼付!$B$3:$F$102,5,FALSE))","v":""},{"$f":"IF(ISERROR(VLOOKUP($B64*10+$H$2,データ貼付!$B$3:$F$102,5,FALSE)),\"\",VLOOKUP($B64*10+$H$2,データ貼付!$B$3:$F$102,5,FALSE))","v":""},{"$f":"IF(ISERROR(VLOOKUP($B64*10+$I$2,データ貼付!$B$3:$F$102,5,FALSE)),\"\",VLOOKUP($B64*10+$I$2,データ貼付!$B$3:$F$102,5,FALSE))","v":""}]
[null,63,{"$f":"VLOOKUP($B65,データ貼付!$A$3:$I$102,4,FALSE)","v":{"$error":"#N/A"}},{"$f":"VLOOKUP($B65,データ貼付!$A$3:$I$102,5,FALSE)","v":{"$error":"#N/A"}},{"$f":"IF(ISERROR(VLOOKUP($B65*10+$E$2,データ貼付!$B$3:$F$102,5,FALSE)),\"\",VLOOKUP($B65*10+$E$2,データ貼付!$B$3:$F$102,5,FALSE))","v":""},{"$f":"IF(ISERROR(VLOOKUP($B65*10+$F$2,データ貼付!$B$3:$F$102,5,FALSE)),\"\",VLOOKUP($B65*10+$F$2,データ貼付!$B$3:$F$102,5,FALSE))","v":""},{"$f":"IF(ISERROR(VLOOKUP($B65*10+$G$2,データ貼付!$B$3:$F$102,5,FALSE)),\"\",VLOOKUP($B65*10+$G$2,データ貼付!$B$3:$F$102,5,FALSE))","v":""},{"$f":"IF(ISERROR(VLOOKUP($B65*10+$H$2,データ貼付!$B$3:$F$102,5,FALSE)),\"\",VLOOKUP($B65*10+$H$2,データ貼付!$B$3:$F$102,5,FALSE))","v":""},{"$f":"IF(ISERROR(VLOOKUP($B65*10+$I$2,データ貼付!$B$3:$F$102,5,FALSE)),\"\",VLOOKUP($B65*10+$I$2,データ貼付!$B$3:$F$102,5,FALSE))","v":""}]
[null,64,{"$f":"VLOOKUP($B66,データ貼付!$A$3:$I$102,4,FALSE)","v":{"$error":"#N/A"}},{"$f":"VLOOKUP($B66,データ貼付!$A$3:$I$102,5,FALSE)","v":{"$error":"#N/A"}},{"$f":"IF(ISERROR(VLOOKUP($B66*10+$E$2,データ貼付!$B$3:$F$102,5,FALSE)),\"\",VLOOKUP($B66*10+$E$2,データ貼付!$B$3:$F$102,5,FALSE))","v":""},{"$f":"IF(ISERROR(VLOOKUP($B66*10+$F$2,データ貼付!$B$3:$F$102,5,FALSE)),\"\",VLOOKUP($B66*10+$F$2,データ貼付!$B$3:$F$102,5,FALSE))","v":""},{"$f":"IF(ISERROR(VLOOKUP($B66*10+$G$2,データ貼付!$B$3:$F$102,5,FALSE)),\"\",VLOOKUP($B66*10+$G$2,データ貼付!$B$3:$F$102,5,FALSE))","v":""},{"$f":"IF(ISERROR(VLOOKUP($B66*10+$H$2,データ貼付!$B$3:$F$102,5,FALSE)),\"\",VLOOKUP($B66*10+$H$2,データ貼付!$B$3:$F$102,5,FALSE))","v":""},{"$f":"IF(ISERROR(VLOOKUP($B66*10+$I$2,データ貼付!$B$3:$F$102,5,FALSE)),\"\",VLOOKUP($B66*10+$I$2,データ貼付!$B$3:$F$102,5,FALSE))","v":""}]
[null,65,{"$f":"VLOOKUP($B67,データ貼付!$A$3:$I$102,4,FALSE)","v":{"$error":"#N/A"}},{"$f":"VLOOKUP($B67,データ貼付!$A$3:$I$102,5,FALSE)","v":{"$error":"#N/A"}},{"$f":"IF(ISERROR(VLOOKUP($B67*10+$E$2,データ貼付!$B$3:$F$102,5,FALSE)),\"\",VLOOKUP($B67*10+$E$2,データ貼付!$B$3:$F$102,5,FALSE))","v":""},{"$f":"IF(ISERROR(VLOOKUP($B67*10+$F$2,データ貼付!$B$3:$F$102,5,FALSE)),\"\",VLOOKUP($B67*10+$F$2,データ貼付!$B$3:$F$102,5,FALSE))","v":""},{"$f":"IF(ISERROR(VLOOKUP($B67*10+$G$2,データ貼付!$B$3:$F$102,5,FALSE)),\"\",VLOOKUP($B67*10+$G$2,データ貼付!$B$3:$F$102,5,FALSE))","v":""},{"$f":"IF(ISERROR(VLOOKUP($B67*10+$H$2,データ貼付!$B$3:$F$102,5,FALSE)),\"\",VLOOKUP($B67*10+$H$2,データ貼付!$B$3:$F$102,5,FALSE))","v":""},{"$f":"IF(ISERROR(VLOOKUP($B67*10+$I$2,データ貼付!$B$3:$F$102,5,FALSE)),\"\",VLOOKUP($B67*10+$I$2,データ貼付!$B$3:$F$102,5,FALSE))","v":""}]
[null,66,{"$f":"VLOOKUP($B68,データ貼付!$A$3:$I$102,4,FALSE)","v":{"$error":"#N/A"}},{"$f":"VLOOKUP($B68,データ貼付!$A$3:$I$102,5,FALSE)","v":{"$error":"#N/A"}},{"$f":"IF(ISERROR(VLOOKUP($B68*10+$E$2,データ貼付!$B$3:$F$102,5,FALSE)),\"\",VLOOKUP($B68*10+$E$2,データ貼付!$B$3:$F$102,5,FALSE))","v":""},{"$f":"IF(ISERROR(VLOOKUP($B68*10+$F$2,データ貼付!$B$3:$F$102,5,FALSE)),\"\",VLOOKUP($B68*10+$F$2,データ貼付!$B$3:$F$102,5,FALSE))","v":""},{"$f":"IF(ISERROR(VLOOKUP($B68*10+$G$2,データ貼付!$B$3:$F$102,5,FALSE)),\"\",VLOOKUP($B68*10+$G$2,データ貼付!$B$3:$F$102,5,FALSE))","v":""},{"$f":"IF(ISERROR(VLOOKUP($B68*10+$H$2,データ貼付!$B$3:$F$102,5,FALSE)),\"\",VLOOKUP($B68*10+$H$2,データ貼付!$B$3:$F$102,5,FALSE))","v":""},{"$f":"IF(ISERROR(VLOOKUP($B68*10+$I$2,データ貼付!$B$3:$F$102,5,FALSE)),\"\",VLOOKUP($B68*10+$I$2,データ貼付!$B$3:$F$102,5,FALSE))","v":""}]
[null,67,{"$f":"VLOOKUP($B69,データ貼付!$A$3:$I$102,4,FALSE)","v":{"$error":"#N/A"}},{"$f":"VLOOKUP($B69,データ貼付!$A$3:$I$102,5,FALSE)","v":{"$error":"#N/A"}},{"$f":"IF(ISERROR(VLOOKUP($B69*10+$E$2,データ貼付!$B$3:$F$102,5,FALSE)),\"\",VLOOKUP($B69*10+$E$2,データ貼付!$B$3:$F$102,5,FALSE))","v":""},{"$f":"IF(ISERROR(VLOOKUP($B69*10+$F$2,データ貼付!$B$3:$F$102,5,FALSE)),\"\",VLOOKUP($B69*10+$F$2,データ貼付!$B$3:$F$102,5,FALSE))","v":""},{"$f":"IF(ISERROR(VLOOKUP($B69*10+$G$2,データ貼付!$B$3:$F$102,5,FALSE)),\"\",VLOOKUP($B69*10+$G$2,データ貼付!$B$3:$F$102,5,FALSE))","v":""},{"$f":"IF(ISERROR(VLOOKUP($B69*10+$H$2,データ貼付!$B$3:$F$102,5,FALSE)),\"\",VLOOKUP($B69*10+$H$2,データ貼付!$B$3:$F$102,5,FALSE))","v":""},{"$f":"IF(ISERROR(VLOOKUP($B69*10+$I$2,データ貼付!$B$3:$F$102,5,FALSE)),\"\",VLOOKUP($B69*10+$I$2,データ貼付!$B$3:$F$102,5,FALSE))","v":""}]
[null,68,{"$f":"VLOOKUP($B70,データ貼付!$A$3:$I$102,4,FALSE)","v":{"$error":"#N/A"}},{"$f":"VLOOKUP($B70,データ貼付!$A$3:$I$102,5,FALSE)","v":{"$error":"#N/A"}},{"$f":"IF(ISERROR(VLOOKUP($B70*10+$E$2,データ貼付!$B$3:$F$102,5,FALSE)),\"\",VLOOKUP($B70*10+$E$2,データ貼付!$B$3:$F$102,5,FALSE))","v":""},{"$f":"IF(ISERROR(VLOOKUP($B70*10+$F$2,データ貼付!$B$3:$F$102,5,FALSE)),\"\",VLOOKUP($B70*10+$F$2,データ貼付!$B$3:$F$102,5,FALSE))","v":""},{"$f":"IF(ISERROR(VLOOKUP($B70*10+$G$2,データ貼付!$B$3:$F$102,5,FALSE)),\"\",VLOOKUP($B70*10+$G$2,データ貼付!$B$3:$F$102,5,FALSE))","v":""},{"$f":"IF(ISERROR(VLOOKUP($B70*10+$H$2,データ貼付!$B$3:$F$102,5,FALSE)),\"\",VLOOKUP($B70*10+$H$2,データ貼付!$B$3:$F$102,5,FALSE))","v":""},{"$f":"IF(ISERROR(VLOOKUP($B70*10+$I$2,データ貼付!$B$3:$F$102,5,FALSE)),\"\",VLOOKUP($B70*10+$I$2,データ貼付!$B$3:$F$102,5,FALSE))","v":""}]
[null,69,{"$f":"VLOOKUP($B71,データ貼付!$A$3:$I$102,4,FALSE)","v":{"$error":"#N/A"}},{"$f":"VLOOKUP($B71,データ貼付!$A$3:$I$102,5,FALSE)","v":{"$error":"#N/A"}},{"$f":"IF(ISERROR(VLOOKUP($B71*10+$E$2,データ貼付!$B$3:$F$102,5,FALSE)),\"\",VLOOKUP($B71*10+$E$2,データ貼付!$B$3:$F$102,5,FALSE))","v":""},{"$f":"IF(ISERROR(VLOOKUP($B71*10+$F$2,データ貼付!$B$3:$F$102,5,FALSE)),\"\",VLOOKUP($B71*10+$F$2,データ貼付!$B$3:$F$102,5,FALSE))","v":""},{"$f":"IF(ISERROR(VLOOKUP($B71*10+$G$2,データ貼付!$B$3:$F$102,5,FALSE)),\"\",VLOOKUP($B71*10+$G$2,データ貼付!$B$3:$F$102,5,FALSE))","v":""},{"$f":"IF(ISERROR(VLOOKUP($B71*10+$H$2,データ貼付!$B$3:$F$102,5,FALSE)),\"\",VLOOKUP($B71*10+$H$2,データ貼付!$B$3:$F$102,5,FALSE))","v":""},{"$f":"IF(ISERROR(VLOOKUP($B71*10+$I$2,データ貼付!$B$3:$F$102,5,FALSE)),\"\",VLOOKUP($B71*10+$I$2,データ貼付!$B$3:$F$102,5,FALSE))","v":""}]
[null,70,{"$f":"VLOOKUP($B72,データ貼付!$A$3:$I$102,4,FALSE)","v":{"$error":"#N/A"}},{"$f":"VLOOKUP($B72,データ貼付!$A$3:$I$102,5,FALSE)","v":{"$error":"#N/A"}},{"$f":"IF(ISERROR(VLOOKUP($B72*10+$E$2,データ貼付!$B$3:$F$102,5,FALSE)),\"\",VLOOKUP($B72*10+$E$2,データ貼付!$B$3:$F$102,5,FALSE))","v":""},{"$f":"IF(ISERROR(VLOOKUP($B72*10+$F$2,データ貼付!$B$3:$F$102,5,FALSE)),\"\",VLOOKUP($B72*10+$F$2,データ貼付!$B$3:$F$102,5,FALSE))","v":""},{"$f":"IF(ISERROR(VLOOKUP($B72*10+$G$2,データ貼付!$B$3:$F$102,5,FALSE)),\"\",VLOOKUP($B72*10+$G$2,データ貼付!$B$3:$F$102,5,FALSE))","v":""},{"$f":"IF(ISERROR(VLOOKUP($B72*10+$H$2,データ貼付!$B$3:$F$102,5,FALSE)),\"\",VLOOKUP($B72*10+$H$2,データ貼付!$B$3:$F$102,5,FALSE))","v":""},{"$f":"IF(ISERROR(VLOOKUP($B72*10+$I$2,データ貼付!$B$3:$F$102,5,FALSE)),\"\",VLOOKUP($B72*10+$I$2,データ貼付!$B$3:$F$102,5,FALSE))","v":""}]
[null,71,{"$f":"VLOOKUP($B73,データ貼付!$A$3:$I$102,4,FALSE)","v":{"$error":"#N/A"}},{"$f":"VLOOKUP($B73,データ貼付!$A$3:$I$102,5,FALSE)","v":{"$error":"#N/A"}},{"$f":"IF(ISERROR(VLOOKUP($B73*10+$E$2,データ貼付!$B$3:$F$102,5,FALSE)),\"\",VLOOKUP($B73*10+$E$2,データ貼付!$B$3:$F$102,5,FALSE))","v":""},{"$f":"IF(ISERROR(VLOOKUP($B73*10+$F$2,データ貼付!$B$3:$F$102,5,FALSE)),\"\",VLOOKUP($B73*10+$F$2,データ貼付!$B$3:$F$102,5,FALSE))","v":""},{"$f":"IF(ISERROR(VLOOKUP($B73*10+$G$2,データ貼付!$B$3:$F$102,5,FALSE)),\"\",VLOOKUP($B73*10+$G$2,データ貼付!$B$3:$F$102,5,FALSE))","v":""},{"$f":"IF(ISERROR(VLOOKUP($B73*10+$H$2,データ貼付!$B$3:$F$102,5,FALSE)),\"\",VLOOKUP($B73*10+$H$2,データ貼付!$B$3:$F$102,5,FALSE))","v":""},{"$f":"IF(ISERROR(VLOOKUP($B73*10+$I$2,データ貼付!$B$3:$F$102,5,FALSE)),\"\",VLOOKUP($B73*10+$I$2,データ貼付!$B$3:$F$102,5,FALSE))","v":""}]
[null,72,{"$f":"VLOOKUP($B74,データ貼付!$A$3:$I$102,4,FALSE)","v":{"$error":"#N/A"}},{"$f":"VLOOKUP($B74,データ貼付!$A$3:$I$102,5,FALSE)","v":{"$error":"#N/A"}},{"$f":"IF(ISERROR(VLOOKUP($B74*10+$E$2,データ貼付!$B$3:$F$102,5,FALSE)),\"\",VLOOKUP($B74*10+$E$2,データ貼付!$B$3:$F$102,5,FALSE))","v":""},{"$f":"IF(ISERROR(VLOOKUP($B74*10+$F$2,データ貼付!$B$3:$F$102,5,FALSE)),\"\",VLOOKUP($B74*10+$F$2,データ貼付!$B$3:$F$102,5,FALSE))","v":""},{"$f":"IF(ISERROR(VLOOKUP($B74*10+$G$2,データ貼付!$B$3:$F$102,5,FALSE)),\"\",VLOOKUP($B74*10+$G$2,データ貼付!$B$3:$F$102,5,FALSE))","v":""},{"$f":"IF(ISERROR(VLOOKUP($B74*10+$H$2,データ貼付!$B$3:$F$102,5,FALSE)),\"\",VLOOKUP($B74*10+$H$2,データ貼付!$B$3:$F$102,5,FALSE))","v":""},{"$f":"IF(ISERROR(VLOOKUP($B74*10+$I$2,データ貼付!$B$3:$F$102,5,FALSE)),\"\",VLOOKUP($B74*10+$I$2,データ貼付!$B$3:$F$102,5,FALSE))","v":""}]
[null,73,{"$f":"VLOOKUP($B75,データ貼付!$A$3:$I$102,4,FALSE)","v":{"$error":"#N/A"}},{"$f":"VLOOKUP($B75,データ貼付!$A$3:$I$102,5,FALSE)","v":{"$error":"#N/A"}},{"$f":"IF(ISERROR(VLOOKUP($B75*10+$E$2,データ貼付!$B$3:$F$102,5,FALSE)),\"\",VLOOKUP($B75*10+$E$2,データ貼付!$B$3:$F$102,5,FALSE))","v":""},{"$f":"IF(ISERROR(VLOOKUP($B75*10+$F$2,データ貼付!$B$3:$F$102,5,FALSE)),\"\",VLOOKUP($B75*10+$F$2,データ貼付!$B$3:$F$102,5,FALSE))","v":""},{"$f":"IF(ISERROR(VLOOKUP($B75*10+$G$2,データ貼付!$B$3:$F$102,5,FALSE)),\"\",VLOOKUP($B75*10+$G$2,データ貼付!$B$3:$F$102,5,FALSE))","v":""},{"$f":"IF(ISERROR(VLOOKUP($B75*10+$H$2,データ貼付!$B$3:$F$102,5,FALSE)),\"\",VLOOKUP($B75*10+$H$2,データ貼付!$B$3:$F$102,5,FALSE))","v":""},{"$f":"IF(ISERROR(VLOOKUP($B75*10+$I$2,データ貼付!$B$3:$F$102,5,FALSE)),\"\",VLOOKUP($B75*10+$I$2,データ貼付!$B$3:$F$102,5,FALSE))","v":""}]
[null,74,{"$f":"VLOOKUP($B76,データ貼付!$A$3:$I$102,4,FALSE)","v":{"$error":"#N/A"}},{"$f":"VLOOKUP($B76,データ貼付!$A$3:$I$102,5,FALSE)","v":{"$error":"#N/A"}},{"$f":"IF(ISERROR(VLOOKUP($B76*10+$E$2,データ貼付!$B$3:$F$102,5,FALSE)),\"\",VLOOKUP($B76*10+$E$2,データ貼付!$B$3:$F$102,5,FALSE))","v":""},{"$f":"IF(ISERROR(VLOOKUP($B76*10+$F$2,データ貼付!$B$3:$F$102,5,FALSE)),\"\",VLOOKUP($B76*10+$F$2,データ貼付!$B$3:$F$102,5,FALSE))","v":""},{"$f":"IF(ISERROR(VLOOKUP($B76*10+$G$2,データ貼付!$B$3:$F$102,5,FALSE)),\"\",VLOOKUP($B76*10+$G$2,データ貼付!$B$3:$F$102,5,FALSE))","v":""},{"$f":"IF(ISERROR(VLOOKUP($B76*10+$H$2,データ貼付!$B$3:$F$102,5,FALSE)),\"\",VLOOKUP($B76*10+$H$2,データ貼付!$B$3:$F$102,5,FALSE))","v":""},{"$f":"IF(ISERROR(VLOOKUP($B76*10+$I$2,データ貼付!$B$3:$F$102,5,FALSE)),\"\",VLOOKUP($B76*10+$I$2,データ貼付!$B$3:$F$102,5,FALSE))","v":""}]
[null,75,{"$f":"VLOOKUP($B77,データ貼付!$A$3:$I$102,4,FALSE)","v":{"$error":"#N/A"}},{"$f":"VLOOKUP($B77,データ貼付!$A$3:$I$102,5,FALSE)","v":{"$error":"#N/A"}},{"$f":"IF(ISERROR(VLOOKUP($B77*10+$E$2,データ貼付!$B$3:$F$102,5,FALSE)),\"\",VLOOKUP($B77*10+$E$2,データ貼付!$B$3:$F$102,5,FALSE))","v":""},{"$f":"IF(ISERROR(VLOOKUP($B77*10+$F$2,データ貼付!$B$3:$F$102,5,FALSE)),\"\",VLOOKUP($B77*10+$F$2,データ貼付!$B$3:$F$102,5,FALSE))","v":""},{"$f":"IF(ISERROR(VLOOKUP($B77*10+$G$2,データ貼付!$B$3:$F$102,5,FALSE)),\"\",VLOOKUP($B77*10+$G$2,データ貼付!$B$3:$F$102,5,FALSE))","v":""},{"$f":"IF(ISERROR(VLOOKUP($B77*10+$H$2,データ貼付!$B$3:$F$102,5,FALSE)),\"\",VLOOKUP($B77*10+$H$2,データ貼付!$B$3:$F$102,5,FALSE))","v":""},{"$f":"IF(ISERROR(VLOOKUP($B77*10+$I$2,データ貼付!$B$3:$F$102,5,FALSE)),\"\",VLOOKUP($B77*10+$I$2,データ貼付!$B$3:$F$102,5,FALSE))","v":""}]
[null,76,{"$f":"VLOOKUP($B78,データ貼付!$A$3:$I$102,4,FALSE)","v":{"$error":"#N/A"}},{"$f":"VLOOKUP($B78,データ貼付!$A$3:$I$102,5,FALSE)","v":{"$error":"#N/A"}},{"$f":"IF(ISERROR(VLOOKUP($B78*10+$E$2,データ貼付!$B$3:$F$102,5,FALSE)),\"\",VLOOKUP($B78*10+$E$2,データ貼付!$B$3:$F$102,5,FALSE))","v":""},{"$f":"IF(ISERROR(VLOOKUP($B78*10+$F$2,データ貼付!$B$3:$F$102,5,FALSE)),\"\",VLOOKUP($B78*10+$F$2,データ貼付!$B$3:$F$102,5,FALSE))","v":""},{"$f":"IF(ISERROR(VLOOKUP($B78*10+$G$2,データ貼付!$B$3:$F$102,5,FALSE)),\"\",VLOOKUP($B78*10+$G$2,データ貼付!$B$3:$F$102,5,FALSE))","v":""},{"$f":"IF(ISERROR(VLOOKUP($B78*10+$H$2,データ貼付!$B$3:$F$102,5,FALSE)),\"\",VLOOKUP($B78*10+$H$2,データ貼付!$B$3:$F$102,5,FALSE))","v":""},{"$f":"IF(ISERROR(VLOOKUP($B78*10+$I$2,データ貼付!$B$3:$F$102,5,FALSE)),\"\",VLOOKUP($B78*10+$I$2,データ貼付!$B$3:$F$102,5,FALSE))","v":""}]
[null,77,{"$f":"VLOOKUP($B79,データ貼付!$A$3:$I$102,4,FALSE)","v":{"$error":"#N/A"}},{"$f":"VLOOKUP($B79,データ貼付!$A$3:$I$102,5,FALSE)","v":{"$error":"#N/A"}},{"$f":"IF(ISERROR(VLOOKUP($B79*10+$E$2,データ貼付!$B$3:$F$102,5,FALSE)),\"\",VLOOKUP($B79*10+$E$2,データ貼付!$B$3:$F$102,5,FALSE))","v":""},{"$f":"IF(ISERROR(VLOOKUP($B79*10+$F$2,データ貼付!$B$3:$F$102,5,FALSE)),\"\",VLOOKUP($B79*10+$F$2,データ貼付!$B$3:$F$102,5,FALSE))","v":""},{"$f":"IF(ISERROR(VLOOKUP($B79*10+$G$2,データ貼付!$B$3:$F$102,5,FALSE)),\"\",VLOOKUP($B79*10+$G$2,データ貼付!$B$3:$F$102,5,FALSE))","v":""},{"$f":"IF(ISERROR(VLOOKUP($B79*10+$H$2,データ貼付!$B$3:$F$102,5,FALSE)),\"\",VLOOKUP($B79*10+$H$2,データ貼付!$B$3:$F$102,5,FALSE))","v":""},{"$f":"IF(ISERROR(VLOOKUP($B79*10+$I$2,データ貼付!$B$3:$F$102,5,FALSE)),\"\",VLOOKUP($B79*10+$I$2,データ貼付!$B$3:$F$102,5,FALSE))","v":""}]
[null,78,{"$f":"VLOOKUP($B80,データ貼付!$A$3:$I$102,4,FALSE)","v":{"$error":"#N/A"}},{"$f":"VLOOKUP($B80,データ貼付!$A$3:$I$102,5,FALSE)","v":{"$error":"#N/A"}},{"$f":"IF(ISERROR(VLOOKUP($B80*10+$E$2,データ貼付!$B$3:$F$102,5,FALSE)),\"\",VLOOKUP($B80*10+$E$2,データ貼付!$B$3:$F$102,5,FALSE))","v":""},{"$f":"IF(ISERROR(VLOOKUP($B80*10+$F$2,データ貼付!$B$3:$F$102,5,FALSE)),\"\",VLOOKUP($B80*10+$F$2,データ貼付!$B$3:$F$102,5,FALSE))","v":""},{"$f":"IF(ISERROR(VLOOKUP($B80*10+$G$2,データ貼付!$B$3:$F$102,5,FALSE)),\"\",VLOOKUP($B80*10+$G$2,データ貼付!$B$3:$F$102,5,FALSE))","v":""},{"$f":"IF(ISERROR(VLOOKUP($B80*10+$H$2,データ貼付!$B$3:$F$102,5,FALSE)),\"\",VLOOKUP($B80*10+$H$2,データ貼付!$B$3:$F$102,5,FALSE))","v":""},{"$f":"IF(ISERROR(VLOOKUP($B80*10+$I$2,データ貼付!$B$3:$F$102,5,FALSE)),\"\",VLOOKUP($B80*10+$I$2,データ貼付!$B$3:$F$102,5,FALSE))","v":""}]
[null,79,{"$f":"VLOOKUP($B81,データ貼付!$A$3:$I$102,4,FALSE)","v":{"$error":"#N/A"}},{"$f":"VLOOKUP($B81,データ貼付!$A$3:$I$102,5,FALSE)","v":{"$error":"#N/A"}},{"$f":"IF(ISERROR(VLOOKUP($B81*10+$E$2,データ貼付!$B$3:$F$102,5,FALSE)),\"\",VLOOKUP($B81*10+$E$2,データ貼付!$B$3:$F$102,5,FALSE))","v":""},{"$f":"IF(ISERROR(VLOOKUP($B81*10+$F$2,データ貼付!$B$3:$F$102,5,FALSE)),\"\",VLOOKUP($B81*10+$F$2,データ貼付!$B$3:$F$102,5,FALSE))","v":""},{"$f":"IF(ISERROR(VLOOKUP($B81*10+$G$2,データ貼付!$B$3:$F$102,5,FALSE)),\"\",VLOOKUP($B81*10+$G$2,データ貼付!$B$3:$F$102,5,FALSE))","v":""},{"$f":"IF(ISERROR(VLOOKUP($B81*10+$H$2,データ貼付!$B$3:$F$102,5,FALSE)),\"\",VLOOKUP($B81*10+$H$2,データ貼付!$B$3:$F$102,5,FALSE))","v":""},{"$f":"IF(ISERROR(VLOOKUP($B81*10+$I$2,データ貼付!$B$3:$F$102,5,FALSE)),\"\",VLOOKUP($B81*10+$I$2,データ貼付!$B$3:$F$102,5,FALSE))","v":""}]
[null,80,{"$f":"VLOOKUP($B82,データ貼付!$A$3:$I$102,4,FALSE)","v":{"$error":"#N/A"}},{"$f":"VLOOKUP($B82,データ貼付!$A$3:$I$102,5,FALSE)","v":{"$error":"#N/A"}},{"$f":"IF(ISERROR(VLOOKUP($B82*10+$E$2,データ貼付!$B$3:$F$102,5,FALSE)),\"\",VLOOKUP($B82*10+$E$2,データ貼付!$B$3:$F$102,5,FALSE))","v":""},{"$f":"IF(ISERROR(VLOOKUP($B82*10+$F$2,データ貼付!$B$3:$F$102,5,FALSE)),\"\",VLOOKUP($B82*10+$F$2,データ貼付!$B$3:$F$102,5,FALSE))","v":""},{"$f":"IF(ISERROR(VLOOKUP($B82*10+$G$2,データ貼付!$B$3:$F$102,5,FALSE)),\"\",VLOOKUP($B82*10+$G$2,データ貼付!$B$3:$F$102,5,FALSE))","v":""},{"$f":"IF(ISERROR(VLOOKUP($B82*10+$H$2,データ貼付!$B$3:$F$102,5,FALSE)),\"\",VLOOKUP($B82*10+$H$2,データ貼付!$B$3:$F$102,5,FALSE))","v":""},{"$f":"IF(ISERROR(VLOOKUP($B82*10+$I$2,データ貼付!$B$3:$F$102,5,FALSE)),\"\",VLOOKUP($B82*10+$I$2,データ貼付!$B$3:$F$102,5,FALSE))","v":""}]
[null,81,{"$f":"VLOOKUP($B83,データ貼付!$A$3:$I$102,4,FALSE)","v":{"$error":"#N/A"}},{"$f":"VLOOKUP($B83,データ貼付!$A$3:$I$102,5,FALSE)","v":{"$error":"#N/A"}},{"$f":"IF(ISERROR(VLOOKUP($B83*10+$E$2,データ貼付!$B$3:$F$102,5,FALSE)),\"\",VLOOKUP($B83*10+$E$2,データ貼付!$B$3:$F$102,5,FALSE))","v":""},{"$f":"IF(ISERROR(VLOOKUP($B83*10+$F$2,データ貼付!$B$3:$F$102,5,FALSE)),\"\",VLOOKUP($B83*10+$F$2,データ貼付!$B$3:$F$102,5,FALSE))","v":""},{"$f":"IF(ISERROR(VLOOKUP($B83*10+$G$2,データ貼付!$B$3:$F$102,5,FALSE)),\"\",VLOOKUP($B83*10+$G$2,データ貼付!$B$3:$F$102,5,FALSE))","v":""},{"$f":"IF(ISERROR(VLOOKUP($B83*10+$H$2,データ貼付!$B$3:$F$102,5,FALSE)),\"\",VLOOKUP($B83*10+$H$2,データ貼付!$B$3:$F$102,5,FALSE))","v":""},{"$f":"IF(ISERROR(VLOOKUP($B83*10+$I$2,データ貼付!$B$3:$F$102,5,FALSE)),\"\",VLOOKUP($B83*10+$I$2,データ貼付!$B$3:$F$102,5,FALSE))","v":""}]
[null,82,{"$f":"VLOOKUP($B84,データ貼付!$A$3:$I$102,4,FALSE)","v":{"$error":"#N/A"}},{"$f":"VLOOKUP($B84,データ貼付!$A$3:$I$102,5,FALSE)","v":{"$error":"#N/A"}},{"$f":"IF(ISERROR(VLOOKUP($B84*10+$E$2,データ貼付!$B$3:$F$102,5,FALSE)),\"\",VLOOKUP($B84*10+$E$2,データ貼付!$B$3:$F$102,5,FALSE))","v":""},{"$f":"IF(ISERROR(VLOOKUP($B84*10+$F$2,データ貼付!$B$3:$F$102,5,FALSE)),\"\",VLOOKUP($B84*10+$F$2,データ貼付!$B$3:$F$102,5,FALSE))","v":""},{"$f":"IF(ISERROR(VLOOKUP($B84*10+$G$2,データ貼付!$B$3:$F$102,5,FALSE)),\"\",VLOOKUP($B84*10+$G$2,データ貼付!$B$3:$F$102,5,FALSE))","v":""},{"$f":"IF(ISERROR(VLOOKUP($B84*10+$H$2,データ貼付!$B$3:$F$102,5,FALSE)),\"\",VLOOKUP($B84*10+$H$2,データ貼付!$B$3:$F$102,5,FALSE))","v":""},{"$f":"IF(ISERROR(VLOOKUP($B84*10+$I$2,データ貼付!$B$3:$F$102,5,FALSE)),\"\",VLOOKUP($B84*10+$I$2,データ貼付!$B$3:$F$102,5,FALSE))","v":""}]
[null,83,{"$f":"VLOOKUP($B85,データ貼付!$A$3:$I$102,4,FALSE)","v":{"$error":"#N/A"}},{"$f":"VLOOKUP($B85,データ貼付!$A$3:$I$102,5,FALSE)","v":{"$error":"#N/A"}},{"$f":"IF(ISERROR(VLOOKUP($B85*10+$E$2,データ貼付!$B$3:$F$102,5,FALSE)),\"\",VLOOKUP($B85*10+$E$2,データ貼付!$B$3:$F$102,5,FALSE))","v":""},{"$f":"IF(ISERROR(VLOOKUP($B85*10+$F$2,データ貼付!$B$3:$F$102,5,FALSE)),\"\",VLOOKUP($B85*10+$F$2,データ貼付!$B$3:$F$102,5,FALSE))","v":""},{"$f":"IF(ISERROR(VLOOKUP($B85*10+$G$2,データ貼付!$B$3:$F$102,5,FALSE)),\"\",VLOOKUP($B85*10+$G$2,データ貼付!$B$3:$F$102,5,FALSE))","v":""},{"$f":"IF(ISERROR(VLOOKUP($B85*10+$H$2,データ貼付!$B$3:$F$102,5,FALSE)),\"\",VLOOKUP($B85*10+$H$2,データ貼付!$B$3:$F$102,5,FALSE))","v":""},{"$f":"IF(ISERROR(VLOOKUP($B85*10+$I$2,データ貼付!$B$3:$F$102,5,FALSE)),\"\",VLOOKUP($B85*10+$I$2,データ貼付!$B$3:$F$102,5,FALSE))","v":""}]
[null,84,{"$f":"VLOOKUP($B86,データ貼付!$A$3:$I$102,4,FALSE)","v":{"$error":"#N/A"}},{"$f":"VLOOKUP($B86,データ貼付!$A$3:$I$102,5,FALSE)","v":{"$error":"#N/A"}},{"$f":"IF(ISERROR(VLOOKUP($B86*10+$E$2,データ貼付!$B$3:$F$102,5,FALSE)),\"\",VLOOKUP($B86*10+$E$2,データ貼付!$B$3:$F$102,5,FALSE))","v":""},{"$f":"IF(ISERROR(VLOOKUP($B86*10+$F$2,データ貼付!$B$3:$F$102,5,FALSE)),\"\",VLOOKUP($B86*10+$F$2,データ貼付!$B$3:$F$102,5,FALSE))","v":""},{"$f":"IF(ISERROR(VLOOKUP($B86*10+$G$2,データ貼付!$B$3:$F$102,5,FALSE)),\"\",VLOOKUP($B86*10+$G$2,データ貼付!$B$3:$F$102,5,FALSE))","v":""},{"$f":"IF(ISERROR(VLOOKUP($B86*10+$H$2,データ貼付!$B$3:$F$102,5,FALSE)),\"\",VLOOKUP($B86*10+$H$2,データ貼付!$B$3:$F$102,5,FALSE))","v":""},{"$f":"IF(ISERROR(VLOOKUP($B86*10+$I$2,データ貼付!$B$3:$F$102,5,FALSE)),\"\",VLOOKUP($B86*10+$I$2,データ貼付!$B$3:$F$102,5,FALSE))","v":""}]
[null,85,{"$f":"VLOOKUP($B87,データ貼付!$A$3:$I$102,4,FALSE)","v":{"$error":"#N/A"}},{"$f":"VLOOKUP($B87,データ貼付!$A$3:$I$102,5,FALSE)","v":{"$error":"#N/A"}},{"$f":"IF(ISERROR(VLOOKUP($B87*10+$E$2,データ貼付!$B$3:$F$102,5,FALSE)),\"\",VLOOKUP($B87*10+$E$2,データ貼付!$B$3:$F$102,5,FALSE))","v":""},{"$f":"IF(ISERROR(VLOOKUP($B87*10+$F$2,データ貼付!$B$3:$F$102,5,FALSE)),\"\",VLOOKUP($B87*10+$F$2,データ貼付!$B$3:$F$102,5,FALSE))","v":""},{"$f":"IF(ISERROR(VLOOKUP($B87*10+$G$2,データ貼付!$B$3:$F$102,5,FALSE)),\"\",VLOOKUP($B87*10+$G$2,データ貼付!$B$3:$F$102,5,FALSE))","v":""},{"$f":"IF(ISERROR(VLOOKUP($B87*10+$H$2,データ貼付!$B$3:$F$102,5,FALSE)),\"\",VLOOKUP($B87*10+$H$2,データ貼付!$B$3:$F$102,5,FALSE))","v":""},{"$f":"IF(ISERROR(VLOOKUP($B87*10+$I$2,データ貼付!$B$3:$F$102,5,FALSE)),\"\",VLOOKUP($B87*10+$I$2,データ貼付!$B$3:$F$102,5,FALSE))","v":""}]
[null,86,{"$f":"VLOOKUP($B88,データ貼付!$A$3:$I$102,4,FALSE)","v":{"$error":"#N/A"}},{"$f":"VLOOKUP($B88,データ貼付!$A$3:$I$102,5,FALSE)","v":{"$error":"#N/A"}},{"$f":"IF(ISERROR(VLOOKUP($B88*10+$E$2,データ貼付!$B$3:$F$102,5,FALSE)),\"\",VLOOKUP($B88*10+$E$2,データ貼付!$B$3:$F$102,5,FALSE))","v":""},{"$f":"IF(ISERROR(VLOOKUP($B88*10+$F$2,データ貼付!$B$3:$F$102,5,FALSE)),\"\",VLOOKUP($B88*10+$F$2,データ貼付!$B$3:$F$102,5,FALSE))","v":""},{"$f":"IF(ISERROR(VLOOKUP($B88*10+$G$2,データ貼付!$B$3:$F$102,5,FALSE)),\"\",VLOOKUP($B88*10+$G$2,データ貼付!$B$3:$F$102,5,FALSE))","v":""},{"$f":"IF(ISERROR(VLOOKUP($B88*10+$H$2,データ貼付!$B$3:$F$102,5,FALSE)),\"\",VLOOKUP($B88*10+$H$2,データ貼付!$B$3:$F$102,5,FALSE))","v":""},{"$f":"IF(ISERROR(VLOOKUP($B88*10+$I$2,データ貼付!$B$3:$F$102,5,FALSE)),\"\",VLOOKUP($B88*10+$I$2,データ貼付!$B$3:$F$102,5,FALSE))","v":""}]
[null,87,{"$f":"VLOOKUP($B89,データ貼付!$A$3:$I$102,4,FALSE)","v":{"$error":"#N/A"}},{"$f":"VLOOKUP($B89,データ貼付!$A$3:$I$102,5,FALSE)","v":{"$error":"#N/A"}},{"$f":"IF(ISERROR(VLOOKUP($B89*10+$E$2,データ貼付!$B$3:$F$102,5,FALSE)),\"\",VLOOKUP($B89*10+$E$2,データ貼付!$B$3:$F$102,5,FALSE))","v":""},{"$f":"IF(ISERROR(VLOOKUP($B89*10+$F$2,データ貼付!$B$3:$F$102,5,FALSE)),\"\",VLOOKUP($B89*10+$F$2,データ貼付!$B$3:$F$102,5,FALSE))","v":""},{"$f":"IF(ISERROR(VLOOKUP($B89*10+$G$2,データ貼付!$B$3:$F$102,5,FALSE)),\"\",VLOOKUP($B89*10+$G$2,データ貼付!$B$3:$F$102,5,FALSE))","v":""},{"$f":"IF(ISERROR(VLOOKUP($B89*10+$H$2,データ貼付!$B$3:$F$102,5,FALSE)),\"\",VLOOKUP($B89*10+$H$2,データ貼付!$B$3:$F$102,5,FALSE))","v":""},{"$f":"IF(ISERROR(VLOOKUP($B89*10+$I$2,データ貼付!$B$3:$F$102,5,FALSE)),\"\",VLOOKUP($B89*10+$I$2,データ貼付!$B$3:$F$102,5,FALSE))","v":""}]
[null,88,{"$f":"VLOOKUP($B90,データ貼付!$A$3:$I$102,4,FALSE)","v":{"$error":"#N/A"}},{"$f":"VLOOKUP($B90,データ貼付!$A$3:$I$102,5,FALSE)","v":{"$error":"#N/A"}},{"$f":"IF(ISERROR(VLOOKUP($B90*10+$E$2,データ貼付!$B$3:$F$102,5,FALSE)),\"\",VLOOKUP($B90*10+$E$2,データ貼付!$B$3:$F$102,5,FALSE))","v":""},{"$f":"IF(ISERROR(VLOOKUP($B90*10+$F$2,データ貼付!$B$3:$F$102,5,FALSE)),\"\",VLOOKUP($B90*10+$F$2,データ貼付!$B$3:$F$102,5,FALSE))","v":""},{"$f":"IF(ISERROR(VLOOKUP($B90*10+$G$2,データ貼付!$B$3:$F$102,5,FALSE)),\"\",VLOOKUP($B90*10+$G$2,データ貼付!$B$3:$F$102,5,FALSE))","v":""},{"$f":"IF(ISERROR(VLOOKUP($B90*10+$H$2,データ貼付!$B$3:$F$102,5,FALSE)),\"\",VLOOKUP($B90*10+$H$2,データ貼付!$B$3:$F$102,5,FALSE))","v":""},{"$f":"IF(ISERROR(VLOOKUP($B90*10+$I$2,データ貼付!$B$3:$F$102,5,FALSE)),\"\",VLOOKUP($B90*10+$I$2,データ貼付!$B$3:$F$102,5,FALSE))","v":""}]
[null,89,{"$f":"VLOOKUP($B91,データ貼付!$A$3:$I$102,4,FALSE)","v":{"$error":"#N/A"}},{"$f":"VLOOKUP($B91,データ貼付!$A$3:$I$102,5,FALSE)","v":{"$error":"#N/A"}},{"$f":"IF(ISERROR(VLOOKUP($B91*10+$E$2,データ貼付!$B$3:$F$102,5,FALSE)),\"\",VLOOKUP($B91*10+$E$2,データ貼付!$B$3:$F$102,5,FALSE))","v":""},{"$f":"IF(ISERROR(VLOOKUP($B91*10+$F$2,データ貼付!$B$3:$F$102,5,FALSE)),\"\",VLOOKUP($B91*10+$F$2,データ貼付!$B$3:$F$102,5,FALSE))","v":""},{"$f":"IF(ISERROR(VLOOKUP($B91*10+$G$2,データ貼付!$B$3:$F$102,5,FALSE)),\"\",VLOOKUP($B91*10+$G$2,データ貼付!$B$3:$F$102,5,FALSE))","v":""},{"$f":"IF(ISERROR(VLOOKUP($B91*10+$H$2,データ貼付!$B$3:$F$102,5,FALSE)),\"\",VLOOKUP($B91*10+$H$2,データ貼付!$B$3:$F$102,5,FALSE))","v":""},{"$f":"IF(ISERROR(VLOOKUP($B91*10+$I$2,データ貼付!$B$3:$F$102,5,FALSE)),\"\",VLOOKUP($B91*10+$I$2,データ貼付!$B$3:$F$102,5,FALSE))","v":""}]
[null,90,{"$f":"VLOOKUP($B92,データ貼付!$A$3:$I$102,4,FALSE)","v":{"$error":"#N/A"}},{"$f":"VLOOKUP($B92,データ貼付!$A$3:$I$102,5,FALSE)","v":{"$error":"#N/A"}},{"$f":"IF(ISERROR(VLOOKUP($B92*10+$E$2,データ貼付!$B$3:$F$102,5,FALSE)),\"\",VLOOKUP($B92*10+$E$2,データ貼付!$B$3:$F$102,5,FALSE))","v":""},{"$f":"IF(ISERROR(VLOOKUP($B92*10+$F$2,データ貼付!$B$3:$F$102,5,FALSE)),\"\",VLOOKUP($B92*10+$F$2,データ貼付!$B$3:$F$102,5,FALSE))","v":""},{"$f":"IF(ISERROR(VLOOKUP($B92*10+$G$2,データ貼付!$B$3:$F$102,5,FALSE)),\"\",VLOOKUP($B92*10+$G$2,データ貼付!$B$3:$F$102,5,FALSE))","v":""},{"$f":"IF(ISERROR(VLOOKUP($B92*10+$H$2,データ貼付!$B$3:$F$102,5,FALSE)),\"\",VLOOKUP($B92*10+$H$2,データ貼付!$B$3:$F$102,5,FALSE))","v":""},{"$f":"IF(ISERROR(VLOOKUP($B92*10+$I$2,データ貼付!$B$3:$F$102,5,FALSE)),\"\",VLOOKUP($B92*10+$I$2,データ貼付!$B$3:$F$102,5,FALSE))","v":""}]
[null,91,{"$f":"VLOOKUP($B93,データ貼付!$A$3:$I$102,4,FALSE)","v":{"$error":"#N/A"}},{"$f":"VLOOKUP($B93,データ貼付!$A$3:$I$102,5,FALSE)","v":{"$error":"#N/A"}},{"$f":"IF(ISERROR(VLOOKUP($B93*10+$E$2,データ貼付!$B$3:$F$102,5,FALSE)),\"\",VLOOKUP($B93*10+$E$2,データ貼付!$B$3:$F$102,5,FALSE))","v":""},{"$f":"IF(ISERROR(VLOOKUP($B93*10+$F$2,データ貼付!$B$3:$F$102,5,FALSE)),\"\",VLOOKUP($B93*10+$F$2,データ貼付!$B$3:$F$102,5,FALSE))","v":""},{"$f":"IF(ISERROR(VLOOKUP($B93*10+$G$2,データ貼付!$B$3:$F$102,5,FALSE)),\"\",VLOOKUP($B93*10+$G$2,データ貼付!$B$3:$F$102,5,FALSE))","v":""},{"$f":"IF(ISERROR(VLOOKUP($B93*10+$H$2,データ貼付!$B$3:$F$102,5,FALSE)),\"\",VLOOKUP($B93*10+$H$2,データ貼付!$B$3:$F$102,5,FALSE))","v":""},{"$f":"IF(ISERROR(VLOOKUP($B93*10+$I$2,データ貼付!$B$3:$F$102,5,FALSE)),\"\",VLOOKUP($B93*10+$I$2,データ貼付!$B$3:$F$102,5,FALSE))","v":""}]
[null,92,{"$f":"VLOOKUP($B94,データ貼付!$A$3:$I$102,4,FALSE)","v":{"$error":"#N/A"}},{"$f":"VLOOKUP($B94,データ貼付!$A$3:$I$102,5,FALSE)","v":{"$error":"#N/A"}},{"$f":"IF(ISERROR(VLOOKUP($B94*10+$E$2,データ貼付!$B$3:$F$102,5,FALSE)),\"\",VLOOKUP($B94*10+$E$2,データ貼付!$B$3:$F$102,5,FALSE))","v":""},{"$f":"IF(ISERROR(VLOOKUP($B94*10+$F$2,データ貼付!$B$3:$F$102,5,FALSE)),\"\",VLOOKUP($B94*10+$F$2,データ貼付!$B$3:$F$102,5,FALSE))","v":""},{"$f":"IF(ISERROR(VLOOKUP($B94*10+$G$2,データ貼付!$B$3:$F$102,5,FALSE)),\"\",VLOOKUP($B94*10+$G$2,データ貼付!$B$3:$F$102,5,FALSE))","v":""},{"$f":"IF(ISERROR(VLOOKUP($B94*10+$H$2,データ貼付!$B$3:$F$102,5,FALSE)),\"\",VLOOKUP($B94*10+$H$2,データ貼付!$B$3:$F$102,5,FALSE))","v":""},{"$f":"IF(ISERROR(VLOOKUP($B94*10+$I$2,データ貼付!$B$3:$F$102,5,FALSE)),\"\",VLOOKUP($B94*10+$I$2,データ貼付!$B$3:$F$102,5,FALSE))","v":""}]
[null,93,{"$f":"VLOOKUP($B95,データ貼付!$A$3:$I$102,4,FALSE)","v":{"$error":"#N/A"}},{"$f":"VLOOKUP($B95,データ貼付!$A$3:$I$102,5,FALSE)","v":{"$error":"#N/A"}},{"$f":"IF(ISERROR(VLOOKUP($B95*10+$E$2,データ貼付!$B$3:$F$102,5,FALSE)),\"\",VLOOKUP($B95*10+$E$2,データ貼付!$B$3:$F$102,5,FALSE))","v":""},{"$f":"IF(ISERROR(VLOOKUP($B95*10+$F$2,データ貼付!$B$3:$F$102,5,FALSE)),\"\",VLOOKUP($B95*10+$F$2,データ貼付!$B$3:$F$102,5,FALSE))","v":""},{"$f":"IF(ISERROR(VLOOKUP($B95*10+$G$2,データ貼付!$B$3:$F$102,5,FALSE)),\"\",VLOOKUP($B95*10+$G$2,データ貼付!$B$3:$F$102,5,FALSE))","v":""},{"$f":"IF(ISERROR(VLOOKUP($B95*10+$H$2,データ貼付!$B$3:$F$102,5,FALSE)),\"\",VLOOKUP($B95*10+$H$2,データ貼付!$B$3:$F$102,5,FALSE))","v":""},{"$f":"IF(ISERROR(VLOOKUP($B95*10+$I$2,データ貼付!$B$3:$F$102,5,FALSE)),\"\",VLOOKUP($B95*10+$I$2,データ貼付!$B$3:$F$102,5,FALSE))","v":""}]
[null,94,{"$f":"VLOOKUP($B96,データ貼付!$A$3:$I$102,4,FALSE)","v":{"$error":"#N/A"}},{"$f":"VLOOKUP($B96,データ貼付!$A$3:$I$102,5,FALSE)","v":{"$error":"#N/A"}},{"$f":"IF(ISERROR(VLOOKUP($B96*10+$E$2,データ貼付!$B$3:$F$102,5,FALSE)),\"\",VLOOKUP($B96*10+$E$2,データ貼付!$B$3:$F$102,5,FALSE))","v":""},{"$f":"IF(ISERROR(VLOOKUP($B96*10+$F$2,データ貼付!$B$3:$F$102,5,FALSE)),\"\",VLOOKUP($B96*10+$F$2,データ貼付!$B$3:$F$102,5,FALSE))","v":""},{"$f":"IF(ISERROR(VLOOKUP($B96*10+$G$2,データ貼付!$B$3:$F$102,5,FALSE)),\"\",VLOOKUP($B96*10+$G$2,データ貼付!$B$3:$F$102,5,FALSE))","v":""},{"$f":"IF(ISERROR(VLOOKUP($B96*10+$H$2,データ貼付!$B$3:$F$102,5,FALSE)),\"\",VLOOKUP($B96*10+$H$2,データ貼付!$B$3:$F$102,5,FALSE))","v":""},{"$f":"IF(ISERROR(VLOOKUP($B96*10+$I$2,データ貼付!$B$3:$F$102,5,FALSE)),\"\",VLOOKUP($B96*10+$I$2,データ貼付!$B$3:$F$102,5,FALSE))","v":""}]
[null,95,{"$f":"VLOOKUP($B97,データ貼付!$A$3:$I$102,4,FALSE)","v":{"$error":"#N/A"}},{"$f":"VLOOKUP($B97,データ貼付!$A$3:$I$102,5,FALSE)","v":{"$error":"#N/A"}},{"$f":"IF(ISERROR(VLOOKUP($B97*10+$E$2,データ貼付!$B$3:$F$102,5,FALSE)),\"\",VLOOKUP($B97*10+$E$2,データ貼付!$B$3:$F$102,5,FALSE))","v":""},{"$f":"IF(ISERROR(VLOOKUP($B97*10+$F$2,データ貼付!$B$3:$F$102,5,FALSE)),\"\",VLOOKUP($B97*10+$F$2,データ貼付!$B$3:$F$102,5,FALSE))","v":""},{"$f":"IF(ISERROR(VLOOKUP($B97*10+$G$2,データ貼付!$B$3:$F$102,5,FALSE)),\"\",VLOOKUP($B97*10+$G$2,データ貼付!$B$3:$F$102,5,FALSE))","v":""},{"$f":"IF(ISERROR(VLOOKUP($B97*10+$H$2,データ貼付!$B$3:$F$102,5,FALSE)),\"\",VLOOKUP($B97*10+$H$2,データ貼付!$B$3:$F$102,5,FALSE))","v":""},{"$f":"IF(ISERROR(VLOOKUP($B97*10+$I$2,データ貼付!$B$3:$F$102,5,FALSE)),\"\",VLOOKUP($B97*10+$I$2,データ貼付!$B$3:$F$102,5,FALSE))","v":""}]
[null,96,{"$f":"VLOOKUP($B98,データ貼付!$A$3:$I$102,4,FALSE)","v":{"$error":"#N/A"}},{"$f":"VLOOKUP($B98,データ貼付!$A$3:$I$102,5,FALSE)","v":{"$error":"#N/A"}},{"$f":"IF(ISERROR(VLOOKUP($B98*10+$E$2,データ貼付!$B$3:$F$102,5,FALSE)),\"\",VLOOKUP($B98*10+$E$2,データ貼付!$B$3:$F$102,5,FALSE))","v":""},{"$f":"IF(ISERROR(VLOOKUP($B98*10+$F$2,データ貼付!$B$3:$F$102,5,FALSE)),\"\",VLOOKUP($B98*10+$F$2,データ貼付!$B$3:$F$102,5,FALSE))","v":""},{"$f":"IF(ISERROR(VLOOKUP($B98*10+$G$2,データ貼付!$B$3:$F$102,5,FALSE)),\"\",VLOOKUP($B98*10+$G$2,データ貼付!$B$3:$F$102,5,FALSE))","v":""},{"$f":"IF(ISERROR(VLOOKUP($B98*10+$H$2,データ貼付!$B$3:$F$102,5,FALSE)),\"\",VLOOKUP($B98*10+$H$2,データ貼付!$B$3:$F$102,5,FALSE))","v":""},{"$f":"IF(ISERROR(VLOOKUP($B98*10+$I$2,データ貼付!$B$3:$F$102,5,FALSE)),\"\",VLOOKUP($B98*10+$I$2,データ貼付!$B$3:$F$102,5,FALSE))","v":""}]
[null,97,{"$f":"VLOOKUP($B99,データ貼付!$A$3:$I$102,4,FALSE)","v":{"$error":"#N/A"}},{"$f":"VLOOKUP($B99,データ貼付!$A$3:$I$102,5,FALSE)","v":{"$error":"#N/A"}},{"$f":"IF(ISERROR(VLOOKUP($B99*10+$E$2,データ貼付!$B$3:$F$102,5,FALSE)),\"\",VLOOKUP($B99*10+$E$2,データ貼付!$B$3:$F$102,5,FALSE))","v":""},{"$f":"IF(ISERROR(VLOOKUP($B99*10+$F$2,データ貼付!$B$3:$F$102,5,FALSE)),\"\",VLOOKUP($B99*10+$F$2,データ貼付!$B$3:$F$102,5,FALSE))","v":""},{"$f":"IF(ISERROR(VLOOKUP($B99*10+$G$2,データ貼付!$B$3:$F$102,5,FALSE)),\"\",VLOOKUP($B99*10+$G$2,データ貼付!$B$3:$F$102,5,FALSE))","v":""},{"$f":"IF(ISERROR(VLOOKUP($B99*10+$H$2,データ貼付!$B$3:$F$102,5,FALSE)),\"\",VLOOKUP($B99*10+$H$2,データ貼付!$B$3:$F$102,5,FALSE))","v":""},{"$f":"IF(ISERROR(VLOOKUP($B99*10+$I$2,データ貼付!$B$3:$F$102,5,FALSE)),\"\",VLOOKUP($B99*10+$I$2,データ貼付!$B$3:$F$102,5,FALSE))","v":""}]
[null,98,{"$f":"VLOOKUP($B100,データ貼付!$A$3:$I$102,4,FALSE)","v":{"$error":"#N/A"}},{"$f":"VLOOKUP($B100,データ貼付!$A$3:$I$102,5,FALSE)","v":{"$error":"#N/A"}},{"$f":"IF(ISERROR(VLOOKUP($B100*10+$E$2,データ貼付!$B$3:$F$102,5,FALSE)),\"\",VLOOKUP($B100*10+$E$2,データ貼付!$B$3:$F$102,5,FALSE))","v":""},{"$f":"IF(ISERROR(VLOOKUP($B100*10+$F$2,データ貼付!$B$3:$F$102,5,FALSE)),\"\",VLOOKUP($B100*10+$F$2,データ貼付!$B$3:$F$102,5,FALSE))","v":""},{"$f":"IF(ISERROR(VLOOKUP($B100*10+$G$2,データ貼付!$B$3:$F$102,5,FALSE)),\"\",VLOOKUP($B100*10+$G$2,データ貼付!$B$3:$F$102,5,FALSE))","v":""},{"$f":"IF(ISERROR(VLOOKUP($B100*10+$H$2,データ貼付!$B$3:$F$102,5,FALSE)),\"\",VLOOKUP($B100*10+$H$2,データ貼付!$B$3:$F$102,5,FALSE))","v":""},{"$f":"IF(ISERROR(VLOOKUP($B100*10+$I$2,データ貼付!$B$3:$F$102,5,FALSE)),\"\",VLOOKUP($B100*10+$I$2,データ貼付!$B$3:$F$102,5,FALSE))","v":""}]
[null,99,{"$f":"VLOOKUP($B101,データ貼付!$A$3:$I$102,4,FALSE)","v":{"$error":"#N/A"}},{"$f":"VLOOKUP($B101,データ貼付!$A$3:$I$102,5,FALSE)","v":{"$error":"#N/A"}},{"$f":"IF(ISERROR(VLOOKUP($B101*10+$E$2,データ貼付!$B$3:$F$102,5,FALSE)),\"\",VLOOKUP($B101*10+$E$2,データ貼付!$B$3:$F$102,5,FALSE))","v":""},{"$f":"IF(ISERROR(VLOOKUP($B101*10+$F$2,データ貼付!$B$3:$F$102,5,FALSE)),\"\",VLOOKUP($B101*10+$F$2,データ貼付!$B$3:$F$102,5,FALSE))","v":""},{"$f":"IF(ISERROR(VLOOKUP($B101*10+$G$2,データ貼付!$B$3:$F$102,5,FALSE)),\"\",VLOOKUP($B101*10+$G$2,データ貼付!$B$3:$F$102,5,FALSE))","v":""},{"$f":"IF(ISERROR(VLOOKUP($B101*10+$H$2,データ貼付!$B$3:$F$102,5,FALSE)),\"\",VLOOKUP($B101*10+$H$2,データ貼付!$B$3:$F$102,5,FALSE))","v":""},{"$f":"IF(ISERROR(VLOOKUP($B101*10+$I$2,データ貼付!$B$3:$F$102,5,FALSE)),\"\",VLOOKUP($B101*10+$I$2,データ貼付!$B$3:$F$102,5,FALSE))","v":""}]
[null,100,{"$f":"VLOOKUP($B102,データ貼付!$A$3:$I$102,4,FALSE)","v":{"$error":"#N/A"}},{"$f":"VLOOKUP($B102,データ貼付!$A$3:$I$102,5,FALSE)","v":{"$error":"#N/A"}},{"$f":"IF(ISERROR(VLOOKUP($B102*10+$E$2,データ貼付!$B$3:$F$102,5,FALSE)),\"\",VLOOKUP($B102*10+$E$2,データ貼付!$B$3:$F$102,5,FALSE))","v":""},{"$f":"IF(ISERROR(VLOOKUP($B102*10+$F$2,データ貼付!$B$3:$F$102,5,FALSE)),\"\",VLOOKUP($B102*10+$F$2,データ貼付!$B$3:$F$102,5,FALSE))","v":""},{"$f":"IF(ISERROR(VLOOKUP($B102*10+$G$2,データ貼付!$B$3:$F$102,5,FALSE)),\"\",VLOOKUP($B102*10+$G$2,データ貼付!$B$3:$F$102,5,FALSE))","v":""},{"$f":"IF(ISERROR(VLOOKUP($B102*10+$H$2,データ貼付!$B$3:$F$102,5,FALSE)),\"\",VLOOKUP($B102*10+$H$2,データ貼付!$B$3:$F$102,5,FALSE))","v":""},{"$f":"IF(ISERROR(VLOOKUP($B102*10+$I$2,データ貼付!$B$3:$F$102,5,FALSE)),\"\",VLOOKUP($B102*10+$I$2,データ貼付!$B$3:$F$102,5,FALSE))","v":""}]

{"sheet":"計算①","index":7,"n_rows":0,"n_cols":0,"rows_kept":0,"cut":false,"hidden":false,"merged":[]}

{"sheet":"csv","index":8,"n_rows":70,"n_cols":8,"rows_kept":70,"cut":false,"hidden":true,"merged":[]}
["DB","N1","N2","SX","KC","MC","ZK","S1"]
[{"$f":"IF(計算①!J1=\"\",\"\",228&初期設定!$C$2&RIGHT(計算①!J1,2))","v":""},{"$f":"計算①!K1","v":0},{"$f":"IF(A2=\"\",\"\",VLOOKUP(G2,女子選手!$B$5:$E$103,3,FALSE))","v":""},{"$f":"IF(A2=\"\",\"\",2)","v":""},{"$f":"IF(A2=\"\",\"\",1)","v":""},{"$f":"IF(A2=\"\",\"\",28&初期設定!$C$2)","v":""},{"$f":"IF(計算①!J1=\"\",\"\",計算①!J1)","v":""},{"$f":"IF(csv!A2=\"\",\"\",計算①!A1&\" \"&IF(計算①!D1=\"01T\",TEXT(計算①!N1,\"0000000\"),TEXT(計算①!N1,\"00000\")))","v":""}]
[{"$f":"IF(計算①!J2=\"\",\"\",228&初期設定!$C$2&RIGHT(計算①!J2,2))","v":""},{"$f":"計算①!K2","v":0},{"$f":"IF(A3=\"\",\"\",VLOOKUP(G3,女子選手!$B$5:$E$103,3,FALSE))","v":""},{"$f":"IF(A3=\"\",\"\",2)","v":""},{"$f":"IF(A3=\"\",\"\",1)","v":""},{"$f":"IF(A3=\"\",\"\",28&初期設定!$C$2)","v":""},{"$f":"IF(計算①!J2=\"\",\"\",計算①!J2)","v":""},{"$f":"IF(csv!A3=\"\",\"\",計算①!A2&\" \"&IF(計算①!D2=\"01T\",TEXT(計算①!N2,\"0000000\"),TEXT(計算①!N2,\"00000\")))","v":""}]
[{"$f":"IF(計算①!J3=\"\",\"\",228&初期設定!$C$2&RIGHT(計算①!J3,2))","v":""},{"$f":"計算①!K3","v":0},{"$f":"IF(A4=\"\",\"\",VLOOKUP(G4,女子選手!$B$5:$E$103,3,FALSE))","v":""},"","",{"$f":"IF(A4=\"\",\"\",28&初期設定!$C$2)","v":""},{"$f":"IF(計算①!J3=\"\",\"\",計算①!J3)","v":""},{"$f":"IF(csv!A4=\"\",\"\",計算①!A3&\" \"&IF(計算①!D3=\"01T\",TEXT(計算①!N3,\"0000000\"),TEXT(計算①!N3,\"00000\")))","v":""}]
[{"$f":"IF(計算①!J4=\"\",\"\",228&初期設定!$C$2&RIGHT(計算①!J4,2))","v":""},{"$f":"計算①!K4","v":0},{"$f":"IF(A5=\"\",\"\",VLOOKUP(G5,女子選手!$B$5:$E$103,3,FALSE))","v":""},"","",{"$f":"IF(A5=\"\",\"\",28&初期設定!$C$2)","v":""},{"$f":"IF(計算①!J4=\"\",\"\",計算①!J4)","v":""},{"$f":"IF(csv!A5=\"\",\"\",計算①!A4&\" \"&IF(計算①!D4=\"01T\",TEXT(計算①!N4,\"0000000\"),TEXT(計算①!N4,\"00000\")))","v":""}]
[{"$f":"IF(計算①!J5=\"\",\"\",228&初期設定!$C$2&RIGHT(計算①!J5,2))","v":""},{"$f":"計算①!K5","v":0},{"$f":"IF(A6=\"\",\"\",VLOOKUP(G6,女子選手!$B$5:$E$103,3,FALSE))","v":""},"","",{"$f":"IF(A6=\"\",\"\",28&初期設定!$C$2)","v":""},{"$f":"IF(計算①!J5=\"\",\"\",計算①!J5)","v":""},{"$f":"IF(csv!A6=\"\",\"\",計算①!A5&\" \"&IF(計算①!D5=\"01T\",TEXT(計算①!N5,\"0000000\"),TEXT(計算①!N5,\"00000\")))","v":""}]
[{"$f":"IF(計算①!J6=\"\",\"\",228&初期設定!$C$2&RIGHT(計算①!J6,2))","v":""},{"$f":"計算①!K6","v":0},{"$f":"IF(A7=\"\",\"\",VLOOKUP(G7,女子選手!$B$5:$E$103,3,FALSE))","v":""},"","",{"$f":"IF(A7=\"\",\"\",28&初期設定!$C$2)","v":""},{"$f":"IF(計算①!J6=\"\",\"\",計算①!J6)","v":""},{"$f":"IF(csv!A7=\"\",\"\",計算①!A6&\" \"&IF(計算①!D6=\"01T\",TEXT(計算①!N6,\"0000000\"),TEXT(計算①!N6,\"00000\")))","v":""}]
[{"$f":"IF(計算①!J7=\"\",\"\",228&初期設定!$C$2&RIGHT(計算①!J7,2))","v":""},{"$f":"計算①!K7","v":0},{"$f":"IF(A8=\"\",\"\",VLOOKUP(G8,女子選手!$B$5:$E$103,3,FALSE))","v":""},"","",{"$f":"IF(A8=\"\",\"\",28&初期設定!$C$2)","v":""},{"$f":"IF(計算①!J7=\"\",\"\",計算①!J7)","v":""},{"$f":"IF(csv!A8=\"\",\"\",計算①!A7&\" \"&IF(計算①!D7=\"01T\",TEXT(計算①!N7,\"0000000\"),TEXT(計算①!N7,\"00000\")))","v":""}]
[{"$f":"IF(計算①!J8=\"\",\"\",228&初期設定!$C$2&RIGHT(計算①!J8,2))","v":""},{"$f":"計算①!K8","v":0},{"$f":"IF(A9=\"\",\"\",VLOOKUP(G9,女子選手!$B$5:$E$103,3,FALSE))","v":""},"","",{"$f":"IF(A9=\"\",\"\",28&初期設定!$C$2)","v":""},{"$f":"IF(計算①!J8=\"\",\"\",計算①!J8)","v":""},{"$f":"IF(csv!A9=\"\",\"\",計算①!A8&\" \"&IF(計算①!D8=\"01T\",TEXT(計算①!N8,\"0000000\"),TEXT(計算①!N8,\"00000\")))","v":""}]
[{"$f":"IF(計算①!J9=\"\",\"\",228&初期設定!$C$2&RIGHT(計算①!J9,2))","v":""},{"$f":"計算①!K9","v":0},{"$f":"IF(A10=\"\",\"\",VLOOKUP(G10,女子選手!$B$5:$E$103,3,FALSE))","v":""},"","",{"$f":"IF(A10=\"\",\"\",28&初期設定!$C$2)","v":""},{"$f":"IF(計算①!J9=\"\",\"\",計算①!J9)","v":""},{"$f":"IF(csv!A10=\"\",\"\",計算①!A9&\" \"&IF(計算①!D9=\"01T\",TEXT(計算①!N9,\"0000000\"),TEXT(計算①!N9,\"00000\")))","v":""}]
[{"$f":"IF(計算①!J10=\"\",\"\",228&初期設定!$C$2&RIGHT(計算①!J10,2))","v":""},{"$f":"計算①!K10","v":0},{"$f":"IF(A11=\"\",\"\",VLOOKUP(G11,女子選手!$B$5:$E$103,3,FALSE))","v":""},"","",{"$f":"IF(A11=\"\",\"\",28&初期設定!$C$2)","v":""},{"$f":"IF(計算①!J10=\"\",\"\",計算①!J10)","v":""},{"$f":"IF(csv!A11=\"\",\"\",計算①!A10&\" \"&IF(計算①!D10=\"01T\",TEXT(計算①!N10,\"0000000\"),TEXT(計算①!N10,\"00000\")))","v":""}]
[{"$f":"IF(計算①!J11=\"\",\"\",228&初期設定!$C$2&RIGHT(計算①!J11,2))","v":""},{"$f":"計算①!K11","v":0},{"$f":"IF(A12=\"\",\"\",VLOOKUP(G12,女子選手!$B$5:$E$103,3,FALSE))","v":""},"","",{"$f":"IF(A12=\"\",\"\",28&初期設定!$C$2)","v":""},{"$f":"IF(計算①!J11=\"\",\"\",計算①!J11)","v":""},{"$f":"IF(csv!A12=\"\",\"\",計算①!A11&\" \"&IF(計算①!D11=\"01T\",TEXT(計算①!N11,\"0000000\"),TEXT(計算①!N11,\"00000\")))","v":""}]
[{"$f":"IF(計算①!J12=\"\",\"\",228&初期設定!$C$2&RIGHT(計算①!J12,2))","v":""},{"$f":"計算①!K12","v":0},{"$f":"IF(A13=\"\",\"\",VLOOKUP(G13,女子選手!$B$5:$E$103,3,FALSE))","v":""},"","",{"$f":"IF(A13=\"\",\"\",28&初期設定!$C$2)","v":""},{"$f":"IF(計算①!J12=\"\",\"\",計算①!J12)","v":""},{"$f":"IF(csv!A13=\"\",\"\",計算①!A12&\" \"&IF(計算①!D12=\"01T\",TEXT(計算①!N12,\"0000000\"),TEXT(計算①!N12,\"00000\")))","v":""}]
[{"$f":"IF(計算①!J13=\"\",\"\",228&初期設定!$C$2&RIGHT(計算①!J13,2))","v":""},{"$f":"計算①!K13","v":0},{"$f":"IF(A14=\"\",\"\",VLOOKUP(G14,女子選手!$B$5:$E$103,3,FALSE))","v":""},"","",{"$f":"IF(A14=\"\",\"\",28&初期設定!$C$2)","v":""},{"$f":"IF(計算①!J13=\"\",\"\",計算①!J13)","v":""},{"$f":"IF(csv!A14=\"\",\"\",計算①!A13&\" \"&IF(計算①!D13=\"01T\",TEXT(計算①!N13,\"0000000\"),TEXT(計算①!N13,\"00000\")))","v":""}]
[{"$f":"IF(計算①!J14=\"\",\"\",228&初期設定!$C$2&RIGHT(計算①!J14,2))","v":""},{"$f":"計算①!K14","v":0},{"$f":"IF(A15=\"\",\"\",VLOOKUP(G15,女子選手!$B$5:$E$103,3,FALSE))","v":""},"","",{"$f":"IF(A15=\"\",\"\",28&初期設定!$C$2)","v":""},{"$f":"IF(計算①!J14=\"\",\"\",計算①!J14)","v":""},{"$f":"IF(csv!A15=\"\",\"\",計算①!A14&\" \"&IF(計算①!D14=\"01T\",TEXT(計算①!N14,\"0000000\"),TEXT(計算①!N14,\"00000\")))","v":""}]
[{"$f":"IF(計算①!J15=\"\",\"\",228&初期設定!$C$2&RIGHT(計算①!J15,2))","v":""},{"$f":"計算①!K15","v":0},{"$f":"IF(A16=\"\",\"\",VLOOKUP(G16,女子選手!$B$5:$E$103,3,FALSE))","v":""},"","",{"$f":"IF(A16=\"\",\"\",28&初期設定!$C$2)","v":""},{"$f":"IF(計算①!J15=\"\",\"\",計算①!J15)","v":""},{"$f":"IF(csv!A16=\"\",\"\",計算①!A15&\" \"&IF(計算①!D15=\"01T\",TEXT(計算①!N15,\"0000000\"),TEXT(計算①!N15,\"00000\")))","v":""}]
[{"$f":"IF(計算①!J16=\"\",\"\",228&初期設定!$C$2&RIGHT(計算①!J16,2))","v":""},{"$f":"計算①!K16","v":0},{"$f":"IF(A17=\"\",\"\",VLOOKUP(G17,女子選手!$B$5:$E$103,3,FALSE))","v":""},"","",{"$f":"IF(A17=\"\",\"\",28&初期設定!$C$2)","v":""},{"$f":"IF(計算①!J16=\"\",\"\",計算①!J16)","v":""},{"$f":"IF(csv!A17=\"\",\"\",計算①!A16&\" \"&IF(計算①!D16=\"01T\",TEXT(計算①!N16,\"0000000\"),TEXT(計算①!N16,\"00000\")))","v":""}]
[{"$f":"IF(計算①!J17=\"\",\"\",228&初期設定!$C$2&RIGHT(計算①!J17,2))","v":""},{"$f":"計算①!K17","v":0},{"$f":"IF(A18=\"\",\"\",VLOOKUP(G18,女子選手!$B$5:$E$103,3,FALSE))","v":""},"","",{"$f":"IF(A18=\"\",\"\",28&初期設定!$C$2)","v":""},{"$f":"IF(計算①!J17=\"\",\"\",計算①!J17)","v":""},{"$f":"IF(csv!A18=\"\",\"\",計算①!A17&\" \"&IF(計算①!D17=\"01T\",TEXT(計算①!N17,\"0000000\"),TEXT(計算①!N17,\"00000\")))","v":""}]
[{"$f":"IF(計算①!J18=\"\",\"\",228&初期設定!$C$2&RIGHT(計算①!J18,2))","v":""},{"$f":"計算①!K18","v":0},{"$f":"IF(A19=\"\",\"\",VLOOKUP(G19,女子選手!$B$5:$E$103,3,FALSE))","v":""},"","",{"$f":"IF(A19=\"\",\"\",28&初期設定!$C$2)","v":""},{"$f":"IF(計算①!J18=\"\",\"\",計算①!J18)","v":""},{"$f":"IF(csv!A19=\"\",\"\",計算①!A18&\" \"&IF(計算①!D18=\"01T\",TEXT(計算①!N18,\"0000000\"),TEXT(計算①!N18,\"00000\")))","v":""}]
[{"$f":"IF(計算①!J19=\"\",\"\",228&初期設定!$C$2&RIGHT(計算①!J19,2))","v":""},{"$f":"計算①!K19","v":0},{"$f":"IF(A20=\"\",\"\",VLOOKUP(G20,女子選手!$B$5:$E$103,3,FALSE))","v":""},"","",{"$f":"IF(A20=\"\",\"\",28&初期設定!$C$2)","v":""},{"$f":"IF(計算①!J19=\"\",\"\",計算①!J19)","v":""},{"$f":"IF(csv!A20=\"\",\"\",計算①!A19&\" \"&IF(計算①!D19=\"01T\",TEXT(計算①!N19,\"0000000\"),TEXT(計算①!N19,\"00000\")))","v":""}]
[{"$f":"IF(計算①!J20=\"\",\"\",228&初期設定!$C$2&RIGHT(計算①!J20,2))","v":""},{"$f":"計算①!K20","v":0},{"$f":"IF(A21=\"\",\"\",VLOOKUP(G21,女子選手!$B$5:$E$103,3,FALSE))","v":""},"","",{"$f":"IF(A21=\"\",\"\",28&初期設定!$C$2)","v":""},{"$f":"IF(計算①!J20=\"\",\"\",計算①!J20)","v":""},{"$f":"IF(csv!A21=\"\",\"\",計算①!A20&\" \"&IF(計算①!D20=\"01T\",TEXT(計算①!N20,\"0000000\"),TEXT(計算①!N20,\"00000\")))","v":""}]
[{"$f":"IF(計算①!J21=\"\",\"\",228&初期設定!$C$2&RIGHT(計算①!J21,2))","v":""},{"$f":"計算①!K21","v":0},{"$f":"IF(A22=\"\",\"\",VLOOKUP(G22,女子選手!$B$5:$E$103,3,FALSE))","v":""},"","",{"$f":"IF(A22=\"\",\"\",28&初期設定!$C$2)","v":""},{"$f":"IF(計算①!J21=\"\",\"\",計算①!J21)","v":""},{"$f":"IF(csv!A22=\"\",\"\",計算①!A21&\" \"&IF(計算①!D21=\"01T\",TEXT(計算①!N21,\"0000000\"),TEXT(計算①!N21,\"00000\")))","v":""}]
[{"$f":"IF(計算①!J22=\"\",\"\",228&初期設定!$C$2&RIGHT(計算①!J22,2))","v":""},{"$f":"計算①!K22","v":0},{"$f":"IF(A23=\"\",\"\",VLOOKUP(G23,女子選手!$B$5:$E$103,3,FALSE))","v":""},"","",{"$f":"IF(A23=\"\",\"\",28&初期設定!$C$2)","v":""},{"$f":"IF(計算①!J22=\"\",\"\",計算①!J22)","v":""},{"$f":"IF(csv!A23=\"\",\"\",計算①!A22&\" \"&IF(計算①!D22=\"01T\",TEXT(計算①!N22,\"0000000\"),TEXT(計算①!N22,\"00000\")))","v":""}]
[{"$f":"IF(計算①!J23=\"\",\"\",228&初期設定!$C$2&RIGHT(計算①!J23,2))","v":""},{"$f":"計算①!K23","v":0},{"$f":"IF(A24=\"\",\"\",VLOOKUP(G24,女子選手!$B$5:$E$103,3,FALSE))","v":""},"","",{"$f":"IF(A24=\"\",\"\",28&初期設定!$C$2)","v":""},{"$f":"IF(計算①!J23=\"\",\"\",計算①!J23)","v":""},{"$f":"IF(csv!A24=\"\",\"\",計算①!A23&\" \"&IF(計算①!D23=\"01T\",TEXT(計算①!N23,\"0000000\"),TEXT(計算①!N23,\"00000\")))","v":""}]
[{"$f":"IF(計算①!J24=\"\",\"\",228&初期設定!$C$2&RIGHT(計算①!J24,2))","v":""},{"$f":"計算①!K24","v":0},{"$f":"IF(A25=\"\",\"\",VLOOKUP(G25,女子選手!$B$5:$E$103,3,FALSE))","v":""},"","",{"$f":"IF(A25=\"\",\"\",28&初期設定!$C$2)","v":""},{"$f":"IF(計算①!J24=\"\",\"\",計算①!J24)","v":""},{"$f":"IF(csv!A25=\"\",\"\",計算①!A24&\" \"&IF(計算①!D24=\"01T\",TEXT(計算①!N24,\"0000000\"),TEXT(計算①!N24,\"00000\")))","v":""}]
[{"$f":"IF(計算①!J25=\"\",\"\",228&初期設定!$C$2&RIGHT(計算①!J25,2))","v":""},{"$f":"計算①!K25","v":0},{"$f":"IF(A26=\"\",\"\",VLOOKUP(G26,女子選手!$B$5:$E$103,3,FALSE))","v":""},"","",{"$f":"IF(A26=\"\",\"\",28&初期設定!$C$2)","v":""},{"$f":"IF(計算①!J25=\"\",\"\",計算①!J25)","v":""},{"$f":"IF(csv!A26=\"\",\"\",計算①!A25&\" \"&IF(計算①!D25=\"01T\",TEXT(計算①!N25,\"0000000\"),TEXT(計算①!N25,\"00000\")))","v":""}]
[{"$f":"IF(計算①!J26=\"\",\"\",228&初期設定!$C$2&RIGHT(計算①!J26,2))","v":""},{"$f":"計算①!K26","v":0},{"$f":"IF(A27=\"\",\"\",VLOOKUP(G27,女子選手!$B$5:$E$103,3,FALSE))","v":""},"","",{"$f":"IF(A27=\"\",\"\",28&初期設定!$C$2)","v":""},{"$f":"IF(計算①!J26=\"\",\"\",計算①!J26)","v":""},{"$f":"IF(csv!A27=\"\",\"\",計算①!A26&\" \"&IF(計算①!D26=\"01T\",TEXT(計算①!N26,\"0000000\"),TEXT(計算①!N26,\"00000\")))","v":""}]
[{"$f":"IF(計算①!J27=\"\",\"\",228&初期設定!$C$2&RIGHT(計算①!J27,2))","v":""},{"$f":"計算①!K27","v":0},{"$f":"IF(A28=\"\",\"\",VLOOKUP(G28,女子選手!$B$5:$E$103,3,FALSE))","v":""},"","",{"$f":"IF(A28=\"\",\"\",28&初期設定!$C$2)","v":""},{"$f":"IF(計算①!J27=\"\",\"\",計算①!J27)","v":""},{"$f":"IF(csv!A28=\"\",\"\",計算①!A27&\" \"&IF(計算①!D27=\"01T\",TEXT(計算①!N27,\"0000000\"),TEXT(計算①!N27,\"00000\")))","v":""}]
[{"$f":"IF(計算①!J28=\"\",\"\",228&初期設定!$C$2&RIGHT(計算①!J28,2))","v":""},{"$f":"計算①!K28","v":0},{"$f":"IF(A29=\"\",\"\",VLOOKUP(G29,女子選手!$B$5:$E$103,3,FALSE))","v":""},"","",{"$f":"IF(A29=\"\",\"\",28&初期設定!$C$2)","v":""},{"$f":"IF(計算①!J28=\"\",\"\",計算①!J28)","v":""},{"$f":"IF(csv!A29=\"\",\"\",計算①!A28&\" \"&IF(計算①!D28=\"01T\",TEXT(計算①!N28,\"0000000\"),TEXT(計算①!N28,\"00000\")))","v":""}]
[{"$f":"IF(計算①!J29=\"\",\"\",228&初期設定!$C$2&RIGHT(計算①!J29,2))","v":""},{"$f":"計算①!K29","v":0},{"$f":"IF(A30=\"\",\"\",VLOOKUP(G30,女子選手!$B$5:$E$103,3,FALSE))","v":""},"","",{"$f":"IF(A30=\"\",\"\",28&初期設定!$C$2)","v":""},{"$f":"IF(計算①!J29=\"\",\"\",計算①!J29)","v":""},{"$f":"IF(csv!A30=\"\",\"\",計算①!A29&\" \"&IF(計算①!D29=\"01T\",TEXT(計算①!N29,\"0000000\"),TEXT(計算①!N29,\"00000\")))","v":""}]
[{"$f":"IF(計算①!J30=\"\",\"\",228&初期設定!$C$2&RIGHT(計算①!J30,2))","v":""},{"$f":"計算①!K30","v":0},{"$f":"IF(A31=\"\",\"\",VLOOKUP(G31,女子選手!$B$5:$E$103,3,FALSE))","v":""},"","",{"$f":"IF(A31=\"\",\"\",28&初期設定!$C$2)","v":""},{"$f":"IF(計算①!J30=\"\",\"\",計算①!J30)","v":""},{"$f":"IF(csv!A31=\"\",\"\",計算①!A30&\" \"&IF(計算①!D30=\"01T\",TEXT(計算①!N30,\"0000000\"),TEXT(計算①!N30,\"00000\")))","v":""}]
[{"$f":"IF(計算①!J31=\"\",\"\",228&初期設定!$C$2&RIGHT(計算①!J31,2))","v":""},{"$f":"計算①!K31","v":0},{"$f":"IF(A32=\"\",\"\",VLOOKUP(G32,女子選手!$B$5:$E$103,3,FALSE))","v":""},"","",{"$f":"IF(A32=\"\",\"\",28&初期設定!$C$2)","v":""},{"$f":"IF(計算①!J31=\"\",\"\",計算①!J31)","v":""},{"$f":"IF(csv!A32=\"\",\"\",計算①!A31&\" \"&IF(計算①!D31=\"01T\",TEXT(計算①!N31,\"0000000\"),TEXT(計算①!N31,\"00000\")))","v":""}]
[{"$f":"IF(計算①!J32=\"\",\"\",228&初期設定!$C$2&RIGHT(計算①!J32,2))","v":""},{"$f":"計算①!K32","v":0},{"$f":"IF(A33=\"\",\"\",VLOOKUP(G33,女子選手!$B$5:$E$103,3,FALSE))","v":""},"","",{"$f":"IF(A33=\"\",\"\",28&初期設定!$C$2)","v":""},{"$f":"IF(計算①!J32=\"\",\"\",計算①!J32)","v":""},{"$f":"IF(csv!A33=\"\",\"\",計算①!A32&\" \"&IF(計算①!D32=\"01T\",TEXT(計算①!N32,\"0000000\"),TEXT(計算①!N32,\"00000\")))","v":""}]
[{"$f":"IF(計算①!J33=\"\",\"\",228&初期設定!$C$2&RIGHT(計算①!J33,2))","v":""},{"$f":"計算①!K33","v":0},{"$f":"IF(A34=\"\",\"\",VLOOKUP(G34,女子選手!$B$5:$E$103,3,FALSE))","v":""},"","",{"$f":"IF(A34=\"\",\"\",28&初期設定!$C$2)","v":""},{"$f":"IF(計算①!J33=\"\",\"\",計算①!J33)","v":""},{"$f":"IF(csv!A34=\"\",\"\",計算①!A33&\" \"&IF(計算①!D33=\"01T\",TEXT(計算①!N33,\"0000000\"),TEXT(計算①!N33,\"00000\")))","v":""}]
[{"$f":"IF(計算①!J34=\"\",\"\",228&初期設定!$C$2&RIGHT(計算①!J34,2))","v":""},{"$f":"計算①!K34","v":0},{"$f":"IF(A35=\"\",\"\",VLOOKUP(G35,女子選手!$B$5:$E$103,3,FALSE))","v":""},"","",{"$f":"IF(A35=\"\",\"\",28&初期設定!$C$2)","v":""},{"$f":"IF(計算①!J34=\"\",\"\",計算①!J34)","v":""},{"$f":"IF(csv!A35=\"\",\"\",計算①!A34&\" \"&IF(計算①!D34=\"01T\",TEXT(計算①!N34,\"0000000\"),TEXT(計算①!N34,\"00000\")))","v":""}]
[{"$f":"IF(計算①!J35=\"\",\"\",228&初期設定!$C$2&RIGHT(計算①!J35,2))","v":""},{"$f":"計算①!K35","v":0},{"$f":"IF(A36=\"\",\"\",VLOOKUP(G36,女子選手!$B$5:$E$103,3,FALSE))","v":""},"","",{"$f":"IF(A36=\"\",\"\",28&初期設定!$C$2)","v":""},{"$f":"IF(計算①!J35=\"\",\"\",計算①!J35)","v":""},{"$f":"IF(csv!A36=\"\",\"\",計算①!A35&\" \"&IF(計算①!D35=\"01T\",TEXT(計算①!N35,\"0000000\"),TEXT(計算①!N35,\"00000\")))","v":""}]
[{"$f":"IF(計算①!J36=\"\",\"\",228&初期設定!$C$2&RIGHT(計算①!J36,2))","v":""},{"$f":"計算①!K36","v":0},{"$f":"IF(A37=\"\",\"\",VLOOKUP(G37,女子選手!$B$5:$E$103,3,FALSE))","v":""},"","",{"$f":"IF(A37=\"\",\"\",28&初期設定!$C$2)","v":""},{"$f":"IF(計算①!J36=\"\",\"\",計算①!J36)","v":""},{"$f":"IF(csv!A37=\"\",\"\",計算①!A36&\" \"&IF(計算①!D36=\"01T\",TEXT(計算①!N36,\"0000000\"),TEXT(計算①!N36,\"00000\")))","v":""}]
[{"$f":"IF(計算①!J37=\"\",\"\",228&初期設定!$C$2&RIGHT(計算①!J37,2))","v":""},{"$f":"計算①!K37","v":0},{"$f":"IF(A38=\"\",\"\",VLOOKUP(G38,女子選手!$B$5:$E$103,3,FALSE))","v":""},"","",{"$f":"IF(A38=\"\",\"\",28&初期設定!$C$2)","v":""},{"$f":"IF(計算①!J37=\"\",\"\",計算①!J37)","v":""},{"$f":"IF(csv!A38=\"\",\"\",計算①!A37&\" \"&IF(計算①!D37=\"01T\",TEXT(計算①!N37,\"0000000\"),TEXT(計算①!N37,\"00000\")))","v":""}]
[{"$f":"IF(計算①!J38=\"\",\"\",228&初期設定!$C$2&RIGHT(計算①!J38,2))","v":""},{"$f":"計算①!K38","v":0},{"$f":"IF(A39=\"\",\"\",VLOOKUP(G39,女子選手!$B$5:$E$103,3,FALSE))","v":""},"","",{"$f":"IF(A39=\"\",\"\",28&初期設定!$C$2)","v":""},{"$f":"IF(計算①!J38=\"\",\"\",計算①!J38)","v":""},{"$f":"IF(csv!A39=\"\",\"\",計算①!A38&\" \"&IF(計算①!D38=\"01T\",TEXT(計算①!N38,\"0000000\"),TEXT(計算①!N38,\"00000\")))","v":""}]
[{"$f":"IF(計算①!J39=\"\",\"\",228&初期設定!$C$2&RIGHT(計算①!J39,2))","v":""},{"$f":"計算①!K39","v":0},{"$f":"IF(A40=\"\",\"\",VLOOKUP(G40,女子選手!$B$5:$E$103,3,FALSE))","v":""},"","",{"$f":"IF(A40=\"\",\"\",28&初期設定!$C$2)","v":""},{"$f":"IF(計算①!J39=\"\",\"\",計算①!J39)","v":""},{"$f":"IF(csv!A40=\"\",\"\",計算①!A39&\" \"&IF(計算①!D39=\"01T\",TEXT(計算①!N39,\"0000000\"),TEXT(計算①!N39,\"00000\")))","v":""}]
[{"$f":"IF(計算①!J40=\"\",\"\",228&初期設定!$C$2&RIGHT(計算①!J40,2))","v":""},{"$f":"計算①!K40","v":0},{"$f":"IF(A41=\"\",\"\",VLOOKUP(G41,女子選手!$B$5:$E$103,3,FALSE))","v":""},"","",{"$f":"IF(A41=\"\",\"\",28&初期設定!$C$2)","v":""},{"$f":"IF(計算①!J40=\"\",\"\",計算①!J40)","v":""},{"$f":"IF(csv!A41=\"\",\"\",計算①!A40&\" \"&IF(計算①!D40=\"01T\",TEXT(計算①!N40,\"0000000\"),TEXT(計算①!N40,\"00000\")))","v":""}]
[{"$f":"IF(計算①!J41=\"\",\"\",228&初期設定!$C$2&RIGHT(計算①!J41,2))","v":""},{"$f":"計算①!K41","v":0},{"$f":"IF(A42=\"\",\"\",VLOOKUP(G42,女子選手!$B$5:$E$103,3,FALSE))","v":""},"","",{"$f":"IF(A42=\"\",\"\",28&初期設定!$C$2)","v":""},{"$f":"IF(計算①!J41=\"\",\"\",計算①!J41)","v":""},{"$f":"IF(csv!A42=\"\",\"\",計算①!A41&\" \"&IF(計算①!D41=\"01T\",TEXT(計算①!N41,\"0000000\"),TEXT(計算①!N41,\"00000\")))","v":""}]
[{"$f":"IF(計算①!J42=\"\",\"\",228&初期設定!$C$2&RIGHT(計算①!J42,2))","v":""},{"$f":"計算①!K42","v":0},{"$f":"IF(A43=\"\",\"\",VLOOKUP(G43,女子選手!$B$5:$E$103,3,FALSE))","v":""},"","",{"$f":"IF(A43=\"\",\"\",28&初期設定!$C$2)","v":""},{"$f":"IF(計算①!J42=\"\",\"\",計算①!J42)","v":""},{"$f":"IF(csv!A43=\"\",\"\",計算①!A42&\" \"&IF(計算①!D42=\"01T\",TEXT(計算①!N42,\"0000000\"),TEXT(計算①!N42,\"00000\")))","v":""}]
[{"$f":"IF(計算①!J43=\"\",\"\",228&初期設定!$C$2&RIGHT(計算①!J43,2))","v":""},{"$f":"計算①!K43","v":0},{"$f":"IF(A44=\"\",\"\",VLOOKUP(G44,女子選手!$B$5:$E$103,3,FALSE))","v":""},"","",{"$f":"IF(A44=\"\",\"\",28&初期設定!$C$2)","v":""},{"$f":"IF(計算①!J43=\"\",\"\",計算①!J43)","v":""},{"$f":"IF(csv!A44=\"\",\"\",計算①!A43&\" \"&IF(計算①!D43=\"01T\",TEXT(計算①!N43,\"0000000\"),TEXT(計算①!N43,\"00000\")))","v":""}]
[{"$f":"IF(計算①!J44=\"\",\"\",228&初期設定!$C$2&RIGHT(計算①!J44,2))","v":""},{"$f":"計算①!K44","v":0},{"$f":"IF(A45=\"\",\"\",VLOOKUP(G45,女子選手!$B$5:$E$103,3,FALSE))","v":""},"","",{"$f":"IF(A45=\"\",\"\",28&初期設定!$C$2)","v":""},{"$f":"IF(計算①!J44=\"\",\"\",計算①!J44)","v":""},{"$f":"IF(csv!A45=\"\",\"\",計算①!A44&\" \"&IF(計算①!D44=\"01T\",TEXT(計算①!N44,\"0000000\"),TEXT(計算①!N44,\"00000\")))","v":""}]
[{"$f":"IF(計算①!J45=\"\",\"\",228&初期設定!$C$2&RIGHT(計算①!J45,2))","v":""},{"$f":"計算①!K45","v":0},{"$f":"IF(A46=\"\",\"\",VLOOKUP(G46,女子選手!$B$5:$E$103,3,FALSE))","v":""},"","",{"$f":"IF(A46=\"\",\"\",28&初期設定!$C$2)","v":""},{"$f":"IF(計算①!J45=\"\",\"\",計算①!J45)","v":""},{"$f":"IF(csv!A46=\"\",\"\",計算①!A45&\" \"&IF(計算①!D45=\"01T\",TEXT(計算①!N45,\"0000000\"),TEXT(計算①!N45,\"00000\")))","v":""}]
[{"$f":"IF(計算①!J46=\"\",\"\",228&初期設定!$C$2&RIGHT(計算①!J46,2))","v":""},{"$f":"計算①!K46","v":0},{"$f":"IF(A47=\"\",\"\",VLOOKUP(G47,女子選手!$B$5:$E$103,3,FALSE))","v":""},"","",{"$f":"IF(A47=\"\",\"\",28&初期設定!$C$2)","v":""},{"$f":"IF(計算①!J46=\"\",\"\",計算①!J46)","v":""},{"$f":"IF(csv!A47=\"\",\"\",計算①!A46&\" \"&IF(計算①!D46=\"01T\",TEXT(計算①!N46,\"0000000\"),TEXT(計算①!N46,\"00000\")))","v":""}]
[{"$f":"IF(計算①!J47=\"\",\"\",228&初期設定!$C$2&RIGHT(計算①!J47,2))","v":""},{"$f":"計算①!K47","v":0},{"$f":"IF(A48=\"\",\"\",VLOOKUP(G48,女子選手!$B$5:$E$103,3,FALSE))","v":""},"","",{"$f":"IF(A48=\"\",\"\",28&初期設定!$C$2)","v":""},{"$f":"IF(計算①!J47=\"\",\"\",計算①!J47)","v":""},{"$f":"IF(csv!A48=\"\",\"\",計算①!A47&\" \"&IF(計算①!D47=\"01T\",TEXT(計算①!N47,\"0000000\"),TEXT(計算①!N47,\"00000\")))","v":""}]
[{"$f":"IF(計算①!J48=\"\",\"\",228&初期設定!$C$2&RIGHT(計算①!J48,2))","v":""},{"$f":"計算①!K48","v":0},{"$f":"IF(A49=\"\",\"\",VLOOKUP(G49,女子選手!$B$5:$E$103,3,FALSE))","v":""},"","",{"$f":"IF(A49=\"\",\"\",28&初期設定!$C$2)","v":""},{"$f":"IF(計算①!J48=\"\",\"\",計算①!J48)","v":""},{"$f":"IF(csv!A49=\"\",\"\",計算①!A48&\" \"&IF(計算①!D48=\"01T\",TEXT(計算①!N48,\"0000000\"),TEXT(計算①!N48,\"00000\")))","v":""}]
[{"$f":"IF(計算①!J49=\"\",\"\",228&初期設定!$C$2&RIGHT(計算①!J49,2))","v":""},{"$f":"計算①!K49","v":0},{"$f":"IF(A50=\"\",\"\",VLOOKUP(G50,女子選手!$B$5:$E$103,3,FALSE))","v":""},"","",{"$f":"IF(A50=\"\",\"\",28&初期設定!$C$2)","v":""},{"$f":"IF(計算①!J49=\"\",\"\",計算①!J49)","v":""},{"$f":"IF(csv!A50=\"\",\"\",計算①!A49&\" \"&IF(計算①!D49=\"01T\",TEXT(計算①!N49,\"0000000\"),TEXT(計算①!N49,\"00000\")))","v":""}]
[{"$f":"IF(計算①!J50=\"\",\"\",228&初期設定!$C$2&RIGHT(計算①!J50,2))","v":""},{"$f":"計算①!K50","v":0},{"$f":"IF(A51=\"\",\"\",VLOOKUP(G51,女子選手!$B$5:$E$103,3,FALSE))","v":""},"","",{"$f":"IF(A51=\"\",\"\",28&初期設定!$C$2)","v":""},{"$f":"IF(計算①!J50=\"\",\"\",計算①!J50)","v":""},{"$f":"IF(csv!A51=\"\",\"\",計算①!A50&\" \"&IF(計算①!D50=\"01T\",TEXT(計算①!N50,\"0000000\"),TEXT(計算①!N50,\"00000\")))","v":""}]
[{"$f":"IF(計算①!J51=\"\",\"\",228&初期設定!$C$2&RIGHT(計算①!J51,2))","v":""},{"$f":"計算①!K51","v":0},{"$f":"IF(A52=\"\",\"\",VLOOKUP(G52,女子選手!$B$5:$E$103,3,FALSE))","v":""},"","",{"$f":"IF(A52=\"\",\"\",28&初期設定!$C$2)","v":""},{"$f":"IF(計算①!J51=\"\",\"\",計算①!J51)","v":""},{"$f":"IF(csv!A52=\"\",\"\",計算①!A51&\" \"&IF(計算①!D51=\"01T\",TEXT(計算①!N51,\"0000000\"),TEXT(計算①!N51,\"00000\")))","v":""}]
[{"$f":"IF(計算①!J52=\"\",\"\",228&初期設定!$C$2&RIGHT(計算①!J52,2))","v":""},{"$f":"計算①!K52","v":0},{"$f":"IF(A53=\"\",\"\",VLOOKUP(G53,女子選手!$B$5:$E$103,3,FALSE))","v":""},"","",{"$f":"IF(A53=\"\",\"\",28&初期設定!$C$2)","v":""},{"$f":"IF(計算①!J52=\"\",\"\",計算①!J52)","v":""},{"$f":"IF(csv!A53=\"\",\"\",計算①!A52&\" \"&IF(計算①!D52=\"01T\",TEXT(計算①!N52,\"0000000\"),TEXT(計算①!N52,\"00000\")))","v":""}]
[{"$f":"IF(計算①!J53=\"\",\"\",228&初期設定!$C$2&RIGHT(計算①!J53,2))","v":""},{"$f":"計算①!K53","v":0},{"$f":"IF(A54=\"\",\"\",VLOOKUP(G54,女子選手!$B$5:$E$103,3,FALSE))","v":""},"","",{"$f":"IF(A54=\"\",\"\",28&初期設定!$C$2)","v":""},{"$f":"IF(計算①!J53=\"\",\"\",計算①!J53)","v":""},{"$f":"IF(csv!A54=\"\",\"\",計算①!A53&\" \"&IF(計算①!D53=\"01T\",TEXT(計算①!N53,\"0000000\"),TEXT(計算①!N53,\"00000\")))","v":""}]
[{"$f":"IF(計算①!J54=\"\",\"\",228&初期設定!$C$2&RIGHT(計算①!J54,2))","v":""},{"$f":"計算①!K54","v":0},{"$f":"IF(A55=\"\",\"\",VLOOKUP(G55,女子選手!$B$5:$E$103,3,FALSE))","v":""},"","",{"$f":"IF(A55=\"\",\"\",28&初期設定!$C$2)","v":""},{"$f":"IF(計算①!J54=\"\",\"\",計算①!J54)","v":""},{"$f":"IF(csv!A55=\"\",\"\",計算①!A54&\" \"&IF(計算①!D54=\"01T\",TEXT(計算①!N54,\"0000000\"),TEXT(計算①!N54,\"00000\")))","v":""}]
[{"$f":"IF(計算①!J55=\"\",\"\",228&初期設定!$C$2&RIGHT(計算①!J55,2))","v":""},{"$f":"計算①!K55","v":0},{"$f":"IF(A56=\"\",\"\",VLOOKUP(G56,女子選手!$B$5:$E$103,3,FALSE))","v":""},"","",{"$f":"IF(A56=\"\",\"\",28&初期設定!$C$2)","v":""},{"$f":"IF(計算①!J55=\"\",\"\",計算①!J55)","v":""},{"$f":"IF(csv!A56=\"\",\"\",計算①!A55&\" \"&IF(計算①!D55=\"01T\",TEXT(計算①!N55,\"0000000\"),TEXT(計算①!N55,\"00000\")))","v":""}]
[{"$f":"IF(計算①!J56=\"\",\"\",228&初期設定!$C$2&RIGHT(計算①!J56,2))","v":""},{"$f":"計算①!K56","v":0},{"$f":"IF(A57=\"\",\"\",VLOOKUP(G57,女子選手!$B$5:$E$103,3,FALSE))","v":""},"","",{"$f":"IF(A57=\"\",\"\",28&初期設定!$C$2)","v":""},{"$f":"IF(計算①!J56=\"\",\"\",計算①!J56)","v":""},{"$f":"IF(csv!A57=\"\",\"\",計算①!A56&\" \"&IF(計算①!D56=\"01T\",TEXT(計算①!N56,\"0000000\"),TEXT(計算①!N56,\"00000\")))","v":""}]
[{"$f":"IF(計算①!J57=\"\",\"\",228&初期設定!$C$2&RIGHT(計算①!J57,2))","v":""},{"$f":"計算①!K57","v":0},{"$f":"IF(A58=\"\",\"\",VLOOKUP(G58,女子選手!$B$5:$E$103,3,FALSE))","v":""},"","",{"$f":"IF(A58=\"\",\"\",28&初期設定!$C$2)","v":""},{"$f":"IF(計算①!J57=\"\",\"\",計算①!J57)","v":""},{"$f":"IF(csv!A58=\"\",\"\",計算①!A57&\" \"&IF(計算①!D57=\"01T\",TEXT(計算①!N57,\"0000000\"),TEXT(計算①!N57,\"00000\")))","v":""}]
[{"$f":"IF(計算①!J58=\"\",\"\",228&初期設定!$C$2&RIGHT(計算①!J58,2))","v":""},{"$f":"計算①!K58","v":0},{"$f":"IF(A59=\"\",\"\",VLOOKUP(G59,女子選手!$B$5:$E$103,3,FALSE))","v":""},"","",{"$f":"IF(A59=\"\",\"\",28&初期設定!$C$2)","v":""},{"$f":"IF(計算①!J58=\"\",\"\",計算①!J58)","v":""},{"$f":"IF(csv!A59=\"\",\"\",計算①!A58&\" \"&IF(計算①!D58=\"01T\",TEXT(計算①!N58,\"0000000\"),TEXT(計算①!N58,\"00000\")))","v":""}]
[{"$f":"IF(計算①!J59=\"\",\"\",228&初期設定!$C$2&RIGHT(計算①!J59,2))","v":""},{"$f":"計算①!K59","v":0},{"$f":"IF(A60=\"\",\"\",VLOOKUP(G60,女子選手!$B$5:$E$103,3,FALSE))","v":""},"","",{"$f":"IF(A60=\"\",\"\",28&初期設定!$C$2)","v":""},{"$f":"IF(計算①!J59=\"\",\"\",計算①!J59)","v":""},{"$f":"IF(csv!A60=\"\",\"\",計算①!A59&\" \"&IF(計算①!D59=\"01T\",TEXT(計算①!N59,\"0000000\"),TEXT(計算①!N59,\"00000\")))","v":""}]
[{"$f":"IF(計算①!J60=\"\",\"\",228&初期設定!$C$2&RIGHT(計算①!J60,2))","v":""},{"$f":"計算①!K60","v":0},{"$f":"IF(A61=\"\",\"\",VLOOKUP(G61,女子選手!$B$5:$E$103,3,FALSE))","v":""},"","",{"$f":"IF(A61=\"\",\"\",28&初期設定!$C$2)","v":""},{"$f":"IF(計算①!J60=\"\",\"\",計算①!J60)","v":""},{"$f":"IF(csv!A61=\"\",\"\",計算①!A60&\" \"&IF(計算①!D60=\"01T\",TEXT(計算①!N60,\"0000000\"),TEXT(計算①!N60,\"00000\")))","v":""}]
[{"$f":"IF(計算①!J61=\"\",\"\",228&初期設定!$C$2&RIGHT(計算①!J61,2))","v":""},{"$f":"計算①!K61","v":0},{"$f":"IF(A62=\"\",\"\",VLOOKUP(G62,女子選手!$B$5:$E$103,3,FALSE))","v":""},"","",{"$f":"IF(A62=\"\",\"\",28&初期設定!$C$2)","v":""},{"$f":"IF(計算①!J61=\"\",\"\",計算①!J61)","v":""},{"$f":"IF(csv!A62=\"\",\"\",計算①!A61&\" \"&IF(計算①!D61=\"01T\",TEXT(計算①!N61,\"0000000\"),TEXT(計算①!N61,\"00000\")))","v":""}]
[{"$f":"IF(計算①!J62=\"\",\"\",228&初期設定!$C$2&RIGHT(計算①!J62,2))","v":""},{"$f":"計算①!K62","v":0},{"$f":"IF(A63=\"\",\"\",VLOOKUP(G63,女子選手!$B$5:$E$103,3,FALSE))","v":""},"","",{"$f":"IF(A63=\"\",\"\",28&初期設定!$C$2)","v":""},{"$f":"IF(計算①!J62=\"\",\"\",計算①!J62)","v":""},{"$f":"IF(csv!A63=\"\",\"\",計算①!A62&\" \"&IF(計算①!D62=\"01T\",TEXT(計算①!N62,\"0000000\"),TEXT(計算①!N62,\"00000\")))","v":""}]
[{"$f":"IF(計算①!J63=\"\",\"\",228&初期設定!$C$2&RIGHT(計算①!J63,2))","v":""},{"$f":"計算①!K63","v":0},{"$f":"IF(A64=\"\",\"\",VLOOKUP(G64,女子選手!$B$5:$E$103,3,FALSE))","v":""},"","",{"$f":"IF(A64=\"\",\"\",28&初期設定!$C$2)","v":""},{"$f":"IF(計算①!J63=\"\",\"\",計算①!J63)","v":""},{"$f":"IF(csv!A64=\"\",\"\",計算①!A63&\" \"&IF(計算①!D63=\"01T\",TEXT(計算①!N63,\"0000000\"),TEXT(計算①!N63,\"00000\")))","v":""}]
[{"$f":"IF(計算①!J64=\"\",\"\",228&初期設定!$C$2&RIGHT(計算①!J64,2))","v":""},{"$f":"計算①!K64","v":0},{"$f":"IF(A65=\"\",\"\",VLOOKUP(G65,女子選手!$B$5:$E$103,3,FALSE))","v":""},"","",{"$f":"IF(A65=\"\",\"\",28&初期設定!$C$2)","v":""},{"$f":"IF(計算①!J64=\"\",\"\",計算①!J64)","v":""},{"$f":"IF(csv!A65=\"\",\"\",計算①!A64&\" \"&IF(計算①!D64=\"01T\",TEXT(計算①!N64,\"0000000\"),TEXT(計算①!N64,\"00000\")))","v":""}]
[{"$f":"IF(計算①!J65=\"\",\"\",228&初期設定!$C$2&RIGHT(計算①!J65,2))","v":""},{"$f":"計算①!K65","v":0},{"$f":"IF(A66=\"\",\"\",VLOOKUP(G66,女子選手!$B$5:$E$103,3,FALSE))","v":""},"","",{"$f":"IF(A66=\"\",\"\",28&初期設定!$C$2)","v":""},{"$f":"IF(計算①!J65=\"\",\"\",計算①!J65)","v":""},{"$f":"IF(csv!A66=\"\",\"\",計算①!A65&\" \"&IF(計算①!D65=\"01T\",TEXT(計算①!N65,\"0000000\"),TEXT(計算①!N65,\"00000\")))","v":""}]
[{"$f":"IF(計算①!J66=\"\",\"\",228&初期設定!$C$2&RIGHT(計算①!J66,2))","v":""},{"$f":"計算①!K66","v":0},{"$f":"IF(A67=\"\",\"\",VLOOKUP(G67,女子選手!$B$5:$E$103,3,FALSE))","v":""},{"$f":"IF(A67=\"\",\"\",2)","v":""},{"$f":"IF(A67=\"\",\"\",1)","v":""},{"$f":"IF(A67=\"\",\"\",28&初期設定!$C$2)","v":""},{"$f":"IF(計算①!J66=\"\",\"\",計算①!J66)","v":""},{"$f":"IF(csv!A67=\"\",\"\",計算①!A66&\" \"&IF(計算①!D66=\"01T\",TEXT(計算①!N66,\"0000000\"),TEXT(計算①!N66,\"00000\")))","v":""}]
[{"$f":"IF(計算①!J67=\"\",\"\",228&初期設定!$C$2&RIGHT(計算①!J67,2))","v":""},{"$f":"計算①!K67","v":0},{"$f":"IF(A68=\"\",\"\",VLOOKUP(G68,女子選手!$B$5:$E$103,3,FALSE))","v":""},"","",{"$f":"IF(A68=\"\",\"\",28&初期設定!$C$2)","v":""},{"$f":"IF(計算①!J67=\"\",\"\",計算①!J67)","v":""},{"$f":"IF(csv!A68=\"\",\"\",計算①!A67&\" \"&IF(計算①!D67=\"01T\",TEXT(計算①!N67,\"0000000\"),TEXT(計算①!N67,\"00000\")))","v":""}]
[{"$f":"IF(計算①!J68=\"\",\"\",228&初期設定!$C$2&RIGHT(計算①!J68,2))","v":""},{"$f":"計算①!K68","v":0},{"$f":"IF(A69=\"\",\"\",VLOOKUP(G69,女子選手!$B$5:$E$103,3,FALSE))","v":""},"","",{"$f":"IF(A69=\"\",\"\",28&初期設定!$C$2)","v":""},{"$f":"IF(計算①!J68=\"\",\"\",計算①!J68)","v":""},{"$f":"IF(csv!A69=\"\",\"\",計算①!A68&\" \"&IF(計算①!D68=\"01T\",TEXT(計算①!N68,\"0000000\"),TEXT(計算①!N68,\"00000\")))","v":""}]
[{"$f":"IF(計算①!J69=\"\",\"\",228&初期設定!$C$2&RIGHT(計算①!J69,2))","v":""},{"$f":"計算①!K69","v":0},{"$f":"IF(A70=\"\",\"\",VLOOKUP(G70,女子選手!$B$5:$E$103,3,FALSE))","v":""},"","",{"$f":"IF(A70=\"\",\"\",28&初期設定!$C$2)","v":""},{"$f":"IF(計算①!J69=\"\",\"\",計算①!J69)","v":""},{"$f":"IF(csv!A70=\"\",\"\",計算①!A69&\" \"&IF(計算①!D69=\"01T\",TEXT(計算①!N69,\"0000000\"),TEXT(計算①!N69,\"00000\")))","v":""}]

{"sheet":"学校番号","index":9,"n_rows":50,"n_cols":9,"rows_kept":50,"cut":false,"hidden":true,"merged":[]}
[]
[100,null,"ゼッケン",null,null,null,null,null,"〒"]
[4101,"県立尼崎高等学校",100,"県尼崎","660-0804","尼崎市北大物町18-1","06-6401-0643",null,"第77回　兵庫県高等学校陸上競技対校選手権大会地区予選会　申込書"]
[4102,"市立尼崎高等学校",200,"市尼崎","661-0014","尼崎市上ノ島町1-38-1","06-6429-0169",null,"第77回　阪神高等学校ジュニア陸上競技対校選手権大会　申込書"]
[4103,"市立尼崎双星高等学校",300,"尼崎双星","661-0983","尼崎市口田中2-8-1","06-6491-7000"]
[4104,"県立尼崎西高等学校",400,"尼崎西","660-0076","尼崎市大島2-34-1","06-6417-5021"]
[4105,"県立尼崎北高等学校",500,"尼崎北","661-0002","尼崎市塚口町5-40-1","06-6421-0132"]
[4106,"県立尼崎稲園高等学校",600,"尼崎稲園","661-0981","尼崎市猪名寺3-1-1","06-6422-0271"]
[4107,"県立尼崎小田高等学校",700,"尼崎小田","660-0802","尼崎市長洲中通2-17-46","06-6488-5335"]
[4108,null,800]
[4109,"県立武庫荘総合高等学校",900,"武庫荘総合","661-0035","尼崎市武庫之荘8-31-1","06-6431-5520"]
[4110,"県立尼崎工業高等学校",1000,"尼崎工","660-0802","尼崎市長洲中通1-13-1","06-6481-4841"]
[4111,null,1100]
[4112,"園田学園高等学校",1200,"園田","661-0012","尼崎市塚口町1-24-16","06-6428-2242"]
[4113]
[4114,"県立西宮高等学校",1400,"県西宮","662-0813","西宮市上甲東園2-4-32","0798-52-0185"]
[4115,"市立西宮高等学校",1500,"市西宮","662-0872","西宮市高座町14-117","0798-74-6711"]
[4116,"市立西宮東高等学校",1600,"西宮東","663-8185","西宮市古川町1-12","0798-47-6013"]
[4117,"県立西宮南高等学校",1700,"西宮南","663-8141","西宮市高須町2-1-43","0798-45-2043"]
[4118,"県立西宮北高等学校",1800,"西宮北","662-0082","西宮市苦楽園二番町16-80","0798-71-1301"]
[4119,"県立鳴尾高等学校",1900,"鳴尾","663-8182","西宮市学文殿町2-1-60","0798-47-1324"]
[4120,"県立西宮今津高等学校",2000,"西宮今津","663-8154","西宮市浜甲子園4-1-5","0798-45-1941"]
[4121,"県立西宮甲山高等学校",2100,"西宮甲山","662-0004","西宮市鷲林寺字剣谷10","0798-74-2460"]
[4122,"甲陽学院高等学校",2200,"甲陽","662-0096","西宮市角石長3-138","0798-73-3011"]
[4123,"関西学院高等部",2300,"関学","662-8501","西宮市上ヶ原一番町1-155","0798-51-0975"]
[4124,null,2400]
[4125,"仁川学院高等学校",2500,"仁川","662-0812","西宮市甲東園2-13-9","0798-51-3621"]
[4126,"報徳学園高等学校",2600,"報徳","663-8003","西宮市瓦林町4-25","0798-65-6100"]
[4127,"武庫川女子大学付属高等学校",2700,"武庫川大附","663-8143","西宮市枝川町4-16","0798-47-6436"]
[4128]
[4129,null,2900]
[4130,"県立伊丹高等学校",3000,"県伊丹","664-0012","伊丹市緑が丘7-31-1","072-782-2065"]
[4131,"市立伊丹高等学校",3100,"市伊丹","664-0857","伊丹市行基町4-1","072-772-2040"]
[4132,"県立伊丹西高等学校",3200,"伊丹西","664-0025","伊丹市奥畑3-5","0727-77-3711"]
[4133,"県立伊丹北高等学校",3300,"伊丹北","664-0006","伊丹市鴻池7-2-1","072-779-4651"]
[4134,"県立川西緑台高等学校",3400,"川西緑台","666-0115","川西市向陽台1-8","072-793-0361"]
[4135,"県立川西明峰高等学校",3500,"川西明峰","666-0006","川西市萩原台西2-324","072-757-8826"]
[4136,"県立川西北陵高等学校",3600,"川西北陵","666-0157","川西市緑が丘2-14-1","072-794-7411"]
[4137,"県立猪名川高等学校",3700,"猪名川","666-0233","川辺郡猪名川町紫合字新林4-4","072-766-0101"]
[4138,"県立宝塚高等学校",3800,"宝塚","665-0024","宝塚市逆瀬台2-2-1","0797-71-0345"]
[4139,"県立宝塚東高等学校",3900,"宝塚東","665-0871","宝塚市中山五月台1-12-1","0797-89-3751"]
[4140,"県立宝塚西高等学校",4000,"宝塚西","665-0025","宝塚市ゆずり葉台1-1-1","0797-73-4035"]
[4141,"県立宝塚北高等学校",4100,"宝塚北","665-0847","宝塚市すみれガ丘4-1-1","0797-86-3291"]
[4142,"小林聖心女子学院高等学校",4200,"小林聖心","665-0073","宝塚市塔の町3-113","0797-71-7321"]
[4143,"県立芦屋高等学校",4300,"芦屋","659-0063","芦屋市宮川町6-3","0797-32-2325"]
[4144,"雲雀丘学園高等学校",4400,"雲雀丘","665-0805","宝塚市雲雀丘4-2-1","072-759-1300"]
[4145,"県立国際高等学校",4500,"県国際","659-0031","芦屋市新浜町1-2","0797-35-5931"]
[4146,"芦屋学園高等学校",4600,"芦屋学園","659-0011","芦屋市六麓荘町16-18","0797-31-0666"]
[4147,"甲南高等学校",4700,"甲南","659-0096","芦屋市山手町31-3","0797-31-0551"]
[4148,"県立芦屋国際中等教育学校",4800,"芦国中等","659-0031","芦屋市新浜町1-2","0797-38-2293"]