Workbook

Sheet 入力用
A1: 駅伝申し込み用紙入力シート | H1: 入力手順
A2: 学校番号 | C2: 学校名 | D2: =IF(B2="","",VLOOKUP(B2,学校名!$A$2:$D$49,4,0)) | H2: ①学校番号を入力してください。
A3: 学校長名 | H3: ②学校長名を入力してください。
A5: 男子 | B5: オープン参加 | D5: 種別 | E5: =IF(C5="","",IF(C5=2,"Ｂ",IF(C5=3,"Ｃ",IF(C5=4,"（合同）","不正な値です")))) | H5: ③男子チームのオープン参加のチェックです。通常は空欄でＯＫです。
H6: Bチームの場合2、Cチームの場合3、合同チームの場合4を入力してください。
C7: 登録番号 | D7: 名前 | E7: 学年 | F7: 健康状態
A8: 男子選手 | B8: 1 | D8: =IFERROR(IF(VLOOKUP($C8,男子選手!$B$5:$F$103,2,0)="",VLOOKUP($C8,男子追加!$B$2:$E$20,2,0),VLOOKUP($C8,男子選手!$B$5:$F$103,2,0)),"") | E8: =IFERROR(IF(VLOOKUP($C8,男子選手!$B$5:$F$103,4,0)="",VLOOKUP($C8,男子追加!$B$2:$E$20,4,0),VLOOKUP($C8,男子選手!$B$5:$F$103,4,0)),"") | F8: =IF(D8="","","良 好") | H8: ④男子選手を 登録番号順 に入力してください。
B9: 2 | D9: =IFERROR(IF(VLOOKUP($C9,男子選手!$B$5:$F$103,2,0)="",VLOOKUP($C9,男子追加!$B$2:$E$20,2,0),VLOOKUP($C9,男子選手!$B$5:$F$103,2,0)),"") | E9: =IFERROR(IF(VLOOKUP($C9,男子選手!$B$5:$F$103,4,0)="",VLOOKUP($C9,男子追加!$B$2:$E$20,4,0),VLOOKUP($C9,男子選手!$B$5:$F$103,4,0)),"") | F9: =IF(D9="","","良 好") | H9: ⑤番号を入力しても名前が出ない場合（追加登録選手）は
B10: 3 | D10: =IFERROR(IF(VLOOKUP($C10,男子選手!$B$5:$F$103,2,0)="",VLOOKUP($C10,男子追加!$B$2:$E$20,2,0),VLOOKUP($C10,男子選手!$B$5:$F$103,2,0)),"") | E10: =IFERROR(IF(VLOOKUP($C10,男子選手!$B$5:$F$103,4,0)="",VLOOKUP($C10,男子追加!$B$2:$E$20,4,0),VLOOKUP($C10,男子選手!$B$5:$F$103,4,0)),"") | F10: =IF(D10="","","良 好") | H10: 「男子追加」シートに選手データを手入力で追加してください。
B11: 4 | D11: =IFERROR(IF(VLOOKUP($C11,男子選手!$B$5:$F$103,2,0)="",VLOOKUP($C11,男子追加!$B$2:$E$20,2,0),VLOOKUP($C11,男子選手!$B$5:$F$103,2,0)),"") | E11: =IFERROR(IF(VLOOKUP($C11,男子選手!$B$5:$F$103,4,0)="",VLOOKUP($C11,男子追加!$B$2:$E$20,4,0),VLOOKUP($C11,男子選手!$B$5:$F$103,4,0)),"") | F11: =IF(D11="","","良 好")
B12: 5 | D12: =IFERROR(IF(VLOOKUP($C12,男子選手!$B$5:$F$103,2,0)="",VLOOKUP($C12,男子追加!$B$2:$E$20,2,0),VLOOKUP($C12,男子選手!$B$5:$F$103,2,0)),"") | E12: =IFERROR(IF(VLOOKUP($C12,男子選手!$B$5:$F$103,4,0)="",VLOOKUP($C12,男子追加!$B$2:$E$20,4,0),VLOOKUP($C12,男子選手!$B$5:$F$103,4,0)),"") | F12: =IF(D12="","","良 好")
B13: 6 | D13: =IFERROR(IF(VLOOKUP($C13,男子選手!$B$5:$F$103,2,0)="",VLOOKUP($C13,男子追加!$B$2:$E$20,2,0),VLOOKUP($C13,男子選手!$B$5:$F$103,2,0)),"") | E13: =IFERROR(IF(VLOOKUP($C13,男子選手!$B$5:$F$103,4,0)="",VLOOKUP($C13,男子追加!$B$2:$E$20,4,0),VLOOKUP($C13,男子選手!$B$5:$F$103,4,0)),"") | F13: =IF(D13="","","良 好")
B14: 7 | D14: =IFERROR(IF(VLOOKUP($C14,男子選手!$B$5:$F$103,2,0)="",VLOOKUP($C14,男子追加!$B$2:$E$20,2,0),VLOOKUP($C14,男子選手!$B$5:$F$103,2,0)),"") | E14: =IFERROR(IF(VLOOKUP($C14,男子選手!$B$5:$F$103,4,0)="",VLOOKUP($C14,男子追加!$B$2:$E$20,4,0),VLOOKUP($C14,男子選手!$B$5:$F$103,4,0)),"") | F14: =IF(D14="","","良 好")
B15: 8 | D15: =IFERROR(IF(VLOOKUP($C15,男子選手!$B$5:$F$103,2,0)="",VLOOKUP($C15,男子追加!$B$2:$E$20,2,0),VLOOKUP($C15,男子選手!$B$5:$F$103,2,0)),"") | E15: =IFERROR(IF(VLOOKUP($C15,男子選手!$B$5:$F$103,4,0)="",VLOOKUP($C15,男子追加!$B$2:$E$20,4,0),VLOOKUP($C15,男子選手!$B$5:$F$103,4,0)),"") | F15: =IF(D15="","","良 好")
B16: 9 | D16: =IFERROR(IF(VLOOKUP($C16,男子選手!$B$5:$F$103,2,0)="",VLOOKUP($C16,男子追加!$B$2:$E$20,2,0),VLOOKUP($C16,男子選手!$B$5:$F$103,2,0)),"") | E16: =IFERROR(IF(VLOOKUP($C16,男子選手!$B$5:$F$103,4,0)="",VLOOKUP($C16,男子追加!$B$2:$E$20,4,0),VLOOKUP($C16,男子選手!$B$5:$F$103,4,0)),"") | F16: =IF(D16="","","良 好")
B17: 10 | D17: =IFERROR(IF(VLOOKUP($C17,男子選手!$B$5:$F$103,2,0)="",VLOOKUP($C17,男子追加!$B$2:$E$20,2,0),VLOOKUP($C17,男子選手!$B$5:$F$103,2,0)),"") | E17: =IFERROR(IF(VLOOKUP($C17,男子選手!$B$5:$F$103,4,0)="",VLOOKUP($C17,男子追加!$B$2:$E$20,4,0),VLOOKUP($C17,男子選手!$B$5:$F$103,4,0)),"") | F17: =IF(D17="","","良 好")
A19: 男子 | B19: 主将名 | H19: ⑥主将～役員3 までの名前を入力してください。
B20: 監督名 | H20: ※役員2、3がない場合は空欄で結構です。
B21: 記載責任者名
B22: 競技役員1
B23: 競技役員2
B24: 競技役員3
A27: 女子 | B27: オープン参加 | D27: 種別 | E27: =IF(C27="","",IF(C27=2,"Ｂ",IF(C27=3,"Ｃ",IF(C27=4,"（合同）","不正な値です")))) | H27: ⑦女子チームのオープン参加のチェックです。通常は空欄でＯＫです。
H28: Bチームの場合2、Cチームの場合3、合同チームの場合4を入力してください。
C29: 登録番号 | D29: 名前 | E29: 学年 | F29: 健康状態
A30: 女子選手 | B30: 1 | D30: =IFERROR(IF(VLOOKUP($C30,女子選手!$B$5:$F$103,2,0)="",VLOOKUP($C30,女子追加!$B$2:$E$20,2,0),VLOOKUP($C30,女子選手!$B$5:$F$103,2,0)),"") | E30: =IFERROR(IF(VLOOKUP($C30,女子選手!$B$5:$F$103,4,0)="",VLOOKUP($C30,女子追加!$B$2:$E$20,4,0),VLOOKUP($C30,女子選手!$B$5:$F$103,4,0)),"") | F30: =IF(D30="","","良 好") | H30: ⑧女子選手を 登録番号順 に入力してください。
B31: 2 | D31: =IFERROR(IF(VLOOKUP($C31,女子選手!$B$5:$F$103,2,0)="",VLOOKUP($C31,女子追加!$B$2:$E$20,2,0),VLOOKUP($C31,女子選手!$B$5:$F$103,2,0)),"") | E31: =IFERROR(IF(VLOOKUP($C31,女子選手!$B$5:$F$103,4,0)="",VLOOKUP($C31,女子追加!$B$2:$E$20,4,0),VLOOKUP($C31,女子選手!$B$5:$F$103,4,0)),"") | F31: =IF(D31="","","良 好") | H31: ⑨番号を入力しても名前が出ない場合（追加登録選手）は
B32: 3 | D32: =IFERROR(IF(VLOOKUP($C32,女子選手!$B$5:$F$103,2,0)="",VLOOKUP($C32,女子追加!$B$2:$E$20,2,0),VLOOKUP($C32,女子選手!$B$5:$F$103,2,0)),"") | E32: =IFERROR(IF(VLOOKUP($C32,女子選手!$B$5:$F$103,4,0)="",VLOOKUP($C32,女子追加!$B$2:$E$20,4,0),VLOOKUP($C32,女子選手!$B$5:$F$103,4,0)),"") | F32: =IF(D32="","","良 好") | H32: 「女子追加」シートに選手データを手入力で追加してください。
B33: 4 | D33: =IFERROR(IF(VLOOKUP($C33,女子選手!$B$5:$F$103,2,0)="",VLOOKUP($C33,女子追加!$B$2:$E$20,2,0),VLOOKUP($C33,女子選手!$B$5:$F$103,2,0)),"") | E33: =IFERROR(IF(VLOOKUP($C33,女子選手!$B$5:$F$103,4,0)="",VLOOKUP($C33,女子追加!$B$2:$E$20,4,0),VLOOKUP($C33,女子選手!$B$5:$F$103,4,0)),"") | F33: =IF(D33="","","良 好")
B34: 5 | D34: =IFERROR(IF(VLOOKUP($C34,女子選手!$B$5:$F$103,2,0)="",VLOOKUP($C34,女子追加!$B$2:$E$20,2,0),VLOOKUP($C34,女子選手!$B$5:$F$103,2,0)),"") | E34: =IFERROR(IF(VLOOKUP($C34,女子選手!$B$5:$F$103,4,0)="",VLOOKUP($C34,女子追加!$B$2:$E$20,4,0),VLOOKUP($C34,女子選手!$B$5:$F$103,4,0)),"") | F34: =IF(D34="","","良 好")
B35: 6 | D35: =IFERROR(IF(VLOOKUP($C35,女子選手!$B$5:$F$103,2,0)="",VLOOKUP($C35,女子追加!$B$2:$E$20,2,0),VLOOKUP($C35,女子選手!$B$5:$F$103,2,0)),"") | E35: =IFERROR(IF(VLOOKUP($C35,女子選手!$B$5:$F$103,4,0)="",VLOOKUP($C35,女子追加!$B$2:$E$20,4,0),VLOOKUP($C35,女子選手!$B$5:$F$103,4,0)),"") | F35: =IF(D35="","","良 好")
B36: 7 | D36: =IFERROR(IF(VLOOKUP($C36,女子選手!$B$5:$F$103,2,0)="",VLOOKUP($C36,女子追加!$B$2:$E$20,2,0),VLOOKUP($C36,女子選手!$B$5:$F$103,2,0)),"") | E36: =IFERROR(IF(VLOOKUP($C36,女子選手!$B$5:$F$103,4,0)="",VLOOKUP($C36,女子追加!$B$2:$E$20,4,0),VLOOKUP($C36,女子選手!$B$5:$F$103,4,0)),"") | F36: =IF(D36="","","良 好")
B37: 8 | D37: =IFERROR(IF(VLOOKUP($C37,女子選手!$B$5:$F$103,2,0)="",VLOOKUP($C37,女子追加!$B$2:$E$20,2,0),VLOOKUP($C37,女子選手!$B$5:$F$103,2,0)),"") | E37: =IFERROR(IF(VLOOKUP($C37,女子選手!$B$5:$F$103,4,0)="",VLOOKUP($C37,女子追加!$B$2:$E$20,4,0),VLOOKUP($C37,女子選手!$B$5:$F$103,4,0)),"") | F37: =IF(D37="","","良 好")
A39: 女子 | B39: 主将名 | H39: ⑩主将～役員3 までの名前を入力してください。
B40: 監督名 | H40: ※役員2、3がない場合は空欄で結構です。
B41: 記載責任者名
B42: 競技役員1 | H42: ・完成になります。印刷用シートをチェックしてください。
B43: 競技役員2 | H43: ・ファイル名は 4133伊丹北駅伝 のような形に変更してください。
B44: 競技役員3 | H44: ・合同チームの場合、メール本文に以下２点を忘れずに記載してください。
H45: ●どの学校との合同チームなのか
...

Sheet 印刷用
A1: 第64回 阪神地区高等学校駅伝競走大会
A4: 兼 男子81回 兵庫県高等学校駅伝競走大会阪神地区予選会
H7: 申 込 用 紙
W8: 男子用
A12: 学 校 コード | D12: =IF(入力用!B2="","",入力用!B2) | L12: 学校名 | Q12: =入力用!D2&入力用!E5
A17: No. | C17: 登録番号 | H17: 名 前 | T17: 学年 | W17: 健 康 状 態
A19: 1 | C19: =IF(入力用!C8="","",入力用!C8) | H19: =入力用!D8 | T19: =入力用!E8 | W19: =入力用!F8
A21: 2 | C21: =IF(入力用!C9="","",入力用!C9) | H21: =入力用!D9 | T21: =入力用!E9 | W21: =入力用!F9
A23: 3 | C23: =IF(入力用!C10="","",入力用!C10) | H23: =入力用!D10 | T23: =入力用!E10 | W23: =入力用!F10
A25: 4 | C25: =IF(入力用!C11="","",入力用!C11) | H25: =入力用!D11 | T25: =入力用!E11 | W25: =入力用!F11
A27: 5 | C27: =IF(入力用!C12="","",入力用!C12) | H27: =入力用!D12 | T27: =入力用!E12 | W27: =入力用!F12
A29: 6 | C29: =IF(入力用!C13="","",入力用!C13) | H29: =入力用!D13 | T29: =入力用!E13 | W29: =入力用!F13
A31: 7 | C31: =IF(入力用!C14="","",入力用!C14) | H31: =入力用!D14 | T31: =入力用!E14 | W31: =入力用!F14
A33: 8 | C33: =IF(入力用!C15="","",入力用!C15) | H33: =入力用!D15 | T33: =入力用!E15 | W33: =入力用!F15
A35: 9 | C35: =IF(入力用!C16="","",入力用!C16) | H35: =入力用!D16 | T35: =入力用!E16 | W35: =入力用!F16
A37: 10 | C37: =IF(入力用!C17="","",入力用!C17) | H37: =入力用!D17 | T37: =入力用!E17 | W37: =入力用!F17
U39: ※ 登録番号順に記入すること。
B41: 主 将 名 | H41: =IF(入力用!C19="","",入力用!C19)
B44: 監 督 名 | H44: =IF(入力用!C20="","",入力用!C20) | AA44: =IF(入力用!C21="","",入力用!C21)
T45: 記載責任者名
H47: =IF(入力用!C22="","",入力用!C22) | P47: ・ | Q47: =IF(入力用!C23="","",入力用!C23) | Y47: ・ | Z47: =IF(入力用!C24="","",入力用!C24)
B48: 競技役員名
A53: 学校長名 | F53: =IF(入力用!B3="","",入力用!B3) | S53: 印
A57: 第53回 阪神地区高等学校女子駅伝競走大会
A60: 兼 女子43回 兵庫県高等学校駅伝競走大会阪神地区予選会
H63: 申 込 用 紙
W64: 女子用
A68: 学 校 コード | D68: =IF(入力用!B2="","",入力用!B2) | L68: 学校名 | Q68: =入力用!D2&入力用!E27
A73: No. | C73: 登録番号 | H73: 名 前 | T73: 学年 | W73: 健 康 状 態
A75: 1 | C75: =IF(入力用!C30="","",入力用!C30) | H75: =入力用!D30 | T75: =入力用!E30 | W75: =入力用!F30
A77: 2 | C77: =IF(入力用!C31="","",入力用!C31) | H77: =入力用!D31 | T77: =入力用!E31 | W77: =入力用!F31
A79: 3 | C79: =IF(入力用!C32="","",入力用!C32) | H79: =入力用!D32 | T79: =入力用!E32 | W79: =入力用!F32
A81: 4 | C81: =IF(入力用!C33="","",入力用!C33) | H81: =入力用!D33 | T81: =入力用!E33 | W81: =入力用!F33
A83: 5 | C83: =IF(入力用!C34="","",入力用!C34) | H83: =入力用!D34 | T83: =入力用!E34 | W83: =入力用!F34
A85: 6 | C85: =IF(入力用!C35="","",入力用!C35) | H85: =入力用!D35 | T85: =入力用!E35 | W85: =入力用!F35
A87: 7 | C87: =IF(入力用!C36="","",入力用!C36) | H87: =入力用!D36 | T87: =入力用!E36 | W87: =入力用!F36
A89: 8 | C89: =IF(入力用!C37="","",入力用!C37) | H89: =入力用!D37 | T89: =入力用!E37 | W89: =入力用!F37
U91: ※ 登録番号順に記入すること。
B93: 主 将 名 | H93: =IF(入力用!C39="","",入力用!C39)
B96: 監 督 名 | H96: =IF(入力用!C40="","",入力用!C40) | AA96: =IF(入力用!C41="","",入力用!C41)
...

Sheet 男子選手
B1: このシートは現在登録されている選手が表示されるシートです。
B2: このシートに追加登録選手を直接入力しないでください。
B3: 選手の追加は 「男子追加」 シートにお願いします。
A4: =VLOOKUP(印刷用!D12,学校名!$A$2:$D$50,3,FALSE) -> #N/A | B4: 登録番号 | C4: 名前 | D4: ﾌﾘｶﾞﾅ | E4: 学年 | F4: 所属
A5: 1 | B5: =$A$4+A5 -> #N/A | C5: =IFERROR(VLOOKUP(B5,男子登録!$A$1:$F$1300,5,FALSE),"") | D5: =IFERROR(VLOOKUP(B5,男子登録!$A$1:$D$1300,3,FALSE),"") | E5: =IFERROR(VLOOKUP(B5,男子登録!$A$1:$F$1300,6,FALSE),"") | F5: =IFERROR(VLOOKUP(B5,男子登録!$A$1:$D$1300,4,FALSE),"")
A6: 2 | B6: =$A$4+A6 -> #N/A | C6: =IFERROR(VLOOKUP(B6,男子登録!$A$1:$F$1300,5,FALSE),"") | D6: =IFERROR(VLOOKUP(B6,男子登録!$A$1:$D$1300,3,FALSE),"") | E6: =IFERROR(VLOOKUP(B6,男子登録!$A$1:$F$1300,6,FALSE),"") | F6: =IFERROR(VLOOKUP(B6,男子登録!$A$1:$D$1300,4,FALSE),"")
A7: 3 | B7: =$A$4+A7 -> #N/A | C7: =IFERROR(VLOOKUP(B7,男子登録!$A$1:$F$1300,5,FALSE),"") | D7: =IFERROR(VLOOKUP(B7,男子登録!$A$1:$D$1300,3,FALSE),"") | E7: =IFERROR(VLOOKUP(B7,男子登録!$A$1:$F$1300,6,FALSE),"") | F7: =IFERROR(VLOOKUP(B7,男子登録!$A$1:$D$1300,4,FALSE),"")
A8: 4 | B8: =$A$4+A8 -> #N/A | C8: =IFERROR(VLOOKUP(B8,男子登録!$A$1:$F$1300,5,FALSE),"") | D8: =IFERROR(VLOOKUP(B8,男子登録!$A$1:$D$1300,3,FALSE),"") | E8: =IFERROR(VLOOKUP(B8,男子登録!$A$1:$F$1300,6,FALSE),"") | F8: =IFERROR(VLOOKUP(B8,男子登録!$A$1:$D$1300,4,FALSE),"")
A9: 5 | B9: =$A$4+A9 -> #N/A | C9: =IFERROR(VLOOKUP(B9,男子登録!$A$1:$F$1300,5,FALSE),"") | D9: =IFERROR(VLOOKUP(B9,男子登録!$A$1:$D$1300,3,FALSE),"") | E9: =IFERROR(VLOOKUP(B9,男子登録!$A$1:$F$1300,6,FALSE),"") | F9: =IFERROR(VLOOKUP(B9,男子登録!$A$1:$D$1300,4,FALSE),"")
A10: 6 | B10: =$A$4+A10 -> #N/A | C10: =IFERROR(VLOOKUP(B10,男子登録!$A$1:$F$1300,5,FALSE),"") | D10: =IFERROR(VLOOKUP(B10,男子登録!$A$1:$D$1300,3,FALSE),"") | E10: =IFERROR(VLOOKUP(B10,男子登録!$A$1:$F$1300,6,FALSE),"") | F10: =IFERROR(VLOOKUP(B10,男子登録!$A$1:$D$1300,4,FALSE),"")
A11: 7 | B11: =$A$4+A11 -> #N/A | C11: =IFERROR(VLOOKUP(B11,男子登録!$A$1:$F$1300,5,FALSE),"") | D11: =IFERROR(VLOOKUP(B11,男子登録!$A$1:$D$1300,3,FALSE),"") | E11: =IFERROR(VLOOKUP(B11,男子登録!$A$1:$F$1300,6,FALSE),"") | F11: =IFERROR(VLOOKUP(B11,男子登録!$A$1:$D$1300,4,FALSE),"")
A12: 8 | B12: =$A$4+A12 -> #N/A | C12: =IFERROR(VLOOKUP(B12,男子登録!$A$1:$F$1300,5,FALSE),"") | D12: =IFERROR(VLOOKUP(B12,男子登録!$A$1:$D$1300,3,FALSE),"") | E12: =IFERROR(VLOOKUP(B12,男子登録!$A$1:$F$1300,6,FALSE),"") | F12: =IFERROR(VLOOKUP(B12,男子登録!$A$1:$D$1300,4,FALSE),"")
A13: 9 | B13: =$A$4+A13 -> #N/A | C13: =IFERROR(VLOOKUP(B13,男子登録!$A$1:$F$1300,5,FALSE),"") | D13: =IFERROR(VLOOKUP(B13,男子登録!$A$1:$D$1300,3,FALSE),"") | E13: =IFERROR(VLOOKUP(B13,男子登録!$A$1:$F$1300,6,FALSE),"") | F13: =IFERROR(VLOOKUP(B13,男子登録!$A$1:$D$1300,4,FALSE),"")
A14: 10 | B14: =$A$4+A14 -> #N/A | C14: =IFERROR(VLOOKUP(B14,男子登録!$A$1:$F$1300,5,FALSE),"") | D14: =IFERROR(VLOOKUP(B14,男子登録!$A$1:$D$1300,3,FALSE),"") | E14: =IFERROR(VLOOKUP(B14,男子登録!$A$1:$F$1300,6,FALSE),"") | F14: =IFERROR(VLOOKUP(B14,男子登録!$A$1:$D$1300,4,FALSE),"")
A15: 11 | B15: =$A$4+A15 -> #N/A | C15: =IFERROR(VLOOKUP(B15,男子登録!$A$1:$F$1300,5,FALSE),"") | D15: =IFERROR(VLOOKUP(B15,男子登録!$A$1:$D$1300,3,FALSE),"") | E15: =IFERROR(VLOOKUP(B15,男子登録!$A$1:$F$1300,6,FALSE),"") | F15: =IFERROR(VLOOKUP(B15,男子登録!$A$1:$D$1300,4,FALSE),"")
A16: 12 | B16: =$A$4+A16 -> #N/A | C16: =IFERROR(VLOOKUP(B16,男子登録!$A$1:$F$1300,5,FALSE),"") | D16: =IFERROR(VLOOKUP(B16,男子登録!$A$1:$D$1300,3,FALSE),"") | E16: =IFERROR(VLOOKUP(B16,男子登録!$A$1:$F$1300,6,FALSE),"") | F16: =IFERROR(VLOOKUP(B16,男子登録!$A$1:$D$1300,4,FALSE),"")
... A103: 99 | B103: =$A$4+A103 -> #N/A | C103: =IFERROR(VLOOKUP(B103,男子登録!$A$1:$F$1300,5,FALSE),"") | D103: =IFERROR(VLOOKUP(B103,男子登録!$A$1:$D$1300,3,FALSE),"") | E103: =IFERROR(VLOOKUP(B103,男子登録!$A$1:$F$1300,6,FALSE),"") | F103: =IFERROR(VLOOKUP(B103,男子登録!$A$1:$D$1300,4,FALSE),"")

Sheet 男子追加
B1: 登録番号 | C1: 名前 | D1: ﾌﾘｶﾞﾅ | E1: 学年 | G1: こちらは男子の追加登録用のシートです。
A2: 1 | L2: =B2 -> 0 | M2: =C2&"("&E2&")" -> () | N2: =D2 -> 0
A3: 2 | G3: 名前 | H3: ５文字原則 | I3: 間は半角スペース２つ１セットで | L3: =B3 -> 0 | M3: =C3&"("&E3&")" -> () | N3: =D3 -> 0
A4: 3 | G4: 例 | H4: △△ 〇〇 | I4: △ 〇〇 | J4: △ 〇〇〇 | L4: =B4 -> 0 | M4: =C4&"("&E4&")" -> () | N4: =D4 -> 0
A5: 4 | H5: △△□□□ | I5: △△△ 〇 | J5: など | L5: =B5 -> 0 | M5: =C5&"("&E5&")" -> () | N5: =D5 -> 0
A6: 5 | G6: ﾌﾘｶﾞﾅ | H6: 半角ｶﾀｶﾅ | I6: 間は半角スペース１つ | L6: =B6 -> 0 | M6: =C6&"("&E6&")" -> () | N6: =D6 -> 0
A7: 6 | G7: 学年 | H7: 半角数字 | L7: =B7 -> 0 | M7: =C7&"("&E7&")" -> () | N7: =D7 -> 0
A8: 7 | L8: =B8 -> 0 | M8: =C8&"("&E8&")" -> () | N8: =D8 -> 0
A9: 8 | L9: =B9 -> 0 | M9: =C9&"("&E9&")" -> () | N9: =D9 -> 0
A10: 9 | L10: =B10 -> 0 | M10: =C10&"("&E10&")" -> () | N10: =D10 -> 0
A11: 10 | L11: =B11 -> 0 | M11: =C11&"("&E11&")" -> () | N11: =D11 -> 0
A12: 11 | L12: =B12 -> 0 | M12: =C12&"("&E12&")" -> () | N12: =D12 -> 0
A13: 12 | L13: =B13 -> 0 | M13: =C13&"("&E13&")" -> () | N13: =D13 -> 0
A14: 13 | L14: =B14 -> 0 | M14: =C14&"("&E14&")" -> () | N14: =D14 -> 0
A15: 14 | L15: =B15 -> 0 | M15: =C15&"("&E15&")" -> () | N15: =D15 -> 0
A16: 15 | L16: =B16 -> 0 | M16: =C16&"("&E16&")" -> () | N16: =D16 -> 0
A17: 16 | L17: =B17 -> 0 | M17: =C17&"("&E17&")" -> () | N17: =D17 -> 0
A18: 17 | L18: =B18 -> 0 | M18: =C18&"("&E18&")" -> () | N18: =D18 -> 0
A19: 18 | L19: =B19 -> 0 | M19: =C19&"("&E19&")" -> () | N19: =D19 -> 0
... A21: 20 | L21: =B21 -> 0 | M21: =C21&"("&E21&")" -> () | N21: =D21 -> 0

Sheet 女子選手
B1: このシートは現在登録されている選手が表示されるシートです。
B2: このシートに追加登録選手を直接入力しないでください。
B3: 選手の追加は 「女子追加」 シートにお願いします。
A4: =VLOOKUP(印刷用!D12,学校名!$A$2:$D$50,3,FALSE) -> #N/A | B4: 登録番号 | C4: 名前 | D4: ﾌﾘｶﾞﾅ | E4: 学年 | F4: 所属
A5: 1 | B5: =$A$4+A5 -> #N/A | C5: =IFERROR(VLOOKUP(B5,女子登録!$A$1:$F$1300,5,FALSE),"") | D5: =IFERROR(VLOOKUP(B5,女子登録!$A$1:$D$1300,3,FALSE),"") | E5: =IFERROR(VLOOKUP(B5,女子登録!$A$1:$F$1300,6,FALSE),"") | F5: =IFERROR(VLOOKUP(B5,女子登録!$A$1:$D$1300,4,FALSE),"")
A6: 2 | B6: =$A$4+A6 -> #N/A | C6: =IFERROR(VLOOKUP(B6,女子登録!$A$1:$F$1300,5,FALSE),"") | D6: =IFERROR(VLOOKUP(B6,女子登録!$A$1:$D$1300,3,FALSE),"") | E6: =IFERROR(VLOOKUP(B6,女子登録!$A$1:$F$1300,6,FALSE),"") | F6: =IFERROR(VLOOKUP(B6,女子登録!$A$1:$D$1300,4,FALSE),"")
A7: 3 | B7: =$A$4+A7 -> #N/A | C7: =IFERROR(VLOOKUP(B7,女子登録!$A$1:$F$1300,5,FALSE),"") | D7: =IFERROR(VLOOKUP(B7,女子登録!$A$1:$D$1300,3,FALSE),"") | E7: =IFERROR(VLOOKUP(B7,女子登録!$A$1:$F$1300,6,FALSE),"") | F7: =IFERROR(VLOOKUP(B7,女子登録!$A$1:$D$1300,4,FALSE),"")
A8: 4 | B8: =$A$4+A8 -> #N/A | C8: =IFERROR(VLOOKUP(B8,女子登録!$A$1:$F$1300,5,FALSE),"") | D8: =IFERROR(VLOOKUP(B8,女子登録!$A$1:$D$1300,3,FALSE),"") | E8: =IFERROR(VLOOKUP(B8,女子登録!$A$1:$F$1300,6,FALSE),"") | F8: =IFERROR(VLOOKUP(B8,女子登録!$A$1:$D$1300,4,FALSE),"")
A9: 5 | B9: =$A$4+A9 -> #N/A | C9: =IFERROR(VLOOKUP(B9,女子登録!$A$1:$F$1300,5,FALSE),"") | D9: =IFERROR(VLOOKUP(B9,女子登録!$A$1:$D$1300,3,FALSE),"") | E9: =IFERROR(VLOOKUP(B9,女子登録!$A$1:$F$1300,6,FALSE),"") | F9: =IFERROR(VLOOKUP(B9,女子登録!$A$1:$D$1300,4,FALSE),"")
A10: 6 | B10: =$A$4+A10 -> #N/A | C10: =IFERROR(VLOOKUP(B10,女子登録!$A$1:$F$1300,5,FALSE),"") | D10: =IFERROR(VLOOKUP(B10,女子登録!$A$1:$D$1300,3,FALSE),"") | E10: =IFERROR(VLOOKUP(B10,女子登録!$A$1:$F$1300,6,FALSE),"") | F10: =IFERROR(VLOOKUP(B10,女子登録!$A$1:$D$1300,4,FALSE),"")
A11: 7 | B11: =$A$4+A11 -> #N/A | C11: =IFERROR(VLOOKUP(B11,女子登録!$A$1:$F$1300,5,FALSE),"") | D11: =IFERROR(VLOOKUP(B11,女子登録!$A$1:$D$1300,3,FALSE),"") | E11: =IFERROR(VLOOKUP(B11,女子登録!$A$1:$F$1300,6,FALSE),"") | F11: =IFERROR(VLOOKUP(B11,女子登録!$A$1:$D$1300,4,FALSE),"")
A12: 8 | B12: =$A$4+A12 -> #N/A | C12: =IFERROR(VLOOKUP(B12,女子登録!$A$1:$F$1300,5,FALSE),"") | D12: =IFERROR(VLOOKUP(B12,女子登録!$A$1:$D$1300,3,FALSE),"") | E12: =IFERROR(VLOOKUP(B12,女子登録!$A$1:$F$1300,6,FALSE),"") | F12: =IFERROR(VLOOKUP(B12,女子登録!$A$1:$D$1300,4,FALSE),"")
A13: 9 | B13: =$A$4+A13 -> #N/A | C13: =IFERROR(VLOOKUP(B13,女子登録!$A$1:$F$1300,5,FALSE),"") | D13: =IFERROR(VLOOKUP(B13,女子登録!$A$1:$D$1300,3,FALSE),"") | E13: =IFERROR(VLOOKUP(B13,女子登録!$A$1:$F$1300,6,FALSE),"") | F13: =IFERROR(VLOOKUP(B13,女子登録!$A$1:$D$1300,4,FALSE),"")
A14: 10 | B14: =$A$4+A14 -> #N/A | C14: =IFERROR(VLOOKUP(B14,女子登録!$A$1:$F$1300,5,FALSE),"") | D14: =IFERROR(VLOOKUP(B14,女子登録!$A$1:$D$1300,3,FALSE),"") | E14: =IFERROR(VLOOKUP(B14,女子登録!$A$1:$F$1300,6,FALSE),"") | F14: =IFERROR(VLOOKUP(B14,女子登録!$A$1:$D$1300,4,FALSE),"")
A15: 11 | B15: =$A$4+A15 -> #N/A | C15: =IFERROR(VLOOKUP(B15,女子登録!$A$1:$F$1300,5,FALSE),"") | D15: =IFERROR(VLOOKUP(B15,女子登録!$A$1:$D$1300,3,FALSE),"") | E15: =IFERROR(VLOOKUP(B15,女子登録!$A$1:$F$1300,6,FALSE),"") | F15: =IFERROR(VLOOKUP(B15,女子登録!$A$1:$D$1300,4,FALSE),"")
A16: 12 | B16: =$A$4+A16 -> #N/A | C16: =IFERROR(VLOOKUP(B16,女子登録!$A$1:$F$1300,5,FALSE),"") | D16: =IFERROR(VLOOKUP(B16,女子登録!$A$1:$D$1300,3,FALSE),"") | E16: =IFERROR(VLOOKUP(B16,女子登録!$A$1:$F$1300,6,FALSE),"") | F16: =IFERROR(VLOOKUP(B16,女子登録!$A$1:$D$1300,4,FALSE),"")
... A103: 99 | B103: =$A$4+A103 -> #N/A | C103: =IFERROR(VLOOKUP(B103,女子登録!$A$1:$F$1300,5,FALSE),"") | D103: =IFERROR(VLOOKUP(B103,女子登録!$A$1:$D$1300,3,FALSE),"") | E103: =IFERROR(VLOOKUP(B103,女子登録!$A$1:$F$1300,6,FALSE),"") | F103: =IFERROR(VLOOKUP(B103,女子登録!$A$1:$D$1300,4,FALSE),"")

Sheet 女子追加
B1: 登録番号 | C1: 名前 | D1: ﾌﾘｶﾞﾅ | E1: 学年 | G1: こちらは女子の追加登録用のシートです。
A2: 1 | L2: =B2 -> 0 | M2: =C2&"("&E2&")" -> () | N2: =D2 -> 0
A3: 2 | G3: 名前 | H3: ５文字原則 | I3: 間は半角スペース２つ１セットで | L3: =B3 -> 0 | M3: =C3&"("&E3&")" -> () | N3: =D3 -> 0
A4: 3 | G4: 例 | H4: △△ 〇〇 | I4: △ 〇〇 | J4: △ 〇〇〇 | L4: =B4 -> 0 | M4: =C4&"("&E4&")" -> () | N4: =D4 -> 0
A5: 4 | H5: △△□□□ | I5: △△△ 〇 | J5: など | L5: =B5 -> 0 | M5: =C5&"("&E5&")" -> () | N5: =D5 -> 0
A6: 5 | G6: ﾌﾘｶﾞﾅ | H6: 半角ｶﾀｶﾅ | I6: 間は半角スペース１つ | L6: =B6 -> 0 | M6: =C6&"("&E6&")" -> () | N6: =D6 -> 0
A7: 6 | G7: 学年 | H7: 半角数字 | L7: =B7 -> 0 | M7: =C7&"("&E7&")" -> () | N7: =D7 -> 0
A8: 7 | L8: =B8 -> 0 | M8: =C8&"("&E8&")" -> () | N8: =D8 -> 0
A9: 8 | L9: =B9 -> 0 | M9: =C9&"("&E9&")" -> () | N9: =D9 -> 0
A10: 9 | L10: =B10 -> 0 | M10: =C10&"("&E10&")" -> () | N10: =D10 -> 0
A11: 10 | L11: =B11 -> 0 | M11: =C11&"("&E11&")" -> () | N11: =D11 -> 0
A12: 11 | L12: =B12 -> 0 | M12: =C12&"("&E12&")" -> () | N12: =D12 -> 0
A13: 12 | L13: =B13 -> 0 | M13: =C13&"("&E13&")" -> () | N13: =D13 -> 0
A14: 13 | L14: =B14 -> 0 | M14: =C14&"("&E14&")" -> () | N14: =D14 -> 0
A15: 14 | L15: =B15 -> 0 | M15: =C15&"("&E15&")" -> () | N15: =D15 -> 0
A16: 15 | L16: =B16 -> 0 | M16: =C16&"("&E16&")" -> () | N16: =D16 -> 0
A17: 16 | L17: =B17 -> 0 | M17: =C17&"("&E17&")" -> () | N17: =D17 -> 0
A18: 17 | L18: =B18 -> 0 | M18: =C18&"("&E18&")" -> () | N18: =D18 -> 0
A19: 18 | L19: =B19 -> 0 | M19: =C19&"("&E19&")" -> () | N19: =D19 -> 0
... A21: 20 | L21: =B21 -> 0 | M21: =C21&"("&E21&")" -> () | N21: =D21 -> 0

Sheet 男子登録
A1: No. | B1: 名前 | C1: フリガナ | D1: 校名
A2: 101 | B2: 伊藤 瑛(1) | C2: ｲﾄｳ ｱｷ | D2: 県 尼 崎 | E2: =IF(B2="","",IF(ISNUMBER(F2),LEFT(B2,LEN(B2)-3),LEFT(B2,LEN(B2)-1))) -> 伊藤 瑛 | F2: =IF(B2="","",VALUE(MID(B2,LEN(B2)-1,1))) -> 1
A3: 102 | B3: 高橋 颯吉(2) | C3: ﾀｶﾊｼ ｻｷﾁ | D3: 県 尼 崎 | E3: =IF(B3="","",IF(ISNUMBER(F3),LEFT(B3,LEN(B3)-3),LEFT(B3,LEN(B3)-1))) -> 高橋 颯吉 | F3: =IF(B3="","",VALUE(MID(B3,LEN(B3)-1,1))) -> 2
A4: 103 | B4: 志水 翔真(1) | C4: ｼﾐｽﾞ ｼｮｳﾏ | D4: 県 尼 崎 | E4: =IF(B4="","",IF(ISNUMBER(F4),LEFT(B4,LEN(B4)-3),LEFT(B4,LEN(B4)-1))) -> 志水 翔真 | F4: =IF(B4="","",VALUE(MID(B4,LEN(B4)-1,1))) -> 1
A5: 104 | B5: 大津 隼琉(1) | C5: ｵｵﾂ ﾊﾙ | D5: 県 尼 崎 | E5: =IF(B5="","",IF(ISNUMBER(F5),LEFT(B5,LEN(B5)-3),LEFT(B5,LEN(B5)-1))) -> 大津 隼琉 | F5: =IF(B5="","",VALUE(MID(B5,LEN(B5)-1,1))) -> 1
A6: 105 | B6: 仁木 悠斗(1) | C6: ﾆｷ ﾊﾙﾄ | D6: 県 尼 崎 | E6: =IF(B6="","",IF(ISNUMBER(F6),LEFT(B6,LEN(B6)-3),LEFT(B6,LEN(B6)-1))) -> 仁木 悠斗 | F6: =IF(B6="","",VALUE(MID(B6,LEN(B6)-1,1))) -> 1
A7: 106 | B7: 谷口 稜介(1) | C7: ﾀﾆｸﾞﾁ ﾘｮｳｽｹ | D7: 県 尼 崎 | E7: =IF(B7="","",IF(ISNUMBER(F7),LEFT(B7,LEN(B7)-3),LEFT(B7,LEN(B7)-1))) -> 谷口 稜介 | F7: =IF(B7="","",VALUE(MID(B7,LEN(B7)-1,1))) -> 1
A8: 107 | B8: 佐々木遥希(1) | C8: ｻｻｷ ﾊﾙｷ | D8: 県 尼 崎 | E8: =IF(B8="","",IF(ISNUMBER(F8),LEFT(B8,LEN(B8)-3),LEFT(B8,LEN(B8)-1))) -> 佐々木遥希 | F8: =IF(B8="","",VALUE(MID(B8,LEN(B8)-1,1))) -> 1
A9: 108 | B9: 三原 夢叶(1) | C9: ﾐﾊﾗ ﾊﾙﾄ | D9: 県 尼 崎 | E9: =IF(B9="","",IF(ISNUMBER(F9),LEFT(B9,LEN(B9)-3),LEFT(B9,LEN(B9)-1))) -> 三原 夢叶 | F9: =IF(B9="","",VALUE(MID(B9,LEN(B9)-1,1))) -> 1
A10: 109 | B10: 森内 健世(1) | C10: ﾓﾘｳﾁ ｹﾝｾｲ | D10: 県 尼 崎 | E10: =IF(B10="","",IF(ISNUMBER(F10),LEFT(B10,LEN(B10)-3),LEFT(B10,LEN(B10)-1))) -> 森内 健世 | F10: =IF(B10="","",VALUE(MID(B10,LEN(B10)-1,1))) -> 1
A11: 178 | B11: 小林 哲大(3) | C11: ｺﾊﾞﾔｼ ﾃｯﾀ | D11: 県 尼 崎 | E11: =IF(B11="","",IF(ISNUMBER(F11),LEFT(B11,LEN(B11)-3),LEFT(B11,LEN(B11)-1))) -> 小林 哲大 | F11: =IF(B11="","",VALUE(MID(B11,LEN(B11)-1,1))) -> 3
A12: 179 | B12: 矢吹 亮磨(3) | C12: ﾔﾌﾞｷ ﾘｮｳﾏ | D12: 県 尼 崎 | E12: =IF(B12="","",IF(ISNUMBER(F12),LEFT(B12,LEN(B12)-3),LEFT(B12,LEN(B12)-1))) -> 矢吹 亮磨 | F12: =IF(B12="","",VALUE(MID(B12,LEN(B12)-1,1))) -> 3
A13: 180 | B13: 杉村 聡太(3) | C13: ｽｷﾞﾑﾗ ｿｳﾀ | D13: 県 尼 崎 | E13: =IF(B13="","",IF(ISNUMBER(F13),LEFT(B13,LEN(B13)-3),LEFT(B13,LEN(B13)-1))) -> 杉村 聡太 | F13: =IF(B13="","",VALUE(MID(B13,LEN(B13)-1,1))) -> 3
... A911: 4814 | B911: 藤原 有毅(2) | C911: ﾌｼﾞﾜﾗ ﾕｳｷ | D911: 芦国中等 | E911: =IF(B911="","",IF(ISNUMBER(F911),LEFT(B911,LEN(B911)-3),LEFT(B911,LEN(B911)-1))) -> 藤原 有毅 | F911: =IF(B911="","",VALUE(MID(B911,LEN(B911)-1,1))) -> 2
D912: =IF(A912="","",VLOOKUP(4100+ROUNDDOWN(A912/100,0),学校名!$A$2:$D$49,4,0)) | E912: =IF(B912="","",IF(ISNUMBER(F912),LEFT(B912,LEN(B912)-3),LEFT(B912,LEN(B912)-1))) | F912: =IF(B912="","",VALUE(MID(B912,LEN(B912)-1,1)))
D913: =IF(A913="","",VLOOKUP(4100+ROUNDDOWN(A913/100,0),学校名!$A$2:$D$49,4,0)) | E913: =IF(B913="","",IF(ISNUMBER(F913),LEFT(B913,LEN(B913)-3),LEFT(B913,LEN(B913)-1))) | F913: =IF(B913="","",VALUE(MID(B913,LEN(B913)-1,1)))
D914: =IF(A914="","",VLOOKUP(4100+ROUNDDOWN(A914/100,0),学校名!$A$2:$D$49,4,0)) | E914: =IF(B914="","",IF(ISNUMBER(F914),LEFT(B914,LEN(B914)-3),LEFT(B914,LEN(B914)-1))) | F914: =IF(B914="","",VALUE(MID(B914,LEN(B914)-1,1)))
D915: =IF(A915="","",VLOOKUP(4100+ROUNDDOWN(A915/100,0),学校名!$A$2:$D$49,4,0)) | E915: =IF(B915="","",IF(ISNUMBER(F915),LEFT(B915,LEN(B915)-3),LEFT(B915,LEN(B915)-1))) | F915: =IF(B915="","",VALUE(MID(B915,LEN(B915)-1,1)))
D916: =IF(A916="","",VLOOKUP(4100+ROUNDDOWN(A916/100,0),学校名!$A$2:$D$49,4,0)) | E916: =IF(B916="","",IF(ISNUMBER(F916),LEFT(B916,LEN(B916)-3),LEFT(B916,LEN(B916)-1))) | F916: =IF(B916="","",VALUE(MID(B916,LEN(B916)-1,1)))
D917: =IF(A917="","",VLOOKUP(4100+ROUNDDOWN(A917/100,0),学校名!$A$2:$D$49,4,0)) | E917: =IF(B917="","",IF(ISNUMBER(F917),LEFT(B917,LEN(B917)-3),LEFT(B917,LEN(B917)-1))) | F917: =IF(B917="","",VALUE(MID(B917,LEN(B917)-1,1)))
D918: =IF(A918="","",VLOOKUP(4100+ROUNDDOWN(A918/100,0),学校名!$A$2:$D$49,4,0)) | E918: =IF(B918="","",IF(ISNUMBER(F918),LEFT(B918,LEN(B918)-3),LEFT(B918,LEN(B918)-1))) | F918: =IF(B918="","",VALUE(MID(B918,LEN(B918)-1,1)))
D919: =IF(A919="","",VLOOKUP(4100+ROUNDDOWN(A919/100,0),学校名!$A$2:$D$49,4,0)) | E919: =IF(B919="","",IF(ISNUMBER(F919),LEFT(B919,LEN(B919)-3),LEFT(B919,LEN(B919)-1))) | F919: =IF(B919="","",VALUE(MID(B919,LEN(B919)-1,1)))
D920: =IF(A920="","",VLOOKUP(4100+ROUNDDOWN(A920/100,0),学校名!$A$2:$D$49,4,0)) | E920: =IF(B920="","",IF(ISNUMBER(F920),LEFT(B920,LEN(B920)-3),LEFT(B920,LEN(B920)-1))) | F920: =IF(B920="","",VALUE(MID(B920,LEN(B920)-1,1)))
D921: =IF(A921="","",VLOOKUP(4100+ROUNDDOWN(A921/100,0),学校名!$A$2:$D$49,4,0)) | E921: =IF(B921="","",IF(ISNUMBER(F921),LEFT(B921,LEN(B921)-3),LEFT(B921,LEN(B921)-1))) | F921: =IF(B921="","",VALUE(MID(B921,LEN(B921)-1,1)))
D922: =IF(A922="","",VLOOKUP(4100+ROUNDDOWN(A922/100,0),学校名!$A$2:$D$49,4,0)) | E922: =IF(B922="","",IF(ISNUMBER(F922),LEFT(B922,LEN(B922)-3),LEFT(B922,LEN(B922)-1))) | F922: =IF(B922="","",VALUE(MID(B922,LEN(B922)-1,1)))
D923: =IF(A923="","",VLOOKUP(4100+ROUNDDOWN(A923/100,0),学校名!$A$2:$D$49,4,0)) | E923: =IF(B923="","",IF(ISNUMBER(F923),LEFT(B923,LEN(B923)-3),LEFT(B923,LEN(B923)-1))) | F923: =IF(B923="","",VALUE(MID(B923,LEN(B923)-1,1)))
... D1000: =IF(A1000="","",VLOOKUP(4100+ROUNDDOWN(A1000/100,0),学校名!$A$2:$D$49,4,0)) | E1000: =IF(B1000="","",IF(ISNUMBER(F1000),LEFT(B1000,LEN(B1000)-3),LEFT(B1000,LEN(B1000)-1))) | F1000: =IF(B1000="","",VALUE(MID(B1000,LEN(B1000)-1,1)))

Sheet 男子作業用
A1: No. | B1: 名前 | C1: フリガナ | D1: DB | E1: N1 | F1: N2 | G1: SX | H1: KC | I1: MC
A2: =IFERROR(IF(男子登録!A2="",INDEX(男子追加!$L$2:$N$21,ROW()-1-COUNT(男子登録!$A$2:$A$1500),COLUMN()),男子登録!A2),"") -> 101 | B2: =IFERROR(IF(男子登録!B2="",INDEX(男子追加!$L$2:$N$21,ROW()-1-COUNT(男子登録!$A$2:$A$1500),COLUMN()),男子登録!B2),"") -> 伊藤 瑛(1) | C2: =IFERROR(IF(男子登録!C2="",INDEX(男子追加!$L$2:$N$21,ROW()-1-COUNT(男子登録!$A$2:$A$1500),COLUMN()),男子登録!C2),"") -> ｲﾄｳ ｱｷ | D2: =IF(OR($A2=0,$A2=""),"",A2+128410000) -> 128410101 | E2: =IF(OR($A2=0,$A2=""),"",B2) -> 伊藤 瑛(1) | F2: =IF(OR($A2=0,$A2=""),"",C2) -> ｲﾄｳ ｱｷ | G2: 1 | H2: 28 | I2: =H2*10000+4100+INT(A2/100) -> 284101
A3: =IFERROR(IF(男子登録!A3="",INDEX(男子追加!$L$2:$N$21,ROW()-1-COUNT(男子登録!$A$2:$A$1500),COLUMN()),男子登録!A3),"") -> 102 | B3: =IFERROR(IF(男子登録!B3="",INDEX(男子追加!$L$2:$N$21,ROW()-1-COUNT(男子登録!$A$2:$A$1500),COLUMN()),男子登録!B3),"") -> 高橋 颯吉(2) | C3: =IFERROR(IF(男子登録!C3="",INDEX(男子追加!$L$2:$N$21,ROW()-1-COUNT(男子登録!$A$2:$A$1500),COLUMN()),男子登録!C3),"") -> ﾀｶﾊｼ ｻｷﾁ | D3: =IF(OR($A3=0,$A3=""),"",A3+128410000) -> 128410102 | E3: =IF(OR($A3=0,$A3=""),"",B3) -> 高橋 颯吉(2) | F3: =IF(OR($A3=0,$A3=""),"",C3) -> ﾀｶﾊｼ ｻｷﾁ | G3: 1 | H3: 28 | I3: =H3*10000+4100+INT(A3/100) -> 284101
A4: =IFERROR(IF(男子登録!A4="",INDEX(男子追加!$L$2:$N$21,ROW()-1-COUNT(男子登録!$A$2:$A$1500),COLUMN()),男子登録!A4),"") -> 103 | B4: =IFERROR(IF(男子登録!B4="",INDEX(男子追加!$L$2:$N$21,ROW()-1-COUNT(男子登録!$A$2:$A$1500),COLUMN()),男子登録!B4),"") -> 志水 翔真(1) | C4: =IFERROR(IF(男子登録!C4="",INDEX(男子追加!$L$2:$N$21,ROW()-1-COUNT(男子登録!$A$2:$A$1500),COLUMN()),男子登録!C4),"") -> ｼﾐｽﾞ ｼｮｳﾏ | D4: =IF(OR($A4=0,$A4=""),"",A4+128410000) -> 128410103 | E4: =IF(OR($A4=0,$A4=""),"",B4) -> 志水 翔真(1) | F4: =IF(OR($A4=0,$A4=""),"",C4) -> ｼﾐｽﾞ ｼｮｳﾏ | G4: 1 | H4: 28 | I4: =H4*10000+4100+INT(A4/100) -> 284101
A5: =IFERROR(IF(男子登録!A5="",INDEX(男子追加!$L$2:$N$21,ROW()-1-COUNT(男子登録!$A$2:$A$1500),COLUMN()),男子登録!A5),"") -> 104 | B5: =IFERROR(IF(男子登録!B5="",INDEX(男子追加!$L$2:$N$21,ROW()-1-COUNT(男子登録!$A$2:$A$1500),COLUMN()),男子登録!B5),"") -> 大津 隼琉(1) | C5: =IFERROR(IF(男子登録!C5="",INDEX(男子追加!$L$2:$N$21,ROW()-1-COUNT(男子登録!$A$2:$A$1500),COLUMN()),男子登録!C5),"") -> ｵｵﾂ ﾊﾙ | D5: =IF(OR($A5=0,$A5=""),"",A5+128410000) -> 128410104 | E5: =IF(OR($A5=0,$A5=""),"",B5) -> 大津 隼琉(1) | F5: =IF(OR($A5=0,$A5=""),"",C5) -> ｵｵﾂ ﾊﾙ | G5: 1 | H5: 28 | I5: =H5*10000+4100+INT(A5/100) -> 284101
A6: =IFERROR(IF(男子登録!A6="",INDEX(男子追加!$L$2:$N$21,ROW()-1-COUNT(男子登録!$A$2:$A$1500),COLUMN()),男子登録!A6),"") -> 105 | B6: =IFERROR(IF(男子登録!B6="",INDEX(男子追加!$L$2:$N$21,ROW()-1-COUNT(男子登録!$A$2:$A$1500),COLUMN()),男子登録!B6),"") -> 仁木 悠斗(1) | C6: =IFERROR(IF(男子登録!C6="",INDEX(男子追加!$L$2:$N$21,ROW()-1-COUNT(男子登録!$A$2:$A$1500),COLUMN()),男子登録!C6),"") -> ﾆｷ ﾊﾙﾄ | D6: =IF(OR($A6=0,$A6=""),"",A6+128410000) -> 128410105 | E6: =IF(OR($A6=0,$A6=""),"",B6) -> 仁木 悠斗(1) | F6: =IF(OR($A6=0,$A6=""),"",C6) -> ﾆｷ ﾊﾙﾄ | G6: 1 | H6: 28 | I6: =H6*10000+4100+INT(A6/100) -> 284101
A7: =IFERROR(IF(男子登録!A7="",INDEX(男子追加!$L$2:$N$21,ROW()-1-COUNT(男子登録!$A$2:$A$1500),COLUMN()),男子登録!A7),"") -> 106 | B7: =IFERROR(IF(男子登録!B7="",INDEX(男子追加!$L$2:$N$21,ROW()-1-COUNT(男子登録!$A$2:$A$1500),COLUMN()),男子登録!B7),"") -> 谷口 稜介(1) | C7: =IFERROR(IF(男子登録!C7="",INDEX(男子追加!$L$2:$N$21,ROW()-1-COUNT(男子登録!$A$2:$A$1500),COLUMN()),男子登録!C7),"") -> ﾀﾆｸﾞﾁ ﾘｮｳｽｹ | D7: =IF(OR($A7=0,$A7=""),"",A7+128410000) -> 128410106 | E7: =IF(OR($A7=0,$A7=""),"",B7) -> 谷口 稜介(1) | F7: =IF(OR($A7=0,$A7=""),"",C7) -> ﾀﾆｸﾞﾁ ﾘｮｳｽｹ | G7: 1 | H7: 28 | I7: =H7*10000+4100+INT(A7/100) -> 284101
A8: =IFERROR(IF(男子登録!A8="",INDEX(男子追加!$L$2:$N$21,ROW()-1-COUNT(男子登録!$A$2:$A$1500),COLUMN()),男子登録!A8),"") -> 107 | B8: =IFERROR(IF(男子登録!B8="",INDEX(男子追加!$L$2:$N$21,ROW()-1-COUNT(男子登録!$A$2:$A$1500),COLUMN()),男子登録!B8),"") -> 佐々木遥希(1) | C8: =IFERROR(IF(男子登録!C8="",INDEX(男子追加!$L$2:$N$21,ROW()-1-COUNT(男子登録!$A$2:$A$1500),COLUMN()),男子登録!C8),"") -> ｻｻｷ ﾊﾙｷ | D8: =IF(OR($A8=0,$A8=""),"",A8+128410000) -> 128410107 | E8: =IF(OR($A8=0,$A8=""),"",B8) -> 佐々木遥希(1) | F8: =IF(OR($A8=0,$A8=""),"",C8) -> ｻｻｷ ﾊﾙｷ | G8: 1 | H8: 28 | I8: =H8*10000+4100+INT(A8/100) -> 284101
A9: =IFERROR(IF(男子登録!A9="",INDEX(男子追加!$L$2:$N$21,ROW()-1-COUNT(男子登録!$A$2:$A$1500),COLUMN()),男子登録!A9),"") -> 108 | B9: =IFERROR(IF(男子登録!B9="",INDEX(男子追加!$L$2:$N$21,ROW()-1-COUNT(男子登録!$A$2:$A$1500),COLUMN()),男子登録!B9),"") -> 三原 夢叶(1) | C9: =IFERROR(IF(男子登録!C9="",INDEX(男子追加!$L$2:$N$21,ROW()-1-COUNT(男子登録!$A$2:$A$1500),COLUMN()),男子登録!C9),"") -> ﾐﾊﾗ ﾊﾙﾄ | D9: =IF(OR($A9=0,$A9=""),"",A9+128410000) -> 128410108 | E9: =IF(OR($A9=0,$A9=""),"",B9) -> 三原 夢叶(1) | F9: =IF(OR($A9=0,$A9=""),"",C9) -> ﾐﾊﾗ ﾊﾙﾄ | G9: 1 | H9: 28 | I9: =H9*10000+4100+INT(A9/100) -> 284101
A10: =IFERROR(IF(男子登録!A10="",INDEX(男子追加!$L$2:$N$21,ROW()-1-COUNT(男子登録!$A$2:$A$1500),COLUMN()),男子登録!A10),"") -> 109 | B10: =IFERROR(IF(男子登録!B10="",INDEX(男子追加!$L$2:$N$21,ROW()-1-COUNT(男子登録!$A$2:$A$1500),COLUMN()),男子登録!B10),"") -> 森内 健世(1) | C10: =IFERROR(IF(男子登録!C10="",INDEX(男子追加!$L$2:$N$21,ROW()-1-COUNT(男子登録!$A$2:$A$1500),COLUMN()),男子登録!C10),"") -> ﾓﾘｳﾁ ｹﾝｾｲ | D10: =IF(OR($A10=0,$A10=""),"",A10+128410000) -> 128410109 | E10: =IF(OR($A10=0,$A10=""),"",B10) -> 森内 健世(1) | F10: =IF(OR($A10=0,$A10=""),"",C10) -> ﾓﾘｳﾁ ｹﾝｾｲ | G10: 1 | H10: 28 | I10: =H10*10000+4100+INT(A10/100) -> 284101
A11: =IFERROR(IF(男子登録!A11="",INDEX(男子追加!$L$2:$N$21,ROW()-1-COUNT(男子登録!$A$2:$A$1500),COLUMN()),男子登録!A11),"") -> 178 | B11: =IFERROR(IF(男子登録!B11="",INDEX(男子追加!$L$2:$N$21,ROW()-1-COUNT(男子登録!$A$2:$A$1500),COLUMN()),男子登録!B11),"") -> 小林 哲大(3) | C11: =IFERROR(IF(男子登録!C11="",INDEX(男子追加!$L$2:$N$21,ROW()-1-COUNT(男子登録!$A$2:$A$1500),COLUMN()),男子登録!C11),"") -> ｺﾊﾞﾔｼ ﾃｯﾀ | D11: =IF(OR($A11=0,$A11=""),"",A11+128410000) -> 128410178 | E11: =IF(OR($A11=0,$A11=""),"",B11) -> 小林 哲大(3) | F11: =IF(OR($A11=0,$A11=""),"",C11) -> ｺﾊﾞﾔｼ ﾃｯﾀ | G11: 1 | H11: 28 | I11: =H11*10000+4100+INT(A11/100) -> 284101
A12: =IFERROR(IF(男子登録!A12="",INDEX(男子追加!$L$2:$N$21,ROW()-1-COUNT(男子登録!$A$2:$A$1500),COLUMN()),男子登録!A12),"") -> 179 | B12: =IFERROR(IF(男子登録!B12="",INDEX(男子追加!$L$2:$N$21,ROW()-1-COUNT(男子登録!$A$2:$A$1500),COLUMN()),男子登録!B12),"") -> 矢吹 亮磨(3) | C12: =IFERROR(IF(男子登録!C12="",INDEX(男子追加!$L$2:$N$21,ROW()-1-COUNT(男子登録!$A$2:$A$1500),COLUMN()),男子登録!C12),"") -> ﾔﾌﾞｷ ﾘｮｳﾏ | D12: =IF(OR($A12=0,$A12=""),"",A12+128410000) -> 128410179 | E12: =IF(OR($A12=0,$A12=""),"",B12) -> 矢吹 亮磨(3) | F12: =IF(OR($A12=0,$A12=""),"",C12) -> ﾔﾌﾞｷ ﾘｮｳﾏ | G12: 1 | H12: 28 | I12: =H12*10000+4100+INT(A12/100) -> 284101
A13: =IFERROR(IF(男子登録!A13="",INDEX(男子追加!$L$2:$N$21,ROW()-1-COUNT(男子登録!$A$2:$A$1500),COLUMN()),男子登録!A13),"") -> 180 | B13: =IFERROR(IF(男子登録!B13="",INDEX(男子追加!$L$2:$N$21,ROW()-1-COUNT(男子登録!$A$2:$A$1500),COLUMN()),男子登録!B13),"") -> 杉村 聡太(3) | C13: =IFERROR(IF(男子登録!C13="",INDEX(男子追加!$L$2:$N$21,ROW()-1-COUNT(男子登録!$A$2:$A$1500),COLUMN()),男子登録!C13),"") -> ｽｷﾞﾑﾗ ｿｳﾀ | D13: =IF(OR($A13=0,$A13=""),"",A13+128410000) -> 128410180 | E13: =IF(OR($A13=0,$A13=""),"",B13) -> 杉村 聡太(3) | F13: =IF(OR($A13=0,$A13=""),"",C13) -> ｽｷﾞﾑﾗ ｿｳﾀ | G13: 1 | H13: 28 | I13: =H13*10000+4100+INT(A13/100) -> 284101
... A1500: =IFERROR(IF(男子登録!A1500="",INDEX(男子追加!$L$2:$N$21,ROW()-1-COUNT(男子登録!$A$2:$A$1500),COLUMN()),男子登録!A1500),"") | B1500: =IFERROR(IF(男子登録!B1500="",INDEX(男子追加!$L$2:$N$21,ROW()-1-COUNT(男子登録!$A$2:$A$1500),COLUMN()),男子登録!B1500),"") | C1500: =IFERROR(IF(男子登録!C1500="",INDEX(男子追加!$L$2:$N$21,ROW()-1-COUNT(男子登録!$A$2:$A$1500),COLUMN()),男子登録!C1500),"") | D1500: =IF(OR($A1500=0,$A1500=""),"",A1500+128410000) | E1500: =IF(OR($A1500=0,$A1500=""),"",B1500) | F1500: =IF(OR($A1500=0,$A1500=""),"",C1500) | G1500: 1 | H1500: 28 | I1500: =H1500*10000+4100+INT(A1500/100) -> #VALUE!

Sheet 女子登録
A1: No. | B1: 名前 | C1: フリガナ | D1: 校名
A2: 187 | B2: 田中 はる(3) | C2: ﾀﾅｶ ﾊﾙ | D2: 県 尼 崎 | E2: =IF(B2="","",IF(ISNUMBER(F2),LEFT(B2,LEN(B2)-3),LEFT(B2,LEN(B2)-1))) -> 田中 はる | F2: =IF(B2="","",VALUE(MID(B2,LEN(B2)-1,1))) -> 3
A3: 190 | B3: 得能 瑠莉(2) | C3: ﾄｸﾉｳ ﾙﾘ | D3: 県 尼 崎 | E3: =IF(B3="","",IF(ISNUMBER(F3),LEFT(B3,LEN(B3)-3),LEFT(B3,LEN(B3)-1))) -> 得能 瑠莉 | F3: =IF(B3="","",VALUE(MID(B3,LEN(B3)-1,1))) -> 2
A4: 191 | B4: 宮 真奈佳(2) | C4: ﾐﾔ ﾏﾅｶ | D4: 県 尼 崎 | E4: =IF(B4="","",IF(ISNUMBER(F4),LEFT(B4,LEN(B4)-3),LEFT(B4,LEN(B4)-1))) -> 宮 真奈佳 | F4: =IF(B4="","",VALUE(MID(B4,LEN(B4)-1,1))) -> 2
A5: 192 | B5: 寺﨑 杏(2) | C5: ﾃﾗｻｷ ｱﾝｽﾞ | D5: 県 尼 崎 | E5: =IF(B5="","",IF(ISNUMBER(F5),LEFT(B5,LEN(B5)-3),LEFT(B5,LEN(B5)-1))) -> 寺﨑 杏 | F5: =IF(B5="","",VALUE(MID(B5,LEN(B5)-1,1))) -> 2
A6: 193 | B6: 円山 凛緒(2) | C6: ﾏﾙﾔﾏ ﾘｵ | D6: 県 尼 崎 | E6: =IF(B6="","",IF(ISNUMBER(F6),LEFT(B6,LEN(B6)-3),LEFT(B6,LEN(B6)-1))) -> 円山 凛緒 | F6: =IF(B6="","",VALUE(MID(B6,LEN(B6)-1,1))) -> 2
A7: 195 | B7: 鰕原 希(2) | C7: ｴﾋﾞﾊﾗ ﾉｿﾞﾐ | D7: 県 尼 崎 | E7: =IF(B7="","",IF(ISNUMBER(F7),LEFT(B7,LEN(B7)-3),LEFT(B7,LEN(B7)-1))) -> 鰕原 希 | F7: =IF(B7="","",VALUE(MID(B7,LEN(B7)-1,1))) -> 2
A8: 196 | B8: 磯橋 知那(1) | C8: ｲｿﾊｼ ﾁﾅ | D8: 県 尼 崎 | E8: =IF(B8="","",IF(ISNUMBER(F8),LEFT(B8,LEN(B8)-3),LEFT(B8,LEN(B8)-1))) -> 磯橋 知那 | F8: =IF(B8="","",VALUE(MID(B8,LEN(B8)-1,1))) -> 1
A9: 197 | B9: 山口 純奈(2) | C9: ﾔﾏｸﾞﾁ ｼﾞｭﾝﾅ | D9: 県 尼 崎 | E9: =IF(B9="","",IF(ISNUMBER(F9),LEFT(B9,LEN(B9)-3),LEFT(B9,LEN(B9)-1))) -> 山口 純奈 | F9: =IF(B9="","",VALUE(MID(B9,LEN(B9)-1,1))) -> 2
A10: 198 | B10: 泉本 桃子(2) | C10: ｲｽﾞﾓﾄ ﾓﾓｺ | D10: 県 尼 崎 | E10: =IF(B10="","",IF(ISNUMBER(F10),LEFT(B10,LEN(B10)-3),LEFT(B10,LEN(B10)-1))) -> 泉本 桃子 | F10: =IF(B10="","",VALUE(MID(B10,LEN(B10)-1,1))) -> 2
A11: 255 | B11: 下南 愛優(3) | C11: ｼﾓﾐﾅﾐ ｱﾕ | D11: 市 尼 崎 | E11: =IF(B11="","",IF(ISNUMBER(F11),LEFT(B11,LEN(B11)-3),LEFT(B11,LEN(B11)-1))) -> 下南 愛優 | F11: =IF(B11="","",VALUE(MID(B11,LEN(B11)-1,1))) -> 3
A12: 256 | B12: 田邊 乃愛(3) | C12: ﾀﾅﾍﾞ ﾉｱ | D12: 市 尼 崎 | E12: =IF(B12="","",IF(ISNUMBER(F12),LEFT(B12,LEN(B12)-3),LEFT(B12,LEN(B12)-1))) -> 田邊 乃愛 | F12: =IF(B12="","",VALUE(MID(B12,LEN(B12)-1,1))) -> 3
A13: 257 | B13: 山口結羽優(3) | C13: ﾔﾏｸﾞﾁ ﾕｳﾕ | D13: 市 尼 崎 | E13: =IF(B13="","",IF(ISNUMBER(F13),LEFT(B13,LEN(B13)-3),LEFT(B13,LEN(B13)-1))) -> 山口結羽優 | F13: =IF(B13="","",VALUE(MID(B13,LEN(B13)-1,1))) -> 3
... A427: 4857 | B427: 呉 安珠(2) | C427: ｵｫ ｱﾝｼﾞｭ | D427: 芦国中等 | E427: =IF(B427="","",IF(ISNUMBER(F427),LEFT(B427,LEN(B427)-3),LEFT(B427,LEN(B427)-1))) -> 呉 安珠 | F427: =IF(B427="","",VALUE(MID(B427,LEN(B427)-1,1))) -> 2
D428: =IF(A428="","",VLOOKUP(4100+ROUNDDOWN(A428/100,0),学校名!$A$2:$D$49,4,0)) | E428: =IF(B428="","",IF(ISNUMBER(F428),LEFT(B428,LEN(B428)-3),LEFT(B428,LEN(B428)-1))) | F428: =IF(B428="","",VALUE(MID(B428,LEN(B428)-1,1)))
D429: =IF(A429="","",VLOOKUP(4100+ROUNDDOWN(A429/100,0),学校名!$A$2:$D$49,4,0)) | E429: =IF(B429="","",IF(ISNUMBER(F429),LEFT(B429,LEN(B429)-3),LEFT(B429,LEN(B429)-1))) | F429: =IF(B429="","",VALUE(MID(B429,LEN(B429)-1,1)))
D430: =IF(A430="","",VLOOKUP(4100+ROUNDDOWN(A430/100,0),学校名!$A$2:$D$49,4,0)) | E430: =IF(B430="","",IF(ISNUMBER(F430),LEFT(B430,LEN(B430)-3),LEFT(B430,LEN(B430)-1))) | F430: =IF(B430="","",VALUE(MID(B430,LEN(B430)-1,1)))
D431: =IF(A431="","",VLOOKUP(4100+ROUNDDOWN(A431/100,0),学校名!$A$2:$D$49,4,0)) | E431: =IF(B431="","",IF(ISNUMBER(F431),LEFT(B431,LEN(B431)-3),LEFT(B431,LEN(B431)-1))) | F431: =IF(B431="","",VALUE(MID(B431,LEN(B431)-1,1)))
D432: =IF(A432="","",VLOOKUP(4100+ROUNDDOWN(A432/100,0),学校名!$A$2:$D$49,4,0)) | E432: =IF(B432="","",IF(ISNUMBER(F432),LEFT(B432,LEN(B432)-3),LEFT(B432,LEN(B432)-1))) | F432: =IF(B432="","",VALUE(MID(B432,LEN(B432)-1,1)))
E447: =IF(B447="","",LEFT(B447,LEN(B447)-2)) | F447: =IF(B447="","",VALUE(RIGHT(B447,1)))
E448: =IF(B448="","",LEFT(B448,LEN(B448)-2)) | F448: =IF(B448="","",VALUE(RIGHT(B448,1)))
E449: =IF(B449="","",LEFT(B449,LEN(B449)-2)) | F449: =IF(B449="","",VALUE(RIGHT(B449,1)))
E450: =IF(B450="","",LEFT(B450,LEN(B450)-2)) | F450: =IF(B450="","",VALUE(RIGHT(B450,1)))
E451: =IF(B451="","",LEFT(B451,LEN(B451)-2)) | F451: =IF(B451="","",VALUE(RIGHT(B451,1)))
E452: =IF(B452="","",LEFT(B452,LEN(B452)-2)) | F452: =IF(B452="","",VALUE(RIGHT(B452,1)))
E453: =IF(B453="","",LEFT(B453,LEN(B453)-2)) | F453: =IF(B453="","",VALUE(RIGHT(B453,1)))
E454: =IF(B454="","",LEFT(B454,LEN(B454)-2)) | F454: =IF(B454="","",VALUE(RIGHT(B454,1)))
E455: =IF(B455="","",LEFT(B455,LEN(B455)-2)) | F455: =IF(B455="","",VALUE(RIGHT(B455,1)))
E456: =IF(B456="","",LEFT(B456,LEN(B456)-2)) | F456: =IF(B456="","",VALUE(RIGHT(B456,1)))
E457: =IF(B457="","",LEFT(B457,LEN(B457)-2)) | F457: =IF(B457="","",VALUE(RIGHT(B457,1)))
E458: =IF(B458="","",LEFT(B458,LEN(B458)-2)) | F458: =IF(B458="","",VALUE(RIGHT(B458,1)))
... E1000: =IF(B1000="","",LEFT(B1000,LEN(B1000)-2)) | F1000: =IF(B1000="","",VALUE(RIGHT(B1000,1)))

Sheet 女子作業用
A1: No. | B1: 名前 | C1: フリガナ | D1: DB | E1: N1 | F1: N2 | G1: SX | H1: KC | I1: MC
A2: =IFERROR(IF(女子登録!A2="",INDEX(女子追加!$L$2:$N$21,ROW()-1-COUNT(女子登録!$A$2:$A$1500),COLUMN()),女子登録!A2),"") -> 187 | B2: =IFERROR(IF(女子登録!B2="",INDEX(女子追加!$L$2:$N$21,ROW()-1-COUNT(女子登録!$A$2:$A$1500),COLUMN()),女子登録!B2),"") -> 田中 はる(3) | C2: =IFERROR(IF(女子登録!C2="",INDEX(女子追加!$L$2:$N$21,ROW()-1-COUNT(女子登録!$A$2:$A$1500),COLUMN()),女子登録!C2),"") -> ﾀﾅｶ ﾊﾙ | D2: =IF(OR(A2=0,A2=""),"",228410000+A2) -> 228410187 | E2: =IF(OR($A2=0,$A2=""),"",B2) -> 田中 はる(3) | F2: =IF(OR($A2=0,$A2=""),"",C2) -> ﾀﾅｶ ﾊﾙ | G2: 2 | H2: 28 | I2: =H2*10000+4100+INT(A2/100) -> 284101
A3: =IFERROR(IF(女子登録!A3="",INDEX(女子追加!$L$2:$N$21,ROW()-1-COUNT(女子登録!$A$2:$A$1500),COLUMN()),女子登録!A3),"") -> 190 | B3: =IFERROR(IF(女子登録!B3="",INDEX(女子追加!$L$2:$N$21,ROW()-1-COUNT(女子登録!$A$2:$A$1500),COLUMN()),女子登録!B3),"") -> 得能 瑠莉(2) | C3: =IFERROR(IF(女子登録!C3="",INDEX(女子追加!$L$2:$N$21,ROW()-1-COUNT(女子登録!$A$2:$A$1500),COLUMN()),女子登録!C3),"") -> ﾄｸﾉｳ ﾙﾘ | D3: =IF(OR(A3=0,A3=""),"",228410000+A3) -> 228410190 | E3: =IF(OR($A3=0,$A3=""),"",B3) -> 得能 瑠莉(2) | F3: =IF(OR($A3=0,$A3=""),"",C3) -> ﾄｸﾉｳ ﾙﾘ | G3: 2 | H3: 28 | I3: =H3*10000+4100+INT(A3/100) -> 284101
A4: =IFERROR(IF(女子登録!A4="",INDEX(女子追加!$L$2:$N$21,ROW()-1-COUNT(女子登録!$A$2:$A$1500),COLUMN()),女子登録!A4),"") -> 191 | B4: =IFERROR(IF(女子登録!B4="",INDEX(女子追加!$L$2:$N$21,ROW()-1-COUNT(女子登録!$A$2:$A$1500),COLUMN()),女子登録!B4),"") -> 宮 真奈佳(2) | C4: =IFERROR(IF(女子登録!C4="",INDEX(女子追加!$L$2:$N$21,ROW()-1-COUNT(女子登録!$A$2:$A$1500),COLUMN()),女子登録!C4),"") -> ﾐﾔ ﾏﾅｶ | D4: =IF(OR(A4=0,A4=""),"",228410000+A4) -> 228410191 | E4: =IF(OR($A4=0,$A4=""),"",B4) -> 宮 真奈佳(2) | F4: =IF(OR($A4=0,$A4=""),"",C4) -> ﾐﾔ ﾏﾅｶ | G4: 2 | H4: 28 | I4: =H4*10000+4100+INT(A4/100) -> 284101
A5: =IFERROR(IF(女子登録!A5="",INDEX(女子追加!$L$2:$N$21,ROW()-1-COUNT(女子登録!$A$2:$A$1500),COLUMN()),女子登録!A5),"") -> 192 | B5: =IFERROR(IF(女子登録!B5="",INDEX(女子追加!$L$2:$N$21,ROW()-1-COUNT(女子登録!$A$2:$A$1500),COLUMN()),女子登録!B5),"") -> 寺﨑 杏(2) | C5: =IFERROR(IF(女子登録!C5="",INDEX(女子追加!$L$2:$N$21,ROW()-1-COUNT(女子登録!$A$2:$A$1500),COLUMN()),女子登録!C5),"") -> ﾃﾗｻｷ ｱﾝｽﾞ | D5: =IF(OR(A5=0,A5=""),"",228410000+A5) -> 228410192 | E5: =IF(OR($A5=0,$A5=""),"",B5) -> 寺﨑 杏(2) | F5: =IF(OR($A5=0,$A5=""),"",C5) -> ﾃﾗｻｷ ｱﾝｽﾞ | G5: 2 | H5: 28 | I5: =H5*10000+4100+INT(A5/100) -> 284101
A6: =IFERROR(IF(女子登録!A6="",INDEX(女子追加!$L$2:$N$21,ROW()-1-COUNT(女子登録!$A$2:$A$1500),COLUMN()),女子登録!A6),"") -> 193 | B6: =IFERROR(IF(女子登録!B6="",INDEX(女子追加!$L$2:$N$21,ROW()-1-COUNT(女子登録!$A$2:$A$1500),COLUMN()),女子登録!B6),"") -> 円山 凛緒(2) | C6: =IFERROR(IF(女子登録!C6="",INDEX(女子追加!$L$2:$N$21,ROW()-1-COUNT(女子登録!$A$2:$A$1500),COLUMN()),女子登録!C6),"") -> ﾏﾙﾔﾏ ﾘｵ | D6: =IF(OR(A6=0,A6=""),"",228410000+A6) -> 228410193 | E6: =IF(OR($A6=0,$A6=""),"",B6) -> 円山 凛緒(2) | F6: =IF(OR($A6=0,$A6=""),"",C6) -> ﾏﾙﾔﾏ ﾘｵ | G6: 2 | H6: 28 | I6: =H6*10000+4100+INT(A6/100) -> 284101
A7: =IFERROR(IF(女子登録!A7="",INDEX(女子追加!$L$2:$N$21,ROW()-1-COUNT(女子登録!$A$2:$A$1500),COLUMN()),女子登録!A7),"") -> 195 | B7: =IFERROR(IF(女子登録!B7="",INDEX(女子追加!$L$2:$N$21,ROW()-1-COUNT(女子登録!$A$2:$A$1500),COLUMN()),女子登録!B7),"") -> 鰕原 希(2) | C7: =IFERROR(IF(女子登録!C7="",INDEX(女子追加!$L$2:$N$21,ROW()-1-COUNT(女子登録!$A$2:$A$1500),COLUMN()),女子登録!C7),"") -> ｴﾋﾞﾊﾗ ﾉｿﾞﾐ | D7: =IF(OR(A7=0,A7=""),"",228410000+A7) -> 228410195 | E7: =IF(OR($A7=0,$A7=""),"",B7) -> 鰕原 希(2) | F7: =IF(OR($A7=0,$A7=""),"",C7) -> ｴﾋﾞﾊﾗ ﾉｿﾞﾐ | G7: 2 | H7: 28 | I7: =H7*10000+4100+INT(A7/100) -> 284101
A8: =IFERROR(IF(女子登録!A8="",INDEX(女子追加!$L$2:$N$21,ROW()-1-COUNT(女子登録!$A$2:$A$1500),COLUMN()),女子登録!A8),"") -> 196 | B8: =IFERROR(IF(女子登録!B8="",INDEX(女子追加!$L$2:$N$21,ROW()-1-COUNT(女子登録!$A$2:$A$1500),COLUMN()),女子登録!B8),"") -> 磯橋 知那(1) | C8: =IFERROR(IF(女子登録!C8="",INDEX(女子追加!$L$2:$N$21,ROW()-1-COUNT(女子登録!$A$2:$A$1500),COLUMN()),女子登録!C8),"") -> ｲｿﾊｼ ﾁﾅ | D8: =IF(OR(A8=0,A8=""),"",228410000+A8) -> 228410196 | E8: =IF(OR($A8=0,$A8=""),"",B8) -> 磯橋 知那(1) | F8: =IF(OR($A8=0,$A8=""),"",C8) -> ｲｿﾊｼ ﾁﾅ | G8: 2 | H8: 28 | I8: =H8*10000+4100+INT(A8/100) -> 284101
A9: =IFERROR(IF(女子登録!A9="",INDEX(女子追加!$L$2:$N$21,ROW()-1-COUNT(女子登録!$A$2:$A$1500),COLUMN()),女子登録!A9),"") -> 197 | B9: =IFERROR(IF(女子登録!B9="",INDEX(女子追加!$L$2:$N$21,ROW()-1-COUNT(女子登録!$A$2:$A$1500),COLUMN()),女子登録!B9),"") -> 山口 純奈(2) | C9: =IFERROR(IF(女子登録!C9="",INDEX(女子追加!$L$2:$N$21,ROW()-1-COUNT(女子登録!$A$2:$A$1500),COLUMN()),女子登録!C9),"") -> ﾔﾏｸﾞﾁ ｼﾞｭﾝﾅ | D9: =IF(OR(A9=0,A9=""),"",228410000+A9) -> 228410197 | E9: =IF(OR($A9=0,$A9=""),"",B9) -> 山口 純奈(2) | F9: =IF(OR($A9=0,$A9=""),"",C9) -> ﾔﾏｸﾞﾁ ｼﾞｭﾝﾅ | G9: 2 | H9: 28 | I9: =H9*10000+4100+INT(A9/100) -> 284101
A10: =IFERROR(IF(女子登録!A10="",INDEX(女子追加!$L$2:$N$21,ROW()-1-COUNT(女子登録!$A$2:$A$1500),COLUMN()),女子登録!A10),"") -> 198 | B10: =IFERROR(IF(女子登録!B10="",INDEX(女子追加!$L$2:$N$21,ROW()-1-COUNT(女子登録!$A$2:$A$1500),COLUMN()),女子登録!B10),"") -> 泉本 桃子(2) | C10: =IFERROR(IF(女子登録!C10="",INDEX(女子追加!$L$2:$N$21,ROW()-1-COUNT(女子登録!$A$2:$A$1500),COLUMN()),女子登録!C10),"") -> ｲｽﾞﾓﾄ ﾓﾓｺ | D10: =IF(OR(A10=0,A10=""),"",228410000+A10) -> 228410198 | E10: =IF(OR($A10=0,$A10=""),"",B10) -> 泉本 桃子(2) | F10: =IF(OR($A10=0,$A10=""),"",C10) -> ｲｽﾞﾓﾄ ﾓﾓｺ | G10: 2 | H10: 28 | I10: =H10*10000+4100+INT(A10/100) -> 284101
A11: =IFERROR(IF(女子登録!A11="",INDEX(女子追加!$L$2:$N$21,ROW()-1-COUNT(女子登録!$A$2:$A$1500),COLUMN()),女子登録!A11),"") -> 255 | B11: =IFERROR(IF(女子登録!B11="",INDEX(女子追加!$L$2:$N$21,ROW()-1-COUNT(女子登録!$A$2:$A$1500),COLUMN()),女子登録!B11),"") -> 下南 愛優(3) | C11: =IFERROR(IF(女子登録!C11="",INDEX(女子追加!$L$2:$N$21,ROW()-1-COUNT(女子登録!$A$2:$A$1500),COLUMN()),女子登録!C11),"") -> ｼﾓﾐﾅﾐ ｱﾕ | D11: =IF(OR(A11=0,A11=""),"",228410000+A11) -> 228410255 | E11: =IF(OR($A11=0,$A11=""),"",B11) -> 下南 愛優(3) | F11: =IF(OR($A11=0,$A11=""),"",C11) -> ｼﾓﾐﾅﾐ ｱﾕ | G11: 2 | H11: 28 | I11: =H11*10000+4100+INT(A11/100) -> 284102
A12: =IFERROR(IF(女子登録!A12="",INDEX(女子追加!$L$2:$N$21,ROW()-1-COUNT(女子登録!$A$2:$A$1500),COLUMN()),女子登録!A12),"") -> 256 | B12: =IFERROR(IF(女子登録!B12="",INDEX(女子追加!$L$2:$N$21,ROW()-1-COUNT(女子登録!$A$2:$A$1500),COLUMN()),女子登録!B12),"") -> 田邊 乃愛(3) | C12: =IFERROR(IF(女子登録!C12="",INDEX(女子追加!$L$2:$N$21,ROW()-1-COUNT(女子登録!$A$2:$A$1500),COLUMN()),女子登録!C12),"") -> ﾀﾅﾍﾞ ﾉｱ | D12: =IF(OR(A12=0,A12=""),"",228410000+A12) -> 228410256 | E12: =IF(OR($A12=0,$A12=""),"",B12) -> 田邊 乃愛(3) | F12: =IF(OR($A12=0,$A12=""),"",C12) -> ﾀﾅﾍﾞ ﾉｱ | G12: 2 | H12: 28 | I12: =H12*10000+4100+INT(A12/100) -> 284102
A13: =IFERROR(IF(女子登録!A13="",INDEX(女子追加!$L$2:$N$21,ROW()-1-COUNT(女子登録!$A$2:$A$1500),COLUMN()),女子登録!A13),"") -> 257 | B13: =IFERROR(IF(女子登録!B13="",INDEX(女子追加!$L$2:$N$21,ROW()-1-COUNT(女子登録!$A$2:$A$1500),COLUMN()),女子登録!B13),"") -> 山口結羽優(3) | C13: =IFERROR(IF(女子登録!C13="",INDEX(女子追加!$L$2:$N$21,ROW()-1-COUNT(女子登録!$A$2:$A$1500),COLUMN()),女子登録!C13),"") -> ﾔﾏｸﾞﾁ ﾕｳﾕ | D13: =IF(OR(A13=0,A13=""),"",228410000+A13) -> 228410257 | E13: =IF(OR($A13=0,$A13=""),"",B13) -> 山口結羽優(3) | F13: =IF(OR($A13=0,$A13=""),"",C13) -> ﾔﾏｸﾞﾁ ﾕｳﾕ | G13: 2 | H13: 28 | I13: =H13*10000+4100+INT(A13/100) -> 284102
... A1500: =IFERROR(IF(女子登録!A1500="",INDEX(女子追加!$L$2:$N$21,ROW()-1-COUNT(女子登録!$A$2:$A$1500),COLUMN()),女子登録!A1500),"") | B1500: =IFERROR(IF(女子登録!B1500="",INDEX(女子追加!$L$2:$N$21,ROW()-1-COUNT(女子登録!$A$2:$A$1500),COLUMN()),女子登録!B1500),"") | C1500: =IFERROR(IF(女子登録!C1500="",INDEX(女子追加!$L$2:$N$21,ROW()-1-COUNT(女子登録!$A$2:$A$1500),COLUMN()),女子登録!C1500),"") | D1500: =IF(OR(A1500=0,A1500=""),"",228410000+A1500) | E1500: =IF(OR($A1500=0,$A1500=""),"",B1500) | F1500: =IF(OR($A1500=0,$A1500=""),"",C1500) | G1500: 2 | H1500: 28 | I1500: =H1500*10000+4100+INT(A1500/100) -> #VALUE!

Sheet 学校名
A1: 学校番号 | B1: 学校名 | C1: ゼッケン | D1: 略称
A2: 4101 | B2: 県立尼崎高等学校 | C2: 100 | D2: 県尼崎
A3: 4102 | B3: 市立尼崎高等学校 | C3: 200 | D3: 市尼崎
A4: 4103 | B4: 市立尼崎双星高等学校 | C4: 300 | D4: 尼崎双星
A5: 4104 | B5: 県立尼崎西高等学校 | C5: 400 | D5: 尼崎西
A6: 4105 | B6: 県立尼崎北高等学校 | C6: 500 | D6: 尼崎北
A7: 4106 | B7: 県立尼崎稲園高等学校 | C7: 600 | D7: 尼崎稲園
A8: 4107 | B8: 県立尼崎小田高等学校 | C8: 700 | D8: 尼崎小田
A9: 4108 | C9: 800
A10: 4109 | B10: 県立武庫荘総合高等学校 | C10: 900 | D10: 武庫荘総合
A11: 4110 | B11: 県立尼崎工業高等学校 | C11: 1000 | D11: 尼崎工
A12: 4111 | C12: 1100
A13: 4112 | B13: 園田学園高等学校 | C13: 1200 | D13: 園田学園
A14: 4113 | B14: 百合学院高等学校 | C14: 1300 | D14: 百合
A15: 4114 | B15: 県立西宮高等学校 | C15: 1400 | D15: 県西宮
A16: 4115 | B16: 市立西宮高等学校 | C16: 1500 | D16: 市西宮
A17: 4116 | B17: 市立西宮東高等学校 | C17: 1600 | D17: 西宮東
A18: 4117 | B18: 県立西宮南高等学校 | C18: 1700 | D18: 西宮南
A19: 4118 | B19: 県立西宮北苦楽園高等学校 | C19: 1800 | D19: 西北苦楽園
A20: 4119 | B20: 県立鳴尾高等学校 | C20: 1900 | D20: 鳴尾
A21: 4120 | B21: 県立西宮今津高等学校 | C21: 2000 | D21: 西宮今津
A22: 4121 | B22: 県立西宮甲山高等学校 | C22: 2100 | D22: 西宮甲山
A23: 4122 | B23: 甲陽学院高等学校 | C23: 2200 | D23: 甲陽
A24: 4123 | B24: 関西学院高等部 | C24: 2300 | D24: 関西学院
A25: 4124 | C25: 2400 | D25: 女学院
A26: 4125 | B26: 仁川学院高等学校 | C26: 2500 | D26: 仁川
A27: 4126 | B27: 報徳学園高等学校 | C27: 2600 | D27: 報徳
A28: 4127 | B28: 武庫川女子大学付属高等学校 | C28: 2700 | D28: 武庫川大附
A29: 4128 | B29: 甲子園学院高等学校 | C29: 2800 | D29: 甲子園
A30: 4129 | C30: 2900
A31: 4130 | B31: 県立伊丹高等学校 | C31: 3000 | D31: 県伊丹
A32: 4131 | B32: 市立伊丹高等学校 | C32: 3100 | D32: 市伊丹
A33: 4132 | B33: 県立伊丹西高等学校 | C33: 3200 | D33: 伊丹西
A34: 4133 | B34: 県立伊丹北高等学校 | C34: 3300 | D34: 伊丹北
A35: 4134 | B35: 県立川西緑台高等学校 | C35: 3400 | D35: 川西緑台
A36: 4135 | B36: 県立川西明峰高等学校 | C36: 3500 | D36: 川西明峰
A37: 4136 | B37: 県立川西北陵高等学校 | C37: 3600 | D37: 川西北陵
A38: 4137 | B38: 県立猪名川高等学校 | C38: 3700 | D38: 猪名川
A39: 4138 | B39: 県立宝塚高等学校 | C39: 3800 | D39: 宝塚
A40: 4139 | B40: 県立宝塚東高等学校 | C40: 3900 | D40: 宝塚東
...

Sheet MasterCSV
A1: DB | B1: N1 | C1: N2 | D1: SX | E1: KC | F1: MC
A2: =IF(入力用!$C8="","",INDEX(男子作業用!$A$2:$I$1500,MATCH(入力用!$C8,男子作業用!$A$2:$A$1500,0),COLUMN()+3)) | B2: =IF(入力用!$C8="","",INDEX(男子作業用!$A$2:$I$1500,MATCH(入力用!$C8,男子作業用!$A$2:$A$1500,0),COLUMN()+3)) | C2: =IF(入力用!$C8="","",INDEX(男子作業用!$A$2:$I$1500,MATCH(入力用!$C8,男子作業用!$A$2:$A$1500,0),COLUMN()+3)) | D2: =IF(入力用!$C8="","",INDEX(男子作業用!$A$2:$I$1500,MATCH(入力用!$C8,男子作業用!$A$2:$A$1500,0),COLUMN()+3)) | E2: =IF(入力用!$C8="","",INDEX(男子作業用!$A$2:$I$1500,MATCH(入力用!$C8,男子作業用!$A$2:$A$1500,0),COLUMN()+3)) | F2: =IF(入力用!$C8="","",INDEX(男子作業用!$A$2:$I$1500,MATCH(入力用!$C8,男子作業用!$A$2:$A$1500,0),COLUMN()+3))
A3: =IF(入力用!$C9="","",INDEX(男子作業用!$A$2:$I$1500,MATCH(入力用!$C9,男子作業用!$A$2:$A$1500,0),COLUMN()+3)) | B3: =IF(入力用!$C9="","",INDEX(男子作業用!$A$2:$I$1500,MATCH(入力用!$C9,男子作業用!$A$2:$A$1500,0),COLUMN()+3)) | C3: =IF(入力用!$C9="","",INDEX(男子作業用!$A$2:$I$1500,MATCH(入力用!$C9,男子作業用!$A$2:$A$1500,0),COLUMN()+3)) | D3: =IF(入力用!$C9="","",INDEX(男子作業用!$A$2:$I$1500,MATCH(入力用!$C9,男子作業用!$A$2:$A$1500,0),COLUMN()+3)) | E3: =IF(入力用!$C9="","",INDEX(男子作業用!$A$2:$I$1500,MATCH(入力用!$C9,男子作業用!$A$2:$A$1500,0),COLUMN()+3)) | F3: =IF(入力用!$C9="","",INDEX(男子作業用!$A$2:$I$1500,MATCH(入力用!$C9,男子作業用!$A$2:$A$1500,0),COLUMN()+3))
A4: =IF(入力用!$C10="","",INDEX(男子作業用!$A$2:$I$1500,MATCH(入力用!$C10,男子作業用!$A$2:$A$1500,0),COLUMN()+3)) | B4: =IF(入力用!$C10="","",INDEX(男子作業用!$A$2:$I$1500,MATCH(入力用!$C10,男子作業用!$A$2:$A$1500,0),COLUMN()+3)) | C4: =IF(入力用!$C10="","",INDEX(男子作業用!$A$2:$I$1500,MATCH(入力用!$C10,男子作業用!$A$2:$A$1500,0),COLUMN()+3)) | D4: =IF(入力用!$C10="","",INDEX(男子作業用!$A$2:$I$1500,MATCH(入力用!$C10,男子作業用!$A$2:$A$1500,0),COLUMN()+3)) | E4: =IF(入力用!$C10="","",INDEX(男子作業用!$A$2:$I$1500,MATCH(入力用!$C10,男子作業用!$A$2:$A$1500,0),COLUMN()+3)) | F4: =IF(入力用!$C10="","",INDEX(男子作業用!$A$2:$I$1500,MATCH(入力用!$C10,男子作業用!$A$2:$A$1500,0),COLUMN()+3))
A5: =IF(入力用!$C11="","",INDEX(男子作業用!$A$2:$I$1500,MATCH(入力用!$C11,男子作業用!$A$2:$A$1500,0),COLUMN()+3)) | B5: =IF(入力用!$C11="","",INDEX(男子作業用!$A$2:$I$1500,MATCH(入力用!$C11,男子作業用!$A$2:$A$1500,0),COLUMN()+3)) | C5: =IF(入力用!$C11="","",INDEX(男子作業用!$A$2:$I$1500,MATCH(入力用!$C11,男子作業用!$A$2:$A$1500,0),COLUMN()+3)) | D5: =IF(入力用!$C11="","",INDEX(男子作業用!$A$2:$I$1500,MATCH(入力用!$C11,男子作業用!$A$2:$A$1500,0),COLUMN()+3)) | E5: =IF(入力用!$C11="","",INDEX(男子作業用!$A$2:$I$1500,MATCH(入力用!$C11,男子作業用!$A$2:$A$1500,0),COLUMN()+3)) | F5: =IF(入力用!$C11="","",INDEX(男子作業用!$A$2:$I$1500,MATCH(入力用!$C11,男子作業用!$A$2:$A$1500,0),COLUMN()+3))
A6: =IF(入力用!$C12="","",INDEX(男子作業用!$A$2:$I$1500,MATCH(入力用!$C12,男子作業用!$A$2:$A$1500,0),COLUMN()+3)) | B6: =IF(入力用!$C12="","",INDEX(男子作業用!$A$2:$I$1500,MATCH(入力用!$C12,男子作業用!$A$2:$A$1500,0),COLUMN()+3)) | C6: =IF(入力用!$C12="","",INDEX(男子作業用!$A$2:$I$1500,MATCH(入力用!$C12,男子作業用!$A$2:$A$1500,0),COLUMN()+3)) | D6: =IF(入力用!$C12="","",INDEX(男子作業用!$A$2:$I$1500,MATCH(入力用!$C12,男子作業用!$A$2:$A$1500,0),COLUMN()+3)) | E6: =IF(入力用!$C12="","",INDEX(男子作業用!$A$2:$I$1500,MATCH(入力用!$C12,男子作業用!$A$2:$A$1500,0),COLUMN()+3)) | F6: =IF(入力用!$C12="","",INDEX(男子作業用!$A$2:$I$1500,MATCH(入力用!$C12,男子作業用!$A$2:$A$1500,0),COLUMN()+3))
A7: =IF(入力用!$C13="","",INDEX(男子作業用!$A$2:$I$1500,MATCH(入力用!$C13,男子作業用!$A$2:$A$1500,0),COLUMN()+3)) | B7: =IF(入力用!$C13="","",INDEX(男子作業用!$A$2:$I$1500,MATCH(入力用!$C13,男子作業用!$A$2:$A$1500,0),COLUMN()+3)) | C7: =IF(入力用!$C13="","",INDEX(男子作業用!$A$2:$I$1500,MATCH(入力用!$C13,男子作業用!$A$2:$A$1500,0),COLUMN()+3)) | D7: =IF(入力用!$C13="","",INDEX(男子作業用!$A$2:$I$1500,MATCH(入力用!$C13,男子作業用!$A$2:$A$1500,0),COLUMN()+3)) | E7: =IF(入力用!$C13="","",INDEX(男子作業用!$A$2:$I$1500,MATCH(入力用!$C13,男子作業用!$A$2:$A$1500,0),COLUMN()+3)) | F7: =IF(入力用!$C13="","",INDEX(男子作業用!$A$2:$I$1500,MATCH(入力用!$C13,男子作業用!$A$2:$A$1500,0),COLUMN()+3))
A8: =IF(入力用!$C14="","",INDEX(男子作業用!$A$2:$I$1500,MATCH(入力用!$C14,男子作業用!$A$2:$A$1500,0),COLUMN()+3)) | B8: =IF(入力用!$C14="","",INDEX(男子作業用!$A$2:$I$1500,MATCH(入力用!$C14,男子作業用!$A$2:$A$1500,0),COLUMN()+3)) | C8: =IF(入力用!$C14="","",INDEX(男子作業用!$A$2:$I$1500,MATCH(入力用!$C14,男子作業用!$A$2:$A$1500,0),COLUMN()+3)) | D8: =IF(入力用!$C14="","",INDEX(男子作業用!$A$2:$I$1500,MATCH(入力用!$C14,男子作業用!$A$2:$A$1500,0),COLUMN()+3)) | E8: =IF(入力用!$C14="","",INDEX(男子作業用!$A$2:$I$1500,MATCH(入力用!$C14,男子作業用!$A$2:$A$1500,0),COLUMN()+3)) | F8: =IF(入力用!$C14="","",INDEX(男子作業用!$A$2:$I$1500,MATCH(入力用!$C14,男子作業用!$A$2:$A$1500,0),COLUMN()+3))
A9: =IF(入力用!$C15="","",INDEX(男子作業用!$A$2:$I$1500,MATCH(入力用!$C15,男子作業用!$A$2:$A$1500,0),COLUMN()+3)) | B9: =IF(入力用!$C15="","",INDEX(男子作業用!$A$2:$I$1500,MATCH(入力用!$C15,男子作業用!$A$2:$A$1500,0),COLUMN()+3)) | C9: =IF(入力用!$C15="","",INDEX(男子作業用!$A$2:$I$1500,MATCH(入力用!$C15,男子作業用!$A$2:$A$1500,0),COLUMN()+3)) | D9: =IF(入力用!$C15="","",INDEX(男子作業用!$A$2:$I$1500,MATCH(入力用!$C15,男子作業用!$A$2:$A$1500,0),COLUMN()+3)) | E9: =IF(入力用!$C15="","",INDEX(男子作業用!$A$2:$I$1500,MATCH(入力用!$C15,男子作業用!$A$2:$A$1500,0),COLUMN()+3)) | F9: =IF(入力用!$C15="","",INDEX(男子作業用!$A$2:$I$1500,MATCH(入力用!$C15,男子作業用!$A$2:$A$1500,0),COLUMN()+3))
A10: =IF(入力用!$C16="","",INDEX(男子作業用!$A$2:$I$1500,MATCH(入力用!$C16,男子作業用!$A$2:$A$1500,0),COLUMN()+3)) | B10: =IF(入力用!$C16="","",INDEX(男子作業用!$A$2:$I$1500,MATCH(入力用!$C16,男子作業用!$A$2:$A$1500,0),COLUMN()+3)) | C10: =IF(入力用!$C16="","",INDEX(男子作業用!$A$2:$I$1500,MATCH(入力用!$C16,男子作業用!$A$2:$A$1500,0),COLUMN()+3)) | D10: =IF(入力用!$C16="","",INDEX(男子作業用!$A$2:$I$1500,MATCH(入力用!$C16,男子作業用!$A$2:$A$1500,0),COLUMN()+3)) | E10: =IF(入力用!$C16="","",INDEX(男子作業用!$A$2:$I$1500,MATCH(入力用!$C16,男子作業用!$A$2:$A$1500,0),COLUMN()+3)) | F10: =IF(入力用!$C16="","",INDEX(男子作業用!$A$2:$I$1500,MATCH(入力用!$C16,男子作業用!$A$2:$A$1500,0),COLUMN()+3))
A11: =IF(入力用!$C17="","",INDEX(男子作業用!$A$2:$I$1500,MATCH(入力用!$C17,男子作業用!$A$2:$A$1500,0),COLUMN()+3)) | B11: =IF(入力用!$C17="","",INDEX(男子作業用!$A$2:$I$1500,MATCH(入力用!$C17,男子作業用!$A$2:$A$1500,0),COLUMN()+3)) | C11: =IF(入力用!$C17="","",INDEX(男子作業用!$A$2:$I$1500,MATCH(入力用!$C17,男子作業用!$A$2:$A$1500,0),COLUMN()+3)) | D11: =IF(入力用!$C17="","",INDEX(男子作業用!$A$2:$I$1500,MATCH(入力用!$C17,男子作業用!$A$2:$A$1500,0),COLUMN()+3)) | E11: =IF(入力用!$C17="","",INDEX(男子作業用!$A$2:$I$1500,MATCH(入力用!$C17,男子作業用!$A$2:$A$1500,0),COLUMN()+3)) | F11: =IF(入力用!$C17="","",INDEX(男子作業用!$A$2:$I$1500,MATCH(入力用!$C17,男子作業用!$A$2:$A$1500,0),COLUMN()+3))
A12: =IF(入力用!$C30="","",INDEX(女子作業用!$A$2:$I$1500,MATCH(入力用!$C30,女子作業用!$A$2:$A$1500,0),COLUMN()+3)) | B12: =IF(入力用!$C30="","",INDEX(女子作業用!$A$2:$I$1500,MATCH(入力用!$C30,女子作業用!$A$2:$A$1500,0),COLUMN()+3)) | C12: =IF(入力用!$C30="","",INDEX(女子作業用!$A$2:$I$1500,MATCH(入力用!$C30,女子作業用!$A$2:$A$1500,0),COLUMN()+3)) | D12: =IF(入力用!$C30="","",INDEX(女子作業用!$A$2:$I$1500,MATCH(入力用!$C30,女子作業用!$A$2:$A$1500,0),COLUMN()+3)) | E12: =IF(入力用!$C30="","",INDEX(女子作業用!$A$2:$I$1500,MATCH(入力用!$C30,女子作業用!$A$2:$A$1500,0),COLUMN()+3)) | F12: =IF(入力用!$C30="","",INDEX(女子作業用!$A$2:$I$1500,MATCH(入力用!$C30,女子作業用!$A$2:$A$1500,0),COLUMN()+3))
A13: =IF(入力用!$C31="","",INDEX(女子作業用!$A$2:$I$1500,MATCH(入力用!$C31,女子作業用!$A$2:$A$1500,0),COLUMN()+3)) | B13: =IF(入力用!$C31="","",INDEX(女子作業用!$A$2:$I$1500,MATCH(入力用!$C31,女子作業用!$A$2:$A$1500,0),COLUMN()+3)) | C13: =IF(入力用!$C31="","",INDEX(女子作業用!$A$2:$I$1500,MATCH(入力用!$C31,女子作業用!$A$2:$A$1500,0),COLUMN()+3)) | D13: =IF(入力用!$C31="","",INDEX(女子作業用!$A$2:$I$1500,MATCH(入力用!$C31,女子作業用!$A$2:$A$1500,0),COLUMN()+3)) | E13: =IF(入力用!$C31="","",INDEX(女子作業用!$A$2:$I$1500,MATCH(入力用!$C31,女子作業用!$A$2:$A$1500,0),COLUMN()+3)) | F13: =IF(入力用!$C31="","",INDEX(女子作業用!$A$2:$I$1500,MATCH(入力用!$C31,女子作業用!$A$2:$A$1500,0),COLUMN()+3))
A14: =IF(入力用!$C32="","",INDEX(女子作業用!$A$2:$I$1500,MATCH(入力用!$C32,女子作業用!$A$2:$A$1500,0),COLUMN()+3)) | B14: =IF(入力用!$C32="","",INDEX(女子作業用!$A$2:$I$1500,MATCH(入力用!$C32,女子作業用!$A$2:$A$1500,0),COLUMN()+3)) | C14: =IF(入力用!$C32="","",INDEX(女子作業用!$A$2:$I$1500,MATCH(入力用!$C32,女子作業用!$A$2:$A$1500,0),COLUMN()+3)) | D14: =IF(入力用!$C32="","",INDEX(女子作業用!$A$2:$I$1500,MATCH(入力用!$C32,女子作業用!$A$2:$A$1500,0),COLUMN()+3)) | E14: =IF(入力用!$C32="","",INDEX(女子作業用!$A$2:$I$1500,MATCH(入力用!$C32,女子作業用!$A$2:$A$1500,0),COLUMN()+3)) | F14: =IF(入力用!$C32="","",INDEX(女子作業用!$A$2:$I$1500,MATCH(入力用!$C32,女子作業用!$A$2:$A$1500,0),COLUMN()+3))
A15: =IF(入力用!$C33="","",INDEX(女子作業用!$A$2:$I$1500,MATCH(入力用!$C33,女子作業用!$A$2:$A$1500,0),COLUMN()+3)) | B15: =IF(入力用!$C33="","",INDEX(女子作業用!$A$2:$I$1500,MATCH(入力用!$C33,女子作業用!$A$2:$A$1500,0),COLUMN()+3)) | C15: =IF(入力用!$C33="","",INDEX(女子作業用!$A$2:$I$1500,MATCH(入力用!$C33,女子作業用!$A$2:$A$1500,0),COLUMN()+3)) | D15: =IF(入力用!$C33="","",INDEX(女子作業用!$A$2:$I$1500,MATCH(入力用!$C33,女子作業用!$A$2:$A$1500,0),COLUMN()+3)) | E15: =IF(入力用!$C33="","",INDEX(女子作業用!$A$2:$I$1500,MATCH(入力用!$C33,女子作業用!$A$2:$A$1500,0),COLUMN()+3)) | F15: =IF(入力用!$C33="","",INDEX(女子作業用!$A$2:$I$1500,MATCH(入力用!$C33,女子作業用!$A$2:$A$1500,0),COLUMN()+3))
A16: =IF(入力用!$C34="","",INDEX(女子作業用!$A$2:$I$1500,MATCH(入力用!$C34,女子作業用!$A$2:$A$1500,0),COLUMN()+3)) | B16: =IF(入力用!$C34="","",INDEX(女子作業用!$A$2:$I$1500,MATCH(入力用!$C34,女子作業用!$A$2:$A$1500,0),COLUMN()+3)) | C16: =IF(入力用!$C34="","",INDEX(女子作業用!$A$2:$I$1500,MATCH(入力用!$C34,女子作業用!$A$2:$A$1500,0),COLUMN()+3)) | D16: =IF(入力用!$C34="","",INDEX(女子作業用!$A$2:$I$1500,MATCH(入力用!$C34,女子作業用!$A$2:$A$1500,0),COLUMN()+3)) | E16: =IF(入力用!$C34="","",INDEX(女子作業用!$A$2:$I$1500,MATCH(入力用!$C34,女子作業用!$A$2:$A$1500,0),COLUMN()+3)) | F16: =IF(入力用!$C34="","",INDEX(女子作業用!$A$2:$I$1500,MATCH(入力用!$C34,女子作業用!$A$2:$A$1500,0),COLUMN()+3))
A17: =IF(入力用!$C35="","",INDEX(女子作業用!$A$2:$I$1500,MATCH(入力用!$C35,女子作業用!$A$2:$A$1500,0),COLUMN()+3)) | B17: =IF(入力用!$C35="","",INDEX(女子作業用!$A$2:$I$1500,MATCH(入力用!$C35,女子作業用!$A$2:$A$1500,0),COLUMN()+3)) | C17: =IF(入力用!$C35="","",INDEX(女子作業用!$A$2:$I$1500,MATCH(入力用!$C35,女子作業用!$A$2:$A$1500,0),COLUMN()+3)) | D17: =IF(入力用!$C35="","",INDEX(女子作業用!$A$2:$I$1500,MATCH(入力用!$C35,女子作業用!$A$2:$A$1500,0),COLUMN()+3)) | E17: =IF(入力用!$C35="","",INDEX(女子作業用!$A$2:$I$1500,MATCH(入力用!$C35,女子作業用!$A$2:$A$1500,0),COLUMN()+3)) | F17: =IF(入力用!$C35="","",INDEX(女子作業用!$A$2:$I$1500,MATCH(入力用!$C35,女子作業用!$A$2:$A$1500,0),COLUMN()+3))
A18: =IF(入力用!$C36="","",INDEX(女子作業用!$A$2:$I$1500,MATCH(入力用!$C36,女子作業用!$A$2:$A$1500,0),COLUMN()+3)) | B18: =IF(入力用!$C36="","",INDEX(女子作業用!$A$2:$I$1500,MATCH(入力用!$C36,女子作業用!$A$2:$A$1500,0),COLUMN()+3)) | C18: =IF(入力用!$C36="","",INDEX(女子作業用!$A$2:$I$1500,MATCH(入力用!$C36,女子作業用!$A$2:$A$1500,0),COLUMN()+3)) | D18: =IF(入力用!$C36="","",INDEX(女子作業用!$A$2:$I$1500,MATCH(入力用!$C36,女子作業用!$A$2:$A$1500,0),COLUMN()+3)) | E18: =IF(入力用!$C36="","",INDEX(女子作業用!$A$2:$I$1500,MATCH(入力用!$C36,女子作業用!$A$2:$A$1500,0),COLUMN()+3)) | F18: =IF(入力用!$C36="","",INDEX(女子作業用!$A$2:$I$1500,MATCH(入力用!$C36,女子作業用!$A$2:$A$1500,0),COLUMN()+3))
A19: =IF(入力用!$C37="","",INDEX(女子作業用!$A$2:$I$1500,MATCH(入力用!$C37,女子作業用!$A$2:$A$1500,0),COLUMN()+3)) | B19: =IF(入力用!$C37="","",INDEX(女子作業用!$A$2:$I$1500,MATCH(入力用!$C37,女子作業用!$A$2:$A$1500,0),COLUMN()+3)) | C19: =IF(入力用!$C37="","",INDEX(女子作業用!$A$2:$I$1500,MATCH(入力用!$C37,女子作業用!$A$2:$A$1500,0),COLUMN()+3)) | D19: =IF(入力用!$C37="","",INDEX(女子作業用!$A$2:$I$1500,MATCH(入力用!$C37,女子作業用!$A$2:$A$1500,0),COLUMN()+3)) | E19: =IF(入力用!$C37="","",INDEX(女子作業用!$A$2:$I$1500,MATCH(入力用!$C37,女子作業用!$A$2:$A$1500,0),COLUMN()+3)) | F19: =IF(入力用!$C37="","",INDEX(女子作業用!$A$2:$I$1500,MATCH(入力用!$C37,女子作業用!$A$2:$A$1500,0),COLUMN()+3))

Sheet MMemberCSV
A1: TM | B1: DB
A2: =IF(B2="","",IF(入力用!$C$5="",MOD(入力用!$B$2,100),IF(入力用!$C$5=2,"B",IF(入力用!$C$5=3,"C","合同")))) | B2: =IF(MasterCSV!A2="","",MasterCSV!A2)
A3: =IF(B3="","",IF(入力用!$C$5="",MOD(入力用!$B$2,100),IF(入力用!$C$5=2,"B",IF(入力用!$C$5=3,"C","合同")))) | B3: =IF(MasterCSV!A3="","",MasterCSV!A3)
A4: =IF(B4="","",IF(入力用!$C$5="",MOD(入力用!$B$2,100),IF(入力用!$C$5=2,"B",IF(入力用!$C$5=3,"C","合同")))) | B4: =IF(MasterCSV!A4="","",MasterCSV!A4)
A5: =IF(B5="","",IF(入力用!$C$5="",MOD(入力用!$B$2,100),IF(入力用!$C$5=2,"B",IF(入力用!$C$5=3,"C","合同")))) | B5: =IF(MasterCSV!A5="","",MasterCSV!A5)
A6: =IF(B6="","",IF(入力用!$C$5="",MOD(入力用!$B$2,100),IF(入力用!$C$5=2,"B",IF(入力用!$C$5=3,"C","合同")))) | B6: =IF(MasterCSV!A6="","",MasterCSV!A6)
A7: =IF(B7="","",IF(入力用!$C$5="",MOD(入力用!$B$2,100),IF(入力用!$C$5=2,"B",IF(入力用!$C$5=3,"C","合同")))) | B7: =IF(MasterCSV!A7="","",MasterCSV!A7)
A8: =IF(B8="","",IF(入力用!$C$5="",MOD(入力用!$B$2,100),IF(入力用!$C$5=2,"B",IF(入力用!$C$5=3,"C","合同")))) | B8: =IF(MasterCSV!A8="","",MasterCSV!A8)
A9: =IF(B9="","",IF(入力用!$C$5="",MOD(入力用!$B$2,100),IF(入力用!$C$5=2,"B",IF(入力用!$C$5=3,"C","合同")))) | B9: =IF(MasterCSV!A9="","",MasterCSV!A9)
A10: =IF(B10="","",IF(入力用!$C$5="",MOD(入力用!$B$2,100),IF(入力用!$C$5=2,"B",IF(入力用!$C$5=3,"C","合同")))) | B10: =IF(MasterCSV!A10="","",MasterCSV!A10)
A11: =IF(B11="","",IF(入力用!$C$5="",MOD(入力用!$B$2,100),IF(入力用!$C$5=2,"B",IF(入力用!$C$5=3,"C","合同")))) | B11: =IF(MasterCSV!A11="","",MasterCSV!A11)

Sheet WMemberCSV
A1: TM | B1: DB
A2: =IF(B2="","",IF(入力用!$C$27="",MOD(入力用!$B$2,100),IF(入力用!$C$27=2,"B",IF(入力用!$C$27=3,"C","合同")))) | B2: =IF(MasterCSV!A12="","",MasterCSV!A12)
A3: =IF(B3="","",IF(入力用!$C$27="",MOD(入力用!$B$2,100),IF(入力用!$C$27=2,"B",IF(入力用!$C$27=3,"C","合同")))) | B3: =IF(MasterCSV!A13="","",MasterCSV!A13)
A4: =IF(B4="","",IF(入力用!$C$27="",MOD(入力用!$B$2,100),IF(入力用!$C$27=2,"B",IF(入力用!$C$27=3,"C","合同")))) | B4: =IF(MasterCSV!A14="","",MasterCSV!A14)
A5: =IF(B5="","",IF(入力用!$C$27="",MOD(入力用!$B$2,100),IF(入力用!$C$27=2,"B",IF(入力用!$C$27=3,"C","合同")))) | B5: =IF(MasterCSV!A15="","",MasterCSV!A15)
A6: =IF(B6="","",IF(入力用!$C$27="",MOD(入力用!$B$2,100),IF(入力用!$C$27=2,"B",IF(入力用!$C$27=3,"C","合同")))) | B6: =IF(MasterCSV!A16="","",MasterCSV!A16)
A7: =IF(B7="","",IF(入力用!$C$27="",MOD(入力用!$B$2,100),IF(入力用!$C$27=2,"B",IF(入力用!$C$27=3,"C","合同")))) | B7: =IF(MasterCSV!A17="","",MasterCSV!A17)
A8: =IF(B8="","",IF(入力用!$C$27="",MOD(入力用!$B$2,100),IF(入力用!$C$27=2,"B",IF(入力用!$C$27=3,"C","合同")))) | B8: =IF(MasterCSV!A18="","",MasterCSV!A18)
