{"text_format":"1","workbook":"xlsx","n_sheets":5,"sheets":["entry_1","entry_2","MAT_CSV","print_out","DATA"],"not_rendered":{"charts":0,"images":0,"macros":1,"external_links":1,"defined_names":15,"comments":1,"pivot_tables":0},"unopened":[],"bounds":{"document_bytes":16777216,"sheet_cells":100000,"rows_first":2000,"rows_last":500,"rows_between":2000,"halvings":0,"cell_chars":16384,"cell_head_chars":4096},"cells_cut":0,"cells_raw":0,"read":"whole","date_system":"1900"}

{"sheet":"entry_1","index":0,"n_rows":232,"n_cols":17,"rows_kept":232,"cut":false,"hidden":false,"merged":[[0,0,0,12],[1,0,1,12],[4,1,4,4],[7,1,7,2],[5,1,5,2],[6,11,7,13],[4,11,5,13],[6,7,7,10],[5,3,5,4],[6,3,6,4],[7,3,7,4],[6,1,6,2],[8,11,8,13],[11,1,11,2],[10,3,10,6],[11,3,11,6],[9,1,9,2],[9,3,9,6],[8,1,8,2],[10,8,11,12],[10,1,10,2],[13,1,13,2],[14,1,14,2],[13,3,13,6],[8,3,8,9],[14,3,14,6],[14,8,16,13],[12,3,12,6],[12,1,12,2],[16,3,16,6],[12,8,13,13],[15,3,15,6],[15,1,15,2],[16,1,16,2]]}
["2026年度秋季記録会(高等学校の部）"]
["記録会申込書(様式1）・申込データ作成プログラム Ver2026"]
[]
[]
[null,"①申込必要事項入力",null,null,null,null,null,null,null,null,null,"※１:定通制・多部制は学校番号\n4801を選択し\n①の必要事項は手書きする。"]
[null,"①学校番号"]
[null,"＿学 校 名",null,{"$f":"IF(D6=\"\",\"\",VLOOKUP($D$6,$K$21:$Q$235,2,FALSE))","v":""},null,null,null,"必要事項入力後、上のボタンをクリック(マクロ機能有効にしてください。)",null,null,null,"※２:(2026aki_koko)このファイルと作成したCSVファイルの２つを添付ファイルとして送信すること。"]
[null,"＿郵便番号",null,{"$f":"IF(D6=\"\",\"\",VLOOKUP($D$6,$K$21:$Q$235,5,FALSE))","v":""}]
[null,"＿所 在 地",null,{"$f":"IF(D6=\"\",\"\",VLOOKUP($D$6,$K$21:$Q$235,6,FALSE))","v":""},null,null,null,null,null,null,null,"※２定通以外も2つのファイルを送信"]
[null,"＿電話番号",null,{"$f":"IF(D6=\"\",\"\",VLOOKUP($D$6,$K$21:$Q$235,7,FALSE))","v":""}]
[null,"②学校長名",null,null,null,null,null,null,"※申込用紙送付先：9月8日(火)必着\n〒662‐0813 西宮市上甲東園2-4-32\n兵庫県立西宮高等学校内 松井　学林 宛"]
[null,"③申込責任者"]
[null,"④緊急連絡先",null,null,null,null,null,null,"※申込用CSVデータ送付先：9月8日(火)　必着\n　　　メール・郵送とも余裕をもって送付ください\nメールアドレス：koukou@haaa.jp"]
[null,"⑤審判員氏名"]
[null,"＿審判員氏名",null,null,null,null,null,null,"※参加料 １種目 １０００円：２種目目 ５００円\n　　納入期限9月9日(火)\n「通信欄」に金額内容と学校コード・学校名を記入\n口座番号 ００９９０－６－２７５０５３\n加入者名 兵庫県高体連陸上競技部"]
[null,"＿審判員氏名"]
[null,"＿審判員氏名"]
[]
[null,null,null,"Microsoft Excel Ver2013/2016動作確認済"]
[null,null,null,null,null,null,null,null,null,null,"〔阪神地区〕"]
[null,"必要事項入力チェック",null,null,null,null,null,null,null,null,4101,"県尼崎",null,null,"660-0804","尼崎市北大物町18-1","06-6401-0643"]
[null,{"$f":"IF(D6=\"\",1,0)","v":1},null,null,null,null,null,null,null,null,4102,"市尼崎",null,null,"661-0014","尼崎市上ノ島町1-38-1","06-6429-0169"]
[null,{"$f":"IF(D7=\"\",1,0)","v":1},null,null,null,null,null,null,null,null,4103,"尼崎双星",null,null,"661-0983","尼崎市口田中2-8-1","06-6491-7000"]
[null,1,null,null,null,null,null,null,null,null,4104,"尼崎西",null,null,"660-0076","尼崎市大島2-34-1","06-6417-5021"]
[null,1,null,null,null,null,null,null,null,null,4105,"尼崎北",null,null,"661-0002","尼崎市塚口町5-40-1","06-6421-0132"]
[null,1,null,null,null,null,null,null,null,null,4106,"尼崎稲園",null,null,"661-0981","尼崎市猪名寺3-1-1","06-6422-0271"]
[null,1,null,null,null,null,null,null,null,null,4107,"尼崎小田",null,null,"660-0802","尼崎市長洲中通2-17-46","06-6488-5335"]
[null,1,null,null,null,null,null,null,null,null,4109,"武庫荘総合",null,null,"661-0035","尼崎市武庫之荘8-31-1","06-6431-5520"]
[null,1,null,null,null,null,null,null,null,null,4110,"尼崎工",null,null,"660-0802","尼崎市長洲中通1-13-1","06-6481-4841"]
[null,1,null,null,null,null,null,null,null,null,4112,"園田学園",null,null,"661-0012","尼崎市南塚口町1-24-16","06-6428-2242"]
[null,{"$f":"SUM(B22:B30)","v":9},null,null,null,null,null,null,null,null,4113,"百合",null,null,"661-0974","尼崎市若王寺2-18-2","06-6491-6298"]
[null,null,null,null,null,null,null,null,null,null,4114,"県西宮",null,null,"662-0813","西宮市上甲東園2ｰ4ｰ32","0798-52-0185"]
[null,null,null,null,null,null,null,null,null,null,4115,"市西宮",null,null,"662-0872","西宮市高座町14-117","0798-74-6711"]
[null,null,null,null,null,null,null,null,null,null,4116,"西宮東",null,null,"663-8185","西宮市古川町1-12","0798-47-6013"]
[null,null,null,null,null,null,null,null,null,null,4117,"西宮南",null,null,"663-8141","西宮市高須町2-1-43","0798-45-2043"]
[null,null,null,null,null,null,null,null,null,null,4118,"西北苦楽園",null,null,"662-0082","西宮市苦楽園二番町16-80","0798-71-1301"]
[null,null,null,null,null,null,null,null,null,null,4119,"鳴尾",null,null,"663-8182","西宮市学文殿町2-1-60","0798-47-1324"]
[null,null,null,null,null,null,null,null,null,null,4120,"西宮今津",null,null,"663-8154","西宮市浜甲子園4-1-5","0798-45-1941"]
[null,null,null,null,null,null,null,null,null,null,4121,"西宮甲山",null,null,"662-0004","西宮市鷲林寺字剣谷10","0798-74-2460"]
[null,null,null,null,null,null,null,null,null,null,4122,"甲陽",null,null,"662-0096","西宮市角石町3-138","0798-73-3011"]
[null,null,null,null,null,null,null,null,null,null,4123,"関西学院",null,null,"662-8501","西宮市上ヶ原一番町1-155","0798-51-0975"]
[null,null,null,null,null,null,null,null,null,null,4124,"女学院",null,null,"662-8505","西宮市岡田山4-1","0798-51-8570"]
[null,null,null,null,null,null,null,null,null,null,4125,"仁川",null,null,"662-0812","西宮市甲東園2-13-9","0798-51-3621"]
[null,null,null,null,null,null,null,null,null,null,4126,"報徳",null,null,"663-8003","西宮市上大市5-28-19","0798-51-3021"]
[null,null,null,null,null,null,null,null,null,null,4127,"武庫川大附",null,null,"663-8143","西宮市枝川町4-16","0798-47-6436"]
[null,null,null,null,null,null,null,null,null,null,4128,"甲子園",null,null,"663-8107","西宮市瓦林町4-25","0798-65-6100"]
[null,null,null,null,null,null,null,null,null,null,4130,"県伊丹",null,null,"664-0012","伊丹市緑ヶ丘7-31-1","072-782-2065"]
[null,null,null,null,null,null,null,null,null,null,4131,"市伊丹",null,null,"664-0857","伊丹市行基町4-1","072-772-2040"]
[null,null,null,null,null,null,null,null,null,null,4132,"伊丹西",null,null,"664-0025","伊丹市奥畑3-5","072-777-3711"]
[null,null,null,null,null,null,null,null,null,null,4133,"伊丹北",null,null,"664-0006","伊丹市鴻池7-2-1","072-779-4651"]
[null,null,null,null,null,null,null,null,null,null,4134,"川西緑台",null,null,"666-0115","川西市向陽台1-8","072-793-0361"]
[null,null,null,null,null,null,null,null,null,null,4135,"川西明峰",null,null,"666-0006","川西市萩原台西2-324","072-757-8826"]
[null,null,null,null,null,null,null,null,null,null,4136,"川西北陵",null,null,"666-0157","川西市緑が丘2-14-1","072-794-7411"]
[null,null,null,null,null,null,null,null,null,null,4137,"猪名川",null,null,"666-0233","川辺郡猪名川町紫合字新林4-4","072-766-0101"]
[null,null,null,null,null,null,null,null,null,null,4138,"宝塚",null,null,"665-0024","宝塚市逆瀬台2-2-1","0797-71-0345"]
[null,null,null,null,null,null,null,null,null,null,4139,"宝塚東",null,null,"665-0871","宝塚市中山五月台1-12-1","0797-89-3751"]
[null,null,null,null,null,null,null,null,null,null,4140,"宝塚西",null,null,"665-0025","宝塚市ゆずり葉台1-1-1","0797-73-4035"]
[null,null,null,null,null,null,null,null,null,null,4141,"宝塚北",null,null,"665-0847","宝塚市すみれガ丘4-1-1","0797-86-3291"]
[null,null,null,null,null,null,null,null,null,null,4142,"小林聖心",null,null,"665-0073","宝塚市塔の町3-113","0797-71-7321"]
[null,null,null,null,null,null,null,null,null,null,4143,"芦屋",null,null,"659-0063","芦屋市宮川町6-3","0797-32-2325"]
[null,null,null,null,null,null,null,null,null,null,4144,"雲雀丘",null,null,"665-0805","宝塚市雲雀丘4-2-1","072-759-1300"]
[null,null,null,null,null,null,null,null,null,null,4145,"県国際",null,null,"659-0031","芦屋市新浜町1-2","0797-35-5931"]
[null,null,null,null,null,null,null,null,null,null,4146,"芦屋学園",null,null,"659-0011","芦屋市六麓荘町16-18","0797-31-0666"]
[null,null,null,null,null,null,null,null,null,null,4147,"甲南",null,null,"659-0096","芦屋市山手町31-3","0797-31-0551"]
[null,null,null,null,null,null,null,null,null,null,4148,"芦国中等",null,null,"659-0031","芦屋市新浜町1-2","0797-38-2293"]
[null,null,null,null,null,null,null,null,null,null,"〔神戸地区〕"]
[null,null,null,null,null,null,null,null,null,null,4201,"東灘",null,null,"658-0023","神戸市東灘区深江浜町50","078-452-9600"]
[null,null,null,null,null,null,null,null,null,null,4202,"甲南女",null,null,"658-0001","神戸市東灘区森北町5-6-1","078-411-2531"]
[null,null,null,null,null,null,null,null,null,null,4203,"灘",null,null,"658-0082","神戸市東灘区魚崎北町8-5-1","078-411-7234"]
[null,null,null,null,null,null,null,null,null,null,4204,"六甲アイ",null,null,"658-0032","神戸市東灘区向洋町中4-4","078-858-4000"]
[null,null,null,null,null,null,null,null,null,null,4205,"神大附中等",null,null,"658-0063","神戸市東灘区住吉山手5-11-1","078-811-0232"]
[null,null,null,null,null,null,null,null,null,null,4206,"神戸科技",null,null,"651-0072","神戸市中央区脇浜町1-4-70","078-272-9900"]
[null,null,null,null,null,null,null,null,null,null,4207,"御影",null,null,"658-0045","神戸市東灘区御影石町4-1-1","078-841-1501"]
[null,null,null,null,null,null,null,null,null,null,4208,"六甲",null,null,"657-0015","神戸市灘区篠原伯母野山町2-4-1","078-871-4161"]
[null,null,null,null,null,null,null,null,null,null,4209,"神戸",null,null,"657-0804","神戸市灘区城の下通1-5-１","078-861-0434"]
[null,null,null,null,null,null,null,null,null,null,4210,"海星",null,null,"657-0805","神戸市灘区青谷町2-7-1","078-801-5601"]
[null,null,null,null,null,null,null,null,null,null,4211,"松蔭",null,null,"657-0805","神戸市灘区青谷町3-4-47","078-861-1105"]
[null,null,null,null,null,null,null,null,null,null,4212,"葺合",null,null,"651-0054","神戸市中央区野崎通1-1-1","078-291-0771"]
[null,null,null,null,null,null,null,null,null,null,4213,"神戸龍谷",null,null,"651-0052","神戸市中央区中島通5-3-1","078-241-0076"]
[null,null,null,null,null,null,null,null,null,null,4214,"神戸第一",null,null,"651-0058","神戸市中央区葺合町寺ヶ谷1","078-242-4811"]
[null,null,null,null,null,null,null,null,null,null,4215,"神港学園",null,null,"650-0003","神戸市中央区山本通4-19-20","078-241-3135"]
[null,null,null,null,null,null,null,null,null,null,4216,"山手",null,null,"650-0006","神戸市中央区諏訪山町6-1","078-341-2133"]
[null,null,null,null,null,null,null,null,null,null,4217,"親和",null,null,"657-0022","神戸市灘区土山町6-1","078-854-3800"]
[null,null,null,null,null,null,null,null,null,null,4218,"神戸北",null,null,"651-1332","神戸市北区唐櫃台2-41-1","078-981-0131"]
[null,null,null,null,null,null,null,null,null,null,4219,"神戸弘陵",null,null,"651-1101","神戸市北区山田町小部妙賀山10-4","078-593-3535"]
[null,null,null,null,null,null,null,null,null,null,4220,"神戸甲北",null,null,"651-1144","神戸市北区大脇台9-1","078-593-7291"]
[null,null,null,null,null,null,null,null,null,null,4221,"神戸鈴蘭台",null,null,"651-1102","神戸市北区山田町下谷上字中一里山9-107","078-591-1331"]
[null,null,null,null,null,null,null,null,null,null,4223,"夙川",null,null,"652-0043","神戸市兵庫区会下山町1-7-1","078-578-7226"]
[null,null,null,null,null,null,null,null,null,null,4224,"神院大附",null,null,"652-0046","神戸市中央区港島中町4-6-3","078-511-6004"]
[null,null,null,null,null,null,null,null,null,null,4225,"兵庫工",null,null,"652-0863","神戸市兵庫区和田宮通2-1-63","078-671-1431"]
[null,null,null,null,null,null,null,null,null,null,4226,"神港橘",null,null,"652-0043","神戸市兵庫区下山町3-16-1","078-579-2000"]
[null,null,null,null,null,null,null,null,null,null,4227,"夢野台",null,null,"653-0801","神戸市長田区房王寺町2-1-1","078-691-1546"]
[null,null,null,null,null,null,null,null,null,null,4228,"兵庫",null,null,"653-0804","神戸市長田区寺池町1-4-1","078-691-1135"]
[null,null,null,null,null,null,null,null,null,null,4229,"彩星工科",null,null,"653-0003","神戸市長田区五番町8-5","078-575-0230"]
[null,null,null,null,null,null,null,null,null,null,4230,"長田",null,null,"653-0821","神戸市長田区池田谷町2-5","078-621-4101"]
[null,null,null,null,null,null,null,null,null,null,4231,"常盤",null,null,"653-0824","神戸市長田区池田上町92","078-691-0561"]
[null,null,null,null,null,null,null,null,null,null,4232,"神戸星城",null,null,"654-0113","神戸市須磨区緑が丘1-12-1","078-741-1860"]
[null,null,null,null,null,null,null,null,null,null,4233,"神戸野田",null,null,"653-0052","神戸市長田区海運町6-1-7","078-731-8015"]
[null,null,null,null,null,null,null,null,null,null,4234,"育英",null,null,"653-0855","神戸市長田区長尾町2-1-15","078-611-6001"]
[null,null,null,null,null,null,null,null,null,null,4235,"滝川",null,null,"654-0007","神戸市須磨区宝田町2-1-1","078-732-1625"]
[null,null,null,null,null,null,null,null,null,null,4236,"須磨学園",null,null,"654-0009","神戸市須磨区板宿町3-15-14","078-732-1968"]
[null,null,null,null,null,null,null,null,null,null,4237,"須磨翔風",null,null,"654-0155","神戸市須磨区西落合1-1-5","078-798-4155"]
[null,null,null,null,null,null,null,null,null,null,4238,"須磨ノ浦",null,null,"654-0052","神戸市須磨区行幸町2-7-3","078-735-7111"]
[null,null,null,null,null,null,null,null,null,null,4239,"須磨東",null,null,"654-0152","神戸市須磨区東落合1-1-1","078-793-1616"]
[null,null,null,null,null,null,null,null,null,null,4240,"啓明",null,null,"654-0131","神戸市須磨区横尾9-5-1","078-741-1501"]
[null,null,null,null,null,null,null,null,null,null,4241,"須磨友が丘",null,null,"654-0142","神戸市須磨区友が丘1-1-5","078-791-7881"]
[null,null,null,null,null,null,null,null,null,null,4242,"北須磨",null,null,"654-0142","神戸市須磨区友が丘9-23","078-792-7661"]
[null,null,null,null,null,null,null,null,null,null,4244,"県立視覚",null,null,"655-0884","神戸市垂水区城が山4-2-1","078-751-3291"]
[null,null,null,null,null,null,null,null,null,null,4245,"神戸聴覚",null,null,"655-0013","神戸市垂水区福田1-3-1","078-709-9301"]
[null,null,null,null,null,null,null,null,null,null,4246,"神戸国際附",null,null,"655-0004","神戸市垂水区学が丘5-1-1","078-707-1001"]
[null,null,null,null,null,null,null,null,null,null,4247,"舞子",null,null,"655-0004","神戸市垂水区学が丘3-2","078-783-5151"]
[null,null,null,null,null,null,null,null,null,null,4248,"星陵",null,null,"655-0038","神戸市垂水区星陵台4-3-2","078-707-6565"]
[null,null,null,null,null,null,null,null,null,null,4249,"神戸商",null,null,"655-0038","神戸市垂水区星陵台4-3-1","078-707-6464"]
[null,null,null,null,null,null,null,null,null,null,4250,"愛徳",null,null,"655-0037","神戸市垂水区歌敷山3-6-49","078-7085-5353"]
[null,null,null,null,null,null,null,null,null,null,4251,"神戸高専",null,null,"651-2194","神戸市西区学園東町8-3","078-795-3311"]
[null,null,null,null,null,null,null,null,null,null,4252,"伊川谷",null,null,"651-2104","神戸市西区伊川谷町長坂910-5","078-974-5630"]
[null,null,null,null,null,null,null,null,null,null,4253,"学都伊川北",null,null,"651-2103","神戸市西区学園西町6-1","078-792-6902"]
[null,null,null,null,null,null,null,null,null,null,4254,"神戸高塚",null,null,"651-2277","神戸市西区美賀多台9-1","078-992-7000"]
[null,null,null,null,null,null,null,null,null,null,4255,"滝川第二",null,null,"651-2276","神戸市西区春日台6-23","078-961-2381"]
[null,null,null,null,null,null,null,null,null,null,4257,"神戸朝鮮",null,null,"655-0017","神戸市垂水区上高丸1-5-1","078-709-0255"]
[null,null,null,null,null,null,null,null,null,null,"〔東播地区〕"]
[null,null,null,null,null,null,null,null,null,null,4301,"明石",null,null,"673-8585","明石市荷山町1744","078-911-4376"]
[null,null,null,null,null,null,null,null,null,null,4302,"明石南",null,null,"673-0001","明石市明南町3-2-1","078-923-3617"]
[null,null,null,null,null,null,null,null,null,null,4303,"明石北",null,null,"674-0053","明石市大久保町松陰364-1","078-936-9100"]
[null,null,null,null,null,null,null,null,null,null,4304,"明石西",null,null,"674-0094","明石市二見町西二見1642-1","078-943-3350"]
[null,null,null,null,null,null,null,null,null,null,4305,"明石清水",null,null,"674-0074","明石市魚住町清水630-1","078-947-1182"]
[null,null,null,null,null,null,null,null,null,null,4306,"明石城西",null,null,"674-0062","明石市大久保町谷八木1190-7","078-936-8495"]
[null,null,null,null,null,null,null,null,null,null,4307,"明石商",null,null,"674-0072","明石市魚住町長坂寺1250","078-918-5950"]
[null,null,null,null,null,null,null,null,null,null,4308,"明石高専",null,null,"674-8501","明石市魚住町西岡679-3","078-946-6017"]
[null,null,null,null,null,null,null,null,null,null,4309,"県農",null,null,"675-0101","加古川市平岡町新在家902-4","079-424-3341"]
[null,null,null,null,null,null,null,null,null,null,4310,"東播工",null,null,"675-0057","加古川市東神吉町神吉1748-1","079-432-6861"]
[null,null,null,null,null,null,null,null,null,null,4311,"加古川東",null,null,"675-0039","加古川市加古川町粟津232-2","079-424-2726"]
[null,null,null,null,null,null,null,null,null,null,4312,"加古川西",null,null,"675-0037","加古川市加古川町本町118","079-424-2400"]
[null,null,null,null,null,null,null,null,null,null,4313,"加古川北",null,null,"675-0019","加古川市野口町水足867-1","079-426-6511"]
[null,null,null,null,null,null,null,null,null,null,4314,"加古川南",null,null,"675-0035","加古川市加古川町友沢65-1","079-421-2373"]
[null,null,null,null,null,null,null,null,null,null,4315,"高砂",null,null,"676-0021","高砂市高砂町朝日町2-5-1","079-442-2371"]
[null,null,null,null,null,null,null,null,null,null,4316,"高砂南",null,null,"676-0025","高砂市西畑2-1-12","079-443-5900"]
[null,null,null,null,null,null,null,null,null,null,4317,"松陽",null,null,"676-0082","高砂市曽根町2794-1","079-447-4021"]
[null,null,null,null,null,null,null,null,null,null,4318,"白陵",null,null,"676-0827","高砂市阿弥陀町阿弥陀2260","079-447-1675"]
[null,null,null,null,null,null,null,null,null,null,4319,"東播磨",null,null,"675-1127","加古郡稲美町中一色594-2","079-492-3111"]
[null,null,null,null,null,null,null,null,null,null,4320,"播磨南",null,null,"675-0163","加古郡播磨町古宮4-3-1","078-944-1157"]
[null,null,null,null,null,null,null,null,null,null,4321,"三木",null,null,"673-0402","三木市加佐931","0794-82-5001"]
[null,null,null,null,null,null,null,null,null,null,4322,"三木東総合",null,null,"673-0434","三木市別所町小林625-2","0794-85-8000"]
[null,null,null,null,null,null,null,null,null,null,4323,"三木北",null,null,"673-0521","三木市志染町青山6-25","0794-85-6781"]
[null,null,null,null,null,null,null,null,null,null,4324,"吉川",null,null,"673-1129","三木市吉川町渡瀬300-12","0794-73-0068"]
[null,null,null,null,null,null,null,null,null,null,4325,"小野",null,null,"675-1375","小野市西本町518","0794-63-2007"]
[null,null,null,null,null,null,null,null,null,null,4326,"小野工",null,null,"675-1335","小野市片山町1034-1","0794-63-1941"]
[null,null,null,null,null,null,null,null,null,null,4327,"社",null,null,"673-1461","加東市木梨1356-1","0795-42-2055"]
[null,null,null,null,null,null,null,null,null,null,4328,"西脇",null,null,"677-0054","西脇市野村町1794-60","0795-22-3566"]
[null,null,null,null,null,null,null,null,null,null,4329,"西脇工",null,null,"677-0054","西脇市野村町1790","0795-22-5506"]
[null,null,null,null,null,null,null,null,null,null,4330,"多可",null,null,"679-1105","多可郡多可町中区東山553","0795-32-3214"]
[null,null,null,null,null,null,null,null,null,null,4331,"北条",null,null,"675-2241","加西市段下町847-5","0790-48-2311"]
[null,null,null,null,null,null,null,null,null,null,4332,"播磨農",null,null,"675-2321","加西市北条町東高室1236-1","0790-42-1050"]
[null,null,null,null,null,null,null,null,null,null,4333,"相生学院",null,null,"675-0031","加古川市加古川町北在家2723ｾﾝﾀｰﾋﾞﾙ","079-420-0100"]
[null,null,null,null,null,null,null,null,null,null,4387,"西脇北",null,null,"677-0014 ","西脇市郷瀬町669-32","0795-22-5850"]
[null,null,null,null,null,null,null,null,null,null,"〔西播地区〕"]
[null,null,null,null,null,null,null,null,null,null,4401,"姫路別所",null,null,"671-0223","姫路市別所町北宿303-1","079-253-0755"]
[null,null,null,null,null,null,null,null,null,null,4402,"姫路東",null,null,"670-0012","姫路市本町68-70","079-285-1166"]
[null,null,null,null,null,null,null,null,null,null,4403,"淳心",null,null,"670-0012","姫路市本町68","079-222-3581"]
[null,null,null,null,null,null,null,null,null,null,4404,"賢明",null,null,"670-0012","姫路市本町68","079-223-8456"]
[null,null,null,null,null,null,null,null,null,null,4405,"姫路工",null,null,"670-0871","姫路市伊伝居600-1","079-284-0111"]
[null,null,null,null,null,null,null,null,null,null,4406,"姫路西",null,null,"670-0877","姫路市北八代2-1-33","079-281-6621"]
[null,null,null,null,null,null,null,null,null,null,4407,"姫路姫路市立",null,null,"670-0083","姫路市辻井9-1-10","079-297-2753"]
[null,null,null,null,null,null,null,null,null,null,4408,"東洋大姫路",null,null,"671-2201","姫路市書写1699","079-266-2626"]
[null,null,null,null,null,null,null,null,null,null,4409,"姫路女学院",null,null,"670-0964","姫路市豊沢町83","079-224-1711"]
[null,null,null,null,null,null,null,null,null,null,4410,"琴丘",null,null,"670-0052","姫路市今宿668","079-292-4925"]
[null,null,null,null,null,null,null,null,null,null,4411,"姫路商",null,null,"670-0983","姫路市井ノ口468","079-298-0437"]
[null,null,null,null,null,null,null,null,null,null,4412,"飾磨",null,null,"672-8031","姫路市飾磨区妻鹿672","079-245-1121"]
[null,null,null,null,null,null,null,null,null,null,4413,"飾磨工",null,null,"672-8064","姫路市飾磨区細江319","079-235-1951"]
[null,null,null,null,null,null,null,null,null,null,4414,"姫路南海稜",null,null,"671-1143","姫路市大津区天満191-5","079-236-1835"]
[null,null,null,null,null,null,null,null,null,null,4415,"網干",null,null,"671-1286","姫路市網干区新在家259-1","079-274-2012"]
[null,null,null,null,null,null,null,null,null,null,4416,"姫路飾西",null,null,"671-2216","姫路市飾西148-2","079-266-5355"]
[null,null,null,null,null,null,null,null,null,null,4417,"香寺",null,null,"679-2163","姫路市香寺町土師547","079-232-0048"]
[null,null,null,null,null,null,null,null,null,null,4418,"日ノ本",null,null,"679-2151","姫路市香寺町香呂890-1","079-232-5578"]
[null,null,null,null,null,null,null,null,null,null,4419,"福崎",null,null,"679-2212","神崎郡福崎町福田234-1","0790-22-1200"]
[null,null,null,null,null,null,null,null,null,null,4420,"市川",null,null,"679-2395","神崎郡市川町東川辺776-18","0790-26-0751"]
[null,null,null,null,null,null,null,null,null,null,4421,"神崎",null,null,"679-2415","神崎郡神河町福本488-1","0790-32-0209"]
[null,null,null,null,null,null,null,null,null,null,4422,"夢前",null,null,"671-2103","姫路市夢前町前之庄643-1","079-336-0039"]
[null,null,null,null,null,null,null,null,null,null,4423,"自由ヶ丘",null,null,"672-2131","姫路市夢前町戸倉566","079-336-3333"]
[null,null,null,null,null,null,null,null,null,null,4424,"家島",null,null,"672-0102","姫路市家島町宮1759-1","079-325-0165"]
[null,null,null,null,null,null,null,null,null,null,4425,"太子",null,null,"671-1532","揖保郡太子町糸井字糸井池19","079-277-0123"]
[null,null,null,null,null,null,null,null,null,null,4426,"龍野",null,null,"679-4161","たつの市龍野町日山554","0791-62-0886"]
[null,null,null,null,null,null,null,null,null,null,4427,"龍野北",null,null,"679-4316","たつの市新宮町芝田125-2","0791-75-2900"]
[null,null,null,null,null,null,null,null,null,null,4429,"相生",null,null,"678-0001","相生市山手1-722-10","0791-23-0800"]
[null,null,null,null,null,null,null,null,null,null,4430,"相生産",null,null,"678-0062","相生市千尋町10-50","0791-22-0595"]
[null,null,null,null,null,null,null,null,null,null,4431,"赤穂",null,null,"678-0225","赤穂市海浜町139","0791-43-2151"]
[null,null,null,null,null,null,null,null,null,null,4432,"上郡",null,null,"678-1233","赤穂郡上郡町大持207-1","0791-52-0069"]
[null,null,null,null,null,null,null,null,null,null,4433,"佐用",null,null,"679-5381","佐用郡佐用町佐用260","0790-82-2434"]
[null,null,null,null,null,null,null,null,null,null,4434,"山崎",null,null,"671-2570","宍粟市山崎町加生340","0790-62-1730"]
[null,null,null,null,null,null,null,null,null,null,4435,"伊和",null,null,"671-4131","宍粟市一宮町安積616-2","0790-72-0240"]
[null,null,null,null,null,null,null,null,null,null,4436,"千種",null,null,"671-3201","宍粟市千種町千草727-2","0790-76-2033"]
[null,null,null,null,null,null,null,null,null,null,4437,"姫路聴覚",null,null,"670-0012","姫路市本町68","079-284-0331"]
[null,null,null,null,null,null,null,null,null,null,4438,"播磨特別",null,null,"679-4002","たつの市揖西町中垣内乙135番地乙 ","0791-66-0091"]
[null,null,null,null,null,null,null,null,null,null,4439,"県立大附",null,null,"678-1205","赤穂郡上郡町光都3-11-1","0791-58-0722"]
[null,null,null,null,null,null,null,null,null,null,4484,"飾磨工多",null,null,"672-8064","姫路市飾磨区細江319","079-235-1951"]
[null,null,null,null,null,null,null,null,null,null,"〔丹有地区〕"]
[null,null,null,null,null,null,null,null,null,null,4501,"三田学園",null,null,"669-1535","三田市南が丘2-13-65","079-564-2291"]
[null,null,null,null,null,null,null,null,null,null,4502,"北摂三田",null,null,"669-1545","三田市狭間が丘1-1-1","079-563-6711"]
[null,null,null,null,null,null,null,null,null,null,4503,"有馬",null,null,"669-1531","三田市天神2-1-50","079-563-2881"]
[null,null,null,null,null,null,null,null,null,null,4504,"三田松聖",null,null,"669-1342","三田市四ツ辻1430","079-568-1001"]
[null,null,null,null,null,null,null,null,null,null,4505,"篠山鳳鳴",null,null,"669-2318","丹波篠山市大熊369","079-552-0047"]
[null,null,null,null,null,null,null,null,null,null,4506,"篠山産",null,null,"669-2341","丹波篠山市郡家403-1","079-552-1194"]
[null,null,null,null,null,null,null,null,null,null,4508,"篠山東雲",null,null,"669-2513","丹波篠山市福住1260","079-557-0039"]
[null,null,null,null,null,null,null,null,null,null,4509,"柏原",null,null,"669-3302","丹波市柏原町東奥50","0795-72-1166"]
[null,null,null,null,null,null,null,null,null,null,4510,"氷上",null,null,"669-4141","丹波市春日町黒井77","0795-74-0104"]
[null,null,null,null,null,null,null,null,null,null,4511,"氷上西",null,null,"669-3811","丹波市青垣町佐治378-3","0795-87-0146"]
[null,null,null,null,null,null,null,null,null,null,4512,"三田西陵",null,null,"669-1324","三田市ゆりのき台3-4","079-565-5287"]
[null,null,null,null,null,null,null,null,null,null,4513,"三田祥雲館",null,null,"669-1337","三田市学園1-1","079-560-6080"]
[null,null,null,null,null,null,null,null,null,null,"〔但馬地区〕"]
[null,null,null,null,null,null,null,null,null,null,4601,"生野",null,null,"679-3311","朝来市生野町真弓432-1","079-679-3123"]
[null,null,null,null,null,null,null,null,null,null,4602,"和田山",null,null,"669-5215","朝来市和田山町枚田岡376-1","079-672-3269"]
[null,null,null,null,null,null,null,null,null,null,4603,"八鹿",null,null,"667-0031","養父市八鹿町九鹿85","079-662-2176"]
[null,null,null,null,null,null,null,null,null,null,4605,"但馬農",null,null,"667-0043","養父市八鹿町高柳300-1","079-662-6107"]
[null,null,null,null,null,null,null,null,null,null,4606,"日高",null,null,"669-5395","豊岡市日高町岩中1","0796-42-1133"]
[null,null,null,null,null,null,null,null,null,null,4607,"出石",null,null,"668-0211","豊岡市出石町下谷35-1","0796-52-3131"]
[null,null,null,null,null,null,null,null,null,null,4609,"豊岡",null,null,"668-0042","豊岡市京町12-91","0796-22-2111"]
[null,null,null,null,null,null,null,null,null,null,4610,"豊岡総合",null,null,"668-0023","豊岡市加広町6-68","0796-22-7177"]
[null,null,null,null,null,null,null,null,null,null,4611,"近畿大豊岡",null,null,"668-0065","豊岡市戸牧100","0796-22-4305"]
[null,null,null,null,null,null,null,null,null,null,4612,"村岡",null,null,"667-1311","美方郡香美町村岡区村岡2931","0796-94-0201"]
[null,null,null,null,null,null,null,null,null,null,4613,"香住",null,null,"669-6563","美方郡香美町香住区矢田40-1","0796-36-1181"]
[null,null,null,null,null,null,null,null,null,null,4614,"浜坂",null,null,"669-6701","美方郡新温泉町芦屋853-2","0796-82-3174"]
[null,null,null,null,null,null,null,null,null,null,4616,"大岡学園",null,null,"668-0065","豊岡市戸牧500-3","0796-22-3786"]
[null,null,null,null,null,null,null,null,null,null,4617,"生野学園",null,null,"679-3331","朝来市生野町栃原字西桝渕28-2","079-679-3451"]
[null,null,null,null,null,null,null,null,null,null,"〔淡路地区〕"]
[null,null,null,null,null,null,null,null,null,null,4701,"洲本",null,null,"656-0053","洲本市上物部2-8-5","0799-22-1550"]
[null,null,null,null,null,null,null,null,null,null,4702,"洲本実",null,null,"656-0012","洲本市宇山2-8-65","0799-22-1240"]
[null,null,null,null,null,null,null,null,null,null,4703,"柳",null,null,"656-0013","洲本市下加茂1-9-48","0799-22-2552"]
[null,null,null,null,null,null,null,null,null,null,4704,"津名",null,null,"656-2131","淡路市志筑249-1","0799-62-0071"]
[null,null,null,null,null,null,null,null,null,null,4706,"淡路",null,null,"656-1711","淡路市富島171-2","0799-82-1137"]
[null,null,null,null,null,null,null,null,null,null,4708,"淡路三原",null,null,"656-0461","南あわじ市市円行寺345-1","0799-42-0048"]
[null,null,null,null,null,null,null,null,null,null,"〔定通制〕"]
[null,null,null,null,null,null,null,null,null,null,4801,"_",null,null,"_","_","_"]

{"sheet":"entry_2","index":1,"n_rows":227,"n_cols":29,"rows_kept":227,"cut":false,"hidden":false,"merged":[[3,20,3,21],[3,4,4,5],[3,2,4,3],[5,24,5,27],[0,0,0,18],[1,0,1,18],[2,1,2,7],[5,20,5,23],[2,8,2,9],[1,20,1,21],[2,20,2,21]]}
["2026年度秋季記録会(高等学校の部）"]
["記録会申込書(様式1）・申込データ作成プログラム",null,null,null,null,null,null,null,null,null,null,null,null,null,null,null,null,null,null,null,"1種目",null,{"$f":"COUNTIF(S7:S126,1)","v":0},{"$f":"W2*1000","v":0}]
[null,"②個人種目エントリー入力",null,null,null,null,null,null,{"$f":"entry_1!D6&\"_\"&entry_1!D7","v":"_"},null,null,null,null,null,null,null,null,null,null,null,"2種目",null,{"$f":"COUNTIF(S7:S126,2)","v":0},{"$f":"W3*1500","v":0}]
[null,null,"参加料合計",null,{"$f":"X4","v":0},null,null,null,"男子",{"$f":"COUNTIF(H7:H126,\"男\")","v":0},"名",null,null,null,null,null,null,null,null,null,"合計",null,{"$f":"SUM(W2:W3)","v":0},{"$f":"SUM(X2:X3)","v":0},null,null,null,null,"SC"]
[null,null,null,null,null,null,null,null,"女子",{"$f":"COUNTIF(H7:H1261,\"女\")","v":0},"名",null,null,null,null,null,null,null,null,null,null,null,null,null,null,null,null,null,{"$f":"entry_1!D6","v":0}]
["№","登録\n番号","姓","名","姓ﾌﾘｶﾞﾅ","名ﾌﾘｶﾞﾅ","学年","性別","種目１","分\n","秒\nｍ","1/\n100\ncm",null,"種目２","分\n","秒\nｍ","1/\n100\ncm",null,"種目数",null,"s1_data",null,null,null,"s2_data",null,null,null,"lenb"]
[1,null,null,null,null,null,null,null,null,null,null,null,null,null,null,null,null,null,{"$f":"COUNTA(I7,N7)","v":0},null,{"$f":"IF(M7=\"手\",1,0)","v":0},{"$f":"IF(I7=\"\",\"\",VLOOKUP(I7,code,2,FALSE))","v":""},{"$f":"IF(I7=\"\",\"\",VLOOKUP(I7,code,5,FALSE))","v":""},{"$f":"IF(I7=\"\",\"\",IF(AND(V7=\"01T\",U7=0),FIXED((J7*10000+K7*100+L7)/10000000,7),IF(AND(V7=\"01T\",U7=1),FIXED((J7*10000+K7*100+L7*10)/10000000,6),IF(OR(V7=\"02F\",V7=\"03C\"),FIXED((J7*10000+K7*100+L7)/100000,5)))))","v":""},{"$f":"IF(R7=\"手\",1,0)","v":0},{"$f":"IF(N7=\"\",\"\",VLOOKUP(N7,code,2,FALSE))","v":""},{"$f":"IF(N7=\"\",\"\",VLOOKUP(N7,code,5,FALSE))","v":""},{"$f":"IF(N7=\"\",\"\",IF(AND(Z7=\"01T\",Y7=0),FIXED((O7*10000+P7*100+Q7)/10000000,7),IF(AND(Z7=\"01T\",Y7=1),FIXED((O7*10000+P7*100+Q7*10)/10000000,6),IF(OR(Z7=\"02F\",Z7=\"03C\"),FIXED((O7*10000+P7*100+Q7)/100000,5)))))","v":""},{"$f":"IF(B7=\"\",\"\",LENB(C7)+LENB(D7))","v":""}]
[2,null,null,null,null,null,null,null,null,null,null,null,null,null,null,null,null,null,0,null,{"$f":"IF(M8=\"手\",1,0)","v":0},"","",{"$f":"IF(I8=\"\",\"\",IF(AND(V8=\"01T\",U8=0),FIXED((J8*10000+K8*100+L8)/10000000,7),IF(AND(V8=\"01T\",U8=1),FIXED((J8*10000+K8*100+L8*10)/10000000,6),IF(OR(V8=\"02F\",V8=\"03C\"),FIXED((J8*10000+K8*100+L8)/100000,5)))))","v":""},{"$f":"IF(R8=\"手\",1,0)","v":0},"","",{"$f":"IF(N8=\"\",\"\",IF(AND(Z8=\"01T\",Y8=0),FIXED((O8*10000+P8*100+Q8)/10000000,7),IF(AND(Z8=\"01T\",Y8=1),FIXED((O8*10000+P8*100+Q8*10)/10000000,6),IF(OR(Z8=\"02F\",Z8=\"03C\"),FIXED((O8*10000+P8*100+Q8)/100000,5)))))","v":""},{"$f":"IF(B8=\"\",\"\",LENB(C8)+LENB(D8))","v":""}]
[3,null,null,null,null,null,null,null,null,null,null,null,null,null,null,null,null,null,0,null,0,"","","",0,"","","",""]
[4,null,null,null,null,null,null,null,null,null,null,null,null,null,null,null,null,null,0,null,0,"","","",0,"","","",""]
[5,null,null,null,null,null,null,null,null,null,null,null,null,null,null,null,null,null,0,null,0,"","","",0,"","","",""]
[6,null,null,null,null,null,null,null,null,null,null,null,null,null,null,null,null,null,0,null,0,"","","",0,"","","",""]
[7,null,null,null,null,null,null,null,null,null,null,null,null,null,null,null,null,null,0,null,0,"","","",0,"","","",""]
[8,null,null,null,null,null,null,null,null,null,null,null,null,null,null,null,null,null,0,null,0,"","","",0,"","","",""]
[9,null,null,null,null,null,null,null,null,null,null,null,null,null,null,null,null,null,0,null,0,"","","",0,"","","",""]
[10,null,null,null,null,null,null,null,null,null,null,null,null,null,null,null,null,null,0,null,0,"","","",0,"","","",""]
[11,null,null,null,null,null,null,null,null,null,null,null,null,null,null,null,null,null,0,null,0,"","","",0,"","","",""]
[12,null,null,null,null,null,null,null,null,null,null,null,null,null,null,null,null,null,0,null,0,"","","",0,"","","",""]
[13,null,null,null,null,null,null,null,null,null,null,null,null,null,null,null,null,null,0,null,0,"","","",0,"","","",""]
[14,null,null,null,null,null,null,null,null,null,null,null,null,null,null,null,null,null,0,null,0,"","","",0,"","","",""]
[15,null,null,null,null,null,null,null,null,null,null,null,null,null,null,null,null,null,0,null,0,"","","",0,"","","",""]
[16,null,null,null,null,null,null,null,null,null,null,null,null,null,null,null,null,null,0,null,0,"","","",0,"","","",""]
[17,null,null,null,null,null,null,null,null,null,null,null,null,null,null,null,null,null,0,null,0,"","","",0,"","","",""]
[18,null,null,null,null,null,null,null,null,null,null,null,null,null,null,null,null,null,0,null,0,"","","",0,"","","",""]
[19,null,null,null,null,null,null,null,null,null,null,null,null,null,null,null,null,null,0,null,0,"","","",0,"","","",""]
[20,null,null,null,null,null,null,null,null,null,null,null,null,null,null,null,null,null,0,null,0,"","","",0,"","","",""]
[21,null,null,null,null,null,null,null,null,null,null,null,null,null,null,null,null,null,0,null,0,"","","",0,"","","",""]
[22,null,null,null,null,null,null,null,null,null,null,null,null,null,null,null,null,null,0,null,0,"","","",0,"","","",""]
[23,null,null,null,null,null,null,null,null,null,null,null,null,null,null,null,null,null,0,null,0,"","","",0,"","","",""]
[24,null,null,null,null,null,null,null,null,null,null,null,null,null,null,null,null,null,0,null,0,"","","",0,"","","",""]
[25,null,null,null,null,null,null,null,null,null,null,null,null,null,null,null,null,null,0,null,0,"","","",0,"","","",""]
[26,null,null,null,null,null,null,null,null,null,null,null,null,null,null,null,null,null,0,null,0,"","","",0,"","","",""]
[27,null,null,null,null,null,null,null,null,null,null,null,null,null,null,null,null,null,0,null,0,"","","",0,"","","",""]
[28,null,null,null,null,null,null,null,null,null,null,null,null,null,null,null,null,null,0,null,0,"","","",0,"","","",""]
[29,null,null,null,null,null,null,null,null,null,null,null,null,null,null,null,null,null,0,null,0,"","","",0,"","","",""]
[30,null,null,null,null,null,null,null,null,null,null,null,null,null,null,null,null,null,0,null,0,"","","",0,"","","",""]
[31,null,null,null,null,null,null,null,null,null,null,null,null,null,null,null,null,null,0,null,0,"","","",0,"","","",""]
[32,null,null,null,null,null,null,null,null,null,null,null,null,null,null,null,null,null,0,null,0,"","","",0,"","","",""]
[33,null,null,null,null,null,null,null,null,null,null,null,null,null,null,null,null,null,{"$f":"COUNTA(I39,N39)","v":0},null,0,{"$f":"IF(I39=\"\",\"\",VLOOKUP(I39,code,2,FALSE))","v":""},{"$f":"IF(I39=\"\",\"\",VLOOKUP(I39,code,5,FALSE))","v":""},"",0,{"$f":"IF(N39=\"\",\"\",VLOOKUP(N39,code,2,FALSE))","v":""},{"$f":"IF(N39=\"\",\"\",VLOOKUP(N39,code,5,FALSE))","v":""},"",""]
[34,null,null,null,null,null,null,null,null,null,null,null,null,null,null,null,null,null,0,null,0,"","","",0,"","","",""]
[35,null,null,null,null,null,null,null,null,null,null,null,null,null,null,null,null,null,0,null,0,"","","",0,"","","",""]
[36,null,null,null,null,null,null,null,null,null,null,null,null,null,null,null,null,null,0,null,0,"","","",0,"","","",""]
[37,null,null,null,null,null,null,null,null,null,null,null,null,null,null,null,null,null,0,null,0,"","","",0,"","","",""]
[38,null,null,null,null,null,null,null,null,null,null,null,null,null,null,null,null,null,0,null,0,"","","",0,"","","",""]
[39,null,null,null,null,null,null,null,null,null,null,null,null,null,null,null,null,null,0,null,0,"","","",0,"","","",""]
[40,null,null,null,null,null,null,null,null,null,null,null,null,null,null,null,null,null,0,null,0,"","","",0,"","","",""]
[41,null,null,null,null,null,null,null,null,null,null,null,null,null,null,null,null,null,0,null,0,"","","",0,"","","",""]
[42,null,null,null,null,null,null,null,null,null,null,null,null,null,null,null,null,null,0,null,0,"","","",0,"","","",""]
[43,null,null,null,null,null,null,null,null,null,null,null,null,null,null,null,null,null,0,null,0,"","","",0,"","","",""]
[44,null,null,null,null,null,null,null,null,null,null,null,null,null,null,null,null,null,0,null,0,"","","",0,"","","",""]
[45,null,null,null,null,null,null,null,null,null,null,null,null,null,null,null,null,null,0,null,0,"","","",0,"","","",""]
[46,null,null,null,null,null,null,null,null,null,null,null,null,null,null,null,null,null,0,null,0,"","","",0,"","","",""]
[47,null,null,null,null,null,null,null,null,null,null,null,null,null,null,null,null,null,0,null,0,"","","",0,"","","",""]
[48,null,null,null,null,null,null,null,null,null,null,null,null,null,null,null,null,null,0,null,0,"","","",0,"","","",""]
[49,null,null,null,null,null,null,null,null,null,null,null,null,null,null,null,null,null,0,null,0,"","","",0,"","","",""]
[50,null,null,null,null,null,null,null,null,null,null,null,null,null,null,null,null,null,0,null,0,"","","",0,"","","",""]
[51,null,null,null,null,null,null,null,null,null,null,null,null,null,null,null,null,null,0,null,0,"","","",0,"","","",""]
[52,null,null,null,null,null,null,null,null,null,null,null,null,null,null,null,null,null,0,null,0,"","","",0,"","","",""]
[53,null,null,null,null,null,null,null,null,null,null,null,null,null,null,null,null,null,0,null,0,"","","",0,"","","",""]
[54,null,null,null,null,null,null,null,null,null,null,null,null,null,null,null,null,null,0,null,0,"","","",0,"","","",""]
[55,null,null,null,null,null,null,null,null,null,null,null,null,null,null,null,null,null,0,null,0,"","","",0,"","","",""]
[56,null,null,null,null,null,null,null,null,null,null,null,null,null,null,null,null,null,0,null,0,"","","",0,"","","",""]
[57,null,null,null,null,null,null,null,null,null,null,null,null,null,null,null,null,null,0,null,0,"","","",0,"","","",""]
[58,null,null,null,null,null,null,null,null,null,null,null,null,null,null,null,null,null,0,null,0,"","","",0,"","","",""]
[59,null,null,null,null,null,null,null,null,null,null,null,null,null,null,null,null,null,0,null,0,"","","",0,"","","",""]
[60,null,null,null,null,null,null,null,null,null,null,null,null,null,null,null,null,null,0,null,0,"","","",0,"","","",""]
[61,null,null,null,null,null,null,null,null,null,null,null,null,null,null,null,null,null,0,null,0,"","","",0,"","","",""]
[62,null,null,null,null,null,null,null,null,null,null,null,null,null,null,null,null,null,0,null,0,"","","",0,"","","",""]
[63,null,null,null,null,null,null,null,null,null,null,null,null,null,null,null,null,null,0,null,0,"","","",0,"","","",""]
[64,null,null,null,null,null,null,null,null,null,null,null,null,null,null,null,null,null,0,null,0,"","","",0,"","","",""]
[65,null,null,null,null,null,null,null,null,null,null,null,null,null,null,null,null,null,{"$f":"COUNTA(I71,N71)","v":0},null,0,{"$f":"IF(I71=\"\",\"\",VLOOKUP(I71,code,2,FALSE))","v":""},{"$f":"IF(I71=\"\",\"\",VLOOKUP(I71,code,5,FALSE))","v":""},"",0,{"$f":"IF(N71=\"\",\"\",VLOOKUP(N71,code,2,FALSE))","v":""},{"$f":"IF(N71=\"\",\"\",VLOOKUP(N71,code,5,FALSE))","v":""},"",""]
[66,null,null,null,null,null,null,null,null,null,null,null,null,null,null,null,null,null,0,null,{"$f":"IF(M72=\"手\",1,0)","v":0},"","",{"$f":"IF(I72=\"\",\"\",IF(AND(V72=\"01T\",U72=0),FIXED((J72*10000+K72*100+L72)/10000000,7),IF(AND(V72=\"01T\",U72=1),FIXED((J72*10000+K72*100+L72*10)/10000000,6),IF(OR(V72=\"02F\",V72=\"03C\"),FIXED((J72*10000+K72*100+L72)/100000,5)))))","v":""},{"$f":"IF(R72=\"手\",1,0)","v":0},"","",{"$f":"IF(N72=\"\",\"\",IF(AND(Z72=\"01T\",Y72=0),FIXED((O72*10000+P72*100+Q72)/10000000,7),IF(AND(Z72=\"01T\",Y72=1),FIXED((O72*10000+P72*100+Q72*10)/10000000,6),IF(OR(Z72=\"02F\",Z72=\"03C\"),FIXED((O72*10000+P72*100+Q72)/100000,5)))))","v":""},{"$f":"IF(B72=\"\",\"\",LENB(C72)+LENB(D72))","v":""}]
[67,null,null,null,null,null,null,null,null,null,null,null,null,null,null,null,null,null,0,null,0,"","","",0,"","","",""]
[68,null,null,null,null,null,null,null,null,null,null,null,null,null,null,null,null,null,0,null,0,"","","",0,"","","",""]
[69,null,null,null,null,null,null,null,null,null,null,null,null,null,null,null,null,null,0,null,0,"","","",0,"","","",""]
[70,null,null,null,null,null,null,null,null,null,null,null,null,null,null,null,null,null,0,null,0,"","","",0,"","","",""]
[71,null,null,null,null,null,null,null,null,null,null,null,null,null,null,null,null,null,0,null,0,"","","",0,"","","",""]
[72,null,null,null,null,null,null,null,null,null,null,null,null,null,null,null,null,null,0,null,0,"","","",0,"","","",""]
[73,null,null,null,null,null,null,null,null,null,null,null,null,null,null,null,null,null,0,null,0,"","","",0,"","","",""]
[74,null,null,null,null,null,null,null,null,null,null,null,null,null,null,null,null,null,0,null,0,"","","",0,"","","",""]
[75,null,null,null,null,null,null,null,null,null,null,null,null,null,null,null,null,null,0,null,0,"","","",0,"","","",""]
[76,null,null,null,null,null,null,null,null,null,null,null,null,null,null,null,null,null,0,null,0,"","","",0,"","","",""]
[77,null,null,null,null,null,null,null,null,null,null,null,null,null,null,null,null,null,0,null,0,"","","",0,"","","",""]
[78,null,null,null,null,null,null,null,null,null,null,null,null,null,null,null,null,null,0,null,0,"","","",0,"","","",""]
[79,null,null,null,null,null,null,null,null,null,null,null,null,null,null,null,null,null,0,null,0,"","","",0,"","","",""]
[80,null,null,null,null,null,null,null,null,null,null,null,null,null,null,null,null,null,0,null,0,"","","",0,"","","",""]
[81,null,null,null,null,null,null,null,null,null,null,null,null,null,null,null,null,null,0,null,0,"","","",0,"","","",""]
[82,null,null,null,null,null,null,null,null,null,null,null,null,null,null,null,null,null,0,null,0,"","","",0,"","","",""]
[83,null,null,null,null,null,null,null,null,null,null,null,null,null,null,null,null,null,0,null,0,"","","",0,"","","",""]
[84,null,null,null,null,null,null,null,null,null,null,null,null,null,null,null,null,null,0,null,0,"","","",0,"","","",""]
[85,null,null,null,null,null,null,null,null,null,null,null,null,null,null,null,null,null,0,null,0,"","","",0,"","","",""]
[86,null,null,null,null,null,null,null,null,null,null,null,null,null,null,null,null,null,0,null,0,"","","",0,"","","",""]
[87,null,null,null,null,null,null,null,null,null,null,null,null,null,null,null,null,null,0,null,0,"","","",0,"","","",""]
[88,null,null,null,null,null,null,null,null,null,null,null,null,null,null,null,null,null,0,null,0,"","","",0,"","","",""]
[89,null,null,null,null,null,null,null,null,null,null,null,null,null,null,null,null,null,0,null,0,"","","",0,"","","",""]
[90,null,null,null,null,null,null,null,null,null,null,null,null,null,null,null,null,null,0,null,0,"","","",0,"","","",""]
[91,null,null,null,null,null,null,null,null,null,null,null,null,null,null,null,null,null,0,null,0,"","","",0,"","","",""]
[92,null,null,null,null,null,null,null,null,null,null,null,null,null,null,null,null,null,0,null,0,"","","",0,"","","",""]
[93,null,null,null,null,null,null,null,null,null,null,null,null,null,null,null,null,null,0,null,0,"","","",0,"","","",""]
[94,null,null,null,null,null,null,null,null,null,null,null,null,null,null,null,null,null,0,null,0,"","","",0,"","","",""]
[95,null,null,null,null,null,null,null,null,null,null,null,null,null,null,null,null,null,0,null,0,"","","",0,"","","",""]
[96,null,null,null,null,null,null,null,null,null,null,null,null,null,null,null,null,null,0,null,0,"","","",0,"","","",""]
[97,null,null,null,null,null,null,null,null,null,null,null,null,null,null,null,null,null,{"$f":"COUNTA(I103,N103)","v":0},null,0,{"$f":"IF(I103=\"\",\"\",VLOOKUP(I103,code,2,FALSE))","v":""},{"$f":"IF(I103=\"\",\"\",VLOOKUP(I103,code,5,FALSE))","v":""},"",0,{"$f":"IF(N103=\"\",\"\",VLOOKUP(N103,code,2,FALSE))","v":""},{"$f":"IF(N103=\"\",\"\",VLOOKUP(N103,code,5,FALSE))","v":""},"",""]
[98,null,null,null,null,null,null,null,null,null,null,null,null,null,null,null,null,null,0,null,0,"","","",0,"","","",""]
[99,null,null,null,null,null,null,null,null,null,null,null,null,null,null,null,null,null,0,null,0,"","","",0,"","","",""]
[100,null,null,null,null,null,null,null,null,null,null,null,null,null,null,null,null,null,0,null,0,"","","",0,"","","",""]
[101,null,null,null,null,null,null,null,null,null,null,null,null,null,null,null,null,null,0,null,0,"","","",0,"","","",""]
[102,null,null,null,null,null,null,null,null,null,null,null,null,null,null,null,null,null,0,null,0,"","","",0,"","","",""]
[103,null,null,null,null,null,null,null,null,null,null,null,null,null,null,null,null,null,0,null,0,"","","",0,"","","",""]
[104,null,null,null,null,null,null,null,null,null,null,null,null,null,null,null,null,null,0,null,0,"","","",0,"","","",""]
[105,null,null,null,null,null,null,null,null,null,null,null,null,null,null,null,null,null,0,null,0,"","","",0,"","","",""]
[106,null,null,null,null,null,null,null,null,null,null,null,null,null,null,null,null,null,0,null,0,"","","",0,"","","",""]
[107,null,null,null,null,null,null,null,null,null,null,null,null,null,null,null,null,null,0,null,0,"","","",0,"","","",""]
[108,null,null,null,null,null,null,null,null,null,null,null,null,null,null,null,null,null,0,null,0,"","","",0,"","","",""]
[109,null,null,null,null,null,null,null,null,null,null,null,null,null,null,null,null,null,0,null,0,"","","",0,"","","",""]
[110,null,null,null,null,null,null,null,null,null,null,null,null,null,null,null,null,null,0,null,0,"","","",0,"","","",""]
[111,null,null,null,null,null,null,null,null,null,null,null,null,null,null,null,null,null,0,null,0,"","","",0,"","","",""]
[112,null,null,null,null,null,null,null,null,null,null,null,null,null,null,null,null,null,0,null,0,"","","",0,"","","",""]
[113,null,null,null,null,null,null,null,null,null,null,null,null,null,null,null,null,null,0,null,0,"","","",0,"","","",""]
[114,null,null,null,null,null,null,null,null,null,null,null,null,null,null,null,null,null,0,null,0,"","","",0,"","","",""]
[115,null,null,null,null,null,null,null,null,null,null,null,null,null,null,null,null,null,0,null,0,"","","",0,"","","",""]
[116,null,null,null,null,null,null,null,null,null,null,null,null,null,null,null,null,null,0,null,0,"","","",0,"","","",""]
[117,null,null,null,null,null,null,null,null,null,null,null,null,null,null,null,null,null,0,null,0,"","","",0,"","","",""]
[118,null,null,null,null,null,null,null,null,null,null,null,null,null,null,null,null,null,0,null,0,"","","",0,"","","",""]
[119,null,null,null,null,null,null,null,null,null,null,null,null,null,null,null,null,null,0,null,0,"","","",0,"","","",""]
[120,null,null,null,null,null,null,null,null,null,null,null,null,null,null,null,null,null,0,null,0,"","","",0,"","","",""]
[null,"",4]
[null,{"$f":"DATA!A2","v":"100m"},3,"男",null,"00"]
[null,{"$f":"DATA!A3","v":"300m"},2,"女",null,"01"]
[null,{"$f":"DATA!A4","v":"3000m(女子)"},1,null,null,"02"]
[null,{"$f":"DATA!A5","v":"5000m(男子)"},null,null,null,"03"]
[null,{"$f":"DATA!A6","v":"110mH"},null,null,null,"04"]
[null,{"$f":"DATA!A7","v":"100mH"},null,null,null,"05"]
[null,{"$f":"DATA!A8","v":"走高跳"},null,null,null,"06"]
[null,{"$f":"DATA!A9","v":"走幅跳(男子)"},null,null,null,"07"]
[null,{"$f":"DATA!A10","v":"三段跳(女子)"},null,null,null,"08"]
[null,{"$f":"DATA!A11","v":"砲丸投(6.00kg男)"},null,null,null,"09"]
[null,{"$f":"DATA!A12","v":"砲丸投(4.00kg女)"},null,null,null,"10"]
[null,{"$f":"DATA!A13","v":"円盤投(男子)"},null,null,null,"11"]
[null,{"$f":"DATA!A14","v":"円盤投(女子)"},null,null,null,"12"]
[null,null,null,null,null,"13"]
[null,null,null,null,null,"14"]
[null,null,null,null,null,"15"]
[null,null,null,null,null,"16"]
[null,null,null,null,null,"17"]
[null,null,null,null,null,"18"]
[null,null,null,null,null,"19"]
[null,null,null,null,null,"20"]
[null,null,null,null,null,"21"]
[null,null,null,null,null,"22"]
[null,null,null,null,null,"23"]
[null,null,null,null,null,"24"]
[null,null,null,null,null,"25"]
[null,null,null,null,null,"26"]
[null,null,null,null,null,"27"]
[null,null,null,null,null,"28"]
[null,null,null,null,null,"29"]
[null,null,null,null,null,"30"]
[null,null,null,null,null,"31"]
[null,null,null,null,null,"32"]
[null,null,null,null,null,"33"]
[null,null,null,null,null,"34"]
[null,null,null,null,null,"35"]
[null,null,null,null,null,"36"]
[null,null,null,null,null,"37"]
[null,null,null,null,null,"38"]
[null,null,null,null,null,"39"]
[null,null,null,null,null,"40"]
[null,null,null,null,null,"41"]
[null,null,null,null,null,"42"]
[null,null,null,null,null,"43"]
[null,null,null,null,null,"44"]
[null,null,null,null,null,"45"]
[null,null,null,null,null,"46"]
[null,null,null,null,null,"47"]
[null,null,null,null,null,"48"]
[null,null,null,null,null,"49"]
[null,null,null,null,null,"50"]
[null,null,null,null,null,"51"]
[null,null,null,null,null,"52"]
[null,null,null,null,null,"53"]
[null,null,null,null,null,"54"]
[null,null,null,null,null,"55"]
[null,null,null,null,null,"56"]
[null,null,null,null,null,"57"]
[null,null,null,null,null,"58"]
[null,null,null,null,null,"59"]
[null,null,null,null,null,"60"]
[null,null,null,null,null,"61"]
[null,null,null,null,null,"62"]
[null,null,null,null,null,"63"]
[null,null,null,null,null,"64"]
[null,null,null,null,null,"65"]
[null,null,null,null,null,"66"]
[null,null,null,null,null,"67"]
[null,null,null,null,null,"68"]
[null,null,null,null,null,"69"]
[null,null,null,null,null,"70"]
[null,null,null,null,null,"71"]
[null,null,null,null,null,"72"]
[null,null,null,null,null,"73"]
[null,null,null,null,null,"74"]
[null,null,null,null,null,"75"]
[null,null,null,null,null,"76"]
[null,null,null,null,null,"77"]
[null,null,null,null,null,"78"]
[null,null,null,null,null,"79"]
[null,null,null,null,null,"80"]
[null,null,null,null,null,"81"]
[null,null,null,null,null,"82"]
[null,null,null,null,null,"83"]
[null,null,null,null,null,"84"]
[null,null,null,null,null,"85"]
[null,null,null,null,null,"86"]
[null,null,null,null,null,"87"]
[null,null,null,null,null,"88"]
[null,null,null,null,null,"89"]
[null,null,null,null,null,"90"]
[null,null,null,null,null,"91"]
[null,null,null,null,null,"92"]
[null,null,null,null,null,"93"]
[null,null,null,null,null,"94"]
[null,null,null,null,null,"95"]
[null,null,null,null,null,"96"]
[null,null,null,null,null,"97"]
[null,null,null,null,null,"98"]
[null,null,null,null,null,"99"]

{"sheet":"MAT_CSV","index":2,"n_rows":121,"n_cols":9,"rows_kept":121,"cut":false,"hidden":false,"merged":[]}
["DB","N1","N2","SX","KC","MC","zk","S1","S2"]
[{"$f":"IF(entry_2!B7=\"\",\"\",D2*100000000+28000000+entry_2!$AC$5*100+VALUE(RIGHT(entry_2!B7,2)))","v":""},{"$f":"IF(entry_2!B7=\"\",\"\",IF(entry_2!AC7>=10,entry_2!C7&entry_2!D7,IF(entry_2!AC7=9,entry_2!C7&\" \"&entry_2!D7,IF(entry_2!AC7=8,entry_2!C7&\"  \"&entry_2!D7,IF(entry_2!AC7=7,entry_2!C7&\"   \"&entry_2!D7,IF(entry_2!AC7=6,entry_2!C7&\"    \"&entry_2!D7,IF(entry_2!AC7=5,entry_2!C7&\"     \"&entry_2!D7,IF(entry_2!AC7=4,entry_2!C7&\"      \"&entry_2!D7,entry_2!C7&\"       \"&entry_2!D7)))))))&\"(\"&entry_2!G7&\")\")","v":""},{"$f":"IF(entry_2!B7=\"\",\"\",ASC(entry_2!E7&\" \"&entry_2!F7))","v":""},{"$f":"IF(entry_2!B7=\"\",\"\",IF(entry_2!H7=\"男\",1,2))","v":""},{"$f":"IF(entry_2!B7=\"\",\"\",VALUE(MID(A2,5,1)))","v":""},{"$f":"IF(entry_2!B7=\"\",\"\",VALUE(MID(A2,2,6)))","v":""},{"$f":"IF(entry_2!B7=\"\",\"\",VALUE(RIGHT(A2,4)))","v":""},{"$f":"IF(entry_2!I7=\"\",\"\",entry_2!W7&RIGHT(entry_2!X7,LEN(entry_2!X7)-2))","v":""},{"$f":"IF(entry_2!N7=\"\",\"\",entry_2!AA7&RIGHT(entry_2!AB7,LEN(entry_2!AB7)-2))","v":""}]
[{"$f":"IF(entry_2!B8=\"\",\"\",D3*100000000+28000000+entry_2!$AC$5*100+VALUE(RIGHT(entry_2!B8,2)))","v":""},{"$f":"IF(entry_2!B8=\"\",\"\",IF(entry_2!AC8>=10,entry_2!C8&entry_2!D8,IF(entry_2!AC8=9,entry_2!C8&\" \"&entry_2!D8,IF(entry_2!AC8=8,entry_2!C8&\"  \"&entry_2!D8,IF(entry_2!AC8=7,entry_2!C8&\"   \"&entry_2!D8,IF(entry_2!AC8=6,entry_2!C8&\"    \"&entry_2!D8,IF(entry_2!AC8=5,entry_2!C8&\"     \"&entry_2!D8,IF(entry_2!AC8=4,entry_2!C8&\"      \"&entry_2!D8,entry_2!C8&\"       \"&entry_2!D8)))))))&\"(\"&entry_2!G8&\")\")","v":""},{"$f":"IF(entry_2!B8=\"\",\"\",ASC(entry_2!E8&\" \"&entry_2!F8))","v":""},{"$f":"IF(entry_2!B8=\"\",\"\",IF(entry_2!H8=\"男\",1,2))","v":""},{"$f":"IF(entry_2!B8=\"\",\"\",VALUE(MID(A3,5,1)))","v":""},{"$f":"IF(entry_2!B8=\"\",\"\",VALUE(MID(A3,2,6)))","v":""},{"$f":"IF(entry_2!B8=\"\",\"\",VALUE(RIGHT(A3,4)))","v":""},{"$f":"IF(entry_2!I8=\"\",\"\",entry_2!W8&RIGHT(entry_2!X8,LEN(entry_2!X8)-2))","v":""},{"$f":"IF(entry_2!N8=\"\",\"\",entry_2!AA8&RIGHT(entry_2!AB8,LEN(entry_2!AB8)-2))","v":""}]
[{"$f":"IF(entry_2!B9=\"\",\"\",D4*100000000+28000000+entry_2!$AC$5*100+VALUE(RIGHT(entry_2!B9,2)))","v":""},{"$f":"IF(entry_2!B9=\"\",\"\",IF(entry_2!AC9>=10,entry_2!C9&entry_2!D9,IF(entry_2!AC9=9,entry_2!C9&\" \"&entry_2!D9,IF(entry_2!AC9=8,entry_2!C9&\"  \"&entry_2!D9,IF(entry_2!AC9=7,entry_2!C9&\"   \"&entry_2!D9,IF(entry_2!AC9=6,entry_2!C9&\"    \"&entry_2!D9,IF(entry_2!AC9=5,entry_2!C9&\"     \"&entry_2!D9,IF(entry_2!AC9=4,entry_2!C9&\"      \"&entry_2!D9,entry_2!C9&\"       \"&entry_2!D9)))))))&\"(\"&entry_2!G9&\")\")","v":""},{"$f":"IF(entry_2!B9=\"\",\"\",ASC(entry_2!E9&\" \"&entry_2!F9))","v":""},{"$f":"IF(entry_2!B9=\"\",\"\",IF(entry_2!H9=\"男\",1,2))","v":""},{"$f":"IF(entry_2!B9=\"\",\"\",VALUE(MID(A4,5,1)))","v":""},{"$f":"IF(entry_2!B9=\"\",\"\",VALUE(MID(A4,2,6)))","v":""},{"$f":"IF(entry_2!B9=\"\",\"\",VALUE(RIGHT(A4,4)))","v":""},{"$f":"IF(entry_2!I9=\"\",\"\",entry_2!W9&RIGHT(entry_2!X9,LEN(entry_2!X9)-2))","v":""},{"$f":"IF(entry_2!N9=\"\",\"\",entry_2!AA9&RIGHT(entry_2!AB9,LEN(entry_2!AB9)-2))","v":""}]
[{"$f":"IF(entry_2!B10=\"\",\"\",D5*100000000+28000000+entry_2!$AC$5*100+VALUE(RIGHT(entry_2!B10,2)))","v":""},{"$f":"IF(entry_2!B10=\"\",\"\",IF(entry_2!AC10>=10,entry_2!C10&entry_2!D10,IF(entry_2!AC10=9,entry_2!C10&\" \"&entry_2!D10,IF(entry_2!AC10=8,entry_2!C10&\"  \"&entry_2!D10,IF(entry_2!AC10=7,entry_2!C10&\"   \"&entry_2!D10,IF(entry_2!AC10=6,entry_2!C10&\"    \"&entry_2!D10,IF(entry_2!AC10=5,entry_2!C10&\"     \"&entry_2!D10,IF(entry_2!AC10=4,entry_2!C10&\"      \"&entry_2!D10,entry_2!C10&\"       \"&entry_2!D10)))))))&\"(\"&entry_2!G10&\")\")","v":""},{"$f":"IF(entry_2!B10=\"\",\"\",ASC(entry_2!E10&\" \"&entry_2!F10))","v":""},{"$f":"IF(entry_2!B10=\"\",\"\",IF(entry_2!H10=\"男\",1,2))","v":""},{"$f":"IF(entry_2!B10=\"\",\"\",VALUE(MID(A5,5,1)))","v":""},{"$f":"IF(entry_2!B10=\"\",\"\",VALUE(MID(A5,2,6)))","v":""},{"$f":"IF(entry_2!B10=\"\",\"\",VALUE(RIGHT(A5,4)))","v":""},{"$f":"IF(entry_2!I10=\"\",\"\",entry_2!W10&RIGHT(entry_2!X10,LEN(entry_2!X10)-2))","v":""},{"$f":"IF(entry_2!N10=\"\",\"\",entry_2!AA10&RIGHT(entry_2!AB10,LEN(entry_2!AB10)-2))","v":""}]
[{"$f":"IF(entry_2!B11=\"\",\"\",D6*100000000+28000000+entry_2!$AC$5*100+VALUE(RIGHT(entry_2!B11,2)))","v":""},{"$f":"IF(entry_2!B11=\"\",\"\",IF(entry_2!AC11>=10,entry_2!C11&entry_2!D11,IF(entry_2!AC11=9,entry_2!C11&\" \"&entry_2!D11,IF(entry_2!AC11=8,entry_2!C11&\"  \"&entry_2!D11,IF(entry_2!AC11=7,entry_2!C11&\"   \"&entry_2!D11,IF(entry_2!AC11=6,entry_2!C11&\"    \"&entry_2!D11,IF(entry_2!AC11=5,entry_2!C11&\"     \"&entry_2!D11,IF(entry_2!AC11=4,entry_2!C11&\"      \"&entry_2!D11,entry_2!C11&\"       \"&entry_2!D11)))))))&\"(\"&entry_2!G11&\")\")","v":""},{"$f":"IF(entry_2!B11=\"\",\"\",ASC(entry_2!E11&\" \"&entry_2!F11))","v":""},{"$f":"IF(entry_2!B11=\"\",\"\",IF(entry_2!H11=\"男\",1,2))","v":""},{"$f":"IF(entry_2!B11=\"\",\"\",VALUE(MID(A6,5,1)))","v":""},{"$f":"IF(entry_2!B11=\"\",\"\",VALUE(MID(A6,2,6)))","v":""},{"$f":"IF(entry_2!B11=\"\",\"\",VALUE(RIGHT(A6,4)))","v":""},{"$f":"IF(entry_2!I11=\"\",\"\",entry_2!W11&RIGHT(entry_2!X11,LEN(entry_2!X11)-2))","v":""},{"$f":"IF(entry_2!N11=\"\",\"\",entry_2!AA11&RIGHT(entry_2!AB11,LEN(entry_2!AB11)-2))","v":""}]
[{"$f":"IF(entry_2!B12=\"\",\"\",D7*100000000+28000000+entry_2!$AC$5*100+VALUE(RIGHT(entry_2!B12,2)))","v":""},{"$f":"IF(entry_2!B12=\"\",\"\",IF(entry_2!AC12>=10,entry_2!C12&entry_2!D12,IF(entry_2!AC12=9,entry_2!C12&\" \"&entry_2!D12,IF(entry_2!AC12=8,entry_2!C12&\"  \"&entry_2!D12,IF(entry_2!AC12=7,entry_2!C12&\"   \"&entry_2!D12,IF(entry_2!AC12=6,entry_2!C12&\"    \"&entry_2!D12,IF(entry_2!AC12=5,entry_2!C12&\"     \"&entry_2!D12,IF(entry_2!AC12=4,entry_2!C12&\"      \"&entry_2!D12,entry_2!C12&\"       \"&entry_2!D12)))))))&\"(\"&entry_2!G12&\")\")","v":""},{"$f":"IF(entry_2!B12=\"\",\"\",ASC(entry_2!E12&\" \"&entry_2!F12))","v":""},{"$f":"IF(entry_2!B12=\"\",\"\",IF(entry_2!H12=\"男\",1,2))","v":""},{"$f":"IF(entry_2!B12=\"\",\"\",VALUE(MID(A7,5,1)))","v":""},{"$f":"IF(entry_2!B12=\"\",\"\",VALUE(MID(A7,2,6)))","v":""},{"$f":"IF(entry_2!B12=\"\",\"\",VALUE(RIGHT(A7,4)))","v":""},{"$f":"IF(entry_2!I12=\"\",\"\",entry_2!W12&RIGHT(entry_2!X12,LEN(entry_2!X12)-2))","v":""},{"$f":"IF(entry_2!N12=\"\",\"\",entry_2!AA12&RIGHT(entry_2!AB12,LEN(entry_2!AB12)-2))","v":""}]
[{"$f":"IF(entry_2!B13=\"\",\"\",D8*100000000+28000000+entry_2!$AC$5*100+VALUE(RIGHT(entry_2!B13,2)))","v":""},{"$f":"IF(entry_2!B13=\"\",\"\",IF(entry_2!AC13>=10,entry_2!C13&entry_2!D13,IF(entry_2!AC13=9,entry_2!C13&\" \"&entry_2!D13,IF(entry_2!AC13=8,entry_2!C13&\"  \"&entry_2!D13,IF(entry_2!AC13=7,entry_2!C13&\"   \"&entry_2!D13,IF(entry_2!AC13=6,entry_2!C13&\"    \"&entry_2!D13,IF(entry_2!AC13=5,entry_2!C13&\"     \"&entry_2!D13,IF(entry_2!AC13=4,entry_2!C13&\"      \"&entry_2!D13,entry_2!C13&\"       \"&entry_2!D13)))))))&\"(\"&entry_2!G13&\")\")","v":""},{"$f":"IF(entry_2!B13=\"\",\"\",ASC(entry_2!E13&\" \"&entry_2!F13))","v":""},{"$f":"IF(entry_2!B13=\"\",\"\",IF(entry_2!H13=\"男\",1,2))","v":""},{"$f":"IF(entry_2!B13=\"\",\"\",VALUE(MID(A8,5,1)))","v":""},{"$f":"IF(entry_2!B13=\"\",\"\",VALUE(MID(A8,2,6)))","v":""},{"$f":"IF(entry_2!B13=\"\",\"\",VALUE(RIGHT(A8,4)))","v":""},{"$f":"IF(entry_2!I13=\"\",\"\",entry_2!W13&RIGHT(entry_2!X13,LEN(entry_2!X13)-2))","v":""},{"$f":"IF(entry_2!N13=\"\",\"\",entry_2!AA13&RIGHT(entry_2!AB13,LEN(entry_2!AB13)-2))","v":""}]
[{"$f":"IF(entry_2!B14=\"\",\"\",D9*100000000+28000000+entry_2!$AC$5*100+VALUE(RIGHT(entry_2!B14,2)))","v":""},{"$f":"IF(entry_2!B14=\"\",\"\",IF(entry_2!AC14>=10,entry_2!C14&entry_2!D14,IF(entry_2!AC14=9,entry_2!C14&\" \"&entry_2!D14,IF(entry_2!AC14=8,entry_2!C14&\"  \"&entry_2!D14,IF(entry_2!AC14=7,entry_2!C14&\"   \"&entry_2!D14,IF(entry_2!AC14=6,entry_2!C14&\"    \"&entry_2!D14,IF(entry_2!AC14=5,entry_2!C14&\"     \"&entry_2!D14,IF(entry_2!AC14=4,entry_2!C14&\"      \"&entry_2!D14,entry_2!C14&\"       \"&entry_2!D14)))))))&\"(\"&entry_2!G14&\")\")","v":""},{"$f":"IF(entry_2!B14=\"\",\"\",ASC(entry_2!E14&\" \"&entry_2!F14))","v":""},{"$f":"IF(entry_2!B14=\"\",\"\",IF(entry_2!H14=\"男\",1,2))","v":""},{"$f":"IF(entry_2!B14=\"\",\"\",VALUE(MID(A9,5,1)))","v":""},{"$f":"IF(entry_2!B14=\"\",\"\",VALUE(MID(A9,2,6)))","v":""},{"$f":"IF(entry_2!B14=\"\",\"\",VALUE(RIGHT(A9,4)))","v":""},{"$f":"IF(entry_2!I14=\"\",\"\",entry_2!W14&RIGHT(entry_2!X14,LEN(entry_2!X14)-2))","v":""},{"$f":"IF(entry_2!N14=\"\",\"\",entry_2!AA14&RIGHT(entry_2!AB14,LEN(entry_2!AB14)-2))","v":""}]
[{"$f":"IF(entry_2!B15=\"\",\"\",D10*100000000+28000000+entry_2!$AC$5*100+VALUE(RIGHT(entry_2!B15,2)))","v":""},{"$f":"IF(entry_2!B15=\"\",\"\",IF(entry_2!AC15>=10,entry_2!C15&entry_2!D15,IF(entry_2!AC15=9,entry_2!C15&\" \"&entry_2!D15,IF(entry_2!AC15=8,entry_2!C15&\"  \"&entry_2!D15,IF(entry_2!AC15=7,entry_2!C15&\"   \"&entry_2!D15,IF(entry_2!AC15=6,entry_2!C15&\"    \"&entry_2!D15,IF(entry_2!AC15=5,entry_2!C15&\"     \"&entry_2!D15,IF(entry_2!AC15=4,entry_2!C15&\"      \"&entry_2!D15,entry_2!C15&\"       \"&entry_2!D15)))))))&\"(\"&entry_2!G15&\")\")","v":""},{"$f":"IF(entry_2!B15=\"\",\"\",ASC(entry_2!E15&\" \"&entry_2!F15))","v":""},{"$f":"IF(entry_2!B15=\"\",\"\",IF(entry_2!H15=\"男\",1,2))","v":""},{"$f":"IF(entry_2!B15=\"\",\"\",VALUE(MID(A10,5,1)))","v":""},{"$f":"IF(entry_2!B15=\"\",\"\",VALUE(MID(A10,2,6)))","v":""},{"$f":"IF(entry_2!B15=\"\",\"\",VALUE(RIGHT(A10,4)))","v":""},{"$f":"IF(entry_2!I15=\"\",\"\",entry_2!W15&RIGHT(entry_2!X15,LEN(entry_2!X15)-2))","v":""},{"$f":"IF(entry_2!N15=\"\",\"\",entry_2!AA15&RIGHT(entry_2!AB15,LEN(entry_2!AB15)-2))","v":""}]
[{"$f":"IF(entry_2!B16=\"\",\"\",D11*100000000+28000000+entry_2!$AC$5*100+VALUE(RIGHT(entry_2!B16,2)))","v":""},{"$f":"IF(entry_2!B16=\"\",\"\",IF(entry_2!AC16>=10,entry_2!C16&entry_2!D16,IF(entry_2!AC16=9,entry_2!C16&\" \"&entry_2!D16,IF(entry_2!AC16=8,entry_2!C16&\"  \"&entry_2!D16,IF(entry_2!AC16=7,entry_2!C16&\"   \"&entry_2!D16,IF(entry_2!AC16=6,entry_2!C16&\"    \"&entry_2!D16,IF(entry_2!AC16=5,entry_2!C16&\"     \"&entry_2!D16,IF(entry_2!AC16=4,entry_2!C16&\"      \"&entry_2!D16,entry_2!C16&\"       \"&entry_2!D16)))))))&\"(\"&entry_2!G16&\")\")","v":""},{"$f":"IF(entry_2!B16=\"\",\"\",ASC(entry_2!E16&\" \"&entry_2!F16))","v":""},{"$f":"IF(entry_2!B16=\"\",\"\",IF(entry_2!H16=\"男\",1,2))","v":""},{"$f":"IF(entry_2!B16=\"\",\"\",VALUE(MID(A11,5,1)))","v":""},{"$f":"IF(entry_2!B16=\"\",\"\",VALUE(MID(A11,2,6)))","v":""},{"$f":"IF(entry_2!B16=\"\",\"\",VALUE(RIGHT(A11,4)))","v":""},{"$f":"IF(entry_2!I16=\"\",\"\",entry_2!W16&RIGHT(entry_2!X16,LEN(entry_2!X16)-2))","v":""},{"$f":"IF(entry_2!N16=\"\",\"\",entry_2!AA16&RIGHT(entry_2!AB16,LEN(entry_2!AB16)-2))","v":""}]
[{"$f":"IF(entry_2!B17=\"\",\"\",D12*100000000+28000000+entry_2!$AC$5*100+VALUE(RIGHT(entry_2!B17,2)))","v":""},{"$f":"IF(entry_2!B17=\"\",\"\",IF(entry_2!AC17>=10,entry_2!C17&entry_2!D17,IF(entry_2!AC17=9,entry_2!C17&\" \"&entry_2!D17,IF(entry_2!AC17=8,entry_2!C17&\"  \"&entry_2!D17,IF(entry_2!AC17=7,entry_2!C17&\"   \"&entry_2!D17,IF(entry_2!AC17=6,entry_2!C17&\"    \"&entry_2!D17,IF(entry_2!AC17=5,entry_2!C17&\"     \"&entry_2!D17,IF(entry_2!AC17=4,entry_2!C17&\"      \"&entry_2!D17,entry_2!C17&\"       \"&entry_2!D17)))))))&\"(\"&entry_2!G17&\")\")","v":""},{"$f":"IF(entry_2!B17=\"\",\"\",ASC(entry_2!E17&\" \"&entry_2!F17))","v":""},{"$f":"IF(entry_2!B17=\"\",\"\",IF(entry_2!H17=\"男\",1,2))","v":""},{"$f":"IF(entry_2!B17=\"\",\"\",VALUE(MID(A12,5,1)))","v":""},{"$f":"IF(entry_2!B17=\"\",\"\",VALUE(MID(A12,2,6)))","v":""},{"$f":"IF(entry_2!B17=\"\",\"\",VALUE(RIGHT(A12,4)))","v":""},{"$f":"IF(entry_2!I17=\"\",\"\",entry_2!W17&RIGHT(entry_2!X17,LEN(entry_2!X17)-2))","v":""},{"$f":"IF(entry_2!N17=\"\",\"\",entry_2!AA17&RIGHT(entry_2!AB17,LEN(entry_2!AB17)-2))","v":""}]
[{"$f":"IF(entry_2!B18=\"\",\"\",D13*100000000+28000000+entry_2!$AC$5*100+VALUE(RIGHT(entry_2!B18,2)))","v":""},{"$f":"IF(entry_2!B18=\"\",\"\",IF(entry_2!AC18>=10,entry_2!C18&entry_2!D18,IF(entry_2!AC18=9,entry_2!C18&\" \"&entry_2!D18,IF(entry_2!AC18=8,entry_2!C18&\"  \"&entry_2!D18,IF(entry_2!AC18=7,entry_2!C18&\"   \"&entry_2!D18,IF(entry_2!AC18=6,entry_2!C18&\"    \"&entry_2!D18,IF(entry_2!AC18=5,entry_2!C18&\"     \"&entry_2!D18,IF(entry_2!AC18=4,entry_2!C18&\"      \"&entry_2!D18,entry_2!C18&\"       \"&entry_2!D18)))))))&\"(\"&entry_2!G18&\")\")","v":""},{"$f":"IF(entry_2!B18=\"\",\"\",ASC(entry_2!E18&\" \"&entry_2!F18))","v":""},{"$f":"IF(entry_2!B18=\"\",\"\",IF(entry_2!H18=\"男\",1,2))","v":""},{"$f":"IF(entry_2!B18=\"\",\"\",VALUE(MID(A13,5,1)))","v":""},{"$f":"IF(entry_2!B18=\"\",\"\",VALUE(MID(A13,2,6)))","v":""},{"$f":"IF(entry_2!B18=\"\",\"\",VALUE(RIGHT(A13,4)))","v":""},{"$f":"IF(entry_2!I18=\"\",\"\",entry_2!W18&RIGHT(entry_2!X18,LEN(entry_2!X18)-2))","v":""},{"$f":"IF(entry_2!N18=\"\",\"\",entry_2!AA18&RIGHT(entry_2!AB18,LEN(entry_2!AB18)-2))","v":""}]
[{"$f":"IF(entry_2!B19=\"\",\"\",D14*100000000+28000000+entry_2!$AC$5*100+VALUE(RIGHT(entry_2!B19,2)))","v":""},{"$f":"IF(entry_2!B19=\"\",\"\",IF(entry_2!AC19>=10,entry_2!C19&entry_2!D19,IF(entry_2!AC19=9,entry_2!C19&\" \"&entry_2!D19,IF(entry_2!AC19=8,entry_2!C19&\"  \"&entry_2!D19,IF(entry_2!AC19=7,entry_2!C19&\"   \"&entry_2!D19,IF(entry_2!AC19=6,entry_2!C19&\"    \"&entry_2!D19,IF(entry_2!AC19=5,entry_2!C19&\"     \"&entry_2!D19,IF(entry_2!AC19=4,entry_2!C19&\"      \"&entry_2!D19,entry_2!C19&\"       \"&entry_2!D19)))))))&\"(\"&entry_2!G19&\")\")","v":""},{"$f":"IF(entry_2!B19=\"\",\"\",ASC(entry_2!E19&\" \"&entry_2!F19))","v":""},{"$f":"IF(entry_2!B19=\"\",\"\",IF(entry_2!H19=\"男\",1,2))","v":""},{"$f":"IF(entry_2!B19=\"\",\"\",VALUE(MID(A14,5,1)))","v":""},{"$f":"IF(entry_2!B19=\"\",\"\",VALUE(MID(A14,2,6)))","v":""},{"$f":"IF(entry_2!B19=\"\",\"\",VALUE(RIGHT(A14,4)))","v":""},{"$f":"IF(entry_2!I19=\"\",\"\",entry_2!W19&RIGHT(entry_2!X19,LEN(entry_2!X19)-2))","v":""},{"$f":"IF(entry_2!N19=\"\",\"\",entry_2!AA19&RIGHT(entry_2!AB19,LEN(entry_2!AB19)-2))","v":""}]
[{"$f":"IF(entry_2!B20=\"\",\"\",D15*100000000+28000000+entry_2!$AC$5*100+VALUE(RIGHT(entry_2!B20,2)))","v":""},{"$f":"IF(entry_2!B20=\"\",\"\",IF(entry_2!AC20>=10,entry_2!C20&entry_2!D20,IF(entry_2!AC20=9,entry_2!C20&\" \"&entry_2!D20,IF(entry_2!AC20=8,entry_2!C20&\"  \"&entry_2!D20,IF(entry_2!AC20=7,entry_2!C20&\"   \"&entry_2!D20,IF(entry_2!AC20=6,entry_2!C20&\"    \"&entry_2!D20,IF(entry_2!AC20=5,entry_2!C20&\"     \"&entry_2!D20,IF(entry_2!AC20=4,entry_2!C20&\"      \"&entry_2!D20,entry_2!C20&\"       \"&entry_2!D20)))))))&\"(\"&entry_2!G20&\")\")","v":""},{"$f":"IF(entry_2!B20=\"\",\"\",ASC(entry_2!E20&\" \"&entry_2!F20))","v":""},{"$f":"IF(entry_2!B20=\"\",\"\",IF(entry_2!H20=\"男\",1,2))","v":""},{"$f":"IF(entry_2!B20=\"\",\"\",VALUE(MID(A15,5,1)))","v":""},{"$f":"IF(entry_2!B20=\"\",\"\",VALUE(MID(A15,2,6)))","v":""},{"$f":"IF(entry_2!B20=\"\",\"\",VALUE(RIGHT(A15,4)))","v":""},{"$f":"IF(entry_2!I20=\"\",\"\",entry_2!W20&RIGHT(entry_2!X20,LEN(entry_2!X20)-2))","v":""},{"$f":"IF(entry_2!N20=\"\",\"\",entry_2!AA20&RIGHT(entry_2!AB20,LEN(entry_2!AB20)-2))","v":""}]
[{"$f":"IF(entry_2!B21=\"\",\"\",D16*100000000+28000000+entry_2!$AC$5*100+VALUE(RIGHT(entry_2!B21,2)))","v":""},{"$f":"IF(entry_2!B21=\"\",\"\",IF(entry_2!AC21>=10,entry_2!C21&entry_2!D21,IF(entry_2!AC21=9,entry_2!C21&\" \"&entry_2!D21,IF(entry_2!AC21=8,entry_2!C21&\"  \"&entry_2!D21,IF(entry_2!AC21=7,entry_2!C21&\"   \"&entry_2!D21,IF(entry_2!AC21=6,entry_2!C21&\"    \"&entry_2!D21,IF(entry_2!AC21=5,entry_2!C21&\"     \"&entry_2!D21,IF(entry_2!AC21=4,entry_2!C21&\"      \"&entry_2!D21,entry_2!C21&\"       \"&entry_2!D21)))))))&\"(\"&entry_2!G21&\")\")","v":""},{"$f":"IF(entry_2!B21=\"\",\"\",ASC(entry_2!E21&\" \"&entry_2!F21))","v":""},{"$f":"IF(entry_2!B21=\"\",\"\",IF(entry_2!H21=\"男\",1,2))","v":""},{"$f":"IF(entry_2!B21=\"\",\"\",VALUE(MID(A16,5,1)))","v":""},{"$f":"IF(entry_2!B21=\"\",\"\",VALUE(MID(A16,2,6)))","v":""},{"$f":"IF(entry_2!B21=\"\",\"\",VALUE(RIGHT(A16,4)))","v":""},{"$f":"IF(entry_2!I21=\"\",\"\",entry_2!W21&RIGHT(entry_2!X21,LEN(entry_2!X21)-2))","v":""},{"$f":"IF(entry_2!N21=\"\",\"\",entry_2!AA21&RIGHT(entry_2!AB21,LEN(entry_2!AB21)-2))","v":""}]
[{"$f":"IF(entry_2!B22=\"\",\"\",D17*100000000+28000000+entry_2!$AC$5*100+VALUE(RIGHT(entry_2!B22,2)))","v":""},{"$f":"IF(entry_2!B22=\"\",\"\",IF(entry_2!AC22>=10,entry_2!C22&entry_2!D22,IF(entry_2!AC22=9,entry_2!C22&\" \"&entry_2!D22,IF(entry_2!AC22=8,entry_2!C22&\"  \"&entry_2!D22,IF(entry_2!AC22=7,entry_2!C22&\"   \"&entry_2!D22,IF(entry_2!AC22=6,entry_2!C22&\"    \"&entry_2!D22,IF(entry_2!AC22=5,entry_2!C22&\"     \"&entry_2!D22,IF(entry_2!AC22=4,entry_2!C22&\"      \"&entry_2!D22,entry_2!C22&\"       \"&entry_2!D22)))))))&\"(\"&entry_2!G22&\")\")","v":""},{"$f":"IF(entry_2!B22=\"\",\"\",ASC(entry_2!E22&\" \"&entry_2!F22))","v":""},{"$f":"IF(entry_2!B22=\"\",\"\",IF(entry_2!H22=\"男\",1,2))","v":""},{"$f":"IF(entry_2!B22=\"\",\"\",VALUE(MID(A17,5,1)))","v":""},{"$f":"IF(entry_2!B22=\"\",\"\",VALUE(MID(A17,2,6)))","v":""},{"$f":"IF(entry_2!B22=\"\",\"\",VALUE(RIGHT(A17,4)))","v":""},{"$f":"IF(entry_2!I22=\"\",\"\",entry_2!W22&RIGHT(entry_2!X22,LEN(entry_2!X22)-2))","v":""},{"$f":"IF(entry_2!N22=\"\",\"\",entry_2!AA22&RIGHT(entry_2!AB22,LEN(entry_2!AB22)-2))","v":""}]
[{"$f":"IF(entry_2!B23=\"\",\"\",D18*100000000+28000000+entry_2!$AC$5*100+VALUE(RIGHT(entry_2!B23,2)))","v":""},{"$f":"IF(entry_2!B23=\"\",\"\",IF(entry_2!AC23>=10,entry_2!C23&entry_2!D23,IF(entry_2!AC23=9,entry_2!C23&\" \"&entry_2!D23,IF(entry_2!AC23=8,entry_2!C23&\"  \"&entry_2!D23,IF(entry_2!AC23=7,entry_2!C23&\"   \"&entry_2!D23,IF(entry_2!AC23=6,entry_2!C23&\"    \"&entry_2!D23,IF(entry_2!AC23=5,entry_2!C23&\"     \"&entry_2!D23,IF(entry_2!AC23=4,entry_2!C23&\"      \"&entry_2!D23,entry_2!C23&\"       \"&entry_2!D23)))))))&\"(\"&entry_2!G23&\")\")","v":""},{"$f":"IF(entry_2!B23=\"\",\"\",ASC(entry_2!E23&\" \"&entry_2!F23))","v":""},{"$f":"IF(entry_2!B23=\"\",\"\",IF(entry_2!H23=\"男\",1,2))","v":""},{"$f":"IF(entry_2!B23=\"\",\"\",VALUE(MID(A18,5,1)))","v":""},{"$f":"IF(entry_2!B23=\"\",\"\",VALUE(MID(A18,2,6)))","v":""},{"$f":"IF(entry_2!B23=\"\",\"\",VALUE(RIGHT(A18,4)))","v":""},{"$f":"IF(entry_2!I23=\"\",\"\",entry_2!W23&RIGHT(entry_2!X23,LEN(entry_2!X23)-2))","v":""},{"$f":"IF(entry_2!N23=\"\",\"\",entry_2!AA23&RIGHT(entry_2!AB23,LEN(entry_2!AB23)-2))","v":""}]
[{"$f":"IF(entry_2!B24=\"\",\"\",D19*100000000+28000000+entry_2!$AC$5*100+VALUE(RIGHT(entry_2!B24,2)))","v":""},{"$f":"IF(entry_2!B24=\"\",\"\",IF(entry_2!AC24>=10,entry_2!C24&entry_2!D24,IF(entry_2!AC24=9,entry_2!C24&\" \"&entry_2!D24,IF(entry_2!AC24=8,entry_2!C24&\"  \"&entry_2!D24,IF(entry_2!AC24=7,entry_2!C24&\"   \"&entry_2!D24,IF(entry_2!AC24=6,entry_2!C24&\"    \"&entry_2!D24,IF(entry_2!AC24=5,entry_2!C24&\"     \"&entry_2!D24,IF(entry_2!AC24=4,entry_2!C24&\"      \"&entry_2!D24,entry_2!C24&\"       \"&entry_2!D24)))))))&\"(\"&entry_2!G24&\")\")","v":""},{"$f":"IF(entry_2!B24=\"\",\"\",ASC(entry_2!E24&\" \"&entry_2!F24))","v":""},{"$f":"IF(entry_2!B24=\"\",\"\",IF(entry_2!H24=\"男\",1,2))","v":""},{"$f":"IF(entry_2!B24=\"\",\"\",VALUE(MID(A19,5,1)))","v":""},{"$f":"IF(entry_2!B24=\"\",\"\",VALUE(MID(A19,2,6)))","v":""},{"$f":"IF(entry_2!B24=\"\",\"\",VALUE(RIGHT(A19,4)))","v":""},{"$f":"IF(entry_2!I24=\"\",\"\",entry_2!W24&RIGHT(entry_2!X24,LEN(entry_2!X24)-2))","v":""},{"$f":"IF(entry_2!N24=\"\",\"\",entry_2!AA24&RIGHT(entry_2!AB24,LEN(entry_2!AB24)-2))","v":""}]
[{"$f":"IF(entry_2!B25=\"\",\"\",D20*100000000+28000000+entry_2!$AC$5*100+VALUE(RIGHT(entry_2!B25,2)))","v":""},{"$f":"IF(entry_2!B25=\"\",\"\",IF(entry_2!AC25>=10,entry_2!C25&entry_2!D25,IF(entry_2!AC25=9,entry_2!C25&\" \"&entry_2!D25,IF(entry_2!AC25=8,entry_2!C25&\"  \"&entry_2!D25,IF(entry_2!AC25=7,entry_2!C25&\"   \"&entry_2!D25,IF(entry_2!AC25=6,entry_2!C25&\"    \"&entry_2!D25,IF(entry_2!AC25=5,entry_2!C25&\"     \"&entry_2!D25,IF(entry_2!AC25=4,entry_2!C25&\"      \"&entry_2!D25,entry_2!C25&\"       \"&entry_2!D25)))))))&\"(\"&entry_2!G25&\")\")","v":""},{"$f":"IF(entry_2!B25=\"\",\"\",ASC(entry_2!E25&\" \"&entry_2!F25))","v":""},{"$f":"IF(entry_2!B25=\"\",\"\",IF(entry_2!H25=\"男\",1,2))","v":""},{"$f":"IF(entry_2!B25=\"\",\"\",VALUE(MID(A20,5,1)))","v":""},{"$f":"IF(entry_2!B25=\"\",\"\",VALUE(MID(A20,2,6)))","v":""},{"$f":"IF(entry_2!B25=\"\",\"\",VALUE(RIGHT(A20,4)))","v":""},{"$f":"IF(entry_2!I25=\"\",\"\",entry_2!W25&RIGHT(entry_2!X25,LEN(entry_2!X25)-2))","v":""},{"$f":"IF(entry_2!N25=\"\",\"\",entry_2!AA25&RIGHT(entry_2!AB25,LEN(entry_2!AB25)-2))","v":""}]
[{"$f":"IF(entry_2!B26=\"\",\"\",D21*100000000+28000000+entry_2!$AC$5*100+VALUE(RIGHT(entry_2!B26,2)))","v":""},{"$f":"IF(entry_2!B26=\"\",\"\",IF(entry_2!AC26>=10,entry_2!C26&entry_2!D26,IF(entry_2!AC26=9,entry_2!C26&\" \"&entry_2!D26,IF(entry_2!AC26=8,entry_2!C26&\"  \"&entry_2!D26,IF(entry_2!AC26=7,entry_2!C26&\"   \"&entry_2!D26,IF(entry_2!AC26=6,entry_2!C26&\"    \"&entry_2!D26,IF(entry_2!AC26=5,entry_2!C26&\"     \"&entry_2!D26,IF(entry_2!AC26=4,entry_2!C26&\"      \"&entry_2!D26,entry_2!C26&\"       \"&entry_2!D26)))))))&\"(\"&entry_2!G26&\")\")","v":""},{"$f":"IF(entry_2!B26=\"\",\"\",ASC(entry_2!E26&\" \"&entry_2!F26))","v":""},{"$f":"IF(entry_2!B26=\"\",\"\",IF(entry_2!H26=\"男\",1,2))","v":""},{"$f":"IF(entry_2!B26=\"\",\"\",VALUE(MID(A21,5,1)))","v":""},{"$f":"IF(entry_2!B26=\"\",\"\",VALUE(MID(A21,2,6)))","v":""},{"$f":"IF(entry_2!B26=\"\",\"\",VALUE(RIGHT(A21,4)))","v":""},{"$f":"IF(entry_2!I26=\"\",\"\",entry_2!W26&RIGHT(entry_2!X26,LEN(entry_2!X26)-2))","v":""},{"$f":"IF(entry_2!N26=\"\",\"\",entry_2!AA26&RIGHT(entry_2!AB26,LEN(entry_2!AB26)-2))","v":""}]
[{"$f":"IF(entry_2!B27=\"\",\"\",D22*100000000+28000000+entry_2!$AC$5*100+VALUE(RIGHT(entry_2!B27,2)))","v":""},{"$f":"IF(entry_2!B27=\"\",\"\",IF(entry_2!AC27>=10,entry_2!C27&entry_2!D27,IF(entry_2!AC27=9,entry_2!C27&\" \"&entry_2!D27,IF(entry_2!AC27=8,entry_2!C27&\"  \"&entry_2!D27,IF(entry_2!AC27=7,entry_2!C27&\"   \"&entry_2!D27,IF(entry_2!AC27=6,entry_2!C27&\"    \"&entry_2!D27,IF(entry_2!AC27=5,entry_2!C27&\"     \"&entry_2!D27,IF(entry_2!AC27=4,entry_2!C27&\"      \"&entry_2!D27,entry_2!C27&\"       \"&entry_2!D27)))))))&\"(\"&entry_2!G27&\")\")","v":""},{"$f":"IF(entry_2!B27=\"\",\"\",ASC(entry_2!E27&\" \"&entry_2!F27))","v":""},{"$f":"IF(entry_2!B27=\"\",\"\",IF(entry_2!H27=\"男\",1,2))","v":""},{"$f":"IF(entry_2!B27=\"\",\"\",VALUE(MID(A22,5,1)))","v":""},{"$f":"IF(entry_2!B27=\"\",\"\",VALUE(MID(A22,2,6)))","v":""},{"$f":"IF(entry_2!B27=\"\",\"\",VALUE(RIGHT(A22,4)))","v":""},{"$f":"IF(entry_2!I27=\"\",\"\",entry_2!W27&RIGHT(entry_2!X27,LEN(entry_2!X27)-2))","v":""},{"$f":"IF(entry_2!N27=\"\",\"\",entry_2!AA27&RIGHT(entry_2!AB27,LEN(entry_2!AB27)-2))","v":""}]
[{"$f":"IF(entry_2!B28=\"\",\"\",D23*100000000+28000000+entry_2!$AC$5*100+VALUE(RIGHT(entry_2!B28,2)))","v":""},{"$f":"IF(entry_2!B28=\"\",\"\",IF(entry_2!AC28>=10,entry_2!C28&entry_2!D28,IF(entry_2!AC28=9,entry_2!C28&\" \"&entry_2!D28,IF(entry_2!AC28=8,entry_2!C28&\"  \"&entry_2!D28,IF(entry_2!AC28=7,entry_2!C28&\"   \"&entry_2!D28,IF(entry_2!AC28=6,entry_2!C28&\"    \"&entry_2!D28,IF(entry_2!AC28=5,entry_2!C28&\"     \"&entry_2!D28,IF(entry_2!AC28=4,entry_2!C28&\"      \"&entry_2!D28,entry_2!C28&\"       \"&entry_2!D28)))))))&\"(\"&entry_2!G28&\")\")","v":""},{"$f":"IF(entry_2!B28=\"\",\"\",ASC(entry_2!E28&\" \"&entry_2!F28))","v":""},{"$f":"IF(entry_2!B28=\"\",\"\",IF(entry_2!H28=\"男\",1,2))","v":""},{"$f":"IF(entry_2!B28=\"\",\"\",VALUE(MID(A23,5,1)))","v":""},{"$f":"IF(entry_2!B28=\"\",\"\",VALUE(MID(A23,2,6)))","v":""},{"$f":"IF(entry_2!B28=\"\",\"\",VALUE(RIGHT(A23,4)))","v":""},{"$f":"IF(entry_2!I28=\"\",\"\",entry_2!W28&RIGHT(entry_2!X28,LEN(entry_2!X28)-2))","v":""},{"$f":"IF(entry_2!N28=\"\",\"\",entry_2!AA28&RIGHT(entry_2!AB28,LEN(entry_2!AB28)-2))","v":""}]
[{"$f":"IF(entry_2!B29=\"\",\"\",D24*100000000+28000000+entry_2!$AC$5*100+VALUE(RIGHT(entry_2!B29,2)))","v":""},{"$f":"IF(entry_2!B29=\"\",\"\",IF(entry_2!AC29>=10,entry_2!C29&entry_2!D29,IF(entry_2!AC29=9,entry_2!C29&\" \"&entry_2!D29,IF(entry_2!AC29=8,entry_2!C29&\"  \"&entry_2!D29,IF(entry_2!AC29=7,entry_2!C29&\"   \"&entry_2!D29,IF(entry_2!AC29=6,entry_2!C29&\"    \"&entry_2!D29,IF(entry_2!AC29=5,entry_2!C29&\"     \"&entry_2!D29,IF(entry_2!AC29=4,entry_2!C29&\"      \"&entry_2!D29,entry_2!C29&\"       \"&entry_2!D29)))))))&\"(\"&entry_2!G29&\")\")","v":""},{"$f":"IF(entry_2!B29=\"\",\"\",ASC(entry_2!E29&\" \"&entry_2!F29))","v":""},{"$f":"IF(entry_2!B29=\"\",\"\",IF(entry_2!H29=\"男\",1,2))","v":""},{"$f":"IF(entry_2!B29=\"\",\"\",VALUE(MID(A24,5,1)))","v":""},{"$f":"IF(entry_2!B29=\"\",\"\",VALUE(MID(A24,2,6)))","v":""},{"$f":"IF(entry_2!B29=\"\",\"\",VALUE(RIGHT(A24,4)))","v":""},{"$f":"IF(entry_2!I29=\"\",\"\",entry_2!W29&RIGHT(entry_2!X29,LEN(entry_2!X29)-2))","v":""},{"$f":"IF(entry_2!N29=\"\",\"\",entry_2!AA29&RIGHT(entry_2!AB29,LEN(entry_2!AB29)-2))","v":""}]
[{"$f":"IF(entry_2!B30=\"\",\"\",D25*100000000+28000000+entry_2!$AC$5*100+VALUE(RIGHT(entry_2!B30,2)))","v":""},{"$f":"IF(entry_2!B30=\"\",\"\",IF(entry_2!AC30>=10,entry_2!C30&entry_2!D30,IF(entry_2!AC30=9,entry_2!C30&\" \"&entry_2!D30,IF(entry_2!AC30=8,entry_2!C30&\"  \"&entry_2!D30,IF(entry_2!AC30=7,entry_2!C30&\"   \"&entry_2!D30,IF(entry_2!AC30=6,entry_2!C30&\"    \"&entry_2!D30,IF(entry_2!AC30=5,entry_2!C30&\"     \"&entry_2!D30,IF(entry_2!AC30=4,entry_2!C30&\"      \"&entry_2!D30,entry_2!C30&\"       \"&entry_2!D30)))))))&\"(\"&entry_2!G30&\")\")","v":""},{"$f":"IF(entry_2!B30=\"\",\"\",ASC(entry_2!E30&\" \"&entry_2!F30))","v":""},{"$f":"IF(entry_2!B30=\"\",\"\",IF(entry_2!H30=\"男\",1,2))","v":""},{"$f":"IF(entry_2!B30=\"\",\"\",VALUE(MID(A25,5,1)))","v":""},{"$f":"IF(entry_2!B30=\"\",\"\",VALUE(MID(A25,2,6)))","v":""},{"$f":"IF(entry_2!B30=\"\",\"\",VALUE(RIGHT(A25,4)))","v":""},{"$f":"IF(entry_2!I30=\"\",\"\",entry_2!W30&RIGHT(entry_2!X30,LEN(entry_2!X30)-2))","v":""},{"$f":"IF(entry_2!N30=\"\",\"\",entry_2!AA30&RIGHT(entry_2!AB30,LEN(entry_2!AB30)-2))","v":""}]
[{"$f":"IF(entry_2!B31=\"\",\"\",D26*100000000+28000000+entry_2!$AC$5*100+VALUE(RIGHT(entry_2!B31,2)))","v":""},{"$f":"IF(entry_2!B31=\"\",\"\",IF(entry_2!AC31>=10,entry_2!C31&entry_2!D31,IF(entry_2!AC31=9,entry_2!C31&\" \"&entry_2!D31,IF(entry_2!AC31=8,entry_2!C31&\"  \"&entry_2!D31,IF(entry_2!AC31=7,entry_2!C31&\"   \"&entry_2!D31,IF(entry_2!AC31=6,entry_2!C31&\"    \"&entry_2!D31,IF(entry_2!AC31=5,entry_2!C31&\"     \"&entry_2!D31,IF(entry_2!AC31=4,entry_2!C31&\"      \"&entry_2!D31,entry_2!C31&\"       \"&entry_2!D31)))))))&\"(\"&entry_2!G31&\")\")","v":""},{"$f":"IF(entry_2!B31=\"\",\"\",ASC(entry_2!E31&\" \"&entry_2!F31))","v":""},{"$f":"IF(entry_2!B31=\"\",\"\",IF(entry_2!H31=\"男\",1,2))","v":""},{"$f":"IF(entry_2!B31=\"\",\"\",VALUE(MID(A26,5,1)))","v":""},{"$f":"IF(entry_2!B31=\"\",\"\",VALUE(MID(A26,2,6)))","v":""},{"$f":"IF(entry_2!B31=\"\",\"\",VALUE(RIGHT(A26,4)))","v":""},{"$f":"IF(entry_2!I31=\"\",\"\",entry_2!W31&RIGHT(entry_2!X31,LEN(entry_2!X31)-2))","v":""},{"$f":"IF(entry_2!N31=\"\",\"\",entry_2!AA31&RIGHT(entry_2!AB31,LEN(entry_2!AB31)-2))","v":""}]
[{"$f":"IF(entry_2!B32=\"\",\"\",D27*100000000+28000000+entry_2!$AC$5*100+VALUE(RIGHT(entry_2!B32,2)))","v":""},{"$f":"IF(entry_2!B32=\"\",\"\",IF(entry_2!AC32>=10,entry_2!C32&entry_2!D32,IF(entry_2!AC32=9,entry_2!C32&\" \"&entry_2!D32,IF(entry_2!AC32=8,entry_2!C32&\"  \"&entry_2!D32,IF(entry_2!AC32=7,entry_2!C32&\"   \"&entry_2!D32,IF(entry_2!AC32=6,entry_2!C32&\"    \"&entry_2!D32,IF(entry_2!AC32=5,entry_2!C32&\"     \"&entry_2!D32,IF(entry_2!AC32=4,entry_2!C32&\"      \"&entry_2!D32,entry_2!C32&\"       \"&entry_2!D32)))))))&\"(\"&entry_2!G32&\")\")","v":""},{"$f":"IF(entry_2!B32=\"\",\"\",ASC(entry_2!E32&\" \"&entry_2!F32))","v":""},{"$f":"IF(entry_2!B32=\"\",\"\",IF(entry_2!H32=\"男\",1,2))","v":""},{"$f":"IF(entry_2!B32=\"\",\"\",VALUE(MID(A27,5,1)))","v":""},{"$f":"IF(entry_2!B32=\"\",\"\",VALUE(MID(A27,2,6)))","v":""},{"$f":"IF(entry_2!B32=\"\",\"\",VALUE(RIGHT(A27,4)))","v":""},{"$f":"IF(entry_2!I32=\"\",\"\",entry_2!W32&RIGHT(entry_2!X32,LEN(entry_2!X32)-2))","v":""},{"$f":"IF(entry_2!N32=\"\",\"\",entry_2!AA32&RIGHT(entry_2!AB32,LEN(entry_2!AB32)-2))","v":""}]
[{"$f":"IF(entry_2!B33=\"\",\"\",D28*100000000+28000000+entry_2!$AC$5*100+VALUE(RIGHT(entry_2!B33,2)))","v":""},{"$f":"IF(entry_2!B33=\"\",\"\",IF(entry_2!AC33>=10,entry_2!C33&entry_2!D33,IF(entry_2!AC33=9,entry_2!C33&\" \"&entry_2!D33,IF(entry_2!AC33=8,entry_2!C33&\"  \"&entry_2!D33,IF(entry_2!AC33=7,entry_2!C33&\"   \"&entry_2!D33,IF(entry_2!AC33=6,entry_2!C33&\"    \"&entry_2!D33,IF(entry_2!AC33=5,entry_2!C33&\"     \"&entry_2!D33,IF(entry_2!AC33=4,entry_2!C33&\"      \"&entry_2!D33,entry_2!C33&\"       \"&entry_2!D33)))))))&\"(\"&entry_2!G33&\")\")","v":""},{"$f":"IF(entry_2!B33=\"\",\"\",ASC(entry_2!E33&\" \"&entry_2!F33))","v":""},{"$f":"IF(entry_2!B33=\"\",\"\",IF(entry_2!H33=\"男\",1,2))","v":""},{"$f":"IF(entry_2!B33=\"\",\"\",VALUE(MID(A28,5,1)))","v":""},{"$f":"IF(entry_2!B33=\"\",\"\",VALUE(MID(A28,2,6)))","v":""},{"$f":"IF(entry_2!B33=\"\",\"\",VALUE(RIGHT(A28,4)))","v":""},{"$f":"IF(entry_2!I33=\"\",\"\",entry_2!W33&RIGHT(entry_2!X33,LEN(entry_2!X33)-2))","v":""},{"$f":"IF(entry_2!N33=\"\",\"\",entry_2!AA33&RIGHT(entry_2!AB33,LEN(entry_2!AB33)-2))","v":""}]
[{"$f":"IF(entry_2!B34=\"\",\"\",D29*100000000+28000000+entry_2!$AC$5*100+VALUE(RIGHT(entry_2!B34,2)))","v":""},{"$f":"IF(entry_2!B34=\"\",\"\",IF(entry_2!AC34>=10,entry_2!C34&entry_2!D34,IF(entry_2!AC34=9,entry_2!C34&\" \"&entry_2!D34,IF(entry_2!AC34=8,entry_2!C34&\"  \"&entry_2!D34,IF(entry_2!AC34=7,entry_2!C34&\"   \"&entry_2!D34,IF(entry_2!AC34=6,entry_2!C34&\"    \"&entry_2!D34,IF(entry_2!AC34=5,entry_2!C34&\"     \"&entry_2!D34,IF(entry_2!AC34=4,entry_2!C34&\"      \"&entry_2!D34,entry_2!C34&\"       \"&entry_2!D34)))))))&\"(\"&entry_2!G34&\")\")","v":""},{"$f":"IF(entry_2!B34=\"\",\"\",ASC(entry_2!E34&\" \"&entry_2!F34))","v":""},{"$f":"IF(entry_2!B34=\"\",\"\",IF(entry_2!H34=\"男\",1,2))","v":""},{"$f":"IF(entry_2!B34=\"\",\"\",VALUE(MID(A29,5,1)))","v":""},{"$f":"IF(entry_2!B34=\"\",\"\",VALUE(MID(A29,2,6)))","v":""},{"$f":"IF(entry_2!B34=\"\",\"\",VALUE(RIGHT(A29,4)))","v":""},{"$f":"IF(entry_2!I34=\"\",\"\",entry_2!W34&RIGHT(entry_2!X34,LEN(entry_2!X34)-2))","v":""},{"$f":"IF(entry_2!N34=\"\",\"\",entry_2!AA34&RIGHT(entry_2!AB34,LEN(entry_2!AB34)-2))","v":""}]
[{"$f":"IF(entry_2!B35=\"\",\"\",D30*100000000+28000000+entry_2!$AC$5*100+VALUE(RIGHT(entry_2!B35,2)))","v":""},{"$f":"IF(entry_2!B35=\"\",\"\",IF(entry_2!AC35>=10,entry_2!C35&entry_2!D35,IF(entry_2!AC35=9,entry_2!C35&\" \"&entry_2!D35,IF(entry_2!AC35=8,entry_2!C35&\"  \"&entry_2!D35,IF(entry_2!AC35=7,entry_2!C35&\"   \"&entry_2!D35,IF(entry_2!AC35=6,entry_2!C35&\"    \"&entry_2!D35,IF(entry_2!AC35=5,entry_2!C35&\"     \"&entry_2!D35,IF(entry_2!AC35=4,entry_2!C35&\"      \"&entry_2!D35,entry_2!C35&\"       \"&entry_2!D35)))))))&\"(\"&entry_2!G35&\")\")","v":""},{"$f":"IF(entry_2!B35=\"\",\"\",ASC(entry_2!E35&\" \"&entry_2!F35))","v":""},{"$f":"IF(entry_2!B35=\"\",\"\",IF(entry_2!H35=\"男\",1,2))","v":""},{"$f":"IF(entry_2!B35=\"\",\"\",VALUE(MID(A30,5,1)))","v":""},{"$f":"IF(entry_2!B35=\"\",\"\",VALUE(MID(A30,2,6)))","v":""},{"$f":"IF(entry_2!B35=\"\",\"\",VALUE(RIGHT(A30,4)))","v":""},{"$f":"IF(entry_2!I35=\"\",\"\",entry_2!W35&RIGHT(entry_2!X35,LEN(entry_2!X35)-2))","v":""},{"$f":"IF(entry_2!N35=\"\",\"\",entry_2!AA35&RIGHT(entry_2!AB35,LEN(entry_2!AB35)-2))","v":""}]
[{"$f":"IF(entry_2!B36=\"\",\"\",D31*100000000+28000000+entry_2!$AC$5*100+VALUE(RIGHT(entry_2!B36,2)))","v":""},{"$f":"IF(entry_2!B36=\"\",\"\",IF(entry_2!AC36>=10,entry_2!C36&entry_2!D36,IF(entry_2!AC36=9,entry_2!C36&\" \"&entry_2!D36,IF(entry_2!AC36=8,entry_2!C36&\"  \"&entry_2!D36,IF(entry_2!AC36=7,entry_2!C36&\"   \"&entry_2!D36,IF(entry_2!AC36=6,entry_2!C36&\"    \"&entry_2!D36,IF(entry_2!AC36=5,entry_2!C36&\"     \"&entry_2!D36,IF(entry_2!AC36=4,entry_2!C36&\"      \"&entry_2!D36,entry_2!C36&\"       \"&entry_2!D36)))))))&\"(\"&entry_2!G36&\")\")","v":""},{"$f":"IF(entry_2!B36=\"\",\"\",ASC(entry_2!E36&\" \"&entry_2!F36))","v":""},{"$f":"IF(entry_2!B36=\"\",\"\",IF(entry_2!H36=\"男\",1,2))","v":""},{"$f":"IF(entry_2!B36=\"\",\"\",VALUE(MID(A31,5,1)))","v":""},{"$f":"IF(entry_2!B36=\"\",\"\",VALUE(MID(A31,2,6)))","v":""},{"$f":"IF(entry_2!B36=\"\",\"\",VALUE(RIGHT(A31,4)))","v":""},{"$f":"IF(entry_2!I36=\"\",\"\",entry_2!W36&RIGHT(entry_2!X36,LEN(entry_2!X36)-2))","v":""},{"$f":"IF(entry_2!N36=\"\",\"\",entry_2!AA36&RIGHT(entry_2!AB36,LEN(entry_2!AB36)-2))","v":""}]
[{"$f":"IF(entry_2!B37=\"\",\"\",D32*100000000+28000000+entry_2!$AC$5*100+VALUE(RIGHT(entry_2!B37,2)))","v":""},{"$f":"IF(entry_2!B37=\"\",\"\",IF(entry_2!AC37>=10,entry_2!C37&entry_2!D37,IF(entry_2!AC37=9,entry_2!C37&\" \"&entry_2!D37,IF(entry_2!AC37=8,entry_2!C37&\"  \"&entry_2!D37,IF(entry_2!AC37=7,entry_2!C37&\"   \"&entry_2!D37,IF(entry_2!AC37=6,entry_2!C37&\"    \"&entry_2!D37,IF(entry_2!AC37=5,entry_2!C37&\"     \"&entry_2!D37,IF(entry_2!AC37=4,entry_2!C37&\"      \"&entry_2!D37,entry_2!C37&\"       \"&entry_2!D37)))))))&\"(\"&entry_2!G37&\")\")","v":""},{"$f":"IF(entry_2!B37=\"\",\"\",ASC(entry_2!E37&\" \"&entry_2!F37))","v":""},{"$f":"IF(entry_2!B37=\"\",\"\",IF(entry_2!H37=\"男\",1,2))","v":""},{"$f":"IF(entry_2!B37=\"\",\"\",VALUE(MID(A32,5,1)))","v":""},{"$f":"IF(entry_2!B37=\"\",\"\",VALUE(MID(A32,2,6)))","v":""},{"$f":"IF(entry_2!B37=\"\",\"\",VALUE(RIGHT(A32,4)))","v":""},{"$f":"IF(entry_2!I37=\"\",\"\",entry_2!W37&RIGHT(entry_2!X37,LEN(entry_2!X37)-2))","v":""},{"$f":"IF(entry_2!N37=\"\",\"\",entry_2!AA37&RIGHT(entry_2!AB37,LEN(entry_2!AB37)-2))","v":""}]
[{"$f":"IF(entry_2!B38=\"\",\"\",D33*100000000+28000000+entry_2!$AC$5*100+VALUE(RIGHT(entry_2!B38,2)))","v":""},{"$f":"IF(entry_2!B38=\"\",\"\",IF(entry_2!AC38>=10,entry_2!C38&entry_2!D38,IF(entry_2!AC38=9,entry_2!C38&\" \"&entry_2!D38,IF(entry_2!AC38=8,entry_2!C38&\"  \"&entry_2!D38,IF(entry_2!AC38=7,entry_2!C38&\"   \"&entry_2!D38,IF(entry_2!AC38=6,entry_2!C38&\"    \"&entry_2!D38,IF(entry_2!AC38=5,entry_2!C38&\"     \"&entry_2!D38,IF(entry_2!AC38=4,entry_2!C38&\"      \"&entry_2!D38,entry_2!C38&\"       \"&entry_2!D38)))))))&\"(\"&entry_2!G38&\")\")","v":""},{"$f":"IF(entry_2!B38=\"\",\"\",ASC(entry_2!E38&\" \"&entry_2!F38))","v":""},{"$f":"IF(entry_2!B38=\"\",\"\",IF(entry_2!H38=\"男\",1,2))","v":""},{"$f":"IF(entry_2!B38=\"\",\"\",VALUE(MID(A33,5,1)))","v":""},{"$f":"IF(entry_2!B38=\"\",\"\",VALUE(MID(A33,2,6)))","v":""},{"$f":"IF(entry_2!B38=\"\",\"\",VALUE(RIGHT(A33,4)))","v":""},{"$f":"IF(entry_2!I38=\"\",\"\",entry_2!W38&RIGHT(entry_2!X38,LEN(entry_2!X38)-2))","v":""},{"$f":"IF(entry_2!N38=\"\",\"\",entry_2!AA38&RIGHT(entry_2!AB38,LEN(entry_2!AB38)-2))","v":""}]
[{"$f":"IF(entry_2!B39=\"\",\"\",D34*100000000+28000000+entry_2!$AC$5*100+VALUE(RIGHT(entry_2!B39,2)))","v":""},{"$f":"IF(entry_2!B39=\"\",\"\",IF(entry_2!AC39>=10,entry_2!C39&entry_2!D39,IF(entry_2!AC39=9,entry_2!C39&\" \"&entry_2!D39,IF(entry_2!AC39=8,entry_2!C39&\"  \"&entry_2!D39,IF(entry_2!AC39=7,entry_2!C39&\"   \"&entry_2!D39,IF(entry_2!AC39=6,entry_2!C39&\"    \"&entry_2!D39,IF(entry_2!AC39=5,entry_2!C39&\"     \"&entry_2!D39,IF(entry_2!AC39=4,entry_2!C39&\"      \"&entry_2!D39,entry_2!C39&\"       \"&entry_2!D39)))))))&\"(\"&entry_2!G39&\")\")","v":""},{"$f":"IF(entry_2!B39=\"\",\"\",ASC(entry_2!E39&\" \"&entry_2!F39))","v":""},{"$f":"IF(entry_2!B39=\"\",\"\",IF(entry_2!H39=\"男\",1,2))","v":""},{"$f":"IF(entry_2!B39=\"\",\"\",VALUE(MID(A34,5,1)))","v":""},{"$f":"IF(entry_2!B39=\"\",\"\",VALUE(MID(A34,2,6)))","v":""},{"$f":"IF(entry_2!B39=\"\",\"\",VALUE(RIGHT(A34,4)))","v":""},{"$f":"IF(entry_2!I39=\"\",\"\",entry_2!W39&RIGHT(entry_2!X39,LEN(entry_2!X39)-2))","v":""},{"$f":"IF(entry_2!N39=\"\",\"\",entry_2!AA39&RIGHT(entry_2!AB39,LEN(entry_2!AB39)-2))","v":""}]
[{"$f":"IF(entry_2!B40=\"\",\"\",D35*100000000+28000000+entry_2!$AC$5*100+VALUE(RIGHT(entry_2!B40,2)))","v":""},{"$f":"IF(entry_2!B40=\"\",\"\",IF(entry_2!AC40>=10,entry_2!C40&entry_2!D40,IF(entry_2!AC40=9,entry_2!C40&\" \"&entry_2!D40,IF(entry_2!AC40=8,entry_2!C40&\"  \"&entry_2!D40,IF(entry_2!AC40=7,entry_2!C40&\"   \"&entry_2!D40,IF(entry_2!AC40=6,entry_2!C40&\"    \"&entry_2!D40,IF(entry_2!AC40=5,entry_2!C40&\"     \"&entry_2!D40,IF(entry_2!AC40=4,entry_2!C40&\"      \"&entry_2!D40,entry_2!C40&\"       \"&entry_2!D40)))))))&\"(\"&entry_2!G40&\")\")","v":""},{"$f":"IF(entry_2!B40=\"\",\"\",ASC(entry_2!E40&\" \"&entry_2!F40))","v":""},{"$f":"IF(entry_2!B40=\"\",\"\",IF(entry_2!H40=\"男\",1,2))","v":""},{"$f":"IF(entry_2!B40=\"\",\"\",VALUE(MID(A35,5,1)))","v":""},{"$f":"IF(entry_2!B40=\"\",\"\",VALUE(MID(A35,2,6)))","v":""},{"$f":"IF(entry_2!B40=\"\",\"\",VALUE(RIGHT(A35,4)))","v":""},{"$f":"IF(entry_2!I40=\"\",\"\",entry_2!W40&RIGHT(entry_2!X40,LEN(entry_2!X40)-2))","v":""},{"$f":"IF(entry_2!N40=\"\",\"\",entry_2!AA40&RIGHT(entry_2!AB40,LEN(entry_2!AB40)-2))","v":""}]
[{"$f":"IF(entry_2!B41=\"\",\"\",D36*100000000+28000000+entry_2!$AC$5*100+VALUE(RIGHT(entry_2!B41,2)))","v":""},{"$f":"IF(entry_2!B41=\"\",\"\",IF(entry_2!AC41>=10,entry_2!C41&entry_2!D41,IF(entry_2!AC41=9,entry_2!C41&\" \"&entry_2!D41,IF(entry_2!AC41=8,entry_2!C41&\"  \"&entry_2!D41,IF(entry_2!AC41=7,entry_2!C41&\"   \"&entry_2!D41,IF(entry_2!AC41=6,entry_2!C41&\"    \"&entry_2!D41,IF(entry_2!AC41=5,entry_2!C41&\"     \"&entry_2!D41,IF(entry_2!AC41=4,entry_2!C41&\"      \"&entry_2!D41,entry_2!C41&\"       \"&entry_2!D41)))))))&\"(\"&entry_2!G41&\")\")","v":""},{"$f":"IF(entry_2!B41=\"\",\"\",ASC(entry_2!E41&\" \"&entry_2!F41))","v":""},{"$f":"IF(entry_2!B41=\"\",\"\",IF(entry_2!H41=\"男\",1,2))","v":""},{"$f":"IF(entry_2!B41=\"\",\"\",VALUE(MID(A36,5,1)))","v":""},{"$f":"IF(entry_2!B41=\"\",\"\",VALUE(MID(A36,2,6)))","v":""},{"$f":"IF(entry_2!B41=\"\",\"\",VALUE(RIGHT(A36,4)))","v":""},{"$f":"IF(entry_2!I41=\"\",\"\",entry_2!W41&RIGHT(entry_2!X41,LEN(entry_2!X41)-2))","v":""},{"$f":"IF(entry_2!N41=\"\",\"\",entry_2!AA41&RIGHT(entry_2!AB41,LEN(entry_2!AB41)-2))","v":""}]
[{"$f":"IF(entry_2!B42=\"\",\"\",D37*100000000+28000000+entry_2!$AC$5*100+VALUE(RIGHT(entry_2!B42,2)))","v":""},{"$f":"IF(entry_2!B42=\"\",\"\",IF(entry_2!AC42>=10,entry_2!C42&entry_2!D42,IF(entry_2!AC42=9,entry_2!C42&\" \"&entry_2!D42,IF(entry_2!AC42=8,entry_2!C42&\"  \"&entry_2!D42,IF(entry_2!AC42=7,entry_2!C42&\"   \"&entry_2!D42,IF(entry_2!AC42=6,entry_2!C42&\"    \"&entry_2!D42,IF(entry_2!AC42=5,entry_2!C42&\"     \"&entry_2!D42,IF(entry_2!AC42=4,entry_2!C42&\"      \"&entry_2!D42,entry_2!C42&\"       \"&entry_2!D42)))))))&\"(\"&entry_2!G42&\")\")","v":""},{"$f":"IF(entry_2!B42=\"\",\"\",ASC(entry_2!E42&\" \"&entry_2!F42))","v":""},{"$f":"IF(entry_2!B42=\"\",\"\",IF(entry_2!H42=\"男\",1,2))","v":""},{"$f":"IF(entry_2!B42=\"\",\"\",VALUE(MID(A37,5,1)))","v":""},{"$f":"IF(entry_2!B42=\"\",\"\",VALUE(MID(A37,2,6)))","v":""},{"$f":"IF(entry_2!B42=\"\",\"\",VALUE(RIGHT(A37,4)))","v":""},{"$f":"IF(entry_2!I42=\"\",\"\",entry_2!W42&RIGHT(entry_2!X42,LEN(entry_2!X42)-2))","v":""},{"$f":"IF(entry_2!N42=\"\",\"\",entry_2!AA42&RIGHT(entry_2!AB42,LEN(entry_2!AB42)-2))","v":""}]
[{"$f":"IF(entry_2!B43=\"\",\"\",D38*100000000+28000000+entry_2!$AC$5*100+VALUE(RIGHT(entry_2!B43,2)))","v":""},{"$f":"IF(entry_2!B43=\"\",\"\",IF(entry_2!AC43>=10,entry_2!C43&entry_2!D43,IF(entry_2!AC43=9,entry_2!C43&\" \"&entry_2!D43,IF(entry_2!AC43=8,entry_2!C43&\"  \"&entry_2!D43,IF(entry_2!AC43=7,entry_2!C43&\"   \"&entry_2!D43,IF(entry_2!AC43=6,entry_2!C43&\"    \"&entry_2!D43,IF(entry_2!AC43=5,entry_2!C43&\"     \"&entry_2!D43,IF(entry_2!AC43=4,entry_2!C43&\"      \"&entry_2!D43,entry_2!C43&\"       \"&entry_2!D43)))))))&\"(\"&entry_2!G43&\")\")","v":""},{"$f":"IF(entry_2!B43=\"\",\"\",ASC(entry_2!E43&\" \"&entry_2!F43))","v":""},{"$f":"IF(entry_2!B43=\"\",\"\",IF(entry_2!H43=\"男\",1,2))","v":""},{"$f":"IF(entry_2!B43=\"\",\"\",VALUE(MID(A38,5,1)))","v":""},{"$f":"IF(entry_2!B43=\"\",\"\",VALUE(MID(A38,2,6)))","v":""},{"$f":"IF(entry_2!B43=\"\",\"\",VALUE(RIGHT(A38,4)))","v":""},{"$f":"IF(entry_2!I43=\"\",\"\",entry_2!W43&RIGHT(entry_2!X43,LEN(entry_2!X43)-2))","v":""},{"$f":"IF(entry_2!N43=\"\",\"\",entry_2!AA43&RIGHT(entry_2!AB43,LEN(entry_2!AB43)-2))","v":""}]
[{"$f":"IF(entry_2!B44=\"\",\"\",D39*100000000+28000000+entry_2!$AC$5*100+VALUE(RIGHT(entry_2!B44,2)))","v":""},{"$f":"IF(entry_2!B44=\"\",\"\",IF(entry_2!AC44>=10,entry_2!C44&entry_2!D44,IF(entry_2!AC44=9,entry_2!C44&\" \"&entry_2!D44,IF(entry_2!AC44=8,entry_2!C44&\"  \"&entry_2!D44,IF(entry_2!AC44=7,entry_2!C44&\"   \"&entry_2!D44,IF(entry_2!AC44=6,entry_2!C44&\"    \"&entry_2!D44,IF(entry_2!AC44=5,entry_2!C44&\"     \"&entry_2!D44,IF(entry_2!AC44=4,entry_2!C44&\"      \"&entry_2!D44,entry_2!C44&\"       \"&entry_2!D44)))))))&\"(\"&entry_2!G44&\")\")","v":""},{"$f":"IF(entry_2!B44=\"\",\"\",ASC(entry_2!E44&\" \"&entry_2!F44))","v":""},{"$f":"IF(entry_2!B44=\"\",\"\",IF(entry_2!H44=\"男\",1,2))","v":""},{"$f":"IF(entry_2!B44=\"\",\"\",VALUE(MID(A39,5,1)))","v":""},{"$f":"IF(entry_2!B44=\"\",\"\",VALUE(MID(A39,2,6)))","v":""},{"$f":"IF(entry_2!B44=\"\",\"\",VALUE(RIGHT(A39,4)))","v":""},{"$f":"IF(entry_2!I44=\"\",\"\",entry_2!W44&RIGHT(entry_2!X44,LEN(entry_2!X44)-2))","v":""},{"$f":"IF(entry_2!N44=\"\",\"\",entry_2!AA44&RIGHT(entry_2!AB44,LEN(entry_2!AB44)-2))","v":""}]
[{"$f":"IF(entry_2!B45=\"\",\"\",D40*100000000+28000000+entry_2!$AC$5*100+VALUE(RIGHT(entry_2!B45,2)))","v":""},{"$f":"IF(entry_2!B45=\"\",\"\",IF(entry_2!AC45>=10,entry_2!C45&entry_2!D45,IF(entry_2!AC45=9,entry_2!C45&\" \"&entry_2!D45,IF(entry_2!AC45=8,entry_2!C45&\"  \"&entry_2!D45,IF(entry_2!AC45=7,entry_2!C45&\"   \"&entry_2!D45,IF(entry_2!AC45=6,entry_2!C45&\"    \"&entry_2!D45,IF(entry_2!AC45=5,entry_2!C45&\"     \"&entry_2!D45,IF(entry_2!AC45=4,entry_2!C45&\"      \"&entry_2!D45,entry_2!C45&\"       \"&entry_2!D45)))))))&\"(\"&entry_2!G45&\")\")","v":""},{"$f":"IF(entry_2!B45=\"\",\"\",ASC(entry_2!E45&\" \"&entry_2!F45))","v":""},{"$f":"IF(entry_2!B45=\"\",\"\",IF(entry_2!H45=\"男\",1,2))","v":""},{"$f":"IF(entry_2!B45=\"\",\"\",VALUE(MID(A40,5,1)))","v":""},{"$f":"IF(entry_2!B45=\"\",\"\",VALUE(MID(A40,2,6)))","v":""},{"$f":"IF(entry_2!B45=\"\",\"\",VALUE(RIGHT(A40,4)))","v":""},{"$f":"IF(entry_2!I45=\"\",\"\",entry_2!W45&RIGHT(entry_2!X45,LEN(entry_2!X45)-2))","v":""},{"$f":"IF(entry_2!N45=\"\",\"\",entry_2!AA45&RIGHT(entry_2!AB45,LEN(entry_2!AB45)-2))","v":""}]
[{"$f":"IF(entry_2!B46=\"\",\"\",D41*100000000+28000000+entry_2!$AC$5*100+VALUE(RIGHT(entry_2!B46,2)))","v":""},{"$f":"IF(entry_2!B46=\"\",\"\",IF(entry_2!AC46>=10,entry_2!C46&entry_2!D46,IF(entry_2!AC46=9,entry_2!C46&\" \"&entry_2!D46,IF(entry_2!AC46=8,entry_2!C46&\"  \"&entry_2!D46,IF(entry_2!AC46=7,entry_2!C46&\"   \"&entry_2!D46,IF(entry_2!AC46=6,entry_2!C46&\"    \"&entry_2!D46,IF(entry_2!AC46=5,entry_2!C46&\"     \"&entry_2!D46,IF(entry_2!AC46=4,entry_2!C46&\"      \"&entry_2!D46,entry_2!C46&\"       \"&entry_2!D46)))))))&\"(\"&entry_2!G46&\")\")","v":""},{"$f":"IF(entry_2!B46=\"\",\"\",ASC(entry_2!E46&\" \"&entry_2!F46))","v":""},{"$f":"IF(entry_2!B46=\"\",\"\",IF(entry_2!H46=\"男\",1,2))","v":""},{"$f":"IF(entry_2!B46=\"\",\"\",VALUE(MID(A41,5,1)))","v":""},{"$f":"IF(entry_2!B46=\"\",\"\",VALUE(MID(A41,2,6)))","v":""},{"$f":"IF(entry_2!B46=\"\",\"\",VALUE(RIGHT(A41,4)))","v":""},{"$f":"IF(entry_2!I46=\"\",\"\",entry_2!W46&RIGHT(entry_2!X46,LEN(entry_2!X46)-2))","v":""},{"$f":"IF(entry_2!N46=\"\",\"\",entry_2!AA46&RIGHT(entry_2!AB46,LEN(entry_2!AB46)-2))","v":""}]
[{"$f":"IF(entry_2!B47=\"\",\"\",D42*100000000+28000000+entry_2!$AC$5*100+VALUE(RIGHT(entry_2!B47,2)))","v":""},{"$f":"IF(entry_2!B47=\"\",\"\",IF(entry_2!AC47>=10,entry_2!C47&entry_2!D47,IF(entry_2!AC47=9,entry_2!C47&\" \"&entry_2!D47,IF(entry_2!AC47=8,entry_2!C47&\"  \"&entry_2!D47,IF(entry_2!AC47=7,entry_2!C47&\"   \"&entry_2!D47,IF(entry_2!AC47=6,entry_2!C47&\"    \"&entry_2!D47,IF(entry_2!AC47=5,entry_2!C47&\"     \"&entry_2!D47,IF(entry_2!AC47=4,entry_2!C47&\"      \"&entry_2!D47,entry_2!C47&\"       \"&entry_2!D47)))))))&\"(\"&entry_2!G47&\")\")","v":""},{"$f":"IF(entry_2!B47=\"\",\"\",ASC(entry_2!E47&\" \"&entry_2!F47))","v":""},{"$f":"IF(entry_2!B47=\"\",\"\",IF(entry_2!H47=\"男\",1,2))","v":""},{"$f":"IF(entry_2!B47=\"\",\"\",VALUE(MID(A42,5,1)))","v":""},{"$f":"IF(entry_2!B47=\"\",\"\",VALUE(MID(A42,2,6)))","v":""},{"$f":"IF(entry_2!B47=\"\",\"\",VALUE(RIGHT(A42,4)))","v":""},{"$f":"IF(entry_2!I47=\"\",\"\",entry_2!W47&RIGHT(entry_2!X47,LEN(entry_2!X47)-2))","v":""},{"$f":"IF(entry_2!N47=\"\",\"\",entry_2!AA47&RIGHT(entry_2!AB47,LEN(entry_2!AB47)-2))","v":""}]
[{"$f":"IF(entry_2!B48=\"\",\"\",D43*100000000+28000000+entry_2!$AC$5*100+VALUE(RIGHT(entry_2!B48,2)))","v":""},{"$f":"IF(entry_2!B48=\"\",\"\",IF(entry_2!AC48>=10,entry_2!C48&entry_2!D48,IF(entry_2!AC48=9,entry_2!C48&\" \"&entry_2!D48,IF(entry_2!AC48=8,entry_2!C48&\"  \"&entry_2!D48,IF(entry_2!AC48=7,entry_2!C48&\"   \"&entry_2!D48,IF(entry_2!AC48=6,entry_2!C48&\"    \"&entry_2!D48,IF(entry_2!AC48=5,entry_2!C48&\"     \"&entry_2!D48,IF(entry_2!AC48=4,entry_2!C48&\"      \"&entry_2!D48,entry_2!C48&\"       \"&entry_2!D48)))))))&\"(\"&entry_2!G48&\")\")","v":""},{"$f":"IF(entry_2!B48=\"\",\"\",ASC(entry_2!E48&\" \"&entry_2!F48))","v":""},{"$f":"IF(entry_2!B48=\"\",\"\",IF(entry_2!H48=\"男\",1,2))","v":""},{"$f":"IF(entry_2!B48=\"\",\"\",VALUE(MID(A43,5,1)))","v":""},{"$f":"IF(entry_2!B48=\"\",\"\",VALUE(MID(A43,2,6)))","v":""},{"$f":"IF(entry_2!B48=\"\",\"\",VALUE(RIGHT(A43,4)))","v":""},{"$f":"IF(entry_2!I48=\"\",\"\",entry_2!W48&RIGHT(entry_2!X48,LEN(entry_2!X48)-2))","v":""},{"$f":"IF(entry_2!N48=\"\",\"\",entry_2!AA48&RIGHT(entry_2!AB48,LEN(entry_2!AB48)-2))","v":""}]
[{"$f":"IF(entry_2!B49=\"\",\"\",D44*100000000+28000000+entry_2!$AC$5*100+VALUE(RIGHT(entry_2!B49,2)))","v":""},{"$f":"IF(entry_2!B49=\"\",\"\",IF(entry_2!AC49>=10,entry_2!C49&entry_2!D49,IF(entry_2!AC49=9,entry_2!C49&\" \"&entry_2!D49,IF(entry_2!AC49=8,entry_2!C49&\"  \"&entry_2!D49,IF(entry_2!AC49=7,entry_2!C49&\"   \"&entry_2!D49,IF(entry_2!AC49=6,entry_2!C49&\"    \"&entry_2!D49,IF(entry_2!AC49=5,entry_2!C49&\"     \"&entry_2!D49,IF(entry_2!AC49=4,entry_2!C49&\"      \"&entry_2!D49,entry_2!C49&\"       \"&entry_2!D49)))))))&\"(\"&entry_2!G49&\")\")","v":""},{"$f":"IF(entry_2!B49=\"\",\"\",ASC(entry_2!E49&\" \"&entry_2!F49))","v":""},{"$f":"IF(entry_2!B49=\"\",\"\",IF(entry_2!H49=\"男\",1,2))","v":""},{"$f":"IF(entry_2!B49=\"\",\"\",VALUE(MID(A44,5,1)))","v":""},{"$f":"IF(entry_2!B49=\"\",\"\",VALUE(MID(A44,2,6)))","v":""},{"$f":"IF(entry_2!B49=\"\",\"\",VALUE(RIGHT(A44,4)))","v":""},{"$f":"IF(entry_2!I49=\"\",\"\",entry_2!W49&RIGHT(entry_2!X49,LEN(entry_2!X49)-2))","v":""},{"$f":"IF(entry_2!N49=\"\",\"\",entry_2!AA49&RIGHT(entry_2!AB49,LEN(entry_2!AB49)-2))","v":""}]
[{"$f":"IF(entry_2!B50=\"\",\"\",D45*100000000+28000000+entry_2!$AC$5*100+VALUE(RIGHT(entry_2!B50,2)))","v":""},{"$f":"IF(entry_2!B50=\"\",\"\",IF(entry_2!AC50>=10,entry_2!C50&entry_2!D50,IF(entry_2!AC50=9,entry_2!C50&\" \"&entry_2!D50,IF(entry_2!AC50=8,entry_2!C50&\"  \"&entry_2!D50,IF(entry_2!AC50=7,entry_2!C50&\"   \"&entry_2!D50,IF(entry_2!AC50=6,entry_2!C50&\"    \"&entry_2!D50,IF(entry_2!AC50=5,entry_2!C50&\"     \"&entry_2!D50,IF(entry_2!AC50=4,entry_2!C50&\"      \"&entry_2!D50,entry_2!C50&\"       \"&entry_2!D50)))))))&\"(\"&entry_2!G50&\")\")","v":""},{"$f":"IF(entry_2!B50=\"\",\"\",ASC(entry_2!E50&\" \"&entry_2!F50))","v":""},{"$f":"IF(entry_2!B50=\"\",\"\",IF(entry_2!H50=\"男\",1,2))","v":""},{"$f":"IF(entry_2!B50=\"\",\"\",VALUE(MID(A45,5,1)))","v":""},{"$f":"IF(entry_2!B50=\"\",\"\",VALUE(MID(A45,2,6)))","v":""},{"$f":"IF(entry_2!B50=\"\",\"\",VALUE(RIGHT(A45,4)))","v":""},{"$f":"IF(entry_2!I50=\"\",\"\",entry_2!W50&RIGHT(entry_2!X50,LEN(entry_2!X50)-2))","v":""},{"$f":"IF(entry_2!N50=\"\",\"\",entry_2!AA50&RIGHT(entry_2!AB50,LEN(entry_2!AB50)-2))","v":""}]
[{"$f":"IF(entry_2!B51=\"\",\"\",D46*100000000+28000000+entry_2!$AC$5*100+VALUE(RIGHT(entry_2!B51,2)))","v":""},{"$f":"IF(entry_2!B51=\"\",\"\",IF(entry_2!AC51>=10,entry_2!C51&entry_2!D51,IF(entry_2!AC51=9,entry_2!C51&\" \"&entry_2!D51,IF(entry_2!AC51=8,entry_2!C51&\"  \"&entry_2!D51,IF(entry_2!AC51=7,entry_2!C51&\"   \"&entry_2!D51,IF(entry_2!AC51=6,entry_2!C51&\"    \"&entry_2!D51,IF(entry_2!AC51=5,entry_2!C51&\"     \"&entry_2!D51,IF(entry_2!AC51=4,entry_2!C51&\"      \"&entry_2!D51,entry_2!C51&\"       \"&entry_2!D51)))))))&\"(\"&entry_2!G51&\")\")","v":""},{"$f":"IF(entry_2!B51=\"\",\"\",ASC(entry_2!E51&\" \"&entry_2!F51))","v":""},{"$f":"IF(entry_2!B51=\"\",\"\",IF(entry_2!H51=\"男\",1,2))","v":""},{"$f":"IF(entry_2!B51=\"\",\"\",VALUE(MID(A46,5,1)))","v":""},{"$f":"IF(entry_2!B51=\"\",\"\",VALUE(MID(A46,2,6)))","v":""},{"$f":"IF(entry_2!B51=\"\",\"\",VALUE(RIGHT(A46,4)))","v":""},{"$f":"IF(entry_2!I51=\"\",\"\",entry_2!W51&RIGHT(entry_2!X51,LEN(entry_2!X51)-2))","v":""},{"$f":"IF(entry_2!N51=\"\",\"\",entry_2!AA51&RIGHT(entry_2!AB51,LEN(entry_2!AB51)-2))","v":""}]
[{"$f":"IF(entry_2!B52=\"\",\"\",D47*100000000+28000000+entry_2!$AC$5*100+VALUE(RIGHT(entry_2!B52,2)))","v":""},{"$f":"IF(entry_2!B52=\"\",\"\",IF(entry_2!AC52>=10,entry_2!C52&entry_2!D52,IF(entry_2!AC52=9,entry_2!C52&\" \"&entry_2!D52,IF(entry_2!AC52=8,entry_2!C52&\"  \"&entry_2!D52,IF(entry_2!AC52=7,entry_2!C52&\"   \"&entry_2!D52,IF(entry_2!AC52=6,entry_2!C52&\"    \"&entry_2!D52,IF(entry_2!AC52=5,entry_2!C52&\"     \"&entry_2!D52,IF(entry_2!AC52=4,entry_2!C52&\"      \"&entry_2!D52,entry_2!C52&\"       \"&entry_2!D52)))))))&\"(\"&entry_2!G52&\")\")","v":""},{"$f":"IF(entry_2!B52=\"\",\"\",ASC(entry_2!E52&\" \"&entry_2!F52))","v":""},{"$f":"IF(entry_2!B52=\"\",\"\",IF(entry_2!H52=\"男\",1,2))","v":""},{"$f":"IF(entry_2!B52=\"\",\"\",VALUE(MID(A47,5,1)))","v":""},{"$f":"IF(entry_2!B52=\"\",\"\",VALUE(MID(A47,2,6)))","v":""},{"$f":"IF(entry_2!B52=\"\",\"\",VALUE(RIGHT(A47,4)))","v":""},{"$f":"IF(entry_2!I52=\"\",\"\",entry_2!W52&RIGHT(entry_2!X52,LEN(entry_2!X52)-2))","v":""},{"$f":"IF(entry_2!N52=\"\",\"\",entry_2!AA52&RIGHT(entry_2!AB52,LEN(entry_2!AB52)-2))","v":""}]
[{"$f":"IF(entry_2!B53=\"\",\"\",D48*100000000+28000000+entry_2!$AC$5*100+VALUE(RIGHT(entry_2!B53,2)))","v":""},{"$f":"IF(entry_2!B53=\"\",\"\",IF(entry_2!AC53>=10,entry_2!C53&entry_2!D53,IF(entry_2!AC53=9,entry_2!C53&\" \"&entry_2!D53,IF(entry_2!AC53=8,entry_2!C53&\"  \"&entry_2!D53,IF(entry_2!AC53=7,entry_2!C53&\"   \"&entry_2!D53,IF(entry_2!AC53=6,entry_2!C53&\"    \"&entry_2!D53,IF(entry_2!AC53=5,entry_2!C53&\"     \"&entry_2!D53,IF(entry_2!AC53=4,entry_2!C53&\"      \"&entry_2!D53,entry_2!C53&\"       \"&entry_2!D53)))))))&\"(\"&entry_2!G53&\")\")","v":""},{"$f":"IF(entry_2!B53=\"\",\"\",ASC(entry_2!E53&\" \"&entry_2!F53))","v":""},{"$f":"IF(entry_2!B53=\"\",\"\",IF(entry_2!H53=\"男\",1,2))","v":""},{"$f":"IF(entry_2!B53=\"\",\"\",VALUE(MID(A48,5,1)))","v":""},{"$f":"IF(entry_2!B53=\"\",\"\",VALUE(MID(A48,2,6)))","v":""},{"$f":"IF(entry_2!B53=\"\",\"\",VALUE(RIGHT(A48,4)))","v":""},{"$f":"IF(entry_2!I53=\"\",\"\",entry_2!W53&RIGHT(entry_2!X53,LEN(entry_2!X53)-2))","v":""},{"$f":"IF(entry_2!N53=\"\",\"\",entry_2!AA53&RIGHT(entry_2!AB53,LEN(entry_2!AB53)-2))","v":""}]
[{"$f":"IF(entry_2!B54=\"\",\"\",D49*100000000+28000000+entry_2!$AC$5*100+VALUE(RIGHT(entry_2!B54,2)))","v":""},{"$f":"IF(entry_2!B54=\"\",\"\",IF(entry_2!AC54>=10,entry_2!C54&entry_2!D54,IF(entry_2!AC54=9,entry_2!C54&\" \"&entry_2!D54,IF(entry_2!AC54=8,entry_2!C54&\"  \"&entry_2!D54,IF(entry_2!AC54=7,entry_2!C54&\"   \"&entry_2!D54,IF(entry_2!AC54=6,entry_2!C54&\"    \"&entry_2!D54,IF(entry_2!AC54=5,entry_2!C54&\"     \"&entry_2!D54,IF(entry_2!AC54=4,entry_2!C54&\"      \"&entry_2!D54,entry_2!C54&\"       \"&entry_2!D54)))))))&\"(\"&entry_2!G54&\")\")","v":""},{"$f":"IF(entry_2!B54=\"\",\"\",ASC(entry_2!E54&\" \"&entry_2!F54))","v":""},{"$f":"IF(entry_2!B54=\"\",\"\",IF(entry_2!H54=\"男\",1,2))","v":""},{"$f":"IF(entry_2!B54=\"\",\"\",VALUE(MID(A49,5,1)))","v":""},{"$f":"IF(entry_2!B54=\"\",\"\",VALUE(MID(A49,2,6)))","v":""},{"$f":"IF(entry_2!B54=\"\",\"\",VALUE(RIGHT(A49,4)))","v":""},{"$f":"IF(entry_2!I54=\"\",\"\",entry_2!W54&RIGHT(entry_2!X54,LEN(entry_2!X54)-2))","v":""},{"$f":"IF(entry_2!N54=\"\",\"\",entry_2!AA54&RIGHT(entry_2!AB54,LEN(entry_2!AB54)-2))","v":""}]
[{"$f":"IF(entry_2!B55=\"\",\"\",D50*100000000+28000000+entry_2!$AC$5*100+VALUE(RIGHT(entry_2!B55,2)))","v":""},{"$f":"IF(entry_2!B55=\"\",\"\",IF(entry_2!AC55>=10,entry_2!C55&entry_2!D55,IF(entry_2!AC55=9,entry_2!C55&\" \"&entry_2!D55,IF(entry_2!AC55=8,entry_2!C55&\"  \"&entry_2!D55,IF(entry_2!AC55=7,entry_2!C55&\"   \"&entry_2!D55,IF(entry_2!AC55=6,entry_2!C55&\"    \"&entry_2!D55,IF(entry_2!AC55=5,entry_2!C55&\"     \"&entry_2!D55,IF(entry_2!AC55=4,entry_2!C55&\"      \"&entry_2!D55,entry_2!C55&\"       \"&entry_2!D55)))))))&\"(\"&entry_2!G55&\")\")","v":""},{"$f":"IF(entry_2!B55=\"\",\"\",ASC(entry_2!E55&\" \"&entry_2!F55))","v":""},{"$f":"IF(entry_2!B55=\"\",\"\",IF(entry_2!H55=\"男\",1,2))","v":""},{"$f":"IF(entry_2!B55=\"\",\"\",VALUE(MID(A50,5,1)))","v":""},{"$f":"IF(entry_2!B55=\"\",\"\",VALUE(MID(A50,2,6)))","v":""},{"$f":"IF(entry_2!B55=\"\",\"\",VALUE(RIGHT(A50,4)))","v":""},{"$f":"IF(entry_2!I55=\"\",\"\",entry_2!W55&RIGHT(entry_2!X55,LEN(entry_2!X55)-2))","v":""},{"$f":"IF(entry_2!N55=\"\",\"\",entry_2!AA55&RIGHT(entry_2!AB55,LEN(entry_2!AB55)-2))","v":""}]
[{"$f":"IF(entry_2!B56=\"\",\"\",D51*100000000+28000000+entry_2!$AC$5*100+VALUE(RIGHT(entry_2!B56,2)))","v":""},{"$f":"IF(entry_2!B56=\"\",\"\",IF(entry_2!AC56>=10,entry_2!C56&entry_2!D56,IF(entry_2!AC56=9,entry_2!C56&\" \"&entry_2!D56,IF(entry_2!AC56=8,entry_2!C56&\"  \"&entry_2!D56,IF(entry_2!AC56=7,entry_2!C56&\"   \"&entry_2!D56,IF(entry_2!AC56=6,entry_2!C56&\"    \"&entry_2!D56,IF(entry_2!AC56=5,entry_2!C56&\"     \"&entry_2!D56,IF(entry_2!AC56=4,entry_2!C56&\"      \"&entry_2!D56,entry_2!C56&\"       \"&entry_2!D56)))))))&\"(\"&entry_2!G56&\")\")","v":""},{"$f":"IF(entry_2!B56=\"\",\"\",ASC(entry_2!E56&\" \"&entry_2!F56))","v":""},{"$f":"IF(entry_2!B56=\"\",\"\",IF(entry_2!H56=\"男\",1,2))","v":""},{"$f":"IF(entry_2!B56=\"\",\"\",VALUE(MID(A51,5,1)))","v":""},{"$f":"IF(entry_2!B56=\"\",\"\",VALUE(MID(A51,2,6)))","v":""},{"$f":"IF(entry_2!B56=\"\",\"\",VALUE(RIGHT(A51,4)))","v":""},{"$f":"IF(entry_2!I56=\"\",\"\",entry_2!W56&RIGHT(entry_2!X56,LEN(entry_2!X56)-2))","v":""},{"$f":"IF(entry_2!N56=\"\",\"\",entry_2!AA56&RIGHT(entry_2!AB56,LEN(entry_2!AB56)-2))","v":""}]
[{"$f":"IF(entry_2!B57=\"\",\"\",D52*100000000+28000000+entry_2!$AC$5*100+VALUE(RIGHT(entry_2!B57,2)))","v":""},{"$f":"IF(entry_2!B57=\"\",\"\",IF(entry_2!AC57>=10,entry_2!C57&entry_2!D57,IF(entry_2!AC57=9,entry_2!C57&\" \"&entry_2!D57,IF(entry_2!AC57=8,entry_2!C57&\"  \"&entry_2!D57,IF(entry_2!AC57=7,entry_2!C57&\"   \"&entry_2!D57,IF(entry_2!AC57=6,entry_2!C57&\"    \"&entry_2!D57,IF(entry_2!AC57=5,entry_2!C57&\"     \"&entry_2!D57,IF(entry_2!AC57=4,entry_2!C57&\"      \"&entry_2!D57,entry_2!C57&\"       \"&entry_2!D57)))))))&\"(\"&entry_2!G57&\")\")","v":""},{"$f":"IF(entry_2!B57=\"\",\"\",ASC(entry_2!E57&\" \"&entry_2!F57))","v":""},{"$f":"IF(entry_2!B57=\"\",\"\",IF(entry_2!H57=\"男\",1,2))","v":""},{"$f":"IF(entry_2!B57=\"\",\"\",VALUE(MID(A52,5,1)))","v":""},{"$f":"IF(entry_2!B57=\"\",\"\",VALUE(MID(A52,2,6)))","v":""},{"$f":"IF(entry_2!B57=\"\",\"\",VALUE(RIGHT(A52,4)))","v":""},{"$f":"IF(entry_2!I57=\"\",\"\",entry_2!W57&RIGHT(entry_2!X57,LEN(entry_2!X57)-2))","v":""},{"$f":"IF(entry_2!N57=\"\",\"\",entry_2!AA57&RIGHT(entry_2!AB57,LEN(entry_2!AB57)-2))","v":""}]
[{"$f":"IF(entry_2!B58=\"\",\"\",D53*100000000+28000000+entry_2!$AC$5*100+VALUE(RIGHT(entry_2!B58,2)))","v":""},{"$f":"IF(entry_2!B58=\"\",\"\",IF(entry_2!AC58>=10,entry_2!C58&entry_2!D58,IF(entry_2!AC58=9,entry_2!C58&\" \"&entry_2!D58,IF(entry_2!AC58=8,entry_2!C58&\"  \"&entry_2!D58,IF(entry_2!AC58=7,entry_2!C58&\"   \"&entry_2!D58,IF(entry_2!AC58=6,entry_2!C58&\"    \"&entry_2!D58,IF(entry_2!AC58=5,entry_2!C58&\"     \"&entry_2!D58,IF(entry_2!AC58=4,entry_2!C58&\"      \"&entry_2!D58,entry_2!C58&\"       \"&entry_2!D58)))))))&\"(\"&entry_2!G58&\")\")","v":""},{"$f":"IF(entry_2!B58=\"\",\"\",ASC(entry_2!E58&\" \"&entry_2!F58))","v":""},{"$f":"IF(entry_2!B58=\"\",\"\",IF(entry_2!H58=\"男\",1,2))","v":""},{"$f":"IF(entry_2!B58=\"\",\"\",VALUE(MID(A53,5,1)))","v":""},{"$f":"IF(entry_2!B58=\"\",\"\",VALUE(MID(A53,2,6)))","v":""},{"$f":"IF(entry_2!B58=\"\",\"\",VALUE(RIGHT(A53,4)))","v":""},{"$f":"IF(entry_2!I58=\"\",\"\",entry_2!W58&RIGHT(entry_2!X58,LEN(entry_2!X58)-2))","v":""},{"$f":"IF(entry_2!N58=\"\",\"\",entry_2!AA58&RIGHT(entry_2!AB58,LEN(entry_2!AB58)-2))","v":""}]
[{"$f":"IF(entry_2!B59=\"\",\"\",D54*100000000+28000000+entry_2!$AC$5*100+VALUE(RIGHT(entry_2!B59,2)))","v":""},{"$f":"IF(entry_2!B59=\"\",\"\",IF(entry_2!AC59>=10,entry_2!C59&entry_2!D59,IF(entry_2!AC59=9,entry_2!C59&\" \"&entry_2!D59,IF(entry_2!AC59=8,entry_2!C59&\"  \"&entry_2!D59,IF(entry_2!AC59=7,entry_2!C59&\"   \"&entry_2!D59,IF(entry_2!AC59=6,entry_2!C59&\"    \"&entry_2!D59,IF(entry_2!AC59=5,entry_2!C59&\"     \"&entry_2!D59,IF(entry_2!AC59=4,entry_2!C59&\"      \"&entry_2!D59,entry_2!C59&\"       \"&entry_2!D59)))))))&\"(\"&entry_2!G59&\")\")","v":""},{"$f":"IF(entry_2!B59=\"\",\"\",ASC(entry_2!E59&\" \"&entry_2!F59))","v":""},{"$f":"IF(entry_2!B59=\"\",\"\",IF(entry_2!H59=\"男\",1,2))","v":""},{"$f":"IF(entry_2!B59=\"\",\"\",VALUE(MID(A54,5,1)))","v":""},{"$f":"IF(entry_2!B59=\"\",\"\",VALUE(MID(A54,2,6)))","v":""},{"$f":"IF(entry_2!B59=\"\",\"\",VALUE(RIGHT(A54,4)))","v":""},{"$f":"IF(entry_2!I59=\"\",\"\",entry_2!W59&RIGHT(entry_2!X59,LEN(entry_2!X59)-2))","v":""},{"$f":"IF(entry_2!N59=\"\",\"\",entry_2!AA59&RIGHT(entry_2!AB59,LEN(entry_2!AB59)-2))","v":""}]
[{"$f":"IF(entry_2!B60=\"\",\"\",D55*100000000+28000000+entry_2!$AC$5*100+VALUE(RIGHT(entry_2!B60,2)))","v":""},{"$f":"IF(entry_2!B60=\"\",\"\",IF(entry_2!AC60>=10,entry_2!C60&entry_2!D60,IF(entry_2!AC60=9,entry_2!C60&\" \"&entry_2!D60,IF(entry_2!AC60=8,entry_2!C60&\"  \"&entry_2!D60,IF(entry_2!AC60=7,entry_2!C60&\"   \"&entry_2!D60,IF(entry_2!AC60=6,entry_2!C60&\"    \"&entry_2!D60,IF(entry_2!AC60=5,entry_2!C60&\"     \"&entry_2!D60,IF(entry_2!AC60=4,entry_2!C60&\"      \"&entry_2!D60,entry_2!C60&\"       \"&entry_2!D60)))))))&\"(\"&entry_2!G60&\")\")","v":""},{"$f":"IF(entry_2!B60=\"\",\"\",ASC(entry_2!E60&\" \"&entry_2!F60))","v":""},{"$f":"IF(entry_2!B60=\"\",\"\",IF(entry_2!H60=\"男\",1,2))","v":""},{"$f":"IF(entry_2!B60=\"\",\"\",VALUE(MID(A55,5,1)))","v":""},{"$f":"IF(entry_2!B60=\"\",\"\",VALUE(MID(A55,2,6)))","v":""},{"$f":"IF(entry_2!B60=\"\",\"\",VALUE(RIGHT(A55,4)))","v":""},{"$f":"IF(entry_2!I60=\"\",\"\",entry_2!W60&RIGHT(entry_2!X60,LEN(entry_2!X60)-2))","v":""},{"$f":"IF(entry_2!N60=\"\",\"\",entry_2!AA60&RIGHT(entry_2!AB60,LEN(entry_2!AB60)-2))","v":""}]
[{"$f":"IF(entry_2!B61=\"\",\"\",D56*100000000+28000000+entry_2!$AC$5*100+VALUE(RIGHT(entry_2!B61,2)))","v":""},{"$f":"IF(entry_2!B61=\"\",\"\",IF(entry_2!AC61>=10,entry_2!C61&entry_2!D61,IF(entry_2!AC61=9,entry_2!C61&\" \"&entry_2!D61,IF(entry_2!AC61=8,entry_2!C61&\"  \"&entry_2!D61,IF(entry_2!AC61=7,entry_2!C61&\"   \"&entry_2!D61,IF(entry_2!AC61=6,entry_2!C61&\"    \"&entry_2!D61,IF(entry_2!AC61=5,entry_2!C61&\"     \"&entry_2!D61,IF(entry_2!AC61=4,entry_2!C61&\"      \"&entry_2!D61,entry_2!C61&\"       \"&entry_2!D61)))))))&\"(\"&entry_2!G61&\")\")","v":""},{"$f":"IF(entry_2!B61=\"\",\"\",ASC(entry_2!E61&\" \"&entry_2!F61))","v":""},{"$f":"IF(entry_2!B61=\"\",\"\",IF(entry_2!H61=\"男\",1,2))","v":""},{"$f":"IF(entry_2!B61=\"\",\"\",VALUE(MID(A56,5,1)))","v":""},{"$f":"IF(entry_2!B61=\"\",\"\",VALUE(MID(A56,2,6)))","v":""},{"$f":"IF(entry_2!B61=\"\",\"\",VALUE(RIGHT(A56,4)))","v":""},{"$f":"IF(entry_2!I61=\"\",\"\",entry_2!W61&RIGHT(entry_2!X61,LEN(entry_2!X61)-2))","v":""},{"$f":"IF(entry_2!N61=\"\",\"\",entry_2!AA61&RIGHT(entry_2!AB61,LEN(entry_2!AB61)-2))","v":""}]
[{"$f":"IF(entry_2!B62=\"\",\"\",D57*100000000+28000000+entry_2!$AC$5*100+VALUE(RIGHT(entry_2!B62,2)))","v":""},{"$f":"IF(entry_2!B62=\"\",\"\",IF(entry_2!AC62>=10,entry_2!C62&entry_2!D62,IF(entry_2!AC62=9,entry_2!C62&\" \"&entry_2!D62,IF(entry_2!AC62=8,entry_2!C62&\"  \"&entry_2!D62,IF(entry_2!AC62=7,entry_2!C62&\"   \"&entry_2!D62,IF(entry_2!AC62=6,entry_2!C62&\"    \"&entry_2!D62,IF(entry_2!AC62=5,entry_2!C62&\"     \"&entry_2!D62,IF(entry_2!AC62=4,entry_2!C62&\"      \"&entry_2!D62,entry_2!C62&\"       \"&entry_2!D62)))))))&\"(\"&entry_2!G62&\")\")","v":""},{"$f":"IF(entry_2!B62=\"\",\"\",ASC(entry_2!E62&\" \"&entry_2!F62))","v":""},{"$f":"IF(entry_2!B62=\"\",\"\",IF(entry_2!H62=\"男\",1,2))","v":""},{"$f":"IF(entry_2!B62=\"\",\"\",VALUE(MID(A57,5,1)))","v":""},{"$f":"IF(entry_2!B62=\"\",\"\",VALUE(MID(A57,2,6)))","v":""},{"$f":"IF(entry_2!B62=\"\",\"\",VALUE(RIGHT(A57,4)))","v":""},{"$f":"IF(entry_2!I62=\"\",\"\",entry_2!W62&RIGHT(entry_2!X62,LEN(entry_2!X62)-2))","v":""},{"$f":"IF(entry_2!N62=\"\",\"\",entry_2!AA62&RIGHT(entry_2!AB62,LEN(entry_2!AB62)-2))","v":""}]
[{"$f":"IF(entry_2!B63=\"\",\"\",D58*100000000+28000000+entry_2!$AC$5*100+VALUE(RIGHT(entry_2!B63,2)))","v":""},{"$f":"IF(entry_2!B63=\"\",\"\",IF(entry_2!AC63>=10,entry_2!C63&entry_2!D63,IF(entry_2!AC63=9,entry_2!C63&\" \"&entry_2!D63,IF(entry_2!AC63=8,entry_2!C63&\"  \"&entry_2!D63,IF(entry_2!AC63=7,entry_2!C63&\"   \"&entry_2!D63,IF(entry_2!AC63=6,entry_2!C63&\"    \"&entry_2!D63,IF(entry_2!AC63=5,entry_2!C63&\"     \"&entry_2!D63,IF(entry_2!AC63=4,entry_2!C63&\"      \"&entry_2!D63,entry_2!C63&\"       \"&entry_2!D63)))))))&\"(\"&entry_2!G63&\")\")","v":""},{"$f":"IF(entry_2!B63=\"\",\"\",ASC(entry_2!E63&\" \"&entry_2!F63))","v":""},{"$f":"IF(entry_2!B63=\"\",\"\",IF(entry_2!H63=\"男\",1,2))","v":""},{"$f":"IF(entry_2!B63=\"\",\"\",VALUE(MID(A58,5,1)))","v":""},{"$f":"IF(entry_2!B63=\"\",\"\",VALUE(MID(A58,2,6)))","v":""},{"$f":"IF(entry_2!B63=\"\",\"\",VALUE(RIGHT(A58,4)))","v":""},{"$f":"IF(entry_2!I63=\"\",\"\",entry_2!W63&RIGHT(entry_2!X63,LEN(entry_2!X63)-2))","v":""},{"$f":"IF(entry_2!N63=\"\",\"\",entry_2!AA63&RIGHT(entry_2!AB63,LEN(entry_2!AB63)-2))","v":""}]
[{"$f":"IF(entry_2!B64=\"\",\"\",D59*100000000+28000000+entry_2!$AC$5*100+VALUE(RIGHT(entry_2!B64,2)))","v":""},{"$f":"IF(entry_2!B64=\"\",\"\",IF(entry_2!AC64>=10,entry_2!C64&entry_2!D64,IF(entry_2!AC64=9,entry_2!C64&\" \"&entry_2!D64,IF(entry_2!AC64=8,entry_2!C64&\"  \"&entry_2!D64,IF(entry_2!AC64=7,entry_2!C64&\"   \"&entry_2!D64,IF(entry_2!AC64=6,entry_2!C64&\"    \"&entry_2!D64,IF(entry_2!AC64=5,entry_2!C64&\"     \"&entry_2!D64,IF(entry_2!AC64=4,entry_2!C64&\"      \"&entry_2!D64,entry_2!C64&\"       \"&entry_2!D64)))))))&\"(\"&entry_2!G64&\")\")","v":""},{"$f":"IF(entry_2!B64=\"\",\"\",ASC(entry_2!E64&\" \"&entry_2!F64))","v":""},{"$f":"IF(entry_2!B64=\"\",\"\",IF(entry_2!H64=\"男\",1,2))","v":""},{"$f":"IF(entry_2!B64=\"\",\"\",VALUE(MID(A59,5,1)))","v":""},{"$f":"IF(entry_2!B64=\"\",\"\",VALUE(MID(A59,2,6)))","v":""},{"$f":"IF(entry_2!B64=\"\",\"\",VALUE(RIGHT(A59,4)))","v":""},{"$f":"IF(entry_2!I64=\"\",\"\",entry_2!W64&RIGHT(entry_2!X64,LEN(entry_2!X64)-2))","v":""},{"$f":"IF(entry_2!N64=\"\",\"\",entry_2!AA64&RIGHT(entry_2!AB64,LEN(entry_2!AB64)-2))","v":""}]
[{"$f":"IF(entry_2!B65=\"\",\"\",D60*100000000+28000000+entry_2!$AC$5*100+VALUE(RIGHT(entry_2!B65,2)))","v":""},{"$f":"IF(entry_2!B65=\"\",\"\",IF(entry_2!AC65>=10,entry_2!C65&entry_2!D65,IF(entry_2!AC65=9,entry_2!C65&\" \"&entry_2!D65,IF(entry_2!AC65=8,entry_2!C65&\"  \"&entry_2!D65,IF(entry_2!AC65=7,entry_2!C65&\"   \"&entry_2!D65,IF(entry_2!AC65=6,entry_2!C65&\"    \"&entry_2!D65,IF(entry_2!AC65=5,entry_2!C65&\"     \"&entry_2!D65,IF(entry_2!AC65=4,entry_2!C65&\"      \"&entry_2!D65,entry_2!C65&\"       \"&entry_2!D65)))))))&\"(\"&entry_2!G65&\")\")","v":""},{"$f":"IF(entry_2!B65=\"\",\"\",ASC(entry_2!E65&\" \"&entry_2!F65))","v":""},{"$f":"IF(entry_2!B65=\"\",\"\",IF(entry_2!H65=\"男\",1,2))","v":""},{"$f":"IF(entry_2!B65=\"\",\"\",VALUE(MID(A60,5,1)))","v":""},{"$f":"IF(entry_2!B65=\"\",\"\",VALUE(MID(A60,2,6)))","v":""},{"$f":"IF(entry_2!B65=\"\",\"\",VALUE(RIGHT(A60,4)))","v":""},{"$f":"IF(entry_2!I65=\"\",\"\",entry_2!W65&RIGHT(entry_2!X65,LEN(entry_2!X65)-2))","v":""},{"$f":"IF(entry_2!N65=\"\",\"\",entry_2!AA65&RIGHT(entry_2!AB65,LEN(entry_2!AB65)-2))","v":""}]
[{"$f":"IF(entry_2!B66=\"\",\"\",D61*100000000+28000000+entry_2!$AC$5*100+VALUE(RIGHT(entry_2!B66,2)))","v":""},{"$f":"IF(entry_2!B66=\"\",\"\",IF(entry_2!AC66>=10,entry_2!C66&entry_2!D66,IF(entry_2!AC66=9,entry_2!C66&\" \"&entry_2!D66,IF(entry_2!AC66=8,entry_2!C66&\"  \"&entry_2!D66,IF(entry_2!AC66=7,entry_2!C66&\"   \"&entry_2!D66,IF(entry_2!AC66=6,entry_2!C66&\"    \"&entry_2!D66,IF(entry_2!AC66=5,entry_2!C66&\"     \"&entry_2!D66,IF(entry_2!AC66=4,entry_2!C66&\"      \"&entry_2!D66,entry_2!C66&\"       \"&entry_2!D66)))))))&\"(\"&entry_2!G66&\")\")","v":""},{"$f":"IF(entry_2!B66=\"\",\"\",ASC(entry_2!E66&\" \"&entry_2!F66))","v":""},{"$f":"IF(entry_2!B66=\"\",\"\",IF(entry_2!H66=\"男\",1,2))","v":""},{"$f":"IF(entry_2!B66=\"\",\"\",VALUE(MID(A61,5,1)))","v":""},{"$f":"IF(entry_2!B66=\"\",\"\",VALUE(MID(A61,2,6)))","v":""},{"$f":"IF(entry_2!B66=\"\",\"\",VALUE(RIGHT(A61,4)))","v":""},{"$f":"IF(entry_2!I66=\"\",\"\",entry_2!W66&RIGHT(entry_2!X66,LEN(entry_2!X66)-2))","v":""},{"$f":"IF(entry_2!N66=\"\",\"\",entry_2!AA66&RIGHT(entry_2!AB66,LEN(entry_2!AB66)-2))","v":""}]
[{"$f":"IF(entry_2!B67=\"\",\"\",D62*100000000+28000000+entry_2!$AC$5*100+VALUE(RIGHT(entry_2!B67,2)))","v":""},{"$f":"IF(entry_2!B67=\"\",\"\",IF(entry_2!AC67>=10,entry_2!C67&entry_2!D67,IF(entry_2!AC67=9,entry_2!C67&\" \"&entry_2!D67,IF(entry_2!AC67=8,entry_2!C67&\"  \"&entry_2!D67,IF(entry_2!AC67=7,entry_2!C67&\"   \"&entry_2!D67,IF(entry_2!AC67=6,entry_2!C67&\"    \"&entry_2!D67,IF(entry_2!AC67=5,entry_2!C67&\"     \"&entry_2!D67,IF(entry_2!AC67=4,entry_2!C67&\"      \"&entry_2!D67,entry_2!C67&\"       \"&entry_2!D67)))))))&\"(\"&entry_2!G67&\")\")","v":""},{"$f":"IF(entry_2!B67=\"\",\"\",ASC(entry_2!E67&\" \"&entry_2!F67))","v":""},{"$f":"IF(entry_2!B67=\"\",\"\",IF(entry_2!H67=\"男\",1,2))","v":""},{"$f":"IF(entry_2!B67=\"\",\"\",VALUE(MID(A62,5,1)))","v":""},{"$f":"IF(entry_2!B67=\"\",\"\",VALUE(MID(A62,2,6)))","v":""},{"$f":"IF(entry_2!B67=\"\",\"\",VALUE(RIGHT(A62,4)))","v":""},{"$f":"IF(entry_2!I67=\"\",\"\",entry_2!W67&RIGHT(entry_2!X67,LEN(entry_2!X67)-2))","v":""},{"$f":"IF(entry_2!N67=\"\",\"\",entry_2!AA67&RIGHT(entry_2!AB67,LEN(entry_2!AB67)-2))","v":""}]
[{"$f":"IF(entry_2!B68=\"\",\"\",D63*100000000+28000000+entry_2!$AC$5*100+VALUE(RIGHT(entry_2!B68,2)))","v":""},{"$f":"IF(entry_2!B68=\"\",\"\",IF(entry_2!AC68>=10,entry_2!C68&entry_2!D68,IF(entry_2!AC68=9,entry_2!C68&\" \"&entry_2!D68,IF(entry_2!AC68=8,entry_2!C68&\"  \"&entry_2!D68,IF(entry_2!AC68=7,entry_2!C68&\"   \"&entry_2!D68,IF(entry_2!AC68=6,entry_2!C68&\"    \"&entry_2!D68,IF(entry_2!AC68=5,entry_2!C68&\"     \"&entry_2!D68,IF(entry_2!AC68=4,entry_2!C68&\"      \"&entry_2!D68,entry_2!C68&\"       \"&entry_2!D68)))))))&\"(\"&entry_2!G68&\")\")","v":""},{"$f":"IF(entry_2!B68=\"\",\"\",ASC(entry_2!E68&\" \"&entry_2!F68))","v":""},{"$f":"IF(entry_2!B68=\"\",\"\",IF(entry_2!H68=\"男\",1,2))","v":""},{"$f":"IF(entry_2!B68=\"\",\"\",VALUE(MID(A63,5,1)))","v":""},{"$f":"IF(entry_2!B68=\"\",\"\",VALUE(MID(A63,2,6)))","v":""},{"$f":"IF(entry_2!B68=\"\",\"\",VALUE(RIGHT(A63,4)))","v":""},{"$f":"IF(entry_2!I68=\"\",\"\",entry_2!W68&RIGHT(entry_2!X68,LEN(entry_2!X68)-2))","v":""},{"$f":"IF(entry_2!N68=\"\",\"\",entry_2!AA68&RIGHT(entry_2!AB68,LEN(entry_2!AB68)-2))","v":""}]
[{"$f":"IF(entry_2!B69=\"\",\"\",D64*100000000+28000000+entry_2!$AC$5*100+VALUE(RIGHT(entry_2!B69,2)))","v":""},{"$f":"IF(entry_2!B69=\"\",\"\",IF(entry_2!AC69>=10,entry_2!C69&entry_2!D69,IF(entry_2!AC69=9,entry_2!C69&\" \"&entry_2!D69,IF(entry_2!AC69=8,entry_2!C69&\"  \"&entry_2!D69,IF(entry_2!AC69=7,entry_2!C69&\"   \"&entry_2!D69,IF(entry_2!AC69=6,entry_2!C69&\"    \"&entry_2!D69,IF(entry_2!AC69=5,entry_2!C69&\"     \"&entry_2!D69,IF(entry_2!AC69=4,entry_2!C69&\"      \"&entry_2!D69,entry_2!C69&\"       \"&entry_2!D69)))))))&\"(\"&entry_2!G69&\")\")","v":""},{"$f":"IF(entry_2!B69=\"\",\"\",ASC(entry_2!E69&\" \"&entry_2!F69))","v":""},{"$f":"IF(entry_2!B69=\"\",\"\",IF(entry_2!H69=\"男\",1,2))","v":""},{"$f":"IF(entry_2!B69=\"\",\"\",VALUE(MID(A64,5,1)))","v":""},{"$f":"IF(entry_2!B69=\"\",\"\",VALUE(MID(A64,2,6)))","v":""},{"$f":"IF(entry_2!B69=\"\",\"\",VALUE(RIGHT(A64,4)))","v":""},{"$f":"IF(entry_2!I69=\"\",\"\",entry_2!W69&RIGHT(entry_2!X69,LEN(entry_2!X69)-2))","v":""},{"$f":"IF(entry_2!N69=\"\",\"\",entry_2!AA69&RIGHT(entry_2!AB69,LEN(entry_2!AB69)-2))","v":""}]
[{"$f":"IF(entry_2!B70=\"\",\"\",D65*100000000+28000000+entry_2!$AC$5*100+VALUE(RIGHT(entry_2!B70,2)))","v":""},{"$f":"IF(entry_2!B70=\"\",\"\",IF(entry_2!AC70>=10,entry_2!C70&entry_2!D70,IF(entry_2!AC70=9,entry_2!C70&\" \"&entry_2!D70,IF(entry_2!AC70=8,entry_2!C70&\"  \"&entry_2!D70,IF(entry_2!AC70=7,entry_2!C70&\"   \"&entry_2!D70,IF(entry_2!AC70=6,entry_2!C70&\"    \"&entry_2!D70,IF(entry_2!AC70=5,entry_2!C70&\"     \"&entry_2!D70,IF(entry_2!AC70=4,entry_2!C70&\"      \"&entry_2!D70,entry_2!C70&\"       \"&entry_2!D70)))))))&\"(\"&entry_2!G70&\")\")","v":""},{"$f":"IF(entry_2!B70=\"\",\"\",ASC(entry_2!E70&\" \"&entry_2!F70))","v":""},{"$f":"IF(entry_2!B70=\"\",\"\",IF(entry_2!H70=\"男\",1,2))","v":""},{"$f":"IF(entry_2!B70=\"\",\"\",VALUE(MID(A65,5,1)))","v":""},{"$f":"IF(entry_2!B70=\"\",\"\",VALUE(MID(A65,2,6)))","v":""},{"$f":"IF(entry_2!B70=\"\",\"\",VALUE(RIGHT(A65,4)))","v":""},{"$f":"IF(entry_2!I70=\"\",\"\",entry_2!W70&RIGHT(entry_2!X70,LEN(entry_2!X70)-2))","v":""},{"$f":"IF(entry_2!N70=\"\",\"\",entry_2!AA70&RIGHT(entry_2!AB70,LEN(entry_2!AB70)-2))","v":""}]
[{"$f":"IF(entry_2!B71=\"\",\"\",D66*100000000+28000000+entry_2!$AC$5*100+VALUE(RIGHT(entry_2!B71,2)))","v":""},{"$f":"IF(entry_2!B71=\"\",\"\",IF(entry_2!AC71>=10,entry_2!C71&entry_2!D71,IF(entry_2!AC71=9,entry_2!C71&\" \"&entry_2!D71,IF(entry_2!AC71=8,entry_2!C71&\"  \"&entry_2!D71,IF(entry_2!AC71=7,entry_2!C71&\"   \"&entry_2!D71,IF(entry_2!AC71=6,entry_2!C71&\"    \"&entry_2!D71,IF(entry_2!AC71=5,entry_2!C71&\"     \"&entry_2!D71,IF(entry_2!AC71=4,entry_2!C71&\"      \"&entry_2!D71,entry_2!C71&\"       \"&entry_2!D71)))))))&\"(\"&entry_2!G71&\")\")","v":""},{"$f":"IF(entry_2!B71=\"\",\"\",ASC(entry_2!E71&\" \"&entry_2!F71))","v":""},{"$f":"IF(entry_2!B71=\"\",\"\",IF(entry_2!H71=\"男\",1,2))","v":""},{"$f":"IF(entry_2!B71=\"\",\"\",VALUE(MID(A66,5,1)))","v":""},{"$f":"IF(entry_2!B71=\"\",\"\",VALUE(MID(A66,2,6)))","v":""},{"$f":"IF(entry_2!B71=\"\",\"\",VALUE(RIGHT(A66,4)))","v":""},{"$f":"IF(entry_2!I71=\"\",\"\",entry_2!W71&RIGHT(entry_2!X71,LEN(entry_2!X71)-2))","v":""},{"$f":"IF(entry_2!N71=\"\",\"\",entry_2!AA71&RIGHT(entry_2!AB71,LEN(entry_2!AB71)-2))","v":""}]
[{"$f":"IF(entry_2!B72=\"\",\"\",D67*100000000+28000000+entry_2!$AC$5*100+VALUE(RIGHT(entry_2!B72,2)))","v":""},{"$f":"IF(entry_2!B72=\"\",\"\",IF(entry_2!AC72>=10,entry_2!C72&entry_2!D72,IF(entry_2!AC72=9,entry_2!C72&\" \"&entry_2!D72,IF(entry_2!AC72=8,entry_2!C72&\"  \"&entry_2!D72,IF(entry_2!AC72=7,entry_2!C72&\"   \"&entry_2!D72,IF(entry_2!AC72=6,entry_2!C72&\"    \"&entry_2!D72,IF(entry_2!AC72=5,entry_2!C72&\"     \"&entry_2!D72,IF(entry_2!AC72=4,entry_2!C72&\"      \"&entry_2!D72,entry_2!C72&\"       \"&entry_2!D72)))))))&\"(\"&entry_2!G72&\")\")","v":""},{"$f":"IF(entry_2!B72=\"\",\"\",ASC(entry_2!E72&\" \"&entry_2!F72))","v":""},{"$f":"IF(entry_2!B72=\"\",\"\",IF(entry_2!H72=\"男\",1,2))","v":""},{"$f":"IF(entry_2!B72=\"\",\"\",VALUE(MID(A67,5,1)))","v":""},{"$f":"IF(entry_2!B72=\"\",\"\",VALUE(MID(A67,2,6)))","v":""},{"$f":"IF(entry_2!B72=\"\",\"\",VALUE(RIGHT(A67,4)))","v":""},{"$f":"IF(entry_2!I72=\"\",\"\",entry_2!W72&RIGHT(entry_2!X72,LEN(entry_2!X72)-2))","v":""},{"$f":"IF(entry_2!N72=\"\",\"\",entry_2!AA72&RIGHT(entry_2!AB72,LEN(entry_2!AB72)-2))","v":""}]
[{"$f":"IF(entry_2!B73=\"\",\"\",D68*100000000+28000000+entry_2!$AC$5*100+VALUE(RIGHT(entry_2!B73,2)))","v":""},{"$f":"IF(entry_2!B73=\"\",\"\",IF(entry_2!AC73>=10,entry_2!C73&entry_2!D73,IF(entry_2!AC73=9,entry_2!C73&\" \"&entry_2!D73,IF(entry_2!AC73=8,entry_2!C73&\"  \"&entry_2!D73,IF(entry_2!AC73=7,entry_2!C73&\"   \"&entry_2!D73,IF(entry_2!AC73=6,entry_2!C73&\"    \"&entry_2!D73,IF(entry_2!AC73=5,entry_2!C73&\"     \"&entry_2!D73,IF(entry_2!AC73=4,entry_2!C73&\"      \"&entry_2!D73,entry_2!C73&\"       \"&entry_2!D73)))))))&\"(\"&entry_2!G73&\")\")","v":""},{"$f":"IF(entry_2!B73=\"\",\"\",ASC(entry_2!E73&\" \"&entry_2!F73))","v":""},{"$f":"IF(entry_2!B73=\"\",\"\",IF(entry_2!H73=\"男\",1,2))","v":""},{"$f":"IF(entry_2!B73=\"\",\"\",VALUE(MID(A68,5,1)))","v":""},{"$f":"IF(entry_2!B73=\"\",\"\",VALUE(MID(A68,2,6)))","v":""},{"$f":"IF(entry_2!B73=\"\",\"\",VALUE(RIGHT(A68,4)))","v":""},{"$f":"IF(entry_2!I73=\"\",\"\",entry_2!W73&RIGHT(entry_2!X73,LEN(entry_2!X73)-2))","v":""},{"$f":"IF(entry_2!N73=\"\",\"\",entry_2!AA73&RIGHT(entry_2!AB73,LEN(entry_2!AB73)-2))","v":""}]
[{"$f":"IF(entry_2!B74=\"\",\"\",D69*100000000+28000000+entry_2!$AC$5*100+VALUE(RIGHT(entry_2!B74,2)))","v":""},{"$f":"IF(entry_2!B74=\"\",\"\",IF(entry_2!AC74>=10,entry_2!C74&entry_2!D74,IF(entry_2!AC74=9,entry_2!C74&\" \"&entry_2!D74,IF(entry_2!AC74=8,entry_2!C74&\"  \"&entry_2!D74,IF(entry_2!AC74=7,entry_2!C74&\"   \"&entry_2!D74,IF(entry_2!AC74=6,entry_2!C74&\"    \"&entry_2!D74,IF(entry_2!AC74=5,entry_2!C74&\"     \"&entry_2!D74,IF(entry_2!AC74=4,entry_2!C74&\"      \"&entry_2!D74,entry_2!C74&\"       \"&entry_2!D74)))))))&\"(\"&entry_2!G74&\")\")","v":""},{"$f":"IF(entry_2!B74=\"\",\"\",ASC(entry_2!E74&\" \"&entry_2!F74))","v":""},{"$f":"IF(entry_2!B74=\"\",\"\",IF(entry_2!H74=\"男\",1,2))","v":""},{"$f":"IF(entry_2!B74=\"\",\"\",VALUE(MID(A69,5,1)))","v":""},{"$f":"IF(entry_2!B74=\"\",\"\",VALUE(MID(A69,2,6)))","v":""},{"$f":"IF(entry_2!B74=\"\",\"\",VALUE(RIGHT(A69,4)))","v":""},{"$f":"IF(entry_2!I74=\"\",\"\",entry_2!W74&RIGHT(entry_2!X74,LEN(entry_2!X74)-2))","v":""},{"$f":"IF(entry_2!N74=\"\",\"\",entry_2!AA74&RIGHT(entry_2!AB74,LEN(entry_2!AB74)-2))","v":""}]
[{"$f":"IF(entry_2!B75=\"\",\"\",D70*100000000+28000000+entry_2!$AC$5*100+VALUE(RIGHT(entry_2!B75,2)))","v":""},{"$f":"IF(entry_2!B75=\"\",\"\",IF(entry_2!AC75>=10,entry_2!C75&entry_2!D75,IF(entry_2!AC75=9,entry_2!C75&\" \"&entry_2!D75,IF(entry_2!AC75=8,entry_2!C75&\"  \"&entry_2!D75,IF(entry_2!AC75=7,entry_2!C75&\"   \"&entry_2!D75,IF(entry_2!AC75=6,entry_2!C75&\"    \"&entry_2!D75,IF(entry_2!AC75=5,entry_2!C75&\"     \"&entry_2!D75,IF(entry_2!AC75=4,entry_2!C75&\"      \"&entry_2!D75,entry_2!C75&\"       \"&entry_2!D75)))))))&\"(\"&entry_2!G75&\")\")","v":""},{"$f":"IF(entry_2!B75=\"\",\"\",ASC(entry_2!E75&\" \"&entry_2!F75))","v":""},{"$f":"IF(entry_2!B75=\"\",\"\",IF(entry_2!H75=\"男\",1,2))","v":""},{"$f":"IF(entry_2!B75=\"\",\"\",VALUE(MID(A70,5,1)))","v":""},{"$f":"IF(entry_2!B75=\"\",\"\",VALUE(MID(A70,2,6)))","v":""},{"$f":"IF(entry_2!B75=\"\",\"\",VALUE(RIGHT(A70,4)))","v":""},{"$f":"IF(entry_2!I75=\"\",\"\",entry_2!W75&RIGHT(entry_2!X75,LEN(entry_2!X75)-2))","v":""},{"$f":"IF(entry_2!N75=\"\",\"\",entry_2!AA75&RIGHT(entry_2!AB75,LEN(entry_2!AB75)-2))","v":""}]
[{"$f":"IF(entry_2!B76=\"\",\"\",D71*100000000+28000000+entry_2!$AC$5*100+VALUE(RIGHT(entry_2!B76,2)))","v":""},{"$f":"IF(entry_2!B76=\"\",\"\",IF(entry_2!AC76>=10,entry_2!C76&entry_2!D76,IF(entry_2!AC76=9,entry_2!C76&\" \"&entry_2!D76,IF(entry_2!AC76=8,entry_2!C76&\"  \"&entry_2!D76,IF(entry_2!AC76=7,entry_2!C76&\"   \"&entry_2!D76,IF(entry_2!AC76=6,entry_2!C76&\"    \"&entry_2!D76,IF(entry_2!AC76=5,entry_2!C76&\"     \"&entry_2!D76,IF(entry_2!AC76=4,entry_2!C76&\"      \"&entry_2!D76,entry_2!C76&\"       \"&entry_2!D76)))))))&\"(\"&entry_2!G76&\")\")","v":""},{"$f":"IF(entry_2!B76=\"\",\"\",ASC(entry_2!E76&\" \"&entry_2!F76))","v":""},{"$f":"IF(entry_2!B76=\"\",\"\",IF(entry_2!H76=\"男\",1,2))","v":""},{"$f":"IF(entry_2!B76=\"\",\"\",VALUE(MID(A71,5,1)))","v":""},{"$f":"IF(entry_2!B76=\"\",\"\",VALUE(MID(A71,2,6)))","v":""},{"$f":"IF(entry_2!B76=\"\",\"\",VALUE(RIGHT(A71,4)))","v":""},{"$f":"IF(entry_2!I76=\"\",\"\",entry_2!W76&RIGHT(entry_2!X76,LEN(entry_2!X76)-2))","v":""},{"$f":"IF(entry_2!N76=\"\",\"\",entry_2!AA76&RIGHT(entry_2!AB76,LEN(entry_2!AB76)-2))","v":""}]
[{"$f":"IF(entry_2!B77=\"\",\"\",D72*100000000+28000000+entry_2!$AC$5*100+VALUE(RIGHT(entry_2!B77,2)))","v":""},{"$f":"IF(entry_2!B77=\"\",\"\",IF(entry_2!AC77>=10,entry_2!C77&entry_2!D77,IF(entry_2!AC77=9,entry_2!C77&\" \"&entry_2!D77,IF(entry_2!AC77=8,entry_2!C77&\"  \"&entry_2!D77,IF(entry_2!AC77=7,entry_2!C77&\"   \"&entry_2!D77,IF(entry_2!AC77=6,entry_2!C77&\"    \"&entry_2!D77,IF(entry_2!AC77=5,entry_2!C77&\"     \"&entry_2!D77,IF(entry_2!AC77=4,entry_2!C77&\"      \"&entry_2!D77,entry_2!C77&\"       \"&entry_2!D77)))))))&\"(\"&entry_2!G77&\")\")","v":""},{"$f":"IF(entry_2!B77=\"\",\"\",ASC(entry_2!E77&\" \"&entry_2!F77))","v":""},{"$f":"IF(entry_2!B77=\"\",\"\",IF(entry_2!H77=\"男\",1,2))","v":""},{"$f":"IF(entry_2!B77=\"\",\"\",VALUE(MID(A72,5,1)))","v":""},{"$f":"IF(entry_2!B77=\"\",\"\",VALUE(MID(A72,2,6)))","v":""},{"$f":"IF(entry_2!B77=\"\",\"\",VALUE(RIGHT(A72,4)))","v":""},{"$f":"IF(entry_2!I77=\"\",\"\",entry_2!W77&RIGHT(entry_2!X77,LEN(entry_2!X77)-2))","v":""},{"$f":"IF(entry_2!N77=\"\",\"\",entry_2!AA77&RIGHT(entry_2!AB77,LEN(entry_2!AB77)-2))","v":""}]
[{"$f":"IF(entry_2!B78=\"\",\"\",D73*100000000+28000000+entry_2!$AC$5*100+VALUE(RIGHT(entry_2!B78,2)))","v":""},{"$f":"IF(entry_2!B78=\"\",\"\",IF(entry_2!AC78>=10,entry_2!C78&entry_2!D78,IF(entry_2!AC78=9,entry_2!C78&\" \"&entry_2!D78,IF(entry_2!AC78=8,entry_2!C78&\"  \"&entry_2!D78,IF(entry_2!AC78=7,entry_2!C78&\"   \"&entry_2!D78,IF(entry_2!AC78=6,entry_2!C78&\"    \"&entry_2!D78,IF(entry_2!AC78=5,entry_2!C78&\"     \"&entry_2!D78,IF(entry_2!AC78=4,entry_2!C78&\"      \"&entry_2!D78,entry_2!C78&\"       \"&entry_2!D78)))))))&\"(\"&entry_2!G78&\")\")","v":""},{"$f":"IF(entry_2!B78=\"\",\"\",ASC(entry_2!E78&\" \"&entry_2!F78))","v":""},{"$f":"IF(entry_2!B78=\"\",\"\",IF(entry_2!H78=\"男\",1,2))","v":""},{"$f":"IF(entry_2!B78=\"\",\"\",VALUE(MID(A73,5,1)))","v":""},{"$f":"IF(entry_2!B78=\"\",\"\",VALUE(MID(A73,2,6)))","v":""},{"$f":"IF(entry_2!B78=\"\",\"\",VALUE(RIGHT(A73,4)))","v":""},{"$f":"IF(entry_2!I78=\"\",\"\",entry_2!W78&RIGHT(entry_2!X78,LEN(entry_2!X78)-2))","v":""},{"$f":"IF(entry_2!N78=\"\",\"\",entry_2!AA78&RIGHT(entry_2!AB78,LEN(entry_2!AB78)-2))","v":""}]
[{"$f":"IF(entry_2!B79=\"\",\"\",D74*100000000+28000000+entry_2!$AC$5*100+VALUE(RIGHT(entry_2!B79,2)))","v":""},{"$f":"IF(entry_2!B79=\"\",\"\",IF(entry_2!AC79>=10,entry_2!C79&entry_2!D79,IF(entry_2!AC79=9,entry_2!C79&\" \"&entry_2!D79,IF(entry_2!AC79=8,entry_2!C79&\"  \"&entry_2!D79,IF(entry_2!AC79=7,entry_2!C79&\"   \"&entry_2!D79,IF(entry_2!AC79=6,entry_2!C79&\"    \"&entry_2!D79,IF(entry_2!AC79=5,entry_2!C79&\"     \"&entry_2!D79,IF(entry_2!AC79=4,entry_2!C79&\"      \"&entry_2!D79,entry_2!C79&\"       \"&entry_2!D79)))))))&\"(\"&entry_2!G79&\")\")","v":""},{"$f":"IF(entry_2!B79=\"\",\"\",ASC(entry_2!E79&\" \"&entry_2!F79))","v":""},{"$f":"IF(entry_2!B79=\"\",\"\",IF(entry_2!H79=\"男\",1,2))","v":""},{"$f":"IF(entry_2!B79=\"\",\"\",VALUE(MID(A74,5,1)))","v":""},{"$f":"IF(entry_2!B79=\"\",\"\",VALUE(MID(A74,2,6)))","v":""},{"$f":"IF(entry_2!B79=\"\",\"\",VALUE(RIGHT(A74,4)))","v":""},{"$f":"IF(entry_2!I79=\"\",\"\",entry_2!W79&RIGHT(entry_2!X79,LEN(entry_2!X79)-2))","v":""},{"$f":"IF(entry_2!N79=\"\",\"\",entry_2!AA79&RIGHT(entry_2!AB79,LEN(entry_2!AB79)-2))","v":""}]
[{"$f":"IF(entry_2!B80=\"\",\"\",D75*100000000+28000000+entry_2!$AC$5*100+VALUE(RIGHT(entry_2!B80,2)))","v":""},{"$f":"IF(entry_2!B80=\"\",\"\",IF(entry_2!AC80>=10,entry_2!C80&entry_2!D80,IF(entry_2!AC80=9,entry_2!C80&\" \"&entry_2!D80,IF(entry_2!AC80=8,entry_2!C80&\"  \"&entry_2!D80,IF(entry_2!AC80=7,entry_2!C80&\"   \"&entry_2!D80,IF(entry_2!AC80=6,entry_2!C80&\"    \"&entry_2!D80,IF(entry_2!AC80=5,entry_2!C80&\"     \"&entry_2!D80,IF(entry_2!AC80=4,entry_2!C80&\"      \"&entry_2!D80,entry_2!C80&\"       \"&entry_2!D80)))))))&\"(\"&entry_2!G80&\")\")","v":""},{"$f":"IF(entry_2!B80=\"\",\"\",ASC(entry_2!E80&\" \"&entry_2!F80))","v":""},{"$f":"IF(entry_2!B80=\"\",\"\",IF(entry_2!H80=\"男\",1,2))","v":""},{"$f":"IF(entry_2!B80=\"\",\"\",VALUE(MID(A75,5,1)))","v":""},{"$f":"IF(entry_2!B80=\"\",\"\",VALUE(MID(A75,2,6)))","v":""},{"$f":"IF(entry_2!B80=\"\",\"\",VALUE(RIGHT(A75,4)))","v":""},{"$f":"IF(entry_2!I80=\"\",\"\",entry_2!W80&RIGHT(entry_2!X80,LEN(entry_2!X80)-2))","v":""},{"$f":"IF(entry_2!N80=\"\",\"\",entry_2!AA80&RIGHT(entry_2!AB80,LEN(entry_2!AB80)-2))","v":""}]
[{"$f":"IF(entry_2!B81=\"\",\"\",D76*100000000+28000000+entry_2!$AC$5*100+VALUE(RIGHT(entry_2!B81,2)))","v":""},{"$f":"IF(entry_2!B81=\"\",\"\",IF(entry_2!AC81>=10,entry_2!C81&entry_2!D81,IF(entry_2!AC81=9,entry_2!C81&\" \"&entry_2!D81,IF(entry_2!AC81=8,entry_2!C81&\"  \"&entry_2!D81,IF(entry_2!AC81=7,entry_2!C81&\"   \"&entry_2!D81,IF(entry_2!AC81=6,entry_2!C81&\"    \"&entry_2!D81,IF(entry_2!AC81=5,entry_2!C81&\"     \"&entry_2!D81,IF(entry_2!AC81=4,entry_2!C81&\"      \"&entry_2!D81,entry_2!C81&\"       \"&entry_2!D81)))))))&\"(\"&entry_2!G81&\")\")","v":""},{"$f":"IF(entry_2!B81=\"\",\"\",ASC(entry_2!E81&\" \"&entry_2!F81))","v":""},{"$f":"IF(entry_2!B81=\"\",\"\",IF(entry_2!H81=\"男\",1,2))","v":""},{"$f":"IF(entry_2!B81=\"\",\"\",VALUE(MID(A76,5,1)))","v":""},{"$f":"IF(entry_2!B81=\"\",\"\",VALUE(MID(A76,2,6)))","v":""},{"$f":"IF(entry_2!B81=\"\",\"\",VALUE(RIGHT(A76,4)))","v":""},{"$f":"IF(entry_2!I81=\"\",\"\",entry_2!W81&RIGHT(entry_2!X81,LEN(entry_2!X81)-2))","v":""},{"$f":"IF(entry_2!N81=\"\",\"\",entry_2!AA81&RIGHT(entry_2!AB81,LEN(entry_2!AB81)-2))","v":""}]
[{"$f":"IF(entry_2!B82=\"\",\"\",D77*100000000+28000000+entry_2!$AC$5*100+VALUE(RIGHT(entry_2!B82,2)))","v":""},{"$f":"IF(entry_2!B82=\"\",\"\",IF(entry_2!AC82>=10,entry_2!C82&entry_2!D82,IF(entry_2!AC82=9,entry_2!C82&\" \"&entry_2!D82,IF(entry_2!AC82=8,entry_2!C82&\"  \"&entry_2!D82,IF(entry_2!AC82=7,entry_2!C82&\"   \"&entry_2!D82,IF(entry_2!AC82=6,entry_2!C82&\"    \"&entry_2!D82,IF(entry_2!AC82=5,entry_2!C82&\"     \"&entry_2!D82,IF(entry_2!AC82=4,entry_2!C82&\"      \"&entry_2!D82,entry_2!C82&\"       \"&entry_2!D82)))))))&\"(\"&entry_2!G82&\")\")","v":""},{"$f":"IF(entry_2!B82=\"\",\"\",ASC(entry_2!E82&\" \"&entry_2!F82))","v":""},{"$f":"IF(entry_2!B82=\"\",\"\",IF(entry_2!H82=\"男\",1,2))","v":""},{"$f":"IF(entry_2!B82=\"\",\"\",VALUE(MID(A77,5,1)))","v":""},{"$f":"IF(entry_2!B82=\"\",\"\",VALUE(MID(A77,2,6)))","v":""},{"$f":"IF(entry_2!B82=\"\",\"\",VALUE(RIGHT(A77,4)))","v":""},{"$f":"IF(entry_2!I82=\"\",\"\",entry_2!W82&RIGHT(entry_2!X82,LEN(entry_2!X82)-2))","v":""},{"$f":"IF(entry_2!N82=\"\",\"\",entry_2!AA82&RIGHT(entry_2!AB82,LEN(entry_2!AB82)-2))","v":""}]
[{"$f":"IF(entry_2!B83=\"\",\"\",D78*100000000+28000000+entry_2!$AC$5*100+VALUE(RIGHT(entry_2!B83,2)))","v":""},{"$f":"IF(entry_2!B83=\"\",\"\",IF(entry_2!AC83>=10,entry_2!C83&entry_2!D83,IF(entry_2!AC83=9,entry_2!C83&\" \"&entry_2!D83,IF(entry_2!AC83=8,entry_2!C83&\"  \"&entry_2!D83,IF(entry_2!AC83=7,entry_2!C83&\"   \"&entry_2!D83,IF(entry_2!AC83=6,entry_2!C83&\"    \"&entry_2!D83,IF(entry_2!AC83=5,entry_2!C83&\"     \"&entry_2!D83,IF(entry_2!AC83=4,entry_2!C83&\"      \"&entry_2!D83,entry_2!C83&\"       \"&entry_2!D83)))))))&\"(\"&entry_2!G83&\")\")","v":""},{"$f":"IF(entry_2!B83=\"\",\"\",ASC(entry_2!E83&\" \"&entry_2!F83))","v":""},{"$f":"IF(entry_2!B83=\"\",\"\",IF(entry_2!H83=\"男\",1,2))","v":""},{"$f":"IF(entry_2!B83=\"\",\"\",VALUE(MID(A78,5,1)))","v":""},{"$f":"IF(entry_2!B83=\"\",\"\",VALUE(MID(A78,2,6)))","v":""},{"$f":"IF(entry_2!B83=\"\",\"\",VALUE(RIGHT(A78,4)))","v":""},{"$f":"IF(entry_2!I83=\"\",\"\",entry_2!W83&RIGHT(entry_2!X83,LEN(entry_2!X83)-2))","v":""},{"$f":"IF(entry_2!N83=\"\",\"\",entry_2!AA83&RIGHT(entry_2!AB83,LEN(entry_2!AB83)-2))","v":""}]
[{"$f":"IF(entry_2!B84=\"\",\"\",D79*100000000+28000000+entry_2!$AC$5*100+VALUE(RIGHT(entry_2!B84,2)))","v":""},{"$f":"IF(entry_2!B84=\"\",\"\",IF(entry_2!AC84>=10,entry_2!C84&entry_2!D84,IF(entry_2!AC84=9,entry_2!C84&\" \"&entry_2!D84,IF(entry_2!AC84=8,entry_2!C84&\"  \"&entry_2!D84,IF(entry_2!AC84=7,entry_2!C84&\"   \"&entry_2!D84,IF(entry_2!AC84=6,entry_2!C84&\"    \"&entry_2!D84,IF(entry_2!AC84=5,entry_2!C84&\"     \"&entry_2!D84,IF(entry_2!AC84=4,entry_2!C84&\"      \"&entry_2!D84,entry_2!C84&\"       \"&entry_2!D84)))))))&\"(\"&entry_2!G84&\")\")","v":""},{"$f":"IF(entry_2!B84=\"\",\"\",ASC(entry_2!E84&\" \"&entry_2!F84))","v":""},{"$f":"IF(entry_2!B84=\"\",\"\",IF(entry_2!H84=\"男\",1,2))","v":""},{"$f":"IF(entry_2!B84=\"\",\"\",VALUE(MID(A79,5,1)))","v":""},{"$f":"IF(entry_2!B84=\"\",\"\",VALUE(MID(A79,2,6)))","v":""},{"$f":"IF(entry_2!B84=\"\",\"\",VALUE(RIGHT(A79,4)))","v":""},{"$f":"IF(entry_2!I84=\"\",\"\",entry_2!W84&RIGHT(entry_2!X84,LEN(entry_2!X84)-2))","v":""},{"$f":"IF(entry_2!N84=\"\",\"\",entry_2!AA84&RIGHT(entry_2!AB84,LEN(entry_2!AB84)-2))","v":""}]
[{"$f":"IF(entry_2!B85=\"\",\"\",D80*100000000+28000000+entry_2!$AC$5*100+VALUE(RIGHT(entry_2!B85,2)))","v":""},{"$f":"IF(entry_2!B85=\"\",\"\",IF(entry_2!AC85>=10,entry_2!C85&entry_2!D85,IF(entry_2!AC85=9,entry_2!C85&\" \"&entry_2!D85,IF(entry_2!AC85=8,entry_2!C85&\"  \"&entry_2!D85,IF(entry_2!AC85=7,entry_2!C85&\"   \"&entry_2!D85,IF(entry_2!AC85=6,entry_2!C85&\"    \"&entry_2!D85,IF(entry_2!AC85=5,entry_2!C85&\"     \"&entry_2!D85,IF(entry_2!AC85=4,entry_2!C85&\"      \"&entry_2!D85,entry_2!C85&\"       \"&entry_2!D85)))))))&\"(\"&entry_2!G85&\")\")","v":""},{"$f":"IF(entry_2!B85=\"\",\"\",ASC(entry_2!E85&\" \"&entry_2!F85))","v":""},{"$f":"IF(entry_2!B85=\"\",\"\",IF(entry_2!H85=\"男\",1,2))","v":""},{"$f":"IF(entry_2!B85=\"\",\"\",VALUE(MID(A80,5,1)))","v":""},{"$f":"IF(entry_2!B85=\"\",\"\",VALUE(MID(A80,2,6)))","v":""},{"$f":"IF(entry_2!B85=\"\",\"\",VALUE(RIGHT(A80,4)))","v":""},{"$f":"IF(entry_2!I85=\"\",\"\",entry_2!W85&RIGHT(entry_2!X85,LEN(entry_2!X85)-2))","v":""},{"$f":"IF(entry_2!N85=\"\",\"\",entry_2!AA85&RIGHT(entry_2!AB85,LEN(entry_2!AB85)-2))","v":""}]
[{"$f":"IF(entry_2!B86=\"\",\"\",D81*100000000+28000000+entry_2!$AC$5*100+VALUE(RIGHT(entry_2!B86,2)))","v":""},{"$f":"IF(entry_2!B86=\"\",\"\",IF(entry_2!AC86>=10,entry_2!C86&entry_2!D86,IF(entry_2!AC86=9,entry_2!C86&\" \"&entry_2!D86,IF(entry_2!AC86=8,entry_2!C86&\"  \"&entry_2!D86,IF(entry_2!AC86=7,entry_2!C86&\"   \"&entry_2!D86,IF(entry_2!AC86=6,entry_2!C86&\"    \"&entry_2!D86,IF(entry_2!AC86=5,entry_2!C86&\"     \"&entry_2!D86,IF(entry_2!AC86=4,entry_2!C86&\"      \"&entry_2!D86,entry_2!C86&\"       \"&entry_2!D86)))))))&\"(\"&entry_2!G86&\")\")","v":""},{"$f":"IF(entry_2!B86=\"\",\"\",ASC(entry_2!E86&\" \"&entry_2!F86))","v":""},{"$f":"IF(entry_2!B86=\"\",\"\",IF(entry_2!H86=\"男\",1,2))","v":""},{"$f":"IF(entry_2!B86=\"\",\"\",VALUE(MID(A81,5,1)))","v":""},{"$f":"IF(entry_2!B86=\"\",\"\",VALUE(MID(A81,2,6)))","v":""},{"$f":"IF(entry_2!B86=\"\",\"\",VALUE(RIGHT(A81,4)))","v":""},{"$f":"IF(entry_2!I86=\"\",\"\",entry_2!W86&RIGHT(entry_2!X86,LEN(entry_2!X86)-2))","v":""},{"$f":"IF(entry_2!N86=\"\",\"\",entry_2!AA86&RIGHT(entry_2!AB86,LEN(entry_2!AB86)-2))","v":""}]
[{"$f":"IF(entry_2!B87=\"\",\"\",D82*100000000+28000000+entry_2!$AC$5*100+VALUE(RIGHT(entry_2!B87,2)))","v":""},{"$f":"IF(entry_2!B87=\"\",\"\",IF(entry_2!AC87>=10,entry_2!C87&entry_2!D87,IF(entry_2!AC87=9,entry_2!C87&\" \"&entry_2!D87,IF(entry_2!AC87=8,entry_2!C87&\"  \"&entry_2!D87,IF(entry_2!AC87=7,entry_2!C87&\"   \"&entry_2!D87,IF(entry_2!AC87=6,entry_2!C87&\"    \"&entry_2!D87,IF(entry_2!AC87=5,entry_2!C87&\"     \"&entry_2!D87,IF(entry_2!AC87=4,entry_2!C87&\"      \"&entry_2!D87,entry_2!C87&\"       \"&entry_2!D87)))))))&\"(\"&entry_2!G87&\")\")","v":""},{"$f":"IF(entry_2!B87=\"\",\"\",ASC(entry_2!E87&\" \"&entry_2!F87))","v":""},{"$f":"IF(entry_2!B87=\"\",\"\",IF(entry_2!H87=\"男\",1,2))","v":""},{"$f":"IF(entry_2!B87=\"\",\"\",VALUE(MID(A82,5,1)))","v":""},{"$f":"IF(entry_2!B87=\"\",\"\",VALUE(MID(A82,2,6)))","v":""},{"$f":"IF(entry_2!B87=\"\",\"\",VALUE(RIGHT(A82,4)))","v":""},{"$f":"IF(entry_2!I87=\"\",\"\",entry_2!W87&RIGHT(entry_2!X87,LEN(entry_2!X87)-2))","v":""},{"$f":"IF(entry_2!N87=\"\",\"\",entry_2!AA87&RIGHT(entry_2!AB87,LEN(entry_2!AB87)-2))","v":""}]
[{"$f":"IF(entry_2!B88=\"\",\"\",D83*100000000+28000000+entry_2!$AC$5*100+VALUE(RIGHT(entry_2!B88,2)))","v":""},{"$f":"IF(entry_2!B88=\"\",\"\",IF(entry_2!AC88>=10,entry_2!C88&entry_2!D88,IF(entry_2!AC88=9,entry_2!C88&\" \"&entry_2!D88,IF(entry_2!AC88=8,entry_2!C88&\"  \"&entry_2!D88,IF(entry_2!AC88=7,entry_2!C88&\"   \"&entry_2!D88,IF(entry_2!AC88=6,entry_2!C88&\"    \"&entry_2!D88,IF(entry_2!AC88=5,entry_2!C88&\"     \"&entry_2!D88,IF(entry_2!AC88=4,entry_2!C88&\"      \"&entry_2!D88,entry_2!C88&\"       \"&entry_2!D88)))))))&\"(\"&entry_2!G88&\")\")","v":""},{"$f":"IF(entry_2!B88=\"\",\"\",ASC(entry_2!E88&\" \"&entry_2!F88))","v":""},{"$f":"IF(entry_2!B88=\"\",\"\",IF(entry_2!H88=\"男\",1,2))","v":""},{"$f":"IF(entry_2!B88=\"\",\"\",VALUE(MID(A83,5,1)))","v":""},{"$f":"IF(entry_2!B88=\"\",\"\",VALUE(MID(A83,2,6)))","v":""},{"$f":"IF(entry_2!B88=\"\",\"\",VALUE(RIGHT(A83,4)))","v":""},{"$f":"IF(entry_2!I88=\"\",\"\",entry_2!W88&RIGHT(entry_2!X88,LEN(entry_2!X88)-2))","v":""},{"$f":"IF(entry_2!N88=\"\",\"\",entry_2!AA88&RIGHT(entry_2!AB88,LEN(entry_2!AB88)-2))","v":""}]
[{"$f":"IF(entry_2!B89=\"\",\"\",D84*100000000+28000000+entry_2!$AC$5*100+VALUE(RIGHT(entry_2!B89,2)))","v":""},{"$f":"IF(entry_2!B89=\"\",\"\",IF(entry_2!AC89>=10,entry_2!C89&entry_2!D89,IF(entry_2!AC89=9,entry_2!C89&\" \"&entry_2!D89,IF(entry_2!AC89=8,entry_2!C89&\"  \"&entry_2!D89,IF(entry_2!AC89=7,entry_2!C89&\"   \"&entry_2!D89,IF(entry_2!AC89=6,entry_2!C89&\"    \"&entry_2!D89,IF(entry_2!AC89=5,entry_2!C89&\"     \"&entry_2!D89,IF(entry_2!AC89=4,entry_2!C89&\"      \"&entry_2!D89,entry_2!C89&\"       \"&entry_2!D89)))))))&\"(\"&entry_2!G89&\")\")","v":""},{"$f":"IF(entry_2!B89=\"\",\"\",ASC(entry_2!E89&\" \"&entry_2!F89))","v":""},{"$f":"IF(entry_2!B89=\"\",\"\",IF(entry_2!H89=\"男\",1,2))","v":""},{"$f":"IF(entry_2!B89=\"\",\"\",VALUE(MID(A84,5,1)))","v":""},{"$f":"IF(entry_2!B89=\"\",\"\",VALUE(MID(A84,2,6)))","v":""},{"$f":"IF(entry_2!B89=\"\",\"\",VALUE(RIGHT(A84,4)))","v":""},{"$f":"IF(entry_2!I89=\"\",\"\",entry_2!W89&RIGHT(entry_2!X89,LEN(entry_2!X89)-2))","v":""},{"$f":"IF(entry_2!N89=\"\",\"\",entry_2!AA89&RIGHT(entry_2!AB89,LEN(entry_2!AB89)-2))","v":""}]
[{"$f":"IF(entry_2!B90=\"\",\"\",D85*100000000+28000000+entry_2!$AC$5*100+VALUE(RIGHT(entry_2!B90,2)))","v":""},{"$f":"IF(entry_2!B90=\"\",\"\",IF(entry_2!AC90>=10,entry_2!C90&entry_2!D90,IF(entry_2!AC90=9,entry_2!C90&\" \"&entry_2!D90,IF(entry_2!AC90=8,entry_2!C90&\"  \"&entry_2!D90,IF(entry_2!AC90=7,entry_2!C90&\"   \"&entry_2!D90,IF(entry_2!AC90=6,entry_2!C90&\"    \"&entry_2!D90,IF(entry_2!AC90=5,entry_2!C90&\"     \"&entry_2!D90,IF(entry_2!AC90=4,entry_2!C90&\"      \"&entry_2!D90,entry_2!C90&\"       \"&entry_2!D90)))))))&\"(\"&entry_2!G90&\")\")","v":""},{"$f":"IF(entry_2!B90=\"\",\"\",ASC(entry_2!E90&\" \"&entry_2!F90))","v":""},{"$f":"IF(entry_2!B90=\"\",\"\",IF(entry_2!H90=\"男\",1,2))","v":""},{"$f":"IF(entry_2!B90=\"\",\"\",VALUE(MID(A85,5,1)))","v":""},{"$f":"IF(entry_2!B90=\"\",\"\",VALUE(MID(A85,2,6)))","v":""},{"$f":"IF(entry_2!B90=\"\",\"\",VALUE(RIGHT(A85,4)))","v":""},{"$f":"IF(entry_2!I90=\"\",\"\",entry_2!W90&RIGHT(entry_2!X90,LEN(entry_2!X90)-2))","v":""},{"$f":"IF(entry_2!N90=\"\",\"\",entry_2!AA90&RIGHT(entry_2!AB90,LEN(entry_2!AB90)-2))","v":""}]
[{"$f":"IF(entry_2!B91=\"\",\"\",D86*100000000+28000000+entry_2!$AC$5*100+VALUE(RIGHT(entry_2!B91,2)))","v":""},{"$f":"IF(entry_2!B91=\"\",\"\",IF(entry_2!AC91>=10,entry_2!C91&entry_2!D91,IF(entry_2!AC91=9,entry_2!C91&\" \"&entry_2!D91,IF(entry_2!AC91=8,entry_2!C91&\"  \"&entry_2!D91,IF(entry_2!AC91=7,entry_2!C91&\"   \"&entry_2!D91,IF(entry_2!AC91=6,entry_2!C91&\"    \"&entry_2!D91,IF(entry_2!AC91=5,entry_2!C91&\"     \"&entry_2!D91,IF(entry_2!AC91=4,entry_2!C91&\"      \"&entry_2!D91,entry_2!C91&\"       \"&entry_2!D91)))))))&\"(\"&entry_2!G91&\")\")","v":""},{"$f":"IF(entry_2!B91=\"\",\"\",ASC(entry_2!E91&\" \"&entry_2!F91))","v":""},{"$f":"IF(entry_2!B91=\"\",\"\",IF(entry_2!H91=\"男\",1,2))","v":""},{"$f":"IF(entry_2!B91=\"\",\"\",VALUE(MID(A86,5,1)))","v":""},{"$f":"IF(entry_2!B91=\"\",\"\",VALUE(MID(A86,2,6)))","v":""},{"$f":"IF(entry_2!B91=\"\",\"\",VALUE(RIGHT(A86,4)))","v":""},{"$f":"IF(entry_2!I91=\"\",\"\",entry_2!W91&RIGHT(entry_2!X91,LEN(entry_2!X91)-2))","v":""},{"$f":"IF(entry_2!N91=\"\",\"\",entry_2!AA91&RIGHT(entry_2!AB91,LEN(entry_2!AB91)-2))","v":""}]
[{"$f":"IF(entry_2!B92=\"\",\"\",D87*100000000+28000000+entry_2!$AC$5*100+VALUE(RIGHT(entry_2!B92,2)))","v":""},{"$f":"IF(entry_2!B92=\"\",\"\",IF(entry_2!AC92>=10,entry_2!C92&entry_2!D92,IF(entry_2!AC92=9,entry_2!C92&\" \"&entry_2!D92,IF(entry_2!AC92=8,entry_2!C92&\"  \"&entry_2!D92,IF(entry_2!AC92=7,entry_2!C92&\"   \"&entry_2!D92,IF(entry_2!AC92=6,entry_2!C92&\"    \"&entry_2!D92,IF(entry_2!AC92=5,entry_2!C92&\"     \"&entry_2!D92,IF(entry_2!AC92=4,entry_2!C92&\"      \"&entry_2!D92,entry_2!C92&\"       \"&entry_2!D92)))))))&\"(\"&entry_2!G92&\")\")","v":""},{"$f":"IF(entry_2!B92=\"\",\"\",ASC(entry_2!E92&\" \"&entry_2!F92))","v":""},{"$f":"IF(entry_2!B92=\"\",\"\",IF(entry_2!H92=\"男\",1,2))","v":""},{"$f":"IF(entry_2!B92=\"\",\"\",VALUE(MID(A87,5,1)))","v":""},{"$f":"IF(entry_2!B92=\"\",\"\",VALUE(MID(A87,2,6)))","v":""},{"$f":"IF(entry_2!B92=\"\",\"\",VALUE(RIGHT(A87,4)))","v":""},{"$f":"IF(entry_2!I92=\"\",\"\",entry_2!W92&RIGHT(entry_2!X92,LEN(entry_2!X92)-2))","v":""},{"$f":"IF(entry_2!N92=\"\",\"\",entry_2!AA92&RIGHT(entry_2!AB92,LEN(entry_2!AB92)-2))","v":""}]
[{"$f":"IF(entry_2!B93=\"\",\"\",D88*100000000+28000000+entry_2!$AC$5*100+VALUE(RIGHT(entry_2!B93,2)))","v":""},{"$f":"IF(entry_2!B93=\"\",\"\",IF(entry_2!AC93>=10,entry_2!C93&entry_2!D93,IF(entry_2!AC93=9,entry_2!C93&\" \"&entry_2!D93,IF(entry_2!AC93=8,entry_2!C93&\"  \"&entry_2!D93,IF(entry_2!AC93=7,entry_2!C93&\"   \"&entry_2!D93,IF(entry_2!AC93=6,entry_2!C93&\"    \"&entry_2!D93,IF(entry_2!AC93=5,entry_2!C93&\"     \"&entry_2!D93,IF(entry_2!AC93=4,entry_2!C93&\"      \"&entry_2!D93,entry_2!C93&\"       \"&entry_2!D93)))))))&\"(\"&entry_2!G93&\")\")","v":""},{"$f":"IF(entry_2!B93=\"\",\"\",ASC(entry_2!E93&\" \"&entry_2!F93))","v":""},{"$f":"IF(entry_2!B93=\"\",\"\",IF(entry_2!H93=\"男\",1,2))","v":""},{"$f":"IF(entry_2!B93=\"\",\"\",VALUE(MID(A88,5,1)))","v":""},{"$f":"IF(entry_2!B93=\"\",\"\",VALUE(MID(A88,2,6)))","v":""},{"$f":"IF(entry_2!B93=\"\",\"\",VALUE(RIGHT(A88,4)))","v":""},{"$f":"IF(entry_2!I93=\"\",\"\",entry_2!W93&RIGHT(entry_2!X93,LEN(entry_2!X93)-2))","v":""},{"$f":"IF(entry_2!N93=\"\",\"\",entry_2!AA93&RIGHT(entry_2!AB93,LEN(entry_2!AB93)-2))","v":""}]
[{"$f":"IF(entry_2!B94=\"\",\"\",D89*100000000+28000000+entry_2!$AC$5*100+VALUE(RIGHT(entry_2!B94,2)))","v":""},{"$f":"IF(entry_2!B94=\"\",\"\",IF(entry_2!AC94>=10,entry_2!C94&entry_2!D94,IF(entry_2!AC94=9,entry_2!C94&\" \"&entry_2!D94,IF(entry_2!AC94=8,entry_2!C94&\"  \"&entry_2!D94,IF(entry_2!AC94=7,entry_2!C94&\"   \"&entry_2!D94,IF(entry_2!AC94=6,entry_2!C94&\"    \"&entry_2!D94,IF(entry_2!AC94=5,entry_2!C94&\"     \"&entry_2!D94,IF(entry_2!AC94=4,entry_2!C94&\"      \"&entry_2!D94,entry_2!C94&\"       \"&entry_2!D94)))))))&\"(\"&entry_2!G94&\")\")","v":""},{"$f":"IF(entry_2!B94=\"\",\"\",ASC(entry_2!E94&\" \"&entry_2!F94))","v":""},{"$f":"IF(entry_2!B94=\"\",\"\",IF(entry_2!H94=\"男\",1,2))","v":""},{"$f":"IF(entry_2!B94=\"\",\"\",VALUE(MID(A89,5,1)))","v":""},{"$f":"IF(entry_2!B94=\"\",\"\",VALUE(MID(A89,2,6)))","v":""},{"$f":"IF(entry_2!B94=\"\",\"\",VALUE(RIGHT(A89,4)))","v":""},{"$f":"IF(entry_2!I94=\"\",\"\",entry_2!W94&RIGHT(entry_2!X94,LEN(entry_2!X94)-2))","v":""},{"$f":"IF(entry_2!N94=\"\",\"\",entry_2!AA94&RIGHT(entry_2!AB94,LEN(entry_2!AB94)-2))","v":""}]
[{"$f":"IF(entry_2!B95=\"\",\"\",D90*100000000+28000000+entry_2!$AC$5*100+VALUE(RIGHT(entry_2!B95,2)))","v":""},{"$f":"IF(entry_2!B95=\"\",\"\",IF(entry_2!AC95>=10,entry_2!C95&entry_2!D95,IF(entry_2!AC95=9,entry_2!C95&\" \"&entry_2!D95,IF(entry_2!AC95=8,entry_2!C95&\"  \"&entry_2!D95,IF(entry_2!AC95=7,entry_2!C95&\"   \"&entry_2!D95,IF(entry_2!AC95=6,entry_2!C95&\"    \"&entry_2!D95,IF(entry_2!AC95=5,entry_2!C95&\"     \"&entry_2!D95,IF(entry_2!AC95=4,entry_2!C95&\"      \"&entry_2!D95,entry_2!C95&\"       \"&entry_2!D95)))))))&\"(\"&entry_2!G95&\")\")","v":""},{"$f":"IF(entry_2!B95=\"\",\"\",ASC(entry_2!E95&\" \"&entry_2!F95))","v":""},{"$f":"IF(entry_2!B95=\"\",\"\",IF(entry_2!H95=\"男\",1,2))","v":""},{"$f":"IF(entry_2!B95=\"\",\"\",VALUE(MID(A90,5,1)))","v":""},{"$f":"IF(entry_2!B95=\"\",\"\",VALUE(MID(A90,2,6)))","v":""},{"$f":"IF(entry_2!B95=\"\",\"\",VALUE(RIGHT(A90,4)))","v":""},{"$f":"IF(entry_2!I95=\"\",\"\",entry_2!W95&RIGHT(entry_2!X95,LEN(entry_2!X95)-2))","v":""},{"$f":"IF(entry_2!N95=\"\",\"\",entry_2!AA95&RIGHT(entry_2!AB95,LEN(entry_2!AB95)-2))","v":""}]
[{"$f":"IF(entry_2!B96=\"\",\"\",D91*100000000+28000000+entry_2!$AC$5*100+VALUE(RIGHT(entry_2!B96,2)))","v":""},{"$f":"IF(entry_2!B96=\"\",\"\",IF(entry_2!AC96>=10,entry_2!C96&entry_2!D96,IF(entry_2!AC96=9,entry_2!C96&\" \"&entry_2!D96,IF(entry_2!AC96=8,entry_2!C96&\"  \"&entry_2!D96,IF(entry_2!AC96=7,entry_2!C96&\"   \"&entry_2!D96,IF(entry_2!AC96=6,entry_2!C96&\"    \"&entry_2!D96,IF(entry_2!AC96=5,entry_2!C96&\"     \"&entry_2!D96,IF(entry_2!AC96=4,entry_2!C96&\"      \"&entry_2!D96,entry_2!C96&\"       \"&entry_2!D96)))))))&\"(\"&entry_2!G96&\")\")","v":""},{"$f":"IF(entry_2!B96=\"\",\"\",ASC(entry_2!E96&\" \"&entry_2!F96))","v":""},{"$f":"IF(entry_2!B96=\"\",\"\",IF(entry_2!H96=\"男\",1,2))","v":""},{"$f":"IF(entry_2!B96=\"\",\"\",VALUE(MID(A91,5,1)))","v":""},{"$f":"IF(entry_2!B96=\"\",\"\",VALUE(MID(A91,2,6)))","v":""},{"$f":"IF(entry_2!B96=\"\",\"\",VALUE(RIGHT(A91,4)))","v":""},{"$f":"IF(entry_2!I96=\"\",\"\",entry_2!W96&RIGHT(entry_2!X96,LEN(entry_2!X96)-2))","v":""},{"$f":"IF(entry_2!N96=\"\",\"\",entry_2!AA96&RIGHT(entry_2!AB96,LEN(entry_2!AB96)-2))","v":""}]
[{"$f":"IF(entry_2!B97=\"\",\"\",D92*100000000+28000000+entry_2!$AC$5*100+VALUE(RIGHT(entry_2!B97,2)))","v":""},{"$f":"IF(entry_2!B97=\"\",\"\",IF(entry_2!AC97>=10,entry_2!C97&entry_2!D97,IF(entry_2!AC97=9,entry_2!C97&\" \"&entry_2!D97,IF(entry_2!AC97=8,entry_2!C97&\"  \"&entry_2!D97,IF(entry_2!AC97=7,entry_2!C97&\"   \"&entry_2!D97,IF(entry_2!AC97=6,entry_2!C97&\"    \"&entry_2!D97,IF(entry_2!AC97=5,entry_2!C97&\"     \"&entry_2!D97,IF(entry_2!AC97=4,entry_2!C97&\"      \"&entry_2!D97,entry_2!C97&\"       \"&entry_2!D97)))))))&\"(\"&entry_2!G97&\")\")","v":""},{"$f":"IF(entry_2!B97=\"\",\"\",ASC(entry_2!E97&\" \"&entry_2!F97))","v":""},{"$f":"IF(entry_2!B97=\"\",\"\",IF(entry_2!H97=\"男\",1,2))","v":""},{"$f":"IF(entry_2!B97=\"\",\"\",VALUE(MID(A92,5,1)))","v":""},{"$f":"IF(entry_2!B97=\"\",\"\",VALUE(MID(A92,2,6)))","v":""},{"$f":"IF(entry_2!B97=\"\",\"\",VALUE(RIGHT(A92,4)))","v":""},{"$f":"IF(entry_2!I97=\"\",\"\",entry_2!W97&RIGHT(entry_2!X97,LEN(entry_2!X97)-2))","v":""},{"$f":"IF(entry_2!N97=\"\",\"\",entry_2!AA97&RIGHT(entry_2!AB97,LEN(entry_2!AB97)-2))","v":""}]
[{"$f":"IF(entry_2!B98=\"\",\"\",D93*100000000+28000000+entry_2!$AC$5*100+VALUE(RIGHT(entry_2!B98,2)))","v":""},{"$f":"IF(entry_2!B98=\"\",\"\",IF(entry_2!AC98>=10,entry_2!C98&entry_2!D98,IF(entry_2!AC98=9,entry_2!C98&\" \"&entry_2!D98,IF(entry_2!AC98=8,entry_2!C98&\"  \"&entry_2!D98,IF(entry_2!AC98=7,entry_2!C98&\"   \"&entry_2!D98,IF(entry_2!AC98=6,entry_2!C98&\"    \"&entry_2!D98,IF(entry_2!AC98=5,entry_2!C98&\"     \"&entry_2!D98,IF(entry_2!AC98=4,entry_2!C98&\"      \"&entry_2!D98,entry_2!C98&\"       \"&entry_2!D98)))))))&\"(\"&entry_2!G98&\")\")","v":""},{"$f":"IF(entry_2!B98=\"\",\"\",ASC(entry_2!E98&\" \"&entry_2!F98))","v":""},{"$f":"IF(entry_2!B98=\"\",\"\",IF(entry_2!H98=\"男\",1,2))","v":""},{"$f":"IF(entry_2!B98=\"\",\"\",VALUE(MID(A93,5,1)))","v":""},{"$f":"IF(entry_2!B98=\"\",\"\",VALUE(MID(A93,2,6)))","v":""},{"$f":"IF(entry_2!B98=\"\",\"\",VALUE(RIGHT(A93,4)))","v":""},{"$f":"IF(entry_2!I98=\"\",\"\",entry_2!W98&RIGHT(entry_2!X98,LEN(entry_2!X98)-2))","v":""},{"$f":"IF(entry_2!N98=\"\",\"\",entry_2!AA98&RIGHT(entry_2!AB98,LEN(entry_2!AB98)-2))","v":""}]
[{"$f":"IF(entry_2!B99=\"\",\"\",D94*100000000+28000000+entry_2!$AC$5*100+VALUE(RIGHT(entry_2!B99,2)))","v":""},{"$f":"IF(entry_2!B99=\"\",\"\",IF(entry_2!AC99>=10,entry_2!C99&entry_2!D99,IF(entry_2!AC99=9,entry_2!C99&\" \"&entry_2!D99,IF(entry_2!AC99=8,entry_2!C99&\"  \"&entry_2!D99,IF(entry_2!AC99=7,entry_2!C99&\"   \"&entry_2!D99,IF(entry_2!AC99=6,entry_2!C99&\"    \"&entry_2!D99,IF(entry_2!AC99=5,entry_2!C99&\"     \"&entry_2!D99,IF(entry_2!AC99=4,entry_2!C99&\"      \"&entry_2!D99,entry_2!C99&\"       \"&entry_2!D99)))))))&\"(\"&entry_2!G99&\")\")","v":""},{"$f":"IF(entry_2!B99=\"\",\"\",ASC(entry_2!E99&\" \"&entry_2!F99))","v":""},{"$f":"IF(entry_2!B99=\"\",\"\",IF(entry_2!H99=\"男\",1,2))","v":""},{"$f":"IF(entry_2!B99=\"\",\"\",VALUE(MID(A94,5,1)))","v":""},{"$f":"IF(entry_2!B99=\"\",\"\",VALUE(MID(A94,2,6)))","v":""},{"$f":"IF(entry_2!B99=\"\",\"\",VALUE(RIGHT(A94,4)))","v":""},{"$f":"IF(entry_2!I99=\"\",\"\",entry_2!W99&RIGHT(entry_2!X99,LEN(entry_2!X99)-2))","v":""},{"$f":"IF(entry_2!N99=\"\",\"\",entry_2!AA99&RIGHT(entry_2!AB99,LEN(entry_2!AB99)-2))","v":""}]
[{"$f":"IF(entry_2!B100=\"\",\"\",D95*100000000+28000000+entry_2!$AC$5*100+VALUE(RIGHT(entry_2!B100,2)))","v":""},{"$f":"IF(entry_2!B100=\"\",\"\",IF(entry_2!AC100>=10,entry_2!C100&entry_2!D100,IF(entry_2!AC100=9,entry_2!C100&\" \"&entry_2!D100,IF(entry_2!AC100=8,entry_2!C100&\"  \"&entry_2!D100,IF(entry_2!AC100=7,entry_2!C100&\"   \"&entry_2!D100,IF(entry_2!AC100=6,entry_2!C100&\"    \"&entry_2!D100,IF(entry_2!AC100=5,entry_2!C100&\"     \"&entry_2!D100,IF(entry_2!AC100=4,entry_2!C100&\"      \"&entry_2!D100,entry_2!C100&\"       \"&entry_2!D100)))))))&\"(\"&entry_2!G100&\")\")","v":""},{"$f":"IF(entry_2!B100=\"\",\"\",ASC(entry_2!E100&\" \"&entry_2!F100))","v":""},{"$f":"IF(entry_2!B100=\"\",\"\",IF(entry_2!H100=\"男\",1,2))","v":""},{"$f":"IF(entry_2!B100=\"\",\"\",VALUE(MID(A95,5,1)))","v":""},{"$f":"IF(entry_2!B100=\"\",\"\",VALUE(MID(A95,2,6)))","v":""},{"$f":"IF(entry_2!B100=\"\",\"\",VALUE(RIGHT(A95,4)))","v":""},{"$f":"IF(entry_2!I100=\"\",\"\",entry_2!W100&RIGHT(entry_2!X100,LEN(entry_2!X100)-2))","v":""},{"$f":"IF(entry_2!N100=\"\",\"\",entry_2!AA100&RIGHT(entry_2!AB100,LEN(entry_2!AB100)-2))","v":""}]
[{"$f":"IF(entry_2!B101=\"\",\"\",D96*100000000+28000000+entry_2!$AC$5*100+VALUE(RIGHT(entry_2!B101,2)))","v":""},{"$f":"IF(entry_2!B101=\"\",\"\",IF(entry_2!AC101>=10,entry_2!C101&entry_2!D101,IF(entry_2!AC101=9,entry_2!C101&\" \"&entry_2!D101,IF(entry_2!AC101=8,entry_2!C101&\"  \"&entry_2!D101,IF(entry_2!AC101=7,entry_2!C101&\"   \"&entry_2!D101,IF(entry_2!AC101=6,entry_2!C101&\"    \"&entry_2!D101,IF(entry_2!AC101=5,entry_2!C101&\"     \"&entry_2!D101,IF(entry_2!AC101=4,entry_2!C101&\"      \"&entry_2!D101,entry_2!C101&\"       \"&entry_2!D101)))))))&\"(\"&entry_2!G101&\")\")","v":""},{"$f":"IF(entry_2!B101=\"\",\"\",ASC(entry_2!E101&\" \"&entry_2!F101))","v":""},{"$f":"IF(entry_2!B101=\"\",\"\",IF(entry_2!H101=\"男\",1,2))","v":""},{"$f":"IF(entry_2!B101=\"\",\"\",VALUE(MID(A96,5,1)))","v":""},{"$f":"IF(entry_2!B101=\"\",\"\",VALUE(MID(A96,2,6)))","v":""},{"$f":"IF(entry_2!B101=\"\",\"\",VALUE(RIGHT(A96,4)))","v":""},{"$f":"IF(entry_2!I101=\"\",\"\",entry_2!W101&RIGHT(entry_2!X101,LEN(entry_2!X101)-2))","v":""},{"$f":"IF(entry_2!N101=\"\",\"\",entry_2!AA101&RIGHT(entry_2!AB101,LEN(entry_2!AB101)-2))","v":""}]
[{"$f":"IF(entry_2!B102=\"\",\"\",D97*100000000+28000000+entry_2!$AC$5*100+VALUE(RIGHT(entry_2!B102,2)))","v":""},{"$f":"IF(entry_2!B102=\"\",\"\",IF(entry_2!AC102>=10,entry_2!C102&entry_2!D102,IF(entry_2!AC102=9,entry_2!C102&\" \"&entry_2!D102,IF(entry_2!AC102=8,entry_2!C102&\"  \"&entry_2!D102,IF(entry_2!AC102=7,entry_2!C102&\"   \"&entry_2!D102,IF(entry_2!AC102=6,entry_2!C102&\"    \"&entry_2!D102,IF(entry_2!AC102=5,entry_2!C102&\"     \"&entry_2!D102,IF(entry_2!AC102=4,entry_2!C102&\"      \"&entry_2!D102,entry_2!C102&\"       \"&entry_2!D102)))))))&\"(\"&entry_2!G102&\")\")","v":""},{"$f":"IF(entry_2!B102=\"\",\"\",ASC(entry_2!E102&\" \"&entry_2!F102))","v":""},{"$f":"IF(entry_2!B102=\"\",\"\",IF(entry_2!H102=\"男\",1,2))","v":""},{"$f":"IF(entry_2!B102=\"\",\"\",VALUE(MID(A97,5,1)))","v":""},{"$f":"IF(entry_2!B102=\"\",\"\",VALUE(MID(A97,2,6)))","v":""},{"$f":"IF(entry_2!B102=\"\",\"\",VALUE(RIGHT(A97,4)))","v":""},{"$f":"IF(entry_2!I102=\"\",\"\",entry_2!W102&RIGHT(entry_2!X102,LEN(entry_2!X102)-2))","v":""},{"$f":"IF(entry_2!N102=\"\",\"\",entry_2!AA102&RIGHT(entry_2!AB102,LEN(entry_2!AB102)-2))","v":""}]
[{"$f":"IF(entry_2!B103=\"\",\"\",D98*100000000+28000000+entry_2!$AC$5*100+VALUE(RIGHT(entry_2!B103,2)))","v":""},{"$f":"IF(entry_2!B103=\"\",\"\",IF(entry_2!AC103>=10,entry_2!C103&entry_2!D103,IF(entry_2!AC103=9,entry_2!C103&\" \"&entry_2!D103,IF(entry_2!AC103=8,entry_2!C103&\"  \"&entry_2!D103,IF(entry_2!AC103=7,entry_2!C103&\"   \"&entry_2!D103,IF(entry_2!AC103=6,entry_2!C103&\"    \"&entry_2!D103,IF(entry_2!AC103=5,entry_2!C103&\"     \"&entry_2!D103,IF(entry_2!AC103=4,entry_2!C103&\"      \"&entry_2!D103,entry_2!C103&\"       \"&entry_2!D103)))))))&\"(\"&entry_2!G103&\")\")","v":""},{"$f":"IF(entry_2!B103=\"\",\"\",ASC(entry_2!E103&\" \"&entry_2!F103))","v":""},{"$f":"IF(entry_2!B103=\"\",\"\",IF(entry_2!H103=\"男\",1,2))","v":""},{"$f":"IF(entry_2!B103=\"\",\"\",VALUE(MID(A98,5,1)))","v":""},{"$f":"IF(entry_2!B103=\"\",\"\",VALUE(MID(A98,2,6)))","v":""},{"$f":"IF(entry_2!B103=\"\",\"\",VALUE(RIGHT(A98,4)))","v":""},{"$f":"IF(entry_2!I103=\"\",\"\",entry_2!W103&RIGHT(entry_2!X103,LEN(entry_2!X103)-2))","v":""},{"$f":"IF(entry_2!N103=\"\",\"\",entry_2!AA103&RIGHT(entry_2!AB103,LEN(entry_2!AB103)-2))","v":""}]
[{"$f":"IF(entry_2!B104=\"\",\"\",D99*100000000+28000000+entry_2!$AC$5*100+VALUE(RIGHT(entry_2!B104,2)))","v":""},{"$f":"IF(entry_2!B104=\"\",\"\",IF(entry_2!AC104>=10,entry_2!C104&entry_2!D104,IF(entry_2!AC104=9,entry_2!C104&\" \"&entry_2!D104,IF(entry_2!AC104=8,entry_2!C104&\"  \"&entry_2!D104,IF(entry_2!AC104=7,entry_2!C104&\"   \"&entry_2!D104,IF(entry_2!AC104=6,entry_2!C104&\"    \"&entry_2!D104,IF(entry_2!AC104=5,entry_2!C104&\"     \"&entry_2!D104,IF(entry_2!AC104=4,entry_2!C104&\"      \"&entry_2!D104,entry_2!C104&\"       \"&entry_2!D104)))))))&\"(\"&entry_2!G104&\")\")","v":""},{"$f":"IF(entry_2!B104=\"\",\"\",ASC(entry_2!E104&\" \"&entry_2!F104))","v":""},{"$f":"IF(entry_2!B104=\"\",\"\",IF(entry_2!H104=\"男\",1,2))","v":""},{"$f":"IF(entry_2!B104=\"\",\"\",VALUE(MID(A99,5,1)))","v":""},{"$f":"IF(entry_2!B104=\"\",\"\",VALUE(MID(A99,2,6)))","v":""},{"$f":"IF(entry_2!B104=\"\",\"\",VALUE(RIGHT(A99,4)))","v":""},{"$f":"IF(entry_2!I104=\"\",\"\",entry_2!W104&RIGHT(entry_2!X104,LEN(entry_2!X104)-2))","v":""},{"$f":"IF(entry_2!N104=\"\",\"\",entry_2!AA104&RIGHT(entry_2!AB104,LEN(entry_2!AB104)-2))","v":""}]
[{"$f":"IF(entry_2!B105=\"\",\"\",D100*100000000+28000000+entry_2!$AC$5*100+VALUE(RIGHT(entry_2!B105,2)))","v":""},{"$f":"IF(entry_2!B105=\"\",\"\",IF(entry_2!AC105>=10,entry_2!C105&entry_2!D105,IF(entry_2!AC105=9,entry_2!C105&\" \"&entry_2!D105,IF(entry_2!AC105=8,entry_2!C105&\"  \"&entry_2!D105,IF(entry_2!AC105=7,entry_2!C105&\"   \"&entry_2!D105,IF(entry_2!AC105=6,entry_2!C105&\"    \"&entry_2!D105,IF(entry_2!AC105=5,entry_2!C105&\"     \"&entry_2!D105,IF(entry_2!AC105=4,entry_2!C105&\"      \"&entry_2!D105,entry_2!C105&\"       \"&entry_2!D105)))))))&\"(\"&entry_2!G105&\")\")","v":""},{"$f":"IF(entry_2!B105=\"\",\"\",ASC(entry_2!E105&\" \"&entry_2!F105))","v":""},{"$f":"IF(entry_2!B105=\"\",\"\",IF(entry_2!H105=\"男\",1,2))","v":""},{"$f":"IF(entry_2!B105=\"\",\"\",VALUE(MID(A100,5,1)))","v":""},{"$f":"IF(entry_2!B105=\"\",\"\",VALUE(MID(A100,2,6)))","v":""},{"$f":"IF(entry_2!B105=\"\",\"\",VALUE(RIGHT(A100,4)))","v":""},{"$f":"IF(entry_2!I105=\"\",\"\",entry_2!W105&RIGHT(entry_2!X105,LEN(entry_2!X105)-2))","v":""},{"$f":"IF(entry_2!N105=\"\",\"\",entry_2!AA105&RIGHT(entry_2!AB105,LEN(entry_2!AB105)-2))","v":""}]
[{"$f":"IF(entry_2!B106=\"\",\"\",D101*100000000+28000000+entry_2!$AC$5*100+VALUE(RIGHT(entry_2!B106,2)))","v":""},{"$f":"IF(entry_2!B106=\"\",\"\",IF(entry_2!AC106>=10,entry_2!C106&entry_2!D106,IF(entry_2!AC106=9,entry_2!C106&\" \"&entry_2!D106,IF(entry_2!AC106=8,entry_2!C106&\"  \"&entry_2!D106,IF(entry_2!AC106=7,entry_2!C106&\"   \"&entry_2!D106,IF(entry_2!AC106=6,entry_2!C106&\"    \"&entry_2!D106,IF(entry_2!AC106=5,entry_2!C106&\"     \"&entry_2!D106,IF(entry_2!AC106=4,entry_2!C106&\"      \"&entry_2!D106,entry_2!C106&\"       \"&entry_2!D106)))))))&\"(\"&entry_2!G106&\")\")","v":""},{"$f":"IF(entry_2!B106=\"\",\"\",ASC(entry_2!E106&\" \"&entry_2!F106))","v":""},{"$f":"IF(entry_2!B106=\"\",\"\",IF(entry_2!H106=\"男\",1,2))","v":""},{"$f":"IF(entry_2!B106=\"\",\"\",VALUE(MID(A101,5,1)))","v":""},{"$f":"IF(entry_2!B106=\"\",\"\",VALUE(MID(A101,2,6)))","v":""},{"$f":"IF(entry_2!B106=\"\",\"\",VALUE(RIGHT(A101,4)))","v":""},{"$f":"IF(entry_2!I106=\"\",\"\",entry_2!W106&RIGHT(entry_2!X106,LEN(entry_2!X106)-2))","v":""},{"$f":"IF(entry_2!N106=\"\",\"\",entry_2!AA106&RIGHT(entry_2!AB106,LEN(entry_2!AB106)-2))","v":""}]
[{"$f":"IF(entry_2!B107=\"\",\"\",D102*100000000+28000000+entry_2!$AC$5*100+VALUE(RIGHT(entry_2!B107,2)))","v":""},{"$f":"IF(entry_2!B107=\"\",\"\",IF(entry_2!AC107>=10,entry_2!C107&entry_2!D107,IF(entry_2!AC107=9,entry_2!C107&\" \"&entry_2!D107,IF(entry_2!AC107=8,entry_2!C107&\"  \"&entry_2!D107,IF(entry_2!AC107=7,entry_2!C107&\"   \"&entry_2!D107,IF(entry_2!AC107=6,entry_2!C107&\"    \"&entry_2!D107,IF(entry_2!AC107=5,entry_2!C107&\"     \"&entry_2!D107,IF(entry_2!AC107=4,entry_2!C107&\"      \"&entry_2!D107,entry_2!C107&\"       \"&entry_2!D107)))))))&\"(\"&entry_2!G107&\")\")","v":""},{"$f":"IF(entry_2!B107=\"\",\"\",ASC(entry_2!E107&\" \"&entry_2!F107))","v":""},{"$f":"IF(entry_2!B107=\"\",\"\",IF(entry_2!H107=\"男\",1,2))","v":""},{"$f":"IF(entry_2!B107=\"\",\"\",VALUE(MID(A102,5,1)))","v":""},{"$f":"IF(entry_2!B107=\"\",\"\",VALUE(MID(A102,2,6)))","v":""},{"$f":"IF(entry_2!B107=\"\",\"\",VALUE(RIGHT(A102,4)))","v":""},{"$f":"IF(entry_2!I107=\"\",\"\",entry_2!W107&RIGHT(entry_2!X107,LEN(entry_2!X107)-2))","v":""},{"$f":"IF(entry_2!N107=\"\",\"\",entry_2!AA107&RIGHT(entry_2!AB107,LEN(entry_2!AB107)-2))","v":""}]
[{"$f":"IF(entry_2!B108=\"\",\"\",D103*100000000+28000000+entry_2!$AC$5*100+VALUE(RIGHT(entry_2!B108,2)))","v":""},{"$f":"IF(entry_2!B108=\"\",\"\",IF(entry_2!AC108>=10,entry_2!C108&entry_2!D108,IF(entry_2!AC108=9,entry_2!C108&\" \"&entry_2!D108,IF(entry_2!AC108=8,entry_2!C108&\"  \"&entry_2!D108,IF(entry_2!AC108=7,entry_2!C108&\"   \"&entry_2!D108,IF(entry_2!AC108=6,entry_2!C108&\"    \"&entry_2!D108,IF(entry_2!AC108=5,entry_2!C108&\"     \"&entry_2!D108,IF(entry_2!AC108=4,entry_2!C108&\"      \"&entry_2!D108,entry_2!C108&\"       \"&entry_2!D108)))))))&\"(\"&entry_2!G108&\")\")","v":""},{"$f":"IF(entry_2!B108=\"\",\"\",ASC(entry_2!E108&\" \"&entry_2!F108))","v":""},{"$f":"IF(entry_2!B108=\"\",\"\",IF(entry_2!H108=\"男\",1,2))","v":""},{"$f":"IF(entry_2!B108=\"\",\"\",VALUE(MID(A103,5,1)))","v":""},{"$f":"IF(entry_2!B108=\"\",\"\",VALUE(MID(A103,2,6)))","v":""},{"$f":"IF(entry_2!B108=\"\",\"\",VALUE(RIGHT(A103,4)))","v":""},{"$f":"IF(entry_2!I108=\"\",\"\",entry_2!W108&RIGHT(entry_2!X108,LEN(entry_2!X108)-2))","v":""},{"$f":"IF(entry_2!N108=\"\",\"\",entry_2!AA108&RIGHT(entry_2!AB108,LEN(entry_2!AB108)-2))","v":""}]
[{"$f":"IF(entry_2!B109=\"\",\"\",D104*100000000+28000000+entry_2!$AC$5*100+VALUE(RIGHT(entry_2!B109,2)))","v":""},{"$f":"IF(entry_2!B109=\"\",\"\",IF(entry_2!AC109>=10,entry_2!C109&entry_2!D109,IF(entry_2!AC109=9,entry_2!C109&\" \"&entry_2!D109,IF(entry_2!AC109=8,entry_2!C109&\"  \"&entry_2!D109,IF(entry_2!AC109=7,entry_2!C109&\"   \"&entry_2!D109,IF(entry_2!AC109=6,entry_2!C109&\"    \"&entry_2!D109,IF(entry_2!AC109=5,entry_2!C109&\"     \"&entry_2!D109,IF(entry_2!AC109=4,entry_2!C109&\"      \"&entry_2!D109,entry_2!C109&\"       \"&entry_2!D109)))))))&\"(\"&entry_2!G109&\")\")","v":""},{"$f":"IF(entry_2!B109=\"\",\"\",ASC(entry_2!E109&\" \"&entry_2!F109))","v":""},{"$f":"IF(entry_2!B109=\"\",\"\",IF(entry_2!H109=\"男\",1,2))","v":""},{"$f":"IF(entry_2!B109=\"\",\"\",VALUE(MID(A104,5,1)))","v":""},{"$f":"IF(entry_2!B109=\"\",\"\",VALUE(MID(A104,2,6)))","v":""},{"$f":"IF(entry_2!B109=\"\",\"\",VALUE(RIGHT(A104,4)))","v":""},{"$f":"IF(entry_2!I109=\"\",\"\",entry_2!W109&RIGHT(entry_2!X109,LEN(entry_2!X109)-2))","v":""},{"$f":"IF(entry_2!N109=\"\",\"\",entry_2!AA109&RIGHT(entry_2!AB109,LEN(entry_2!AB109)-2))","v":""}]
[{"$f":"IF(entry_2!B110=\"\",\"\",D105*100000000+28000000+entry_2!$AC$5*100+VALUE(RIGHT(entry_2!B110,2)))","v":""},{"$f":"IF(entry_2!B110=\"\",\"\",IF(entry_2!AC110>=10,entry_2!C110&entry_2!D110,IF(entry_2!AC110=9,entry_2!C110&\" \"&entry_2!D110,IF(entry_2!AC110=8,entry_2!C110&\"  \"&entry_2!D110,IF(entry_2!AC110=7,entry_2!C110&\"   \"&entry_2!D110,IF(entry_2!AC110=6,entry_2!C110&\"    \"&entry_2!D110,IF(entry_2!AC110=5,entry_2!C110&\"     \"&entry_2!D110,IF(entry_2!AC110=4,entry_2!C110&\"      \"&entry_2!D110,entry_2!C110&\"       \"&entry_2!D110)))))))&\"(\"&entry_2!G110&\")\")","v":""},{"$f":"IF(entry_2!B110=\"\",\"\",ASC(entry_2!E110&\" \"&entry_2!F110))","v":""},{"$f":"IF(entry_2!B110=\"\",\"\",IF(entry_2!H110=\"男\",1,2))","v":""},{"$f":"IF(entry_2!B110=\"\",\"\",VALUE(MID(A105,5,1)))","v":""},{"$f":"IF(entry_2!B110=\"\",\"\",VALUE(MID(A105,2,6)))","v":""},{"$f":"IF(entry_2!B110=\"\",\"\",VALUE(RIGHT(A105,4)))","v":""},{"$f":"IF(entry_2!I110=\"\",\"\",entry_2!W110&RIGHT(entry_2!X110,LEN(entry_2!X110)-2))","v":""},{"$f":"IF(entry_2!N110=\"\",\"\",entry_2!AA110&RIGHT(entry_2!AB110,LEN(entry_2!AB110)-2))","v":""}]
[{"$f":"IF(entry_2!B111=\"\",\"\",D106*100000000+28000000+entry_2!$AC$5*100+VALUE(RIGHT(entry_2!B111,2)))","v":""},{"$f":"IF(entry_2!B111=\"\",\"\",IF(entry_2!AC111>=10,entry_2!C111&entry_2!D111,IF(entry_2!AC111=9,entry_2!C111&\" \"&entry_2!D111,IF(entry_2!AC111=8,entry_2!C111&\"  \"&entry_2!D111,IF(entry_2!AC111=7,entry_2!C111&\"   \"&entry_2!D111,IF(entry_2!AC111=6,entry_2!C111&\"    \"&entry_2!D111,IF(entry_2!AC111=5,entry_2!C111&\"     \"&entry_2!D111,IF(entry_2!AC111=4,entry_2!C111&\"      \"&entry_2!D111,entry_2!C111&\"       \"&entry_2!D111)))))))&\"(\"&entry_2!G111&\")\")","v":""},{"$f":"IF(entry_2!B111=\"\",\"\",ASC(entry_2!E111&\" \"&entry_2!F111))","v":""},{"$f":"IF(entry_2!B111=\"\",\"\",IF(entry_2!H111=\"男\",1,2))","v":""},{"$f":"IF(entry_2!B111=\"\",\"\",VALUE(MID(A106,5,1)))","v":""},{"$f":"IF(entry_2!B111=\"\",\"\",VALUE(MID(A106,2,6)))","v":""},{"$f":"IF(entry_2!B111=\"\",\"\",VALUE(RIGHT(A106,4)))","v":""},{"$f":"IF(entry_2!I111=\"\",\"\",entry_2!W111&RIGHT(entry_2!X111,LEN(entry_2!X111)-2))","v":""},{"$f":"IF(entry_2!N111=\"\",\"\",entry_2!AA111&RIGHT(entry_2!AB111,LEN(entry_2!AB111)-2))","v":""}]
[{"$f":"IF(entry_2!B112=\"\",\"\",D107*100000000+28000000+entry_2!$AC$5*100+VALUE(RIGHT(entry_2!B112,2)))","v":""},{"$f":"IF(entry_2!B112=\"\",\"\",IF(entry_2!AC112>=10,entry_2!C112&entry_2!D112,IF(entry_2!AC112=9,entry_2!C112&\" \"&entry_2!D112,IF(entry_2!AC112=8,entry_2!C112&\"  \"&entry_2!D112,IF(entry_2!AC112=7,entry_2!C112&\"   \"&entry_2!D112,IF(entry_2!AC112=6,entry_2!C112&\"    \"&entry_2!D112,IF(entry_2!AC112=5,entry_2!C112&\"     \"&entry_2!D112,IF(entry_2!AC112=4,entry_2!C112&\"      \"&entry_2!D112,entry_2!C112&\"       \"&entry_2!D112)))))))&\"(\"&entry_2!G112&\")\")","v":""},{"$f":"IF(entry_2!B112=\"\",\"\",ASC(entry_2!E112&\" \"&entry_2!F112))","v":""},{"$f":"IF(entry_2!B112=\"\",\"\",IF(entry_2!H112=\"男\",1,2))","v":""},{"$f":"IF(entry_2!B112=\"\",\"\",VALUE(MID(A107,5,1)))","v":""},{"$f":"IF(entry_2!B112=\"\",\"\",VALUE(MID(A107,2,6)))","v":""},{"$f":"IF(entry_2!B112=\"\",\"\",VALUE(RIGHT(A107,4)))","v":""},{"$f":"IF(entry_2!I112=\"\",\"\",entry_2!W112&RIGHT(entry_2!X112,LEN(entry_2!X112)-2))","v":""},{"$f":"IF(entry_2!N112=\"\",\"\",entry_2!AA112&RIGHT(entry_2!AB112,LEN(entry_2!AB112)-2))","v":""}]
[{"$f":"IF(entry_2!B113=\"\",\"\",D108*100000000+28000000+entry_2!$AC$5*100+VALUE(RIGHT(entry_2!B113,2)))","v":""},{"$f":"IF(entry_2!B113=\"\",\"\",IF(entry_2!AC113>=10,entry_2!C113&entry_2!D113,IF(entry_2!AC113=9,entry_2!C113&\" \"&entry_2!D113,IF(entry_2!AC113=8,entry_2!C113&\"  \"&entry_2!D113,IF(entry_2!AC113=7,entry_2!C113&\"   \"&entry_2!D113,IF(entry_2!AC113=6,entry_2!C113&\"    \"&entry_2!D113,IF(entry_2!AC113=5,entry_2!C113&\"     \"&entry_2!D113,IF(entry_2!AC113=4,entry_2!C113&\"      \"&entry_2!D113,entry_2!C113&\"       \"&entry_2!D113)))))))&\"(\"&entry_2!G113&\")\")","v":""},{"$f":"IF(entry_2!B113=\"\",\"\",ASC(entry_2!E113&\" \"&entry_2!F113))","v":""},{"$f":"IF(entry_2!B113=\"\",\"\",IF(entry_2!H113=\"男\",1,2))","v":""},{"$f":"IF(entry_2!B113=\"\",\"\",VALUE(MID(A108,5,1)))","v":""},{"$f":"IF(entry_2!B113=\"\",\"\",VALUE(MID(A108,2,6)))","v":""},{"$f":"IF(entry_2!B113=\"\",\"\",VALUE(RIGHT(A108,4)))","v":""},{"$f":"IF(entry_2!I113=\"\",\"\",entry_2!W113&RIGHT(entry_2!X113,LEN(entry_2!X113)-2))","v":""},{"$f":"IF(entry_2!N113=\"\",\"\",entry_2!AA113&RIGHT(entry_2!AB113,LEN(entry_2!AB113)-2))","v":""}]
[{"$f":"IF(entry_2!B114=\"\",\"\",D109*100000000+28000000+entry_2!$AC$5*100+VALUE(RIGHT(entry_2!B114,2)))","v":""},{"$f":"IF(entry_2!B114=\"\",\"\",IF(entry_2!AC114>=10,entry_2!C114&entry_2!D114,IF(entry_2!AC114=9,entry_2!C114&\" \"&entry_2!D114,IF(entry_2!AC114=8,entry_2!C114&\"  \"&entry_2!D114,IF(entry_2!AC114=7,entry_2!C114&\"   \"&entry_2!D114,IF(entry_2!AC114=6,entry_2!C114&\"    \"&entry_2!D114,IF(entry_2!AC114=5,entry_2!C114&\"     \"&entry_2!D114,IF(entry_2!AC114=4,entry_2!C114&\"      \"&entry_2!D114,entry_2!C114&\"       \"&entry_2!D114)))))))&\"(\"&entry_2!G114&\")\")","v":""},{"$f":"IF(entry_2!B114=\"\",\"\",ASC(entry_2!E114&\" \"&entry_2!F114))","v":""},{"$f":"IF(entry_2!B114=\"\",\"\",IF(entry_2!H114=\"男\",1,2))","v":""},{"$f":"IF(entry_2!B114=\"\",\"\",VALUE(MID(A109,5,1)))","v":""},{"$f":"IF(entry_2!B114=\"\",\"\",VALUE(MID(A109,2,6)))","v":""},{"$f":"IF(entry_2!B114=\"\",\"\",VALUE(RIGHT(A109,4)))","v":""},{"$f":"IF(entry_2!I114=\"\",\"\",entry_2!W114&RIGHT(entry_2!X114,LEN(entry_2!X114)-2))","v":""},{"$f":"IF(entry_2!N114=\"\",\"\",entry_2!AA114&RIGHT(entry_2!AB114,LEN(entry_2!AB114)-2))","v":""}]
[{"$f":"IF(entry_2!B115=\"\",\"\",D110*100000000+28000000+entry_2!$AC$5*100+VALUE(RIGHT(entry_2!B115,2)))","v":""},{"$f":"IF(entry_2!B115=\"\",\"\",IF(entry_2!AC115>=10,entry_2!C115&entry_2!D115,IF(entry_2!AC115=9,entry_2!C115&\" \"&entry_2!D115,IF(entry_2!AC115=8,entry_2!C115&\"  \"&entry_2!D115,IF(entry_2!AC115=7,entry_2!C115&\"   \"&entry_2!D115,IF(entry_2!AC115=6,entry_2!C115&\"    \"&entry_2!D115,IF(entry_2!AC115=5,entry_2!C115&\"     \"&entry_2!D115,IF(entry_2!AC115=4,entry_2!C115&\"      \"&entry_2!D115,entry_2!C115&\"       \"&entry_2!D115)))))))&\"(\"&entry_2!G115&\")\")","v":""},{"$f":"IF(entry_2!B115=\"\",\"\",ASC(entry_2!E115&\" \"&entry_2!F115))","v":""},{"$f":"IF(entry_2!B115=\"\",\"\",IF(entry_2!H115=\"男\",1,2))","v":""},{"$f":"IF(entry_2!B115=\"\",\"\",VALUE(MID(A110,5,1)))","v":""},{"$f":"IF(entry_2!B115=\"\",\"\",VALUE(MID(A110,2,6)))","v":""},{"$f":"IF(entry_2!B115=\"\",\"\",VALUE(RIGHT(A110,4)))","v":""},{"$f":"IF(entry_2!I115=\"\",\"\",entry_2!W115&RIGHT(entry_2!X115,LEN(entry_2!X115)-2))","v":""},{"$f":"IF(entry_2!N115=\"\",\"\",entry_2!AA115&RIGHT(entry_2!AB115,LEN(entry_2!AB115)-2))","v":""}]
[{"$f":"IF(entry_2!B116=\"\",\"\",D111*100000000+28000000+entry_2!$AC$5*100+VALUE(RIGHT(entry_2!B116,2)))","v":""},{"$f":"IF(entry_2!B116=\"\",\"\",IF(entry_2!AC116>=10,entry_2!C116&entry_2!D116,IF(entry_2!AC116=9,entry_2!C116&\" \"&entry_2!D116,IF(entry_2!AC116=8,entry_2!C116&\"  \"&entry_2!D116,IF(entry_2!AC116=7,entry_2!C116&\"   \"&entry_2!D116,IF(entry_2!AC116=6,entry_2!C116&\"    \"&entry_2!D116,IF(entry_2!AC116=5,entry_2!C116&\"     \"&entry_2!D116,IF(entry_2!AC116=4,entry_2!C116&\"      \"&entry_2!D116,entry_2!C116&\"       \"&entry_2!D116)))))))&\"(\"&entry_2!G116&\")\")","v":""},{"$f":"IF(entry_2!B116=\"\",\"\",ASC(entry_2!E116&\" \"&entry_2!F116))","v":""},{"$f":"IF(entry_2!B116=\"\",\"\",IF(entry_2!H116=\"男\",1,2))","v":""},{"$f":"IF(entry_2!B116=\"\",\"\",VALUE(MID(A111,5,1)))","v":""},{"$f":"IF(entry_2!B116=\"\",\"\",VALUE(MID(A111,2,6)))","v":""},{"$f":"IF(entry_2!B116=\"\",\"\",VALUE(RIGHT(A111,4)))","v":""},{"$f":"IF(entry_2!I116=\"\",\"\",entry_2!W116&RIGHT(entry_2!X116,LEN(entry_2!X116)-2))","v":""},{"$f":"IF(entry_2!N116=\"\",\"\",entry_2!AA116&RIGHT(entry_2!AB116,LEN(entry_2!AB116)-2))","v":""}]
[{"$f":"IF(entry_2!B117=\"\",\"\",D112*100000000+28000000+entry_2!$AC$5*100+VALUE(RIGHT(entry_2!B117,2)))","v":""},{"$f":"IF(entry_2!B117=\"\",\"\",IF(entry_2!AC117>=10,entry_2!C117&entry_2!D117,IF(entry_2!AC117=9,entry_2!C117&\" \"&entry_2!D117,IF(entry_2!AC117=8,entry_2!C117&\"  \"&entry_2!D117,IF(entry_2!AC117=7,entry_2!C117&\"   \"&entry_2!D117,IF(entry_2!AC117=6,entry_2!C117&\"    \"&entry_2!D117,IF(entry_2!AC117=5,entry_2!C117&\"     \"&entry_2!D117,IF(entry_2!AC117=4,entry_2!C117&\"      \"&entry_2!D117,entry_2!C117&\"       \"&entry_2!D117)))))))&\"(\"&entry_2!G117&\")\")","v":""},{"$f":"IF(entry_2!B117=\"\",\"\",ASC(entry_2!E117&\" \"&entry_2!F117))","v":""},{"$f":"IF(entry_2!B117=\"\",\"\",IF(entry_2!H117=\"男\",1,2))","v":""},{"$f":"IF(entry_2!B117=\"\",\"\",VALUE(MID(A112,5,1)))","v":""},{"$f":"IF(entry_2!B117=\"\",\"\",VALUE(MID(A112,2,6)))","v":""},{"$f":"IF(entry_2!B117=\"\",\"\",VALUE(RIGHT(A112,4)))","v":""},{"$f":"IF(entry_2!I117=\"\",\"\",entry_2!W117&RIGHT(entry_2!X117,LEN(entry_2!X117)-2))","v":""},{"$f":"IF(entry_2!N117=\"\",\"\",entry_2!AA117&RIGHT(entry_2!AB117,LEN(entry_2!AB117)-2))","v":""}]
[{"$f":"IF(entry_2!B118=\"\",\"\",D113*100000000+28000000+entry_2!$AC$5*100+VALUE(RIGHT(entry_2!B118,2)))","v":""},{"$f":"IF(entry_2!B118=\"\",\"\",IF(entry_2!AC118>=10,entry_2!C118&entry_2!D118,IF(entry_2!AC118=9,entry_2!C118&\" \"&entry_2!D118,IF(entry_2!AC118=8,entry_2!C118&\"  \"&entry_2!D118,IF(entry_2!AC118=7,entry_2!C118&\"   \"&entry_2!D118,IF(entry_2!AC118=6,entry_2!C118&\"    \"&entry_2!D118,IF(entry_2!AC118=5,entry_2!C118&\"     \"&entry_2!D118,IF(entry_2!AC118=4,entry_2!C118&\"      \"&entry_2!D118,entry_2!C118&\"       \"&entry_2!D118)))))))&\"(\"&entry_2!G118&\")\")","v":""},{"$f":"IF(entry_2!B118=\"\",\"\",ASC(entry_2!E118&\" \"&entry_2!F118))","v":""},{"$f":"IF(entry_2!B118=\"\",\"\",IF(entry_2!H118=\"男\",1,2))","v":""},{"$f":"IF(entry_2!B118=\"\",\"\",VALUE(MID(A113,5,1)))","v":""},{"$f":"IF(entry_2!B118=\"\",\"\",VALUE(MID(A113,2,6)))","v":""},{"$f":"IF(entry_2!B118=\"\",\"\",VALUE(RIGHT(A113,4)))","v":""},{"$f":"IF(entry_2!I118=\"\",\"\",entry_2!W118&RIGHT(entry_2!X118,LEN(entry_2!X118)-2))","v":""},{"$f":"IF(entry_2!N118=\"\",\"\",entry_2!AA118&RIGHT(entry_2!AB118,LEN(entry_2!AB118)-2))","v":""}]
[{"$f":"IF(entry_2!B119=\"\",\"\",D114*100000000+28000000+entry_2!$AC$5*100+VALUE(RIGHT(entry_2!B119,2)))","v":""},{"$f":"IF(entry_2!B119=\"\",\"\",IF(entry_2!AC119>=10,entry_2!C119&entry_2!D119,IF(entry_2!AC119=9,entry_2!C119&\" \"&entry_2!D119,IF(entry_2!AC119=8,entry_2!C119&\"  \"&entry_2!D119,IF(entry_2!AC119=7,entry_2!C119&\"   \"&entry_2!D119,IF(entry_2!AC119=6,entry_2!C119&\"    \"&entry_2!D119,IF(entry_2!AC119=5,entry_2!C119&\"     \"&entry_2!D119,IF(entry_2!AC119=4,entry_2!C119&\"      \"&entry_2!D119,entry_2!C119&\"       \"&entry_2!D119)))))))&\"(\"&entry_2!G119&\")\")","v":""},{"$f":"IF(entry_2!B119=\"\",\"\",ASC(entry_2!E119&\" \"&entry_2!F119))","v":""},{"$f":"IF(entry_2!B119=\"\",\"\",IF(entry_2!H119=\"男\",1,2))","v":""},{"$f":"IF(entry_2!B119=\"\",\"\",VALUE(MID(A114,5,1)))","v":""},{"$f":"IF(entry_2!B119=\"\",\"\",VALUE(MID(A114,2,6)))","v":""},{"$f":"IF(entry_2!B119=\"\",\"\",VALUE(RIGHT(A114,4)))","v":""},{"$f":"IF(entry_2!I119=\"\",\"\",entry_2!W119&RIGHT(entry_2!X119,LEN(entry_2!X119)-2))","v":""},{"$f":"IF(entry_2!N119=\"\",\"\",entry_2!AA119&RIGHT(entry_2!AB119,LEN(entry_2!AB119)-2))","v":""}]
[{"$f":"IF(entry_2!B120=\"\",\"\",D115*100000000+28000000+entry_2!$AC$5*100+VALUE(RIGHT(entry_2!B120,2)))","v":""},{"$f":"IF(entry_2!B120=\"\",\"\",IF(entry_2!AC120>=10,entry_2!C120&entry_2!D120,IF(entry_2!AC120=9,entry_2!C120&\" \"&entry_2!D120,IF(entry_2!AC120=8,entry_2!C120&\"  \"&entry_2!D120,IF(entry_2!AC120=7,entry_2!C120&\"   \"&entry_2!D120,IF(entry_2!AC120=6,entry_2!C120&\"    \"&entry_2!D120,IF(entry_2!AC120=5,entry_2!C120&\"     \"&entry_2!D120,IF(entry_2!AC120=4,entry_2!C120&\"      \"&entry_2!D120,entry_2!C120&\"       \"&entry_2!D120)))))))&\"(\"&entry_2!G120&\")\")","v":""},{"$f":"IF(entry_2!B120=\"\",\"\",ASC(entry_2!E120&\" \"&entry_2!F120))","v":""},{"$f":"IF(entry_2!B120=\"\",\"\",IF(entry_2!H120=\"男\",1,2))","v":""},{"$f":"IF(entry_2!B120=\"\",\"\",VALUE(MID(A115,5,1)))","v":""},{"$f":"IF(entry_2!B120=\"\",\"\",VALUE(MID(A115,2,6)))","v":""},{"$f":"IF(entry_2!B120=\"\",\"\",VALUE(RIGHT(A115,4)))","v":""},{"$f":"IF(entry_2!I120=\"\",\"\",entry_2!W120&RIGHT(entry_2!X120,LEN(entry_2!X120)-2))","v":""},{"$f":"IF(entry_2!N120=\"\",\"\",entry_2!AA120&RIGHT(entry_2!AB120,LEN(entry_2!AB120)-2))","v":""}]
[{"$f":"IF(entry_2!B121=\"\",\"\",D116*100000000+28000000+entry_2!$AC$5*100+VALUE(RIGHT(entry_2!B121,2)))","v":""},{"$f":"IF(entry_2!B121=\"\",\"\",IF(entry_2!AC121>=10,entry_2!C121&entry_2!D121,IF(entry_2!AC121=9,entry_2!C121&\" \"&entry_2!D121,IF(entry_2!AC121=8,entry_2!C121&\"  \"&entry_2!D121,IF(entry_2!AC121=7,entry_2!C121&\"   \"&entry_2!D121,IF(entry_2!AC121=6,entry_2!C121&\"    \"&entry_2!D121,IF(entry_2!AC121=5,entry_2!C121&\"     \"&entry_2!D121,IF(entry_2!AC121=4,entry_2!C121&\"      \"&entry_2!D121,entry_2!C121&\"       \"&entry_2!D121)))))))&\"(\"&entry_2!G121&\")\")","v":""},{"$f":"IF(entry_2!B121=\"\",\"\",ASC(entry_2!E121&\" \"&entry_2!F121))","v":""},{"$f":"IF(entry_2!B121=\"\",\"\",IF(entry_2!H121=\"男\",1,2))","v":""},{"$f":"IF(entry_2!B121=\"\",\"\",VALUE(MID(A116,5,1)))","v":""},{"$f":"IF(entry_2!B121=\"\",\"\",VALUE(MID(A116,2,6)))","v":""},{"$f":"IF(entry_2!B121=\"\",\"\",VALUE(RIGHT(A116,4)))","v":""},{"$f":"IF(entry_2!I121=\"\",\"\",entry_2!W121&RIGHT(entry_2!X121,LEN(entry_2!X121)-2))","v":""},{"$f":"IF(entry_2!N121=\"\",\"\",entry_2!AA121&RIGHT(entry_2!AB121,LEN(entry_2!AB121)-2))","v":""}]
[{"$f":"IF(entry_2!B122=\"\",\"\",D117*100000000+28000000+entry_2!$AC$5*100+VALUE(RIGHT(entry_2!B122,2)))","v":""},{"$f":"IF(entry_2!B122=\"\",\"\",IF(entry_2!AC122>=10,entry_2!C122&entry_2!D122,IF(entry_2!AC122=9,entry_2!C122&\" \"&entry_2!D122,IF(entry_2!AC122=8,entry_2!C122&\"  \"&entry_2!D122,IF(entry_2!AC122=7,entry_2!C122&\"   \"&entry_2!D122,IF(entry_2!AC122=6,entry_2!C122&\"    \"&entry_2!D122,IF(entry_2!AC122=5,entry_2!C122&\"     \"&entry_2!D122,IF(entry_2!AC122=4,entry_2!C122&\"      \"&entry_2!D122,entry_2!C122&\"       \"&entry_2!D122)))))))&\"(\"&entry_2!G122&\")\")","v":""},{"$f":"IF(entry_2!B122=\"\",\"\",ASC(entry_2!E122&\" \"&entry_2!F122))","v":""},{"$f":"IF(entry_2!B122=\"\",\"\",IF(entry_2!H122=\"男\",1,2))","v":""},{"$f":"IF(entry_2!B122=\"\",\"\",VALUE(MID(A117,5,1)))","v":""},{"$f":"IF(entry_2!B122=\"\",\"\",VALUE(MID(A117,2,6)))","v":""},{"$f":"IF(entry_2!B122=\"\",\"\",VALUE(RIGHT(A117,4)))","v":""},{"$f":"IF(entry_2!I122=\"\",\"\",entry_2!W122&RIGHT(entry_2!X122,LEN(entry_2!X122)-2))","v":""},{"$f":"IF(entry_2!N122=\"\",\"\",entry_2!AA122&RIGHT(entry_2!AB122,LEN(entry_2!AB122)-2))","v":""}]
[{"$f":"IF(entry_2!B123=\"\",\"\",D118*100000000+28000000+entry_2!$AC$5*100+VALUE(RIGHT(entry_2!B123,2)))","v":""},{"$f":"IF(entry_2!B123=\"\",\"\",IF(entry_2!AC123>=10,entry_2!C123&entry_2!D123,IF(entry_2!AC123=9,entry_2!C123&\" \"&entry_2!D123,IF(entry_2!AC123=8,entry_2!C123&\"  \"&entry_2!D123,IF(entry_2!AC123=7,entry_2!C123&\"   \"&entry_2!D123,IF(entry_2!AC123=6,entry_2!C123&\"    \"&entry_2!D123,IF(entry_2!AC123=5,entry_2!C123&\"     \"&entry_2!D123,IF(entry_2!AC123=4,entry_2!C123&\"      \"&entry_2!D123,entry_2!C123&\"       \"&entry_2!D123)))))))&\"(\"&entry_2!G123&\")\")","v":""},{"$f":"IF(entry_2!B123=\"\",\"\",ASC(entry_2!E123&\" \"&entry_2!F123))","v":""},{"$f":"IF(entry_2!B123=\"\",\"\",IF(entry_2!H123=\"男\",1,2))","v":""},{"$f":"IF(entry_2!B123=\"\",\"\",VALUE(MID(A118,5,1)))","v":""},{"$f":"IF(entry_2!B123=\"\",\"\",VALUE(MID(A118,2,6)))","v":""},{"$f":"IF(entry_2!B123=\"\",\"\",VALUE(RIGHT(A118,4)))","v":""},{"$f":"IF(entry_2!I123=\"\",\"\",entry_2!W123&RIGHT(entry_2!X123,LEN(entry_2!X123)-2))","v":""},{"$f":"IF(entry_2!N123=\"\",\"\",entry_2!AA123&RIGHT(entry_2!AB123,LEN(entry_2!AB123)-2))","v":""}]
[{"$f":"IF(entry_2!B124=\"\",\"\",D119*100000000+28000000+entry_2!$AC$5*100+VALUE(RIGHT(entry_2!B124,2)))","v":""},{"$f":"IF(entry_2!B124=\"\",\"\",IF(entry_2!AC124>=10,entry_2!C124&entry_2!D124,IF(entry_2!AC124=9,entry_2!C124&\" \"&entry_2!D124,IF(entry_2!AC124=8,entry_2!C124&\"  \"&entry_2!D124,IF(entry_2!AC124=7,entry_2!C124&\"   \"&entry_2!D124,IF(entry_2!AC124=6,entry_2!C124&\"    \"&entry_2!D124,IF(entry_2!AC124=5,entry_2!C124&\"     \"&entry_2!D124,IF(entry_2!AC124=4,entry_2!C124&\"      \"&entry_2!D124,entry_2!C124&\"       \"&entry_2!D124)))))))&\"(\"&entry_2!G124&\")\")","v":""},{"$f":"IF(entry_2!B124=\"\",\"\",ASC(entry_2!E124&\" \"&entry_2!F124))","v":""},{"$f":"IF(entry_2!B124=\"\",\"\",IF(entry_2!H124=\"男\",1,2))","v":""},{"$f":"IF(entry_2!B124=\"\",\"\",VALUE(MID(A119,5,1)))","v":""},{"$f":"IF(entry_2!B124=\"\",\"\",VALUE(MID(A119,2,6)))","v":""},{"$f":"IF(entry_2!B124=\"\",\"\",VALUE(RIGHT(A119,4)))","v":""},{"$f":"IF(entry_2!I124=\"\",\"\",entry_2!W124&RIGHT(entry_2!X124,LEN(entry_2!X124)-2))","v":""},{"$f":"IF(entry_2!N124=\"\",\"\",entry_2!AA124&RIGHT(entry_2!AB124,LEN(entry_2!AB124)-2))","v":""}]
[{"$f":"IF(entry_2!B125=\"\",\"\",D120*100000000+28000000+entry_2!$AC$5*100+VALUE(RIGHT(entry_2!B125,2)))","v":""},{"$f":"IF(entry_2!B125=\"\",\"\",IF(entry_2!AC125>=10,entry_2!C125&entry_2!D125,IF(entry_2!AC125=9,entry_2!C125&\" \"&entry_2!D125,IF(entry_2!AC125=8,entry_2!C125&\"  \"&entry_2!D125,IF(entry_2!AC125=7,entry_2!C125&\"   \"&entry_2!D125,IF(entry_2!AC125=6,entry_2!C125&\"    \"&entry_2!D125,IF(entry_2!AC125=5,entry_2!C125&\"     \"&entry_2!D125,IF(entry_2!AC125=4,entry_2!C125&\"      \"&entry_2!D125,entry_2!C125&\"       \"&entry_2!D125)))))))&\"(\"&entry_2!G125&\")\")","v":""},{"$f":"IF(entry_2!B125=\"\",\"\",ASC(entry_2!E125&\" \"&entry_2!F125))","v":""},{"$f":"IF(entry_2!B125=\"\",\"\",IF(entry_2!H125=\"男\",1,2))","v":""},{"$f":"IF(entry_2!B125=\"\",\"\",VALUE(MID(A120,5,1)))","v":""},{"$f":"IF(entry_2!B125=\"\",\"\",VALUE(MID(A120,2,6)))","v":""},{"$f":"IF(entry_2!B125=\"\",\"\",VALUE(RIGHT(A120,4)))","v":""},{"$f":"IF(entry_2!I125=\"\",\"\",entry_2!W125&RIGHT(entry_2!X125,LEN(entry_2!X125)-2))","v":""},{"$f":"IF(entry_2!N125=\"\",\"\",entry_2!AA125&RIGHT(entry_2!AB125,LEN(entry_2!AB125)-2))","v":""}]
[{"$f":"IF(entry_2!B126=\"\",\"\",D121*100000000+28000000+entry_2!$AC$5*100+VALUE(RIGHT(entry_2!B126,2)))","v":""},{"$f":"IF(entry_2!B126=\"\",\"\",IF(entry_2!AC126>=10,entry_2!C126&entry_2!D126,IF(entry_2!AC126=9,entry_2!C126&\" \"&entry_2!D126,IF(entry_2!AC126=8,entry_2!C126&\"  \"&entry_2!D126,IF(entry_2!AC126=7,entry_2!C126&\"   \"&entry_2!D126,IF(entry_2!AC126=6,entry_2!C126&\"    \"&entry_2!D126,IF(entry_2!AC126=5,entry_2!C126&\"     \"&entry_2!D126,IF(entry_2!AC126=4,entry_2!C126&\"      \"&entry_2!D126,entry_2!C126&\"       \"&entry_2!D126)))))))&\"(\"&entry_2!G126&\")\")","v":""},{"$f":"IF(entry_2!B126=\"\",\"\",ASC(entry_2!E126&\" \"&entry_2!F126))","v":""},{"$f":"IF(entry_2!B126=\"\",\"\",IF(entry_2!H126=\"男\",1,2))","v":""},{"$f":"IF(entry_2!B126=\"\",\"\",VALUE(MID(A121,5,1)))","v":""},{"$f":"IF(entry_2!B126=\"\",\"\",VALUE(MID(A121,2,6)))","v":""},{"$f":"IF(entry_2!B126=\"\",\"\",VALUE(RIGHT(A121,4)))","v":""},{"$f":"IF(entry_2!I126=\"\",\"\",entry_2!W126&RIGHT(entry_2!X126,LEN(entry_2!X126)-2))","v":""},{"$f":"IF(entry_2!N126=\"\",\"\",entry_2!AA126&RIGHT(entry_2!AB126,LEN(entry_2!AB126)-2))","v":""}]

{"sheet":"print_out","index":3,"n_rows":149,"n_cols":18,"rows_kept":149,"cut":false,"hidden":false,"merged":[[26,0,26,1],[19,0,19,1],[20,0,20,1],[21,0,21,1],[23,0,23,1],[24,0,24,1],[25,0,25,1],[22,0,22,1],[18,0,18,1],[18,6,18,9],[14,1,14,10],[15,0,15,1],[16,0,16,1],[17,0,17,1],[15,6,15,9],[16,6,16,9],[17,6,17,9],[28,6,28,8],[28,11,28,13],[19,6,19,9],[20,6,20,9],[21,6,21,9],[22,6,22,9],[23,6,23,9],[25,6,25,9],[26,6,26,9],[24,6,24,9],[22,12,23,13],[13,0,13,1],[0,1,2,5],[4,0,4,14],[7,10,7,13],[8,10,8,13],[11,10,11,13],[11,6,11,9],[12,6,12,9],[6,10,6,13],[10,0,10,1],[13,6,13,9],[13,10,13,13],[6,0,6,1],[11,0,11,1],[12,0,12,1],[9,2,9,5],[7,0,7,1],[8,0,8,1],[9,0,9,1],[9,10,9,13],[10,10,10,13],[12,10,12,13],[6,6,6,9],[9,6,9,9],[10,6,10,9],[7,6,7,9],[8,6,8,9],[16,12,17,13],[15,12,15,13],[18,12,18,13],[19,12,20,13],[21,12,21,13]]}
[null,"このﾌｧｲﾙと作成したCSVﾌｧｲﾙの2つをﾒｰﾙで送付9/8(火) 必着\nkoukou@haaa.jp\nこのシートは印刷し郵送　9/8(火)必着\n　高体連陸上競技部事務局宛て(県立西宮高校)"]
[]
[]
[]
[{"$f":"entry_1!A1&\"申込用紙\"","v":"2026年度秋季記録会(高等学校の部）申込用紙"}]
[]
["学校番号:",null,{"$f":"entry_1!D6","v":0},null,null,null,"学校長名:",null,null,null,{"$f":"entry_1!D11","v":0},null,null,null,"印"]
["学校名:",null,{"$f":"entry_1!D7","v":""},null,null,null,"申込責任者:",null,null,null,{"$f":"entry_1!D12","v":0},null,null,null,"印"]
["郵便番号:",null,{"$f":"entry_1!D8","v":""},null,null,null,"緊急連絡先:",null,null,null,{"$f":"entry_1!D13","v":0}]
["所在地:",null,{"$f":"entry_1!D9","v":""},null,null,null,"審判員氏名:",null,null,null,{"$f":"entry_1!D14","v":0}]
["電話番号:",null,{"$f":"entry_1!D10","v":""},null,null,null,"審判員氏名:",null,null,null,{"$f":"IF(entry_1!D15=\"\",\"\",entry_1!D15)","v":""}]
["申込人数男子:",null,{"$f":"entry_2!J4&\"名\"","v":"0名"},{"$f":"M17&\"種目\"","v":"0種目"},null,null,"審判員氏名:",null,null,null,{"$f":"IF(entry_1!D16=\"\",\"\",entry_1!D16)","v":""}]
["申込人数女子:",null,{"$f":"entry_2!J5&\"名\"","v":"0名"},{"$f":"M20&\"種目\"","v":"0種目"},null,null,"審判員氏名:",null,null,null,{"$f":"IF(entry_1!D17=\"\",\"\",entry_1!D17)","v":""}]
["合計人数:",null,{"$f":"entry_2!J4+entry_2!J5&\"名\"","v":"0名"},{"$f":"M23&\"種目\"","v":"0種目"},null,null,"参加料合計",null,null,null,{"$f":"entry_2!X4","v":0}]
[null,"種目別申込人数集計"]
["ﾄﾗｯｸ種目",null,"男","女",null,"ﾌｨｰﾙﾄﾞ種目","男",null,null,null,"女",null,"男子"]
[{"$f":"DATA!A2","v":"100m"},null,{"$f":"COUNTIF($Q$30:$R$149,C$16&$A17)","v":0},0,null,{"$f":"DATA!A8","v":"走高跳"},{"$f":"COUNTIF($Q$30:$R$149,G$16&$F17)","v":0},null,null,null,{"$f":"COUNTIF($Q$30:$R$149,K$16&$F17)","v":0},null,{"$f":"SUM(C17:C23,G17:J23)","v":0}]
[{"$f":"DATA!A3","v":"300m"},null,0,0,null,{"$f":"DATA!A10","v":"三段跳(女子)"},0,null,null,null,0]
[{"$f":"DATA!A4","v":"3000m(女子)"},null,0,0,null,{"$f":"DATA!A9","v":"走幅跳(男子)"},0,null,null,null,0,null,"女子"]
[{"$f":"DATA!A5","v":"5000m(男子)"},null,0,0,null,{"$f":"DATA!A11","v":"砲丸投(6.00kg男)"},0,null,null,null,0,null,{"$f":"SUM(D17:D23,K17:K23)","v":0}]
[{"$f":"DATA!A6","v":"110mH"},null,0,0,null,{"$f":"DATA!A12","v":"砲丸投(4.00kg女)"},0,null,null,null,0]
[{"$f":"DATA!A7","v":"100mH"},null,0,0,null,{"$f":"DATA!A13","v":"円盤投(男子)"},0,null,null,null,0,null,"合計"]
[null,null,null,null,null,{"$f":"DATA!A14","v":"円盤投(女子)"},0,null,null,null,0,null,{"$f":"SUM(C17:D23,G17:K23)","v":0}]
[]
[]
[]
[]
[]
["NO","登録番号","氏名　学年","ﾌﾘｶﾞﾅ","性別","申込種目１","記録",null,null,null,"申込種目２","記録"]
[1,{"$f":"MAT_CSV!G2","v":""},{"$f":"MAT_CSV!B2","v":""},{"$f":"MAT_CSV!C2","v":""},{"$f":"IF(entry_2!H7=\"\",\"\",entry_2!H7)","v":""},{"$f":"IF(entry_2!I7=\"\",\"\",entry_2!I7)","v":""},{"$f":"IF(entry_2!J7=\"\",\"\",entry_2!J7)","v":""},{"$f":"IF(entry_2!K7=\"\",\"\",entry_2!K7)","v":""},{"$f":"IF(entry_2!L7=\"\",\"\",entry_2!L7)","v":""},{"$f":"IF(entry_2!M7=\"\",\"\",entry_2!M7)","v":""},{"$f":"IF(entry_2!N7=\"\",\"\",entry_2!N7)","v":""},{"$f":"IF(entry_2!O7=\"\",\"\",entry_2!O7)","v":""},{"$f":"IF(entry_2!P7=\"\",\"\",entry_2!P7)","v":""},{"$f":"IF(entry_2!Q7=\"\",\"\",entry_2!Q7)","v":""},{"$f":"IF(entry_2!R7=\"\",\"\",entry_2!R7)","v":""},null,{"$f":"E30&F30","v":""},{"$f":"E30&K30","v":""}]
[2,{"$f":"MAT_CSV!G3","v":""},{"$f":"MAT_CSV!B3","v":""},{"$f":"MAT_CSV!C3","v":""},{"$f":"IF(entry_2!H8=\"\",\"\",entry_2!H8)","v":""},{"$f":"IF(entry_2!I8=\"\",\"\",entry_2!I8)","v":""},{"$f":"IF(entry_2!J8=\"\",\"\",entry_2!J8)","v":""},{"$f":"IF(entry_2!K8=\"\",\"\",entry_2!K8)","v":""},{"$f":"IF(entry_2!L8=\"\",\"\",entry_2!L8)","v":""},{"$f":"IF(entry_2!M8=\"\",\"\",entry_2!M8)","v":""},{"$f":"IF(entry_2!N8=\"\",\"\",entry_2!N8)","v":""},{"$f":"IF(entry_2!O8=\"\",\"\",entry_2!O8)","v":""},{"$f":"IF(entry_2!P8=\"\",\"\",entry_2!P8)","v":""},{"$f":"IF(entry_2!Q8=\"\",\"\",entry_2!Q8)","v":""},null,null,{"$f":"E31&F31","v":""},{"$f":"E31&K31","v":""}]
[3,{"$f":"MAT_CSV!G4","v":""},{"$f":"MAT_CSV!B4","v":""},{"$f":"MAT_CSV!C4","v":""},{"$f":"IF(entry_2!H9=\"\",\"\",entry_2!H9)","v":""},{"$f":"IF(entry_2!I9=\"\",\"\",entry_2!I9)","v":""},{"$f":"IF(entry_2!J9=\"\",\"\",entry_2!J9)","v":""},{"$f":"IF(entry_2!K9=\"\",\"\",entry_2!K9)","v":""},{"$f":"IF(entry_2!L9=\"\",\"\",entry_2!L9)","v":""},{"$f":"IF(entry_2!M9=\"\",\"\",entry_2!M9)","v":""},{"$f":"IF(entry_2!N9=\"\",\"\",entry_2!N9)","v":""},{"$f":"IF(entry_2!O9=\"\",\"\",entry_2!O9)","v":""},{"$f":"IF(entry_2!P9=\"\",\"\",entry_2!P9)","v":""},{"$f":"IF(entry_2!Q9=\"\",\"\",entry_2!Q9)","v":""},null,null,"",""]
[4,{"$f":"MAT_CSV!G5","v":""},{"$f":"MAT_CSV!B5","v":""},{"$f":"MAT_CSV!C5","v":""},{"$f":"IF(entry_2!H10=\"\",\"\",entry_2!H10)","v":""},{"$f":"IF(entry_2!I10=\"\",\"\",entry_2!I10)","v":""},{"$f":"IF(entry_2!J10=\"\",\"\",entry_2!J10)","v":""},{"$f":"IF(entry_2!K10=\"\",\"\",entry_2!K10)","v":""},{"$f":"IF(entry_2!L10=\"\",\"\",entry_2!L10)","v":""},{"$f":"IF(entry_2!M10=\"\",\"\",entry_2!M10)","v":""},{"$f":"IF(entry_2!N10=\"\",\"\",entry_2!N10)","v":""},{"$f":"IF(entry_2!O10=\"\",\"\",entry_2!O10)","v":""},{"$f":"IF(entry_2!P10=\"\",\"\",entry_2!P10)","v":""},{"$f":"IF(entry_2!Q10=\"\",\"\",entry_2!Q10)","v":""},null,null,"",""]
[5,{"$f":"MAT_CSV!G6","v":""},{"$f":"MAT_CSV!B6","v":""},{"$f":"MAT_CSV!C6","v":""},{"$f":"IF(entry_2!H11=\"\",\"\",entry_2!H11)","v":""},{"$f":"IF(entry_2!I11=\"\",\"\",entry_2!I11)","v":""},{"$f":"IF(entry_2!J11=\"\",\"\",entry_2!J11)","v":""},{"$f":"IF(entry_2!K11=\"\",\"\",entry_2!K11)","v":""},{"$f":"IF(entry_2!L11=\"\",\"\",entry_2!L11)","v":""},{"$f":"IF(entry_2!M11=\"\",\"\",entry_2!M11)","v":""},{"$f":"IF(entry_2!N11=\"\",\"\",entry_2!N11)","v":""},{"$f":"IF(entry_2!O11=\"\",\"\",entry_2!O11)","v":""},{"$f":"IF(entry_2!P11=\"\",\"\",entry_2!P11)","v":""},{"$f":"IF(entry_2!Q11=\"\",\"\",entry_2!Q11)","v":""},null,null,"",""]
[6,{"$f":"MAT_CSV!G7","v":""},{"$f":"MAT_CSV!B7","v":""},{"$f":"MAT_CSV!C7","v":""},{"$f":"IF(entry_2!H12=\"\",\"\",entry_2!H12)","v":""},{"$f":"IF(entry_2!I12=\"\",\"\",entry_2!I12)","v":""},{"$f":"IF(entry_2!J12=\"\",\"\",entry_2!J12)","v":""},{"$f":"IF(entry_2!K12=\"\",\"\",entry_2!K12)","v":""},{"$f":"IF(entry_2!L12=\"\",\"\",entry_2!L12)","v":""},{"$f":"IF(entry_2!M12=\"\",\"\",entry_2!M12)","v":""},{"$f":"IF(entry_2!N12=\"\",\"\",entry_2!N12)","v":""},{"$f":"IF(entry_2!O12=\"\",\"\",entry_2!O12)","v":""},{"$f":"IF(entry_2!P12=\"\",\"\",entry_2!P12)","v":""},{"$f":"IF(entry_2!Q12=\"\",\"\",entry_2!Q12)","v":""},null,null,"",""]
[7,{"$f":"MAT_CSV!G8","v":""},{"$f":"MAT_CSV!B8","v":""},{"$f":"MAT_CSV!C8","v":""},{"$f":"IF(entry_2!H13=\"\",\"\",entry_2!H13)","v":""},{"$f":"IF(entry_2!I13=\"\",\"\",entry_2!I13)","v":""},{"$f":"IF(entry_2!J13=\"\",\"\",entry_2!J13)","v":""},{"$f":"IF(entry_2!K13=\"\",\"\",entry_2!K13)","v":""},{"$f":"IF(entry_2!L13=\"\",\"\",entry_2!L13)","v":""},{"$f":"IF(entry_2!M13=\"\",\"\",entry_2!M13)","v":""},{"$f":"IF(entry_2!N13=\"\",\"\",entry_2!N13)","v":""},{"$f":"IF(entry_2!O13=\"\",\"\",entry_2!O13)","v":""},{"$f":"IF(entry_2!P13=\"\",\"\",entry_2!P13)","v":""},{"$f":"IF(entry_2!Q13=\"\",\"\",entry_2!Q13)","v":""},null,null,"",""]
[8,{"$f":"MAT_CSV!G9","v":""},{"$f":"MAT_CSV!B9","v":""},{"$f":"MAT_CSV!C9","v":""},{"$f":"IF(entry_2!H14=\"\",\"\",entry_2!H14)","v":""},{"$f":"IF(entry_2!I14=\"\",\"\",entry_2!I14)","v":""},{"$f":"IF(entry_2!J14=\"\",\"\",entry_2!J14)","v":""},{"$f":"IF(entry_2!K14=\"\",\"\",entry_2!K14)","v":""},{"$f":"IF(entry_2!L14=\"\",\"\",entry_2!L14)","v":""},{"$f":"IF(entry_2!M14=\"\",\"\",entry_2!M14)","v":""},{"$f":"IF(entry_2!N14=\"\",\"\",entry_2!N14)","v":""},{"$f":"IF(entry_2!O14=\"\",\"\",entry_2!O14)","v":""},{"$f":"IF(entry_2!P14=\"\",\"\",entry_2!P14)","v":""},{"$f":"IF(entry_2!Q14=\"\",\"\",entry_2!Q14)","v":""},null,null,"",""]
[9,{"$f":"MAT_CSV!G10","v":""},{"$f":"MAT_CSV!B10","v":""},{"$f":"MAT_CSV!C10","v":""},{"$f":"IF(entry_2!H15=\"\",\"\",entry_2!H15)","v":""},{"$f":"IF(entry_2!I15=\"\",\"\",entry_2!I15)","v":""},{"$f":"IF(entry_2!J15=\"\",\"\",entry_2!J15)","v":""},{"$f":"IF(entry_2!K15=\"\",\"\",entry_2!K15)","v":""},{"$f":"IF(entry_2!L15=\"\",\"\",entry_2!L15)","v":""},{"$f":"IF(entry_2!M15=\"\",\"\",entry_2!M15)","v":""},{"$f":"IF(entry_2!N15=\"\",\"\",entry_2!N15)","v":""},{"$f":"IF(entry_2!O15=\"\",\"\",entry_2!O15)","v":""},{"$f":"IF(entry_2!P15=\"\",\"\",entry_2!P15)","v":""},{"$f":"IF(entry_2!Q15=\"\",\"\",entry_2!Q15)","v":""},null,null,"",""]
[10,{"$f":"MAT_CSV!G11","v":""},{"$f":"MAT_CSV!B11","v":""},{"$f":"MAT_CSV!C11","v":""},{"$f":"IF(entry_2!H16=\"\",\"\",entry_2!H16)","v":""},{"$f":"IF(entry_2!I16=\"\",\"\",entry_2!I16)","v":""},{"$f":"IF(entry_2!J16=\"\",\"\",entry_2!J16)","v":""},{"$f":"IF(entry_2!K16=\"\",\"\",entry_2!K16)","v":""},{"$f":"IF(entry_2!L16=\"\",\"\",entry_2!L16)","v":""},{"$f":"IF(entry_2!M16=\"\",\"\",entry_2!M16)","v":""},{"$f":"IF(entry_2!N16=\"\",\"\",entry_2!N16)","v":""},{"$f":"IF(entry_2!O16=\"\",\"\",entry_2!O16)","v":""},{"$f":"IF(entry_2!P16=\"\",\"\",entry_2!P16)","v":""},{"$f":"IF(entry_2!Q16=\"\",\"\",entry_2!Q16)","v":""},null,null,"",""]
[11,{"$f":"MAT_CSV!G12","v":""},{"$f":"MAT_CSV!B12","v":""},{"$f":"MAT_CSV!C12","v":""},{"$f":"IF(entry_2!H17=\"\",\"\",entry_2!H17)","v":""},{"$f":"IF(entry_2!I17=\"\",\"\",entry_2!I17)","v":""},{"$f":"IF(entry_2!J17=\"\",\"\",entry_2!J17)","v":""},{"$f":"IF(entry_2!K17=\"\",\"\",entry_2!K17)","v":""},{"$f":"IF(entry_2!L17=\"\",\"\",entry_2!L17)","v":""},{"$f":"IF(entry_2!M17=\"\",\"\",entry_2!M17)","v":""},{"$f":"IF(entry_2!N17=\"\",\"\",entry_2!N17)","v":""},{"$f":"IF(entry_2!O17=\"\",\"\",entry_2!O17)","v":""},{"$f":"IF(entry_2!P17=\"\",\"\",entry_2!P17)","v":""},{"$f":"IF(entry_2!Q17=\"\",\"\",entry_2!Q17)","v":""},null,null,"",""]
[12,{"$f":"MAT_CSV!G13","v":""},{"$f":"MAT_CSV!B13","v":""},{"$f":"MAT_CSV!C13","v":""},{"$f":"IF(entry_2!H18=\"\",\"\",entry_2!H18)","v":""},{"$f":"IF(entry_2!I18=\"\",\"\",entry_2!I18)","v":""},{"$f":"IF(entry_2!J18=\"\",\"\",entry_2!J18)","v":""},{"$f":"IF(entry_2!K18=\"\",\"\",entry_2!K18)","v":""},{"$f":"IF(entry_2!L18=\"\",\"\",entry_2!L18)","v":""},{"$f":"IF(entry_2!M18=\"\",\"\",entry_2!M18)","v":""},{"$f":"IF(entry_2!N18=\"\",\"\",entry_2!N18)","v":""},{"$f":"IF(entry_2!O18=\"\",\"\",entry_2!O18)","v":""},{"$f":"IF(entry_2!P18=\"\",\"\",entry_2!P18)","v":""},{"$f":"IF(entry_2!Q18=\"\",\"\",entry_2!Q18)","v":""},null,null,"",""]
[13,{"$f":"MAT_CSV!G14","v":""},{"$f":"MAT_CSV!B14","v":""},{"$f":"MAT_CSV!C14","v":""},{"$f":"IF(entry_2!H19=\"\",\"\",entry_2!H19)","v":""},{"$f":"IF(entry_2!I19=\"\",\"\",entry_2!I19)","v":""},{"$f":"IF(entry_2!J19=\"\",\"\",entry_2!J19)","v":""},{"$f":"IF(entry_2!K19=\"\",\"\",entry_2!K19)","v":""},{"$f":"IF(entry_2!L19=\"\",\"\",entry_2!L19)","v":""},{"$f":"IF(entry_2!M19=\"\",\"\",entry_2!M19)","v":""},{"$f":"IF(entry_2!N19=\"\",\"\",entry_2!N19)","v":""},{"$f":"IF(entry_2!O19=\"\",\"\",entry_2!O19)","v":""},{"$f":"IF(entry_2!P19=\"\",\"\",entry_2!P19)","v":""},{"$f":"IF(entry_2!Q19=\"\",\"\",entry_2!Q19)","v":""},null,null,"",""]
[14,{"$f":"MAT_CSV!G15","v":""},{"$f":"MAT_CSV!B15","v":""},{"$f":"MAT_CSV!C15","v":""},{"$f":"IF(entry_2!H20=\"\",\"\",entry_2!H20)","v":""},{"$f":"IF(entry_2!I20=\"\",\"\",entry_2!I20)","v":""},{"$f":"IF(entry_2!J20=\"\",\"\",entry_2!J20)","v":""},{"$f":"IF(entry_2!K20=\"\",\"\",entry_2!K20)","v":""},{"$f":"IF(entry_2!L20=\"\",\"\",entry_2!L20)","v":""},{"$f":"IF(entry_2!M20=\"\",\"\",entry_2!M20)","v":""},{"$f":"IF(entry_2!N20=\"\",\"\",entry_2!N20)","v":""},{"$f":"IF(entry_2!O20=\"\",\"\",entry_2!O20)","v":""},{"$f":"IF(entry_2!P20=\"\",\"\",entry_2!P20)","v":""},{"$f":"IF(entry_2!Q20=\"\",\"\",entry_2!Q20)","v":""},null,null,"",""]
[15,{"$f":"MAT_CSV!G16","v":""},{"$f":"MAT_CSV!B16","v":""},{"$f":"MAT_CSV!C16","v":""},{"$f":"IF(entry_2!H21=\"\",\"\",entry_2!H21)","v":""},{"$f":"IF(entry_2!I21=\"\",\"\",entry_2!I21)","v":""},{"$f":"IF(entry_2!J21=\"\",\"\",entry_2!J21)","v":""},{"$f":"IF(entry_2!K21=\"\",\"\",entry_2!K21)","v":""},{"$f":"IF(entry_2!L21=\"\",\"\",entry_2!L21)","v":""},{"$f":"IF(entry_2!M21=\"\",\"\",entry_2!M21)","v":""},{"$f":"IF(entry_2!N21=\"\",\"\",entry_2!N21)","v":""},{"$f":"IF(entry_2!O21=\"\",\"\",entry_2!O21)","v":""},{"$f":"IF(entry_2!P21=\"\",\"\",entry_2!P21)","v":""},{"$f":"IF(entry_2!Q21=\"\",\"\",entry_2!Q21)","v":""},null,null,"",""]
[16,{"$f":"MAT_CSV!G17","v":""},{"$f":"MAT_CSV!B17","v":""},{"$f":"MAT_CSV!C17","v":""},{"$f":"IF(entry_2!H22=\"\",\"\",entry_2!H22)","v":""},{"$f":"IF(entry_2!I22=\"\",\"\",entry_2!I22)","v":""},{"$f":"IF(entry_2!J22=\"\",\"\",entry_2!J22)","v":""},{"$f":"IF(entry_2!K22=\"\",\"\",entry_2!K22)","v":""},{"$f":"IF(entry_2!L22=\"\",\"\",entry_2!L22)","v":""},{"$f":"IF(entry_2!M22=\"\",\"\",entry_2!M22)","v":""},{"$f":"IF(entry_2!N22=\"\",\"\",entry_2!N22)","v":""},{"$f":"IF(entry_2!O22=\"\",\"\",entry_2!O22)","v":""},{"$f":"IF(entry_2!P22=\"\",\"\",entry_2!P22)","v":""},{"$f":"IF(entry_2!Q22=\"\",\"\",entry_2!Q22)","v":""},null,null,"",""]
[17,{"$f":"MAT_CSV!G18","v":""},{"$f":"MAT_CSV!B18","v":""},{"$f":"MAT_CSV!C18","v":""},{"$f":"IF(entry_2!H23=\"\",\"\",entry_2!H23)","v":""},{"$f":"IF(entry_2!I23=\"\",\"\",entry_2!I23)","v":""},{"$f":"IF(entry_2!J23=\"\",\"\",entry_2!J23)","v":""},{"$f":"IF(entry_2!K23=\"\",\"\",entry_2!K23)","v":""},{"$f":"IF(entry_2!L23=\"\",\"\",entry_2!L23)","v":""},{"$f":"IF(entry_2!M23=\"\",\"\",entry_2!M23)","v":""},{"$f":"IF(entry_2!N23=\"\",\"\",entry_2!N23)","v":""},{"$f":"IF(entry_2!O23=\"\",\"\",entry_2!O23)","v":""},{"$f":"IF(entry_2!P23=\"\",\"\",entry_2!P23)","v":""},{"$f":"IF(entry_2!Q23=\"\",\"\",entry_2!Q23)","v":""},null,null,"",""]
[18,{"$f":"MAT_CSV!G19","v":""},{"$f":"MAT_CSV!B19","v":""},{"$f":"MAT_CSV!C19","v":""},{"$f":"IF(entry_2!H24=\"\",\"\",entry_2!H24)","v":""},{"$f":"IF(entry_2!I24=\"\",\"\",entry_2!I24)","v":""},{"$f":"IF(entry_2!J24=\"\",\"\",entry_2!J24)","v":""},{"$f":"IF(entry_2!K24=\"\",\"\",entry_2!K24)","v":""},{"$f":"IF(entry_2!L24=\"\",\"\",entry_2!L24)","v":""},{"$f":"IF(entry_2!M24=\"\",\"\",entry_2!M24)","v":""},{"$f":"IF(entry_2!N24=\"\",\"\",entry_2!N24)","v":""},{"$f":"IF(entry_2!O24=\"\",\"\",entry_2!O24)","v":""},{"$f":"IF(entry_2!P24=\"\",\"\",entry_2!P24)","v":""},{"$f":"IF(entry_2!Q24=\"\",\"\",entry_2!Q24)","v":""},null,null,"",""]
[19,{"$f":"MAT_CSV!G20","v":""},{"$f":"MAT_CSV!B20","v":""},{"$f":"MAT_CSV!C20","v":""},{"$f":"IF(entry_2!H25=\"\",\"\",entry_2!H25)","v":""},{"$f":"IF(entry_2!I25=\"\",\"\",entry_2!I25)","v":""},{"$f":"IF(entry_2!J25=\"\",\"\",entry_2!J25)","v":""},{"$f":"IF(entry_2!K25=\"\",\"\",entry_2!K25)","v":""},{"$f":"IF(entry_2!L25=\"\",\"\",entry_2!L25)","v":""},{"$f":"IF(entry_2!M25=\"\",\"\",entry_2!M25)","v":""},{"$f":"IF(entry_2!N25=\"\",\"\",entry_2!N25)","v":""},{"$f":"IF(entry_2!O25=\"\",\"\",entry_2!O25)","v":""},{"$f":"IF(entry_2!P25=\"\",\"\",entry_2!P25)","v":""},{"$f":"IF(entry_2!Q25=\"\",\"\",entry_2!Q25)","v":""},null,null,"",""]
[20,{"$f":"MAT_CSV!G21","v":""},{"$f":"MAT_CSV!B21","v":""},{"$f":"MAT_CSV!C21","v":""},{"$f":"IF(entry_2!H26=\"\",\"\",entry_2!H26)","v":""},{"$f":"IF(entry_2!I26=\"\",\"\",entry_2!I26)","v":""},{"$f":"IF(entry_2!J26=\"\",\"\",entry_2!J26)","v":""},{"$f":"IF(entry_2!K26=\"\",\"\",entry_2!K26)","v":""},{"$f":"IF(entry_2!L26=\"\",\"\",entry_2!L26)","v":""},{"$f":"IF(entry_2!M26=\"\",\"\",entry_2!M26)","v":""},{"$f":"IF(entry_2!N26=\"\",\"\",entry_2!N26)","v":""},{"$f":"IF(entry_2!O26=\"\",\"\",entry_2!O26)","v":""},{"$f":"IF(entry_2!P26=\"\",\"\",entry_2!P26)","v":""},{"$f":"IF(entry_2!Q26=\"\",\"\",entry_2!Q26)","v":""},null,null,"",""]
[21,{"$f":"MAT_CSV!G22","v":""},{"$f":"MAT_CSV!B22","v":""},{"$f":"MAT_CSV!C22","v":""},{"$f":"IF(entry_2!H27=\"\",\"\",entry_2!H27)","v":""},{"$f":"IF(entry_2!I27=\"\",\"\",entry_2!I27)","v":""},{"$f":"IF(entry_2!J27=\"\",\"\",entry_2!J27)","v":""},{"$f":"IF(entry_2!K27=\"\",\"\",entry_2!K27)","v":""},{"$f":"IF(entry_2!L27=\"\",\"\",entry_2!L27)","v":""},{"$f":"IF(entry_2!M27=\"\",\"\",entry_2!M27)","v":""},{"$f":"IF(entry_2!N27=\"\",\"\",entry_2!N27)","v":""},{"$f":"IF(entry_2!O27=\"\",\"\",entry_2!O27)","v":""},{"$f":"IF(entry_2!P27=\"\",\"\",entry_2!P27)","v":""},{"$f":"IF(entry_2!Q27=\"\",\"\",entry_2!Q27)","v":""},null,null,"",""]
[22,{"$f":"MAT_CSV!G23","v":""},{"$f":"MAT_CSV!B23","v":""},{"$f":"MAT_CSV!C23","v":""},{"$f":"IF(entry_2!H28=\"\",\"\",entry_2!H28)","v":""},{"$f":"IF(entry_2!I28=\"\",\"\",entry_2!I28)","v":""},{"$f":"IF(entry_2!J28=\"\",\"\",entry_2!J28)","v":""},{"$f":"IF(entry_2!K28=\"\",\"\",entry_2!K28)","v":""},{"$f":"IF(entry_2!L28=\"\",\"\",entry_2!L28)","v":""},{"$f":"IF(entry_2!M28=\"\",\"\",entry_2!M28)","v":""},{"$f":"IF(entry_2!N28=\"\",\"\",entry_2!N28)","v":""},{"$f":"IF(entry_2!O28=\"\",\"\",entry_2!O28)","v":""},{"$f":"IF(entry_2!P28=\"\",\"\",entry_2!P28)","v":""},{"$f":"IF(entry_2!Q28=\"\",\"\",entry_2!Q28)","v":""},null,null,"",""]
[23,{"$f":"MAT_CSV!G24","v":""},{"$f":"MAT_CSV!B24","v":""},{"$f":"MAT_CSV!C24","v":""},{"$f":"IF(entry_2!H29=\"\",\"\",entry_2!H29)","v":""},{"$f":"IF(entry_2!I29=\"\",\"\",entry_2!I29)","v":""},{"$f":"IF(entry_2!J29=\"\",\"\",entry_2!J29)","v":""},{"$f":"IF(entry_2!K29=\"\",\"\",entry_2!K29)","v":""},{"$f":"IF(entry_2!L29=\"\",\"\",entry_2!L29)","v":""},{"$f":"IF(entry_2!M29=\"\",\"\",entry_2!M29)","v":""},{"$f":"IF(entry_2!N29=\"\",\"\",entry_2!N29)","v":""},{"$f":"IF(entry_2!O29=\"\",\"\",entry_2!O29)","v":""},{"$f":"IF(entry_2!P29=\"\",\"\",entry_2!P29)","v":""},{"$f":"IF(entry_2!Q29=\"\",\"\",entry_2!Q29)","v":""},null,null,"",""]
[24,{"$f":"MAT_CSV!G25","v":""},{"$f":"MAT_CSV!B25","v":""},{"$f":"MAT_CSV!C25","v":""},{"$f":"IF(entry_2!H30=\"\",\"\",entry_2!H30)","v":""},{"$f":"IF(entry_2!I30=\"\",\"\",entry_2!I30)","v":""},{"$f":"IF(entry_2!J30=\"\",\"\",entry_2!J30)","v":""},{"$f":"IF(entry_2!K30=\"\",\"\",entry_2!K30)","v":""},{"$f":"IF(entry_2!L30=\"\",\"\",entry_2!L30)","v":""},{"$f":"IF(entry_2!M30=\"\",\"\",entry_2!M30)","v":""},{"$f":"IF(entry_2!N30=\"\",\"\",entry_2!N30)","v":""},{"$f":"IF(entry_2!O30=\"\",\"\",entry_2!O30)","v":""},{"$f":"IF(entry_2!P30=\"\",\"\",entry_2!P30)","v":""},{"$f":"IF(entry_2!Q30=\"\",\"\",entry_2!Q30)","v":""},null,null,"",""]
[25,{"$f":"MAT_CSV!G26","v":""},{"$f":"MAT_CSV!B26","v":""},{"$f":"MAT_CSV!C26","v":""},{"$f":"IF(entry_2!H31=\"\",\"\",entry_2!H31)","v":""},{"$f":"IF(entry_2!I31=\"\",\"\",entry_2!I31)","v":""},{"$f":"IF(entry_2!J31=\"\",\"\",entry_2!J31)","v":""},{"$f":"IF(entry_2!K31=\"\",\"\",entry_2!K31)","v":""},{"$f":"IF(entry_2!L31=\"\",\"\",entry_2!L31)","v":""},{"$f":"IF(entry_2!M31=\"\",\"\",entry_2!M31)","v":""},{"$f":"IF(entry_2!N31=\"\",\"\",entry_2!N31)","v":""},{"$f":"IF(entry_2!O31=\"\",\"\",entry_2!O31)","v":""},{"$f":"IF(entry_2!P31=\"\",\"\",entry_2!P31)","v":""},{"$f":"IF(entry_2!Q31=\"\",\"\",entry_2!Q31)","v":""},null,null,"",""]
[26,{"$f":"MAT_CSV!G27","v":""},{"$f":"MAT_CSV!B27","v":""},{"$f":"MAT_CSV!C27","v":""},{"$f":"IF(entry_2!H32=\"\",\"\",entry_2!H32)","v":""},{"$f":"IF(entry_2!I32=\"\",\"\",entry_2!I32)","v":""},{"$f":"IF(entry_2!J32=\"\",\"\",entry_2!J32)","v":""},{"$f":"IF(entry_2!K32=\"\",\"\",entry_2!K32)","v":""},{"$f":"IF(entry_2!L32=\"\",\"\",entry_2!L32)","v":""},{"$f":"IF(entry_2!M32=\"\",\"\",entry_2!M32)","v":""},{"$f":"IF(entry_2!N32=\"\",\"\",entry_2!N32)","v":""},{"$f":"IF(entry_2!O32=\"\",\"\",entry_2!O32)","v":""},{"$f":"IF(entry_2!P32=\"\",\"\",entry_2!P32)","v":""},{"$f":"IF(entry_2!Q32=\"\",\"\",entry_2!Q32)","v":""},null,null,"",""]
[27,{"$f":"MAT_CSV!G28","v":""},{"$f":"MAT_CSV!B28","v":""},{"$f":"MAT_CSV!C28","v":""},{"$f":"IF(entry_2!H33=\"\",\"\",entry_2!H33)","v":""},{"$f":"IF(entry_2!I33=\"\",\"\",entry_2!I33)","v":""},{"$f":"IF(entry_2!J33=\"\",\"\",entry_2!J33)","v":""},{"$f":"IF(entry_2!K33=\"\",\"\",entry_2!K33)","v":""},{"$f":"IF(entry_2!L33=\"\",\"\",entry_2!L33)","v":""},{"$f":"IF(entry_2!M33=\"\",\"\",entry_2!M33)","v":""},{"$f":"IF(entry_2!N33=\"\",\"\",entry_2!N33)","v":""},{"$f":"IF(entry_2!O33=\"\",\"\",entry_2!O33)","v":""},{"$f":"IF(entry_2!P33=\"\",\"\",entry_2!P33)","v":""},{"$f":"IF(entry_2!Q33=\"\",\"\",entry_2!Q33)","v":""},null,null,"",""]
[28,{"$f":"MAT_CSV!G29","v":""},{"$f":"MAT_CSV!B29","v":""},{"$f":"MAT_CSV!C29","v":""},{"$f":"IF(entry_2!H34=\"\",\"\",entry_2!H34)","v":""},{"$f":"IF(entry_2!I34=\"\",\"\",entry_2!I34)","v":""},{"$f":"IF(entry_2!J34=\"\",\"\",entry_2!J34)","v":""},{"$f":"IF(entry_2!K34=\"\",\"\",entry_2!K34)","v":""},{"$f":"IF(entry_2!L34=\"\",\"\",entry_2!L34)","v":""},{"$f":"IF(entry_2!M34=\"\",\"\",entry_2!M34)","v":""},{"$f":"IF(entry_2!N34=\"\",\"\",entry_2!N34)","v":""},{"$f":"IF(entry_2!O34=\"\",\"\",entry_2!O34)","v":""},{"$f":"IF(entry_2!P34=\"\",\"\",entry_2!P34)","v":""},{"$f":"IF(entry_2!Q34=\"\",\"\",entry_2!Q34)","v":""},null,null,"",""]
[29,{"$f":"MAT_CSV!G30","v":""},{"$f":"MAT_CSV!B30","v":""},{"$f":"MAT_CSV!C30","v":""},{"$f":"IF(entry_2!H35=\"\",\"\",entry_2!H35)","v":""},{"$f":"IF(entry_2!I35=\"\",\"\",entry_2!I35)","v":""},{"$f":"IF(entry_2!J35=\"\",\"\",entry_2!J35)","v":""},{"$f":"IF(entry_2!K35=\"\",\"\",entry_2!K35)","v":""},{"$f":"IF(entry_2!L35=\"\",\"\",entry_2!L35)","v":""},{"$f":"IF(entry_2!M35=\"\",\"\",entry_2!M35)","v":""},{"$f":"IF(entry_2!N35=\"\",\"\",entry_2!N35)","v":""},{"$f":"IF(entry_2!O35=\"\",\"\",entry_2!O35)","v":""},{"$f":"IF(entry_2!P35=\"\",\"\",entry_2!P35)","v":""},{"$f":"IF(entry_2!Q35=\"\",\"\",entry_2!Q35)","v":""},null,null,"",""]
[30,{"$f":"MAT_CSV!G31","v":""},{"$f":"MAT_CSV!B31","v":""},{"$f":"MAT_CSV!C31","v":""},{"$f":"IF(entry_2!H36=\"\",\"\",entry_2!H36)","v":""},{"$f":"IF(entry_2!I36=\"\",\"\",entry_2!I36)","v":""},{"$f":"IF(entry_2!J36=\"\",\"\",entry_2!J36)","v":""},{"$f":"IF(entry_2!K36=\"\",\"\",entry_2!K36)","v":""},{"$f":"IF(entry_2!L36=\"\",\"\",entry_2!L36)","v":""},{"$f":"IF(entry_2!M36=\"\",\"\",entry_2!M36)","v":""},{"$f":"IF(entry_2!N36=\"\",\"\",entry_2!N36)","v":""},{"$f":"IF(entry_2!O36=\"\",\"\",entry_2!O36)","v":""},{"$f":"IF(entry_2!P36=\"\",\"\",entry_2!P36)","v":""},{"$f":"IF(entry_2!Q36=\"\",\"\",entry_2!Q36)","v":""},null,null,{"$f":"E59&F59","v":""},{"$f":"E59&K59","v":""}]
[31,{"$f":"MAT_CSV!G32","v":""},{"$f":"MAT_CSV!B32","v":""},{"$f":"MAT_CSV!C32","v":""},{"$f":"IF(entry_2!H37=\"\",\"\",entry_2!H37)","v":""},{"$f":"IF(entry_2!I37=\"\",\"\",entry_2!I37)","v":""},{"$f":"IF(entry_2!J37=\"\",\"\",entry_2!J37)","v":""},{"$f":"IF(entry_2!K37=\"\",\"\",entry_2!K37)","v":""},{"$f":"IF(entry_2!L37=\"\",\"\",entry_2!L37)","v":""},{"$f":"IF(entry_2!M37=\"\",\"\",entry_2!M37)","v":""},{"$f":"IF(entry_2!N37=\"\",\"\",entry_2!N37)","v":""},{"$f":"IF(entry_2!O37=\"\",\"\",entry_2!O37)","v":""},{"$f":"IF(entry_2!P37=\"\",\"\",entry_2!P37)","v":""},{"$f":"IF(entry_2!Q37=\"\",\"\",entry_2!Q37)","v":""},null,null,"",""]
[32,{"$f":"MAT_CSV!G33","v":""},{"$f":"MAT_CSV!B33","v":""},{"$f":"MAT_CSV!C33","v":""},{"$f":"IF(entry_2!H38=\"\",\"\",entry_2!H38)","v":""},{"$f":"IF(entry_2!I38=\"\",\"\",entry_2!I38)","v":""},{"$f":"IF(entry_2!J38=\"\",\"\",entry_2!J38)","v":""},{"$f":"IF(entry_2!K38=\"\",\"\",entry_2!K38)","v":""},{"$f":"IF(entry_2!L38=\"\",\"\",entry_2!L38)","v":""},{"$f":"IF(entry_2!M38=\"\",\"\",entry_2!M38)","v":""},{"$f":"IF(entry_2!N38=\"\",\"\",entry_2!N38)","v":""},{"$f":"IF(entry_2!O38=\"\",\"\",entry_2!O38)","v":""},{"$f":"IF(entry_2!P38=\"\",\"\",entry_2!P38)","v":""},{"$f":"IF(entry_2!Q38=\"\",\"\",entry_2!Q38)","v":""},null,null,"",""]
[33,{"$f":"MAT_CSV!G34","v":""},{"$f":"MAT_CSV!B34","v":""},{"$f":"MAT_CSV!C34","v":""},{"$f":"IF(entry_2!H39=\"\",\"\",entry_2!H39)","v":""},{"$f":"IF(entry_2!I39=\"\",\"\",entry_2!I39)","v":""},{"$f":"IF(entry_2!J39=\"\",\"\",entry_2!J39)","v":""},{"$f":"IF(entry_2!K39=\"\",\"\",entry_2!K39)","v":""},{"$f":"IF(entry_2!L39=\"\",\"\",entry_2!L39)","v":""},{"$f":"IF(entry_2!M39=\"\",\"\",entry_2!M39)","v":""},{"$f":"IF(entry_2!N39=\"\",\"\",entry_2!N39)","v":""},{"$f":"IF(entry_2!O39=\"\",\"\",entry_2!O39)","v":""},{"$f":"IF(entry_2!P39=\"\",\"\",entry_2!P39)","v":""},{"$f":"IF(entry_2!Q39=\"\",\"\",entry_2!Q39)","v":""},null,null,"",""]
[34,{"$f":"MAT_CSV!G35","v":""},{"$f":"MAT_CSV!B35","v":""},{"$f":"MAT_CSV!C35","v":""},{"$f":"IF(entry_2!H40=\"\",\"\",entry_2!H40)","v":""},{"$f":"IF(entry_2!I40=\"\",\"\",entry_2!I40)","v":""},{"$f":"IF(entry_2!J40=\"\",\"\",entry_2!J40)","v":""},{"$f":"IF(entry_2!K40=\"\",\"\",entry_2!K40)","v":""},{"$f":"IF(entry_2!L40=\"\",\"\",entry_2!L40)","v":""},{"$f":"IF(entry_2!M40=\"\",\"\",entry_2!M40)","v":""},{"$f":"IF(entry_2!N40=\"\",\"\",entry_2!N40)","v":""},{"$f":"IF(entry_2!O40=\"\",\"\",entry_2!O40)","v":""},{"$f":"IF(entry_2!P40=\"\",\"\",entry_2!P40)","v":""},{"$f":"IF(entry_2!Q40=\"\",\"\",entry_2!Q40)","v":""},null,null,"",""]
[35,{"$f":"MAT_CSV!G36","v":""},{"$f":"MAT_CSV!B36","v":""},{"$f":"MAT_CSV!C36","v":""},{"$f":"IF(entry_2!H41=\"\",\"\",entry_2!H41)","v":""},{"$f":"IF(entry_2!I41=\"\",\"\",entry_2!I41)","v":""},{"$f":"IF(entry_2!J41=\"\",\"\",entry_2!J41)","v":""},{"$f":"IF(entry_2!K41=\"\",\"\",entry_2!K41)","v":""},{"$f":"IF(entry_2!L41=\"\",\"\",entry_2!L41)","v":""},{"$f":"IF(entry_2!M41=\"\",\"\",entry_2!M41)","v":""},{"$f":"IF(entry_2!N41=\"\",\"\",entry_2!N41)","v":""},{"$f":"IF(entry_2!O41=\"\",\"\",entry_2!O41)","v":""},{"$f":"IF(entry_2!P41=\"\",\"\",entry_2!P41)","v":""},{"$f":"IF(entry_2!Q41=\"\",\"\",entry_2!Q41)","v":""},null,null,"",""]
[36,{"$f":"MAT_CSV!G37","v":""},{"$f":"MAT_CSV!B37","v":""},{"$f":"MAT_CSV!C37","v":""},{"$f":"IF(entry_2!H42=\"\",\"\",entry_2!H42)","v":""},{"$f":"IF(entry_2!I42=\"\",\"\",entry_2!I42)","v":""},{"$f":"IF(entry_2!J42=\"\",\"\",entry_2!J42)","v":""},{"$f":"IF(entry_2!K42=\"\",\"\",entry_2!K42)","v":""},{"$f":"IF(entry_2!L42=\"\",\"\",entry_2!L42)","v":""},{"$f":"IF(entry_2!M42=\"\",\"\",entry_2!M42)","v":""},{"$f":"IF(entry_2!N42=\"\",\"\",entry_2!N42)","v":""},{"$f":"IF(entry_2!O42=\"\",\"\",entry_2!O42)","v":""},{"$f":"IF(entry_2!P42=\"\",\"\",entry_2!P42)","v":""},{"$f":"IF(entry_2!Q42=\"\",\"\",entry_2!Q42)","v":""},null,null,"",""]
[37,{"$f":"MAT_CSV!G38","v":""},{"$f":"MAT_CSV!B38","v":""},{"$f":"MAT_CSV!C38","v":""},{"$f":"IF(entry_2!H43=\"\",\"\",entry_2!H43)","v":""},{"$f":"IF(entry_2!I43=\"\",\"\",entry_2!I43)","v":""},{"$f":"IF(entry_2!J43=\"\",\"\",entry_2!J43)","v":""},{"$f":"IF(entry_2!K43=\"\",\"\",entry_2!K43)","v":""},{"$f":"IF(entry_2!L43=\"\",\"\",entry_2!L43)","v":""},{"$f":"IF(entry_2!M43=\"\",\"\",entry_2!M43)","v":""},{"$f":"IF(entry_2!N43=\"\",\"\",entry_2!N43)","v":""},{"$f":"IF(entry_2!O43=\"\",\"\",entry_2!O43)","v":""},{"$f":"IF(entry_2!P43=\"\",\"\",entry_2!P43)","v":""},{"$f":"IF(entry_2!Q43=\"\",\"\",entry_2!Q43)","v":""},null,null,"",""]
[38,{"$f":"MAT_CSV!G39","v":""},{"$f":"MAT_CSV!B39","v":""},{"$f":"MAT_CSV!C39","v":""},{"$f":"IF(entry_2!H44=\"\",\"\",entry_2!H44)","v":""},{"$f":"IF(entry_2!I44=\"\",\"\",entry_2!I44)","v":""},{"$f":"IF(entry_2!J44=\"\",\"\",entry_2!J44)","v":""},{"$f":"IF(entry_2!K44=\"\",\"\",entry_2!K44)","v":""},{"$f":"IF(entry_2!L44=\"\",\"\",entry_2!L44)","v":""},{"$f":"IF(entry_2!M44=\"\",\"\",entry_2!M44)","v":""},{"$f":"IF(entry_2!N44=\"\",\"\",entry_2!N44)","v":""},{"$f":"IF(entry_2!O44=\"\",\"\",entry_2!O44)","v":""},{"$f":"IF(entry_2!P44=\"\",\"\",entry_2!P44)","v":""},{"$f":"IF(entry_2!Q44=\"\",\"\",entry_2!Q44)","v":""},null,null,"",""]
[39,{"$f":"MAT_CSV!G40","v":""},{"$f":"MAT_CSV!B40","v":""},{"$f":"MAT_CSV!C40","v":""},{"$f":"IF(entry_2!H45=\"\",\"\",entry_2!H45)","v":""},{"$f":"IF(entry_2!I45=\"\",\"\",entry_2!I45)","v":""},{"$f":"IF(entry_2!J45=\"\",\"\",entry_2!J45)","v":""},{"$f":"IF(entry_2!K45=\"\",\"\",entry_2!K45)","v":""},{"$f":"IF(entry_2!L45=\"\",\"\",entry_2!L45)","v":""},{"$f":"IF(entry_2!M45=\"\",\"\",entry_2!M45)","v":""},{"$f":"IF(entry_2!N45=\"\",\"\",entry_2!N45)","v":""},{"$f":"IF(entry_2!O45=\"\",\"\",entry_2!O45)","v":""},{"$f":"IF(entry_2!P45=\"\",\"\",entry_2!P45)","v":""},{"$f":"IF(entry_2!Q45=\"\",\"\",entry_2!Q45)","v":""},null,null,"",""]
[40,{"$f":"MAT_CSV!G41","v":""},{"$f":"MAT_CSV!B41","v":""},{"$f":"MAT_CSV!C41","v":""},{"$f":"IF(entry_2!H46=\"\",\"\",entry_2!H46)","v":""},{"$f":"IF(entry_2!I46=\"\",\"\",entry_2!I46)","v":""},{"$f":"IF(entry_2!J46=\"\",\"\",entry_2!J46)","v":""},{"$f":"IF(entry_2!K46=\"\",\"\",entry_2!K46)","v":""},{"$f":"IF(entry_2!L46=\"\",\"\",entry_2!L46)","v":""},{"$f":"IF(entry_2!M46=\"\",\"\",entry_2!M46)","v":""},{"$f":"IF(entry_2!N46=\"\",\"\",entry_2!N46)","v":""},{"$f":"IF(entry_2!O46=\"\",\"\",entry_2!O46)","v":""},{"$f":"IF(entry_2!P46=\"\",\"\",entry_2!P46)","v":""},{"$f":"IF(entry_2!Q46=\"\",\"\",entry_2!Q46)","v":""},null,null,"",""]
[41,{"$f":"MAT_CSV!G42","v":""},{"$f":"MAT_CSV!B42","v":""},{"$f":"MAT_CSV!C42","v":""},{"$f":"IF(entry_2!H47=\"\",\"\",entry_2!H47)","v":""},{"$f":"IF(entry_2!I47=\"\",\"\",entry_2!I47)","v":""},{"$f":"IF(entry_2!J47=\"\",\"\",entry_2!J47)","v":""},{"$f":"IF(entry_2!K47=\"\",\"\",entry_2!K47)","v":""},{"$f":"IF(entry_2!L47=\"\",\"\",entry_2!L47)","v":""},{"$f":"IF(entry_2!M47=\"\",\"\",entry_2!M47)","v":""},{"$f":"IF(entry_2!N47=\"\",\"\",entry_2!N47)","v":""},{"$f":"IF(entry_2!O47=\"\",\"\",entry_2!O47)","v":""},{"$f":"IF(entry_2!P47=\"\",\"\",entry_2!P47)","v":""},{"$f":"IF(entry_2!Q47=\"\",\"\",entry_2!Q47)","v":""},null,null,"",""]
[42,{"$f":"MAT_CSV!G43","v":""},{"$f":"MAT_CSV!B43","v":""},{"$f":"MAT_CSV!C43","v":""},{"$f":"IF(entry_2!H48=\"\",\"\",entry_2!H48)","v":""},{"$f":"IF(entry_2!I48=\"\",\"\",entry_2!I48)","v":""},{"$f":"IF(entry_2!J48=\"\",\"\",entry_2!J48)","v":""},{"$f":"IF(entry_2!K48=\"\",\"\",entry_2!K48)","v":""},{"$f":"IF(entry_2!L48=\"\",\"\",entry_2!L48)","v":""},{"$f":"IF(entry_2!M48=\"\",\"\",entry_2!M48)","v":""},{"$f":"IF(entry_2!N48=\"\",\"\",entry_2!N48)","v":""},{"$f":"IF(entry_2!O48=\"\",\"\",entry_2!O48)","v":""},{"$f":"IF(entry_2!P48=\"\",\"\",entry_2!P48)","v":""},{"$f":"IF(entry_2!Q48=\"\",\"\",entry_2!Q48)","v":""},null,null,"",""]
[43,{"$f":"MAT_CSV!G44","v":""},{"$f":"MAT_CSV!B44","v":""},{"$f":"MAT_CSV!C44","v":""},{"$f":"IF(entry_2!H49=\"\",\"\",entry_2!H49)","v":""},{"$f":"IF(entry_2!I49=\"\",\"\",entry_2!I49)","v":""},{"$f":"IF(entry_2!J49=\"\",\"\",entry_2!J49)","v":""},{"$f":"IF(entry_2!K49=\"\",\"\",entry_2!K49)","v":""},{"$f":"IF(entry_2!L49=\"\",\"\",entry_2!L49)","v":""},{"$f":"IF(entry_2!M49=\"\",\"\",entry_2!M49)","v":""},{"$f":"IF(entry_2!N49=\"\",\"\",entry_2!N49)","v":""},{"$f":"IF(entry_2!O49=\"\",\"\",entry_2!O49)","v":""},{"$f":"IF(entry_2!P49=\"\",\"\",entry_2!P49)","v":""},{"$f":"IF(entry_2!Q49=\"\",\"\",entry_2!Q49)","v":""},null,null,"",""]
[44,{"$f":"MAT_CSV!G45","v":""},{"$f":"MAT_CSV!B45","v":""},{"$f":"MAT_CSV!C45","v":""},{"$f":"IF(entry_2!H50=\"\",\"\",entry_2!H50)","v":""},{"$f":"IF(entry_2!I50=\"\",\"\",entry_2!I50)","v":""},{"$f":"IF(entry_2!J50=\"\",\"\",entry_2!J50)","v":""},{"$f":"IF(entry_2!K50=\"\",\"\",entry_2!K50)","v":""},{"$f":"IF(entry_2!L50=\"\",\"\",entry_2!L50)","v":""},{"$f":"IF(entry_2!M50=\"\",\"\",entry_2!M50)","v":""},{"$f":"IF(entry_2!N50=\"\",\"\",entry_2!N50)","v":""},{"$f":"IF(entry_2!O50=\"\",\"\",entry_2!O50)","v":""},{"$f":"IF(entry_2!P50=\"\",\"\",entry_2!P50)","v":""},{"$f":"IF(entry_2!Q50=\"\",\"\",entry_2!Q50)","v":""},null,null,"",""]
[45,{"$f":"MAT_CSV!G46","v":""},{"$f":"MAT_CSV!B46","v":""},{"$f":"MAT_CSV!C46","v":""},{"$f":"IF(entry_2!H51=\"\",\"\",entry_2!H51)","v":""},{"$f":"IF(entry_2!I51=\"\",\"\",entry_2!I51)","v":""},{"$f":"IF(entry_2!J51=\"\",\"\",entry_2!J51)","v":""},{"$f":"IF(entry_2!K51=\"\",\"\",entry_2!K51)","v":""},{"$f":"IF(entry_2!L51=\"\",\"\",entry_2!L51)","v":""},{"$f":"IF(entry_2!M51=\"\",\"\",entry_2!M51)","v":""},{"$f":"IF(entry_2!N51=\"\",\"\",entry_2!N51)","v":""},{"$f":"IF(entry_2!O51=\"\",\"\",entry_2!O51)","v":""},{"$f":"IF(entry_2!P51=\"\",\"\",entry_2!P51)","v":""},{"$f":"IF(entry_2!Q51=\"\",\"\",entry_2!Q51)","v":""},null,null,"",""]
[46,{"$f":"MAT_CSV!G47","v":""},{"$f":"MAT_CSV!B47","v":""},{"$f":"MAT_CSV!C47","v":""},{"$f":"IF(entry_2!H52=\"\",\"\",entry_2!H52)","v":""},{"$f":"IF(entry_2!I52=\"\",\"\",entry_2!I52)","v":""},{"$f":"IF(entry_2!J52=\"\",\"\",entry_2!J52)","v":""},{"$f":"IF(entry_2!K52=\"\",\"\",entry_2!K52)","v":""},{"$f":"IF(entry_2!L52=\"\",\"\",entry_2!L52)","v":""},{"$f":"IF(entry_2!M52=\"\",\"\",entry_2!M52)","v":""},{"$f":"IF(entry_2!N52=\"\",\"\",entry_2!N52)","v":""},{"$f":"IF(entry_2!O52=\"\",\"\",entry_2!O52)","v":""},{"$f":"IF(entry_2!P52=\"\",\"\",entry_2!P52)","v":""},{"$f":"IF(entry_2!Q52=\"\",\"\",entry_2!Q52)","v":""},null,null,"",""]
[47,{"$f":"MAT_CSV!G48","v":""},{"$f":"MAT_CSV!B48","v":""},{"$f":"MAT_CSV!C48","v":""},{"$f":"IF(entry_2!H53=\"\",\"\",entry_2!H53)","v":""},{"$f":"IF(entry_2!I53=\"\",\"\",entry_2!I53)","v":""},{"$f":"IF(entry_2!J53=\"\",\"\",entry_2!J53)","v":""},{"$f":"IF(entry_2!K53=\"\",\"\",entry_2!K53)","v":""},{"$f":"IF(entry_2!L53=\"\",\"\",entry_2!L53)","v":""},{"$f":"IF(entry_2!M53=\"\",\"\",entry_2!M53)","v":""},{"$f":"IF(entry_2!N53=\"\",\"\",entry_2!N53)","v":""},{"$f":"IF(entry_2!O53=\"\",\"\",entry_2!O53)","v":""},{"$f":"IF(entry_2!P53=\"\",\"\",entry_2!P53)","v":""},{"$f":"IF(entry_2!Q53=\"\",\"\",entry_2!Q53)","v":""},null,null,"",""]
[48,{"$f":"MAT_CSV!G49","v":""},{"$f":"MAT_CSV!B49","v":""},{"$f":"MAT_CSV!C49","v":""},{"$f":"IF(entry_2!H54=\"\",\"\",entry_2!H54)","v":""},{"$f":"IF(entry_2!I54=\"\",\"\",entry_2!I54)","v":""},{"$f":"IF(entry_2!J54=\"\",\"\",entry_2!J54)","v":""},{"$f":"IF(entry_2!K54=\"\",\"\",entry_2!K54)","v":""},{"$f":"IF(entry_2!L54=\"\",\"\",entry_2!L54)","v":""},{"$f":"IF(entry_2!M54=\"\",\"\",entry_2!M54)","v":""},{"$f":"IF(entry_2!N54=\"\",\"\",entry_2!N54)","v":""},{"$f":"IF(entry_2!O54=\"\",\"\",entry_2!O54)","v":""},{"$f":"IF(entry_2!P54=\"\",\"\",entry_2!P54)","v":""},{"$f":"IF(entry_2!Q54=\"\",\"\",entry_2!Q54)","v":""},null,null,"",""]
[49,{"$f":"MAT_CSV!G50","v":""},{"$f":"MAT_CSV!B50","v":""},{"$f":"MAT_CSV!C50","v":""},{"$f":"IF(entry_2!H55=\"\",\"\",entry_2!H55)","v":""},{"$f":"IF(entry_2!I55=\"\",\"\",entry_2!I55)","v":""},{"$f":"IF(entry_2!J55=\"\",\"\",entry_2!J55)","v":""},{"$f":"IF(entry_2!K55=\"\",\"\",entry_2!K55)","v":""},{"$f":"IF(entry_2!L55=\"\",\"\",entry_2!L55)","v":""},{"$f":"IF(entry_2!M55=\"\",\"\",entry_2!M55)","v":""},{"$f":"IF(entry_2!N55=\"\",\"\",entry_2!N55)","v":""},{"$f":"IF(entry_2!O55=\"\",\"\",entry_2!O55)","v":""},{"$f":"IF(entry_2!P55=\"\",\"\",entry_2!P55)","v":""},{"$f":"IF(entry_2!Q55=\"\",\"\",entry_2!Q55)","v":""},null,null,"",""]
[50,{"$f":"MAT_CSV!G51","v":""},{"$f":"MAT_CSV!B51","v":""},{"$f":"MAT_CSV!C51","v":""},{"$f":"IF(entry_2!H56=\"\",\"\",entry_2!H56)","v":""},{"$f":"IF(entry_2!I56=\"\",\"\",entry_2!I56)","v":""},{"$f":"IF(entry_2!J56=\"\",\"\",entry_2!J56)","v":""},{"$f":"IF(entry_2!K56=\"\",\"\",entry_2!K56)","v":""},{"$f":"IF(entry_2!L56=\"\",\"\",entry_2!L56)","v":""},{"$f":"IF(entry_2!M56=\"\",\"\",entry_2!M56)","v":""},{"$f":"IF(entry_2!N56=\"\",\"\",entry_2!N56)","v":""},{"$f":"IF(entry_2!O56=\"\",\"\",entry_2!O56)","v":""},{"$f":"IF(entry_2!P56=\"\",\"\",entry_2!P56)","v":""},{"$f":"IF(entry_2!Q56=\"\",\"\",entry_2!Q56)","v":""},null,null,"",""]
[51,{"$f":"MAT_CSV!G52","v":""},{"$f":"MAT_CSV!B52","v":""},{"$f":"MAT_CSV!C52","v":""},{"$f":"IF(entry_2!H57=\"\",\"\",entry_2!H57)","v":""},{"$f":"IF(entry_2!I57=\"\",\"\",entry_2!I57)","v":""},{"$f":"IF(entry_2!J57=\"\",\"\",entry_2!J57)","v":""},{"$f":"IF(entry_2!K57=\"\",\"\",entry_2!K57)","v":""},{"$f":"IF(entry_2!L57=\"\",\"\",entry_2!L57)","v":""},{"$f":"IF(entry_2!M57=\"\",\"\",entry_2!M57)","v":""},{"$f":"IF(entry_2!N57=\"\",\"\",entry_2!N57)","v":""},{"$f":"IF(entry_2!O57=\"\",\"\",entry_2!O57)","v":""},{"$f":"IF(entry_2!P57=\"\",\"\",entry_2!P57)","v":""},{"$f":"IF(entry_2!Q57=\"\",\"\",entry_2!Q57)","v":""},null,null,"",""]
[52,{"$f":"MAT_CSV!G53","v":""},{"$f":"MAT_CSV!B53","v":""},{"$f":"MAT_CSV!C53","v":""},{"$f":"IF(entry_2!H58=\"\",\"\",entry_2!H58)","v":""},{"$f":"IF(entry_2!I58=\"\",\"\",entry_2!I58)","v":""},{"$f":"IF(entry_2!J58=\"\",\"\",entry_2!J58)","v":""},{"$f":"IF(entry_2!K58=\"\",\"\",entry_2!K58)","v":""},{"$f":"IF(entry_2!L58=\"\",\"\",entry_2!L58)","v":""},{"$f":"IF(entry_2!M58=\"\",\"\",entry_2!M58)","v":""},{"$f":"IF(entry_2!N58=\"\",\"\",entry_2!N58)","v":""},{"$f":"IF(entry_2!O58=\"\",\"\",entry_2!O58)","v":""},{"$f":"IF(entry_2!P58=\"\",\"\",entry_2!P58)","v":""},{"$f":"IF(entry_2!Q58=\"\",\"\",entry_2!Q58)","v":""},null,null,"",""]
[53,{"$f":"MAT_CSV!G54","v":""},{"$f":"MAT_CSV!B54","v":""},{"$f":"MAT_CSV!C54","v":""},{"$f":"IF(entry_2!H59=\"\",\"\",entry_2!H59)","v":""},{"$f":"IF(entry_2!I59=\"\",\"\",entry_2!I59)","v":""},{"$f":"IF(entry_2!J59=\"\",\"\",entry_2!J59)","v":""},{"$f":"IF(entry_2!K59=\"\",\"\",entry_2!K59)","v":""},{"$f":"IF(entry_2!L59=\"\",\"\",entry_2!L59)","v":""},{"$f":"IF(entry_2!M59=\"\",\"\",entry_2!M59)","v":""},{"$f":"IF(entry_2!N59=\"\",\"\",entry_2!N59)","v":""},{"$f":"IF(entry_2!O59=\"\",\"\",entry_2!O59)","v":""},{"$f":"IF(entry_2!P59=\"\",\"\",entry_2!P59)","v":""},{"$f":"IF(entry_2!Q59=\"\",\"\",entry_2!Q59)","v":""},null,null,"",""]
[54,{"$f":"MAT_CSV!G55","v":""},{"$f":"MAT_CSV!B55","v":""},{"$f":"MAT_CSV!C55","v":""},{"$f":"IF(entry_2!H60=\"\",\"\",entry_2!H60)","v":""},{"$f":"IF(entry_2!I60=\"\",\"\",entry_2!I60)","v":""},{"$f":"IF(entry_2!J60=\"\",\"\",entry_2!J60)","v":""},{"$f":"IF(entry_2!K60=\"\",\"\",entry_2!K60)","v":""},{"$f":"IF(entry_2!L60=\"\",\"\",entry_2!L60)","v":""},{"$f":"IF(entry_2!M60=\"\",\"\",entry_2!M60)","v":""},{"$f":"IF(entry_2!N60=\"\",\"\",entry_2!N60)","v":""},{"$f":"IF(entry_2!O60=\"\",\"\",entry_2!O60)","v":""},{"$f":"IF(entry_2!P60=\"\",\"\",entry_2!P60)","v":""},{"$f":"IF(entry_2!Q60=\"\",\"\",entry_2!Q60)","v":""},null,null,"",""]
[55,{"$f":"MAT_CSV!G56","v":""},{"$f":"MAT_CSV!B56","v":""},{"$f":"MAT_CSV!C56","v":""},{"$f":"IF(entry_2!H61=\"\",\"\",entry_2!H61)","v":""},{"$f":"IF(entry_2!I61=\"\",\"\",entry_2!I61)","v":""},{"$f":"IF(entry_2!J61=\"\",\"\",entry_2!J61)","v":""},{"$f":"IF(entry_2!K61=\"\",\"\",entry_2!K61)","v":""},{"$f":"IF(entry_2!L61=\"\",\"\",entry_2!L61)","v":""},{"$f":"IF(entry_2!M61=\"\",\"\",entry_2!M61)","v":""},{"$f":"IF(entry_2!N61=\"\",\"\",entry_2!N61)","v":""},{"$f":"IF(entry_2!O61=\"\",\"\",entry_2!O61)","v":""},{"$f":"IF(entry_2!P61=\"\",\"\",entry_2!P61)","v":""},{"$f":"IF(entry_2!Q61=\"\",\"\",entry_2!Q61)","v":""},null,null,"",""]
[56,{"$f":"MAT_CSV!G57","v":""},{"$f":"MAT_CSV!B57","v":""},{"$f":"MAT_CSV!C57","v":""},{"$f":"IF(entry_2!H62=\"\",\"\",entry_2!H62)","v":""},{"$f":"IF(entry_2!I62=\"\",\"\",entry_2!I62)","v":""},{"$f":"IF(entry_2!J62=\"\",\"\",entry_2!J62)","v":""},{"$f":"IF(entry_2!K62=\"\",\"\",entry_2!K62)","v":""},{"$f":"IF(entry_2!L62=\"\",\"\",entry_2!L62)","v":""},{"$f":"IF(entry_2!M62=\"\",\"\",entry_2!M62)","v":""},{"$f":"IF(entry_2!N62=\"\",\"\",entry_2!N62)","v":""},{"$f":"IF(entry_2!O62=\"\",\"\",entry_2!O62)","v":""},{"$f":"IF(entry_2!P62=\"\",\"\",entry_2!P62)","v":""},{"$f":"IF(entry_2!Q62=\"\",\"\",entry_2!Q62)","v":""},null,null,"",""]
[57,{"$f":"MAT_CSV!G58","v":""},{"$f":"MAT_CSV!B58","v":""},{"$f":"MAT_CSV!C58","v":""},{"$f":"IF(entry_2!H63=\"\",\"\",entry_2!H63)","v":""},{"$f":"IF(entry_2!I63=\"\",\"\",entry_2!I63)","v":""},{"$f":"IF(entry_2!J63=\"\",\"\",entry_2!J63)","v":""},{"$f":"IF(entry_2!K63=\"\",\"\",entry_2!K63)","v":""},{"$f":"IF(entry_2!L63=\"\",\"\",entry_2!L63)","v":""},{"$f":"IF(entry_2!M63=\"\",\"\",entry_2!M63)","v":""},{"$f":"IF(entry_2!N63=\"\",\"\",entry_2!N63)","v":""},{"$f":"IF(entry_2!O63=\"\",\"\",entry_2!O63)","v":""},{"$f":"IF(entry_2!P63=\"\",\"\",entry_2!P63)","v":""},{"$f":"IF(entry_2!Q63=\"\",\"\",entry_2!Q63)","v":""},null,null,"",""]
[58,{"$f":"MAT_CSV!G59","v":""},{"$f":"MAT_CSV!B59","v":""},{"$f":"MAT_CSV!C59","v":""},{"$f":"IF(entry_2!H64=\"\",\"\",entry_2!H64)","v":""},{"$f":"IF(entry_2!I64=\"\",\"\",entry_2!I64)","v":""},{"$f":"IF(entry_2!J64=\"\",\"\",entry_2!J64)","v":""},{"$f":"IF(entry_2!K64=\"\",\"\",entry_2!K64)","v":""},{"$f":"IF(entry_2!L64=\"\",\"\",entry_2!L64)","v":""},{"$f":"IF(entry_2!M64=\"\",\"\",entry_2!M64)","v":""},{"$f":"IF(entry_2!N64=\"\",\"\",entry_2!N64)","v":""},{"$f":"IF(entry_2!O64=\"\",\"\",entry_2!O64)","v":""},{"$f":"IF(entry_2!P64=\"\",\"\",entry_2!P64)","v":""},{"$f":"IF(entry_2!Q64=\"\",\"\",entry_2!Q64)","v":""},null,null,"",""]
[59,{"$f":"MAT_CSV!G60","v":""},{"$f":"MAT_CSV!B60","v":""},{"$f":"MAT_CSV!C60","v":""},{"$f":"IF(entry_2!H65=\"\",\"\",entry_2!H65)","v":""},{"$f":"IF(entry_2!I65=\"\",\"\",entry_2!I65)","v":""},{"$f":"IF(entry_2!J65=\"\",\"\",entry_2!J65)","v":""},{"$f":"IF(entry_2!K65=\"\",\"\",entry_2!K65)","v":""},{"$f":"IF(entry_2!L65=\"\",\"\",entry_2!L65)","v":""},{"$f":"IF(entry_2!M65=\"\",\"\",entry_2!M65)","v":""},{"$f":"IF(entry_2!N65=\"\",\"\",entry_2!N65)","v":""},{"$f":"IF(entry_2!O65=\"\",\"\",entry_2!O65)","v":""},{"$f":"IF(entry_2!P65=\"\",\"\",entry_2!P65)","v":""},{"$f":"IF(entry_2!Q65=\"\",\"\",entry_2!Q65)","v":""},null,null,"",""]
[60,{"$f":"MAT_CSV!G61","v":""},{"$f":"MAT_CSV!B61","v":""},{"$f":"MAT_CSV!C61","v":""},{"$f":"IF(entry_2!H66=\"\",\"\",entry_2!H66)","v":""},{"$f":"IF(entry_2!I66=\"\",\"\",entry_2!I66)","v":""},{"$f":"IF(entry_2!J66=\"\",\"\",entry_2!J66)","v":""},{"$f":"IF(entry_2!K66=\"\",\"\",entry_2!K66)","v":""},{"$f":"IF(entry_2!L66=\"\",\"\",entry_2!L66)","v":""},{"$f":"IF(entry_2!M66=\"\",\"\",entry_2!M66)","v":""},{"$f":"IF(entry_2!N66=\"\",\"\",entry_2!N66)","v":""},{"$f":"IF(entry_2!O66=\"\",\"\",entry_2!O66)","v":""},{"$f":"IF(entry_2!P66=\"\",\"\",entry_2!P66)","v":""},{"$f":"IF(entry_2!Q66=\"\",\"\",entry_2!Q66)","v":""},null,null,"",""]
[61,{"$f":"MAT_CSV!G62","v":""},{"$f":"MAT_CSV!B62","v":""},{"$f":"MAT_CSV!C62","v":""},{"$f":"IF(entry_2!H67=\"\",\"\",entry_2!H67)","v":""},{"$f":"IF(entry_2!I67=\"\",\"\",entry_2!I67)","v":""},{"$f":"IF(entry_2!J67=\"\",\"\",entry_2!J67)","v":""},{"$f":"IF(entry_2!K67=\"\",\"\",entry_2!K67)","v":""},{"$f":"IF(entry_2!L67=\"\",\"\",entry_2!L67)","v":""},{"$f":"IF(entry_2!M67=\"\",\"\",entry_2!M67)","v":""},{"$f":"IF(entry_2!N67=\"\",\"\",entry_2!N67)","v":""},{"$f":"IF(entry_2!O67=\"\",\"\",entry_2!O67)","v":""},{"$f":"IF(entry_2!P67=\"\",\"\",entry_2!P67)","v":""},{"$f":"IF(entry_2!Q67=\"\",\"\",entry_2!Q67)","v":""},null,null,"",""]
[62,{"$f":"MAT_CSV!G63","v":""},{"$f":"MAT_CSV!B63","v":""},{"$f":"MAT_CSV!C63","v":""},{"$f":"IF(entry_2!H68=\"\",\"\",entry_2!H68)","v":""},{"$f":"IF(entry_2!I68=\"\",\"\",entry_2!I68)","v":""},{"$f":"IF(entry_2!J68=\"\",\"\",entry_2!J68)","v":""},{"$f":"IF(entry_2!K68=\"\",\"\",entry_2!K68)","v":""},{"$f":"IF(entry_2!L68=\"\",\"\",entry_2!L68)","v":""},{"$f":"IF(entry_2!M68=\"\",\"\",entry_2!M68)","v":""},{"$f":"IF(entry_2!N68=\"\",\"\",entry_2!N68)","v":""},{"$f":"IF(entry_2!O68=\"\",\"\",entry_2!O68)","v":""},{"$f":"IF(entry_2!P68=\"\",\"\",entry_2!P68)","v":""},{"$f":"IF(entry_2!Q68=\"\",\"\",entry_2!Q68)","v":""},null,null,"",""]
[63,{"$f":"MAT_CSV!G64","v":""},{"$f":"MAT_CSV!B64","v":""},{"$f":"MAT_CSV!C64","v":""},{"$f":"IF(entry_2!H69=\"\",\"\",entry_2!H69)","v":""},{"$f":"IF(entry_2!I69=\"\",\"\",entry_2!I69)","v":""},{"$f":"IF(entry_2!J69=\"\",\"\",entry_2!J69)","v":""},{"$f":"IF(entry_2!K69=\"\",\"\",entry_2!K69)","v":""},{"$f":"IF(entry_2!L69=\"\",\"\",entry_2!L69)","v":""},{"$f":"IF(entry_2!M69=\"\",\"\",entry_2!M69)","v":""},{"$f":"IF(entry_2!N69=\"\",\"\",entry_2!N69)","v":""},{"$f":"IF(entry_2!O69=\"\",\"\",entry_2!O69)","v":""},{"$f":"IF(entry_2!P69=\"\",\"\",entry_2!P69)","v":""},{"$f":"IF(entry_2!Q69=\"\",\"\",entry_2!Q69)","v":""},null,null,"",""]
[64,{"$f":"MAT_CSV!G65","v":""},{"$f":"MAT_CSV!B65","v":""},{"$f":"MAT_CSV!C65","v":""},{"$f":"IF(entry_2!H70=\"\",\"\",entry_2!H70)","v":""},{"$f":"IF(entry_2!I70=\"\",\"\",entry_2!I70)","v":""},{"$f":"IF(entry_2!J70=\"\",\"\",entry_2!J70)","v":""},{"$f":"IF(entry_2!K70=\"\",\"\",entry_2!K70)","v":""},{"$f":"IF(entry_2!L70=\"\",\"\",entry_2!L70)","v":""},{"$f":"IF(entry_2!M70=\"\",\"\",entry_2!M70)","v":""},{"$f":"IF(entry_2!N70=\"\",\"\",entry_2!N70)","v":""},{"$f":"IF(entry_2!O70=\"\",\"\",entry_2!O70)","v":""},{"$f":"IF(entry_2!P70=\"\",\"\",entry_2!P70)","v":""},{"$f":"IF(entry_2!Q70=\"\",\"\",entry_2!Q70)","v":""},null,null,"",""]
[65,{"$f":"MAT_CSV!G66","v":""},{"$f":"MAT_CSV!B66","v":""},{"$f":"MAT_CSV!C66","v":""},{"$f":"IF(entry_2!H71=\"\",\"\",entry_2!H71)","v":""},{"$f":"IF(entry_2!I71=\"\",\"\",entry_2!I71)","v":""},{"$f":"IF(entry_2!J71=\"\",\"\",entry_2!J71)","v":""},{"$f":"IF(entry_2!K71=\"\",\"\",entry_2!K71)","v":""},{"$f":"IF(entry_2!L71=\"\",\"\",entry_2!L71)","v":""},{"$f":"IF(entry_2!M71=\"\",\"\",entry_2!M71)","v":""},{"$f":"IF(entry_2!N71=\"\",\"\",entry_2!N71)","v":""},{"$f":"IF(entry_2!O71=\"\",\"\",entry_2!O71)","v":""},{"$f":"IF(entry_2!P71=\"\",\"\",entry_2!P71)","v":""},{"$f":"IF(entry_2!Q71=\"\",\"\",entry_2!Q71)","v":""},null,null,"",""]
[66,{"$f":"MAT_CSV!G67","v":""},{"$f":"MAT_CSV!B67","v":""},{"$f":"MAT_CSV!C67","v":""},{"$f":"IF(entry_2!H72=\"\",\"\",entry_2!H72)","v":""},{"$f":"IF(entry_2!I72=\"\",\"\",entry_2!I72)","v":""},{"$f":"IF(entry_2!J72=\"\",\"\",entry_2!J72)","v":""},{"$f":"IF(entry_2!K72=\"\",\"\",entry_2!K72)","v":""},{"$f":"IF(entry_2!L72=\"\",\"\",entry_2!L72)","v":""},{"$f":"IF(entry_2!M72=\"\",\"\",entry_2!M72)","v":""},{"$f":"IF(entry_2!N72=\"\",\"\",entry_2!N72)","v":""},{"$f":"IF(entry_2!O72=\"\",\"\",entry_2!O72)","v":""},{"$f":"IF(entry_2!P72=\"\",\"\",entry_2!P72)","v":""},{"$f":"IF(entry_2!Q72=\"\",\"\",entry_2!Q72)","v":""},null,null,"",""]
[67,{"$f":"MAT_CSV!G68","v":""},{"$f":"MAT_CSV!B68","v":""},{"$f":"MAT_CSV!C68","v":""},{"$f":"IF(entry_2!H73=\"\",\"\",entry_2!H73)","v":""},{"$f":"IF(entry_2!I73=\"\",\"\",entry_2!I73)","v":""},{"$f":"IF(entry_2!J73=\"\",\"\",entry_2!J73)","v":""},{"$f":"IF(entry_2!K73=\"\",\"\",entry_2!K73)","v":""},{"$f":"IF(entry_2!L73=\"\",\"\",entry_2!L73)","v":""},{"$f":"IF(entry_2!M73=\"\",\"\",entry_2!M73)","v":""},{"$f":"IF(entry_2!N73=\"\",\"\",entry_2!N73)","v":""},{"$f":"IF(entry_2!O73=\"\",\"\",entry_2!O73)","v":""},{"$f":"IF(entry_2!P73=\"\",\"\",entry_2!P73)","v":""},{"$f":"IF(entry_2!Q73=\"\",\"\",entry_2!Q73)","v":""},null,null,"",""]
[68,{"$f":"MAT_CSV!G69","v":""},{"$f":"MAT_CSV!B69","v":""},{"$f":"MAT_CSV!C69","v":""},{"$f":"IF(entry_2!H74=\"\",\"\",entry_2!H74)","v":""},{"$f":"IF(entry_2!I74=\"\",\"\",entry_2!I74)","v":""},{"$f":"IF(entry_2!J74=\"\",\"\",entry_2!J74)","v":""},{"$f":"IF(entry_2!K74=\"\",\"\",entry_2!K74)","v":""},{"$f":"IF(entry_2!L74=\"\",\"\",entry_2!L74)","v":""},{"$f":"IF(entry_2!M74=\"\",\"\",entry_2!M74)","v":""},{"$f":"IF(entry_2!N74=\"\",\"\",entry_2!N74)","v":""},{"$f":"IF(entry_2!O74=\"\",\"\",entry_2!O74)","v":""},{"$f":"IF(entry_2!P74=\"\",\"\",entry_2!P74)","v":""},{"$f":"IF(entry_2!Q74=\"\",\"\",entry_2!Q74)","v":""},null,null,"",""]
[69,{"$f":"MAT_CSV!G70","v":""},{"$f":"MAT_CSV!B70","v":""},{"$f":"MAT_CSV!C70","v":""},{"$f":"IF(entry_2!H75=\"\",\"\",entry_2!H75)","v":""},{"$f":"IF(entry_2!I75=\"\",\"\",entry_2!I75)","v":""},{"$f":"IF(entry_2!J75=\"\",\"\",entry_2!J75)","v":""},{"$f":"IF(entry_2!K75=\"\",\"\",entry_2!K75)","v":""},{"$f":"IF(entry_2!L75=\"\",\"\",entry_2!L75)","v":""},{"$f":"IF(entry_2!M75=\"\",\"\",entry_2!M75)","v":""},{"$f":"IF(entry_2!N75=\"\",\"\",entry_2!N75)","v":""},{"$f":"IF(entry_2!O75=\"\",\"\",entry_2!O75)","v":""},{"$f":"IF(entry_2!P75=\"\",\"\",entry_2!P75)","v":""},{"$f":"IF(entry_2!Q75=\"\",\"\",entry_2!Q75)","v":""},null,null,"",""]
[70,{"$f":"MAT_CSV!G71","v":""},{"$f":"MAT_CSV!B71","v":""},{"$f":"MAT_CSV!C71","v":""},{"$f":"IF(entry_2!H76=\"\",\"\",entry_2!H76)","v":""},{"$f":"IF(entry_2!I76=\"\",\"\",entry_2!I76)","v":""},{"$f":"IF(entry_2!J76=\"\",\"\",entry_2!J76)","v":""},{"$f":"IF(entry_2!K76=\"\",\"\",entry_2!K76)","v":""},{"$f":"IF(entry_2!L76=\"\",\"\",entry_2!L76)","v":""},{"$f":"IF(entry_2!M76=\"\",\"\",entry_2!M76)","v":""},{"$f":"IF(entry_2!N76=\"\",\"\",entry_2!N76)","v":""},{"$f":"IF(entry_2!O76=\"\",\"\",entry_2!O76)","v":""},{"$f":"IF(entry_2!P76=\"\",\"\",entry_2!P76)","v":""},{"$f":"IF(entry_2!Q76=\"\",\"\",entry_2!Q76)","v":""},null,null,"",""]
[71,{"$f":"MAT_CSV!G72","v":""},{"$f":"MAT_CSV!B72","v":""},{"$f":"MAT_CSV!C72","v":""},{"$f":"IF(entry_2!H77=\"\",\"\",entry_2!H77)","v":""},{"$f":"IF(entry_2!I77=\"\",\"\",entry_2!I77)","v":""},{"$f":"IF(entry_2!J77=\"\",\"\",entry_2!J77)","v":""},{"$f":"IF(entry_2!K77=\"\",\"\",entry_2!K77)","v":""},{"$f":"IF(entry_2!L77=\"\",\"\",entry_2!L77)","v":""},{"$f":"IF(entry_2!M77=\"\",\"\",entry_2!M77)","v":""},{"$f":"IF(entry_2!N77=\"\",\"\",entry_2!N77)","v":""},{"$f":"IF(entry_2!O77=\"\",\"\",entry_2!O77)","v":""},{"$f":"IF(entry_2!P77=\"\",\"\",entry_2!P77)","v":""},{"$f":"IF(entry_2!Q77=\"\",\"\",entry_2!Q77)","v":""},null,null,"",""]
[72,{"$f":"MAT_CSV!G73","v":""},{"$f":"MAT_CSV!B73","v":""},{"$f":"MAT_CSV!C73","v":""},{"$f":"IF(entry_2!H78=\"\",\"\",entry_2!H78)","v":""},{"$f":"IF(entry_2!I78=\"\",\"\",entry_2!I78)","v":""},{"$f":"IF(entry_2!J78=\"\",\"\",entry_2!J78)","v":""},{"$f":"IF(entry_2!K78=\"\",\"\",entry_2!K78)","v":""},{"$f":"IF(entry_2!L78=\"\",\"\",entry_2!L78)","v":""},{"$f":"IF(entry_2!M78=\"\",\"\",entry_2!M78)","v":""},{"$f":"IF(entry_2!N78=\"\",\"\",entry_2!N78)","v":""},{"$f":"IF(entry_2!O78=\"\",\"\",entry_2!O78)","v":""},{"$f":"IF(entry_2!P78=\"\",\"\",entry_2!P78)","v":""},{"$f":"IF(entry_2!Q78=\"\",\"\",entry_2!Q78)","v":""},null,null,"",""]
[73,{"$f":"MAT_CSV!G74","v":""},{"$f":"MAT_CSV!B74","v":""},{"$f":"MAT_CSV!C74","v":""},{"$f":"IF(entry_2!H79=\"\",\"\",entry_2!H79)","v":""},{"$f":"IF(entry_2!I79=\"\",\"\",entry_2!I79)","v":""},{"$f":"IF(entry_2!J79=\"\",\"\",entry_2!J79)","v":""},{"$f":"IF(entry_2!K79=\"\",\"\",entry_2!K79)","v":""},{"$f":"IF(entry_2!L79=\"\",\"\",entry_2!L79)","v":""},{"$f":"IF(entry_2!M79=\"\",\"\",entry_2!M79)","v":""},{"$f":"IF(entry_2!N79=\"\",\"\",entry_2!N79)","v":""},{"$f":"IF(entry_2!O79=\"\",\"\",entry_2!O79)","v":""},{"$f":"IF(entry_2!P79=\"\",\"\",entry_2!P79)","v":""},{"$f":"IF(entry_2!Q79=\"\",\"\",entry_2!Q79)","v":""},null,null,"",""]
[74,{"$f":"MAT_CSV!G75","v":""},{"$f":"MAT_CSV!B75","v":""},{"$f":"MAT_CSV!C75","v":""},{"$f":"IF(entry_2!H80=\"\",\"\",entry_2!H80)","v":""},{"$f":"IF(entry_2!I80=\"\",\"\",entry_2!I80)","v":""},{"$f":"IF(entry_2!J80=\"\",\"\",entry_2!J80)","v":""},{"$f":"IF(entry_2!K80=\"\",\"\",entry_2!K80)","v":""},{"$f":"IF(entry_2!L80=\"\",\"\",entry_2!L80)","v":""},{"$f":"IF(entry_2!M80=\"\",\"\",entry_2!M80)","v":""},{"$f":"IF(entry_2!N80=\"\",\"\",entry_2!N80)","v":""},{"$f":"IF(entry_2!O80=\"\",\"\",entry_2!O80)","v":""},{"$f":"IF(entry_2!P80=\"\",\"\",entry_2!P80)","v":""},{"$f":"IF(entry_2!Q80=\"\",\"\",entry_2!Q80)","v":""},null,null,"",""]
[75,{"$f":"MAT_CSV!G76","v":""},{"$f":"MAT_CSV!B76","v":""},{"$f":"MAT_CSV!C76","v":""},{"$f":"IF(entry_2!H81=\"\",\"\",entry_2!H81)","v":""},{"$f":"IF(entry_2!I81=\"\",\"\",entry_2!I81)","v":""},{"$f":"IF(entry_2!J81=\"\",\"\",entry_2!J81)","v":""},{"$f":"IF(entry_2!K81=\"\",\"\",entry_2!K81)","v":""},{"$f":"IF(entry_2!L81=\"\",\"\",entry_2!L81)","v":""},{"$f":"IF(entry_2!M81=\"\",\"\",entry_2!M81)","v":""},{"$f":"IF(entry_2!N81=\"\",\"\",entry_2!N81)","v":""},{"$f":"IF(entry_2!O81=\"\",\"\",entry_2!O81)","v":""},{"$f":"IF(entry_2!P81=\"\",\"\",entry_2!P81)","v":""},{"$f":"IF(entry_2!Q81=\"\",\"\",entry_2!Q81)","v":""},null,null,"",""]
[76,{"$f":"MAT_CSV!G77","v":""},{"$f":"MAT_CSV!B77","v":""},{"$f":"MAT_CSV!C77","v":""},{"$f":"IF(entry_2!H82=\"\",\"\",entry_2!H82)","v":""},{"$f":"IF(entry_2!I82=\"\",\"\",entry_2!I82)","v":""},{"$f":"IF(entry_2!J82=\"\",\"\",entry_2!J82)","v":""},{"$f":"IF(entry_2!K82=\"\",\"\",entry_2!K82)","v":""},{"$f":"IF(entry_2!L82=\"\",\"\",entry_2!L82)","v":""},{"$f":"IF(entry_2!M82=\"\",\"\",entry_2!M82)","v":""},{"$f":"IF(entry_2!N82=\"\",\"\",entry_2!N82)","v":""},{"$f":"IF(entry_2!O82=\"\",\"\",entry_2!O82)","v":""},{"$f":"IF(entry_2!P82=\"\",\"\",entry_2!P82)","v":""},{"$f":"IF(entry_2!Q82=\"\",\"\",entry_2!Q82)","v":""},null,null,"",""]
[77,{"$f":"MAT_CSV!G78","v":""},{"$f":"MAT_CSV!B78","v":""},{"$f":"MAT_CSV!C78","v":""},{"$f":"IF(entry_2!H83=\"\",\"\",entry_2!H83)","v":""},{"$f":"IF(entry_2!I83=\"\",\"\",entry_2!I83)","v":""},{"$f":"IF(entry_2!J83=\"\",\"\",entry_2!J83)","v":""},{"$f":"IF(entry_2!K83=\"\",\"\",entry_2!K83)","v":""},{"$f":"IF(entry_2!L83=\"\",\"\",entry_2!L83)","v":""},{"$f":"IF(entry_2!M83=\"\",\"\",entry_2!M83)","v":""},{"$f":"IF(entry_2!N83=\"\",\"\",entry_2!N83)","v":""},{"$f":"IF(entry_2!O83=\"\",\"\",entry_2!O83)","v":""},{"$f":"IF(entry_2!P83=\"\",\"\",entry_2!P83)","v":""},{"$f":"IF(entry_2!Q83=\"\",\"\",entry_2!Q83)","v":""},null,null,"",""]
[78,{"$f":"MAT_CSV!G79","v":""},{"$f":"MAT_CSV!B79","v":""},{"$f":"MAT_CSV!C79","v":""},{"$f":"IF(entry_2!H84=\"\",\"\",entry_2!H84)","v":""},{"$f":"IF(entry_2!I84=\"\",\"\",entry_2!I84)","v":""},{"$f":"IF(entry_2!J84=\"\",\"\",entry_2!J84)","v":""},{"$f":"IF(entry_2!K84=\"\",\"\",entry_2!K84)","v":""},{"$f":"IF(entry_2!L84=\"\",\"\",entry_2!L84)","v":""},{"$f":"IF(entry_2!M84=\"\",\"\",entry_2!M84)","v":""},{"$f":"IF(entry_2!N84=\"\",\"\",entry_2!N84)","v":""},{"$f":"IF(entry_2!O84=\"\",\"\",entry_2!O84)","v":""},{"$f":"IF(entry_2!P84=\"\",\"\",entry_2!P84)","v":""},{"$f":"IF(entry_2!Q84=\"\",\"\",entry_2!Q84)","v":""},null,null,"",""]
[79,{"$f":"MAT_CSV!G80","v":""},{"$f":"MAT_CSV!B80","v":""},{"$f":"MAT_CSV!C80","v":""},{"$f":"IF(entry_2!H85=\"\",\"\",entry_2!H85)","v":""},{"$f":"IF(entry_2!I85=\"\",\"\",entry_2!I85)","v":""},{"$f":"IF(entry_2!J85=\"\",\"\",entry_2!J85)","v":""},{"$f":"IF(entry_2!K85=\"\",\"\",entry_2!K85)","v":""},{"$f":"IF(entry_2!L85=\"\",\"\",entry_2!L85)","v":""},{"$f":"IF(entry_2!M85=\"\",\"\",entry_2!M85)","v":""},{"$f":"IF(entry_2!N85=\"\",\"\",entry_2!N85)","v":""},{"$f":"IF(entry_2!O85=\"\",\"\",entry_2!O85)","v":""},{"$f":"IF(entry_2!P85=\"\",\"\",entry_2!P85)","v":""},{"$f":"IF(entry_2!Q85=\"\",\"\",entry_2!Q85)","v":""},null,null,"",""]
[80,{"$f":"MAT_CSV!G81","v":""},{"$f":"MAT_CSV!B81","v":""},{"$f":"MAT_CSV!C81","v":""},{"$f":"IF(entry_2!H86=\"\",\"\",entry_2!H86)","v":""},{"$f":"IF(entry_2!I86=\"\",\"\",entry_2!I86)","v":""},{"$f":"IF(entry_2!J86=\"\",\"\",entry_2!J86)","v":""},{"$f":"IF(entry_2!K86=\"\",\"\",entry_2!K86)","v":""},{"$f":"IF(entry_2!L86=\"\",\"\",entry_2!L86)","v":""},{"$f":"IF(entry_2!M86=\"\",\"\",entry_2!M86)","v":""},{"$f":"IF(entry_2!N86=\"\",\"\",entry_2!N86)","v":""},{"$f":"IF(entry_2!O86=\"\",\"\",entry_2!O86)","v":""},{"$f":"IF(entry_2!P86=\"\",\"\",entry_2!P86)","v":""},{"$f":"IF(entry_2!Q86=\"\",\"\",entry_2!Q86)","v":""},null,null,"",""]
[81,{"$f":"MAT_CSV!G82","v":""},{"$f":"MAT_CSV!B82","v":""},{"$f":"MAT_CSV!C82","v":""},{"$f":"IF(entry_2!H87=\"\",\"\",entry_2!H87)","v":""},{"$f":"IF(entry_2!I87=\"\",\"\",entry_2!I87)","v":""},{"$f":"IF(entry_2!J87=\"\",\"\",entry_2!J87)","v":""},{"$f":"IF(entry_2!K87=\"\",\"\",entry_2!K87)","v":""},{"$f":"IF(entry_2!L87=\"\",\"\",entry_2!L87)","v":""},{"$f":"IF(entry_2!M87=\"\",\"\",entry_2!M87)","v":""},{"$f":"IF(entry_2!N87=\"\",\"\",entry_2!N87)","v":""},{"$f":"IF(entry_2!O87=\"\",\"\",entry_2!O87)","v":""},{"$f":"IF(entry_2!P87=\"\",\"\",entry_2!P87)","v":""},{"$f":"IF(entry_2!Q87=\"\",\"\",entry_2!Q87)","v":""},null,null,"",""]
[82,{"$f":"MAT_CSV!G83","v":""},{"$f":"MAT_CSV!B83","v":""},{"$f":"MAT_CSV!C83","v":""},{"$f":"IF(entry_2!H88=\"\",\"\",entry_2!H88)","v":""},{"$f":"IF(entry_2!I88=\"\",\"\",entry_2!I88)","v":""},{"$f":"IF(entry_2!J88=\"\",\"\",entry_2!J88)","v":""},{"$f":"IF(entry_2!K88=\"\",\"\",entry_2!K88)","v":""},{"$f":"IF(entry_2!L88=\"\",\"\",entry_2!L88)","v":""},{"$f":"IF(entry_2!M88=\"\",\"\",entry_2!M88)","v":""},{"$f":"IF(entry_2!N88=\"\",\"\",entry_2!N88)","v":""},{"$f":"IF(entry_2!O88=\"\",\"\",entry_2!O88)","v":""},{"$f":"IF(entry_2!P88=\"\",\"\",entry_2!P88)","v":""},{"$f":"IF(entry_2!Q88=\"\",\"\",entry_2!Q88)","v":""},null,null,"",""]
[83,{"$f":"MAT_CSV!G84","v":""},{"$f":"MAT_CSV!B84","v":""},{"$f":"MAT_CSV!C84","v":""},{"$f":"IF(entry_2!H89=\"\",\"\",entry_2!H89)","v":""},{"$f":"IF(entry_2!I89=\"\",\"\",entry_2!I89)","v":""},{"$f":"IF(entry_2!J89=\"\",\"\",entry_2!J89)","v":""},{"$f":"IF(entry_2!K89=\"\",\"\",entry_2!K89)","v":""},{"$f":"IF(entry_2!L89=\"\",\"\",entry_2!L89)","v":""},{"$f":"IF(entry_2!M89=\"\",\"\",entry_2!M89)","v":""},{"$f":"IF(entry_2!N89=\"\",\"\",entry_2!N89)","v":""},{"$f":"IF(entry_2!O89=\"\",\"\",entry_2!O89)","v":""},{"$f":"IF(entry_2!P89=\"\",\"\",entry_2!P89)","v":""},{"$f":"IF(entry_2!Q89=\"\",\"\",entry_2!Q89)","v":""},null,null,"",""]
[84,{"$f":"MAT_CSV!G85","v":""},{"$f":"MAT_CSV!B85","v":""},{"$f":"MAT_CSV!C85","v":""},{"$f":"IF(entry_2!H90=\"\",\"\",entry_2!H90)","v":""},{"$f":"IF(entry_2!I90=\"\",\"\",entry_2!I90)","v":""},{"$f":"IF(entry_2!J90=\"\",\"\",entry_2!J90)","v":""},{"$f":"IF(entry_2!K90=\"\",\"\",entry_2!K90)","v":""},{"$f":"IF(entry_2!L90=\"\",\"\",entry_2!L90)","v":""},{"$f":"IF(entry_2!M90=\"\",\"\",entry_2!M90)","v":""},{"$f":"IF(entry_2!N90=\"\",\"\",entry_2!N90)","v":""},{"$f":"IF(entry_2!O90=\"\",\"\",entry_2!O90)","v":""},{"$f":"IF(entry_2!P90=\"\",\"\",entry_2!P90)","v":""},{"$f":"IF(entry_2!Q90=\"\",\"\",entry_2!Q90)","v":""},null,null,"",""]
[85,{"$f":"MAT_CSV!G86","v":""},{"$f":"MAT_CSV!B86","v":""},{"$f":"MAT_CSV!C86","v":""},{"$f":"IF(entry_2!H91=\"\",\"\",entry_2!H91)","v":""},{"$f":"IF(entry_2!I91=\"\",\"\",entry_2!I91)","v":""},{"$f":"IF(entry_2!J91=\"\",\"\",entry_2!J91)","v":""},{"$f":"IF(entry_2!K91=\"\",\"\",entry_2!K91)","v":""},{"$f":"IF(entry_2!L91=\"\",\"\",entry_2!L91)","v":""},{"$f":"IF(entry_2!M91=\"\",\"\",entry_2!M91)","v":""},{"$f":"IF(entry_2!N91=\"\",\"\",entry_2!N91)","v":""},{"$f":"IF(entry_2!O91=\"\",\"\",entry_2!O91)","v":""},{"$f":"IF(entry_2!P91=\"\",\"\",entry_2!P91)","v":""},{"$f":"IF(entry_2!Q91=\"\",\"\",entry_2!Q91)","v":""},null,null,"",""]
[86,{"$f":"MAT_CSV!G87","v":""},{"$f":"MAT_CSV!B87","v":""},{"$f":"MAT_CSV!C87","v":""},{"$f":"IF(entry_2!H92=\"\",\"\",entry_2!H92)","v":""},{"$f":"IF(entry_2!I92=\"\",\"\",entry_2!I92)","v":""},{"$f":"IF(entry_2!J92=\"\",\"\",entry_2!J92)","v":""},{"$f":"IF(entry_2!K92=\"\",\"\",entry_2!K92)","v":""},{"$f":"IF(entry_2!L92=\"\",\"\",entry_2!L92)","v":""},{"$f":"IF(entry_2!M92=\"\",\"\",entry_2!M92)","v":""},{"$f":"IF(entry_2!N92=\"\",\"\",entry_2!N92)","v":""},{"$f":"IF(entry_2!O92=\"\",\"\",entry_2!O92)","v":""},{"$f":"IF(entry_2!P92=\"\",\"\",entry_2!P92)","v":""},{"$f":"IF(entry_2!Q92=\"\",\"\",entry_2!Q92)","v":""},null,null,"",""]
[87,{"$f":"MAT_CSV!G88","v":""},{"$f":"MAT_CSV!B88","v":""},{"$f":"MAT_CSV!C88","v":""},{"$f":"IF(entry_2!H93=\"\",\"\",entry_2!H93)","v":""},{"$f":"IF(entry_2!I93=\"\",\"\",entry_2!I93)","v":""},{"$f":"IF(entry_2!J93=\"\",\"\",entry_2!J93)","v":""},{"$f":"IF(entry_2!K93=\"\",\"\",entry_2!K93)","v":""},{"$f":"IF(entry_2!L93=\"\",\"\",entry_2!L93)","v":""},{"$f":"IF(entry_2!M93=\"\",\"\",entry_2!M93)","v":""},{"$f":"IF(entry_2!N93=\"\",\"\",entry_2!N93)","v":""},{"$f":"IF(entry_2!O93=\"\",\"\",entry_2!O93)","v":""},{"$f":"IF(entry_2!P93=\"\",\"\",entry_2!P93)","v":""},{"$f":"IF(entry_2!Q93=\"\",\"\",entry_2!Q93)","v":""},null,null,"",""]
[88,{"$f":"MAT_CSV!G89","v":""},{"$f":"MAT_CSV!B89","v":""},{"$f":"MAT_CSV!C89","v":""},{"$f":"IF(entry_2!H94=\"\",\"\",entry_2!H94)","v":""},{"$f":"IF(entry_2!I94=\"\",\"\",entry_2!I94)","v":""},{"$f":"IF(entry_2!J94=\"\",\"\",entry_2!J94)","v":""},{"$f":"IF(entry_2!K94=\"\",\"\",entry_2!K94)","v":""},{"$f":"IF(entry_2!L94=\"\",\"\",entry_2!L94)","v":""},{"$f":"IF(entry_2!M94=\"\",\"\",entry_2!M94)","v":""},{"$f":"IF(entry_2!N94=\"\",\"\",entry_2!N94)","v":""},{"$f":"IF(entry_2!O94=\"\",\"\",entry_2!O94)","v":""},{"$f":"IF(entry_2!P94=\"\",\"\",entry_2!P94)","v":""},{"$f":"IF(entry_2!Q94=\"\",\"\",entry_2!Q94)","v":""},null,null,"",""]
[89,{"$f":"MAT_CSV!G90","v":""},{"$f":"MAT_CSV!B90","v":""},{"$f":"MAT_CSV!C90","v":""},{"$f":"IF(entry_2!H95=\"\",\"\",entry_2!H95)","v":""},{"$f":"IF(entry_2!I95=\"\",\"\",entry_2!I95)","v":""},{"$f":"IF(entry_2!J95=\"\",\"\",entry_2!J95)","v":""},{"$f":"IF(entry_2!K95=\"\",\"\",entry_2!K95)","v":""},{"$f":"IF(entry_2!L95=\"\",\"\",entry_2!L95)","v":""},{"$f":"IF(entry_2!M95=\"\",\"\",entry_2!M95)","v":""},{"$f":"IF(entry_2!N95=\"\",\"\",entry_2!N95)","v":""},{"$f":"IF(entry_2!O95=\"\",\"\",entry_2!O95)","v":""},{"$f":"IF(entry_2!P95=\"\",\"\",entry_2!P95)","v":""},{"$f":"IF(entry_2!Q95=\"\",\"\",entry_2!Q95)","v":""},null,null,"",""]
[90,{"$f":"MAT_CSV!G91","v":""},{"$f":"MAT_CSV!B91","v":""},{"$f":"MAT_CSV!C91","v":""},{"$f":"IF(entry_2!H96=\"\",\"\",entry_2!H96)","v":""},{"$f":"IF(entry_2!I96=\"\",\"\",entry_2!I96)","v":""},{"$f":"IF(entry_2!J96=\"\",\"\",entry_2!J96)","v":""},{"$f":"IF(entry_2!K96=\"\",\"\",entry_2!K96)","v":""},{"$f":"IF(entry_2!L96=\"\",\"\",entry_2!L96)","v":""},{"$f":"IF(entry_2!M96=\"\",\"\",entry_2!M96)","v":""},{"$f":"IF(entry_2!N96=\"\",\"\",entry_2!N96)","v":""},{"$f":"IF(entry_2!O96=\"\",\"\",entry_2!O96)","v":""},{"$f":"IF(entry_2!P96=\"\",\"\",entry_2!P96)","v":""},{"$f":"IF(entry_2!Q96=\"\",\"\",entry_2!Q96)","v":""},null,null,"",""]
[91,{"$f":"MAT_CSV!G92","v":""},{"$f":"MAT_CSV!B92","v":""},{"$f":"MAT_CSV!C92","v":""},{"$f":"IF(entry_2!H97=\"\",\"\",entry_2!H97)","v":""},{"$f":"IF(entry_2!I97=\"\",\"\",entry_2!I97)","v":""},{"$f":"IF(entry_2!J97=\"\",\"\",entry_2!J97)","v":""},{"$f":"IF(entry_2!K97=\"\",\"\",entry_2!K97)","v":""},{"$f":"IF(entry_2!L97=\"\",\"\",entry_2!L97)","v":""},{"$f":"IF(entry_2!M97=\"\",\"\",entry_2!M97)","v":""},{"$f":"IF(entry_2!N97=\"\",\"\",entry_2!N97)","v":""},{"$f":"IF(entry_2!O97=\"\",\"\",entry_2!O97)","v":""},{"$f":"IF(entry_2!P97=\"\",\"\",entry_2!P97)","v":""},{"$f":"IF(entry_2!Q97=\"\",\"\",entry_2!Q97)","v":""},null,null,"",""]
[92,{"$f":"MAT_CSV!G93","v":""},{"$f":"MAT_CSV!B93","v":""},{"$f":"MAT_CSV!C93","v":""},{"$f":"IF(entry_2!H98=\"\",\"\",entry_2!H98)","v":""},{"$f":"IF(entry_2!I98=\"\",\"\",entry_2!I98)","v":""},{"$f":"IF(entry_2!J98=\"\",\"\",entry_2!J98)","v":""},{"$f":"IF(entry_2!K98=\"\",\"\",entry_2!K98)","v":""},{"$f":"IF(entry_2!L98=\"\",\"\",entry_2!L98)","v":""},{"$f":"IF(entry_2!M98=\"\",\"\",entry_2!M98)","v":""},{"$f":"IF(entry_2!N98=\"\",\"\",entry_2!N98)","v":""},{"$f":"IF(entry_2!O98=\"\",\"\",entry_2!O98)","v":""},{"$f":"IF(entry_2!P98=\"\",\"\",entry_2!P98)","v":""},{"$f":"IF(entry_2!Q98=\"\",\"\",entry_2!Q98)","v":""},null,null,"",""]
[93,{"$f":"MAT_CSV!G94","v":""},{"$f":"MAT_CSV!B94","v":""},{"$f":"MAT_CSV!C94","v":""},{"$f":"IF(entry_2!H99=\"\",\"\",entry_2!H99)","v":""},{"$f":"IF(entry_2!I99=\"\",\"\",entry_2!I99)","v":""},{"$f":"IF(entry_2!J99=\"\",\"\",entry_2!J99)","v":""},{"$f":"IF(entry_2!K99=\"\",\"\",entry_2!K99)","v":""},{"$f":"IF(entry_2!L99=\"\",\"\",entry_2!L99)","v":""},{"$f":"IF(entry_2!M99=\"\",\"\",entry_2!M99)","v":""},{"$f":"IF(entry_2!N99=\"\",\"\",entry_2!N99)","v":""},{"$f":"IF(entry_2!O99=\"\",\"\",entry_2!O99)","v":""},{"$f":"IF(entry_2!P99=\"\",\"\",entry_2!P99)","v":""},{"$f":"IF(entry_2!Q99=\"\",\"\",entry_2!Q99)","v":""},null,null,"",""]
[94,{"$f":"MAT_CSV!G95","v":""},{"$f":"MAT_CSV!B95","v":""},{"$f":"MAT_CSV!C95","v":""},{"$f":"IF(entry_2!H100=\"\",\"\",entry_2!H100)","v":""},{"$f":"IF(entry_2!I100=\"\",\"\",entry_2!I100)","v":""},{"$f":"IF(entry_2!J100=\"\",\"\",entry_2!J100)","v":""},{"$f":"IF(entry_2!K100=\"\",\"\",entry_2!K100)","v":""},{"$f":"IF(entry_2!L100=\"\",\"\",entry_2!L100)","v":""},{"$f":"IF(entry_2!M100=\"\",\"\",entry_2!M100)","v":""},{"$f":"IF(entry_2!N100=\"\",\"\",entry_2!N100)","v":""},{"$f":"IF(entry_2!O100=\"\",\"\",entry_2!O100)","v":""},{"$f":"IF(entry_2!P100=\"\",\"\",entry_2!P100)","v":""},{"$f":"IF(entry_2!Q100=\"\",\"\",entry_2!Q100)","v":""},null,null,{"$f":"E123&F123","v":""},{"$f":"E123&K123","v":""}]
[95,{"$f":"MAT_CSV!G96","v":""},{"$f":"MAT_CSV!B96","v":""},{"$f":"MAT_CSV!C96","v":""},{"$f":"IF(entry_2!H101=\"\",\"\",entry_2!H101)","v":""},{"$f":"IF(entry_2!I101=\"\",\"\",entry_2!I101)","v":""},{"$f":"IF(entry_2!J101=\"\",\"\",entry_2!J101)","v":""},{"$f":"IF(entry_2!K101=\"\",\"\",entry_2!K101)","v":""},{"$f":"IF(entry_2!L101=\"\",\"\",entry_2!L101)","v":""},{"$f":"IF(entry_2!M101=\"\",\"\",entry_2!M101)","v":""},{"$f":"IF(entry_2!N101=\"\",\"\",entry_2!N101)","v":""},{"$f":"IF(entry_2!O101=\"\",\"\",entry_2!O101)","v":""},{"$f":"IF(entry_2!P101=\"\",\"\",entry_2!P101)","v":""},{"$f":"IF(entry_2!Q101=\"\",\"\",entry_2!Q101)","v":""},null,null,"",""]
[96,{"$f":"MAT_CSV!G97","v":""},{"$f":"MAT_CSV!B97","v":""},{"$f":"MAT_CSV!C97","v":""},{"$f":"IF(entry_2!H102=\"\",\"\",entry_2!H102)","v":""},{"$f":"IF(entry_2!I102=\"\",\"\",entry_2!I102)","v":""},{"$f":"IF(entry_2!J102=\"\",\"\",entry_2!J102)","v":""},{"$f":"IF(entry_2!K102=\"\",\"\",entry_2!K102)","v":""},{"$f":"IF(entry_2!L102=\"\",\"\",entry_2!L102)","v":""},{"$f":"IF(entry_2!M102=\"\",\"\",entry_2!M102)","v":""},{"$f":"IF(entry_2!N102=\"\",\"\",entry_2!N102)","v":""},{"$f":"IF(entry_2!O102=\"\",\"\",entry_2!O102)","v":""},{"$f":"IF(entry_2!P102=\"\",\"\",entry_2!P102)","v":""},{"$f":"IF(entry_2!Q102=\"\",\"\",entry_2!Q102)","v":""},null,null,"",""]
[97,{"$f":"MAT_CSV!G98","v":""},{"$f":"MAT_CSV!B98","v":""},{"$f":"MAT_CSV!C98","v":""},{"$f":"IF(entry_2!H103=\"\",\"\",entry_2!H103)","v":""},{"$f":"IF(entry_2!I103=\"\",\"\",entry_2!I103)","v":""},{"$f":"IF(entry_2!J103=\"\",\"\",entry_2!J103)","v":""},{"$f":"IF(entry_2!K103=\"\",\"\",entry_2!K103)","v":""},{"$f":"IF(entry_2!L103=\"\",\"\",entry_2!L103)","v":""},{"$f":"IF(entry_2!M103=\"\",\"\",entry_2!M103)","v":""},{"$f":"IF(entry_2!N103=\"\",\"\",entry_2!N103)","v":""},{"$f":"IF(entry_2!O103=\"\",\"\",entry_2!O103)","v":""},{"$f":"IF(entry_2!P103=\"\",\"\",entry_2!P103)","v":""},{"$f":"IF(entry_2!Q103=\"\",\"\",entry_2!Q103)","v":""},null,null,"",""]
[98,{"$f":"MAT_CSV!G99","v":""},{"$f":"MAT_CSV!B99","v":""},{"$f":"MAT_CSV!C99","v":""},{"$f":"IF(entry_2!H104=\"\",\"\",entry_2!H104)","v":""},{"$f":"IF(entry_2!I104=\"\",\"\",entry_2!I104)","v":""},{"$f":"IF(entry_2!J104=\"\",\"\",entry_2!J104)","v":""},{"$f":"IF(entry_2!K104=\"\",\"\",entry_2!K104)","v":""},{"$f":"IF(entry_2!L104=\"\",\"\",entry_2!L104)","v":""},{"$f":"IF(entry_2!M104=\"\",\"\",entry_2!M104)","v":""},{"$f":"IF(entry_2!N104=\"\",\"\",entry_2!N104)","v":""},{"$f":"IF(entry_2!O104=\"\",\"\",entry_2!O104)","v":""},{"$f":"IF(entry_2!P104=\"\",\"\",entry_2!P104)","v":""},{"$f":"IF(entry_2!Q104=\"\",\"\",entry_2!Q104)","v":""},null,null,"",""]
[99,{"$f":"MAT_CSV!G100","v":""},{"$f":"MAT_CSV!B100","v":""},{"$f":"MAT_CSV!C100","v":""},{"$f":"IF(entry_2!H105=\"\",\"\",entry_2!H105)","v":""},{"$f":"IF(entry_2!I105=\"\",\"\",entry_2!I105)","v":""},{"$f":"IF(entry_2!J105=\"\",\"\",entry_2!J105)","v":""},{"$f":"IF(entry_2!K105=\"\",\"\",entry_2!K105)","v":""},{"$f":"IF(entry_2!L105=\"\",\"\",entry_2!L105)","v":""},{"$f":"IF(entry_2!M105=\"\",\"\",entry_2!M105)","v":""},{"$f":"IF(entry_2!N105=\"\",\"\",entry_2!N105)","v":""},{"$f":"IF(entry_2!O105=\"\",\"\",entry_2!O105)","v":""},{"$f":"IF(entry_2!P105=\"\",\"\",entry_2!P105)","v":""},{"$f":"IF(entry_2!Q105=\"\",\"\",entry_2!Q105)","v":""},null,null,"",""]
[100,{"$f":"MAT_CSV!G101","v":""},{"$f":"MAT_CSV!B101","v":""},{"$f":"MAT_CSV!C101","v":""},{"$f":"IF(entry_2!H106=\"\",\"\",entry_2!H106)","v":""},{"$f":"IF(entry_2!I106=\"\",\"\",entry_2!I106)","v":""},{"$f":"IF(entry_2!J106=\"\",\"\",entry_2!J106)","v":""},{"$f":"IF(entry_2!K106=\"\",\"\",entry_2!K106)","v":""},{"$f":"IF(entry_2!L106=\"\",\"\",entry_2!L106)","v":""},{"$f":"IF(entry_2!M106=\"\",\"\",entry_2!M106)","v":""},{"$f":"IF(entry_2!N106=\"\",\"\",entry_2!N106)","v":""},{"$f":"IF(entry_2!O106=\"\",\"\",entry_2!O106)","v":""},{"$f":"IF(entry_2!P106=\"\",\"\",entry_2!P106)","v":""},{"$f":"IF(entry_2!Q106=\"\",\"\",entry_2!Q106)","v":""},null,null,"",""]
[101,{"$f":"MAT_CSV!G102","v":""},{"$f":"MAT_CSV!B102","v":""},{"$f":"MAT_CSV!C102","v":""},{"$f":"IF(entry_2!H107=\"\",\"\",entry_2!H107)","v":""},{"$f":"IF(entry_2!I107=\"\",\"\",entry_2!I107)","v":""},{"$f":"IF(entry_2!J107=\"\",\"\",entry_2!J107)","v":""},{"$f":"IF(entry_2!K107=\"\",\"\",entry_2!K107)","v":""},{"$f":"IF(entry_2!L107=\"\",\"\",entry_2!L107)","v":""},{"$f":"IF(entry_2!M107=\"\",\"\",entry_2!M107)","v":""},{"$f":"IF(entry_2!N107=\"\",\"\",entry_2!N107)","v":""},{"$f":"IF(entry_2!O107=\"\",\"\",entry_2!O107)","v":""},{"$f":"IF(entry_2!P107=\"\",\"\",entry_2!P107)","v":""},{"$f":"IF(entry_2!Q107=\"\",\"\",entry_2!Q107)","v":""},null,null,"",""]
[102,{"$f":"MAT_CSV!G103","v":""},{"$f":"MAT_CSV!B103","v":""},{"$f":"MAT_CSV!C103","v":""},{"$f":"IF(entry_2!H108=\"\",\"\",entry_2!H108)","v":""},{"$f":"IF(entry_2!I108=\"\",\"\",entry_2!I108)","v":""},{"$f":"IF(entry_2!J108=\"\",\"\",entry_2!J108)","v":""},{"$f":"IF(entry_2!K108=\"\",\"\",entry_2!K108)","v":""},{"$f":"IF(entry_2!L108=\"\",\"\",entry_2!L108)","v":""},{"$f":"IF(entry_2!M108=\"\",\"\",entry_2!M108)","v":""},{"$f":"IF(entry_2!N108=\"\",\"\",entry_2!N108)","v":""},{"$f":"IF(entry_2!O108=\"\",\"\",entry_2!O108)","v":""},{"$f":"IF(entry_2!P108=\"\",\"\",entry_2!P108)","v":""},{"$f":"IF(entry_2!Q108=\"\",\"\",entry_2!Q108)","v":""},null,null,"",""]
[103,{"$f":"MAT_CSV!G104","v":""},{"$f":"MAT_CSV!B104","v":""},{"$f":"MAT_CSV!C104","v":""},{"$f":"IF(entry_2!H109=\"\",\"\",entry_2!H109)","v":""},{"$f":"IF(entry_2!I109=\"\",\"\",entry_2!I109)","v":""},{"$f":"IF(entry_2!J109=\"\",\"\",entry_2!J109)","v":""},{"$f":"IF(entry_2!K109=\"\",\"\",entry_2!K109)","v":""},{"$f":"IF(entry_2!L109=\"\",\"\",entry_2!L109)","v":""},{"$f":"IF(entry_2!M109=\"\",\"\",entry_2!M109)","v":""},{"$f":"IF(entry_2!N109=\"\",\"\",entry_2!N109)","v":""},{"$f":"IF(entry_2!O109=\"\",\"\",entry_2!O109)","v":""},{"$f":"IF(entry_2!P109=\"\",\"\",entry_2!P109)","v":""},{"$f":"IF(entry_2!Q109=\"\",\"\",entry_2!Q109)","v":""},null,null,"",""]
[104,{"$f":"MAT_CSV!G105","v":""},{"$f":"MAT_CSV!B105","v":""},{"$f":"MAT_CSV!C105","v":""},{"$f":"IF(entry_2!H110=\"\",\"\",entry_2!H110)","v":""},{"$f":"IF(entry_2!I110=\"\",\"\",entry_2!I110)","v":""},{"$f":"IF(entry_2!J110=\"\",\"\",entry_2!J110)","v":""},{"$f":"IF(entry_2!K110=\"\",\"\",entry_2!K110)","v":""},{"$f":"IF(entry_2!L110=\"\",\"\",entry_2!L110)","v":""},{"$f":"IF(entry_2!M110=\"\",\"\",entry_2!M110)","v":""},{"$f":"IF(entry_2!N110=\"\",\"\",entry_2!N110)","v":""},{"$f":"IF(entry_2!O110=\"\",\"\",entry_2!O110)","v":""},{"$f":"IF(entry_2!P110=\"\",\"\",entry_2!P110)","v":""},{"$f":"IF(entry_2!Q110=\"\",\"\",entry_2!Q110)","v":""},null,null,"",""]
[105,{"$f":"MAT_CSV!G106","v":""},{"$f":"MAT_CSV!B106","v":""},{"$f":"MAT_CSV!C106","v":""},{"$f":"IF(entry_2!H111=\"\",\"\",entry_2!H111)","v":""},{"$f":"IF(entry_2!I111=\"\",\"\",entry_2!I111)","v":""},{"$f":"IF(entry_2!J111=\"\",\"\",entry_2!J111)","v":""},{"$f":"IF(entry_2!K111=\"\",\"\",entry_2!K111)","v":""},{"$f":"IF(entry_2!L111=\"\",\"\",entry_2!L111)","v":""},{"$f":"IF(entry_2!M111=\"\",\"\",entry_2!M111)","v":""},{"$f":"IF(entry_2!N111=\"\",\"\",entry_2!N111)","v":""},{"$f":"IF(entry_2!O111=\"\",\"\",entry_2!O111)","v":""},{"$f":"IF(entry_2!P111=\"\",\"\",entry_2!P111)","v":""},{"$f":"IF(entry_2!Q111=\"\",\"\",entry_2!Q111)","v":""},null,null,"",""]
[106,{"$f":"MAT_CSV!G107","v":""},{"$f":"MAT_CSV!B107","v":""},{"$f":"MAT_CSV!C107","v":""},{"$f":"IF(entry_2!H112=\"\",\"\",entry_2!H112)","v":""},{"$f":"IF(entry_2!I112=\"\",\"\",entry_2!I112)","v":""},{"$f":"IF(entry_2!J112=\"\",\"\",entry_2!J112)","v":""},{"$f":"IF(entry_2!K112=\"\",\"\",entry_2!K112)","v":""},{"$f":"IF(entry_2!L112=\"\",\"\",entry_2!L112)","v":""},{"$f":"IF(entry_2!M112=\"\",\"\",entry_2!M112)","v":""},{"$f":"IF(entry_2!N112=\"\",\"\",entry_2!N112)","v":""},{"$f":"IF(entry_2!O112=\"\",\"\",entry_2!O112)","v":""},{"$f":"IF(entry_2!P112=\"\",\"\",entry_2!P112)","v":""},{"$f":"IF(entry_2!Q112=\"\",\"\",entry_2!Q112)","v":""},null,null,"",""]
[107,{"$f":"MAT_CSV!G108","v":""},{"$f":"MAT_CSV!B108","v":""},{"$f":"MAT_CSV!C108","v":""},{"$f":"IF(entry_2!H113=\"\",\"\",entry_2!H113)","v":""},{"$f":"IF(entry_2!I113=\"\",\"\",entry_2!I113)","v":""},{"$f":"IF(entry_2!J113=\"\",\"\",entry_2!J113)","v":""},{"$f":"IF(entry_2!K113=\"\",\"\",entry_2!K113)","v":""},{"$f":"IF(entry_2!L113=\"\",\"\",entry_2!L113)","v":""},{"$f":"IF(entry_2!M113=\"\",\"\",entry_2!M113)","v":""},{"$f":"IF(entry_2!N113=\"\",\"\",entry_2!N113)","v":""},{"$f":"IF(entry_2!O113=\"\",\"\",entry_2!O113)","v":""},{"$f":"IF(entry_2!P113=\"\",\"\",entry_2!P113)","v":""},{"$f":"IF(entry_2!Q113=\"\",\"\",entry_2!Q113)","v":""},null,null,"",""]
[108,{"$f":"MAT_CSV!G109","v":""},{"$f":"MAT_CSV!B109","v":""},{"$f":"MAT_CSV!C109","v":""},{"$f":"IF(entry_2!H114=\"\",\"\",entry_2!H114)","v":""},{"$f":"IF(entry_2!I114=\"\",\"\",entry_2!I114)","v":""},{"$f":"IF(entry_2!J114=\"\",\"\",entry_2!J114)","v":""},{"$f":"IF(entry_2!K114=\"\",\"\",entry_2!K114)","v":""},{"$f":"IF(entry_2!L114=\"\",\"\",entry_2!L114)","v":""},{"$f":"IF(entry_2!M114=\"\",\"\",entry_2!M114)","v":""},{"$f":"IF(entry_2!N114=\"\",\"\",entry_2!N114)","v":""},{"$f":"IF(entry_2!O114=\"\",\"\",entry_2!O114)","v":""},{"$f":"IF(entry_2!P114=\"\",\"\",entry_2!P114)","v":""},{"$f":"IF(entry_2!Q114=\"\",\"\",entry_2!Q114)","v":""},null,null,"",""]
[109,{"$f":"MAT_CSV!G110","v":""},{"$f":"MAT_CSV!B110","v":""},{"$f":"MAT_CSV!C110","v":""},{"$f":"IF(entry_2!H115=\"\",\"\",entry_2!H115)","v":""},{"$f":"IF(entry_2!I115=\"\",\"\",entry_2!I115)","v":""},{"$f":"IF(entry_2!J115=\"\",\"\",entry_2!J115)","v":""},{"$f":"IF(entry_2!K115=\"\",\"\",entry_2!K115)","v":""},{"$f":"IF(entry_2!L115=\"\",\"\",entry_2!L115)","v":""},{"$f":"IF(entry_2!M115=\"\",\"\",entry_2!M115)","v":""},{"$f":"IF(entry_2!N115=\"\",\"\",entry_2!N115)","v":""},{"$f":"IF(entry_2!O115=\"\",\"\",entry_2!O115)","v":""},{"$f":"IF(entry_2!P115=\"\",\"\",entry_2!P115)","v":""},{"$f":"IF(entry_2!Q115=\"\",\"\",entry_2!Q115)","v":""},null,null,"",""]
[110,{"$f":"MAT_CSV!G111","v":""},{"$f":"MAT_CSV!B111","v":""},{"$f":"MAT_CSV!C111","v":""},{"$f":"IF(entry_2!H116=\"\",\"\",entry_2!H116)","v":""},{"$f":"IF(entry_2!I116=\"\",\"\",entry_2!I116)","v":""},{"$f":"IF(entry_2!J116=\"\",\"\",entry_2!J116)","v":""},{"$f":"IF(entry_2!K116=\"\",\"\",entry_2!K116)","v":""},{"$f":"IF(entry_2!L116=\"\",\"\",entry_2!L116)","v":""},{"$f":"IF(entry_2!M116=\"\",\"\",entry_2!M116)","v":""},{"$f":"IF(entry_2!N116=\"\",\"\",entry_2!N116)","v":""},{"$f":"IF(entry_2!O116=\"\",\"\",entry_2!O116)","v":""},{"$f":"IF(entry_2!P116=\"\",\"\",entry_2!P116)","v":""},{"$f":"IF(entry_2!Q116=\"\",\"\",entry_2!Q116)","v":""},null,null,"",""]
[111,{"$f":"MAT_CSV!G112","v":""},{"$f":"MAT_CSV!B112","v":""},{"$f":"MAT_CSV!C112","v":""},{"$f":"IF(entry_2!H117=\"\",\"\",entry_2!H117)","v":""},{"$f":"IF(entry_2!I117=\"\",\"\",entry_2!I117)","v":""},{"$f":"IF(entry_2!J117=\"\",\"\",entry_2!J117)","v":""},{"$f":"IF(entry_2!K117=\"\",\"\",entry_2!K117)","v":""},{"$f":"IF(entry_2!L117=\"\",\"\",entry_2!L117)","v":""},{"$f":"IF(entry_2!M117=\"\",\"\",entry_2!M117)","v":""},{"$f":"IF(entry_2!N117=\"\",\"\",entry_2!N117)","v":""},{"$f":"IF(entry_2!O117=\"\",\"\",entry_2!O117)","v":""},{"$f":"IF(entry_2!P117=\"\",\"\",entry_2!P117)","v":""},{"$f":"IF(entry_2!Q117=\"\",\"\",entry_2!Q117)","v":""},null,null,"",""]
[112,{"$f":"MAT_CSV!G113","v":""},{"$f":"MAT_CSV!B113","v":""},{"$f":"MAT_CSV!C113","v":""},{"$f":"IF(entry_2!H118=\"\",\"\",entry_2!H118)","v":""},{"$f":"IF(entry_2!I118=\"\",\"\",entry_2!I118)","v":""},{"$f":"IF(entry_2!J118=\"\",\"\",entry_2!J118)","v":""},{"$f":"IF(entry_2!K118=\"\",\"\",entry_2!K118)","v":""},{"$f":"IF(entry_2!L118=\"\",\"\",entry_2!L118)","v":""},{"$f":"IF(entry_2!M118=\"\",\"\",entry_2!M118)","v":""},{"$f":"IF(entry_2!N118=\"\",\"\",entry_2!N118)","v":""},{"$f":"IF(entry_2!O118=\"\",\"\",entry_2!O118)","v":""},{"$f":"IF(entry_2!P118=\"\",\"\",entry_2!P118)","v":""},{"$f":"IF(entry_2!Q118=\"\",\"\",entry_2!Q118)","v":""},null,null,"",""]
[113,{"$f":"MAT_CSV!G114","v":""},{"$f":"MAT_CSV!B114","v":""},{"$f":"MAT_CSV!C114","v":""},{"$f":"IF(entry_2!H119=\"\",\"\",entry_2!H119)","v":""},{"$f":"IF(entry_2!I119=\"\",\"\",entry_2!I119)","v":""},{"$f":"IF(entry_2!J119=\"\",\"\",entry_2!J119)","v":""},{"$f":"IF(entry_2!K119=\"\",\"\",entry_2!K119)","v":""},{"$f":"IF(entry_2!L119=\"\",\"\",entry_2!L119)","v":""},{"$f":"IF(entry_2!M119=\"\",\"\",entry_2!M119)","v":""},{"$f":"IF(entry_2!N119=\"\",\"\",entry_2!N119)","v":""},{"$f":"IF(entry_2!O119=\"\",\"\",entry_2!O119)","v":""},{"$f":"IF(entry_2!P119=\"\",\"\",entry_2!P119)","v":""},{"$f":"IF(entry_2!Q119=\"\",\"\",entry_2!Q119)","v":""},null,null,"",""]
[114,{"$f":"MAT_CSV!G115","v":""},{"$f":"MAT_CSV!B115","v":""},{"$f":"MAT_CSV!C115","v":""},{"$f":"IF(entry_2!H120=\"\",\"\",entry_2!H120)","v":""},{"$f":"IF(entry_2!I120=\"\",\"\",entry_2!I120)","v":""},{"$f":"IF(entry_2!J120=\"\",\"\",entry_2!J120)","v":""},{"$f":"IF(entry_2!K120=\"\",\"\",entry_2!K120)","v":""},{"$f":"IF(entry_2!L120=\"\",\"\",entry_2!L120)","v":""},{"$f":"IF(entry_2!M120=\"\",\"\",entry_2!M120)","v":""},{"$f":"IF(entry_2!N120=\"\",\"\",entry_2!N120)","v":""},{"$f":"IF(entry_2!O120=\"\",\"\",entry_2!O120)","v":""},{"$f":"IF(entry_2!P120=\"\",\"\",entry_2!P120)","v":""},{"$f":"IF(entry_2!Q120=\"\",\"\",entry_2!Q120)","v":""},null,null,"",""]
[115,{"$f":"MAT_CSV!G116","v":""},{"$f":"MAT_CSV!B116","v":""},{"$f":"MAT_CSV!C116","v":""},{"$f":"IF(entry_2!H121=\"\",\"\",entry_2!H121)","v":""},{"$f":"IF(entry_2!I121=\"\",\"\",entry_2!I121)","v":""},{"$f":"IF(entry_2!J121=\"\",\"\",entry_2!J121)","v":""},{"$f":"IF(entry_2!K121=\"\",\"\",entry_2!K121)","v":""},{"$f":"IF(entry_2!L121=\"\",\"\",entry_2!L121)","v":""},{"$f":"IF(entry_2!M121=\"\",\"\",entry_2!M121)","v":""},{"$f":"IF(entry_2!N121=\"\",\"\",entry_2!N121)","v":""},{"$f":"IF(entry_2!O121=\"\",\"\",entry_2!O121)","v":""},{"$f":"IF(entry_2!P121=\"\",\"\",entry_2!P121)","v":""},{"$f":"IF(entry_2!Q121=\"\",\"\",entry_2!Q121)","v":""},null,null,"",""]
[116,{"$f":"MAT_CSV!G117","v":""},{"$f":"MAT_CSV!B117","v":""},{"$f":"MAT_CSV!C117","v":""},{"$f":"IF(entry_2!H122=\"\",\"\",entry_2!H122)","v":""},{"$f":"IF(entry_2!I122=\"\",\"\",entry_2!I122)","v":""},{"$f":"IF(entry_2!J122=\"\",\"\",entry_2!J122)","v":""},{"$f":"IF(entry_2!K122=\"\",\"\",entry_2!K122)","v":""},{"$f":"IF(entry_2!L122=\"\",\"\",entry_2!L122)","v":""},{"$f":"IF(entry_2!M122=\"\",\"\",entry_2!M122)","v":""},{"$f":"IF(entry_2!N122=\"\",\"\",entry_2!N122)","v":""},{"$f":"IF(entry_2!O122=\"\",\"\",entry_2!O122)","v":""},{"$f":"IF(entry_2!P122=\"\",\"\",entry_2!P122)","v":""},{"$f":"IF(entry_2!Q122=\"\",\"\",entry_2!Q122)","v":""},null,null,"",""]
[117,{"$f":"MAT_CSV!G118","v":""},{"$f":"MAT_CSV!B118","v":""},{"$f":"MAT_CSV!C118","v":""},{"$f":"IF(entry_2!H123=\"\",\"\",entry_2!H123)","v":""},{"$f":"IF(entry_2!I123=\"\",\"\",entry_2!I123)","v":""},{"$f":"IF(entry_2!J123=\"\",\"\",entry_2!J123)","v":""},{"$f":"IF(entry_2!K123=\"\",\"\",entry_2!K123)","v":""},{"$f":"IF(entry_2!L123=\"\",\"\",entry_2!L123)","v":""},{"$f":"IF(entry_2!M123=\"\",\"\",entry_2!M123)","v":""},{"$f":"IF(entry_2!N123=\"\",\"\",entry_2!N123)","v":""},{"$f":"IF(entry_2!O123=\"\",\"\",entry_2!O123)","v":""},{"$f":"IF(entry_2!P123=\"\",\"\",entry_2!P123)","v":""},{"$f":"IF(entry_2!Q123=\"\",\"\",entry_2!Q123)","v":""},null,null,"",""]
[118,{"$f":"MAT_CSV!G119","v":""},{"$f":"MAT_CSV!B119","v":""},{"$f":"MAT_CSV!C119","v":""},{"$f":"IF(entry_2!H124=\"\",\"\",entry_2!H124)","v":""},{"$f":"IF(entry_2!I124=\"\",\"\",entry_2!I124)","v":""},{"$f":"IF(entry_2!J124=\"\",\"\",entry_2!J124)","v":""},{"$f":"IF(entry_2!K124=\"\",\"\",entry_2!K124)","v":""},{"$f":"IF(entry_2!L124=\"\",\"\",entry_2!L124)","v":""},{"$f":"IF(entry_2!M124=\"\",\"\",entry_2!M124)","v":""},{"$f":"IF(entry_2!N124=\"\",\"\",entry_2!N124)","v":""},{"$f":"IF(entry_2!O124=\"\",\"\",entry_2!O124)","v":""},{"$f":"IF(entry_2!P124=\"\",\"\",entry_2!P124)","v":""},{"$f":"IF(entry_2!Q124=\"\",\"\",entry_2!Q124)","v":""},null,null,"",""]
[119,{"$f":"MAT_CSV!G120","v":""},{"$f":"MAT_CSV!B120","v":""},{"$f":"MAT_CSV!C120","v":""},{"$f":"IF(entry_2!H125=\"\",\"\",entry_2!H125)","v":""},{"$f":"IF(entry_2!I125=\"\",\"\",entry_2!I125)","v":""},{"$f":"IF(entry_2!J125=\"\",\"\",entry_2!J125)","v":""},{"$f":"IF(entry_2!K125=\"\",\"\",entry_2!K125)","v":""},{"$f":"IF(entry_2!L125=\"\",\"\",entry_2!L125)","v":""},{"$f":"IF(entry_2!M125=\"\",\"\",entry_2!M125)","v":""},{"$f":"IF(entry_2!N125=\"\",\"\",entry_2!N125)","v":""},{"$f":"IF(entry_2!O125=\"\",\"\",entry_2!O125)","v":""},{"$f":"IF(entry_2!P125=\"\",\"\",entry_2!P125)","v":""},{"$f":"IF(entry_2!Q125=\"\",\"\",entry_2!Q125)","v":""},null,null,"",""]
[120,{"$f":"MAT_CSV!G121","v":""},{"$f":"MAT_CSV!B121","v":""},{"$f":"MAT_CSV!C121","v":""},{"$f":"IF(entry_2!H126=\"\",\"\",entry_2!H126)","v":""},{"$f":"IF(entry_2!I126=\"\",\"\",entry_2!I126)","v":""},{"$f":"IF(entry_2!J126=\"\",\"\",entry_2!J126)","v":""},{"$f":"IF(entry_2!K126=\"\",\"\",entry_2!K126)","v":""},{"$f":"IF(entry_2!L126=\"\",\"\",entry_2!L126)","v":""},{"$f":"IF(entry_2!M126=\"\",\"\",entry_2!M126)","v":""},{"$f":"IF(entry_2!N126=\"\",\"\",entry_2!N126)","v":""},{"$f":"IF(entry_2!O126=\"\",\"\",entry_2!O126)","v":""},{"$f":"IF(entry_2!P126=\"\",\"\",entry_2!P126)","v":""},{"$f":"IF(entry_2!Q126=\"\",\"\",entry_2!Q126)","v":""},null,null,"",""]

{"sheet":"DATA","index":4,"n_rows":14,"n_cols":8,"rows_kept":14,"cut":false,"hidden":false,"merged":[]}
["種目名","TFC","ｺｰﾄﾞ","種別","MAT_CODE"]
["100m","01T",2,0,{"$f":"RIGHT(FIXED((C2*100+D2)/100000,5),5)&\" \"","v":"00200 "},null,"100m","100m"]
["300m","01T",4,0,{"$f":"RIGHT(FIXED((C3*100+D3)/100000,5),5)&\" \"","v":"00400 "},null,"300m","300m"]
["3000m(女子)","01T",10,0,{"$f":"RIGHT(FIXED((C4*100+D4)/100000,5),5)&\" \"","v":"01000 "},null,"5000m","3000m"]
["5000m(男子)","01T",11,0,"01100 ",null,"400mH","400mH"]
["110mH","01T",34,0,{"$f":"RIGHT(FIXED((C6*100+D6)/100000,5),5)&\" \"","v":"03400 "},null,"HJ","HJ"]
["100mH","01T",44,0,"04400 ",null,"TJ","LJ"]
["走高跳","02F",71,0,"07100 ",null,"SP","SP"]
["走幅跳(男子)","02F",73,0,"07300 ",null,"JT","JT"]
["三段跳(女子)","02F",74,0,"07400 "]
["砲丸投(6.00kg男)","02F",82,0,"08200 "]
["砲丸投(4.00kg女)","02F",84,0,"08400 "]
["円盤投(男子)","02F",88,0,{"$f":"RIGHT(FIXED((C13*100+D13)/100000,5),5)&\" \"","v":"08800 "}]
["円盤投(女子)","02F",87,0,{"$f":"RIGHT(FIXED((C14*100+D14)/100000,5),5)&\" \"","v":"08700 "}]