{"text_format":"1","workbook":"xlsx","n_sheets":12,"sheets":["最初にお読みください！","初期設定1","女子選手","記録入力1","女子申込1","csv","csvﾘﾚｰ","データ作成1","データ作成貼付１","データ作成貼付２","データ完成","学校番号"],"not_rendered":{"charts":0,"images":0,"macros":1,"external_links":0,"defined_names":4,"comments":3,"pivot_tables":0},"unopened":[],"bounds":{"document_bytes":16777216,"sheet_cells":100000,"rows_first":2000,"rows_last":500,"rows_between":2000,"halvings":0,"cell_chars":16384,"cell_head_chars":4096},"cells_cut":0,"cells_raw":0,"read":"whole","date_system":"1900"}

{"sheet":"最初にお読みください！","index":0,"n_rows":25,"n_cols":4,"rows_kept":25,"cut":false,"hidden":false,"merged":[[23,1,23,6],[24,1,24,6],[19,0,19,6],[13,0,13,6],[0,0,0,6],[1,0,1,6],[7,0,7,6],[10,0,10,6],[22,0,22,6]]}
["神戸地区別記録会申込の入力の手順"]
["初期設定のシートを開き，学校番号を入力後、必要事項の入力を行う！"]
[]
[]
["女子選手のシートを開き，登録番号順に、選手の氏名・ﾌﾘｶﾞﾅ・学年等を入力して確認を行う！"]
[null,2101,"神戸　鈴子(3)","ｺｳﾍﾞ ｽｽﾞｺ"]
[]
["記録入力1のシートを開き，Ｅ列～Ｈ列(白抜き)に，Noと記録を入力する！"]
[]
[]
["マクロのマークをクリックし、マクロを実行する！(注：訂正があればそのつどマクロを実行すること)"]
[]
[]
["女子申込1のシートを開き，印刷作業を行う！"]
[]
[]
["ファイルの学校番号_学校名のみを変えて保存する！"]
[]
[]
["神戸山手女子高校　森(katsunori_mori＠kobeyamate.ed.jp）へメールで送ってください！\n添付ファイルの学校番号・学校名を入力して送ってください！"]
[]
[]
["申込の確認を行い，校長印・顧問印を押印し、〆切期日までに郵送する！"]
["注意：１","記録入力は必ず半角英数字で入力すること！"]
["注意：２","申し込みの用紙(Ａ４)は男女とも白色で可！"]

{"sheet":"初期設定1","index":1,"n_rows":58,"n_cols":18,"rows_kept":58,"cut":false,"hidden":false,"merged":[[16,0,37,0],[7,2,7,4],[1,2,1,4],[2,2,2,4],[3,2,3,4],[4,2,4,4],[5,2,5,4],[6,2,6,4]]}
[null,null,"初期設定シート"]
[null,"学校名",{"$f":"IF($C$3=\"\",\"\",VLOOKUP($C$3,$J$3:$O$59,2,FALSE))","v":""},null,null,"自動で入力される"]
[null,"学校番号",null,null,null,"学校番号を入力",null,null,null,4201,"兵庫県立東灘高等学校","〒 658-0023","658-0023","神戸市東灘区深江浜町５０","TEL 078-452-9600","TEL 078-","452-9600"]
[null,"郵便番号",{"$f":"IF($C$3=\"\",\"\",VLOOKUP($C$3,$J$3:$O$59,3,FALSE))","v":""},null,null,"自動で入力される",null,null,null,4202,"甲南女子高等学校","〒 658-0001","658-0001","神戸市東灘区森北町５－６－１","TEL 078-411-2531","TEL 078-","411-2531"]
[null,"電話番号",{"$f":"IF($C$3=\"\",\"\",VLOOKUP($C$3,$J$3:$O$59,6,FALSE))","v":""},null,null,"自動で入力される",null,null,null,4203,"灘高等学校","〒 658-0082","658-0082","神戸市東灘区魚崎北町８－５－１","TEL 078-411-7234","TEL 078-","411-7234"]
[null,"住所",{"$f":"IF($C$3=\"\",\"\",VLOOKUP($C$3,$J$3:$O$59,5,FALSE))","v":""},null,null,"自動で入力される",null,null,null,4204,"神戸市立六甲アイランド高等学校","〒 658-0032","658-0032","神戸市東灘区向洋町中４－４","TEL 078-858-4000","TEL 078-","858-4000"]
[null,"学校長氏名",null,null,null,null,null,null,null,4205,"神戸大学附属中等教育学校","〒 658-0063","658-0063","神戸市東灘区住吉山手５－１１－１","TEL 078-811-0232","TEL 078-","811-0232"]
[null,"代表顧問氏名",null,null,null,null,null,null,null,4206,"神戸市立神戸科学技術高等学校","〒 651-0072","651-0072","神戸市中央区脇浜町１－４－７０","TEL 078-272-9900","TEL 078-","272-9900"]
[null,"推薦審判員","氏　名","年　齢","審判資格",null,null,null,null,4207,"兵庫県立御影高等学校","〒 658-0045","658-0045","神戸市東灘区御影石町４－１－１","TEL 078-841-1501","TEL 078-","841-1501"]
[null,1,null,null,null,null,null,null,null,4208,"六甲学院高等学校","〒 657-0015","657-0015","神戸市灘区篠原伯母野山町2-4-1","TEL 078-871-4161","TEL 078-","871-4161","S"]
[null,2,null,null,null,null,null,null,null,4209,"兵庫県立神戸高等学校","〒 657-0804","657-0804","神戸市灘区城の下通１－５－１","TEL 078-861-0434","TEL 078-","861-0434","A"]
[null,3,null,null,null,null,null,null,null,4210,"海星女子高等学校","〒 657-0805","657-0805","神戸市灘区青谷町２－７－１","TEL 078-801-5601","TEL 078-","801-5601","B"]
[null,"申込人数",null,null,null,null,null,null,null,4211,"松蔭高等学校","〒 657-0805","657-0805","神戸市灘区青谷町３－４－４７","TEL 078-861-1105","TEL 078-","861-1105","ﾅｼ"]
[null,null,"男　　子",null,"名",null,null,null,null,4212,"神戸市立葺合高等学校","〒 651-0054","651-0054","神戸市中央区野崎通１－１－１","TEL 078-291-0771","TEL 078-","291-0771"]
[null,null,"女　　子",null,"名",null,null,null,null,4213,"神戸龍谷高等学校","〒 651-0052","651-0052","神戸市中央区中島通５－３－１","TEL 078-241-0076","TEL 078-","241-0076"]
[null,null,"合　　計",{"$f":"D14+D15","v":0},"名",null,null,null,null,4214,"神戸第一高等学校","〒 651-0058","651-0058","神戸市中央区葺合町寺ケ谷１","TEL 078-242-4811","TEL 078-","242-4811"]
["女　　　　　　　　　子","種目コード","種目","T-F-C","高体連ｺｰﾄﾞ","種目",null,null,null,4215,"神港学園高等学校","〒 650-0003","650-0003","神戸市中央区山本通4-19-20","TEL 078-241-3135","TEL 078-","241-3135"]
[null,"00200","100m","01T",{"$f":"B18","v":"00200"},"100m",null,null,null,4216,"神戸山手グローバル高等学校","〒 650-0006","650-0006","神戸市中央区諏訪山町６－１","TEL 078-341-2133","TEL 078-","341-2133"]
[null,"00300","200m","01T","00300","200m",null,null,null,4217,"親和女子高等学校","〒 657-0022","657-0022","神戸市灘区土山町６－１","TEL 078-854-3800","TEL 078-","854-3800"]
[null,"00500","400m","01T","00500","400m",null,null,null,4218,"兵庫県立神戸北高等学校","〒 651-1332","651-1332","神戸市北区唐櫃台２－４１－１","TEL 078-981-0131","TEL 078-","981-0131"]
[null,"00600","800m","01T","00600","800m",null,null,null,4219,"神戸弘陵学園高等学校","〒 651-1101","651-1101","神戸市北区山田町小部妙賀山10","TEL 078-593-3535","TEL 078-","593-3535"]
[null,"00800","1500m","01T","00800","1500m",null,null,null,4220,"兵庫県立神戸甲北高等学校","〒 651-1144","651-1144","神戸市北区大脇台９－１","TEL 078-593-7291","TEL 078-","593-7291"]
[null,"01000","3000m","01T","01000","3000m",null,null,null,4221,"兵庫県立神戸鈴蘭台高等学校","〒 651-1102","651-1102","神戸市北区山田町下谷上字中一里山9-107","TEL 078-591-1331","TEL 078-","591-1331"]
[null,"04400","100mH","01T","04400","100mH",null,null,null,4222]
[null,"04600","400mH","01T","04600","400mH",null,null,null,4223,"須磨学園夙川高等学校","〒 652-0043","652-0043","神戸市兵庫区会下山町１－７－１","TEL 078-578-7226","TEL 078-","578-7226"]
[null,"05400","3000mSC","01T","05400","3000mSC",null,null,null,4224,"神戸学院大学附属高等学校","〒 650-0046","650-0046","神戸市中央区港島中町４－６－３","TEL 078-302-2016","TEL 078-","302-2016"]
[null,"06100","5000mW","01T","06100","5000mW",null,null,null,4225,"兵庫県立兵庫工業高等学校","〒 652-0863","652-0863","神戸市兵庫区和田宮通２－１－６３","TEL 078-671-1431","TEL 078-","671-1431"]
[null,"60100","4x100R","01T","60100","4x100R",null,null,null,4226,"神戸市立神港橘高等学校","〒 652-0043","652-0043","神戸市兵庫区会下山町３－１６－１","TEL 078-579-3650","TEL 078-","579-3650"]
[null,"60300","4x400R","01T","60300","4x400R",null,null,null,4227,"兵庫県立夢野台高等学校","〒 653-0801","653-0801","神戸市長田区房王寺町２－１－１","TEL 078-691-1546","TEL 078-","691-1546"]
[null,"07100","走高跳","02F","07100","走高跳",null,null,null,4228,"兵庫県立兵庫高等学校","〒 653-0804","653-0804","神戸市長田区寺池町１－４－１","TEL 078-691-1135","TEL 078-","691-1135"]
[null,"07200","棒高跳","02F","07200","棒高跳",null,null,null,4229,"神戸村野工業高等学校","〒 653-0003","653-0003","神戸市長田区五番町８－５","TEL 078-575-0230","TEL 078-","575-0230"]
[null,"07300","走幅跳","02F","07300","走幅跳",null,null,null,4230,"兵庫県立長田高等学校","〒 653-0821","653-0821","神戸市長田区池田谷町２－５","TEL 078-621-4101","TEL 078-","621-4101"]
[null,"07400","三段跳","02F","07400","三段跳",null,null,null,4231,"常盤女子高等学校","〒 653-0824","653-0824","神戸市長田区池田上町９２","TEL 078-691-0561","TEL 078-","691-0561"]
[null,"08400","砲丸投","02F",{"$f":"B34","v":"08400"},"砲丸投",null,null,null,4232,"神戸星城高等学校","〒 654-0113","654-0113","神戸市須磨区緑が丘１－１２－１","TEL 078-741-1860","TEL 078-","741-1860"]
[null,"08800","円盤投","02F","08800","円盤投",null,null,null,4233,"神戸野田高等学校","〒 653-0052","653-0052","神戸市長田区海運町６－１－７","TEL 078-731-8015","TEL 078-","731-8015"]
[null,"09400","ﾊﾝﾏ-投","02F","09400","ﾊﾝﾏ-投",null,null,null,4234,"育英高等学校","〒 653-0855","653-0855","神戸市長田区長尾町２－１－１５","TEL 078-611-6001","TEL 078-","611-6001"]
[null,"09300","やり投","02F","09300","やり投",null,null,null,4235,"滝川高等学校","〒 654-0007","654-0007","神戸市須磨区宝田町２－１－１","TEL 078-732-1625","TEL 078-","732-1625"]
[null,"20200","七種競技","03C","20200","七種競技",null,null,null,4236,"須磨学園高等学校","〒 654-0009","654-0009","神戸市須磨区板宿町３-１５-１４","TEL 078-732-1968","TEL 078-","732-1968"]
[null,null,null,null,null,null,null,null,null,4237,"神戸市立須磨翔風高等学校","〒 654-0155","654-0155","神戸市須磨区西落合１－１－５","TEL 078-798-4155","TEL 078-","798-4155"]
[null,null,null,null,null,null,null,null,null,4238,"兵庫大学附属須磨ノ浦高等学校","〒 654-0052","654-0052","神戸市須磨区行幸町２－７－３","TEL 078-735-7111","TEL 078-","735-7111"]
[null,null,null,null,null,null,null,null,null,4239,"兵庫県立須磨東高等学校","〒 654-0152","654-0152","神戸市須磨区東落合１－１－１","TEL 078-793-1616","TEL 078-","793-1616"]
[null,null,null,null,null,null,null,null,null,4240,"啓明学院高等学校","〒 654-0131","654-0131","神戸市須磨区横尾９－５－１","TEL 078-741-1501","TEL 078-","741-1501"]
[null,null,null,null,null,null,null,null,null,4241,"兵庫県立須磨友が丘高等学校","〒 654-0142","654-0142","神戸市須磨区友が丘１－１－５","TEL 078-791-7881","TEL 078-","791-7881"]
[null,null,null,null,null,null,null,null,null,4242,"兵庫県立北須磨高等学校","〒 654-0142","654-0142","神戸市須磨区友が丘９－２３","TEL 078-792-7661","TEL 078-","792-7661"]
[null,null,null,null,null,null,null,null,null,4244,"兵庫県立視覚特別支援学校","〒 655-0884","655-0884","神戸市垂水区城が山４－２－１","TEL 078-751-3291","TEL 078-","751-3291"]
[null,null,null,null,null,null,null,null,null,4245,"神戸聴覚特別支援学校","〒 655-0013","655-0013","神戸市垂水区福田１－３－１","TEL 078-709-9301","TEL 078-","709-9301"]
[null,null,null,null,null,null,null,null,null,4246,"神戸国際大学附属高等学校","〒 655-0004","655-0004","神戸市垂水区学が丘５－１－１","TEL 078-707-1001","TEL 078-","707-1001"]
[null,null,null,null,null,null,null,null,null,4247,"兵庫県立舞子高等学校","〒 655-0004","655-0004","神戸市垂水区学が丘３－２","TEL 078-783-5151","TEL 078-","783-5151"]
[null,null,null,null,null,null,null,null,null,4248,"兵庫県立星陵高等学校","〒 655-0038","655-0038","神戸市垂水区星陵台４－３－２","TEL 078-707-6565","TEL 078-","707-6565"]
[null,null,null,null,null,null,null,null,null,4249,"兵庫県立神戸商業高等学校","〒 655-0038","655-0038","神戸市垂水区星陵台４－３－１","TEL 078-707-6464","TEL 078-","707-6464"]
[null,null,null,null,null,null,null,null,null,4250,"愛徳学園高等学校","〒 655-0037","655-0037","神戸市垂水区歌敷山３－６－４９","TEL 078-708-5353","TEL 078-","708-5353"]
[null,null,null,null,null,null,null,null,null,4251,"神戸市立工業高等専門学校","〒 651-2194","651-2194","神戸市西区学園東町８－３","TEL 078-795-3311","TEL 078-","795-3311"]
[null,null,null,null,null,null,null,null,null,4252,"兵庫県立伊川谷高等学校","〒 651-2104","651-2104","神戸市西区伊川谷町長坂910-5","TEL 078-974-5630","TEL 078-","974-5630"]
[null,null,null,null,null,null,null,null,null,4253,"兵庫県立伊川谷北高等学校","〒 651-2103","651-2103","神戸市西区学園西町６－１","TEL 078-792-6902","TEL 078-","792-6902"]
[null,null,null,null,null,null,null,null,null,4254,"兵庫県立神戸高塚高等学校","〒 651-2277","651-2277","神戸市西区美賀多台９－１","TEL 078-992-7000","TEL 078-","992-7000"]
[null,null,null,null,null,null,null,null,null,4255,"滝川第二高等学校","〒 651-2276","651-2276","神戸市西区春日台６－２３","TEL 078-961-2381","TEL 078-","961-2381"]
[null,null,null,null,null,null,null,null,null,4256,"兵庫県立西神戸高等特別支援学校","〒 651-2204","651-2204","神戸市西区押部谷町高和１５５７－１","TEL 078-991-2050","TEL 078-","991-2050"]
[null,null,null,null,null,null,null,null,null,4257,"神戸朝鮮高級学校","〒 655-0017","655-0017","神戸市垂水区上高丸１－５－１","TEL 078-709-0255","TEL 078-","709-0255"]

{"sheet":"女子選手","index":2,"n_rows":101,"n_cols":8,"rows_kept":101,"cut":false,"hidden":false,"merged":[]}
["db1","zk","n1","n2","sc","sc2","db2"]
[{"$f":"228420000+B2","v":228421600},1600,"山手　勝徳(1)","ﾓﾘ ｶﾂﾉﾘ",{"$f":"IF(A2=\"\",\"\",VALUE(MID(A2,2,6)))","v":284216},{"$f":"IF(E2=\"\",\"\",VLOOKUP(E2,学校番号!$A$2:$B$60,2,FALSE))","v":"山    手"},{"$f":"A2","v":228421600},{"$f":"LEFTB(C2,10)&\" \"&RIGHTB(C2,1)","v":"山手　勝徳 )"}]
[{"$f":"228420000+B3","v":228421601},1601,"森山手勝徳(1)","ﾓﾘﾔﾏﾃ ｶﾂﾉﾘ",{"$f":"IF(A3=\"\",\"\",VALUE(MID(A3,2,6)))","v":284216},{"$f":"IF(E3=\"\",\"\",VLOOKUP(E3,学校番号!$A$2:$B$60,2,FALSE))","v":"山    手"},{"$f":"A3","v":228421601},"森山手勝徳 )"]
[228420000,null,null,null,284200,{"$f":"IF(E4=\"\",\"\",VLOOKUP(E4,学校番号!$A$2:$B$60,2,FALSE))","v":{"$error":"#N/A"}},228420000," "]
[228420000,null,null,null,284200,{"$f":"IF(E5=\"\",\"\",VLOOKUP(E5,学校番号!$A$2:$B$60,2,FALSE))","v":{"$error":"#N/A"}},228420000," "]
[228420000,null,null,null,284200,{"$f":"IF(E6=\"\",\"\",VLOOKUP(E6,学校番号!$A$2:$B$60,2,FALSE))","v":{"$error":"#N/A"}},228420000," "]
[228420000,null,null,null,284200,{"$f":"IF(E7=\"\",\"\",VLOOKUP(E7,学校番号!$A$2:$B$60,2,FALSE))","v":{"$error":"#N/A"}},228420000," "]
[228420000,null,null,null,284200,{"$f":"IF(E8=\"\",\"\",VLOOKUP(E8,学校番号!$A$2:$B$60,2,FALSE))","v":{"$error":"#N/A"}},228420000," "]
[228420000,null,null,null,284200,{"$f":"IF(E9=\"\",\"\",VLOOKUP(E9,学校番号!$A$2:$B$60,2,FALSE))","v":{"$error":"#N/A"}},228420000," "]
[228420000,null,null,null,{"$f":"IF(A10=\"\",\"\",VALUE(MID(A10,2,6)))","v":284200},{"$f":"IF(E10=\"\",\"\",VLOOKUP(E10,学校番号!$A$2:$B$60,2,FALSE))","v":{"$error":"#N/A"}},{"$f":"A10","v":228420000},{"$f":"LEFTB(C10,10)&\" \"&RIGHTB(C10,1)","v":" "}]
[228420000,null,null,null,284200,{"$f":"IF(E11=\"\",\"\",VLOOKUP(E11,学校番号!$A$2:$B$60,2,FALSE))","v":{"$error":"#N/A"}},228420000," "]
[228420000,null,null,null,284200,{"$f":"IF(E12=\"\",\"\",VLOOKUP(E12,学校番号!$A$2:$B$60,2,FALSE))","v":{"$error":"#N/A"}},228420000," "]
[228420000,null,null,null,284200,{"$f":"IF(E13=\"\",\"\",VLOOKUP(E13,学校番号!$A$2:$B$60,2,FALSE))","v":{"$error":"#N/A"}},228420000," "]
[228420000,null,null,null,284200,{"$f":"IF(E14=\"\",\"\",VLOOKUP(E14,学校番号!$A$2:$B$60,2,FALSE))","v":{"$error":"#N/A"}},228420000," "]
[228420000,null,null,null,284200,{"$f":"IF(E15=\"\",\"\",VLOOKUP(E15,学校番号!$A$2:$B$60,2,FALSE))","v":{"$error":"#N/A"}},228420000," "]
[228420000,null,null,null,284200,{"$f":"IF(E16=\"\",\"\",VLOOKUP(E16,学校番号!$A$2:$B$60,2,FALSE))","v":{"$error":"#N/A"}},228420000," "]
[228420000,null,null,null,284200,{"$f":"IF(E17=\"\",\"\",VLOOKUP(E17,学校番号!$A$2:$B$60,2,FALSE))","v":{"$error":"#N/A"}},228420000," "]
[228420000,null,null,null,284200,{"$f":"IF(E18=\"\",\"\",VLOOKUP(E18,学校番号!$A$2:$B$60,2,FALSE))","v":{"$error":"#N/A"}},228420000," "]
[228420000,null,null,null,284200,{"$f":"IF(E19=\"\",\"\",VLOOKUP(E19,学校番号!$A$2:$B$60,2,FALSE))","v":{"$error":"#N/A"}},228420000," "]
[228420000,null,null,null,284200,{"$f":"IF(E20=\"\",\"\",VLOOKUP(E20,学校番号!$A$2:$B$60,2,FALSE))","v":{"$error":"#N/A"}},228420000," "]
[228420000,null,null,null,284200,{"$f":"IF(E21=\"\",\"\",VLOOKUP(E21,学校番号!$A$2:$B$60,2,FALSE))","v":{"$error":"#N/A"}},228420000," "]
[228420000,null,null,null,284200,{"$f":"IF(E22=\"\",\"\",VLOOKUP(E22,学校番号!$A$2:$B$60,2,FALSE))","v":{"$error":"#N/A"}},228420000," "]
[228420000,null,null,null,284200,{"$f":"IF(E23=\"\",\"\",VLOOKUP(E23,学校番号!$A$2:$B$60,2,FALSE))","v":{"$error":"#N/A"}},228420000," "]
[228420000,null,null,null,284200,{"$f":"IF(E24=\"\",\"\",VLOOKUP(E24,学校番号!$A$2:$B$60,2,FALSE))","v":{"$error":"#N/A"}},228420000," "]
[228420000,null,null,null,284200,{"$f":"IF(E25=\"\",\"\",VLOOKUP(E25,学校番号!$A$2:$B$60,2,FALSE))","v":{"$error":"#N/A"}},228420000," "]
[228420000,null,null,null,284200,{"$f":"IF(E26=\"\",\"\",VLOOKUP(E26,学校番号!$A$2:$B$60,2,FALSE))","v":{"$error":"#N/A"}},228420000," "]
[228420000,null,null,null,284200,{"$f":"IF(E27=\"\",\"\",VLOOKUP(E27,学校番号!$A$2:$B$60,2,FALSE))","v":{"$error":"#N/A"}},228420000," "]
[228420000,null,null,null,284200,{"$f":"IF(E28=\"\",\"\",VLOOKUP(E28,学校番号!$A$2:$B$60,2,FALSE))","v":{"$error":"#N/A"}},228420000," "]
[228420000,null,null,null,284200,{"$f":"IF(E29=\"\",\"\",VLOOKUP(E29,学校番号!$A$2:$B$60,2,FALSE))","v":{"$error":"#N/A"}},228420000," "]
[228420000,null,null,null,284200,{"$f":"IF(E30=\"\",\"\",VLOOKUP(E30,学校番号!$A$2:$B$60,2,FALSE))","v":{"$error":"#N/A"}},228420000," "]
[228420000,null,null,null,284200,{"$f":"IF(E31=\"\",\"\",VLOOKUP(E31,学校番号!$A$2:$B$60,2,FALSE))","v":{"$error":"#N/A"}},228420000," "]
[228420000,null,null,null,284200,{"$f":"IF(E32=\"\",\"\",VLOOKUP(E32,学校番号!$A$2:$B$60,2,FALSE))","v":{"$error":"#N/A"}},228420000," "]
[228420000,null,null,null,284200,{"$f":"IF(E33=\"\",\"\",VLOOKUP(E33,学校番号!$A$2:$B$60,2,FALSE))","v":{"$error":"#N/A"}},228420000," "]
[228420000,null,null,null,284200,{"$f":"IF(E34=\"\",\"\",VLOOKUP(E34,学校番号!$A$2:$B$60,2,FALSE))","v":{"$error":"#N/A"}},{"$f":"A34","v":228420000}," "]
[228420000,null,null,null,284200,{"$f":"IF(E35=\"\",\"\",VLOOKUP(E35,学校番号!$A$2:$B$60,2,FALSE))","v":{"$error":"#N/A"}},228420000," "]
[228420000,null,null,null,284200,{"$f":"IF(E36=\"\",\"\",VLOOKUP(E36,学校番号!$A$2:$B$60,2,FALSE))","v":{"$error":"#N/A"}},228420000," "]
[228420000,null,null,null,284200,{"$f":"IF(E37=\"\",\"\",VLOOKUP(E37,学校番号!$A$2:$B$60,2,FALSE))","v":{"$error":"#N/A"}},228420000," "]
[228420000,null,null,null,284200,{"$f":"IF(E38=\"\",\"\",VLOOKUP(E38,学校番号!$A$2:$B$60,2,FALSE))","v":{"$error":"#N/A"}},228420000," "]
[228420000,null,null,null,284200,{"$f":"IF(E39=\"\",\"\",VLOOKUP(E39,学校番号!$A$2:$B$60,2,FALSE))","v":{"$error":"#N/A"}},228420000," "]
[228420000,null,null,null,284200,{"$f":"IF(E40=\"\",\"\",VLOOKUP(E40,学校番号!$A$2:$B$60,2,FALSE))","v":{"$error":"#N/A"}},228420000," "]
[228420000,null,null,null,284200,{"$f":"IF(E41=\"\",\"\",VLOOKUP(E41,学校番号!$A$2:$B$60,2,FALSE))","v":{"$error":"#N/A"}},228420000," "]
[228420000,null,null,null,284200,{"$f":"IF(E42=\"\",\"\",VLOOKUP(E42,学校番号!$A$2:$B$60,2,FALSE))","v":{"$error":"#N/A"}},228420000," "]
[228420000,null,null,null,284200,{"$f":"IF(E43=\"\",\"\",VLOOKUP(E43,学校番号!$A$2:$B$60,2,FALSE))","v":{"$error":"#N/A"}},228420000," "]
[228420000,null,null,null,284200,{"$f":"IF(E44=\"\",\"\",VLOOKUP(E44,学校番号!$A$2:$B$60,2,FALSE))","v":{"$error":"#N/A"}},228420000," "]
[228420000,null,null,null,284200,{"$f":"IF(E45=\"\",\"\",VLOOKUP(E45,学校番号!$A$2:$B$60,2,FALSE))","v":{"$error":"#N/A"}},228420000," "]
[228420000,null,null,null,284200,{"$f":"IF(E46=\"\",\"\",VLOOKUP(E46,学校番号!$A$2:$B$60,2,FALSE))","v":{"$error":"#N/A"}},228420000," "]
[228420000,null,null,null,284200,{"$f":"IF(E47=\"\",\"\",VLOOKUP(E47,学校番号!$A$2:$B$60,2,FALSE))","v":{"$error":"#N/A"}},228420000," "]
[228420000,null,null,null,284200,{"$f":"IF(E48=\"\",\"\",VLOOKUP(E48,学校番号!$A$2:$B$60,2,FALSE))","v":{"$error":"#N/A"}},228420000," "]
[228420000,null,null,null,284200,{"$f":"IF(E49=\"\",\"\",VLOOKUP(E49,学校番号!$A$2:$B$60,2,FALSE))","v":{"$error":"#N/A"}},228420000," "]
[228420000,null,null,null,284200,{"$f":"IF(E50=\"\",\"\",VLOOKUP(E50,学校番号!$A$2:$B$60,2,FALSE))","v":{"$error":"#N/A"}},228420000," "]
[228420000,null,null,null,284200,{"$f":"IF(E51=\"\",\"\",VLOOKUP(E51,学校番号!$A$2:$B$60,2,FALSE))","v":{"$error":"#N/A"}},228420000," "]
[228420000,null,null,null,284200,{"$f":"IF(E52=\"\",\"\",VLOOKUP(E52,学校番号!$A$2:$B$60,2,FALSE))","v":{"$error":"#N/A"}},228420000," "]
[228420000,null,null,null,284200,{"$f":"IF(E53=\"\",\"\",VLOOKUP(E53,学校番号!$A$2:$B$60,2,FALSE))","v":{"$error":"#N/A"}},228420000," "]
[228420000,null,null,null,284200,{"$f":"IF(E54=\"\",\"\",VLOOKUP(E54,学校番号!$A$2:$B$60,2,FALSE))","v":{"$error":"#N/A"}},228420000," "]
[228420000,null,null,null,{"$f":"IF(A55=\"\",\"\",VALUE(MID(A55,2,6)))","v":284200},{"$f":"IF(E55=\"\",\"\",VLOOKUP(E55,学校番号!$A$2:$B$60,2,FALSE))","v":{"$error":"#N/A"}},228420000," "]
[228420000,null,null,null,284200,{"$f":"IF(E56=\"\",\"\",VLOOKUP(E56,学校番号!$A$2:$B$60,2,FALSE))","v":{"$error":"#N/A"}},228420000," "]
[228420000,null,null,null,284200,{"$f":"IF(E57=\"\",\"\",VLOOKUP(E57,学校番号!$A$2:$B$60,2,FALSE))","v":{"$error":"#N/A"}},228420000," "]
[228420000,null,null,null,284200,{"$f":"IF(E58=\"\",\"\",VLOOKUP(E58,学校番号!$A$2:$B$60,2,FALSE))","v":{"$error":"#N/A"}},228420000," "]
[228420000,null,null,null,284200,{"$f":"IF(E59=\"\",\"\",VLOOKUP(E59,学校番号!$A$2:$B$60,2,FALSE))","v":{"$error":"#N/A"}},228420000," "]
[228420000,null,null,null,284200,{"$f":"IF(E60=\"\",\"\",VLOOKUP(E60,学校番号!$A$2:$B$60,2,FALSE))","v":{"$error":"#N/A"}},228420000," "]
[228420000,null,null,null,284200,{"$f":"IF(E61=\"\",\"\",VLOOKUP(E61,学校番号!$A$2:$B$60,2,FALSE))","v":{"$error":"#N/A"}},228420000," "]
[228420000,null,null,null,284200,{"$f":"IF(E62=\"\",\"\",VLOOKUP(E62,学校番号!$A$2:$B$60,2,FALSE))","v":{"$error":"#N/A"}},228420000," "]
[228420000,null,null,null,284200,{"$f":"IF(E63=\"\",\"\",VLOOKUP(E63,学校番号!$A$2:$B$60,2,FALSE))","v":{"$error":"#N/A"}},228420000," "]
[228420000,null,null,null,284200,{"$f":"IF(E64=\"\",\"\",VLOOKUP(E64,学校番号!$A$2:$B$60,2,FALSE))","v":{"$error":"#N/A"}},228420000," "]
[228420000,null,null,null,284200,{"$f":"IF(E65=\"\",\"\",VLOOKUP(E65,学校番号!$A$2:$B$60,2,FALSE))","v":{"$error":"#N/A"}},228420000," "]
[228420000,null,null,null,284200,{"$f":"IF(E66=\"\",\"\",VLOOKUP(E66,学校番号!$A$2:$B$60,2,FALSE))","v":{"$error":"#N/A"}},228420000," "]
[{"$f":"228420000+B67","v":228420000},null,null,null,{"$f":"IF(A67=\"\",\"\",VALUE(MID(A67,2,6)))","v":284200},{"$f":"IF(E67=\"\",\"\",VLOOKUP(E67,学校番号!$A$2:$B$60,2,FALSE))","v":{"$error":"#N/A"}},{"$f":"A67","v":228420000},{"$f":"LEFTB(C67,10)&\" \"&RIGHTB(C67,1)","v":" "}]
[228420000,null,null,null,284200,{"$f":"IF(E68=\"\",\"\",VLOOKUP(E68,学校番号!$A$2:$B$60,2,FALSE))","v":{"$error":"#N/A"}},228420000," "]
[228420000,null,null,null,284200,{"$f":"IF(E69=\"\",\"\",VLOOKUP(E69,学校番号!$A$2:$B$60,2,FALSE))","v":{"$error":"#N/A"}},228420000," "]
[228420000,null,null,null,284200,{"$f":"IF(E70=\"\",\"\",VLOOKUP(E70,学校番号!$A$2:$B$60,2,FALSE))","v":{"$error":"#N/A"}},228420000," "]
[228420000,null,null,null,284200,{"$f":"IF(E71=\"\",\"\",VLOOKUP(E71,学校番号!$A$2:$B$60,2,FALSE))","v":{"$error":"#N/A"}},228420000," "]
[228420000,null,null,null,284200,{"$f":"IF(E72=\"\",\"\",VLOOKUP(E72,学校番号!$A$2:$B$60,2,FALSE))","v":{"$error":"#N/A"}},228420000," "]
[228420000,null,null,null,284200,{"$f":"IF(E73=\"\",\"\",VLOOKUP(E73,学校番号!$A$2:$B$60,2,FALSE))","v":{"$error":"#N/A"}},228420000," "]
[228420000,null,null,null,284200,{"$f":"IF(E74=\"\",\"\",VLOOKUP(E74,学校番号!$A$2:$B$60,2,FALSE))","v":{"$error":"#N/A"}},228420000," "]
[228420000,null,null,null,284200,{"$f":"IF(E75=\"\",\"\",VLOOKUP(E75,学校番号!$A$2:$B$60,2,FALSE))","v":{"$error":"#N/A"}},228420000," "]
[228420000,null,null,null,284200,{"$f":"IF(E76=\"\",\"\",VLOOKUP(E76,学校番号!$A$2:$B$60,2,FALSE))","v":{"$error":"#N/A"}},228420000," "]
[228420000,null,null,null,284200,{"$f":"IF(E77=\"\",\"\",VLOOKUP(E77,学校番号!$A$2:$B$60,2,FALSE))","v":{"$error":"#N/A"}},228420000," "]
[228420000,null,null,null,284200,{"$f":"IF(E78=\"\",\"\",VLOOKUP(E78,学校番号!$A$2:$B$60,2,FALSE))","v":{"$error":"#N/A"}},228420000," "]
[228420000,null,null,null,284200,{"$f":"IF(E79=\"\",\"\",VLOOKUP(E79,学校番号!$A$2:$B$60,2,FALSE))","v":{"$error":"#N/A"}},228420000," "]
[228420000,null,null,null,284200,{"$f":"IF(E80=\"\",\"\",VLOOKUP(E80,学校番号!$A$2:$B$60,2,FALSE))","v":{"$error":"#N/A"}},228420000," "]
[228420000,null,null,null,284200,{"$f":"IF(E81=\"\",\"\",VLOOKUP(E81,学校番号!$A$2:$B$60,2,FALSE))","v":{"$error":"#N/A"}},228420000," "]
[228420000,null,null,null,284200,{"$f":"IF(E82=\"\",\"\",VLOOKUP(E82,学校番号!$A$2:$B$60,2,FALSE))","v":{"$error":"#N/A"}},228420000," "]
[228420000,null,null,null,284200,{"$f":"IF(E83=\"\",\"\",VLOOKUP(E83,学校番号!$A$2:$B$60,2,FALSE))","v":{"$error":"#N/A"}},228420000," "]
[228420000,null,null,null,284200,{"$f":"IF(E84=\"\",\"\",VLOOKUP(E84,学校番号!$A$2:$B$60,2,FALSE))","v":{"$error":"#N/A"}},228420000," "]
[228420000,null,null,null,284200,{"$f":"IF(E85=\"\",\"\",VLOOKUP(E85,学校番号!$A$2:$B$60,2,FALSE))","v":{"$error":"#N/A"}},228420000," "]
[228420000,null,null,null,284200,{"$f":"IF(E86=\"\",\"\",VLOOKUP(E86,学校番号!$A$2:$B$60,2,FALSE))","v":{"$error":"#N/A"}},228420000," "]
[228420000,null,null,null,284200,{"$f":"IF(E87=\"\",\"\",VLOOKUP(E87,学校番号!$A$2:$B$60,2,FALSE))","v":{"$error":"#N/A"}},228420000," "]
[228420000,null,null,null,284200,{"$f":"IF(E88=\"\",\"\",VLOOKUP(E88,学校番号!$A$2:$B$60,2,FALSE))","v":{"$error":"#N/A"}},228420000," "]
[228420000,null,null,null,284200,{"$f":"IF(E89=\"\",\"\",VLOOKUP(E89,学校番号!$A$2:$B$60,2,FALSE))","v":{"$error":"#N/A"}},228420000," "]
[228420000,null,null,null,284200,{"$f":"IF(E90=\"\",\"\",VLOOKUP(E90,学校番号!$A$2:$B$60,2,FALSE))","v":{"$error":"#N/A"}},228420000," "]
[228420000,null,null,null,284200,{"$f":"IF(E91=\"\",\"\",VLOOKUP(E91,学校番号!$A$2:$B$60,2,FALSE))","v":{"$error":"#N/A"}},228420000," "]
[228420000,null,null,null,284200,{"$f":"IF(E92=\"\",\"\",VLOOKUP(E92,学校番号!$A$2:$B$60,2,FALSE))","v":{"$error":"#N/A"}},228420000," "]
[228420000,null,null,null,284200,{"$f":"IF(E93=\"\",\"\",VLOOKUP(E93,学校番号!$A$2:$B$60,2,FALSE))","v":{"$error":"#N/A"}},228420000," "]
[228420000,null,null,null,284200,{"$f":"IF(E94=\"\",\"\",VLOOKUP(E94,学校番号!$A$2:$B$60,2,FALSE))","v":{"$error":"#N/A"}},228420000," "]
[228420000,null,null,null,284200,{"$f":"IF(E95=\"\",\"\",VLOOKUP(E95,学校番号!$A$2:$B$60,2,FALSE))","v":{"$error":"#N/A"}},228420000," "]
[228420000,null,null,null,284200,{"$f":"IF(E96=\"\",\"\",VLOOKUP(E96,学校番号!$A$2:$B$60,2,FALSE))","v":{"$error":"#N/A"}},228420000," "]
[228420000,null,null,null,284200,{"$f":"IF(E97=\"\",\"\",VLOOKUP(E97,学校番号!$A$2:$B$60,2,FALSE))","v":{"$error":"#N/A"}},228420000," "]
[228420000,null,null,null,284200,{"$f":"IF(E98=\"\",\"\",VLOOKUP(E98,学校番号!$A$2:$B$60,2,FALSE))","v":{"$error":"#N/A"}},228420000," "]
[228420000,null,null,null,284200,{"$f":"IF(E99=\"\",\"\",VLOOKUP(E99,学校番号!$A$2:$B$60,2,FALSE))","v":{"$error":"#N/A"}},228420000," "]
[228420000,null,null,null,284200,{"$f":"IF(E100=\"\",\"\",VLOOKUP(E100,学校番号!$A$2:$B$60,2,FALSE))","v":{"$error":"#N/A"}},228420000," "]
[228420000,null,null,null,284200,{"$f":"IF(E101=\"\",\"\",VLOOKUP(E101,学校番号!$A$2:$B$60,2,FALSE))","v":{"$error":"#N/A"}},228420000," "]

{"sheet":"記録入力1","index":3,"n_rows":287,"n_cols":15,"rows_kept":287,"cut":false,"hidden":false,"merged":[[1,0,2,0],[1,2,2,2],[1,3,2,3],[1,4,2,4],[1,14,2,14],[1,8,2,8],[1,9,2,9],[1,10,2,10],[1,11,2,11],[1,12,2,12],[1,13,2,13]]}
[2,null,3,4,7,8,9,10,12,14,15,16,17,19,20]
["種目\nコード",null,"種目","TFC","No","分","秒","1/100","記録","No","氏名","学校名","学校番号","入力用","備考"]
[null,null,null,null,null,null,"m","cm"]
["00200",{"$f":"A4&E4","v":"00200"},{"$f":"VLOOKUP(A4,初期設定1!$B$18:$C$38,2,FALSE)","v":"100m"},{"$f":"VLOOKUP(A4,初期設定1!$B$18:$D$40,3,FALSE)","v":"01T"},null,null,null,null,{"$f":"IF(AND(F4=\"\",G4=\"\",H4=\"\"),\"\",IF(D4=\"01T\",IF(F4=\"\",G4&\"\"\"\"&H4,F4&\"'\"&G4&\"\"\"\"&H4),IF(D4=\"02F\",G4&\"m\"&H4,H4&\"点\")))","v":""},{"$f":"IF(E4=\"\",\"\",E4)","v":""},{"$f":"IF(E4=\"\",\"\",VLOOKUP(E4,女子選手!$B$2:$F$158,2,FALSE))","v":""},{"$f":"IF(E4=\"\",\"\",VLOOKUP(E4,女子選手!$B$2:$F$158,5,FALSE))","v":""},{"$f":"IF(E4=\"\",\"\",VLOOKUP(E4,女子選手!$B$2:$F$158,4,FALSE))","v":""},{"$f":"FIXED((F4*10000+G4*100+H4)/10000000,7)","v":"0.0000000"}]
["00200","00200",{"$f":"VLOOKUP(A5,初期設定1!$B$18:$C$38,2,FALSE)","v":"100m"},{"$f":"VLOOKUP(A5,初期設定1!$B$18:$D$40,3,FALSE)","v":"01T"},null,null,null,null,{"$f":"IF(AND(F5=\"\",G5=\"\",H5=\"\"),\"\",IF(D5=\"01T\",IF(F5=\"\",G5&\"\"\"\"&H5,F5&\"'\"&G5&\"\"\"\"&H5),IF(D5=\"02F\",G5&\"m\"&H5,H5&\"点\")))","v":""},{"$f":"IF(E5=\"\",\"\",E5)","v":""},{"$f":"IF(E5=\"\",\"\",VLOOKUP(E5,女子選手!$B$2:$F$158,2,FALSE))","v":""},{"$f":"IF(E5=\"\",\"\",VLOOKUP(E5,女子選手!$B$2:$F$158,5,FALSE))","v":""},{"$f":"IF(E5=\"\",\"\",VLOOKUP(E5,女子選手!$B$2:$F$158,4,FALSE))","v":""},{"$f":"FIXED((F5*10000+G5*100+H5)/10000000,7)","v":"0.0000000"}]
["00200","00200",{"$f":"VLOOKUP(A6,初期設定1!$B$18:$C$38,2,FALSE)","v":"100m"},{"$f":"VLOOKUP(A6,初期設定1!$B$18:$D$40,3,FALSE)","v":"01T"},null,null,null,null,"","",{"$f":"IF(E6=\"\",\"\",VLOOKUP(E6,女子選手!$B$2:$F$158,2,FALSE))","v":""},{"$f":"IF(E6=\"\",\"\",VLOOKUP(E6,女子選手!$B$2:$F$158,5,FALSE))","v":""},{"$f":"IF(E6=\"\",\"\",VLOOKUP(E6,女子選手!$B$2:$F$158,4,FALSE))","v":""},"0.0000000"]
["00200","00200",{"$f":"VLOOKUP(A7,初期設定1!$B$18:$C$38,2,FALSE)","v":"100m"},{"$f":"VLOOKUP(A7,初期設定1!$B$18:$D$40,3,FALSE)","v":"01T"},null,null,null,null,"","",{"$f":"IF(E7=\"\",\"\",VLOOKUP(E7,女子選手!$B$2:$F$158,2,FALSE))","v":""},{"$f":"IF(E7=\"\",\"\",VLOOKUP(E7,女子選手!$B$2:$F$158,5,FALSE))","v":""},{"$f":"IF(E7=\"\",\"\",VLOOKUP(E7,女子選手!$B$2:$F$158,4,FALSE))","v":""},"0.0000000"]
["00200","00200",{"$f":"VLOOKUP(A8,初期設定1!$B$18:$C$38,2,FALSE)","v":"100m"},{"$f":"VLOOKUP(A8,初期設定1!$B$18:$D$40,3,FALSE)","v":"01T"},null,null,null,null,"","",{"$f":"IF(E8=\"\",\"\",VLOOKUP(E8,女子選手!$B$2:$F$158,2,FALSE))","v":""},{"$f":"IF(E8=\"\",\"\",VLOOKUP(E8,女子選手!$B$2:$F$158,5,FALSE))","v":""},{"$f":"IF(E8=\"\",\"\",VLOOKUP(E8,女子選手!$B$2:$F$158,4,FALSE))","v":""},"0.0000000"]
["00200","00200",{"$f":"VLOOKUP(A9,初期設定1!$B$18:$C$38,2,FALSE)","v":"100m"},{"$f":"VLOOKUP(A9,初期設定1!$B$18:$D$40,3,FALSE)","v":"01T"},null,null,null,null,"","",{"$f":"IF(E9=\"\",\"\",VLOOKUP(E9,女子選手!$B$2:$F$158,2,FALSE))","v":""},{"$f":"IF(E9=\"\",\"\",VLOOKUP(E9,女子選手!$B$2:$F$158,5,FALSE))","v":""},{"$f":"IF(E9=\"\",\"\",VLOOKUP(E9,女子選手!$B$2:$F$158,4,FALSE))","v":""},"0.0000000"]
["00200","00200",{"$f":"VLOOKUP(A10,初期設定1!$B$18:$C$38,2,FALSE)","v":"100m"},{"$f":"VLOOKUP(A10,初期設定1!$B$18:$D$40,3,FALSE)","v":"01T"},null,null,null,null,"","",{"$f":"IF(E10=\"\",\"\",VLOOKUP(E10,女子選手!$B$2:$F$158,2,FALSE))","v":""},{"$f":"IF(E10=\"\",\"\",VLOOKUP(E10,女子選手!$B$2:$F$158,5,FALSE))","v":""},{"$f":"IF(E10=\"\",\"\",VLOOKUP(E10,女子選手!$B$2:$F$158,4,FALSE))","v":""},"0.0000000"]
["00200",{"$f":"A11&E11","v":"00200"},{"$f":"VLOOKUP(A11,初期設定1!$B$18:$C$38,2,FALSE)","v":"100m"},{"$f":"VLOOKUP(A11,初期設定1!$B$18:$D$40,3,FALSE)","v":"01T"},null,null,null,null,{"$f":"IF(AND(F11=\"\",G11=\"\",H11=\"\"),\"\",IF(D11=\"01T\",IF(F11=\"\",G11&\"\"\"\"&H11,F11&\"'\"&G11&\"\"\"\"&H11),IF(D11=\"02F\",G11&\"m\"&H11,H11&\"点\")))","v":""},{"$f":"IF(E11=\"\",\"\",E11)","v":""},{"$f":"IF(E11=\"\",\"\",VLOOKUP(E11,女子選手!$B$2:$F$158,2,FALSE))","v":""},{"$f":"IF(E11=\"\",\"\",VLOOKUP(E11,女子選手!$B$2:$F$158,5,FALSE))","v":""},{"$f":"IF(E11=\"\",\"\",VLOOKUP(E11,女子選手!$B$2:$F$158,4,FALSE))","v":""},{"$f":"FIXED((F11*10000+G11*100+H11)/10000000,7)","v":"0.0000000"}]
["00200","00200",{"$f":"VLOOKUP(A12,初期設定1!$B$18:$C$38,2,FALSE)","v":"100m"},{"$f":"VLOOKUP(A12,初期設定1!$B$18:$D$40,3,FALSE)","v":"01T"},null,null,null,null,"","",{"$f":"IF(E12=\"\",\"\",VLOOKUP(E12,女子選手!$B$2:$F$158,2,FALSE))","v":""},{"$f":"IF(E12=\"\",\"\",VLOOKUP(E12,女子選手!$B$2:$F$158,5,FALSE))","v":""},{"$f":"IF(E12=\"\",\"\",VLOOKUP(E12,女子選手!$B$2:$F$158,4,FALSE))","v":""},"0.0000000"]
["00200","00200",{"$f":"VLOOKUP(A13,初期設定1!$B$18:$C$38,2,FALSE)","v":"100m"},{"$f":"VLOOKUP(A13,初期設定1!$B$18:$D$40,3,FALSE)","v":"01T"},null,null,null,null,"","",{"$f":"IF(E13=\"\",\"\",VLOOKUP(E13,女子選手!$B$2:$F$158,2,FALSE))","v":""},{"$f":"IF(E13=\"\",\"\",VLOOKUP(E13,女子選手!$B$2:$F$158,5,FALSE))","v":""},{"$f":"IF(E13=\"\",\"\",VLOOKUP(E13,女子選手!$B$2:$F$158,4,FALSE))","v":""},"0.0000000"]
["00200","00200",{"$f":"VLOOKUP(A14,初期設定1!$B$18:$C$38,2,FALSE)","v":"100m"},{"$f":"VLOOKUP(A14,初期設定1!$B$18:$D$40,3,FALSE)","v":"01T"},null,null,null,null,"","",{"$f":"IF(E14=\"\",\"\",VLOOKUP(E14,女子選手!$B$2:$F$158,2,FALSE))","v":""},{"$f":"IF(E14=\"\",\"\",VLOOKUP(E14,女子選手!$B$2:$F$158,5,FALSE))","v":""},{"$f":"IF(E14=\"\",\"\",VLOOKUP(E14,女子選手!$B$2:$F$158,4,FALSE))","v":""},"0.0000000"]
["00200","00200",{"$f":"VLOOKUP(A15,初期設定1!$B$18:$C$38,2,FALSE)","v":"100m"},{"$f":"VLOOKUP(A15,初期設定1!$B$18:$D$40,3,FALSE)","v":"01T"},null,null,null,null,"","",{"$f":"IF(E15=\"\",\"\",VLOOKUP(E15,女子選手!$B$2:$F$158,2,FALSE))","v":""},{"$f":"IF(E15=\"\",\"\",VLOOKUP(E15,女子選手!$B$2:$F$158,5,FALSE))","v":""},{"$f":"IF(E15=\"\",\"\",VLOOKUP(E15,女子選手!$B$2:$F$158,4,FALSE))","v":""},"0.0000000"]
["00200","00200",{"$f":"VLOOKUP(A16,初期設定1!$B$18:$C$38,2,FALSE)","v":"100m"},{"$f":"VLOOKUP(A16,初期設定1!$B$18:$D$40,3,FALSE)","v":"01T"},null,null,null,null,"","",{"$f":"IF(E16=\"\",\"\",VLOOKUP(E16,女子選手!$B$2:$F$158,2,FALSE))","v":""},{"$f":"IF(E16=\"\",\"\",VLOOKUP(E16,女子選手!$B$2:$F$158,5,FALSE))","v":""},{"$f":"IF(E16=\"\",\"\",VLOOKUP(E16,女子選手!$B$2:$F$158,4,FALSE))","v":""},"0.0000000"]
["00200","00200",{"$f":"VLOOKUP(A17,初期設定1!$B$18:$C$38,2,FALSE)","v":"100m"},{"$f":"VLOOKUP(A17,初期設定1!$B$18:$D$40,3,FALSE)","v":"01T"},null,null,null,null,"","",{"$f":"IF(E17=\"\",\"\",VLOOKUP(E17,女子選手!$B$2:$F$158,2,FALSE))","v":""},{"$f":"IF(E17=\"\",\"\",VLOOKUP(E17,女子選手!$B$2:$F$158,5,FALSE))","v":""},{"$f":"IF(E17=\"\",\"\",VLOOKUP(E17,女子選手!$B$2:$F$158,4,FALSE))","v":""},"0.0000000"]
["00200","00200",{"$f":"VLOOKUP(A18,初期設定1!$B$18:$C$38,2,FALSE)","v":"100m"},{"$f":"VLOOKUP(A18,初期設定1!$B$18:$D$40,3,FALSE)","v":"01T"},null,null,null,null,{"$f":"IF(AND(F18=\"\",G18=\"\",H18=\"\"),\"\",IF(D18=\"01T\",IF(F18=\"\",G18&\"\"\"\"&H18,F18&\"'\"&G18&\"\"\"\"&H18),IF(D18=\"02F\",G18&\"m\"&H18,H18&\"点\")))","v":""},{"$f":"IF(E18=\"\",\"\",E18)","v":""},{"$f":"IF(E18=\"\",\"\",VLOOKUP(E18,女子選手!$B$2:$F$158,2,FALSE))","v":""},{"$f":"IF(E18=\"\",\"\",VLOOKUP(E18,女子選手!$B$2:$F$158,5,FALSE))","v":""},{"$f":"IF(E18=\"\",\"\",VLOOKUP(E18,女子選手!$B$2:$F$158,4,FALSE))","v":""},{"$f":"FIXED((F18*10000+G18*100+H18)/10000000,7)","v":"0.0000000"}]
["00200","00200",{"$f":"VLOOKUP(A19,初期設定1!$B$18:$C$38,2,FALSE)","v":"100m"},{"$f":"VLOOKUP(A19,初期設定1!$B$18:$D$40,3,FALSE)","v":"01T"},null,null,null,null,"","",{"$f":"IF(E19=\"\",\"\",VLOOKUP(E19,女子選手!$B$2:$F$158,2,FALSE))","v":""},{"$f":"IF(E19=\"\",\"\",VLOOKUP(E19,女子選手!$B$2:$F$158,5,FALSE))","v":""},{"$f":"IF(E19=\"\",\"\",VLOOKUP(E19,女子選手!$B$2:$F$158,4,FALSE))","v":""},"0.0000000"]
["00200","00200",{"$f":"VLOOKUP(A20,初期設定1!$B$18:$C$38,2,FALSE)","v":"100m"},{"$f":"VLOOKUP(A20,初期設定1!$B$18:$D$40,3,FALSE)","v":"01T"},null,null,null,null,{"$f":"IF(AND(F20=\"\",G20=\"\",H20=\"\"),\"\",IF(D20=\"01T\",IF(F20=\"\",G20&\"\"\"\"&H20,F20&\"'\"&G20&\"\"\"\"&H20),IF(D20=\"02F\",G20&\"m\"&H20,H20&\"点\")))","v":""},{"$f":"IF(E20=\"\",\"\",E20)","v":""},{"$f":"IF(E20=\"\",\"\",VLOOKUP(E20,女子選手!$B$2:$F$158,2,FALSE))","v":""},{"$f":"IF(E20=\"\",\"\",VLOOKUP(E20,女子選手!$B$2:$F$158,5,FALSE))","v":""},{"$f":"IF(E20=\"\",\"\",VLOOKUP(E20,女子選手!$B$2:$F$158,4,FALSE))","v":""},{"$f":"FIXED((F20*10000+G20*100+H20)/10000000,7)","v":"0.0000000"}]
["00200","00200",{"$f":"VLOOKUP(A21,初期設定1!$B$18:$C$38,2,FALSE)","v":"100m"},{"$f":"VLOOKUP(A21,初期設定1!$B$18:$D$40,3,FALSE)","v":"01T"},null,null,null,null,{"$f":"IF(AND(F21=\"\",G21=\"\",H21=\"\"),\"\",IF(D21=\"01T\",IF(F21=\"\",G21&\"\"\"\"&H21,F21&\"'\"&G21&\"\"\"\"&H21),IF(D21=\"02F\",G21&\"m\"&H21,H21&\"点\")))","v":""},{"$f":"IF(E21=\"\",\"\",E21)","v":""},{"$f":"IF(E21=\"\",\"\",VLOOKUP(E21,女子選手!$B$2:$F$158,2,FALSE))","v":""},{"$f":"IF(E21=\"\",\"\",VLOOKUP(E21,女子選手!$B$2:$F$158,5,FALSE))","v":""},{"$f":"IF(E21=\"\",\"\",VLOOKUP(E21,女子選手!$B$2:$F$158,4,FALSE))","v":""},{"$f":"FIXED((F21*10000+G21*100+H21)/10000000,7)","v":"0.0000000"}]
["00200","00200",{"$f":"VLOOKUP(A22,初期設定1!$B$18:$C$38,2,FALSE)","v":"100m"},{"$f":"VLOOKUP(A22,初期設定1!$B$18:$D$40,3,FALSE)","v":"01T"},null,null,null,null,{"$f":"IF(AND(F22=\"\",G22=\"\",H22=\"\"),\"\",IF(D22=\"01T\",IF(F22=\"\",G22&\"\"\"\"&H22,F22&\"'\"&G22&\"\"\"\"&H22),IF(D22=\"02F\",G22&\"m\"&H22,H22&\"点\")))","v":""},{"$f":"IF(E22=\"\",\"\",E22)","v":""},{"$f":"IF(E22=\"\",\"\",VLOOKUP(E22,女子選手!$B$2:$F$158,2,FALSE))","v":""},{"$f":"IF(E22=\"\",\"\",VLOOKUP(E22,女子選手!$B$2:$F$158,5,FALSE))","v":""},{"$f":"IF(E22=\"\",\"\",VLOOKUP(E22,女子選手!$B$2:$F$158,4,FALSE))","v":""},{"$f":"FIXED((F22*10000+G22*100+H22)/10000000,7)","v":"0.0000000"}]
["00200","00200",{"$f":"VLOOKUP(A23,初期設定1!$B$18:$C$38,2,FALSE)","v":"100m"},{"$f":"VLOOKUP(A23,初期設定1!$B$18:$D$40,3,FALSE)","v":"01T"},null,null,null,null,"","",{"$f":"IF(E23=\"\",\"\",VLOOKUP(E23,女子選手!$B$2:$F$158,2,FALSE))","v":""},{"$f":"IF(E23=\"\",\"\",VLOOKUP(E23,女子選手!$B$2:$F$158,5,FALSE))","v":""},{"$f":"IF(E23=\"\",\"\",VLOOKUP(E23,女子選手!$B$2:$F$158,4,FALSE))","v":""},"0.0000000"]
["00200","00200",{"$f":"VLOOKUP(A24,初期設定1!$B$18:$C$38,2,FALSE)","v":"100m"},{"$f":"VLOOKUP(A24,初期設定1!$B$18:$D$40,3,FALSE)","v":"01T"},null,null,null,null,"","",{"$f":"IF(E24=\"\",\"\",VLOOKUP(E24,女子選手!$B$2:$F$158,2,FALSE))","v":""},{"$f":"IF(E24=\"\",\"\",VLOOKUP(E24,女子選手!$B$2:$F$158,5,FALSE))","v":""},{"$f":"IF(E24=\"\",\"\",VLOOKUP(E24,女子選手!$B$2:$F$158,4,FALSE))","v":""},"0.0000000"]
["00200","00200",{"$f":"VLOOKUP(A25,初期設定1!$B$18:$C$38,2,FALSE)","v":"100m"},{"$f":"VLOOKUP(A25,初期設定1!$B$18:$D$40,3,FALSE)","v":"01T"},null,null,null,null,"","",{"$f":"IF(E25=\"\",\"\",VLOOKUP(E25,女子選手!$B$2:$F$158,2,FALSE))","v":""},{"$f":"IF(E25=\"\",\"\",VLOOKUP(E25,女子選手!$B$2:$F$158,5,FALSE))","v":""},{"$f":"IF(E25=\"\",\"\",VLOOKUP(E25,女子選手!$B$2:$F$158,4,FALSE))","v":""},"0.0000000"]
["00200","00200",{"$f":"VLOOKUP(A26,初期設定1!$B$18:$C$38,2,FALSE)","v":"100m"},{"$f":"VLOOKUP(A26,初期設定1!$B$18:$D$40,3,FALSE)","v":"01T"},null,null,null,null,{"$f":"IF(AND(F26=\"\",G26=\"\",H26=\"\"),\"\",IF(D26=\"01T\",IF(F26=\"\",G26&\"\"\"\"&H26,F26&\"'\"&G26&\"\"\"\"&H26),IF(D26=\"02F\",G26&\"m\"&H26,H26&\"点\")))","v":""},{"$f":"IF(E26=\"\",\"\",E26)","v":""},{"$f":"IF(E26=\"\",\"\",VLOOKUP(E26,女子選手!$B$2:$F$158,2,FALSE))","v":""},{"$f":"IF(E26=\"\",\"\",VLOOKUP(E26,女子選手!$B$2:$F$158,5,FALSE))","v":""},{"$f":"IF(E26=\"\",\"\",VLOOKUP(E26,女子選手!$B$2:$F$158,4,FALSE))","v":""},{"$f":"FIXED((F26*10000+G26*100+H26)/10000000,7)","v":"0.0000000"}]
["00200","00200",{"$f":"VLOOKUP(A27,初期設定1!$B$18:$C$38,2,FALSE)","v":"100m"},{"$f":"VLOOKUP(A27,初期設定1!$B$18:$D$40,3,FALSE)","v":"01T"},null,null,null,null,{"$f":"IF(AND(F27=\"\",G27=\"\",H27=\"\"),\"\",IF(D27=\"01T\",IF(F27=\"\",G27&\"\"\"\"&H27,F27&\"'\"&G27&\"\"\"\"&H27),IF(D27=\"02F\",G27&\"m\"&H27,H27&\"点\")))","v":""},{"$f":"IF(E27=\"\",\"\",E27)","v":""},{"$f":"IF(E27=\"\",\"\",VLOOKUP(E27,女子選手!$B$2:$F$158,2,FALSE))","v":""},{"$f":"IF(E27=\"\",\"\",VLOOKUP(E27,女子選手!$B$2:$F$158,5,FALSE))","v":""},{"$f":"IF(E27=\"\",\"\",VLOOKUP(E27,女子選手!$B$2:$F$158,4,FALSE))","v":""},{"$f":"FIXED((F27*10000+G27*100+H27)/10000000,7)","v":"0.0000000"}]
["00200","00200",{"$f":"VLOOKUP(A28,初期設定1!$B$18:$C$38,2,FALSE)","v":"100m"},{"$f":"VLOOKUP(A28,初期設定1!$B$18:$D$40,3,FALSE)","v":"01T"},null,null,null,null,{"$f":"IF(AND(F28=\"\",G28=\"\",H28=\"\"),\"\",IF(D28=\"01T\",IF(F28=\"\",G28&\"\"\"\"&H28,F28&\"'\"&G28&\"\"\"\"&H28),IF(D28=\"02F\",G28&\"m\"&H28,H28&\"点\")))","v":""},{"$f":"IF(E28=\"\",\"\",E28)","v":""},{"$f":"IF(E28=\"\",\"\",VLOOKUP(E28,女子選手!$B$2:$F$158,2,FALSE))","v":""},{"$f":"IF(E28=\"\",\"\",VLOOKUP(E28,女子選手!$B$2:$F$158,5,FALSE))","v":""},{"$f":"IF(E28=\"\",\"\",VLOOKUP(E28,女子選手!$B$2:$F$158,4,FALSE))","v":""},{"$f":"FIXED((F28*10000+G28*100+H28)/10000000,7)","v":"0.0000000"}]
["00300","00300",{"$f":"VLOOKUP(A29,初期設定1!$B$18:$C$38,2,FALSE)","v":"200m"},{"$f":"VLOOKUP(A29,初期設定1!$B$18:$D$40,3,FALSE)","v":"01T"},null,null,null,null,"","",{"$f":"IF(E29=\"\",\"\",VLOOKUP(E29,女子選手!$B$2:$F$158,2,FALSE))","v":""},{"$f":"IF(E29=\"\",\"\",VLOOKUP(E29,女子選手!$B$2:$F$158,5,FALSE))","v":""},{"$f":"IF(E29=\"\",\"\",VLOOKUP(E29,女子選手!$B$2:$F$158,4,FALSE))","v":""},"0.0000000"]
["00300","00300",{"$f":"VLOOKUP(A30,初期設定1!$B$18:$C$38,2,FALSE)","v":"200m"},{"$f":"VLOOKUP(A30,初期設定1!$B$18:$D$40,3,FALSE)","v":"01T"},null,null,null,null,"","",{"$f":"IF(E30=\"\",\"\",VLOOKUP(E30,女子選手!$B$2:$F$158,2,FALSE))","v":""},{"$f":"IF(E30=\"\",\"\",VLOOKUP(E30,女子選手!$B$2:$F$158,5,FALSE))","v":""},{"$f":"IF(E30=\"\",\"\",VLOOKUP(E30,女子選手!$B$2:$F$158,4,FALSE))","v":""},"0.0000000"]
["00300","00300",{"$f":"VLOOKUP(A31,初期設定1!$B$18:$C$38,2,FALSE)","v":"200m"},{"$f":"VLOOKUP(A31,初期設定1!$B$18:$D$40,3,FALSE)","v":"01T"},null,null,null,null,"","",{"$f":"IF(E31=\"\",\"\",VLOOKUP(E31,女子選手!$B$2:$F$158,2,FALSE))","v":""},{"$f":"IF(E31=\"\",\"\",VLOOKUP(E31,女子選手!$B$2:$F$158,5,FALSE))","v":""},{"$f":"IF(E31=\"\",\"\",VLOOKUP(E31,女子選手!$B$2:$F$158,4,FALSE))","v":""},"0.0000000"]
["00300","00300",{"$f":"VLOOKUP(A32,初期設定1!$B$18:$C$38,2,FALSE)","v":"200m"},{"$f":"VLOOKUP(A32,初期設定1!$B$18:$D$40,3,FALSE)","v":"01T"},null,null,null,null,"","",{"$f":"IF(E32=\"\",\"\",VLOOKUP(E32,女子選手!$B$2:$F$158,2,FALSE))","v":""},{"$f":"IF(E32=\"\",\"\",VLOOKUP(E32,女子選手!$B$2:$F$158,5,FALSE))","v":""},{"$f":"IF(E32=\"\",\"\",VLOOKUP(E32,女子選手!$B$2:$F$158,4,FALSE))","v":""},"0.0000000"]
["00300","00300",{"$f":"VLOOKUP(A33,初期設定1!$B$18:$C$38,2,FALSE)","v":"200m"},{"$f":"VLOOKUP(A33,初期設定1!$B$18:$D$40,3,FALSE)","v":"01T"},null,null,null,null,{"$f":"IF(AND(F33=\"\",G33=\"\",H33=\"\"),\"\",IF(D33=\"01T\",IF(F33=\"\",G33&\"\"\"\"&H33,F33&\"'\"&G33&\"\"\"\"&H33),IF(D33=\"02F\",G33&\"m\"&H33,H33&\"点\")))","v":""},{"$f":"IF(E33=\"\",\"\",E33)","v":""},{"$f":"IF(E33=\"\",\"\",VLOOKUP(E33,女子選手!$B$2:$F$158,2,FALSE))","v":""},{"$f":"IF(E33=\"\",\"\",VLOOKUP(E33,女子選手!$B$2:$F$158,5,FALSE))","v":""},{"$f":"IF(E33=\"\",\"\",VLOOKUP(E33,女子選手!$B$2:$F$158,4,FALSE))","v":""},{"$f":"FIXED((F33*10000+G33*100+H33)/10000000,7)","v":"0.0000000"}]
["00300","00300",{"$f":"VLOOKUP(A34,初期設定1!$B$18:$C$38,2,FALSE)","v":"200m"},{"$f":"VLOOKUP(A34,初期設定1!$B$18:$D$40,3,FALSE)","v":"01T"},null,null,null,null,"","",{"$f":"IF(E34=\"\",\"\",VLOOKUP(E34,女子選手!$B$2:$F$158,2,FALSE))","v":""},{"$f":"IF(E34=\"\",\"\",VLOOKUP(E34,女子選手!$B$2:$F$158,5,FALSE))","v":""},{"$f":"IF(E34=\"\",\"\",VLOOKUP(E34,女子選手!$B$2:$F$158,4,FALSE))","v":""},"0.0000000"]
["00300",{"$f":"A35&E35","v":"00300"},{"$f":"VLOOKUP(A35,初期設定1!$B$18:$C$38,2,FALSE)","v":"200m"},{"$f":"VLOOKUP(A35,初期設定1!$B$18:$D$40,3,FALSE)","v":"01T"},null,null,null,null,"","",{"$f":"IF(E35=\"\",\"\",VLOOKUP(E35,女子選手!$B$2:$F$158,2,FALSE))","v":""},{"$f":"IF(E35=\"\",\"\",VLOOKUP(E35,女子選手!$B$2:$F$158,5,FALSE))","v":""},{"$f":"IF(E35=\"\",\"\",VLOOKUP(E35,女子選手!$B$2:$F$158,4,FALSE))","v":""},"0.0000000"]
["00300",{"$f":"A36&E36","v":"00300"},{"$f":"VLOOKUP(A36,初期設定1!$B$18:$C$38,2,FALSE)","v":"200m"},{"$f":"VLOOKUP(A36,初期設定1!$B$18:$D$40,3,FALSE)","v":"01T"},null,null,null,null,"","",{"$f":"IF(E36=\"\",\"\",VLOOKUP(E36,女子選手!$B$2:$F$158,2,FALSE))","v":""},{"$f":"IF(E36=\"\",\"\",VLOOKUP(E36,女子選手!$B$2:$F$158,5,FALSE))","v":""},{"$f":"IF(E36=\"\",\"\",VLOOKUP(E36,女子選手!$B$2:$F$158,4,FALSE))","v":""},"0.0000000"]
["00300",{"$f":"A37&E37","v":"00300"},{"$f":"VLOOKUP(A37,初期設定1!$B$18:$C$38,2,FALSE)","v":"200m"},{"$f":"VLOOKUP(A37,初期設定1!$B$18:$D$40,3,FALSE)","v":"01T"},null,null,null,null,"","",{"$f":"IF(E37=\"\",\"\",VLOOKUP(E37,女子選手!$B$2:$F$158,2,FALSE))","v":""},{"$f":"IF(E37=\"\",\"\",VLOOKUP(E37,女子選手!$B$2:$F$158,5,FALSE))","v":""},{"$f":"IF(E37=\"\",\"\",VLOOKUP(E37,女子選手!$B$2:$F$158,4,FALSE))","v":""},"0.0000000"]
["00300",{"$f":"A38&E38","v":"00300"},{"$f":"VLOOKUP(A38,初期設定1!$B$18:$C$38,2,FALSE)","v":"200m"},{"$f":"VLOOKUP(A38,初期設定1!$B$18:$D$40,3,FALSE)","v":"01T"},null,null,null,null,"","",{"$f":"IF(E38=\"\",\"\",VLOOKUP(E38,女子選手!$B$2:$F$158,2,FALSE))","v":""},{"$f":"IF(E38=\"\",\"\",VLOOKUP(E38,女子選手!$B$2:$F$158,5,FALSE))","v":""},{"$f":"IF(E38=\"\",\"\",VLOOKUP(E38,女子選手!$B$2:$F$158,4,FALSE))","v":""},"0.0000000"]
["00300",{"$f":"A39&E39","v":"00300"},{"$f":"VLOOKUP(A39,初期設定1!$B$18:$C$38,2,FALSE)","v":"200m"},{"$f":"VLOOKUP(A39,初期設定1!$B$18:$D$40,3,FALSE)","v":"01T"},null,null,null,null,"","",{"$f":"IF(E39=\"\",\"\",VLOOKUP(E39,女子選手!$B$2:$F$158,2,FALSE))","v":""},{"$f":"IF(E39=\"\",\"\",VLOOKUP(E39,女子選手!$B$2:$F$158,5,FALSE))","v":""},{"$f":"IF(E39=\"\",\"\",VLOOKUP(E39,女子選手!$B$2:$F$158,4,FALSE))","v":""},"0.0000000"]
["00300","00300",{"$f":"VLOOKUP(A40,初期設定1!$B$18:$C$38,2,FALSE)","v":"200m"},{"$f":"VLOOKUP(A40,初期設定1!$B$18:$D$40,3,FALSE)","v":"01T"},null,null,null,null,{"$f":"IF(AND(F40=\"\",G40=\"\",H40=\"\"),\"\",IF(D40=\"01T\",IF(F40=\"\",G40&\"\"\"\"&H40,F40&\"'\"&G40&\"\"\"\"&H40),IF(D40=\"02F\",G40&\"m\"&H40,H40&\"点\")))","v":""},{"$f":"IF(E40=\"\",\"\",E40)","v":""},{"$f":"IF(E40=\"\",\"\",VLOOKUP(E40,女子選手!$B$2:$F$158,2,FALSE))","v":""},{"$f":"IF(E40=\"\",\"\",VLOOKUP(E40,女子選手!$B$2:$F$158,5,FALSE))","v":""},{"$f":"IF(E40=\"\",\"\",VLOOKUP(E40,女子選手!$B$2:$F$158,4,FALSE))","v":""},{"$f":"FIXED((F40*10000+G40*100+H40)/10000000,7)","v":"0.0000000"}]
["00300","00300",{"$f":"VLOOKUP(A41,初期設定1!$B$18:$C$38,2,FALSE)","v":"200m"},{"$f":"VLOOKUP(A41,初期設定1!$B$18:$D$40,3,FALSE)","v":"01T"},null,null,null,null,"","",{"$f":"IF(E41=\"\",\"\",VLOOKUP(E41,女子選手!$B$2:$F$158,2,FALSE))","v":""},{"$f":"IF(E41=\"\",\"\",VLOOKUP(E41,女子選手!$B$2:$F$158,5,FALSE))","v":""},{"$f":"IF(E41=\"\",\"\",VLOOKUP(E41,女子選手!$B$2:$F$158,4,FALSE))","v":""},"0.0000000"]
["00300","00300",{"$f":"VLOOKUP(A42,初期設定1!$B$18:$C$38,2,FALSE)","v":"200m"},{"$f":"VLOOKUP(A42,初期設定1!$B$18:$D$40,3,FALSE)","v":"01T"},null,null,null,null,"","",{"$f":"IF(E42=\"\",\"\",VLOOKUP(E42,女子選手!$B$2:$F$158,2,FALSE))","v":""},{"$f":"IF(E42=\"\",\"\",VLOOKUP(E42,女子選手!$B$2:$F$158,5,FALSE))","v":""},{"$f":"IF(E42=\"\",\"\",VLOOKUP(E42,女子選手!$B$2:$F$158,4,FALSE))","v":""},"0.0000000"]
["00300",{"$f":"A43&E43","v":"00300"},{"$f":"VLOOKUP(A43,初期設定1!$B$18:$C$38,2,FALSE)","v":"200m"},{"$f":"VLOOKUP(A43,初期設定1!$B$18:$D$40,3,FALSE)","v":"01T"},null,null,null,null,"","",{"$f":"IF(E43=\"\",\"\",VLOOKUP(E43,女子選手!$B$2:$F$158,2,FALSE))","v":""},{"$f":"IF(E43=\"\",\"\",VLOOKUP(E43,女子選手!$B$2:$F$158,5,FALSE))","v":""},{"$f":"IF(E43=\"\",\"\",VLOOKUP(E43,女子選手!$B$2:$F$158,4,FALSE))","v":""},"0.0000000"]
["00300","00300",{"$f":"VLOOKUP(A44,初期設定1!$B$18:$C$38,2,FALSE)","v":"200m"},{"$f":"VLOOKUP(A44,初期設定1!$B$18:$D$40,3,FALSE)","v":"01T"},null,null,null,null,"","",{"$f":"IF(E44=\"\",\"\",VLOOKUP(E44,女子選手!$B$2:$F$158,2,FALSE))","v":""},{"$f":"IF(E44=\"\",\"\",VLOOKUP(E44,女子選手!$B$2:$F$158,5,FALSE))","v":""},{"$f":"IF(E44=\"\",\"\",VLOOKUP(E44,女子選手!$B$2:$F$158,4,FALSE))","v":""},"0.0000000"]
["00300","00300",{"$f":"VLOOKUP(A45,初期設定1!$B$18:$C$38,2,FALSE)","v":"200m"},{"$f":"VLOOKUP(A45,初期設定1!$B$18:$D$40,3,FALSE)","v":"01T"},null,null,null,null,"","",{"$f":"IF(E45=\"\",\"\",VLOOKUP(E45,女子選手!$B$2:$F$158,2,FALSE))","v":""},{"$f":"IF(E45=\"\",\"\",VLOOKUP(E45,女子選手!$B$2:$F$158,5,FALSE))","v":""},{"$f":"IF(E45=\"\",\"\",VLOOKUP(E45,女子選手!$B$2:$F$158,4,FALSE))","v":""},"0.0000000"]
["00300","00300",{"$f":"VLOOKUP(A46,初期設定1!$B$18:$C$38,2,FALSE)","v":"200m"},{"$f":"VLOOKUP(A46,初期設定1!$B$18:$D$40,3,FALSE)","v":"01T"},null,null,null,null,"","",{"$f":"IF(E46=\"\",\"\",VLOOKUP(E46,女子選手!$B$2:$F$158,2,FALSE))","v":""},{"$f":"IF(E46=\"\",\"\",VLOOKUP(E46,女子選手!$B$2:$F$158,5,FALSE))","v":""},{"$f":"IF(E46=\"\",\"\",VLOOKUP(E46,女子選手!$B$2:$F$158,4,FALSE))","v":""},"0.0000000"]
["00300","00300",{"$f":"VLOOKUP(A47,初期設定1!$B$18:$C$38,2,FALSE)","v":"200m"},{"$f":"VLOOKUP(A47,初期設定1!$B$18:$D$40,3,FALSE)","v":"01T"},null,null,null,null,"","",{"$f":"IF(E47=\"\",\"\",VLOOKUP(E47,女子選手!$B$2:$F$158,2,FALSE))","v":""},{"$f":"IF(E47=\"\",\"\",VLOOKUP(E47,女子選手!$B$2:$F$158,5,FALSE))","v":""},{"$f":"IF(E47=\"\",\"\",VLOOKUP(E47,女子選手!$B$2:$F$158,4,FALSE))","v":""},"0.0000000"]
["00300","00300",{"$f":"VLOOKUP(A48,初期設定1!$B$18:$C$38,2,FALSE)","v":"200m"},{"$f":"VLOOKUP(A48,初期設定1!$B$18:$D$40,3,FALSE)","v":"01T"},null,null,null,null,"","",{"$f":"IF(E48=\"\",\"\",VLOOKUP(E48,女子選手!$B$2:$F$158,2,FALSE))","v":""},{"$f":"IF(E48=\"\",\"\",VLOOKUP(E48,女子選手!$B$2:$F$158,5,FALSE))","v":""},{"$f":"IF(E48=\"\",\"\",VLOOKUP(E48,女子選手!$B$2:$F$158,4,FALSE))","v":""},"0.0000000"]
["00500","00500",{"$f":"VLOOKUP(A49,初期設定1!$B$18:$C$38,2,FALSE)","v":"400m"},{"$f":"VLOOKUP(A49,初期設定1!$B$18:$D$40,3,FALSE)","v":"01T"},null,null,null,null,"",{"$f":"IF(E49=\"\",\"\",E49)","v":""},{"$f":"IF(E49=\"\",\"\",VLOOKUP(E49,女子選手!$B$2:$F$158,2,FALSE))","v":""},{"$f":"IF(E49=\"\",\"\",VLOOKUP(E49,女子選手!$B$2:$F$158,5,FALSE))","v":""},{"$f":"IF(E49=\"\",\"\",VLOOKUP(E49,女子選手!$B$2:$F$158,4,FALSE))","v":""},{"$f":"FIXED((F49*10000+G49*100+H49)/10000000,7)","v":"0.0000000"}]
["00500","00500",{"$f":"VLOOKUP(A50,初期設定1!$B$18:$C$38,2,FALSE)","v":"400m"},{"$f":"VLOOKUP(A50,初期設定1!$B$18:$D$40,3,FALSE)","v":"01T"},null,null,null,null,"",{"$f":"IF(E50=\"\",\"\",E50)","v":""},{"$f":"IF(E50=\"\",\"\",VLOOKUP(E50,女子選手!$B$2:$F$158,2,FALSE))","v":""},{"$f":"IF(E50=\"\",\"\",VLOOKUP(E50,女子選手!$B$2:$F$158,5,FALSE))","v":""},{"$f":"IF(E50=\"\",\"\",VLOOKUP(E50,女子選手!$B$2:$F$158,4,FALSE))","v":""},{"$f":"FIXED((F50*10000+G50*100+H50)/10000000,7)","v":"0.0000000"}]
["00500","00500",{"$f":"VLOOKUP(A51,初期設定1!$B$18:$C$38,2,FALSE)","v":"400m"},{"$f":"VLOOKUP(A51,初期設定1!$B$18:$D$40,3,FALSE)","v":"01T"},null,null,null,null,"",{"$f":"IF(E51=\"\",\"\",E51)","v":""},{"$f":"IF(E51=\"\",\"\",VLOOKUP(E51,女子選手!$B$2:$F$158,2,FALSE))","v":""},{"$f":"IF(E51=\"\",\"\",VLOOKUP(E51,女子選手!$B$2:$F$158,5,FALSE))","v":""},{"$f":"IF(E51=\"\",\"\",VLOOKUP(E51,女子選手!$B$2:$F$158,4,FALSE))","v":""},{"$f":"FIXED((F51*10000+G51*100+H51)/10000000,7)","v":"0.0000000"}]
["00500","00500",{"$f":"VLOOKUP(A52,初期設定1!$B$18:$C$38,2,FALSE)","v":"400m"},{"$f":"VLOOKUP(A52,初期設定1!$B$18:$D$40,3,FALSE)","v":"01T"},null,null,null,null,"",{"$f":"IF(E52=\"\",\"\",E52)","v":""},{"$f":"IF(E52=\"\",\"\",VLOOKUP(E52,女子選手!$B$2:$F$158,2,FALSE))","v":""},{"$f":"IF(E52=\"\",\"\",VLOOKUP(E52,女子選手!$B$2:$F$158,5,FALSE))","v":""},{"$f":"IF(E52=\"\",\"\",VLOOKUP(E52,女子選手!$B$2:$F$158,4,FALSE))","v":""},{"$f":"FIXED((F52*10000+G52*100+H52)/10000000,7)","v":"0.0000000"}]
["00500","00500",{"$f":"VLOOKUP(A53,初期設定1!$B$18:$C$38,2,FALSE)","v":"400m"},{"$f":"VLOOKUP(A53,初期設定1!$B$18:$D$40,3,FALSE)","v":"01T"},null,null,null,null,"",{"$f":"IF(E53=\"\",\"\",E53)","v":""},{"$f":"IF(E53=\"\",\"\",VLOOKUP(E53,女子選手!$B$2:$F$158,2,FALSE))","v":""},{"$f":"IF(E53=\"\",\"\",VLOOKUP(E53,女子選手!$B$2:$F$158,5,FALSE))","v":""},{"$f":"IF(E53=\"\",\"\",VLOOKUP(E53,女子選手!$B$2:$F$158,4,FALSE))","v":""},{"$f":"FIXED((F53*10000+G53*100+H53)/10000000,7)","v":"0.0000000"}]
["00500",{"$f":"A54&E54","v":"00500"},{"$f":"VLOOKUP(A54,初期設定1!$B$18:$C$38,2,FALSE)","v":"400m"},{"$f":"VLOOKUP(A54,初期設定1!$B$18:$D$40,3,FALSE)","v":"01T"},null,null,null,null,{"$f":"IF(AND(F54=\"\",G54=\"\",H54=\"\"),\"\",IF(D54=\"01T\",IF(F54=\"\",G54&\"\"\"\"&H54,F54&\"'\"&G54&\"\"\"\"&H54),IF(D54=\"02F\",G54&\"m\"&H54,H54&\"点\")))","v":""},{"$f":"IF(E54=\"\",\"\",E54)","v":""},{"$f":"IF(E54=\"\",\"\",VLOOKUP(E54,女子選手!$B$2:$F$158,2,FALSE))","v":""},{"$f":"IF(E54=\"\",\"\",VLOOKUP(E54,女子選手!$B$2:$F$158,5,FALSE))","v":""},{"$f":"IF(E54=\"\",\"\",VLOOKUP(E54,女子選手!$B$2:$F$158,4,FALSE))","v":""},{"$f":"FIXED((F54*10000+G54*100+H54)/10000000,7)","v":"0.0000000"}]
["00500","00500",{"$f":"VLOOKUP(A55,初期設定1!$B$18:$C$38,2,FALSE)","v":"400m"},{"$f":"VLOOKUP(A55,初期設定1!$B$18:$D$40,3,FALSE)","v":"01T"},null,null,null,null,"","",{"$f":"IF(E55=\"\",\"\",VLOOKUP(E55,女子選手!$B$2:$F$158,2,FALSE))","v":""},{"$f":"IF(E55=\"\",\"\",VLOOKUP(E55,女子選手!$B$2:$F$158,5,FALSE))","v":""},{"$f":"IF(E55=\"\",\"\",VLOOKUP(E55,女子選手!$B$2:$F$158,4,FALSE))","v":""},"0.0000000"]
["00500","00500",{"$f":"VLOOKUP(A56,初期設定1!$B$18:$C$38,2,FALSE)","v":"400m"},{"$f":"VLOOKUP(A56,初期設定1!$B$18:$D$40,3,FALSE)","v":"01T"},null,null,null,null,"","",{"$f":"IF(E56=\"\",\"\",VLOOKUP(E56,女子選手!$B$2:$F$158,2,FALSE))","v":""},{"$f":"IF(E56=\"\",\"\",VLOOKUP(E56,女子選手!$B$2:$F$158,5,FALSE))","v":""},{"$f":"IF(E56=\"\",\"\",VLOOKUP(E56,女子選手!$B$2:$F$158,4,FALSE))","v":""},"0.0000000"]
["00500","00500",{"$f":"VLOOKUP(A57,初期設定1!$B$18:$C$38,2,FALSE)","v":"400m"},{"$f":"VLOOKUP(A57,初期設定1!$B$18:$D$40,3,FALSE)","v":"01T"},null,null,null,null,"","",{"$f":"IF(E57=\"\",\"\",VLOOKUP(E57,女子選手!$B$2:$F$158,2,FALSE))","v":""},{"$f":"IF(E57=\"\",\"\",VLOOKUP(E57,女子選手!$B$2:$F$158,5,FALSE))","v":""},{"$f":"IF(E57=\"\",\"\",VLOOKUP(E57,女子選手!$B$2:$F$158,4,FALSE))","v":""},"0.0000000"]
["00500","00500",{"$f":"VLOOKUP(A58,初期設定1!$B$18:$C$38,2,FALSE)","v":"400m"},{"$f":"VLOOKUP(A58,初期設定1!$B$18:$D$40,3,FALSE)","v":"01T"},null,null,null,null,"","",{"$f":"IF(E58=\"\",\"\",VLOOKUP(E58,女子選手!$B$2:$F$158,2,FALSE))","v":""},{"$f":"IF(E58=\"\",\"\",VLOOKUP(E58,女子選手!$B$2:$F$158,5,FALSE))","v":""},{"$f":"IF(E58=\"\",\"\",VLOOKUP(E58,女子選手!$B$2:$F$158,4,FALSE))","v":""},"0.0000000"]
["00500","00500",{"$f":"VLOOKUP(A59,初期設定1!$B$18:$C$38,2,FALSE)","v":"400m"},{"$f":"VLOOKUP(A59,初期設定1!$B$18:$D$40,3,FALSE)","v":"01T"},null,null,null,null,"","",{"$f":"IF(E59=\"\",\"\",VLOOKUP(E59,女子選手!$B$2:$F$158,2,FALSE))","v":""},{"$f":"IF(E59=\"\",\"\",VLOOKUP(E59,女子選手!$B$2:$F$158,5,FALSE))","v":""},{"$f":"IF(E59=\"\",\"\",VLOOKUP(E59,女子選手!$B$2:$F$158,4,FALSE))","v":""},"0.0000000"]
["00500","00500",{"$f":"VLOOKUP(A60,初期設定1!$B$18:$C$38,2,FALSE)","v":"400m"},{"$f":"VLOOKUP(A60,初期設定1!$B$18:$D$40,3,FALSE)","v":"01T"},null,null,null,null,"","",{"$f":"IF(E60=\"\",\"\",VLOOKUP(E60,女子選手!$B$2:$F$158,2,FALSE))","v":""},{"$f":"IF(E60=\"\",\"\",VLOOKUP(E60,女子選手!$B$2:$F$158,5,FALSE))","v":""},{"$f":"IF(E60=\"\",\"\",VLOOKUP(E60,女子選手!$B$2:$F$158,4,FALSE))","v":""},"0.0000000"]
["00500","00500",{"$f":"VLOOKUP(A61,初期設定1!$B$18:$C$38,2,FALSE)","v":"400m"},{"$f":"VLOOKUP(A61,初期設定1!$B$18:$D$40,3,FALSE)","v":"01T"},null,null,null,null,"","",{"$f":"IF(E61=\"\",\"\",VLOOKUP(E61,女子選手!$B$2:$F$158,2,FALSE))","v":""},{"$f":"IF(E61=\"\",\"\",VLOOKUP(E61,女子選手!$B$2:$F$158,5,FALSE))","v":""},{"$f":"IF(E61=\"\",\"\",VLOOKUP(E61,女子選手!$B$2:$F$158,4,FALSE))","v":""},"0.0000000"]
["00500","00500",{"$f":"VLOOKUP(A62,初期設定1!$B$18:$C$38,2,FALSE)","v":"400m"},{"$f":"VLOOKUP(A62,初期設定1!$B$18:$D$40,3,FALSE)","v":"01T"},null,null,null,null,"","",{"$f":"IF(E62=\"\",\"\",VLOOKUP(E62,女子選手!$B$2:$F$158,2,FALSE))","v":""},{"$f":"IF(E62=\"\",\"\",VLOOKUP(E62,女子選手!$B$2:$F$158,5,FALSE))","v":""},{"$f":"IF(E62=\"\",\"\",VLOOKUP(E62,女子選手!$B$2:$F$158,4,FALSE))","v":""},"0.0000000"]
["00500","00500",{"$f":"VLOOKUP(A63,初期設定1!$B$18:$C$38,2,FALSE)","v":"400m"},{"$f":"VLOOKUP(A63,初期設定1!$B$18:$D$40,3,FALSE)","v":"01T"},null,null,null,null,"","",{"$f":"IF(E63=\"\",\"\",VLOOKUP(E63,女子選手!$B$2:$F$158,2,FALSE))","v":""},{"$f":"IF(E63=\"\",\"\",VLOOKUP(E63,女子選手!$B$2:$F$158,5,FALSE))","v":""},{"$f":"IF(E63=\"\",\"\",VLOOKUP(E63,女子選手!$B$2:$F$158,4,FALSE))","v":""},"0.0000000"]
["00600",{"$f":"A64&E64","v":"00600"},{"$f":"VLOOKUP(A64,初期設定1!$B$18:$C$38,2,FALSE)","v":"800m"},{"$f":"VLOOKUP(A64,初期設定1!$B$18:$D$40,3,FALSE)","v":"01T"},null,null,null,null,{"$f":"IF(AND(F64=\"\",G64=\"\",H64=\"\"),\"\",IF(D64=\"01T\",IF(F64=\"\",G64&\"\"\"\"&H64,F64&\"'\"&G64&\"\"\"\"&H64),IF(D64=\"02F\",G64&\"m\"&H64,H64&\"点\")))","v":""},{"$f":"IF(E64=\"\",\"\",E64)","v":""},{"$f":"IF(E64=\"\",\"\",VLOOKUP(E64,女子選手!$B$2:$F$158,2,FALSE))","v":""},{"$f":"IF(E64=\"\",\"\",VLOOKUP(E64,女子選手!$B$2:$F$158,5,FALSE))","v":""},{"$f":"IF(E64=\"\",\"\",VLOOKUP(E64,女子選手!$B$2:$F$158,4,FALSE))","v":""},{"$f":"FIXED((F64*10000+G64*100+H64)/10000000,7)","v":"0.0000000"}]
["00600","00600",{"$f":"VLOOKUP(A65,初期設定1!$B$18:$C$38,2,FALSE)","v":"800m"},{"$f":"VLOOKUP(A65,初期設定1!$B$18:$D$40,3,FALSE)","v":"01T"},null,null,null,null,{"$f":"IF(AND(F65=\"\",G65=\"\",H65=\"\"),\"\",IF(D65=\"01T\",IF(F65=\"\",G65&\"\"\"\"&H65,F65&\"'\"&G65&\"\"\"\"&H65),IF(D65=\"02F\",G65&\"m\"&H65,H65&\"点\")))","v":""},{"$f":"IF(E65=\"\",\"\",E65)","v":""},{"$f":"IF(E65=\"\",\"\",VLOOKUP(E65,女子選手!$B$2:$F$158,2,FALSE))","v":""},{"$f":"IF(E65=\"\",\"\",VLOOKUP(E65,女子選手!$B$2:$F$158,5,FALSE))","v":""},{"$f":"IF(E65=\"\",\"\",VLOOKUP(E65,女子選手!$B$2:$F$158,4,FALSE))","v":""},{"$f":"FIXED((F65*10000+G65*100+H65)/10000000,7)","v":"0.0000000"}]
["00600","00600",{"$f":"VLOOKUP(A66,初期設定1!$B$18:$C$38,2,FALSE)","v":"800m"},{"$f":"VLOOKUP(A66,初期設定1!$B$18:$D$40,3,FALSE)","v":"01T"},null,null,null,null,"","",{"$f":"IF(E66=\"\",\"\",VLOOKUP(E66,女子選手!$B$2:$F$158,2,FALSE))","v":""},{"$f":"IF(E66=\"\",\"\",VLOOKUP(E66,女子選手!$B$2:$F$158,5,FALSE))","v":""},{"$f":"IF(E66=\"\",\"\",VLOOKUP(E66,女子選手!$B$2:$F$158,4,FALSE))","v":""},"0.0000000"]
["00600","00600",{"$f":"VLOOKUP(A67,初期設定1!$B$18:$C$38,2,FALSE)","v":"800m"},{"$f":"VLOOKUP(A67,初期設定1!$B$18:$D$40,3,FALSE)","v":"01T"},null,null,null,null,"","",{"$f":"IF(E67=\"\",\"\",VLOOKUP(E67,女子選手!$B$2:$F$158,2,FALSE))","v":""},{"$f":"IF(E67=\"\",\"\",VLOOKUP(E67,女子選手!$B$2:$F$158,5,FALSE))","v":""},{"$f":"IF(E67=\"\",\"\",VLOOKUP(E67,女子選手!$B$2:$F$158,4,FALSE))","v":""},"0.0000000"]
["00600","00600",{"$f":"VLOOKUP(A68,初期設定1!$B$18:$C$38,2,FALSE)","v":"800m"},{"$f":"VLOOKUP(A68,初期設定1!$B$18:$D$40,3,FALSE)","v":"01T"},null,null,null,null,"","",{"$f":"IF(E68=\"\",\"\",VLOOKUP(E68,女子選手!$B$2:$F$158,2,FALSE))","v":""},{"$f":"IF(E68=\"\",\"\",VLOOKUP(E68,女子選手!$B$2:$F$158,5,FALSE))","v":""},{"$f":"IF(E68=\"\",\"\",VLOOKUP(E68,女子選手!$B$2:$F$158,4,FALSE))","v":""},"0.0000000"]
["00600","00600",{"$f":"VLOOKUP(A69,初期設定1!$B$18:$C$38,2,FALSE)","v":"800m"},{"$f":"VLOOKUP(A69,初期設定1!$B$18:$D$40,3,FALSE)","v":"01T"},null,null,null,null,"","",{"$f":"IF(E69=\"\",\"\",VLOOKUP(E69,女子選手!$B$2:$F$158,2,FALSE))","v":""},{"$f":"IF(E69=\"\",\"\",VLOOKUP(E69,女子選手!$B$2:$F$158,5,FALSE))","v":""},{"$f":"IF(E69=\"\",\"\",VLOOKUP(E69,女子選手!$B$2:$F$158,4,FALSE))","v":""},"0.0000000"]
["00600","00600",{"$f":"VLOOKUP(A70,初期設定1!$B$18:$C$38,2,FALSE)","v":"800m"},{"$f":"VLOOKUP(A70,初期設定1!$B$18:$D$40,3,FALSE)","v":"01T"},null,null,null,null,{"$f":"IF(AND(F70=\"\",G70=\"\",H70=\"\"),\"\",IF(D70=\"01T\",IF(F70=\"\",G70&\"\"\"\"&H70,F70&\"'\"&G70&\"\"\"\"&H70),IF(D70=\"02F\",G70&\"m\"&H70,H70&\"点\")))","v":""},{"$f":"IF(E70=\"\",\"\",E70)","v":""},{"$f":"IF(E70=\"\",\"\",VLOOKUP(E70,女子選手!$B$2:$F$158,2,FALSE))","v":""},{"$f":"IF(E70=\"\",\"\",VLOOKUP(E70,女子選手!$B$2:$F$158,5,FALSE))","v":""},{"$f":"IF(E70=\"\",\"\",VLOOKUP(E70,女子選手!$B$2:$F$158,4,FALSE))","v":""},{"$f":"FIXED((F70*10000+G70*100+H70)/10000000,7)","v":"0.0000000"}]
["00600","00600",{"$f":"VLOOKUP(A71,初期設定1!$B$18:$C$38,2,FALSE)","v":"800m"},{"$f":"VLOOKUP(A71,初期設定1!$B$18:$D$40,3,FALSE)","v":"01T"},null,null,null,null,"","",{"$f":"IF(E71=\"\",\"\",VLOOKUP(E71,女子選手!$B$2:$F$158,2,FALSE))","v":""},{"$f":"IF(E71=\"\",\"\",VLOOKUP(E71,女子選手!$B$2:$F$158,5,FALSE))","v":""},{"$f":"IF(E71=\"\",\"\",VLOOKUP(E71,女子選手!$B$2:$F$158,4,FALSE))","v":""},"0.0000000"]
["00600","00600",{"$f":"VLOOKUP(A72,初期設定1!$B$18:$C$38,2,FALSE)","v":"800m"},{"$f":"VLOOKUP(A72,初期設定1!$B$18:$D$40,3,FALSE)","v":"01T"},null,null,null,null,"","",{"$f":"IF(E72=\"\",\"\",VLOOKUP(E72,女子選手!$B$2:$F$158,2,FALSE))","v":""},{"$f":"IF(E72=\"\",\"\",VLOOKUP(E72,女子選手!$B$2:$F$158,5,FALSE))","v":""},{"$f":"IF(E72=\"\",\"\",VLOOKUP(E72,女子選手!$B$2:$F$158,4,FALSE))","v":""},"0.0000000"]
["00600","00600",{"$f":"VLOOKUP(A73,初期設定1!$B$18:$C$38,2,FALSE)","v":"800m"},{"$f":"VLOOKUP(A73,初期設定1!$B$18:$D$40,3,FALSE)","v":"01T"},null,null,null,null,"","",{"$f":"IF(E73=\"\",\"\",VLOOKUP(E73,女子選手!$B$2:$F$158,2,FALSE))","v":""},{"$f":"IF(E73=\"\",\"\",VLOOKUP(E73,女子選手!$B$2:$F$158,5,FALSE))","v":""},{"$f":"IF(E73=\"\",\"\",VLOOKUP(E73,女子選手!$B$2:$F$158,4,FALSE))","v":""},"0.0000000"]
["00600","00600",{"$f":"VLOOKUP(A74,初期設定1!$B$18:$C$38,2,FALSE)","v":"800m"},{"$f":"VLOOKUP(A74,初期設定1!$B$18:$D$40,3,FALSE)","v":"01T"},null,null,null,null,"","",{"$f":"IF(E74=\"\",\"\",VLOOKUP(E74,女子選手!$B$2:$F$158,2,FALSE))","v":""},{"$f":"IF(E74=\"\",\"\",VLOOKUP(E74,女子選手!$B$2:$F$158,5,FALSE))","v":""},{"$f":"IF(E74=\"\",\"\",VLOOKUP(E74,女子選手!$B$2:$F$158,4,FALSE))","v":""},"0.0000000"]
["00600","00600",{"$f":"VLOOKUP(A75,初期設定1!$B$18:$C$38,2,FALSE)","v":"800m"},{"$f":"VLOOKUP(A75,初期設定1!$B$18:$D$40,3,FALSE)","v":"01T"},null,null,null,null,"","",{"$f":"IF(E75=\"\",\"\",VLOOKUP(E75,女子選手!$B$2:$F$158,2,FALSE))","v":""},{"$f":"IF(E75=\"\",\"\",VLOOKUP(E75,女子選手!$B$2:$F$158,5,FALSE))","v":""},{"$f":"IF(E75=\"\",\"\",VLOOKUP(E75,女子選手!$B$2:$F$158,4,FALSE))","v":""},"0.0000000"]
["00600","00600",{"$f":"VLOOKUP(A76,初期設定1!$B$18:$C$38,2,FALSE)","v":"800m"},{"$f":"VLOOKUP(A76,初期設定1!$B$18:$D$40,3,FALSE)","v":"01T"},null,null,null,null,"","",{"$f":"IF(E76=\"\",\"\",VLOOKUP(E76,女子選手!$B$2:$F$158,2,FALSE))","v":""},{"$f":"IF(E76=\"\",\"\",VLOOKUP(E76,女子選手!$B$2:$F$158,5,FALSE))","v":""},{"$f":"IF(E76=\"\",\"\",VLOOKUP(E76,女子選手!$B$2:$F$158,4,FALSE))","v":""},"0.0000000"]
["00600","00600",{"$f":"VLOOKUP(A77,初期設定1!$B$18:$C$38,2,FALSE)","v":"800m"},{"$f":"VLOOKUP(A77,初期設定1!$B$18:$D$40,3,FALSE)","v":"01T"},null,null,null,null,"","",{"$f":"IF(E77=\"\",\"\",VLOOKUP(E77,女子選手!$B$2:$F$158,2,FALSE))","v":""},{"$f":"IF(E77=\"\",\"\",VLOOKUP(E77,女子選手!$B$2:$F$158,5,FALSE))","v":""},{"$f":"IF(E77=\"\",\"\",VLOOKUP(E77,女子選手!$B$2:$F$158,4,FALSE))","v":""},"0.0000000"]
["00600","00600",{"$f":"VLOOKUP(A78,初期設定1!$B$18:$C$38,2,FALSE)","v":"800m"},{"$f":"VLOOKUP(A78,初期設定1!$B$18:$D$40,3,FALSE)","v":"01T"},null,null,null,null,"","",{"$f":"IF(E78=\"\",\"\",VLOOKUP(E78,女子選手!$B$2:$F$158,2,FALSE))","v":""},{"$f":"IF(E78=\"\",\"\",VLOOKUP(E78,女子選手!$B$2:$F$158,5,FALSE))","v":""},{"$f":"IF(E78=\"\",\"\",VLOOKUP(E78,女子選手!$B$2:$F$158,4,FALSE))","v":""},"0.0000000"]
["00800","00800",{"$f":"VLOOKUP(A79,初期設定1!$B$18:$C$38,2,FALSE)","v":"1500m"},{"$f":"VLOOKUP(A79,初期設定1!$B$18:$D$40,3,FALSE)","v":"01T"},null,null,null,null,{"$f":"IF(AND(F79=\"\",G79=\"\",H79=\"\"),\"\",IF(D79=\"01T\",IF(F79=\"\",G79&\"\"\"\"&H79,F79&\"'\"&G79&\"\"\"\"&H79),IF(D79=\"02F\",G79&\"m\"&H79,H79&\"点\")))","v":""},{"$f":"IF(E79=\"\",\"\",E79)","v":""},{"$f":"IF(E79=\"\",\"\",VLOOKUP(E79,女子選手!$B$2:$F$158,2,FALSE))","v":""},{"$f":"IF(E79=\"\",\"\",VLOOKUP(E79,女子選手!$B$2:$F$158,5,FALSE))","v":""},{"$f":"IF(E79=\"\",\"\",VLOOKUP(E79,女子選手!$B$2:$F$158,4,FALSE))","v":""},{"$f":"FIXED((F79*10000+G79*100+H79)/10000000,7)","v":"0.0000000"}]
["00800","00800",{"$f":"VLOOKUP(A80,初期設定1!$B$18:$C$38,2,FALSE)","v":"1500m"},{"$f":"VLOOKUP(A80,初期設定1!$B$18:$D$40,3,FALSE)","v":"01T"},null,null,null,null,{"$f":"IF(AND(F80=\"\",G80=\"\",H80=\"\"),\"\",IF(D80=\"01T\",IF(F80=\"\",G80&\"\"\"\"&H80,F80&\"'\"&G80&\"\"\"\"&H80),IF(D80=\"02F\",G80&\"m\"&H80,H80&\"点\")))","v":""},{"$f":"IF(E80=\"\",\"\",E80)","v":""},{"$f":"IF(E80=\"\",\"\",VLOOKUP(E80,女子選手!$B$2:$F$158,2,FALSE))","v":""},{"$f":"IF(E80=\"\",\"\",VLOOKUP(E80,女子選手!$B$2:$F$158,5,FALSE))","v":""},{"$f":"IF(E80=\"\",\"\",VLOOKUP(E80,女子選手!$B$2:$F$158,4,FALSE))","v":""},{"$f":"FIXED((F80*10000+G80*100+H80)/10000000,7)","v":"0.0000000"}]
["00800","00800",{"$f":"VLOOKUP(A81,初期設定1!$B$18:$C$38,2,FALSE)","v":"1500m"},{"$f":"VLOOKUP(A81,初期設定1!$B$18:$D$40,3,FALSE)","v":"01T"},null,null,null,null,{"$f":"IF(AND(F81=\"\",G81=\"\",H81=\"\"),\"\",IF(D81=\"01T\",IF(F81=\"\",G81&\"\"\"\"&H81,F81&\"'\"&G81&\"\"\"\"&H81),IF(D81=\"02F\",G81&\"m\"&H81,H81&\"点\")))","v":""},{"$f":"IF(E81=\"\",\"\",E81)","v":""},{"$f":"IF(E81=\"\",\"\",VLOOKUP(E81,女子選手!$B$2:$F$158,2,FALSE))","v":""},{"$f":"IF(E81=\"\",\"\",VLOOKUP(E81,女子選手!$B$2:$F$158,5,FALSE))","v":""},{"$f":"IF(E81=\"\",\"\",VLOOKUP(E81,女子選手!$B$2:$F$158,4,FALSE))","v":""},{"$f":"FIXED((F81*10000+G81*100+H81)/10000000,7)","v":"0.0000000"}]
["00800","00800",{"$f":"VLOOKUP(A82,初期設定1!$B$18:$C$38,2,FALSE)","v":"1500m"},{"$f":"VLOOKUP(A82,初期設定1!$B$18:$D$40,3,FALSE)","v":"01T"},null,null,null,null,{"$f":"IF(AND(F82=\"\",G82=\"\",H82=\"\"),\"\",IF(D82=\"01T\",IF(F82=\"\",G82&\"\"\"\"&H82,F82&\"'\"&G82&\"\"\"\"&H82),IF(D82=\"02F\",G82&\"m\"&H82,H82&\"点\")))","v":""},{"$f":"IF(E82=\"\",\"\",E82)","v":""},{"$f":"IF(E82=\"\",\"\",VLOOKUP(E82,女子選手!$B$2:$F$158,2,FALSE))","v":""},{"$f":"IF(E82=\"\",\"\",VLOOKUP(E82,女子選手!$B$2:$F$158,5,FALSE))","v":""},{"$f":"IF(E82=\"\",\"\",VLOOKUP(E82,女子選手!$B$2:$F$158,4,FALSE))","v":""},{"$f":"FIXED((F82*10000+G82*100+H82)/10000000,7)","v":"0.0000000"}]
["00800",{"$f":"A83&E83","v":"00800"},{"$f":"VLOOKUP(A83,初期設定1!$B$18:$C$38,2,FALSE)","v":"1500m"},{"$f":"VLOOKUP(A83,初期設定1!$B$18:$D$40,3,FALSE)","v":"01T"},null,null,null,null,{"$f":"IF(AND(F83=\"\",G83=\"\",H83=\"\"),\"\",IF(D83=\"01T\",IF(F83=\"\",G83&\"\"\"\"&H83,F83&\"'\"&G83&\"\"\"\"&H83),IF(D83=\"02F\",G83&\"m\"&H83,H83&\"点\")))","v":""},{"$f":"IF(E83=\"\",\"\",E83)","v":""},{"$f":"IF(E83=\"\",\"\",VLOOKUP(E83,女子選手!$B$2:$F$158,2,FALSE))","v":""},{"$f":"IF(E83=\"\",\"\",VLOOKUP(E83,女子選手!$B$2:$F$158,5,FALSE))","v":""},{"$f":"IF(E83=\"\",\"\",VLOOKUP(E83,女子選手!$B$2:$F$158,4,FALSE))","v":""},{"$f":"FIXED((F83*10000+G83*100+H83)/10000000,7)","v":"0.0000000"}]
["00800","00800",{"$f":"VLOOKUP(A84,初期設定1!$B$18:$C$38,2,FALSE)","v":"1500m"},{"$f":"VLOOKUP(A84,初期設定1!$B$18:$D$40,3,FALSE)","v":"01T"},null,null,null,null,"","",{"$f":"IF(E84=\"\",\"\",VLOOKUP(E84,女子選手!$B$2:$F$158,2,FALSE))","v":""},{"$f":"IF(E84=\"\",\"\",VLOOKUP(E84,女子選手!$B$2:$F$158,5,FALSE))","v":""},{"$f":"IF(E84=\"\",\"\",VLOOKUP(E84,女子選手!$B$2:$F$158,4,FALSE))","v":""},"0.0000000"]
["00800","00800",{"$f":"VLOOKUP(A85,初期設定1!$B$18:$C$38,2,FALSE)","v":"1500m"},{"$f":"VLOOKUP(A85,初期設定1!$B$18:$D$40,3,FALSE)","v":"01T"},null,null,null,null,"","",{"$f":"IF(E85=\"\",\"\",VLOOKUP(E85,女子選手!$B$2:$F$158,2,FALSE))","v":""},{"$f":"IF(E85=\"\",\"\",VLOOKUP(E85,女子選手!$B$2:$F$158,5,FALSE))","v":""},{"$f":"IF(E85=\"\",\"\",VLOOKUP(E85,女子選手!$B$2:$F$158,4,FALSE))","v":""},"0.0000000"]
["00800","00800",{"$f":"VLOOKUP(A86,初期設定1!$B$18:$C$38,2,FALSE)","v":"1500m"},{"$f":"VLOOKUP(A86,初期設定1!$B$18:$D$40,3,FALSE)","v":"01T"},null,null,null,null,"","",{"$f":"IF(E86=\"\",\"\",VLOOKUP(E86,女子選手!$B$2:$F$158,2,FALSE))","v":""},{"$f":"IF(E86=\"\",\"\",VLOOKUP(E86,女子選手!$B$2:$F$158,5,FALSE))","v":""},{"$f":"IF(E86=\"\",\"\",VLOOKUP(E86,女子選手!$B$2:$F$158,4,FALSE))","v":""},"0.0000000"]
["00800","00800",{"$f":"VLOOKUP(A87,初期設定1!$B$18:$C$38,2,FALSE)","v":"1500m"},{"$f":"VLOOKUP(A87,初期設定1!$B$18:$D$40,3,FALSE)","v":"01T"},null,null,null,null,"","",{"$f":"IF(E87=\"\",\"\",VLOOKUP(E87,女子選手!$B$2:$F$158,2,FALSE))","v":""},{"$f":"IF(E87=\"\",\"\",VLOOKUP(E87,女子選手!$B$2:$F$158,5,FALSE))","v":""},{"$f":"IF(E87=\"\",\"\",VLOOKUP(E87,女子選手!$B$2:$F$158,4,FALSE))","v":""},"0.0000000"]
["00800","00800",{"$f":"VLOOKUP(A88,初期設定1!$B$18:$C$38,2,FALSE)","v":"1500m"},{"$f":"VLOOKUP(A88,初期設定1!$B$18:$D$40,3,FALSE)","v":"01T"},null,null,null,null,"","",{"$f":"IF(E88=\"\",\"\",VLOOKUP(E88,女子選手!$B$2:$F$158,2,FALSE))","v":""},{"$f":"IF(E88=\"\",\"\",VLOOKUP(E88,女子選手!$B$2:$F$158,5,FALSE))","v":""},{"$f":"IF(E88=\"\",\"\",VLOOKUP(E88,女子選手!$B$2:$F$158,4,FALSE))","v":""},"0.0000000"]
["00800","00800",{"$f":"VLOOKUP(A89,初期設定1!$B$18:$C$38,2,FALSE)","v":"1500m"},{"$f":"VLOOKUP(A89,初期設定1!$B$18:$D$40,3,FALSE)","v":"01T"},null,null,null,null,"","",{"$f":"IF(E89=\"\",\"\",VLOOKUP(E89,女子選手!$B$2:$F$158,2,FALSE))","v":""},{"$f":"IF(E89=\"\",\"\",VLOOKUP(E89,女子選手!$B$2:$F$158,5,FALSE))","v":""},{"$f":"IF(E89=\"\",\"\",VLOOKUP(E89,女子選手!$B$2:$F$158,4,FALSE))","v":""},"0.0000000"]
["00800","00800",{"$f":"VLOOKUP(A90,初期設定1!$B$18:$C$38,2,FALSE)","v":"1500m"},{"$f":"VLOOKUP(A90,初期設定1!$B$18:$D$40,3,FALSE)","v":"01T"},null,null,null,null,"","",{"$f":"IF(E90=\"\",\"\",VLOOKUP(E90,女子選手!$B$2:$F$158,2,FALSE))","v":""},{"$f":"IF(E90=\"\",\"\",VLOOKUP(E90,女子選手!$B$2:$F$158,5,FALSE))","v":""},{"$f":"IF(E90=\"\",\"\",VLOOKUP(E90,女子選手!$B$2:$F$158,4,FALSE))","v":""},"0.0000000"]
["00800","00800",{"$f":"VLOOKUP(A91,初期設定1!$B$18:$C$38,2,FALSE)","v":"1500m"},{"$f":"VLOOKUP(A91,初期設定1!$B$18:$D$40,3,FALSE)","v":"01T"},null,null,null,null,"","",{"$f":"IF(E91=\"\",\"\",VLOOKUP(E91,女子選手!$B$2:$F$158,2,FALSE))","v":""},{"$f":"IF(E91=\"\",\"\",VLOOKUP(E91,女子選手!$B$2:$F$158,5,FALSE))","v":""},{"$f":"IF(E91=\"\",\"\",VLOOKUP(E91,女子選手!$B$2:$F$158,4,FALSE))","v":""},"0.0000000"]
["00800",{"$f":"A92&E92","v":"00800"},{"$f":"VLOOKUP(A92,初期設定1!$B$18:$C$38,2,FALSE)","v":"1500m"},{"$f":"VLOOKUP(A92,初期設定1!$B$18:$D$40,3,FALSE)","v":"01T"},null,null,null,null,{"$f":"IF(AND(F92=\"\",G92=\"\",H92=\"\"),\"\",IF(D92=\"01T\",IF(F92=\"\",G92&\"\"\"\"&H92,F92&\"'\"&G92&\"\"\"\"&H92),IF(D92=\"02F\",G92&\"m\"&H92,H92&\"点\")))","v":""},{"$f":"IF(E92=\"\",\"\",E92)","v":""},{"$f":"IF(E92=\"\",\"\",VLOOKUP(E92,女子選手!$B$2:$F$158,2,FALSE))","v":""},{"$f":"IF(E92=\"\",\"\",VLOOKUP(E92,女子選手!$B$2:$F$158,5,FALSE))","v":""},{"$f":"IF(E92=\"\",\"\",VLOOKUP(E92,女子選手!$B$2:$F$158,4,FALSE))","v":""},{"$f":"FIXED((F92*10000+G92*100+H92)/10000000,7)","v":"0.0000000"}]
["00800","00800",{"$f":"VLOOKUP(A93,初期設定1!$B$18:$C$38,2,FALSE)","v":"1500m"},{"$f":"VLOOKUP(A93,初期設定1!$B$18:$D$40,3,FALSE)","v":"01T"},null,null,null,null,"","",{"$f":"IF(E93=\"\",\"\",VLOOKUP(E93,女子選手!$B$2:$F$158,2,FALSE))","v":""},{"$f":"IF(E93=\"\",\"\",VLOOKUP(E93,女子選手!$B$2:$F$158,5,FALSE))","v":""},{"$f":"IF(E93=\"\",\"\",VLOOKUP(E93,女子選手!$B$2:$F$158,4,FALSE))","v":""},"0.0000000"]
["00800",{"$f":"A94&E94","v":"00800"},{"$f":"VLOOKUP(A94,初期設定1!$B$18:$C$38,2,FALSE)","v":"1500m"},{"$f":"VLOOKUP(A94,初期設定1!$B$18:$D$40,3,FALSE)","v":"01T"},null,null,null,null,{"$f":"IF(AND(F94=\"\",G94=\"\",H94=\"\"),\"\",IF(D94=\"01T\",IF(F94=\"\",G94&\"\"\"\"&H94,F94&\"'\"&G94&\"\"\"\"&H94),IF(D94=\"02F\",G94&\"m\"&H94,H94&\"点\")))","v":""},{"$f":"IF(E94=\"\",\"\",E94)","v":""},{"$f":"IF(E94=\"\",\"\",VLOOKUP(E94,女子選手!$B$2:$F$158,2,FALSE))","v":""},{"$f":"IF(E94=\"\",\"\",VLOOKUP(E94,女子選手!$B$2:$F$158,5,FALSE))","v":""},{"$f":"IF(E94=\"\",\"\",VLOOKUP(E94,女子選手!$B$2:$F$158,4,FALSE))","v":""},{"$f":"FIXED((F94*10000+G94*100+H94)/10000000,7)","v":"0.0000000"}]
["00800","00800",{"$f":"VLOOKUP(A95,初期設定1!$B$18:$C$38,2,FALSE)","v":"1500m"},{"$f":"VLOOKUP(A95,初期設定1!$B$18:$D$40,3,FALSE)","v":"01T"},null,null,null,null,"","",{"$f":"IF(E95=\"\",\"\",VLOOKUP(E95,女子選手!$B$2:$F$158,2,FALSE))","v":""},{"$f":"IF(E95=\"\",\"\",VLOOKUP(E95,女子選手!$B$2:$F$158,5,FALSE))","v":""},{"$f":"IF(E95=\"\",\"\",VLOOKUP(E95,女子選手!$B$2:$F$158,4,FALSE))","v":""},"0.0000000"]
["00800","00800",{"$f":"VLOOKUP(A96,初期設定1!$B$18:$C$38,2,FALSE)","v":"1500m"},{"$f":"VLOOKUP(A96,初期設定1!$B$18:$D$40,3,FALSE)","v":"01T"},null,null,null,null,"","",{"$f":"IF(E96=\"\",\"\",VLOOKUP(E96,女子選手!$B$2:$F$158,2,FALSE))","v":""},{"$f":"IF(E96=\"\",\"\",VLOOKUP(E96,女子選手!$B$2:$F$158,5,FALSE))","v":""},{"$f":"IF(E96=\"\",\"\",VLOOKUP(E96,女子選手!$B$2:$F$158,4,FALSE))","v":""},"0.0000000"]
["00800","00800",{"$f":"VLOOKUP(A97,初期設定1!$B$18:$C$38,2,FALSE)","v":"1500m"},{"$f":"VLOOKUP(A97,初期設定1!$B$18:$D$40,3,FALSE)","v":"01T"},null,null,null,null,"","",{"$f":"IF(E97=\"\",\"\",VLOOKUP(E97,女子選手!$B$2:$F$158,2,FALSE))","v":""},{"$f":"IF(E97=\"\",\"\",VLOOKUP(E97,女子選手!$B$2:$F$158,5,FALSE))","v":""},{"$f":"IF(E97=\"\",\"\",VLOOKUP(E97,女子選手!$B$2:$F$158,4,FALSE))","v":""},"0.0000000"]
["00800","00800",{"$f":"VLOOKUP(A98,初期設定1!$B$18:$C$38,2,FALSE)","v":"1500m"},{"$f":"VLOOKUP(A98,初期設定1!$B$18:$D$40,3,FALSE)","v":"01T"},null,null,null,null,"","",{"$f":"IF(E98=\"\",\"\",VLOOKUP(E98,女子選手!$B$2:$F$158,2,FALSE))","v":""},{"$f":"IF(E98=\"\",\"\",VLOOKUP(E98,女子選手!$B$2:$F$158,5,FALSE))","v":""},{"$f":"IF(E98=\"\",\"\",VLOOKUP(E98,女子選手!$B$2:$F$158,4,FALSE))","v":""},"0.0000000"]
["00800","00800",{"$f":"VLOOKUP(A99,初期設定1!$B$18:$C$38,2,FALSE)","v":"1500m"},{"$f":"VLOOKUP(A99,初期設定1!$B$18:$D$40,3,FALSE)","v":"01T"},null,null,null,null,"","",{"$f":"IF(E99=\"\",\"\",VLOOKUP(E99,女子選手!$B$2:$F$158,2,FALSE))","v":""},{"$f":"IF(E99=\"\",\"\",VLOOKUP(E99,女子選手!$B$2:$F$158,5,FALSE))","v":""},{"$f":"IF(E99=\"\",\"\",VLOOKUP(E99,女子選手!$B$2:$F$158,4,FALSE))","v":""},"0.0000000"]
["00800","00800",{"$f":"VLOOKUP(A100,初期設定1!$B$18:$C$38,2,FALSE)","v":"1500m"},{"$f":"VLOOKUP(A100,初期設定1!$B$18:$D$40,3,FALSE)","v":"01T"},null,null,null,null,"","",{"$f":"IF(E100=\"\",\"\",VLOOKUP(E100,女子選手!$B$2:$F$158,2,FALSE))","v":""},{"$f":"IF(E100=\"\",\"\",VLOOKUP(E100,女子選手!$B$2:$F$158,5,FALSE))","v":""},{"$f":"IF(E100=\"\",\"\",VLOOKUP(E100,女子選手!$B$2:$F$158,4,FALSE))","v":""},"0.0000000"]
["00800","00800",{"$f":"VLOOKUP(A101,初期設定1!$B$18:$C$38,2,FALSE)","v":"1500m"},{"$f":"VLOOKUP(A101,初期設定1!$B$18:$D$40,3,FALSE)","v":"01T"},null,null,null,null,"","",{"$f":"IF(E101=\"\",\"\",VLOOKUP(E101,女子選手!$B$2:$F$158,2,FALSE))","v":""},{"$f":"IF(E101=\"\",\"\",VLOOKUP(E101,女子選手!$B$2:$F$158,5,FALSE))","v":""},{"$f":"IF(E101=\"\",\"\",VLOOKUP(E101,女子選手!$B$2:$F$158,4,FALSE))","v":""},"0.0000000"]
["00800","00800",{"$f":"VLOOKUP(A102,初期設定1!$B$18:$C$38,2,FALSE)","v":"1500m"},{"$f":"VLOOKUP(A102,初期設定1!$B$18:$D$40,3,FALSE)","v":"01T"},null,null,null,null,"","",{"$f":"IF(E102=\"\",\"\",VLOOKUP(E102,女子選手!$B$2:$F$158,2,FALSE))","v":""},{"$f":"IF(E102=\"\",\"\",VLOOKUP(E102,女子選手!$B$2:$F$158,5,FALSE))","v":""},{"$f":"IF(E102=\"\",\"\",VLOOKUP(E102,女子選手!$B$2:$F$158,4,FALSE))","v":""},"0.0000000"]
["00800","00800",{"$f":"VLOOKUP(A103,初期設定1!$B$18:$C$38,2,FALSE)","v":"1500m"},{"$f":"VLOOKUP(A103,初期設定1!$B$18:$D$40,3,FALSE)","v":"01T"},null,null,null,null,"","",{"$f":"IF(E103=\"\",\"\",VLOOKUP(E103,女子選手!$B$2:$F$158,2,FALSE))","v":""},{"$f":"IF(E103=\"\",\"\",VLOOKUP(E103,女子選手!$B$2:$F$158,5,FALSE))","v":""},{"$f":"IF(E103=\"\",\"\",VLOOKUP(E103,女子選手!$B$2:$F$158,4,FALSE))","v":""},"0.0000000"]
["01000",{"$f":"A104&E104","v":"01000"},{"$f":"VLOOKUP(A104,初期設定1!$B$18:$C$38,2,FALSE)","v":"3000m"},{"$f":"VLOOKUP(A104,初期設定1!$B$18:$D$40,3,FALSE)","v":"01T"},null,null,null,null,{"$f":"IF(AND(F104=\"\",G104=\"\",H104=\"\"),\"\",IF(D104=\"01T\",IF(F104=\"\",G104&\"\"\"\"&H104,F104&\"'\"&G104&\"\"\"\"&H104),IF(D104=\"02F\",G104&\"m\"&H104,H104&\"点\")))","v":""},{"$f":"IF(E104=\"\",\"\",E104)","v":""},{"$f":"IF(E104=\"\",\"\",VLOOKUP(E104,女子選手!$B$2:$F$158,2,FALSE))","v":""},{"$f":"IF(E104=\"\",\"\",VLOOKUP(E104,女子選手!$B$2:$F$158,5,FALSE))","v":""},{"$f":"IF(E104=\"\",\"\",VLOOKUP(E104,女子選手!$B$2:$F$158,4,FALSE))","v":""},{"$f":"FIXED((F104*10000+G104*100+H104)/10000000,7)","v":"0.0000000"}]
["01000","01000",{"$f":"VLOOKUP(A105,初期設定1!$B$18:$C$38,2,FALSE)","v":"3000m"},{"$f":"VLOOKUP(A105,初期設定1!$B$18:$D$40,3,FALSE)","v":"01T"},null,null,null,null,"","",{"$f":"IF(E105=\"\",\"\",VLOOKUP(E105,女子選手!$B$2:$F$158,2,FALSE))","v":""},{"$f":"IF(E105=\"\",\"\",VLOOKUP(E105,女子選手!$B$2:$F$158,5,FALSE))","v":""},{"$f":"IF(E105=\"\",\"\",VLOOKUP(E105,女子選手!$B$2:$F$158,4,FALSE))","v":""},"0.0000000"]
["01000","01000",{"$f":"VLOOKUP(A106,初期設定1!$B$18:$C$38,2,FALSE)","v":"3000m"},{"$f":"VLOOKUP(A106,初期設定1!$B$18:$D$40,3,FALSE)","v":"01T"},null,null,null,null,"","",{"$f":"IF(E106=\"\",\"\",VLOOKUP(E106,女子選手!$B$2:$F$158,2,FALSE))","v":""},{"$f":"IF(E106=\"\",\"\",VLOOKUP(E106,女子選手!$B$2:$F$158,5,FALSE))","v":""},{"$f":"IF(E106=\"\",\"\",VLOOKUP(E106,女子選手!$B$2:$F$158,4,FALSE))","v":""},"0.0000000"]
["01000","01000",{"$f":"VLOOKUP(A107,初期設定1!$B$18:$C$38,2,FALSE)","v":"3000m"},{"$f":"VLOOKUP(A107,初期設定1!$B$18:$D$40,3,FALSE)","v":"01T"},null,null,null,null,"","",{"$f":"IF(E107=\"\",\"\",VLOOKUP(E107,女子選手!$B$2:$F$158,2,FALSE))","v":""},{"$f":"IF(E107=\"\",\"\",VLOOKUP(E107,女子選手!$B$2:$F$158,5,FALSE))","v":""},{"$f":"IF(E107=\"\",\"\",VLOOKUP(E107,女子選手!$B$2:$F$158,4,FALSE))","v":""},"0.0000000"]
["01000","01000",{"$f":"VLOOKUP(A108,初期設定1!$B$18:$C$38,2,FALSE)","v":"3000m"},{"$f":"VLOOKUP(A108,初期設定1!$B$18:$D$40,3,FALSE)","v":"01T"},null,null,null,null,"","",{"$f":"IF(E108=\"\",\"\",VLOOKUP(E108,女子選手!$B$2:$F$158,2,FALSE))","v":""},{"$f":"IF(E108=\"\",\"\",VLOOKUP(E108,女子選手!$B$2:$F$158,5,FALSE))","v":""},{"$f":"IF(E108=\"\",\"\",VLOOKUP(E108,女子選手!$B$2:$F$158,4,FALSE))","v":""},"0.0000000"]
["01000","01000",{"$f":"VLOOKUP(A109,初期設定1!$B$18:$C$38,2,FALSE)","v":"3000m"},{"$f":"VLOOKUP(A109,初期設定1!$B$18:$D$40,3,FALSE)","v":"01T"},null,null,null,null,"","",{"$f":"IF(E109=\"\",\"\",VLOOKUP(E109,女子選手!$B$2:$F$158,2,FALSE))","v":""},{"$f":"IF(E109=\"\",\"\",VLOOKUP(E109,女子選手!$B$2:$F$158,5,FALSE))","v":""},{"$f":"IF(E109=\"\",\"\",VLOOKUP(E109,女子選手!$B$2:$F$158,4,FALSE))","v":""},"0.0000000"]
["01000",{"$f":"A110&E110","v":"01000"},{"$f":"VLOOKUP(A110,初期設定1!$B$18:$C$38,2,FALSE)","v":"3000m"},{"$f":"VLOOKUP(A110,初期設定1!$B$18:$D$40,3,FALSE)","v":"01T"},null,null,null,null,{"$f":"IF(AND(F110=\"\",G110=\"\",H110=\"\"),\"\",IF(D110=\"01T\",IF(F110=\"\",G110&\"\"\"\"&H110,F110&\"'\"&G110&\"\"\"\"&H110),IF(D110=\"02F\",G110&\"m\"&H110,H110&\"点\")))","v":""},{"$f":"IF(E110=\"\",\"\",E110)","v":""},{"$f":"IF(E110=\"\",\"\",VLOOKUP(E110,女子選手!$B$2:$F$158,2,FALSE))","v":""},{"$f":"IF(E110=\"\",\"\",VLOOKUP(E110,女子選手!$B$2:$F$158,5,FALSE))","v":""},{"$f":"IF(E110=\"\",\"\",VLOOKUP(E110,女子選手!$B$2:$F$158,4,FALSE))","v":""},{"$f":"FIXED((F110*10000+G110*100+H110)/10000000,7)","v":"0.0000000"}]
["01000","01000",{"$f":"VLOOKUP(A111,初期設定1!$B$18:$C$38,2,FALSE)","v":"3000m"},{"$f":"VLOOKUP(A111,初期設定1!$B$18:$D$40,3,FALSE)","v":"01T"},null,null,null,null,"","",{"$f":"IF(E111=\"\",\"\",VLOOKUP(E111,女子選手!$B$2:$F$158,2,FALSE))","v":""},{"$f":"IF(E111=\"\",\"\",VLOOKUP(E111,女子選手!$B$2:$F$158,5,FALSE))","v":""},{"$f":"IF(E111=\"\",\"\",VLOOKUP(E111,女子選手!$B$2:$F$158,4,FALSE))","v":""},"0.0000000"]
["01000","01000",{"$f":"VLOOKUP(A112,初期設定1!$B$18:$C$38,2,FALSE)","v":"3000m"},{"$f":"VLOOKUP(A112,初期設定1!$B$18:$D$40,3,FALSE)","v":"01T"},null,null,null,null,"","",{"$f":"IF(E112=\"\",\"\",VLOOKUP(E112,女子選手!$B$2:$F$158,2,FALSE))","v":""},{"$f":"IF(E112=\"\",\"\",VLOOKUP(E112,女子選手!$B$2:$F$158,5,FALSE))","v":""},{"$f":"IF(E112=\"\",\"\",VLOOKUP(E112,女子選手!$B$2:$F$158,4,FALSE))","v":""},"0.0000000"]
["01000","01000",{"$f":"VLOOKUP(A113,初期設定1!$B$18:$C$38,2,FALSE)","v":"3000m"},{"$f":"VLOOKUP(A113,初期設定1!$B$18:$D$40,3,FALSE)","v":"01T"},null,null,null,null,"","",{"$f":"IF(E113=\"\",\"\",VLOOKUP(E113,女子選手!$B$2:$F$158,2,FALSE))","v":""},{"$f":"IF(E113=\"\",\"\",VLOOKUP(E113,女子選手!$B$2:$F$158,5,FALSE))","v":""},{"$f":"IF(E113=\"\",\"\",VLOOKUP(E113,女子選手!$B$2:$F$158,4,FALSE))","v":""},"0.0000000"]
["01000","01000",{"$f":"VLOOKUP(A114,初期設定1!$B$18:$C$38,2,FALSE)","v":"3000m"},{"$f":"VLOOKUP(A114,初期設定1!$B$18:$D$40,3,FALSE)","v":"01T"},null,null,null,null,"","",{"$f":"IF(E114=\"\",\"\",VLOOKUP(E114,女子選手!$B$2:$F$158,2,FALSE))","v":""},{"$f":"IF(E114=\"\",\"\",VLOOKUP(E114,女子選手!$B$2:$F$158,5,FALSE))","v":""},{"$f":"IF(E114=\"\",\"\",VLOOKUP(E114,女子選手!$B$2:$F$158,4,FALSE))","v":""},"0.0000000"]
["01000","01000",{"$f":"VLOOKUP(A115,初期設定1!$B$18:$C$38,2,FALSE)","v":"3000m"},{"$f":"VLOOKUP(A115,初期設定1!$B$18:$D$40,3,FALSE)","v":"01T"},null,null,null,null,"","",{"$f":"IF(E115=\"\",\"\",VLOOKUP(E115,女子選手!$B$2:$F$158,2,FALSE))","v":""},{"$f":"IF(E115=\"\",\"\",VLOOKUP(E115,女子選手!$B$2:$F$158,5,FALSE))","v":""},{"$f":"IF(E115=\"\",\"\",VLOOKUP(E115,女子選手!$B$2:$F$158,4,FALSE))","v":""},"0.0000000"]
["01000","01000",{"$f":"VLOOKUP(A116,初期設定1!$B$18:$C$38,2,FALSE)","v":"3000m"},{"$f":"VLOOKUP(A116,初期設定1!$B$18:$D$40,3,FALSE)","v":"01T"},null,null,null,null,"","",{"$f":"IF(E116=\"\",\"\",VLOOKUP(E116,女子選手!$B$2:$F$158,2,FALSE))","v":""},{"$f":"IF(E116=\"\",\"\",VLOOKUP(E116,女子選手!$B$2:$F$158,5,FALSE))","v":""},{"$f":"IF(E116=\"\",\"\",VLOOKUP(E116,女子選手!$B$2:$F$158,4,FALSE))","v":""},"0.0000000"]
["01000","01000",{"$f":"VLOOKUP(A117,初期設定1!$B$18:$C$38,2,FALSE)","v":"3000m"},{"$f":"VLOOKUP(A117,初期設定1!$B$18:$D$40,3,FALSE)","v":"01T"},null,null,null,null,"","",{"$f":"IF(E117=\"\",\"\",VLOOKUP(E117,女子選手!$B$2:$F$158,2,FALSE))","v":""},{"$f":"IF(E117=\"\",\"\",VLOOKUP(E117,女子選手!$B$2:$F$158,5,FALSE))","v":""},{"$f":"IF(E117=\"\",\"\",VLOOKUP(E117,女子選手!$B$2:$F$158,4,FALSE))","v":""},"0.0000000"]
["01000","01000",{"$f":"VLOOKUP(A118,初期設定1!$B$18:$C$38,2,FALSE)","v":"3000m"},{"$f":"VLOOKUP(A118,初期設定1!$B$18:$D$40,3,FALSE)","v":"01T"},null,null,null,null,"","",{"$f":"IF(E118=\"\",\"\",VLOOKUP(E118,女子選手!$B$2:$F$158,2,FALSE))","v":""},{"$f":"IF(E118=\"\",\"\",VLOOKUP(E118,女子選手!$B$2:$F$158,5,FALSE))","v":""},{"$f":"IF(E118=\"\",\"\",VLOOKUP(E118,女子選手!$B$2:$F$158,4,FALSE))","v":""},"0.0000000"]
["01000","01000",{"$f":"VLOOKUP(A119,初期設定1!$B$18:$C$38,2,FALSE)","v":"3000m"},{"$f":"VLOOKUP(A119,初期設定1!$B$18:$D$40,3,FALSE)","v":"01T"},null,null,null,null,"","",{"$f":"IF(E119=\"\",\"\",VLOOKUP(E119,女子選手!$B$2:$F$158,2,FALSE))","v":""},{"$f":"IF(E119=\"\",\"\",VLOOKUP(E119,女子選手!$B$2:$F$158,5,FALSE))","v":""},{"$f":"IF(E119=\"\",\"\",VLOOKUP(E119,女子選手!$B$2:$F$158,4,FALSE))","v":""},"0.0000000"]
["01000","01000",{"$f":"VLOOKUP(A120,初期設定1!$B$18:$C$38,2,FALSE)","v":"3000m"},{"$f":"VLOOKUP(A120,初期設定1!$B$18:$D$40,3,FALSE)","v":"01T"},null,null,null,null,"","",{"$f":"IF(E120=\"\",\"\",VLOOKUP(E120,女子選手!$B$2:$F$158,2,FALSE))","v":""},{"$f":"IF(E120=\"\",\"\",VLOOKUP(E120,女子選手!$B$2:$F$158,5,FALSE))","v":""},{"$f":"IF(E120=\"\",\"\",VLOOKUP(E120,女子選手!$B$2:$F$158,4,FALSE))","v":""},"0.0000000"]
["01000","01000",{"$f":"VLOOKUP(A121,初期設定1!$B$18:$C$38,2,FALSE)","v":"3000m"},{"$f":"VLOOKUP(A121,初期設定1!$B$18:$D$40,3,FALSE)","v":"01T"},null,null,null,null,"","",{"$f":"IF(E121=\"\",\"\",VLOOKUP(E121,女子選手!$B$2:$F$158,2,FALSE))","v":""},{"$f":"IF(E121=\"\",\"\",VLOOKUP(E121,女子選手!$B$2:$F$158,5,FALSE))","v":""},{"$f":"IF(E121=\"\",\"\",VLOOKUP(E121,女子選手!$B$2:$F$158,4,FALSE))","v":""},"0.0000000"]
["01000","01000",{"$f":"VLOOKUP(A122,初期設定1!$B$18:$C$38,2,FALSE)","v":"3000m"},{"$f":"VLOOKUP(A122,初期設定1!$B$18:$D$40,3,FALSE)","v":"01T"},null,null,null,null,"","",{"$f":"IF(E122=\"\",\"\",VLOOKUP(E122,女子選手!$B$2:$F$158,2,FALSE))","v":""},{"$f":"IF(E122=\"\",\"\",VLOOKUP(E122,女子選手!$B$2:$F$158,5,FALSE))","v":""},{"$f":"IF(E122=\"\",\"\",VLOOKUP(E122,女子選手!$B$2:$F$158,4,FALSE))","v":""},"0.0000000"]
["01000","01000",{"$f":"VLOOKUP(A123,初期設定1!$B$18:$C$38,2,FALSE)","v":"3000m"},{"$f":"VLOOKUP(A123,初期設定1!$B$18:$D$40,3,FALSE)","v":"01T"},null,null,null,null,"","",{"$f":"IF(E123=\"\",\"\",VLOOKUP(E123,女子選手!$B$2:$F$158,2,FALSE))","v":""},{"$f":"IF(E123=\"\",\"\",VLOOKUP(E123,女子選手!$B$2:$F$158,5,FALSE))","v":""},{"$f":"IF(E123=\"\",\"\",VLOOKUP(E123,女子選手!$B$2:$F$158,4,FALSE))","v":""},"0.0000000"]
["01000","01000",{"$f":"VLOOKUP(A124,初期設定1!$B$18:$C$38,2,FALSE)","v":"3000m"},{"$f":"VLOOKUP(A124,初期設定1!$B$18:$D$40,3,FALSE)","v":"01T"},null,null,null,null,"","",{"$f":"IF(E124=\"\",\"\",VLOOKUP(E124,女子選手!$B$2:$F$158,2,FALSE))","v":""},{"$f":"IF(E124=\"\",\"\",VLOOKUP(E124,女子選手!$B$2:$F$158,5,FALSE))","v":""},{"$f":"IF(E124=\"\",\"\",VLOOKUP(E124,女子選手!$B$2:$F$158,4,FALSE))","v":""},"0.0000000"]
["01000","01000",{"$f":"VLOOKUP(A125,初期設定1!$B$18:$C$38,2,FALSE)","v":"3000m"},{"$f":"VLOOKUP(A125,初期設定1!$B$18:$D$40,3,FALSE)","v":"01T"},null,null,null,null,"","",{"$f":"IF(E125=\"\",\"\",VLOOKUP(E125,女子選手!$B$2:$F$158,2,FALSE))","v":""},{"$f":"IF(E125=\"\",\"\",VLOOKUP(E125,女子選手!$B$2:$F$158,5,FALSE))","v":""},{"$f":"IF(E125=\"\",\"\",VLOOKUP(E125,女子選手!$B$2:$F$158,4,FALSE))","v":""},"0.0000000"]
["01000","01000",{"$f":"VLOOKUP(A126,初期設定1!$B$18:$C$38,2,FALSE)","v":"3000m"},{"$f":"VLOOKUP(A126,初期設定1!$B$18:$D$40,3,FALSE)","v":"01T"},null,null,null,null,"","",{"$f":"IF(E126=\"\",\"\",VLOOKUP(E126,女子選手!$B$2:$F$158,2,FALSE))","v":""},{"$f":"IF(E126=\"\",\"\",VLOOKUP(E126,女子選手!$B$2:$F$158,5,FALSE))","v":""},{"$f":"IF(E126=\"\",\"\",VLOOKUP(E126,女子選手!$B$2:$F$158,4,FALSE))","v":""},"0.0000000"]
["01000","01000",{"$f":"VLOOKUP(A127,初期設定1!$B$18:$C$38,2,FALSE)","v":"3000m"},{"$f":"VLOOKUP(A127,初期設定1!$B$18:$D$40,3,FALSE)","v":"01T"},null,null,null,null,"","",{"$f":"IF(E127=\"\",\"\",VLOOKUP(E127,女子選手!$B$2:$F$158,2,FALSE))","v":""},{"$f":"IF(E127=\"\",\"\",VLOOKUP(E127,女子選手!$B$2:$F$158,5,FALSE))","v":""},{"$f":"IF(E127=\"\",\"\",VLOOKUP(E127,女子選手!$B$2:$F$158,4,FALSE))","v":""},"0.0000000"]
["01000","01000",{"$f":"VLOOKUP(A128,初期設定1!$B$18:$C$38,2,FALSE)","v":"3000m"},{"$f":"VLOOKUP(A128,初期設定1!$B$18:$D$40,3,FALSE)","v":"01T"},null,null,null,null,"","",{"$f":"IF(E128=\"\",\"\",VLOOKUP(E128,女子選手!$B$2:$F$158,2,FALSE))","v":""},{"$f":"IF(E128=\"\",\"\",VLOOKUP(E128,女子選手!$B$2:$F$158,5,FALSE))","v":""},{"$f":"IF(E128=\"\",\"\",VLOOKUP(E128,女子選手!$B$2:$F$158,4,FALSE))","v":""},"0.0000000"]
["04400",{"$f":"A129&E129","v":"04400"},{"$f":"VLOOKUP(A129,初期設定1!$B$18:$C$38,2,FALSE)","v":"100mH"},{"$f":"VLOOKUP(A129,初期設定1!$B$18:$D$40,3,FALSE)","v":"01T"},null,null,null,null,{"$f":"IF(AND(F129=\"\",G129=\"\",H129=\"\"),\"\",IF(D129=\"01T\",IF(F129=\"\",G129&\"\"\"\"&H129,F129&\"'\"&G129&\"\"\"\"&H129),IF(D129=\"02F\",G129&\"m\"&H129,H129&\"点\")))","v":""},{"$f":"IF(E129=\"\",\"\",E129)","v":""},{"$f":"IF(E129=\"\",\"\",VLOOKUP(E129,女子選手!$B$2:$F$158,2,FALSE))","v":""},{"$f":"IF(E129=\"\",\"\",VLOOKUP(E129,女子選手!$B$2:$F$158,5,FALSE))","v":""},{"$f":"IF(E129=\"\",\"\",VLOOKUP(E129,女子選手!$B$2:$F$158,4,FALSE))","v":""},{"$f":"FIXED((F129*10000+G129*100+H129)/10000000,7)","v":"0.0000000"}]
["04400","04400",{"$f":"VLOOKUP(A130,初期設定1!$B$18:$C$38,2,FALSE)","v":"100mH"},{"$f":"VLOOKUP(A130,初期設定1!$B$18:$D$40,3,FALSE)","v":"01T"},null,null,null,null,{"$f":"IF(AND(F130=\"\",G130=\"\",H130=\"\"),\"\",IF(D130=\"01T\",IF(F130=\"\",G130&\"\"\"\"&H130,F130&\"'\"&G130&\"\"\"\"&H130),IF(D130=\"02F\",G130&\"m\"&H130,H130&\"点\")))","v":""},"",{"$f":"IF(E130=\"\",\"\",VLOOKUP(E130,女子選手!$B$2:$F$158,2,FALSE))","v":""},{"$f":"IF(E130=\"\",\"\",VLOOKUP(E130,女子選手!$B$2:$F$158,5,FALSE))","v":""},{"$f":"IF(E130=\"\",\"\",VLOOKUP(E130,女子選手!$B$2:$F$158,4,FALSE))","v":""},"0.0000000"]
["04400","04400",{"$f":"VLOOKUP(A131,初期設定1!$B$18:$C$38,2,FALSE)","v":"100mH"},{"$f":"VLOOKUP(A131,初期設定1!$B$18:$D$40,3,FALSE)","v":"01T"},null,null,null,null,{"$f":"IF(AND(F131=\"\",G131=\"\",H131=\"\"),\"\",IF(D131=\"01T\",IF(F131=\"\",G131&\"\"\"\"&H131,F131&\"'\"&G131&\"\"\"\"&H131),IF(D131=\"02F\",G131&\"m\"&H131,H131&\"点\")))","v":""},"",{"$f":"IF(E131=\"\",\"\",VLOOKUP(E131,女子選手!$B$2:$F$158,2,FALSE))","v":""},{"$f":"IF(E131=\"\",\"\",VLOOKUP(E131,女子選手!$B$2:$F$158,5,FALSE))","v":""},{"$f":"IF(E131=\"\",\"\",VLOOKUP(E131,女子選手!$B$2:$F$158,4,FALSE))","v":""},"0.0000000"]
["04400","04400",{"$f":"VLOOKUP(A132,初期設定1!$B$18:$C$38,2,FALSE)","v":"100mH"},{"$f":"VLOOKUP(A132,初期設定1!$B$18:$D$40,3,FALSE)","v":"01T"},null,null,null,null,{"$f":"IF(AND(F132=\"\",G132=\"\",H132=\"\"),\"\",IF(D132=\"01T\",IF(F132=\"\",G132&\"\"\"\"&H132,F132&\"'\"&G132&\"\"\"\"&H132),IF(D132=\"02F\",G132&\"m\"&H132,H132&\"点\")))","v":""},"",{"$f":"IF(E132=\"\",\"\",VLOOKUP(E132,女子選手!$B$2:$F$158,2,FALSE))","v":""},{"$f":"IF(E132=\"\",\"\",VLOOKUP(E132,女子選手!$B$2:$F$158,5,FALSE))","v":""},{"$f":"IF(E132=\"\",\"\",VLOOKUP(E132,女子選手!$B$2:$F$158,4,FALSE))","v":""},"0.0000000"]
["04400","04400",{"$f":"VLOOKUP(A133,初期設定1!$B$18:$C$38,2,FALSE)","v":"100mH"},{"$f":"VLOOKUP(A133,初期設定1!$B$18:$D$40,3,FALSE)","v":"01T"},null,null,null,null,{"$f":"IF(AND(F133=\"\",G133=\"\",H133=\"\"),\"\",IF(D133=\"01T\",IF(F133=\"\",G133&\"\"\"\"&H133,F133&\"'\"&G133&\"\"\"\"&H133),IF(D133=\"02F\",G133&\"m\"&H133,H133&\"点\")))","v":""},"",{"$f":"IF(E133=\"\",\"\",VLOOKUP(E133,女子選手!$B$2:$F$158,2,FALSE))","v":""},{"$f":"IF(E133=\"\",\"\",VLOOKUP(E133,女子選手!$B$2:$F$158,5,FALSE))","v":""},{"$f":"IF(E133=\"\",\"\",VLOOKUP(E133,女子選手!$B$2:$F$158,4,FALSE))","v":""},"0.0000000"]
["04400","04400",{"$f":"VLOOKUP(A134,初期設定1!$B$18:$C$38,2,FALSE)","v":"100mH"},{"$f":"VLOOKUP(A134,初期設定1!$B$18:$D$40,3,FALSE)","v":"01T"},null,null,null,null,"","",{"$f":"IF(E134=\"\",\"\",VLOOKUP(E134,女子選手!$B$2:$F$158,2,FALSE))","v":""},{"$f":"IF(E134=\"\",\"\",VLOOKUP(E134,女子選手!$B$2:$F$158,5,FALSE))","v":""},{"$f":"IF(E134=\"\",\"\",VLOOKUP(E134,女子選手!$B$2:$F$158,4,FALSE))","v":""},"0.0000000"]
["04400",{"$f":"A135&E135","v":"04400"},{"$f":"VLOOKUP(A135,初期設定1!$B$18:$C$38,2,FALSE)","v":"100mH"},{"$f":"VLOOKUP(A135,初期設定1!$B$18:$D$40,3,FALSE)","v":"01T"},null,null,null,null,"","",{"$f":"IF(E135=\"\",\"\",VLOOKUP(E135,女子選手!$B$2:$F$158,2,FALSE))","v":""},{"$f":"IF(E135=\"\",\"\",VLOOKUP(E135,女子選手!$B$2:$F$158,5,FALSE))","v":""},{"$f":"IF(E135=\"\",\"\",VLOOKUP(E135,女子選手!$B$2:$F$158,4,FALSE))","v":""},"0.0000000"]
["04400","04400",{"$f":"VLOOKUP(A136,初期設定1!$B$18:$C$38,2,FALSE)","v":"100mH"},{"$f":"VLOOKUP(A136,初期設定1!$B$18:$D$40,3,FALSE)","v":"01T"},null,null,null,null,"","",{"$f":"IF(E136=\"\",\"\",VLOOKUP(E136,女子選手!$B$2:$F$158,2,FALSE))","v":""},{"$f":"IF(E136=\"\",\"\",VLOOKUP(E136,女子選手!$B$2:$F$158,5,FALSE))","v":""},{"$f":"IF(E136=\"\",\"\",VLOOKUP(E136,女子選手!$B$2:$F$158,4,FALSE))","v":""},"0.0000000"]
["04600","04600",{"$f":"VLOOKUP(A137,初期設定1!$B$18:$C$38,2,FALSE)","v":"400mH"},{"$f":"VLOOKUP(A137,初期設定1!$B$18:$D$40,3,FALSE)","v":"01T"},null,null,null,null,{"$f":"IF(AND(F137=\"\",G137=\"\",H137=\"\"),\"\",IF(D137=\"01T\",IF(F137=\"\",G137&\"\"\"\"&H137,F137&\"'\"&G137&\"\"\"\"&H137),IF(D137=\"02F\",G137&\"m\"&H137,H137&\"点\")))","v":""},"",{"$f":"IF(E137=\"\",\"\",VLOOKUP(E137,女子選手!$B$2:$F$158,2,FALSE))","v":""},{"$f":"IF(E137=\"\",\"\",VLOOKUP(E137,女子選手!$B$2:$F$158,5,FALSE))","v":""},{"$f":"IF(E137=\"\",\"\",VLOOKUP(E137,女子選手!$B$2:$F$158,4,FALSE))","v":""},"0.0000000"]
["04600",{"$f":"A138&E138","v":"04600"},{"$f":"VLOOKUP(A138,初期設定1!$B$18:$C$38,2,FALSE)","v":"400mH"},{"$f":"VLOOKUP(A138,初期設定1!$B$18:$D$40,3,FALSE)","v":"01T"},null,null,null,null,{"$f":"IF(AND(F138=\"\",G138=\"\",H138=\"\"),\"\",IF(D138=\"01T\",IF(F138=\"\",G138&\"\"\"\"&H138,F138&\"'\"&G138&\"\"\"\"&H138),IF(D138=\"02F\",G138&\"m\"&H138,H138&\"点\")))","v":""},"",{"$f":"IF(E138=\"\",\"\",VLOOKUP(E138,女子選手!$B$2:$F$158,2,FALSE))","v":""},{"$f":"IF(E138=\"\",\"\",VLOOKUP(E138,女子選手!$B$2:$F$158,5,FALSE))","v":""},{"$f":"IF(E138=\"\",\"\",VLOOKUP(E138,女子選手!$B$2:$F$158,4,FALSE))","v":""},"0.0000000"]
["04600",{"$f":"A139&E139","v":"04600"},{"$f":"VLOOKUP(A139,初期設定1!$B$18:$C$38,2,FALSE)","v":"400mH"},{"$f":"VLOOKUP(A139,初期設定1!$B$18:$D$40,3,FALSE)","v":"01T"},null,null,null,null,{"$f":"IF(AND(F139=\"\",G139=\"\",H139=\"\"),\"\",IF(D139=\"01T\",IF(F139=\"\",G139&\"\"\"\"&H139,F139&\"'\"&G139&\"\"\"\"&H139),IF(D139=\"02F\",G139&\"m\"&H139,H139&\"点\")))","v":""},"",{"$f":"IF(E139=\"\",\"\",VLOOKUP(E139,女子選手!$B$2:$F$158,2,FALSE))","v":""},{"$f":"IF(E139=\"\",\"\",VLOOKUP(E139,女子選手!$B$2:$F$158,5,FALSE))","v":""},{"$f":"IF(E139=\"\",\"\",VLOOKUP(E139,女子選手!$B$2:$F$158,4,FALSE))","v":""},"0.0000000"]
["04600",{"$f":"A140&E140","v":"04600"},{"$f":"VLOOKUP(A140,初期設定1!$B$18:$C$38,2,FALSE)","v":"400mH"},{"$f":"VLOOKUP(A140,初期設定1!$B$18:$D$40,3,FALSE)","v":"01T"},null,null,null,null,{"$f":"IF(AND(F140=\"\",G140=\"\",H140=\"\"),\"\",IF(D140=\"01T\",IF(F140=\"\",G140&\"\"\"\"&H140,F140&\"'\"&G140&\"\"\"\"&H140),IF(D140=\"02F\",G140&\"m\"&H140,H140&\"点\")))","v":""},"",{"$f":"IF(E140=\"\",\"\",VLOOKUP(E140,女子選手!$B$2:$F$158,2,FALSE))","v":""},{"$f":"IF(E140=\"\",\"\",VLOOKUP(E140,女子選手!$B$2:$F$158,5,FALSE))","v":""},{"$f":"IF(E140=\"\",\"\",VLOOKUP(E140,女子選手!$B$2:$F$158,4,FALSE))","v":""},"0.0000000"]
["04600","04600",{"$f":"VLOOKUP(A141,初期設定1!$B$18:$C$38,2,FALSE)","v":"400mH"},{"$f":"VLOOKUP(A141,初期設定1!$B$18:$D$40,3,FALSE)","v":"01T"},null,null,null,null,"","",{"$f":"IF(E141=\"\",\"\",VLOOKUP(E141,女子選手!$B$2:$F$158,2,FALSE))","v":""},{"$f":"IF(E141=\"\",\"\",VLOOKUP(E141,女子選手!$B$2:$F$158,5,FALSE))","v":""},{"$f":"IF(E141=\"\",\"\",VLOOKUP(E141,女子選手!$B$2:$F$158,4,FALSE))","v":""},"0.0000000"]
["04600","04600",{"$f":"VLOOKUP(A142,初期設定1!$B$18:$C$38,2,FALSE)","v":"400mH"},{"$f":"VLOOKUP(A142,初期設定1!$B$18:$D$40,3,FALSE)","v":"01T"},null,null,null,null,"","",{"$f":"IF(E142=\"\",\"\",VLOOKUP(E142,女子選手!$B$2:$F$158,2,FALSE))","v":""},{"$f":"IF(E142=\"\",\"\",VLOOKUP(E142,女子選手!$B$2:$F$158,5,FALSE))","v":""},{"$f":"IF(E142=\"\",\"\",VLOOKUP(E142,女子選手!$B$2:$F$158,4,FALSE))","v":""},"0.0000000"]
["04600","04600",{"$f":"VLOOKUP(A143,初期設定1!$B$18:$C$38,2,FALSE)","v":"400mH"},{"$f":"VLOOKUP(A143,初期設定1!$B$18:$D$40,3,FALSE)","v":"01T"},null,null,null,null,"","",{"$f":"IF(E143=\"\",\"\",VLOOKUP(E143,女子選手!$B$2:$F$158,2,FALSE))","v":""},{"$f":"IF(E143=\"\",\"\",VLOOKUP(E143,女子選手!$B$2:$F$158,5,FALSE))","v":""},{"$f":"IF(E143=\"\",\"\",VLOOKUP(E143,女子選手!$B$2:$F$158,4,FALSE))","v":""},"0.0000000"]
["04600","04600",{"$f":"VLOOKUP(A144,初期設定1!$B$18:$C$38,2,FALSE)","v":"400mH"},{"$f":"VLOOKUP(A144,初期設定1!$B$18:$D$40,3,FALSE)","v":"01T"},null,null,null,null,"","",{"$f":"IF(E144=\"\",\"\",VLOOKUP(E144,女子選手!$B$2:$F$158,2,FALSE))","v":""},{"$f":"IF(E144=\"\",\"\",VLOOKUP(E144,女子選手!$B$2:$F$158,5,FALSE))","v":""},{"$f":"IF(E144=\"\",\"\",VLOOKUP(E144,女子選手!$B$2:$F$158,4,FALSE))","v":""},"0.0000000"]
["05400","05400",{"$f":"VLOOKUP(A145,初期設定1!$B$18:$C$38,2,FALSE)","v":"3000mSC"},{"$f":"VLOOKUP(A145,初期設定1!$B$18:$D$40,3,FALSE)","v":"01T"},null,null,null,null,{"$f":"IF(AND(F145=\"\",G145=\"\",H145=\"\"),\"\",IF(D145=\"01T\",IF(F145=\"\",G145&\"\"\"\"&H145,F145&\"'\"&G145&\"\"\"\"&H145),IF(D145=\"02F\",G145&\"m\"&H145,H145&\"点\")))","v":""},"",{"$f":"IF(E145=\"\",\"\",VLOOKUP(E145,女子選手!$B$2:$F$158,2,FALSE))","v":""},{"$f":"IF(E145=\"\",\"\",VLOOKUP(E145,女子選手!$B$2:$F$158,5,FALSE))","v":""},{"$f":"IF(E145=\"\",\"\",VLOOKUP(E145,女子選手!$B$2:$F$158,4,FALSE))","v":""},"0.0000000"]
["05400","05400",{"$f":"VLOOKUP(A146,初期設定1!$B$18:$C$38,2,FALSE)","v":"3000mSC"},{"$f":"VLOOKUP(A146,初期設定1!$B$18:$D$40,3,FALSE)","v":"01T"},null,null,null,null,"","",{"$f":"IF(E146=\"\",\"\",VLOOKUP(E146,女子選手!$B$2:$F$158,2,FALSE))","v":""},{"$f":"IF(E146=\"\",\"\",VLOOKUP(E146,女子選手!$B$2:$F$158,5,FALSE))","v":""},{"$f":"IF(E146=\"\",\"\",VLOOKUP(E146,女子選手!$B$2:$F$158,4,FALSE))","v":""},"0.0000000"]
["05400","05400",{"$f":"VLOOKUP(A147,初期設定1!$B$18:$C$38,2,FALSE)","v":"3000mSC"},{"$f":"VLOOKUP(A147,初期設定1!$B$18:$D$40,3,FALSE)","v":"01T"},null,null,null,null,"","",{"$f":"IF(E147=\"\",\"\",VLOOKUP(E147,女子選手!$B$2:$F$158,2,FALSE))","v":""},{"$f":"IF(E147=\"\",\"\",VLOOKUP(E147,女子選手!$B$2:$F$158,5,FALSE))","v":""},{"$f":"IF(E147=\"\",\"\",VLOOKUP(E147,女子選手!$B$2:$F$158,4,FALSE))","v":""},"0.0000000"]
["05400","05400",{"$f":"VLOOKUP(A148,初期設定1!$B$18:$C$38,2,FALSE)","v":"3000mSC"},{"$f":"VLOOKUP(A148,初期設定1!$B$18:$D$40,3,FALSE)","v":"01T"},null,null,null,null,"","",{"$f":"IF(E148=\"\",\"\",VLOOKUP(E148,女子選手!$B$2:$F$158,2,FALSE))","v":""},{"$f":"IF(E148=\"\",\"\",VLOOKUP(E148,女子選手!$B$2:$F$158,5,FALSE))","v":""},{"$f":"IF(E148=\"\",\"\",VLOOKUP(E148,女子選手!$B$2:$F$158,4,FALSE))","v":""},"0.0000000"]
["05400","05400",{"$f":"VLOOKUP(A149,初期設定1!$B$18:$C$38,2,FALSE)","v":"3000mSC"},{"$f":"VLOOKUP(A149,初期設定1!$B$18:$D$40,3,FALSE)","v":"01T"},null,null,null,null,"","",{"$f":"IF(E149=\"\",\"\",VLOOKUP(E149,女子選手!$B$2:$F$158,2,FALSE))","v":""},{"$f":"IF(E149=\"\",\"\",VLOOKUP(E149,女子選手!$B$2:$F$158,5,FALSE))","v":""},{"$f":"IF(E149=\"\",\"\",VLOOKUP(E149,女子選手!$B$2:$F$158,4,FALSE))","v":""},"0.0000000"]
["05400","05400",{"$f":"VLOOKUP(A150,初期設定1!$B$18:$C$38,2,FALSE)","v":"3000mSC"},{"$f":"VLOOKUP(A150,初期設定1!$B$18:$D$40,3,FALSE)","v":"01T"},null,null,null,null,"","",{"$f":"IF(E150=\"\",\"\",VLOOKUP(E150,女子選手!$B$2:$F$158,2,FALSE))","v":""},{"$f":"IF(E150=\"\",\"\",VLOOKUP(E150,女子選手!$B$2:$F$158,5,FALSE))","v":""},{"$f":"IF(E150=\"\",\"\",VLOOKUP(E150,女子選手!$B$2:$F$158,4,FALSE))","v":""},"0.0000000"]
["05400","05400",{"$f":"VLOOKUP(A151,初期設定1!$B$18:$C$38,2,FALSE)","v":"3000mSC"},{"$f":"VLOOKUP(A151,初期設定1!$B$18:$D$40,3,FALSE)","v":"01T"},null,null,null,null,"","",{"$f":"IF(E151=\"\",\"\",VLOOKUP(E151,女子選手!$B$2:$F$158,2,FALSE))","v":""},{"$f":"IF(E151=\"\",\"\",VLOOKUP(E151,女子選手!$B$2:$F$158,5,FALSE))","v":""},{"$f":"IF(E151=\"\",\"\",VLOOKUP(E151,女子選手!$B$2:$F$158,4,FALSE))","v":""},"0.0000000"]
["05400","05400",{"$f":"VLOOKUP(A152,初期設定1!$B$18:$C$38,2,FALSE)","v":"3000mSC"},{"$f":"VLOOKUP(A152,初期設定1!$B$18:$D$40,3,FALSE)","v":"01T"},null,null,null,null,"","",{"$f":"IF(E152=\"\",\"\",VLOOKUP(E152,女子選手!$B$2:$F$158,2,FALSE))","v":""},{"$f":"IF(E152=\"\",\"\",VLOOKUP(E152,女子選手!$B$2:$F$158,5,FALSE))","v":""},{"$f":"IF(E152=\"\",\"\",VLOOKUP(E152,女子選手!$B$2:$F$158,4,FALSE))","v":""},"0.0000000"]
["06100","06100",{"$f":"VLOOKUP(A153,初期設定1!$B$18:$C$38,2,FALSE)","v":"5000mW"},{"$f":"VLOOKUP(A153,初期設定1!$B$18:$D$40,3,FALSE)","v":"01T"},null,null,null,null,"","",{"$f":"IF(E153=\"\",\"\",VLOOKUP(E153,女子選手!$B$2:$F$158,2,FALSE))","v":""},{"$f":"IF(E153=\"\",\"\",VLOOKUP(E153,女子選手!$B$2:$F$158,5,FALSE))","v":""},{"$f":"IF(E153=\"\",\"\",VLOOKUP(E153,女子選手!$B$2:$F$158,4,FALSE))","v":""},"0.0000000"]
["06100","06100",{"$f":"VLOOKUP(A154,初期設定1!$B$18:$C$38,2,FALSE)","v":"5000mW"},{"$f":"VLOOKUP(A154,初期設定1!$B$18:$D$40,3,FALSE)","v":"01T"},null,null,null,null,"","",{"$f":"IF(E154=\"\",\"\",VLOOKUP(E154,女子選手!$B$2:$F$158,2,FALSE))","v":""},{"$f":"IF(E154=\"\",\"\",VLOOKUP(E154,女子選手!$B$2:$F$158,5,FALSE))","v":""},{"$f":"IF(E154=\"\",\"\",VLOOKUP(E154,女子選手!$B$2:$F$158,4,FALSE))","v":""},"0.0000000"]
["06100",{"$f":"A155&E155","v":"06100"},{"$f":"VLOOKUP(A155,初期設定1!$B$18:$C$38,2,FALSE)","v":"5000mW"},{"$f":"VLOOKUP(A155,初期設定1!$B$18:$D$40,3,FALSE)","v":"01T"},null,null,null,null,{"$f":"IF(AND(F155=\"\",G155=\"\",H155=\"\"),\"\",IF(D155=\"01T\",IF(F155=\"\",G155&\"\"\"\"&H155,F155&\"'\"&G155&\"\"\"\"&H155),IF(D155=\"02F\",G155&\"m\"&H155,H155&\"点\")))","v":""},"",{"$f":"IF(E155=\"\",\"\",VLOOKUP(E155,女子選手!$B$2:$F$158,2,FALSE))","v":""},{"$f":"IF(E155=\"\",\"\",VLOOKUP(E155,女子選手!$B$2:$F$158,5,FALSE))","v":""},{"$f":"IF(E155=\"\",\"\",VLOOKUP(E155,女子選手!$B$2:$F$158,4,FALSE))","v":""},"0.0000000"]
["06100",{"$f":"A156&E156","v":"06100"},{"$f":"VLOOKUP(A156,初期設定1!$B$18:$C$38,2,FALSE)","v":"5000mW"},{"$f":"VLOOKUP(A156,初期設定1!$B$18:$D$40,3,FALSE)","v":"01T"},null,null,null,null,{"$f":"IF(AND(F156=\"\",G156=\"\",H156=\"\"),\"\",IF(D156=\"01T\",IF(F156=\"\",G156&\"\"\"\"&H156,F156&\"'\"&G156&\"\"\"\"&H156),IF(D156=\"02F\",G156&\"m\"&H156,H156&\"点\")))","v":""},"",{"$f":"IF(E156=\"\",\"\",VLOOKUP(E156,女子選手!$B$2:$F$158,2,FALSE))","v":""},{"$f":"IF(E156=\"\",\"\",VLOOKUP(E156,女子選手!$B$2:$F$158,5,FALSE))","v":""},{"$f":"IF(E156=\"\",\"\",VLOOKUP(E156,女子選手!$B$2:$F$158,4,FALSE))","v":""},"0.0000000"]
["06100","06100",{"$f":"VLOOKUP(A157,初期設定1!$B$18:$C$38,2,FALSE)","v":"5000mW"},{"$f":"VLOOKUP(A157,初期設定1!$B$18:$D$40,3,FALSE)","v":"01T"},null,null,null,null,"","",{"$f":"IF(E157=\"\",\"\",VLOOKUP(E157,女子選手!$B$2:$F$158,2,FALSE))","v":""},{"$f":"IF(E157=\"\",\"\",VLOOKUP(E157,女子選手!$B$2:$F$158,5,FALSE))","v":""},{"$f":"IF(E157=\"\",\"\",VLOOKUP(E157,女子選手!$B$2:$F$158,4,FALSE))","v":""},"0.0000000"]
["06100","06100",{"$f":"VLOOKUP(A158,初期設定1!$B$18:$C$38,2,FALSE)","v":"5000mW"},{"$f":"VLOOKUP(A158,初期設定1!$B$18:$D$40,3,FALSE)","v":"01T"},null,null,null,null,"","",{"$f":"IF(E158=\"\",\"\",VLOOKUP(E158,女子選手!$B$2:$F$158,2,FALSE))","v":""},{"$f":"IF(E158=\"\",\"\",VLOOKUP(E158,女子選手!$B$2:$F$158,5,FALSE))","v":""},{"$f":"IF(E158=\"\",\"\",VLOOKUP(E158,女子選手!$B$2:$F$158,4,FALSE))","v":""},"0.0000000"]
["06100","06100",{"$f":"VLOOKUP(A159,初期設定1!$B$18:$C$38,2,FALSE)","v":"5000mW"},{"$f":"VLOOKUP(A159,初期設定1!$B$18:$D$40,3,FALSE)","v":"01T"},null,null,null,null,"","",{"$f":"IF(E159=\"\",\"\",VLOOKUP(E159,女子選手!$B$2:$F$158,2,FALSE))","v":""},{"$f":"IF(E159=\"\",\"\",VLOOKUP(E159,女子選手!$B$2:$F$158,5,FALSE))","v":""},{"$f":"IF(E159=\"\",\"\",VLOOKUP(E159,女子選手!$B$2:$F$158,4,FALSE))","v":""},"0.0000000"]
["06100","06100",{"$f":"VLOOKUP(A160,初期設定1!$B$18:$C$38,2,FALSE)","v":"5000mW"},{"$f":"VLOOKUP(A160,初期設定1!$B$18:$D$40,3,FALSE)","v":"01T"},null,null,null,null,"","",{"$f":"IF(E160=\"\",\"\",VLOOKUP(E160,女子選手!$B$2:$F$158,2,FALSE))","v":""},{"$f":"IF(E160=\"\",\"\",VLOOKUP(E160,女子選手!$B$2:$F$158,5,FALSE))","v":""},{"$f":"IF(E160=\"\",\"\",VLOOKUP(E160,女子選手!$B$2:$F$158,4,FALSE))","v":""},"0.0000000"]
["60100","60100",{"$f":"VLOOKUP(A161,初期設定1!$B$18:$C$38,2,FALSE)","v":"4x100R"},{"$f":"VLOOKUP(A161,初期設定1!$B$18:$D$40,3,FALSE)","v":"01T"},null,null,null,null,"","",{"$f":"IF(E161=\"\",\"\",VLOOKUP(E161,女子選手!$B$2:$F$158,2,FALSE))","v":""},{"$f":"IF(E161=\"\",\"\",VLOOKUP(E161,女子選手!$B$2:$F$158,5,FALSE))","v":""},{"$f":"IF(E161=\"\",\"\",VLOOKUP(E161,女子選手!$B$2:$F$158,4,FALSE))","v":""},"0.0000000","○Ａ"]
["60100","60100",{"$f":"VLOOKUP(A162,初期設定1!$B$18:$C$38,2,FALSE)","v":"4x100R"},{"$f":"VLOOKUP(A162,初期設定1!$B$18:$D$40,3,FALSE)","v":"01T"},null,null,null,null,"","",{"$f":"IF(E162=\"\",\"\",VLOOKUP(E162,女子選手!$B$2:$F$158,2,FALSE))","v":""},{"$f":"IF(E162=\"\",\"\",VLOOKUP(E162,女子選手!$B$2:$F$158,5,FALSE))","v":""},{"$f":"IF(E162=\"\",\"\",VLOOKUP(E162,女子選手!$B$2:$F$158,4,FALSE))","v":""},"0.0000000","○Ａ"]
["60100","60100",{"$f":"VLOOKUP(A163,初期設定1!$B$18:$C$38,2,FALSE)","v":"4x100R"},{"$f":"VLOOKUP(A163,初期設定1!$B$18:$D$40,3,FALSE)","v":"01T"},null,null,null,null,"","",{"$f":"IF(E163=\"\",\"\",VLOOKUP(E163,女子選手!$B$2:$F$158,2,FALSE))","v":""},{"$f":"IF(E163=\"\",\"\",VLOOKUP(E163,女子選手!$B$2:$F$158,5,FALSE))","v":""},{"$f":"IF(E163=\"\",\"\",VLOOKUP(E163,女子選手!$B$2:$F$158,4,FALSE))","v":""},"0.0000000","○Ａ"]
["60100","60100",{"$f":"VLOOKUP(A164,初期設定1!$B$18:$C$38,2,FALSE)","v":"4x100R"},{"$f":"VLOOKUP(A164,初期設定1!$B$18:$D$40,3,FALSE)","v":"01T"},null,null,null,null,"","",{"$f":"IF(E164=\"\",\"\",VLOOKUP(E164,女子選手!$B$2:$F$158,2,FALSE))","v":""},{"$f":"IF(E164=\"\",\"\",VLOOKUP(E164,女子選手!$B$2:$F$158,5,FALSE))","v":""},{"$f":"IF(E164=\"\",\"\",VLOOKUP(E164,女子選手!$B$2:$F$158,4,FALSE))","v":""},"0.0000000","○Ａ"]
["60100","60100",{"$f":"VLOOKUP(A165,初期設定1!$B$18:$C$38,2,FALSE)","v":"4x100R"},{"$f":"VLOOKUP(A165,初期設定1!$B$18:$D$40,3,FALSE)","v":"01T"},null,null,null,null,null,"",{"$f":"IF(E165=\"\",\"\",VLOOKUP(E165,女子選手!$B$2:$F$158,2,FALSE))","v":""},{"$f":"IF(E165=\"\",\"\",VLOOKUP(E165,女子選手!$B$2:$F$158,5,FALSE))","v":""},{"$f":"IF(E165=\"\",\"\",VLOOKUP(E165,女子選手!$B$2:$F$158,4,FALSE))","v":""},"0.0000000","○Ａ"]
["60100","60100",{"$f":"VLOOKUP(A166,初期設定1!$B$18:$C$38,2,FALSE)","v":"4x100R"},{"$f":"VLOOKUP(A166,初期設定1!$B$18:$D$40,3,FALSE)","v":"01T"},null,null,null,null,{"$f":"IF(AND(F166=\"\",G166=\"\",H166=\"\"),\"\",IF(D166=\"01T\",IF(F166=\"\",G166&\"\"\"\"&H166,F166&\"'\"&G166&\"\"\"\"&H166),IF(D166=\"02F\",G166&\"m\"&H166,H166&\"点\")))","v":""},"",{"$f":"IF(E166=\"\",\"\",VLOOKUP(E166,女子選手!$B$2:$F$158,2,FALSE))","v":""},{"$f":"IF(E166=\"\",\"\",VLOOKUP(E166,女子選手!$B$2:$F$158,5,FALSE))","v":""},{"$f":"IF(E166=\"\",\"\",VLOOKUP(E166,女子選手!$B$2:$F$158,4,FALSE))","v":""},"0.0000000","○Ａ"]
["60100","60100",{"$f":"VLOOKUP(A167,初期設定1!$B$18:$C$38,2,FALSE)","v":"4x100R"},{"$f":"VLOOKUP(A167,初期設定1!$B$18:$D$40,3,FALSE)","v":"01T"},null,null,null,null,{"$f":"IF(AND(F167=\"\",G167=\"\",H167=\"\"),\"\",IF(D167=\"01T\",IF(F167=\"\",G167&\"\"\"\"&H167,F167&\"'\"&G167&\"\"\"\"&H167),IF(D167=\"02F\",G167&\"m\"&H167,H167&\"点\")))","v":""},{"$f":"IF(E167=\"\",\"\",E167)","v":""},{"$f":"IF(E167=\"\",\"\",VLOOKUP(E167,女子選手!$B$2:$F$158,2,FALSE))","v":""},{"$f":"IF(E167=\"\",\"\",VLOOKUP(E167,女子選手!$B$2:$F$158,5,FALSE))","v":""},{"$f":"IF(E167=\"\",\"\",VLOOKUP(E167,女子選手!$B$2:$F$158,4,FALSE))","v":""},{"$f":"FIXED((F167*10000+G167*100+H167)/10000000,7)","v":"0.0000000"},"○Ｂ"]
["60100","60100",{"$f":"VLOOKUP(A168,初期設定1!$B$18:$C$38,2,FALSE)","v":"4x100R"},{"$f":"VLOOKUP(A168,初期設定1!$B$18:$D$40,3,FALSE)","v":"01T"},null,null,null,null,{"$f":"IF(AND(F168=\"\",G168=\"\",H168=\"\"),\"\",IF(D168=\"01T\",IF(F168=\"\",G168&\"\"\"\"&H168,F168&\"'\"&G168&\"\"\"\"&H168),IF(D168=\"02F\",G168&\"m\"&H168,H168&\"点\")))","v":""},"",{"$f":"IF(E168=\"\",\"\",VLOOKUP(E168,女子選手!$B$2:$F$158,2,FALSE))","v":""},{"$f":"IF(E168=\"\",\"\",VLOOKUP(E168,女子選手!$B$2:$F$158,5,FALSE))","v":""},{"$f":"IF(E168=\"\",\"\",VLOOKUP(E168,女子選手!$B$2:$F$158,4,FALSE))","v":""},"0.0000000","○Ｂ"]
["60100","60100",{"$f":"VLOOKUP(A169,初期設定1!$B$18:$C$38,2,FALSE)","v":"4x100R"},{"$f":"VLOOKUP(A169,初期設定1!$B$18:$D$40,3,FALSE)","v":"01T"},null,null,null,null,{"$f":"IF(AND(F169=\"\",G169=\"\",H169=\"\"),\"\",IF(D169=\"01T\",IF(F169=\"\",G169&\"\"\"\"&H169,F169&\"'\"&G169&\"\"\"\"&H169),IF(D169=\"02F\",G169&\"m\"&H169,H169&\"点\")))","v":""},"",{"$f":"IF(E169=\"\",\"\",VLOOKUP(E169,女子選手!$B$2:$F$158,2,FALSE))","v":""},{"$f":"IF(E169=\"\",\"\",VLOOKUP(E169,女子選手!$B$2:$F$158,5,FALSE))","v":""},{"$f":"IF(E169=\"\",\"\",VLOOKUP(E169,女子選手!$B$2:$F$158,4,FALSE))","v":""},"0.0000000","○Ｂ"]
["60100","60100",{"$f":"VLOOKUP(A170,初期設定1!$B$18:$C$38,2,FALSE)","v":"4x100R"},{"$f":"VLOOKUP(A170,初期設定1!$B$18:$D$40,3,FALSE)","v":"01T"},null,null,null,null,{"$f":"IF(AND(F170=\"\",G170=\"\",H170=\"\"),\"\",IF(D170=\"01T\",IF(F170=\"\",G170&\"\"\"\"&H170,F170&\"'\"&G170&\"\"\"\"&H170),IF(D170=\"02F\",G170&\"m\"&H170,H170&\"点\")))","v":""},"",{"$f":"IF(E170=\"\",\"\",VLOOKUP(E170,女子選手!$B$2:$F$158,2,FALSE))","v":""},{"$f":"IF(E170=\"\",\"\",VLOOKUP(E170,女子選手!$B$2:$F$158,5,FALSE))","v":""},{"$f":"IF(E170=\"\",\"\",VLOOKUP(E170,女子選手!$B$2:$F$158,4,FALSE))","v":""},"0.0000000","○Ｂ"]
["60100","60100",{"$f":"VLOOKUP(A171,初期設定1!$B$18:$C$38,2,FALSE)","v":"4x100R"},{"$f":"VLOOKUP(A171,初期設定1!$B$18:$D$40,3,FALSE)","v":"01T"},null,null,null,null,null,"",{"$f":"IF(E171=\"\",\"\",VLOOKUP(E171,女子選手!$B$2:$F$158,2,FALSE))","v":""},{"$f":"IF(E171=\"\",\"\",VLOOKUP(E171,女子選手!$B$2:$F$158,5,FALSE))","v":""},{"$f":"IF(E171=\"\",\"\",VLOOKUP(E171,女子選手!$B$2:$F$158,4,FALSE))","v":""},"0.0000000","○Ｂ"]
["60100","60100",{"$f":"VLOOKUP(A172,初期設定1!$B$18:$C$38,2,FALSE)","v":"4x100R"},{"$f":"VLOOKUP(A172,初期設定1!$B$18:$D$40,3,FALSE)","v":"01T"},null,null,null,null,{"$f":"IF(AND(F172=\"\",G172=\"\",H172=\"\"),\"\",IF(D172=\"01T\",IF(F172=\"\",G172&\"\"\"\"&H172,F172&\"'\"&G172&\"\"\"\"&H172),IF(D172=\"02F\",G172&\"m\"&H172,H172&\"点\")))","v":""},"",{"$f":"IF(E172=\"\",\"\",VLOOKUP(E172,女子選手!$B$2:$F$158,2,FALSE))","v":""},{"$f":"IF(E172=\"\",\"\",VLOOKUP(E172,女子選手!$B$2:$F$158,5,FALSE))","v":""},{"$f":"IF(E172=\"\",\"\",VLOOKUP(E172,女子選手!$B$2:$F$158,4,FALSE))","v":""},"0.0000000","○Ｂ"]
["60100",{"$f":"A173&E173","v":"60100"},{"$f":"VLOOKUP(A173,初期設定1!$B$18:$C$38,2,FALSE)","v":"4x100R"},{"$f":"VLOOKUP(A173,初期設定1!$B$18:$D$40,3,FALSE)","v":"01T"},null,null,null,null,{"$f":"IF(AND(F173=\"\",G173=\"\",H173=\"\"),\"\",IF(D173=\"01T\",IF(F173=\"\",G173&\"\"\"\"&H173,F173&\"'\"&G173&\"\"\"\"&H173),IF(D173=\"02F\",G173&\"m\"&H173,H173&\"点\")))","v":""},"",{"$f":"IF(E173=\"\",\"\",VLOOKUP(E173,女子選手!$B$2:$F$158,2,FALSE))","v":""},{"$f":"IF(E173=\"\",\"\",VLOOKUP(E173,女子選手!$B$2:$F$158,5,FALSE))","v":""},{"$f":"IF(E173=\"\",\"\",VLOOKUP(E173,女子選手!$B$2:$F$158,4,FALSE))","v":""},"0.0000000","○Ｃ"]
["60100","60100",{"$f":"VLOOKUP(A174,初期設定1!$B$18:$C$38,2,FALSE)","v":"4x100R"},{"$f":"VLOOKUP(A174,初期設定1!$B$18:$D$40,3,FALSE)","v":"01T"},null,null,null,null,{"$f":"IF(AND(F174=\"\",G174=\"\",H174=\"\"),\"\",IF(D174=\"01T\",IF(F174=\"\",G174&\"\"\"\"&H174,F174&\"'\"&G174&\"\"\"\"&H174),IF(D174=\"02F\",G174&\"m\"&H174,H174&\"点\")))","v":""},"",{"$f":"IF(E174=\"\",\"\",VLOOKUP(E174,女子選手!$B$2:$F$158,2,FALSE))","v":""},{"$f":"IF(E174=\"\",\"\",VLOOKUP(E174,女子選手!$B$2:$F$158,5,FALSE))","v":""},{"$f":"IF(E174=\"\",\"\",VLOOKUP(E174,女子選手!$B$2:$F$158,4,FALSE))","v":""},"0.0000000","○Ｃ"]
["60100","60100",{"$f":"VLOOKUP(A175,初期設定1!$B$18:$C$38,2,FALSE)","v":"4x100R"},{"$f":"VLOOKUP(A175,初期設定1!$B$18:$D$40,3,FALSE)","v":"01T"},null,null,null,null,{"$f":"IF(AND(F175=\"\",G175=\"\",H175=\"\"),\"\",IF(D175=\"01T\",IF(F175=\"\",G175&\"\"\"\"&H175,F175&\"'\"&G175&\"\"\"\"&H175),IF(D175=\"02F\",G175&\"m\"&H175,H175&\"点\")))","v":""},"",{"$f":"IF(E175=\"\",\"\",VLOOKUP(E175,女子選手!$B$2:$F$158,2,FALSE))","v":""},{"$f":"IF(E175=\"\",\"\",VLOOKUP(E175,女子選手!$B$2:$F$158,5,FALSE))","v":""},{"$f":"IF(E175=\"\",\"\",VLOOKUP(E175,女子選手!$B$2:$F$158,4,FALSE))","v":""},"0.0000000","○Ｃ"]
["60100","60100",{"$f":"VLOOKUP(A176,初期設定1!$B$18:$C$38,2,FALSE)","v":"4x100R"},{"$f":"VLOOKUP(A176,初期設定1!$B$18:$D$40,3,FALSE)","v":"01T"},null,null,null,null,{"$f":"IF(AND(F176=\"\",G176=\"\",H176=\"\"),\"\",IF(D176=\"01T\",IF(F176=\"\",G176&\"\"\"\"&H176,F176&\"'\"&G176&\"\"\"\"&H176),IF(D176=\"02F\",G176&\"m\"&H176,H176&\"点\")))","v":""},"",{"$f":"IF(E176=\"\",\"\",VLOOKUP(E176,女子選手!$B$2:$F$158,2,FALSE))","v":""},{"$f":"IF(E176=\"\",\"\",VLOOKUP(E176,女子選手!$B$2:$F$158,5,FALSE))","v":""},{"$f":"IF(E176=\"\",\"\",VLOOKUP(E176,女子選手!$B$2:$F$158,4,FALSE))","v":""},"0.0000000","○Ｃ"]
["60100","60100",{"$f":"VLOOKUP(A177,初期設定1!$B$18:$C$38,2,FALSE)","v":"4x100R"},{"$f":"VLOOKUP(A177,初期設定1!$B$18:$D$40,3,FALSE)","v":"01T"},null,null,null,null,null,"",{"$f":"IF(E177=\"\",\"\",VLOOKUP(E177,女子選手!$B$2:$F$158,2,FALSE))","v":""},{"$f":"IF(E177=\"\",\"\",VLOOKUP(E177,女子選手!$B$2:$F$158,5,FALSE))","v":""},{"$f":"IF(E177=\"\",\"\",VLOOKUP(E177,女子選手!$B$2:$F$158,4,FALSE))","v":""},"0.0000000","○Ｃ"]
["60100","60100",{"$f":"VLOOKUP(A178,初期設定1!$B$18:$C$38,2,FALSE)","v":"4x100R"},{"$f":"VLOOKUP(A178,初期設定1!$B$18:$D$40,3,FALSE)","v":"01T"},null,null,null,null,{"$f":"IF(AND(F178=\"\",G178=\"\",H178=\"\"),\"\",IF(D178=\"01T\",IF(F178=\"\",G178&\"\"\"\"&H178,F178&\"'\"&G178&\"\"\"\"&H178),IF(D178=\"02F\",G178&\"m\"&H178,H178&\"点\")))","v":""},"",{"$f":"IF(E178=\"\",\"\",VLOOKUP(E178,女子選手!$B$2:$F$158,2,FALSE))","v":""},{"$f":"IF(E178=\"\",\"\",VLOOKUP(E178,女子選手!$B$2:$F$158,5,FALSE))","v":""},{"$f":"IF(E178=\"\",\"\",VLOOKUP(E178,女子選手!$B$2:$F$158,4,FALSE))","v":""},"0.0000000","○Ｃ"]
["60100","60100",{"$f":"VLOOKUP(A179,初期設定1!$B$18:$C$38,2,FALSE)","v":"4x100R"},{"$f":"VLOOKUP(A179,初期設定1!$B$18:$D$40,3,FALSE)","v":"01T"},null,null,null,null,{"$f":"IF(AND(F179=\"\",G179=\"\",H179=\"\"),\"\",IF(D179=\"01T\",IF(F179=\"\",G179&\"\"\"\"&H179,F179&\"'\"&G179&\"\"\"\"&H179),IF(D179=\"02F\",G179&\"m\"&H179,H179&\"点\")))","v":""},{"$f":"IF(E179=\"\",\"\",E179)","v":""},{"$f":"IF(E179=\"\",\"\",VLOOKUP(E179,女子選手!$B$2:$F$158,2,FALSE))","v":""},{"$f":"IF(E179=\"\",\"\",VLOOKUP(E179,女子選手!$B$2:$F$158,5,FALSE))","v":""},{"$f":"IF(E179=\"\",\"\",VLOOKUP(E179,女子選手!$B$2:$F$158,4,FALSE))","v":""},{"$f":"FIXED((F179*10000+G179*100+H179)/10000000,7)","v":"0.0000000"},"○Ｄ"]
["60100","60100",{"$f":"VLOOKUP(A180,初期設定1!$B$18:$C$38,2,FALSE)","v":"4x100R"},{"$f":"VLOOKUP(A180,初期設定1!$B$18:$D$40,3,FALSE)","v":"01T"},null,null,null,null,{"$f":"IF(AND(F180=\"\",G180=\"\",H180=\"\"),\"\",IF(D180=\"01T\",IF(F180=\"\",G180&\"\"\"\"&H180,F180&\"'\"&G180&\"\"\"\"&H180),IF(D180=\"02F\",G180&\"m\"&H180,H180&\"点\")))","v":""},"",{"$f":"IF(E180=\"\",\"\",VLOOKUP(E180,女子選手!$B$2:$F$158,2,FALSE))","v":""},{"$f":"IF(E180=\"\",\"\",VLOOKUP(E180,女子選手!$B$2:$F$158,5,FALSE))","v":""},{"$f":"IF(E180=\"\",\"\",VLOOKUP(E180,女子選手!$B$2:$F$158,4,FALSE))","v":""},"0.0000000","○Ｄ"]
["60100","60100",{"$f":"VLOOKUP(A181,初期設定1!$B$18:$C$38,2,FALSE)","v":"4x100R"},{"$f":"VLOOKUP(A181,初期設定1!$B$18:$D$40,3,FALSE)","v":"01T"},null,null,null,null,{"$f":"IF(AND(F181=\"\",G181=\"\",H181=\"\"),\"\",IF(D181=\"01T\",IF(F181=\"\",G181&\"\"\"\"&H181,F181&\"'\"&G181&\"\"\"\"&H181),IF(D181=\"02F\",G181&\"m\"&H181,H181&\"点\")))","v":""},"",{"$f":"IF(E181=\"\",\"\",VLOOKUP(E181,女子選手!$B$2:$F$158,2,FALSE))","v":""},{"$f":"IF(E181=\"\",\"\",VLOOKUP(E181,女子選手!$B$2:$F$158,5,FALSE))","v":""},{"$f":"IF(E181=\"\",\"\",VLOOKUP(E181,女子選手!$B$2:$F$158,4,FALSE))","v":""},"0.0000000","○Ｄ"]
["60100","60100",{"$f":"VLOOKUP(A182,初期設定1!$B$18:$C$38,2,FALSE)","v":"4x100R"},{"$f":"VLOOKUP(A182,初期設定1!$B$18:$D$40,3,FALSE)","v":"01T"},null,null,null,null,{"$f":"IF(AND(F182=\"\",G182=\"\",H182=\"\"),\"\",IF(D182=\"01T\",IF(F182=\"\",G182&\"\"\"\"&H182,F182&\"'\"&G182&\"\"\"\"&H182),IF(D182=\"02F\",G182&\"m\"&H182,H182&\"点\")))","v":""},"",{"$f":"IF(E182=\"\",\"\",VLOOKUP(E182,女子選手!$B$2:$F$158,2,FALSE))","v":""},{"$f":"IF(E182=\"\",\"\",VLOOKUP(E182,女子選手!$B$2:$F$158,5,FALSE))","v":""},{"$f":"IF(E182=\"\",\"\",VLOOKUP(E182,女子選手!$B$2:$F$158,4,FALSE))","v":""},"0.0000000","○Ｄ"]
["60100","60100",{"$f":"VLOOKUP(A183,初期設定1!$B$18:$C$38,2,FALSE)","v":"4x100R"},{"$f":"VLOOKUP(A183,初期設定1!$B$18:$D$40,3,FALSE)","v":"01T"},null,null,null,null,null,"",{"$f":"IF(E183=\"\",\"\",VLOOKUP(E183,女子選手!$B$2:$F$158,2,FALSE))","v":""},{"$f":"IF(E183=\"\",\"\",VLOOKUP(E183,女子選手!$B$2:$F$158,5,FALSE))","v":""},{"$f":"IF(E183=\"\",\"\",VLOOKUP(E183,女子選手!$B$2:$F$158,4,FALSE))","v":""},"0.0000000","○Ｄ"]
["60100","60100",{"$f":"VLOOKUP(A184,初期設定1!$B$18:$C$38,2,FALSE)","v":"4x100R"},{"$f":"VLOOKUP(A184,初期設定1!$B$18:$D$40,3,FALSE)","v":"01T"},null,null,null,null,{"$f":"IF(AND(F184=\"\",G184=\"\",H184=\"\"),\"\",IF(D184=\"01T\",IF(F184=\"\",G184&\"\"\"\"&H184,F184&\"'\"&G184&\"\"\"\"&H184),IF(D184=\"02F\",G184&\"m\"&H184,H184&\"点\")))","v":""},"",{"$f":"IF(E184=\"\",\"\",VLOOKUP(E184,女子選手!$B$2:$F$158,2,FALSE))","v":""},{"$f":"IF(E184=\"\",\"\",VLOOKUP(E184,女子選手!$B$2:$F$158,5,FALSE))","v":""},{"$f":"IF(E184=\"\",\"\",VLOOKUP(E184,女子選手!$B$2:$F$158,4,FALSE))","v":""},"0.0000000","○Ｄ"]
["60100",{"$f":"A185&E185","v":"60100"},{"$f":"VLOOKUP(A185,初期設定1!$B$18:$C$38,2,FALSE)","v":"4x100R"},{"$f":"VLOOKUP(A185,初期設定1!$B$18:$D$40,3,FALSE)","v":"01T"},null,null,null,null,{"$f":"IF(AND(F185=\"\",G185=\"\",H185=\"\"),\"\",IF(D185=\"01T\",IF(F185=\"\",G185&\"\"\"\"&H185,F185&\"'\"&G185&\"\"\"\"&H185),IF(D185=\"02F\",G185&\"m\"&H185,H185&\"点\")))","v":""},"",{"$f":"IF(E185=\"\",\"\",VLOOKUP(E185,女子選手!$B$2:$F$158,2,FALSE))","v":""},{"$f":"IF(E185=\"\",\"\",VLOOKUP(E185,女子選手!$B$2:$F$158,5,FALSE))","v":""},{"$f":"IF(E185=\"\",\"\",VLOOKUP(E185,女子選手!$B$2:$F$158,4,FALSE))","v":""},"0.0000000","○Ｅ"]
["60100","60100",{"$f":"VLOOKUP(A186,初期設定1!$B$18:$C$38,2,FALSE)","v":"4x100R"},{"$f":"VLOOKUP(A186,初期設定1!$B$18:$D$40,3,FALSE)","v":"01T"},null,null,null,null,{"$f":"IF(AND(F186=\"\",G186=\"\",H186=\"\"),\"\",IF(D186=\"01T\",IF(F186=\"\",G186&\"\"\"\"&H186,F186&\"'\"&G186&\"\"\"\"&H186),IF(D186=\"02F\",G186&\"m\"&H186,H186&\"点\")))","v":""},"",{"$f":"IF(E186=\"\",\"\",VLOOKUP(E186,女子選手!$B$2:$F$158,2,FALSE))","v":""},{"$f":"IF(E186=\"\",\"\",VLOOKUP(E186,女子選手!$B$2:$F$158,5,FALSE))","v":""},{"$f":"IF(E186=\"\",\"\",VLOOKUP(E186,女子選手!$B$2:$F$158,4,FALSE))","v":""},"0.0000000","○Ｅ"]
["60100","60100",{"$f":"VLOOKUP(A187,初期設定1!$B$18:$C$38,2,FALSE)","v":"4x100R"},{"$f":"VLOOKUP(A187,初期設定1!$B$18:$D$40,3,FALSE)","v":"01T"},null,null,null,null,{"$f":"IF(AND(F187=\"\",G187=\"\",H187=\"\"),\"\",IF(D187=\"01T\",IF(F187=\"\",G187&\"\"\"\"&H187,F187&\"'\"&G187&\"\"\"\"&H187),IF(D187=\"02F\",G187&\"m\"&H187,H187&\"点\")))","v":""},"",{"$f":"IF(E187=\"\",\"\",VLOOKUP(E187,女子選手!$B$2:$F$158,2,FALSE))","v":""},{"$f":"IF(E187=\"\",\"\",VLOOKUP(E187,女子選手!$B$2:$F$158,5,FALSE))","v":""},{"$f":"IF(E187=\"\",\"\",VLOOKUP(E187,女子選手!$B$2:$F$158,4,FALSE))","v":""},"0.0000000","○Ｅ"]
["60100","60100",{"$f":"VLOOKUP(A188,初期設定1!$B$18:$C$38,2,FALSE)","v":"4x100R"},{"$f":"VLOOKUP(A188,初期設定1!$B$18:$D$40,3,FALSE)","v":"01T"},null,null,null,null,{"$f":"IF(AND(F188=\"\",G188=\"\",H188=\"\"),\"\",IF(D188=\"01T\",IF(F188=\"\",G188&\"\"\"\"&H188,F188&\"'\"&G188&\"\"\"\"&H188),IF(D188=\"02F\",G188&\"m\"&H188,H188&\"点\")))","v":""},"",{"$f":"IF(E188=\"\",\"\",VLOOKUP(E188,女子選手!$B$2:$F$158,2,FALSE))","v":""},{"$f":"IF(E188=\"\",\"\",VLOOKUP(E188,女子選手!$B$2:$F$158,5,FALSE))","v":""},{"$f":"IF(E188=\"\",\"\",VLOOKUP(E188,女子選手!$B$2:$F$158,4,FALSE))","v":""},"0.0000000","○Ｅ"]
["60100","60100",{"$f":"VLOOKUP(A189,初期設定1!$B$18:$C$38,2,FALSE)","v":"4x100R"},{"$f":"VLOOKUP(A189,初期設定1!$B$18:$D$40,3,FALSE)","v":"01T"},null,null,null,null,null,"",{"$f":"IF(E189=\"\",\"\",VLOOKUP(E189,女子選手!$B$2:$F$158,2,FALSE))","v":""},{"$f":"IF(E189=\"\",\"\",VLOOKUP(E189,女子選手!$B$2:$F$158,5,FALSE))","v":""},{"$f":"IF(E189=\"\",\"\",VLOOKUP(E189,女子選手!$B$2:$F$158,4,FALSE))","v":""},"0.0000000","○Ｅ"]
["60100","60100",{"$f":"VLOOKUP(A190,初期設定1!$B$18:$C$38,2,FALSE)","v":"4x100R"},{"$f":"VLOOKUP(A190,初期設定1!$B$18:$D$40,3,FALSE)","v":"01T"},null,null,null,null,{"$f":"IF(AND(F190=\"\",G190=\"\",H190=\"\"),\"\",IF(D190=\"01T\",IF(F190=\"\",G190&\"\"\"\"&H190,F190&\"'\"&G190&\"\"\"\"&H190),IF(D190=\"02F\",G190&\"m\"&H190,H190&\"点\")))","v":""},"",{"$f":"IF(E190=\"\",\"\",VLOOKUP(E190,女子選手!$B$2:$F$158,2,FALSE))","v":""},{"$f":"IF(E190=\"\",\"\",VLOOKUP(E190,女子選手!$B$2:$F$158,5,FALSE))","v":""},{"$f":"IF(E190=\"\",\"\",VLOOKUP(E190,女子選手!$B$2:$F$158,4,FALSE))","v":""},"0.0000000","○Ｅ"]
["60300","60300",{"$f":"VLOOKUP(A191,初期設定1!$B$18:$C$38,2,FALSE)","v":"4x400R"},{"$f":"VLOOKUP(A191,初期設定1!$B$18:$D$40,3,FALSE)","v":"01T"},null,null,null,null,{"$f":"IF(AND(F191=\"\",G191=\"\",H191=\"\"),\"\",IF(D191=\"01T\",IF(F191=\"\",G191&\"\"\"\"&H191,F191&\"'\"&G191&\"\"\"\"&H191),IF(D191=\"02F\",G191&\"m\"&H191,H191&\"点\")))","v":""},{"$f":"IF(E191=\"\",\"\",E191)","v":""},{"$f":"IF(E191=\"\",\"\",VLOOKUP(E191,女子選手!$B$2:$F$158,2,FALSE))","v":""},{"$f":"IF(E191=\"\",\"\",VLOOKUP(E191,女子選手!$B$2:$F$158,5,FALSE))","v":""},{"$f":"IF(E191=\"\",\"\",VLOOKUP(E191,女子選手!$B$2:$F$158,4,FALSE))","v":""},{"$f":"FIXED((F191*10000+G191*100+H191)/10000000,7)","v":"0.0000000"},"○Ａ"]
["60300","60300",{"$f":"VLOOKUP(A192,初期設定1!$B$18:$C$38,2,FALSE)","v":"4x400R"},{"$f":"VLOOKUP(A192,初期設定1!$B$18:$D$40,3,FALSE)","v":"01T"},null,null,null,null,{"$f":"IF(AND(F192=\"\",G192=\"\",H192=\"\"),\"\",IF(D192=\"01T\",IF(F192=\"\",G192&\"\"\"\"&H192,F192&\"'\"&G192&\"\"\"\"&H192),IF(D192=\"02F\",G192&\"m\"&H192,H192&\"点\")))","v":""},"",{"$f":"IF(E192=\"\",\"\",VLOOKUP(E192,女子選手!$B$2:$F$158,2,FALSE))","v":""},{"$f":"IF(E192=\"\",\"\",VLOOKUP(E192,女子選手!$B$2:$F$158,5,FALSE))","v":""},{"$f":"IF(E192=\"\",\"\",VLOOKUP(E192,女子選手!$B$2:$F$158,4,FALSE))","v":""},"0.0000000","○Ａ"]
["60300","60300",{"$f":"VLOOKUP(A193,初期設定1!$B$18:$C$38,2,FALSE)","v":"4x400R"},{"$f":"VLOOKUP(A193,初期設定1!$B$18:$D$40,3,FALSE)","v":"01T"},null,null,null,null,{"$f":"IF(AND(F193=\"\",G193=\"\",H193=\"\"),\"\",IF(D193=\"01T\",IF(F193=\"\",G193&\"\"\"\"&H193,F193&\"'\"&G193&\"\"\"\"&H193),IF(D193=\"02F\",G193&\"m\"&H193,H193&\"点\")))","v":""},"",{"$f":"IF(E193=\"\",\"\",VLOOKUP(E193,女子選手!$B$2:$F$158,2,FALSE))","v":""},{"$f":"IF(E193=\"\",\"\",VLOOKUP(E193,女子選手!$B$2:$F$158,5,FALSE))","v":""},{"$f":"IF(E193=\"\",\"\",VLOOKUP(E193,女子選手!$B$2:$F$158,4,FALSE))","v":""},"0.0000000","○Ａ"]
["60300","60300",{"$f":"VLOOKUP(A194,初期設定1!$B$18:$C$38,2,FALSE)","v":"4x400R"},{"$f":"VLOOKUP(A194,初期設定1!$B$18:$D$40,3,FALSE)","v":"01T"},null,null,null,null,{"$f":"IF(AND(F194=\"\",G194=\"\",H194=\"\"),\"\",IF(D194=\"01T\",IF(F194=\"\",G194&\"\"\"\"&H194,F194&\"'\"&G194&\"\"\"\"&H194),IF(D194=\"02F\",G194&\"m\"&H194,H194&\"点\")))","v":""},"",{"$f":"IF(E194=\"\",\"\",VLOOKUP(E194,女子選手!$B$2:$F$158,2,FALSE))","v":""},{"$f":"IF(E194=\"\",\"\",VLOOKUP(E194,女子選手!$B$2:$F$158,5,FALSE))","v":""},{"$f":"IF(E194=\"\",\"\",VLOOKUP(E194,女子選手!$B$2:$F$158,4,FALSE))","v":""},"0.0000000","○Ａ"]
["60300","60300",{"$f":"VLOOKUP(A195,初期設定1!$B$18:$C$38,2,FALSE)","v":"4x400R"},{"$f":"VLOOKUP(A195,初期設定1!$B$18:$D$40,3,FALSE)","v":"01T"},null,null,null,null,null,"",{"$f":"IF(E195=\"\",\"\",VLOOKUP(E195,女子選手!$B$2:$F$158,2,FALSE))","v":""},{"$f":"IF(E195=\"\",\"\",VLOOKUP(E195,女子選手!$B$2:$F$158,5,FALSE))","v":""},{"$f":"IF(E195=\"\",\"\",VLOOKUP(E195,女子選手!$B$2:$F$158,4,FALSE))","v":""},"0.0000000","○Ａ"]
["60300","60300",{"$f":"VLOOKUP(A196,初期設定1!$B$18:$C$38,2,FALSE)","v":"4x400R"},{"$f":"VLOOKUP(A196,初期設定1!$B$18:$D$40,3,FALSE)","v":"01T"},null,null,null,null,{"$f":"IF(AND(F196=\"\",G196=\"\",H196=\"\"),\"\",IF(D196=\"01T\",IF(F196=\"\",G196&\"\"\"\"&H196,F196&\"'\"&G196&\"\"\"\"&H196),IF(D196=\"02F\",G196&\"m\"&H196,H196&\"点\")))","v":""},"",{"$f":"IF(E196=\"\",\"\",VLOOKUP(E196,女子選手!$B$2:$F$158,2,FALSE))","v":""},{"$f":"IF(E196=\"\",\"\",VLOOKUP(E196,女子選手!$B$2:$F$158,5,FALSE))","v":""},{"$f":"IF(E196=\"\",\"\",VLOOKUP(E196,女子選手!$B$2:$F$158,4,FALSE))","v":""},"0.0000000","○Ａ"]
["60300","60300",{"$f":"VLOOKUP(A197,初期設定1!$B$18:$C$38,2,FALSE)","v":"4x400R"},{"$f":"VLOOKUP(A197,初期設定1!$B$18:$D$40,3,FALSE)","v":"01T"},null,null,null,null,{"$f":"IF(AND(F197=\"\",G197=\"\",H197=\"\"),\"\",IF(D197=\"01T\",IF(F197=\"\",G197&\"\"\"\"&H197,F197&\"'\"&G197&\"\"\"\"&H197),IF(D197=\"02F\",G197&\"m\"&H197,H197&\"点\")))","v":""},{"$f":"IF(E197=\"\",\"\",E197)","v":""},{"$f":"IF(E197=\"\",\"\",VLOOKUP(E197,女子選手!$B$2:$F$158,2,FALSE))","v":""},{"$f":"IF(E197=\"\",\"\",VLOOKUP(E197,女子選手!$B$2:$F$158,5,FALSE))","v":""},{"$f":"IF(E197=\"\",\"\",VLOOKUP(E197,女子選手!$B$2:$F$158,4,FALSE))","v":""},{"$f":"FIXED((F197*10000+G197*100+H197)/10000000,7)","v":"0.0000000"},"○Ｂ"]
["60300","60300",{"$f":"VLOOKUP(A198,初期設定1!$B$18:$C$38,2,FALSE)","v":"4x400R"},{"$f":"VLOOKUP(A198,初期設定1!$B$18:$D$40,3,FALSE)","v":"01T"},null,null,null,null,{"$f":"IF(AND(F198=\"\",G198=\"\",H198=\"\"),\"\",IF(D198=\"01T\",IF(F198=\"\",G198&\"\"\"\"&H198,F198&\"'\"&G198&\"\"\"\"&H198),IF(D198=\"02F\",G198&\"m\"&H198,H198&\"点\")))","v":""},"",{"$f":"IF(E198=\"\",\"\",VLOOKUP(E198,女子選手!$B$2:$F$158,2,FALSE))","v":""},{"$f":"IF(E198=\"\",\"\",VLOOKUP(E198,女子選手!$B$2:$F$158,5,FALSE))","v":""},{"$f":"IF(E198=\"\",\"\",VLOOKUP(E198,女子選手!$B$2:$F$158,4,FALSE))","v":""},"0.0000000","○Ｂ"]
["60300","60300",{"$f":"VLOOKUP(A199,初期設定1!$B$18:$C$38,2,FALSE)","v":"4x400R"},{"$f":"VLOOKUP(A199,初期設定1!$B$18:$D$40,3,FALSE)","v":"01T"},null,null,null,null,{"$f":"IF(AND(F199=\"\",G199=\"\",H199=\"\"),\"\",IF(D199=\"01T\",IF(F199=\"\",G199&\"\"\"\"&H199,F199&\"'\"&G199&\"\"\"\"&H199),IF(D199=\"02F\",G199&\"m\"&H199,H199&\"点\")))","v":""},"",{"$f":"IF(E199=\"\",\"\",VLOOKUP(E199,女子選手!$B$2:$F$158,2,FALSE))","v":""},{"$f":"IF(E199=\"\",\"\",VLOOKUP(E199,女子選手!$B$2:$F$158,5,FALSE))","v":""},{"$f":"IF(E199=\"\",\"\",VLOOKUP(E199,女子選手!$B$2:$F$158,4,FALSE))","v":""},"0.0000000","○Ｂ"]
["60300","60300",{"$f":"VLOOKUP(A200,初期設定1!$B$18:$C$38,2,FALSE)","v":"4x400R"},{"$f":"VLOOKUP(A200,初期設定1!$B$18:$D$40,3,FALSE)","v":"01T"},null,null,null,null,{"$f":"IF(AND(F200=\"\",G200=\"\",H200=\"\"),\"\",IF(D200=\"01T\",IF(F200=\"\",G200&\"\"\"\"&H200,F200&\"'\"&G200&\"\"\"\"&H200),IF(D200=\"02F\",G200&\"m\"&H200,H200&\"点\")))","v":""},"",{"$f":"IF(E200=\"\",\"\",VLOOKUP(E200,女子選手!$B$2:$F$158,2,FALSE))","v":""},{"$f":"IF(E200=\"\",\"\",VLOOKUP(E200,女子選手!$B$2:$F$158,5,FALSE))","v":""},{"$f":"IF(E200=\"\",\"\",VLOOKUP(E200,女子選手!$B$2:$F$158,4,FALSE))","v":""},"0.0000000","○Ｂ"]
["60300","60300",{"$f":"VLOOKUP(A201,初期設定1!$B$18:$C$38,2,FALSE)","v":"4x400R"},{"$f":"VLOOKUP(A201,初期設定1!$B$18:$D$40,3,FALSE)","v":"01T"},null,null,null,null,null,"",{"$f":"IF(E201=\"\",\"\",VLOOKUP(E201,女子選手!$B$2:$F$158,2,FALSE))","v":""},{"$f":"IF(E201=\"\",\"\",VLOOKUP(E201,女子選手!$B$2:$F$158,5,FALSE))","v":""},{"$f":"IF(E201=\"\",\"\",VLOOKUP(E201,女子選手!$B$2:$F$158,4,FALSE))","v":""},"0.0000000","○Ｂ"]
["60300","60300",{"$f":"VLOOKUP(A202,初期設定1!$B$18:$C$38,2,FALSE)","v":"4x400R"},{"$f":"VLOOKUP(A202,初期設定1!$B$18:$D$40,3,FALSE)","v":"01T"},null,null,null,null,{"$f":"IF(AND(F202=\"\",G202=\"\",H202=\"\"),\"\",IF(D202=\"01T\",IF(F202=\"\",G202&\"\"\"\"&H202,F202&\"'\"&G202&\"\"\"\"&H202),IF(D202=\"02F\",G202&\"m\"&H202,H202&\"点\")))","v":""},"",{"$f":"IF(E202=\"\",\"\",VLOOKUP(E202,女子選手!$B$2:$F$158,2,FALSE))","v":""},{"$f":"IF(E202=\"\",\"\",VLOOKUP(E202,女子選手!$B$2:$F$158,5,FALSE))","v":""},{"$f":"IF(E202=\"\",\"\",VLOOKUP(E202,女子選手!$B$2:$F$158,4,FALSE))","v":""},"0.0000000","○Ｂ"]
["60300",{"$f":"A203&E203","v":"60300"},{"$f":"VLOOKUP(A203,初期設定1!$B$18:$C$38,2,FALSE)","v":"4x400R"},{"$f":"VLOOKUP(A203,初期設定1!$B$18:$D$40,3,FALSE)","v":"01T"},null,null,null,null,{"$f":"IF(AND(F203=\"\",G203=\"\",H203=\"\"),\"\",IF(D203=\"01T\",IF(F203=\"\",G203&\"\"\"\"&H203,F203&\"'\"&G203&\"\"\"\"&H203),IF(D203=\"02F\",G203&\"m\"&H203,H203&\"点\")))","v":""},"",{"$f":"IF(E203=\"\",\"\",VLOOKUP(E203,女子選手!$B$2:$F$158,2,FALSE))","v":""},{"$f":"IF(E203=\"\",\"\",VLOOKUP(E203,女子選手!$B$2:$F$158,5,FALSE))","v":""},{"$f":"IF(E203=\"\",\"\",VLOOKUP(E203,女子選手!$B$2:$F$158,4,FALSE))","v":""},"0.0000000","○Ｃ"]
["60300","60300",{"$f":"VLOOKUP(A204,初期設定1!$B$18:$C$38,2,FALSE)","v":"4x400R"},{"$f":"VLOOKUP(A204,初期設定1!$B$18:$D$40,3,FALSE)","v":"01T"},null,null,null,null,{"$f":"IF(AND(F204=\"\",G204=\"\",H204=\"\"),\"\",IF(D204=\"01T\",IF(F204=\"\",G204&\"\"\"\"&H204,F204&\"'\"&G204&\"\"\"\"&H204),IF(D204=\"02F\",G204&\"m\"&H204,H204&\"点\")))","v":""},"",{"$f":"IF(E204=\"\",\"\",VLOOKUP(E204,女子選手!$B$2:$F$158,2,FALSE))","v":""},{"$f":"IF(E204=\"\",\"\",VLOOKUP(E204,女子選手!$B$2:$F$158,5,FALSE))","v":""},{"$f":"IF(E204=\"\",\"\",VLOOKUP(E204,女子選手!$B$2:$F$158,4,FALSE))","v":""},"0.0000000","○Ｃ"]
["60300","60300",{"$f":"VLOOKUP(A205,初期設定1!$B$18:$C$38,2,FALSE)","v":"4x400R"},{"$f":"VLOOKUP(A205,初期設定1!$B$18:$D$40,3,FALSE)","v":"01T"},null,null,null,null,{"$f":"IF(AND(F205=\"\",G205=\"\",H205=\"\"),\"\",IF(D205=\"01T\",IF(F205=\"\",G205&\"\"\"\"&H205,F205&\"'\"&G205&\"\"\"\"&H205),IF(D205=\"02F\",G205&\"m\"&H205,H205&\"点\")))","v":""},"",{"$f":"IF(E205=\"\",\"\",VLOOKUP(E205,女子選手!$B$2:$F$158,2,FALSE))","v":""},{"$f":"IF(E205=\"\",\"\",VLOOKUP(E205,女子選手!$B$2:$F$158,5,FALSE))","v":""},{"$f":"IF(E205=\"\",\"\",VLOOKUP(E205,女子選手!$B$2:$F$158,4,FALSE))","v":""},"0.0000000","○Ｃ"]
["60300","60300",{"$f":"VLOOKUP(A206,初期設定1!$B$18:$C$38,2,FALSE)","v":"4x400R"},{"$f":"VLOOKUP(A206,初期設定1!$B$18:$D$40,3,FALSE)","v":"01T"},null,null,null,null,{"$f":"IF(AND(F206=\"\",G206=\"\",H206=\"\"),\"\",IF(D206=\"01T\",IF(F206=\"\",G206&\"\"\"\"&H206,F206&\"'\"&G206&\"\"\"\"&H206),IF(D206=\"02F\",G206&\"m\"&H206,H206&\"点\")))","v":""},"",{"$f":"IF(E206=\"\",\"\",VLOOKUP(E206,女子選手!$B$2:$F$158,2,FALSE))","v":""},{"$f":"IF(E206=\"\",\"\",VLOOKUP(E206,女子選手!$B$2:$F$158,5,FALSE))","v":""},{"$f":"IF(E206=\"\",\"\",VLOOKUP(E206,女子選手!$B$2:$F$158,4,FALSE))","v":""},"0.0000000","○Ｃ"]
["60300","60300",{"$f":"VLOOKUP(A207,初期設定1!$B$18:$C$38,2,FALSE)","v":"4x400R"},{"$f":"VLOOKUP(A207,初期設定1!$B$18:$D$40,3,FALSE)","v":"01T"},null,null,null,null,null,"",{"$f":"IF(E207=\"\",\"\",VLOOKUP(E207,女子選手!$B$2:$F$158,2,FALSE))","v":""},{"$f":"IF(E207=\"\",\"\",VLOOKUP(E207,女子選手!$B$2:$F$158,5,FALSE))","v":""},{"$f":"IF(E207=\"\",\"\",VLOOKUP(E207,女子選手!$B$2:$F$158,4,FALSE))","v":""},"0.0000000","○Ｃ"]
["60300","60300",{"$f":"VLOOKUP(A208,初期設定1!$B$18:$C$38,2,FALSE)","v":"4x400R"},{"$f":"VLOOKUP(A208,初期設定1!$B$18:$D$40,3,FALSE)","v":"01T"},null,null,null,null,{"$f":"IF(AND(F208=\"\",G208=\"\",H208=\"\"),\"\",IF(D208=\"01T\",IF(F208=\"\",G208&\"\"\"\"&H208,F208&\"'\"&G208&\"\"\"\"&H208),IF(D208=\"02F\",G208&\"m\"&H208,H208&\"点\")))","v":""},"",{"$f":"IF(E208=\"\",\"\",VLOOKUP(E208,女子選手!$B$2:$F$158,2,FALSE))","v":""},{"$f":"IF(E208=\"\",\"\",VLOOKUP(E208,女子選手!$B$2:$F$158,5,FALSE))","v":""},{"$f":"IF(E208=\"\",\"\",VLOOKUP(E208,女子選手!$B$2:$F$158,4,FALSE))","v":""},"0.0000000","○Ｃ"]
["60300","60300",{"$f":"VLOOKUP(A209,初期設定1!$B$18:$C$38,2,FALSE)","v":"4x400R"},{"$f":"VLOOKUP(A209,初期設定1!$B$18:$D$40,3,FALSE)","v":"01T"},null,null,null,null,{"$f":"IF(AND(F209=\"\",G209=\"\",H209=\"\"),\"\",IF(D209=\"01T\",IF(F209=\"\",G209&\"\"\"\"&H209,F209&\"'\"&G209&\"\"\"\"&H209),IF(D209=\"02F\",G209&\"m\"&H209,H209&\"点\")))","v":""},{"$f":"IF(E209=\"\",\"\",E209)","v":""},{"$f":"IF(E209=\"\",\"\",VLOOKUP(E209,女子選手!$B$2:$F$158,2,FALSE))","v":""},{"$f":"IF(E209=\"\",\"\",VLOOKUP(E209,女子選手!$B$2:$F$158,5,FALSE))","v":""},{"$f":"IF(E209=\"\",\"\",VLOOKUP(E209,女子選手!$B$2:$F$158,4,FALSE))","v":""},{"$f":"FIXED((F209*10000+G209*100+H209)/10000000,7)","v":"0.0000000"},"○Ｄ"]
["60300","60300",{"$f":"VLOOKUP(A210,初期設定1!$B$18:$C$38,2,FALSE)","v":"4x400R"},{"$f":"VLOOKUP(A210,初期設定1!$B$18:$D$40,3,FALSE)","v":"01T"},null,null,null,null,{"$f":"IF(AND(F210=\"\",G210=\"\",H210=\"\"),\"\",IF(D210=\"01T\",IF(F210=\"\",G210&\"\"\"\"&H210,F210&\"'\"&G210&\"\"\"\"&H210),IF(D210=\"02F\",G210&\"m\"&H210,H210&\"点\")))","v":""},"",{"$f":"IF(E210=\"\",\"\",VLOOKUP(E210,女子選手!$B$2:$F$158,2,FALSE))","v":""},{"$f":"IF(E210=\"\",\"\",VLOOKUP(E210,女子選手!$B$2:$F$158,5,FALSE))","v":""},{"$f":"IF(E210=\"\",\"\",VLOOKUP(E210,女子選手!$B$2:$F$158,4,FALSE))","v":""},"0.0000000","○Ｄ"]
["60300","60300",{"$f":"VLOOKUP(A211,初期設定1!$B$18:$C$38,2,FALSE)","v":"4x400R"},{"$f":"VLOOKUP(A211,初期設定1!$B$18:$D$40,3,FALSE)","v":"01T"},null,null,null,null,{"$f":"IF(AND(F211=\"\",G211=\"\",H211=\"\"),\"\",IF(D211=\"01T\",IF(F211=\"\",G211&\"\"\"\"&H211,F211&\"'\"&G211&\"\"\"\"&H211),IF(D211=\"02F\",G211&\"m\"&H211,H211&\"点\")))","v":""},"",{"$f":"IF(E211=\"\",\"\",VLOOKUP(E211,女子選手!$B$2:$F$158,2,FALSE))","v":""},{"$f":"IF(E211=\"\",\"\",VLOOKUP(E211,女子選手!$B$2:$F$158,5,FALSE))","v":""},{"$f":"IF(E211=\"\",\"\",VLOOKUP(E211,女子選手!$B$2:$F$158,4,FALSE))","v":""},"0.0000000","○Ｄ"]
["60300","60300",{"$f":"VLOOKUP(A212,初期設定1!$B$18:$C$38,2,FALSE)","v":"4x400R"},{"$f":"VLOOKUP(A212,初期設定1!$B$18:$D$40,3,FALSE)","v":"01T"},null,null,null,null,{"$f":"IF(AND(F212=\"\",G212=\"\",H212=\"\"),\"\",IF(D212=\"01T\",IF(F212=\"\",G212&\"\"\"\"&H212,F212&\"'\"&G212&\"\"\"\"&H212),IF(D212=\"02F\",G212&\"m\"&H212,H212&\"点\")))","v":""},"",{"$f":"IF(E212=\"\",\"\",VLOOKUP(E212,女子選手!$B$2:$F$158,2,FALSE))","v":""},{"$f":"IF(E212=\"\",\"\",VLOOKUP(E212,女子選手!$B$2:$F$158,5,FALSE))","v":""},{"$f":"IF(E212=\"\",\"\",VLOOKUP(E212,女子選手!$B$2:$F$158,4,FALSE))","v":""},"0.0000000","○Ｄ"]
["60300","60300",{"$f":"VLOOKUP(A213,初期設定1!$B$18:$C$38,2,FALSE)","v":"4x400R"},{"$f":"VLOOKUP(A213,初期設定1!$B$18:$D$40,3,FALSE)","v":"01T"},null,null,null,null,null,"",{"$f":"IF(E213=\"\",\"\",VLOOKUP(E213,女子選手!$B$2:$F$158,2,FALSE))","v":""},{"$f":"IF(E213=\"\",\"\",VLOOKUP(E213,女子選手!$B$2:$F$158,5,FALSE))","v":""},{"$f":"IF(E213=\"\",\"\",VLOOKUP(E213,女子選手!$B$2:$F$158,4,FALSE))","v":""},"0.0000000","○Ｄ"]
["60300","60300",{"$f":"VLOOKUP(A214,初期設定1!$B$18:$C$38,2,FALSE)","v":"4x400R"},{"$f":"VLOOKUP(A214,初期設定1!$B$18:$D$40,3,FALSE)","v":"01T"},null,null,null,null,{"$f":"IF(AND(F214=\"\",G214=\"\",H214=\"\"),\"\",IF(D214=\"01T\",IF(F214=\"\",G214&\"\"\"\"&H214,F214&\"'\"&G214&\"\"\"\"&H214),IF(D214=\"02F\",G214&\"m\"&H214,H214&\"点\")))","v":""},"",{"$f":"IF(E214=\"\",\"\",VLOOKUP(E214,女子選手!$B$2:$F$158,2,FALSE))","v":""},{"$f":"IF(E214=\"\",\"\",VLOOKUP(E214,女子選手!$B$2:$F$158,5,FALSE))","v":""},{"$f":"IF(E214=\"\",\"\",VLOOKUP(E214,女子選手!$B$2:$F$158,4,FALSE))","v":""},"0.0000000","○Ｄ"]
["60300","60300",{"$f":"VLOOKUP(A215,初期設定1!$B$18:$C$38,2,FALSE)","v":"4x400R"},{"$f":"VLOOKUP(A215,初期設定1!$B$18:$D$40,3,FALSE)","v":"01T"},null,null,null,null,{"$f":"IF(AND(F215=\"\",G215=\"\",H215=\"\"),\"\",IF(D215=\"01T\",IF(F215=\"\",G215&\"\"\"\"&H215,F215&\"'\"&G215&\"\"\"\"&H215),IF(D215=\"02F\",G215&\"m\"&H215,H215&\"点\")))","v":""},"",{"$f":"IF(E215=\"\",\"\",VLOOKUP(E215,女子選手!$B$2:$F$158,2,FALSE))","v":""},{"$f":"IF(E215=\"\",\"\",VLOOKUP(E215,女子選手!$B$2:$F$158,5,FALSE))","v":""},{"$f":"IF(E215=\"\",\"\",VLOOKUP(E215,女子選手!$B$2:$F$158,4,FALSE))","v":""},"0.0000000","○Ｅ"]
["60300","60300",{"$f":"VLOOKUP(A216,初期設定1!$B$18:$C$38,2,FALSE)","v":"4x400R"},{"$f":"VLOOKUP(A216,初期設定1!$B$18:$D$40,3,FALSE)","v":"01T"},null,null,null,null,{"$f":"IF(AND(F216=\"\",G216=\"\",H216=\"\"),\"\",IF(D216=\"01T\",IF(F216=\"\",G216&\"\"\"\"&H216,F216&\"'\"&G216&\"\"\"\"&H216),IF(D216=\"02F\",G216&\"m\"&H216,H216&\"点\")))","v":""},"",{"$f":"IF(E216=\"\",\"\",VLOOKUP(E216,女子選手!$B$2:$F$158,2,FALSE))","v":""},{"$f":"IF(E216=\"\",\"\",VLOOKUP(E216,女子選手!$B$2:$F$158,5,FALSE))","v":""},{"$f":"IF(E216=\"\",\"\",VLOOKUP(E216,女子選手!$B$2:$F$158,4,FALSE))","v":""},"0.0000000","○Ｅ"]
["60300","60300",{"$f":"VLOOKUP(A217,初期設定1!$B$18:$C$38,2,FALSE)","v":"4x400R"},{"$f":"VLOOKUP(A217,初期設定1!$B$18:$D$40,3,FALSE)","v":"01T"},null,null,null,null,{"$f":"IF(AND(F217=\"\",G217=\"\",H217=\"\"),\"\",IF(D217=\"01T\",IF(F217=\"\",G217&\"\"\"\"&H217,F217&\"'\"&G217&\"\"\"\"&H217),IF(D217=\"02F\",G217&\"m\"&H217,H217&\"点\")))","v":""},"",{"$f":"IF(E217=\"\",\"\",VLOOKUP(E217,女子選手!$B$2:$F$158,2,FALSE))","v":""},{"$f":"IF(E217=\"\",\"\",VLOOKUP(E217,女子選手!$B$2:$F$158,5,FALSE))","v":""},{"$f":"IF(E217=\"\",\"\",VLOOKUP(E217,女子選手!$B$2:$F$158,4,FALSE))","v":""},"0.0000000","○Ｅ"]
["60300","60300",{"$f":"VLOOKUP(A218,初期設定1!$B$18:$C$38,2,FALSE)","v":"4x400R"},{"$f":"VLOOKUP(A218,初期設定1!$B$18:$D$40,3,FALSE)","v":"01T"},null,null,null,null,{"$f":"IF(AND(F218=\"\",G218=\"\",H218=\"\"),\"\",IF(D218=\"01T\",IF(F218=\"\",G218&\"\"\"\"&H218,F218&\"'\"&G218&\"\"\"\"&H218),IF(D218=\"02F\",G218&\"m\"&H218,H218&\"点\")))","v":""},"",{"$f":"IF(E218=\"\",\"\",VLOOKUP(E218,女子選手!$B$2:$F$158,2,FALSE))","v":""},{"$f":"IF(E218=\"\",\"\",VLOOKUP(E218,女子選手!$B$2:$F$158,5,FALSE))","v":""},{"$f":"IF(E218=\"\",\"\",VLOOKUP(E218,女子選手!$B$2:$F$158,4,FALSE))","v":""},"0.0000000","○Ｅ"]
["60300","60300",{"$f":"VLOOKUP(A219,初期設定1!$B$18:$C$38,2,FALSE)","v":"4x400R"},{"$f":"VLOOKUP(A219,初期設定1!$B$18:$D$40,3,FALSE)","v":"01T"},null,null,null,null,null,"",{"$f":"IF(E219=\"\",\"\",VLOOKUP(E219,女子選手!$B$2:$F$158,2,FALSE))","v":""},{"$f":"IF(E219=\"\",\"\",VLOOKUP(E219,女子選手!$B$2:$F$158,5,FALSE))","v":""},{"$f":"IF(E219=\"\",\"\",VLOOKUP(E219,女子選手!$B$2:$F$158,4,FALSE))","v":""},"0.0000000","○Ｅ"]
["60300","60300",{"$f":"VLOOKUP(A220,初期設定1!$B$18:$C$38,2,FALSE)","v":"4x400R"},{"$f":"VLOOKUP(A220,初期設定1!$B$18:$D$40,3,FALSE)","v":"01T"},null,null,null,null,{"$f":"IF(AND(F220=\"\",G220=\"\",H220=\"\"),\"\",IF(D220=\"01T\",IF(F220=\"\",G220&\"\"\"\"&H220,F220&\"'\"&G220&\"\"\"\"&H220),IF(D220=\"02F\",G220&\"m\"&H220,H220&\"点\")))","v":""},"",{"$f":"IF(E220=\"\",\"\",VLOOKUP(E220,女子選手!$B$2:$F$158,2,FALSE))","v":""},{"$f":"IF(E220=\"\",\"\",VLOOKUP(E220,女子選手!$B$2:$F$158,5,FALSE))","v":""},{"$f":"IF(E220=\"\",\"\",VLOOKUP(E220,女子選手!$B$2:$F$158,4,FALSE))","v":""},"0.0000000","○Ｅ"]
["07100","07100",{"$f":"VLOOKUP(A221,初期設定1!$B$18:$C$38,2,FALSE)","v":"走高跳"},{"$f":"VLOOKUP(A221,初期設定1!$B$18:$D$40,3,FALSE)","v":"02F"},null,null,null,null,"",{"$f":"IF(E221=\"\",\"\",E221)","v":""},{"$f":"IF(E221=\"\",\"\",VLOOKUP(E221,女子選手!$B$2:$F$158,2,FALSE))","v":""},{"$f":"IF(E221=\"\",\"\",VLOOKUP(E221,女子選手!$B$2:$F$158,5,FALSE))","v":""},{"$f":"IF(E221=\"\",\"\",VLOOKUP(E221,女子選手!$B$2:$F$158,4,FALSE))","v":""},{"$f":"FIXED((F221*10000+G221*100+H221)/10000000,7)","v":"0.0000000"}]
["07100","07100",{"$f":"VLOOKUP(A222,初期設定1!$B$18:$C$38,2,FALSE)","v":"走高跳"},{"$f":"VLOOKUP(A222,初期設定1!$B$18:$D$40,3,FALSE)","v":"02F"},null,null,null,null,"","",{"$f":"IF(E222=\"\",\"\",VLOOKUP(E222,女子選手!$B$2:$F$158,2,FALSE))","v":""},{"$f":"IF(E222=\"\",\"\",VLOOKUP(E222,女子選手!$B$2:$F$158,5,FALSE))","v":""},{"$f":"IF(E222=\"\",\"\",VLOOKUP(E222,女子選手!$B$2:$F$158,4,FALSE))","v":""},"0.0000000"]
["07100","07100",{"$f":"VLOOKUP(A223,初期設定1!$B$18:$C$38,2,FALSE)","v":"走高跳"},{"$f":"VLOOKUP(A223,初期設定1!$B$18:$D$40,3,FALSE)","v":"02F"},null,null,null,null,"","",{"$f":"IF(E223=\"\",\"\",VLOOKUP(E223,女子選手!$B$2:$F$158,2,FALSE))","v":""},{"$f":"IF(E223=\"\",\"\",VLOOKUP(E223,女子選手!$B$2:$F$158,5,FALSE))","v":""},{"$f":"IF(E223=\"\",\"\",VLOOKUP(E223,女子選手!$B$2:$F$158,4,FALSE))","v":""},"0.0000000"]
["07100",{"$f":"A224&E224","v":"07100"},{"$f":"VLOOKUP(A224,初期設定1!$B$18:$C$38,2,FALSE)","v":"走高跳"},{"$f":"VLOOKUP(A224,初期設定1!$B$18:$D$40,3,FALSE)","v":"02F"},null,null,null,null,"",{"$f":"IF(E224=\"\",\"\",E224)","v":""},{"$f":"IF(E224=\"\",\"\",VLOOKUP(E224,女子選手!$B$2:$F$158,2,FALSE))","v":""},{"$f":"IF(E224=\"\",\"\",VLOOKUP(E224,女子選手!$B$2:$F$158,5,FALSE))","v":""},{"$f":"IF(E224=\"\",\"\",VLOOKUP(E224,女子選手!$B$2:$F$158,4,FALSE))","v":""},{"$f":"FIXED((F224*10000+G224*100+H224)/10000000,7)","v":"0.0000000"}]
["07100",{"$f":"A225&E225","v":"07100"},{"$f":"VLOOKUP(A225,初期設定1!$B$18:$C$38,2,FALSE)","v":"走高跳"},{"$f":"VLOOKUP(A225,初期設定1!$B$18:$D$40,3,FALSE)","v":"02F"},null,null,null,null,"",{"$f":"IF(E225=\"\",\"\",E225)","v":""},{"$f":"IF(E225=\"\",\"\",VLOOKUP(E225,女子選手!$B$2:$F$158,2,FALSE))","v":""},{"$f":"IF(E225=\"\",\"\",VLOOKUP(E225,女子選手!$B$2:$F$158,5,FALSE))","v":""},{"$f":"IF(E225=\"\",\"\",VLOOKUP(E225,女子選手!$B$2:$F$158,4,FALSE))","v":""},{"$f":"FIXED((F225*10000+G225*100+H225)/10000000,7)","v":"0.0000000"}]
["07100","07100",{"$f":"VLOOKUP(A226,初期設定1!$B$18:$C$38,2,FALSE)","v":"走高跳"},{"$f":"VLOOKUP(A226,初期設定1!$B$18:$D$40,3,FALSE)","v":"02F"},null,null,null,null,"","",{"$f":"IF(E226=\"\",\"\",VLOOKUP(E226,女子選手!$B$2:$F$158,2,FALSE))","v":""},{"$f":"IF(E226=\"\",\"\",VLOOKUP(E226,女子選手!$B$2:$F$158,5,FALSE))","v":""},{"$f":"IF(E226=\"\",\"\",VLOOKUP(E226,女子選手!$B$2:$F$158,4,FALSE))","v":""},"0.0000000"]
["07100","07100",{"$f":"VLOOKUP(A227,初期設定1!$B$18:$C$38,2,FALSE)","v":"走高跳"},{"$f":"VLOOKUP(A227,初期設定1!$B$18:$D$40,3,FALSE)","v":"02F"},null,null,null,null,"","",{"$f":"IF(E227=\"\",\"\",VLOOKUP(E227,女子選手!$B$2:$F$158,2,FALSE))","v":""},{"$f":"IF(E227=\"\",\"\",VLOOKUP(E227,女子選手!$B$2:$F$158,5,FALSE))","v":""},{"$f":"IF(E227=\"\",\"\",VLOOKUP(E227,女子選手!$B$2:$F$158,4,FALSE))","v":""},"0.0000000"]
["07100","07100",{"$f":"VLOOKUP(A228,初期設定1!$B$18:$C$38,2,FALSE)","v":"走高跳"},{"$f":"VLOOKUP(A228,初期設定1!$B$18:$D$40,3,FALSE)","v":"02F"},null,null,null,null,"","",{"$f":"IF(E228=\"\",\"\",VLOOKUP(E228,女子選手!$B$2:$F$158,2,FALSE))","v":""},{"$f":"IF(E228=\"\",\"\",VLOOKUP(E228,女子選手!$B$2:$F$158,5,FALSE))","v":""},{"$f":"IF(E228=\"\",\"\",VLOOKUP(E228,女子選手!$B$2:$F$158,4,FALSE))","v":""},"0.0000000"]
["07200","07200",{"$f":"VLOOKUP(A229,初期設定1!$B$18:$C$38,2,FALSE)","v":"棒高跳"},{"$f":"VLOOKUP(A229,初期設定1!$B$18:$D$40,3,FALSE)","v":"02F"},null,null,null,null,{"$f":"IF(AND(F229=\"\",G229=\"\",H229=\"\"),\"\",IF(D229=\"01T\",IF(F229=\"\",G229&\"\"\"\"&H229,F229&\"'\"&G229&\"\"\"\"&H229),IF(D229=\"02F\",G229&\"m\"&H229,H229&\"点\")))","v":""},{"$f":"IF(E229=\"\",\"\",E229)","v":""},{"$f":"IF(E229=\"\",\"\",VLOOKUP(E229,女子選手!$B$2:$F$158,2,FALSE))","v":""},{"$f":"IF(E229=\"\",\"\",VLOOKUP(E229,女子選手!$B$2:$F$158,5,FALSE))","v":""},{"$f":"IF(E229=\"\",\"\",VLOOKUP(E229,女子選手!$B$2:$F$158,4,FALSE))","v":""},{"$f":"FIXED((F229*10000+G229*100+H229)/10000000,7)","v":"0.0000000"}]
["07200",{"$f":"A230&E230","v":"07200"},{"$f":"VLOOKUP(A230,初期設定1!$B$18:$C$38,2,FALSE)","v":"棒高跳"},{"$f":"VLOOKUP(A230,初期設定1!$B$18:$D$40,3,FALSE)","v":"02F"},null,null,null,null,{"$f":"IF(AND(F230=\"\",G230=\"\",H230=\"\"),\"\",IF(D230=\"01T\",IF(F230=\"\",G230&\"\"\"\"&H230,F230&\"'\"&G230&\"\"\"\"&H230),IF(D230=\"02F\",G230&\"m\"&H230,H230&\"点\")))","v":""},{"$f":"IF(E230=\"\",\"\",E230)","v":""},{"$f":"IF(E230=\"\",\"\",VLOOKUP(E230,女子選手!$B$2:$F$158,2,FALSE))","v":""},{"$f":"IF(E230=\"\",\"\",VLOOKUP(E230,女子選手!$B$2:$F$158,5,FALSE))","v":""},{"$f":"IF(E230=\"\",\"\",VLOOKUP(E230,女子選手!$B$2:$F$158,4,FALSE))","v":""},{"$f":"FIXED((F230*10000+G230*100+H230)/10000000,7)","v":"0.0000000"}]
["07200",{"$f":"A231&E231","v":"07200"},{"$f":"VLOOKUP(A231,初期設定1!$B$18:$C$38,2,FALSE)","v":"棒高跳"},{"$f":"VLOOKUP(A231,初期設定1!$B$18:$D$40,3,FALSE)","v":"02F"},null,null,null,null,{"$f":"IF(AND(F231=\"\",G231=\"\",H231=\"\"),\"\",IF(D231=\"01T\",IF(F231=\"\",G231&\"\"\"\"&H231,F231&\"'\"&G231&\"\"\"\"&H231),IF(D231=\"02F\",G231&\"m\"&H231,H231&\"点\")))","v":""},{"$f":"IF(E231=\"\",\"\",E231)","v":""},{"$f":"IF(E231=\"\",\"\",VLOOKUP(E231,女子選手!$B$2:$F$158,2,FALSE))","v":""},{"$f":"IF(E231=\"\",\"\",VLOOKUP(E231,女子選手!$B$2:$F$158,5,FALSE))","v":""},{"$f":"IF(E231=\"\",\"\",VLOOKUP(E231,女子選手!$B$2:$F$158,4,FALSE))","v":""},{"$f":"FIXED((F231*10000+G231*100+H231)/10000000,7)","v":"0.0000000"}]
["07200","07200",{"$f":"VLOOKUP(A232,初期設定1!$B$18:$C$38,2,FALSE)","v":"棒高跳"},{"$f":"VLOOKUP(A232,初期設定1!$B$18:$D$40,3,FALSE)","v":"02F"},null,null,null,null,"","",{"$f":"IF(E232=\"\",\"\",VLOOKUP(E232,女子選手!$B$2:$F$158,2,FALSE))","v":""},{"$f":"IF(E232=\"\",\"\",VLOOKUP(E232,女子選手!$B$2:$F$158,5,FALSE))","v":""},{"$f":"IF(E232=\"\",\"\",VLOOKUP(E232,女子選手!$B$2:$F$158,4,FALSE))","v":""},"0.0000000"]
["07200","07200",{"$f":"VLOOKUP(A233,初期設定1!$B$18:$C$38,2,FALSE)","v":"棒高跳"},{"$f":"VLOOKUP(A233,初期設定1!$B$18:$D$40,3,FALSE)","v":"02F"},null,null,null,null,"","",{"$f":"IF(E233=\"\",\"\",VLOOKUP(E233,女子選手!$B$2:$F$158,2,FALSE))","v":""},{"$f":"IF(E233=\"\",\"\",VLOOKUP(E233,女子選手!$B$2:$F$158,5,FALSE))","v":""},{"$f":"IF(E233=\"\",\"\",VLOOKUP(E233,女子選手!$B$2:$F$158,4,FALSE))","v":""},"0.0000000"]
["07200","07200",{"$f":"VLOOKUP(A234,初期設定1!$B$18:$C$38,2,FALSE)","v":"棒高跳"},{"$f":"VLOOKUP(A234,初期設定1!$B$18:$D$40,3,FALSE)","v":"02F"},null,null,null,null,"","",{"$f":"IF(E234=\"\",\"\",VLOOKUP(E234,女子選手!$B$2:$F$158,2,FALSE))","v":""},{"$f":"IF(E234=\"\",\"\",VLOOKUP(E234,女子選手!$B$2:$F$158,5,FALSE))","v":""},{"$f":"IF(E234=\"\",\"\",VLOOKUP(E234,女子選手!$B$2:$F$158,4,FALSE))","v":""},"0.0000000"]
["07300",{"$f":"A235&E235","v":"07300"},{"$f":"VLOOKUP(A235,初期設定1!$B$18:$C$38,2,FALSE)","v":"走幅跳"},{"$f":"VLOOKUP(A235,初期設定1!$B$18:$D$40,3,FALSE)","v":"02F"},null,null,null,null,"","",{"$f":"IF(E235=\"\",\"\",VLOOKUP(E235,女子選手!$B$2:$F$158,2,FALSE))","v":""},{"$f":"IF(E235=\"\",\"\",VLOOKUP(E235,女子選手!$B$2:$F$158,5,FALSE))","v":""},{"$f":"IF(E235=\"\",\"\",VLOOKUP(E235,女子選手!$B$2:$F$158,4,FALSE))","v":""},"0.0000000"]
["07300","07300",{"$f":"VLOOKUP(A236,初期設定1!$B$18:$C$38,2,FALSE)","v":"走幅跳"},{"$f":"VLOOKUP(A236,初期設定1!$B$18:$D$40,3,FALSE)","v":"02F"},null,null,null,null,"","",{"$f":"IF(E236=\"\",\"\",VLOOKUP(E236,女子選手!$B$2:$F$158,2,FALSE))","v":""},{"$f":"IF(E236=\"\",\"\",VLOOKUP(E236,女子選手!$B$2:$F$158,5,FALSE))","v":""},{"$f":"IF(E236=\"\",\"\",VLOOKUP(E236,女子選手!$B$2:$F$158,4,FALSE))","v":""},"0.0000000"]
["07300","07300",{"$f":"VLOOKUP(A237,初期設定1!$B$18:$C$38,2,FALSE)","v":"走幅跳"},{"$f":"VLOOKUP(A237,初期設定1!$B$18:$D$40,3,FALSE)","v":"02F"},null,null,null,null,"","",{"$f":"IF(E237=\"\",\"\",VLOOKUP(E237,女子選手!$B$2:$F$158,2,FALSE))","v":""},{"$f":"IF(E237=\"\",\"\",VLOOKUP(E237,女子選手!$B$2:$F$158,5,FALSE))","v":""},{"$f":"IF(E237=\"\",\"\",VLOOKUP(E237,女子選手!$B$2:$F$158,4,FALSE))","v":""},"0.0000000"]
["07300",{"$f":"A238&E238","v":"07300"},{"$f":"VLOOKUP(A238,初期設定1!$B$18:$C$38,2,FALSE)","v":"走幅跳"},{"$f":"VLOOKUP(A238,初期設定1!$B$18:$D$40,3,FALSE)","v":"02F"},null,null,null,null,{"$f":"IF(AND(F238=\"\",G238=\"\",H238=\"\"),\"\",IF(D238=\"01T\",IF(F238=\"\",G238&\"\"\"\"&H238,F238&\"'\"&G238&\"\"\"\"&H238),IF(D238=\"02F\",G238&\"m\"&H238,H238&\"点\")))","v":""},{"$f":"IF(E238=\"\",\"\",E238)","v":""},{"$f":"IF(E238=\"\",\"\",VLOOKUP(E238,女子選手!$B$2:$F$158,2,FALSE))","v":""},{"$f":"IF(E238=\"\",\"\",VLOOKUP(E238,女子選手!$B$2:$F$158,5,FALSE))","v":""},{"$f":"IF(E238=\"\",\"\",VLOOKUP(E238,女子選手!$B$2:$F$158,4,FALSE))","v":""},{"$f":"FIXED((F238*10000+G238*100+H238)/10000000,7)","v":"0.0000000"}]
["07300","07300",{"$f":"VLOOKUP(A239,初期設定1!$B$18:$C$38,2,FALSE)","v":"走幅跳"},{"$f":"VLOOKUP(A239,初期設定1!$B$18:$D$40,3,FALSE)","v":"02F"},null,null,null,null,"","",{"$f":"IF(E239=\"\",\"\",VLOOKUP(E239,女子選手!$B$2:$F$158,2,FALSE))","v":""},{"$f":"IF(E239=\"\",\"\",VLOOKUP(E239,女子選手!$B$2:$F$158,5,FALSE))","v":""},{"$f":"IF(E239=\"\",\"\",VLOOKUP(E239,女子選手!$B$2:$F$158,4,FALSE))","v":""},"0.0000000"]
["07300","07300",{"$f":"VLOOKUP(A240,初期設定1!$B$18:$C$38,2,FALSE)","v":"走幅跳"},{"$f":"VLOOKUP(A240,初期設定1!$B$18:$D$40,3,FALSE)","v":"02F"},null,null,null,null,"","",{"$f":"IF(E240=\"\",\"\",VLOOKUP(E240,女子選手!$B$2:$F$158,2,FALSE))","v":""},{"$f":"IF(E240=\"\",\"\",VLOOKUP(E240,女子選手!$B$2:$F$158,5,FALSE))","v":""},{"$f":"IF(E240=\"\",\"\",VLOOKUP(E240,女子選手!$B$2:$F$158,4,FALSE))","v":""},"0.0000000"]
["07300","07300",{"$f":"VLOOKUP(A241,初期設定1!$B$18:$C$38,2,FALSE)","v":"走幅跳"},{"$f":"VLOOKUP(A241,初期設定1!$B$18:$D$40,3,FALSE)","v":"02F"},null,null,null,null,"","",{"$f":"IF(E241=\"\",\"\",VLOOKUP(E241,女子選手!$B$2:$F$158,2,FALSE))","v":""},{"$f":"IF(E241=\"\",\"\",VLOOKUP(E241,女子選手!$B$2:$F$158,5,FALSE))","v":""},{"$f":"IF(E241=\"\",\"\",VLOOKUP(E241,女子選手!$B$2:$F$158,4,FALSE))","v":""},"0.0000000"]
["07300","07300",{"$f":"VLOOKUP(A242,初期設定1!$B$18:$C$38,2,FALSE)","v":"走幅跳"},{"$f":"VLOOKUP(A242,初期設定1!$B$18:$D$40,3,FALSE)","v":"02F"},null,null,null,null,"","",{"$f":"IF(E242=\"\",\"\",VLOOKUP(E242,女子選手!$B$2:$F$158,2,FALSE))","v":""},{"$f":"IF(E242=\"\",\"\",VLOOKUP(E242,女子選手!$B$2:$F$158,5,FALSE))","v":""},{"$f":"IF(E242=\"\",\"\",VLOOKUP(E242,女子選手!$B$2:$F$158,4,FALSE))","v":""},"0.0000000"]
["07300","07300",{"$f":"VLOOKUP(A243,初期設定1!$B$18:$C$38,2,FALSE)","v":"走幅跳"},{"$f":"VLOOKUP(A243,初期設定1!$B$18:$D$40,3,FALSE)","v":"02F"},null,null,null,null,"","",{"$f":"IF(E243=\"\",\"\",VLOOKUP(E243,女子選手!$B$2:$F$158,2,FALSE))","v":""},{"$f":"IF(E243=\"\",\"\",VLOOKUP(E243,女子選手!$B$2:$F$158,5,FALSE))","v":""},{"$f":"IF(E243=\"\",\"\",VLOOKUP(E243,女子選手!$B$2:$F$158,4,FALSE))","v":""},"0.0000000"]
["07300","07300",{"$f":"VLOOKUP(A244,初期設定1!$B$18:$C$38,2,FALSE)","v":"走幅跳"},{"$f":"VLOOKUP(A244,初期設定1!$B$18:$D$40,3,FALSE)","v":"02F"},null,null,null,null,"","",{"$f":"IF(E244=\"\",\"\",VLOOKUP(E244,女子選手!$B$2:$F$158,2,FALSE))","v":""},{"$f":"IF(E244=\"\",\"\",VLOOKUP(E244,女子選手!$B$2:$F$158,5,FALSE))","v":""},{"$f":"IF(E244=\"\",\"\",VLOOKUP(E244,女子選手!$B$2:$F$158,4,FALSE))","v":""},"0.0000000"]
["07300","07300",{"$f":"VLOOKUP(A245,初期設定1!$B$18:$C$38,2,FALSE)","v":"走幅跳"},{"$f":"VLOOKUP(A245,初期設定1!$B$18:$D$40,3,FALSE)","v":"02F"},null,null,null,null,"","",{"$f":"IF(E245=\"\",\"\",VLOOKUP(E245,女子選手!$B$2:$F$158,2,FALSE))","v":""},{"$f":"IF(E245=\"\",\"\",VLOOKUP(E245,女子選手!$B$2:$F$158,5,FALSE))","v":""},{"$f":"IF(E245=\"\",\"\",VLOOKUP(E245,女子選手!$B$2:$F$158,4,FALSE))","v":""},"0.0000000"]
["07300","07300",{"$f":"VLOOKUP(A246,初期設定1!$B$18:$C$38,2,FALSE)","v":"走幅跳"},{"$f":"VLOOKUP(A246,初期設定1!$B$18:$D$40,3,FALSE)","v":"02F"},null,null,null,null,"","",{"$f":"IF(E246=\"\",\"\",VLOOKUP(E246,女子選手!$B$2:$F$158,2,FALSE))","v":""},{"$f":"IF(E246=\"\",\"\",VLOOKUP(E246,女子選手!$B$2:$F$158,5,FALSE))","v":""},{"$f":"IF(E246=\"\",\"\",VLOOKUP(E246,女子選手!$B$2:$F$158,4,FALSE))","v":""},"0.0000000"]
["07300","07300",{"$f":"VLOOKUP(A247,初期設定1!$B$18:$C$38,2,FALSE)","v":"走幅跳"},{"$f":"VLOOKUP(A247,初期設定1!$B$18:$D$40,3,FALSE)","v":"02F"},null,null,null,null,"","",{"$f":"IF(E247=\"\",\"\",VLOOKUP(E247,女子選手!$B$2:$F$158,2,FALSE))","v":""},{"$f":"IF(E247=\"\",\"\",VLOOKUP(E247,女子選手!$B$2:$F$158,5,FALSE))","v":""},{"$f":"IF(E247=\"\",\"\",VLOOKUP(E247,女子選手!$B$2:$F$158,4,FALSE))","v":""},"0.0000000"]
["07300","07300",{"$f":"VLOOKUP(A248,初期設定1!$B$18:$C$38,2,FALSE)","v":"走幅跳"},{"$f":"VLOOKUP(A248,初期設定1!$B$18:$D$40,3,FALSE)","v":"02F"},null,null,null,null,"","",{"$f":"IF(E248=\"\",\"\",VLOOKUP(E248,女子選手!$B$2:$F$158,2,FALSE))","v":""},{"$f":"IF(E248=\"\",\"\",VLOOKUP(E248,女子選手!$B$2:$F$158,5,FALSE))","v":""},{"$f":"IF(E248=\"\",\"\",VLOOKUP(E248,女子選手!$B$2:$F$158,4,FALSE))","v":""},"0.0000000"]
["07300","07300",{"$f":"VLOOKUP(A249,初期設定1!$B$18:$C$38,2,FALSE)","v":"走幅跳"},{"$f":"VLOOKUP(A249,初期設定1!$B$18:$D$40,3,FALSE)","v":"02F"},null,null,null,null,"","",{"$f":"IF(E249=\"\",\"\",VLOOKUP(E249,女子選手!$B$2:$F$158,2,FALSE))","v":""},{"$f":"IF(E249=\"\",\"\",VLOOKUP(E249,女子選手!$B$2:$F$158,5,FALSE))","v":""},{"$f":"IF(E249=\"\",\"\",VLOOKUP(E249,女子選手!$B$2:$F$158,4,FALSE))","v":""},"0.0000000"]
["07400","07400",{"$f":"VLOOKUP(A250,初期設定1!$B$18:$C$38,2,FALSE)","v":"三段跳"},{"$f":"VLOOKUP(A250,初期設定1!$B$18:$D$40,3,FALSE)","v":"02F"},null,null,null,null,"","",{"$f":"IF(E250=\"\",\"\",VLOOKUP(E250,女子選手!$B$2:$F$158,2,FALSE))","v":""},{"$f":"IF(E250=\"\",\"\",VLOOKUP(E250,女子選手!$B$2:$F$158,5,FALSE))","v":""},{"$f":"IF(E250=\"\",\"\",VLOOKUP(E250,女子選手!$B$2:$F$158,4,FALSE))","v":""},"0.0000000"]
["07400","07400",{"$f":"VLOOKUP(A251,初期設定1!$B$18:$C$38,2,FALSE)","v":"三段跳"},{"$f":"VLOOKUP(A251,初期設定1!$B$18:$D$40,3,FALSE)","v":"02F"},null,null,null,null,"","",{"$f":"IF(E251=\"\",\"\",VLOOKUP(E251,女子選手!$B$2:$F$158,2,FALSE))","v":""},{"$f":"IF(E251=\"\",\"\",VLOOKUP(E251,女子選手!$B$2:$F$158,5,FALSE))","v":""},{"$f":"IF(E251=\"\",\"\",VLOOKUP(E251,女子選手!$B$2:$F$158,4,FALSE))","v":""},"0.0000000"]
["07400","07400",{"$f":"VLOOKUP(A252,初期設定1!$B$18:$C$38,2,FALSE)","v":"三段跳"},{"$f":"VLOOKUP(A252,初期設定1!$B$18:$D$40,3,FALSE)","v":"02F"},null,null,null,null,"","",{"$f":"IF(E252=\"\",\"\",VLOOKUP(E252,女子選手!$B$2:$F$158,2,FALSE))","v":""},{"$f":"IF(E252=\"\",\"\",VLOOKUP(E252,女子選手!$B$2:$F$158,5,FALSE))","v":""},{"$f":"IF(E252=\"\",\"\",VLOOKUP(E252,女子選手!$B$2:$F$158,4,FALSE))","v":""},"0.0000000"]
["07400",{"$f":"A253&E253","v":"07400"},{"$f":"VLOOKUP(A253,初期設定1!$B$18:$C$38,2,FALSE)","v":"三段跳"},{"$f":"VLOOKUP(A253,初期設定1!$B$18:$D$40,3,FALSE)","v":"02F"},null,null,null,null,{"$f":"IF(AND(F253=\"\",G253=\"\",H253=\"\"),\"\",IF(D253=\"01T\",IF(F253=\"\",G253&\"\"\"\"&H253,F253&\"'\"&G253&\"\"\"\"&H253),IF(D253=\"02F\",G253&\"m\"&H253,H253&\"点\")))","v":""},{"$f":"IF(E253=\"\",\"\",E253)","v":""},{"$f":"IF(E253=\"\",\"\",VLOOKUP(E253,女子選手!$B$2:$F$158,2,FALSE))","v":""},{"$f":"IF(E253=\"\",\"\",VLOOKUP(E253,女子選手!$B$2:$F$158,5,FALSE))","v":""},{"$f":"IF(E253=\"\",\"\",VLOOKUP(E253,女子選手!$B$2:$F$158,4,FALSE))","v":""},{"$f":"FIXED((F253*10000+G253*100+H253)/10000000,7)","v":"0.0000000"}]
["07400",{"$f":"A254&E254","v":"07400"},{"$f":"VLOOKUP(A254,初期設定1!$B$18:$C$38,2,FALSE)","v":"三段跳"},{"$f":"VLOOKUP(A254,初期設定1!$B$18:$D$40,3,FALSE)","v":"02F"},null,null,null,null,{"$f":"IF(AND(F254=\"\",G254=\"\",H254=\"\"),\"\",IF(D254=\"01T\",IF(F254=\"\",G254&\"\"\"\"&H254,F254&\"'\"&G254&\"\"\"\"&H254),IF(D254=\"02F\",G254&\"m\"&H254,H254&\"点\")))","v":""},{"$f":"IF(E254=\"\",\"\",E254)","v":""},{"$f":"IF(E254=\"\",\"\",VLOOKUP(E254,女子選手!$B$2:$F$158,2,FALSE))","v":""},{"$f":"IF(E254=\"\",\"\",VLOOKUP(E254,女子選手!$B$2:$F$158,5,FALSE))","v":""},{"$f":"IF(E254=\"\",\"\",VLOOKUP(E254,女子選手!$B$2:$F$158,4,FALSE))","v":""},{"$f":"FIXED((F254*10000+G254*100+H254)/10000000,7)","v":"0.0000000"}]
["07400","07400",{"$f":"VLOOKUP(A255,初期設定1!$B$18:$C$38,2,FALSE)","v":"三段跳"},{"$f":"VLOOKUP(A255,初期設定1!$B$18:$D$40,3,FALSE)","v":"02F"},null,null,null,null,"","",{"$f":"IF(E255=\"\",\"\",VLOOKUP(E255,女子選手!$B$2:$F$158,2,FALSE))","v":""},{"$f":"IF(E255=\"\",\"\",VLOOKUP(E255,女子選手!$B$2:$F$158,5,FALSE))","v":""},{"$f":"IF(E255=\"\",\"\",VLOOKUP(E255,女子選手!$B$2:$F$158,4,FALSE))","v":""},"0.0000000"]
["07400","07400",{"$f":"VLOOKUP(A256,初期設定1!$B$18:$C$38,2,FALSE)","v":"三段跳"},{"$f":"VLOOKUP(A256,初期設定1!$B$18:$D$40,3,FALSE)","v":"02F"},null,null,null,null,"","",{"$f":"IF(E256=\"\",\"\",VLOOKUP(E256,女子選手!$B$2:$F$158,2,FALSE))","v":""},{"$f":"IF(E256=\"\",\"\",VLOOKUP(E256,女子選手!$B$2:$F$158,5,FALSE))","v":""},{"$f":"IF(E256=\"\",\"\",VLOOKUP(E256,女子選手!$B$2:$F$158,4,FALSE))","v":""},"0.0000000"]
["07400","07400",{"$f":"VLOOKUP(A257,初期設定1!$B$18:$C$38,2,FALSE)","v":"三段跳"},{"$f":"VLOOKUP(A257,初期設定1!$B$18:$D$40,3,FALSE)","v":"02F"},null,null,null,null,"","",{"$f":"IF(E257=\"\",\"\",VLOOKUP(E257,女子選手!$B$2:$F$158,2,FALSE))","v":""},{"$f":"IF(E257=\"\",\"\",VLOOKUP(E257,女子選手!$B$2:$F$158,5,FALSE))","v":""},{"$f":"IF(E257=\"\",\"\",VLOOKUP(E257,女子選手!$B$2:$F$158,4,FALSE))","v":""},"0.0000000"]
["08400","08400",{"$f":"VLOOKUP(A258,初期設定1!$B$18:$C$38,2,FALSE)","v":"砲丸投"},{"$f":"VLOOKUP(A258,初期設定1!$B$18:$D$40,3,FALSE)","v":"02F"},null,null,null,null,"","",{"$f":"IF(E258=\"\",\"\",VLOOKUP(E258,女子選手!$B$2:$F$158,2,FALSE))","v":""},{"$f":"IF(E258=\"\",\"\",VLOOKUP(E258,女子選手!$B$2:$F$158,5,FALSE))","v":""},{"$f":"IF(E258=\"\",\"\",VLOOKUP(E258,女子選手!$B$2:$F$158,4,FALSE))","v":""},"0.0000000"]
["08400","08400",{"$f":"VLOOKUP(A259,初期設定1!$B$18:$C$38,2,FALSE)","v":"砲丸投"},{"$f":"VLOOKUP(A259,初期設定1!$B$18:$D$40,3,FALSE)","v":"02F"},null,null,null,null,"","",{"$f":"IF(E259=\"\",\"\",VLOOKUP(E259,女子選手!$B$2:$F$158,2,FALSE))","v":""},{"$f":"IF(E259=\"\",\"\",VLOOKUP(E259,女子選手!$B$2:$F$158,5,FALSE))","v":""},{"$f":"IF(E259=\"\",\"\",VLOOKUP(E259,女子選手!$B$2:$F$158,4,FALSE))","v":""},"0.0000000"]
["08400","08400",{"$f":"VLOOKUP(A260,初期設定1!$B$18:$C$38,2,FALSE)","v":"砲丸投"},{"$f":"VLOOKUP(A260,初期設定1!$B$18:$D$40,3,FALSE)","v":"02F"},null,null,null,null,"","",{"$f":"IF(E260=\"\",\"\",VLOOKUP(E260,女子選手!$B$2:$F$158,2,FALSE))","v":""},{"$f":"IF(E260=\"\",\"\",VLOOKUP(E260,女子選手!$B$2:$F$158,5,FALSE))","v":""},{"$f":"IF(E260=\"\",\"\",VLOOKUP(E260,女子選手!$B$2:$F$158,4,FALSE))","v":""},"0.0000000"]
["08400",{"$f":"A261&E261","v":"08400"},{"$f":"VLOOKUP(A261,初期設定1!$B$18:$C$38,2,FALSE)","v":"砲丸投"},{"$f":"VLOOKUP(A261,初期設定1!$B$18:$D$40,3,FALSE)","v":"02F"},null,null,null,null,{"$f":"IF(AND(F261=\"\",G261=\"\",H261=\"\"),\"\",IF(D261=\"01T\",IF(F261=\"\",G261&\"\"\"\"&H261,F261&\"'\"&G261&\"\"\"\"&H261),IF(D261=\"02F\",G261&\"m\"&H261,H261&\"点\")))","v":""},{"$f":"IF(E261=\"\",\"\",E261)","v":""},{"$f":"IF(E261=\"\",\"\",VLOOKUP(E261,女子選手!$B$2:$F$158,2,FALSE))","v":""},{"$f":"IF(E261=\"\",\"\",VLOOKUP(E261,女子選手!$B$2:$F$158,5,FALSE))","v":""},{"$f":"IF(E261=\"\",\"\",VLOOKUP(E261,女子選手!$B$2:$F$158,4,FALSE))","v":""},{"$f":"FIXED((F261*10000+G261*100+H261)/10000000,7)","v":"0.0000000"}]
["08400",{"$f":"A262&E262","v":"08400"},{"$f":"VLOOKUP(A262,初期設定1!$B$18:$C$38,2,FALSE)","v":"砲丸投"},{"$f":"VLOOKUP(A262,初期設定1!$B$18:$D$40,3,FALSE)","v":"02F"},null,null,null,null,{"$f":"IF(AND(F262=\"\",G262=\"\",H262=\"\"),\"\",IF(D262=\"01T\",IF(F262=\"\",G262&\"\"\"\"&H262,F262&\"'\"&G262&\"\"\"\"&H262),IF(D262=\"02F\",G262&\"m\"&H262,H262&\"点\")))","v":""},{"$f":"IF(E262=\"\",\"\",E262)","v":""},{"$f":"IF(E262=\"\",\"\",VLOOKUP(E262,女子選手!$B$2:$F$158,2,FALSE))","v":""},{"$f":"IF(E262=\"\",\"\",VLOOKUP(E262,女子選手!$B$2:$F$158,5,FALSE))","v":""},{"$f":"IF(E262=\"\",\"\",VLOOKUP(E262,女子選手!$B$2:$F$158,4,FALSE))","v":""},{"$f":"FIXED((F262*10000+G262*100+H262)/10000000,7)","v":"0.0000000"}]
["08400",{"$f":"A263&E263","v":"08400"},{"$f":"VLOOKUP(A263,初期設定1!$B$18:$C$38,2,FALSE)","v":"砲丸投"},{"$f":"VLOOKUP(A263,初期設定1!$B$18:$D$40,3,FALSE)","v":"02F"},null,null,null,null,{"$f":"IF(AND(F263=\"\",G263=\"\",H263=\"\"),\"\",IF(D263=\"01T\",IF(F263=\"\",G263&\"\"\"\"&H263,F263&\"'\"&G263&\"\"\"\"&H263),IF(D263=\"02F\",G263&\"m\"&H263,H263&\"点\")))","v":""},{"$f":"IF(E263=\"\",\"\",E263)","v":""},{"$f":"IF(E263=\"\",\"\",VLOOKUP(E263,女子選手!$B$2:$F$158,2,FALSE))","v":""},{"$f":"IF(E263=\"\",\"\",VLOOKUP(E263,女子選手!$B$2:$F$158,5,FALSE))","v":""},{"$f":"IF(E263=\"\",\"\",VLOOKUP(E263,女子選手!$B$2:$F$158,4,FALSE))","v":""},{"$f":"FIXED((F263*10000+G263*100+H263)/10000000,7)","v":"0.0000000"}]
["08400",{"$f":"A264&E264","v":"08400"},{"$f":"VLOOKUP(A264,初期設定1!$B$18:$C$38,2,FALSE)","v":"砲丸投"},{"$f":"VLOOKUP(A264,初期設定1!$B$18:$D$40,3,FALSE)","v":"02F"},null,null,null,null,{"$f":"IF(AND(F264=\"\",G264=\"\",H264=\"\"),\"\",IF(D264=\"01T\",IF(F264=\"\",G264&\"\"\"\"&H264,F264&\"'\"&G264&\"\"\"\"&H264),IF(D264=\"02F\",G264&\"m\"&H264,H264&\"点\")))","v":""},{"$f":"IF(E264=\"\",\"\",E264)","v":""},{"$f":"IF(E264=\"\",\"\",VLOOKUP(E264,女子選手!$B$2:$F$158,2,FALSE))","v":""},{"$f":"IF(E264=\"\",\"\",VLOOKUP(E264,女子選手!$B$2:$F$158,5,FALSE))","v":""},{"$f":"IF(E264=\"\",\"\",VLOOKUP(E264,女子選手!$B$2:$F$158,4,FALSE))","v":""},{"$f":"FIXED((F264*10000+G264*100+H264)/10000000,7)","v":"0.0000000"}]
["08400","08400",{"$f":"VLOOKUP(A265,初期設定1!$B$18:$C$38,2,FALSE)","v":"砲丸投"},{"$f":"VLOOKUP(A265,初期設定1!$B$18:$D$40,3,FALSE)","v":"02F"},null,null,null,null,"","",{"$f":"IF(E265=\"\",\"\",VLOOKUP(E265,女子選手!$B$2:$F$158,2,FALSE))","v":""},{"$f":"IF(E265=\"\",\"\",VLOOKUP(E265,女子選手!$B$2:$F$158,5,FALSE))","v":""},{"$f":"IF(E265=\"\",\"\",VLOOKUP(E265,女子選手!$B$2:$F$158,4,FALSE))","v":""},"0.0000000"]
["08800","08800",{"$f":"VLOOKUP(A266,初期設定1!$B$18:$C$38,2,FALSE)","v":"円盤投"},{"$f":"VLOOKUP(A266,初期設定1!$B$18:$D$40,3,FALSE)","v":"02F"},null,null,null,null,"","",{"$f":"IF(E266=\"\",\"\",VLOOKUP(E266,女子選手!$B$2:$F$158,2,FALSE))","v":""},{"$f":"IF(E266=\"\",\"\",VLOOKUP(E266,女子選手!$B$2:$F$158,5,FALSE))","v":""},{"$f":"IF(E266=\"\",\"\",VLOOKUP(E266,女子選手!$B$2:$F$158,4,FALSE))","v":""},"0.0000000"]
["08800","08800",{"$f":"VLOOKUP(A267,初期設定1!$B$18:$C$38,2,FALSE)","v":"円盤投"},{"$f":"VLOOKUP(A267,初期設定1!$B$18:$D$40,3,FALSE)","v":"02F"},null,null,null,null,"","",{"$f":"IF(E267=\"\",\"\",VLOOKUP(E267,女子選手!$B$2:$F$158,2,FALSE))","v":""},{"$f":"IF(E267=\"\",\"\",VLOOKUP(E267,女子選手!$B$2:$F$158,5,FALSE))","v":""},{"$f":"IF(E267=\"\",\"\",VLOOKUP(E267,女子選手!$B$2:$F$158,4,FALSE))","v":""},"0.0000000"]
["08800","08800",{"$f":"VLOOKUP(A268,初期設定1!$B$18:$C$38,2,FALSE)","v":"円盤投"},{"$f":"VLOOKUP(A268,初期設定1!$B$18:$D$40,3,FALSE)","v":"02F"},null,null,null,null,"","",{"$f":"IF(E268=\"\",\"\",VLOOKUP(E268,女子選手!$B$2:$F$158,2,FALSE))","v":""},{"$f":"IF(E268=\"\",\"\",VLOOKUP(E268,女子選手!$B$2:$F$158,5,FALSE))","v":""},{"$f":"IF(E268=\"\",\"\",VLOOKUP(E268,女子選手!$B$2:$F$158,4,FALSE))","v":""},"0.0000000"]
["08800",{"$f":"A269&E269","v":"08800"},{"$f":"VLOOKUP(A269,初期設定1!$B$18:$C$38,2,FALSE)","v":"円盤投"},{"$f":"VLOOKUP(A269,初期設定1!$B$18:$D$40,3,FALSE)","v":"02F"},null,null,null,null,{"$f":"IF(AND(F269=\"\",G269=\"\",H269=\"\"),\"\",IF(D269=\"01T\",IF(F269=\"\",G269&\"\"\"\"&H269,F269&\"'\"&G269&\"\"\"\"&H269),IF(D269=\"02F\",G269&\"m\"&H269,H269&\"点\")))","v":""},{"$f":"IF(E269=\"\",\"\",E269)","v":""},{"$f":"IF(E269=\"\",\"\",VLOOKUP(E269,女子選手!$B$2:$F$158,2,FALSE))","v":""},{"$f":"IF(E269=\"\",\"\",VLOOKUP(E269,女子選手!$B$2:$F$158,5,FALSE))","v":""},{"$f":"IF(E269=\"\",\"\",VLOOKUP(E269,女子選手!$B$2:$F$158,4,FALSE))","v":""},{"$f":"FIXED((F269*10000+G269*100+H269)/10000000,7)","v":"0.0000000"}]
["08800",{"$f":"A270&E270","v":"08800"},{"$f":"VLOOKUP(A270,初期設定1!$B$18:$C$38,2,FALSE)","v":"円盤投"},{"$f":"VLOOKUP(A270,初期設定1!$B$18:$D$40,3,FALSE)","v":"02F"},null,null,null,null,{"$f":"IF(AND(F270=\"\",G270=\"\",H270=\"\"),\"\",IF(D270=\"01T\",IF(F270=\"\",G270&\"\"\"\"&H270,F270&\"'\"&G270&\"\"\"\"&H270),IF(D270=\"02F\",G270&\"m\"&H270,H270&\"点\")))","v":""},{"$f":"IF(E270=\"\",\"\",E270)","v":""},{"$f":"IF(E270=\"\",\"\",VLOOKUP(E270,女子選手!$B$2:$F$158,2,FALSE))","v":""},{"$f":"IF(E270=\"\",\"\",VLOOKUP(E270,女子選手!$B$2:$F$158,5,FALSE))","v":""},{"$f":"IF(E270=\"\",\"\",VLOOKUP(E270,女子選手!$B$2:$F$158,4,FALSE))","v":""},{"$f":"FIXED((F270*10000+G270*100+H270)/10000000,7)","v":"0.0000000"}]
["08800",{"$f":"A271&E271","v":"08800"},{"$f":"VLOOKUP(A271,初期設定1!$B$18:$C$38,2,FALSE)","v":"円盤投"},{"$f":"VLOOKUP(A271,初期設定1!$B$18:$D$40,3,FALSE)","v":"02F"},null,null,null,null,{"$f":"IF(AND(F271=\"\",G271=\"\",H271=\"\"),\"\",IF(D271=\"01T\",IF(F271=\"\",G271&\"\"\"\"&H271,F271&\"'\"&G271&\"\"\"\"&H271),IF(D271=\"02F\",G271&\"m\"&H271,H271&\"点\")))","v":""},{"$f":"IF(E271=\"\",\"\",E271)","v":""},{"$f":"IF(E271=\"\",\"\",VLOOKUP(E271,女子選手!$B$2:$F$158,2,FALSE))","v":""},{"$f":"IF(E271=\"\",\"\",VLOOKUP(E271,女子選手!$B$2:$F$158,5,FALSE))","v":""},{"$f":"IF(E271=\"\",\"\",VLOOKUP(E271,女子選手!$B$2:$F$158,4,FALSE))","v":""},{"$f":"FIXED((F271*10000+G271*100+H271)/10000000,7)","v":"0.0000000"}]
["08800","08800",{"$f":"VLOOKUP(A272,初期設定1!$B$18:$C$38,2,FALSE)","v":"円盤投"},{"$f":"VLOOKUP(A272,初期設定1!$B$18:$D$40,3,FALSE)","v":"02F"},null,null,null,null,"","",{"$f":"IF(E272=\"\",\"\",VLOOKUP(E272,女子選手!$B$2:$F$158,2,FALSE))","v":""},{"$f":"IF(E272=\"\",\"\",VLOOKUP(E272,女子選手!$B$2:$F$158,5,FALSE))","v":""},{"$f":"IF(E272=\"\",\"\",VLOOKUP(E272,女子選手!$B$2:$F$158,4,FALSE))","v":""},"0.0000000"]
["08800","08800",{"$f":"VLOOKUP(A273,初期設定1!$B$18:$C$38,2,FALSE)","v":"円盤投"},{"$f":"VLOOKUP(A273,初期設定1!$B$18:$D$40,3,FALSE)","v":"02F"},null,null,null,null,"","",{"$f":"IF(E273=\"\",\"\",VLOOKUP(E273,女子選手!$B$2:$F$158,2,FALSE))","v":""},{"$f":"IF(E273=\"\",\"\",VLOOKUP(E273,女子選手!$B$2:$F$158,5,FALSE))","v":""},{"$f":"IF(E273=\"\",\"\",VLOOKUP(E273,女子選手!$B$2:$F$158,4,FALSE))","v":""},"0.0000000"]
["09400","09400",{"$f":"VLOOKUP(A274,初期設定1!$B$18:$C$38,2,FALSE)","v":"ﾊﾝﾏ-投"},{"$f":"VLOOKUP(A274,初期設定1!$B$18:$D$40,3,FALSE)","v":"02F"},null,null,null,null,"","",{"$f":"IF(E274=\"\",\"\",VLOOKUP(E274,女子選手!$B$2:$F$158,2,FALSE))","v":""},{"$f":"IF(E274=\"\",\"\",VLOOKUP(E274,女子選手!$B$2:$F$158,5,FALSE))","v":""},{"$f":"IF(E274=\"\",\"\",VLOOKUP(E274,女子選手!$B$2:$F$158,4,FALSE))","v":""},"0.0000000"]
["09400","09400",{"$f":"VLOOKUP(A275,初期設定1!$B$18:$C$38,2,FALSE)","v":"ﾊﾝﾏ-投"},{"$f":"VLOOKUP(A275,初期設定1!$B$18:$D$40,3,FALSE)","v":"02F"},null,null,null,null,"","",{"$f":"IF(E275=\"\",\"\",VLOOKUP(E275,女子選手!$B$2:$F$158,2,FALSE))","v":""},{"$f":"IF(E275=\"\",\"\",VLOOKUP(E275,女子選手!$B$2:$F$158,5,FALSE))","v":""},{"$f":"IF(E275=\"\",\"\",VLOOKUP(E275,女子選手!$B$2:$F$158,4,FALSE))","v":""},"0.0000000"]
["09400","09400",{"$f":"VLOOKUP(A276,初期設定1!$B$18:$C$38,2,FALSE)","v":"ﾊﾝﾏ-投"},{"$f":"VLOOKUP(A276,初期設定1!$B$18:$D$40,3,FALSE)","v":"02F"},null,null,null,null,"","",{"$f":"IF(E276=\"\",\"\",VLOOKUP(E276,女子選手!$B$2:$F$158,2,FALSE))","v":""},{"$f":"IF(E276=\"\",\"\",VLOOKUP(E276,女子選手!$B$2:$F$158,5,FALSE))","v":""},{"$f":"IF(E276=\"\",\"\",VLOOKUP(E276,女子選手!$B$2:$F$158,4,FALSE))","v":""},"0.0000000"]
["09400","09400",{"$f":"VLOOKUP(A277,初期設定1!$B$18:$C$38,2,FALSE)","v":"ﾊﾝﾏ-投"},{"$f":"VLOOKUP(A277,初期設定1!$B$18:$D$40,3,FALSE)","v":"02F"},null,null,null,null,"","",{"$f":"IF(E277=\"\",\"\",VLOOKUP(E277,女子選手!$B$2:$F$158,2,FALSE))","v":""},{"$f":"IF(E277=\"\",\"\",VLOOKUP(E277,女子選手!$B$2:$F$158,5,FALSE))","v":""},{"$f":"IF(E277=\"\",\"\",VLOOKUP(E277,女子選手!$B$2:$F$158,4,FALSE))","v":""},"0.0000000"]
["09400","09400",{"$f":"VLOOKUP(A278,初期設定1!$B$18:$C$38,2,FALSE)","v":"ﾊﾝﾏ-投"},{"$f":"VLOOKUP(A278,初期設定1!$B$18:$D$40,3,FALSE)","v":"02F"},null,null,null,null,"","",{"$f":"IF(E278=\"\",\"\",VLOOKUP(E278,女子選手!$B$2:$F$158,2,FALSE))","v":""},{"$f":"IF(E278=\"\",\"\",VLOOKUP(E278,女子選手!$B$2:$F$158,5,FALSE))","v":""},{"$f":"IF(E278=\"\",\"\",VLOOKUP(E278,女子選手!$B$2:$F$158,4,FALSE))","v":""},"0.0000000"]
["09400","09400",{"$f":"VLOOKUP(A279,初期設定1!$B$18:$C$38,2,FALSE)","v":"ﾊﾝﾏ-投"},{"$f":"VLOOKUP(A279,初期設定1!$B$18:$D$40,3,FALSE)","v":"02F"},null,null,null,null,"","",{"$f":"IF(E279=\"\",\"\",VLOOKUP(E279,女子選手!$B$2:$F$158,2,FALSE))","v":""},{"$f":"IF(E279=\"\",\"\",VLOOKUP(E279,女子選手!$B$2:$F$158,5,FALSE))","v":""},{"$f":"IF(E279=\"\",\"\",VLOOKUP(E279,女子選手!$B$2:$F$158,4,FALSE))","v":""},"0.0000000"]
["09300","09300",{"$f":"VLOOKUP(A280,初期設定1!$B$18:$C$38,2,FALSE)","v":"やり投"},{"$f":"VLOOKUP(A280,初期設定1!$B$18:$D$40,3,FALSE)","v":"02F"},null,null,null,null,"","",{"$f":"IF(E280=\"\",\"\",VLOOKUP(E280,女子選手!$B$2:$F$158,2,FALSE))","v":""},{"$f":"IF(E280=\"\",\"\",VLOOKUP(E280,女子選手!$B$2:$F$158,5,FALSE))","v":""},{"$f":"IF(E280=\"\",\"\",VLOOKUP(E280,女子選手!$B$2:$F$158,4,FALSE))","v":""},"0.0000000"]
["09300","09300",{"$f":"VLOOKUP(A281,初期設定1!$B$18:$C$38,2,FALSE)","v":"やり投"},{"$f":"VLOOKUP(A281,初期設定1!$B$18:$D$40,3,FALSE)","v":"02F"},null,null,null,null,"","",{"$f":"IF(E281=\"\",\"\",VLOOKUP(E281,女子選手!$B$2:$F$158,2,FALSE))","v":""},{"$f":"IF(E281=\"\",\"\",VLOOKUP(E281,女子選手!$B$2:$F$158,5,FALSE))","v":""},{"$f":"IF(E281=\"\",\"\",VLOOKUP(E281,女子選手!$B$2:$F$158,4,FALSE))","v":""},"0.0000000"]
["09300","09300",{"$f":"VLOOKUP(A282,初期設定1!$B$18:$C$38,2,FALSE)","v":"やり投"},{"$f":"VLOOKUP(A282,初期設定1!$B$18:$D$40,3,FALSE)","v":"02F"},null,null,null,null,"","",{"$f":"IF(E282=\"\",\"\",VLOOKUP(E282,女子選手!$B$2:$F$158,2,FALSE))","v":""},{"$f":"IF(E282=\"\",\"\",VLOOKUP(E282,女子選手!$B$2:$F$158,5,FALSE))","v":""},{"$f":"IF(E282=\"\",\"\",VLOOKUP(E282,女子選手!$B$2:$F$158,4,FALSE))","v":""},"0.0000000"]
["09300","09300",{"$f":"VLOOKUP(A283,初期設定1!$B$18:$C$38,2,FALSE)","v":"やり投"},{"$f":"VLOOKUP(A283,初期設定1!$B$18:$D$40,3,FALSE)","v":"02F"},null,null,null,null,"","",{"$f":"IF(E283=\"\",\"\",VLOOKUP(E283,女子選手!$B$2:$F$158,2,FALSE))","v":""},{"$f":"IF(E283=\"\",\"\",VLOOKUP(E283,女子選手!$B$2:$F$158,5,FALSE))","v":""},{"$f":"IF(E283=\"\",\"\",VLOOKUP(E283,女子選手!$B$2:$F$158,4,FALSE))","v":""},"0.0000000"]
["09300",{"$f":"A284&E284","v":"09300"},{"$f":"VLOOKUP(A284,初期設定1!$B$18:$C$38,2,FALSE)","v":"やり投"},{"$f":"VLOOKUP(A284,初期設定1!$B$18:$D$40,3,FALSE)","v":"02F"},null,null,null,null,{"$f":"IF(AND(F284=\"\",G284=\"\",H284=\"\"),\"\",IF(D284=\"01T\",IF(F284=\"\",G284&\"\"\"\"&H284,F284&\"'\"&G284&\"\"\"\"&H284),IF(D284=\"02F\",G284&\"m\"&H284,H284&\"点\")))","v":""},{"$f":"IF(E284=\"\",\"\",E284)","v":""},{"$f":"IF(E284=\"\",\"\",VLOOKUP(E284,女子選手!$B$2:$F$158,2,FALSE))","v":""},{"$f":"IF(E284=\"\",\"\",VLOOKUP(E284,女子選手!$B$2:$F$158,5,FALSE))","v":""},{"$f":"IF(E284=\"\",\"\",VLOOKUP(E284,女子選手!$B$2:$F$158,4,FALSE))","v":""},{"$f":"FIXED((F284*10000+G284*100+H284)/10000000,7)","v":"0.0000000"}]
["09300",{"$f":"A285&E285","v":"09300"},{"$f":"VLOOKUP(A285,初期設定1!$B$18:$C$38,2,FALSE)","v":"やり投"},{"$f":"VLOOKUP(A285,初期設定1!$B$18:$D$40,3,FALSE)","v":"02F"},null,null,null,null,{"$f":"IF(AND(F285=\"\",G285=\"\",H285=\"\"),\"\",IF(D285=\"01T\",IF(F285=\"\",G285&\"\"\"\"&H285,F285&\"'\"&G285&\"\"\"\"&H285),IF(D285=\"02F\",G285&\"m\"&H285,H285&\"点\")))","v":""},{"$f":"IF(E285=\"\",\"\",E285)","v":""},{"$f":"IF(E285=\"\",\"\",VLOOKUP(E285,女子選手!$B$2:$F$158,2,FALSE))","v":""},{"$f":"IF(E285=\"\",\"\",VLOOKUP(E285,女子選手!$B$2:$F$158,5,FALSE))","v":""},{"$f":"IF(E285=\"\",\"\",VLOOKUP(E285,女子選手!$B$2:$F$158,4,FALSE))","v":""},{"$f":"FIXED((F285*10000+G285*100+H285)/10000000,7)","v":"0.0000000"}]
["09300",{"$f":"A286&E286","v":"09300"},{"$f":"VLOOKUP(A286,初期設定1!$B$18:$C$38,2,FALSE)","v":"やり投"},{"$f":"VLOOKUP(A286,初期設定1!$B$18:$D$40,3,FALSE)","v":"02F"},null,null,null,null,{"$f":"IF(AND(F286=\"\",G286=\"\",H286=\"\"),\"\",IF(D286=\"01T\",IF(F286=\"\",G286&\"\"\"\"&H286,F286&\"'\"&G286&\"\"\"\"&H286),IF(D286=\"02F\",G286&\"m\"&H286,H286&\"点\")))","v":""},{"$f":"IF(E286=\"\",\"\",E286)","v":""},{"$f":"IF(E286=\"\",\"\",VLOOKUP(E286,女子選手!$B$2:$F$158,2,FALSE))","v":""},{"$f":"IF(E286=\"\",\"\",VLOOKUP(E286,女子選手!$B$2:$F$158,5,FALSE))","v":""},{"$f":"IF(E286=\"\",\"\",VLOOKUP(E286,女子選手!$B$2:$F$158,4,FALSE))","v":""},{"$f":"FIXED((F286*10000+G286*100+H286)/10000000,7)","v":"0.0000000"}]
["09300",{"$f":"A287&E287","v":"09300"},{"$f":"VLOOKUP(A287,初期設定1!$B$18:$C$38,2,FALSE)","v":"やり投"},{"$f":"VLOOKUP(A287,初期設定1!$B$18:$D$40,3,FALSE)","v":"02F"},null,null,null,null,{"$f":"IF(AND(F287=\"\",G287=\"\",H287=\"\"),\"\",IF(D287=\"01T\",IF(F287=\"\",G287&\"\"\"\"&H287,F287&\"'\"&G287&\"\"\"\"&H287),IF(D287=\"02F\",G287&\"m\"&H287,H287&\"点\")))","v":""},{"$f":"IF(E287=\"\",\"\",E287)","v":""},{"$f":"IF(E287=\"\",\"\",VLOOKUP(E287,女子選手!$B$2:$F$158,2,FALSE))","v":""},{"$f":"IF(E287=\"\",\"\",VLOOKUP(E287,女子選手!$B$2:$F$158,5,FALSE))","v":""},{"$f":"IF(E287=\"\",\"\",VLOOKUP(E287,女子選手!$B$2:$F$158,4,FALSE))","v":""},{"$f":"FIXED((F287*10000+G287*100+H287)/10000000,7)","v":"0.0000000"}]

{"sheet":"女子申込1","index":4,"n_rows":133,"n_cols":15,"rows_kept":133,"cut":false,"hidden":false,"merged":[[4,7,4,14],[6,7,7,14],[14,13,14,14],[14,11,15,11],[14,12,15,12],[9,1,9,3],[11,1,11,3],[9,4,9,9],[11,4,11,9],[14,1,15,1],[14,2,15,2],[14,3,15,3],[14,4,15,4],[4,5,4,6],[6,4,6,6],[7,4,7,6],[4,1,4,3],[6,1,7,3],[73,1,74,3],[73,4,73,6],[73,7,74,14],[74,4,74,6],[0,0,0,15],[62,1,62,3],[62,4,65,4],[62,5,62,6],[63,2,63,3],[63,5,63,6],[64,2,64,3],[64,5,64,6],[65,2,65,3],[65,5,65,6],[2,1,2,3],[14,5,14,10],[67,0,67,15],[69,1,69,3],[71,1,71,3],[71,5,71,6],[71,7,71,14],[76,1,76,3],[76,4,76,9],[78,1,78,3],[78,4,78,9],[81,1,82,1],[81,2,82,2],[81,3,82,3],[81,4,82,4],[81,5,81,10],[132,2,132,3],[132,5,132,6],[81,11,82,11],[81,12,82,12],[81,13,81,14],[129,1,129,3],[129,4,132,4],[129,5,129,6],[130,2,130,3],[130,5,130,6],[131,2,131,3],[131,5,131,6]]}
["2024年度 兵庫県高等学校陸上競技地区別記録会 神戸地区 申込書"]
[]
[null,"女　子"]
[]
[null,"学校番号",null,null,{"$f":"初期設定1!$C$3","v":0},"学　校　名",null,{"$f":"初期設定1!$C$2","v":""}]
[]
[null,"学校所在地",null,null,{"$f":"初期設定1!$C$4","v":""},null,null,{"$f":"初期設定1!$C$6","v":""}]
[null,null,null,null,{"$f":"初期設定1!$C$5","v":""}]
[]
[null,"学校長氏名",null,null,{"$f":"初期設定1!$C$7","v":0},null,null,null,null,null,"印"]
[]
[null,"顧問氏名",null,null,{"$f":"初期設定1!$C$8","v":0},null,null,null,null,null,"印"]
[]
[]
[null,"No.","性","ﾅﾝﾊﾞ-","氏　名(学年)","申 込 種 目",null,null,null,null,null,"400mR","1600mR","種目別参加数"]
[null,null,null,null,null,"種目","記録","種目","記録","種目","記録",null,null,"種　目","人数"]
[null,1,{"$f":"IF(データ完成!E3=2,\"女\",\"\")","v":""},{"$f":"データ完成!H3","v":""},{"$f":"データ完成!C3","v":""},{"$f":"データ完成!P3","v":""},{"$f":"IF(F17=\"\",\"\",データ完成!R3)","v":""},{"$f":"データ完成!S3","v":""},{"$f":"IF(H17=\"\",\"\",データ完成!U3)","v":""},{"$f":"データ完成!V3","v":""},{"$f":"IF(J17=\"\",\"\",データ完成!X3)","v":""},{"$f":"データ完成!M3","v":""},{"$f":"データ完成!O3","v":""},"100m",{"$f":"COUNT(記録入力1!$E$4:$E$28)","v":0}]
[null,2,{"$f":"IF(データ完成!E4=2,\"女\",\"\")","v":""},{"$f":"データ完成!H4","v":""},{"$f":"データ完成!C4","v":""},{"$f":"データ完成!P4","v":""},{"$f":"IF(F18=\"\",\"\",データ完成!R4)","v":""},{"$f":"データ完成!S4","v":""},{"$f":"IF(H18=\"\",\"\",データ完成!U4)","v":""},{"$f":"データ完成!V4","v":""},{"$f":"IF(J18=\"\",\"\",データ完成!X4)","v":""},{"$f":"データ完成!M4","v":""},{"$f":"データ完成!O4","v":""},"200m",{"$f":"COUNT(記録入力1!$E$29:$E$48)","v":0}]
[null,3,{"$f":"IF(データ完成!E5=2,\"女\",\"\")","v":""},{"$f":"データ完成!H5","v":""},{"$f":"データ完成!C5","v":""},{"$f":"データ完成!P5","v":""},{"$f":"IF(F19=\"\",\"\",データ完成!R5)","v":""},{"$f":"データ完成!S5","v":""},{"$f":"IF(H19=\"\",\"\",データ完成!U5)","v":""},{"$f":"データ完成!V5","v":""},{"$f":"IF(J19=\"\",\"\",データ完成!X5)","v":""},{"$f":"データ完成!M5","v":""},{"$f":"データ完成!O5","v":""},"400m",{"$f":"COUNT(記録入力1!$E$49:$E$63)","v":0}]
[null,4,{"$f":"IF(データ完成!E6=2,\"女\",\"\")","v":""},{"$f":"データ完成!H6","v":""},{"$f":"データ完成!C6","v":""},{"$f":"データ完成!P6","v":""},{"$f":"IF(F20=\"\",\"\",データ完成!R6)","v":""},{"$f":"データ完成!S6","v":""},{"$f":"IF(H20=\"\",\"\",データ完成!U6)","v":""},{"$f":"データ完成!V6","v":""},{"$f":"IF(J20=\"\",\"\",データ完成!X6)","v":""},{"$f":"データ完成!M6","v":""},{"$f":"データ完成!O6","v":""},"800m",{"$f":"COUNT(記録入力1!$E$64:$E$78)","v":0}]
[null,5,{"$f":"IF(データ完成!E7=2,\"女\",\"\")","v":""},{"$f":"データ完成!H7","v":""},{"$f":"データ完成!C7","v":""},{"$f":"データ完成!P7","v":""},{"$f":"IF(F21=\"\",\"\",データ完成!R7)","v":""},{"$f":"データ完成!S7","v":""},{"$f":"IF(H21=\"\",\"\",データ完成!U7)","v":""},{"$f":"データ完成!V7","v":""},{"$f":"IF(J21=\"\",\"\",データ完成!X7)","v":""},{"$f":"データ完成!M7","v":""},{"$f":"データ完成!O7","v":""},"1500m",{"$f":"COUNT(記録入力1!$E$79:$E$103)","v":0}]
[null,6,{"$f":"IF(データ完成!E8=2,\"女\",\"\")","v":""},{"$f":"データ完成!H8","v":""},{"$f":"データ完成!C8","v":""},{"$f":"データ完成!P8","v":""},{"$f":"IF(F22=\"\",\"\",データ完成!R8)","v":""},{"$f":"データ完成!S8","v":""},{"$f":"IF(H22=\"\",\"\",データ完成!U8)","v":""},{"$f":"データ完成!V8","v":""},{"$f":"IF(J22=\"\",\"\",データ完成!X8)","v":""},{"$f":"データ完成!M8","v":""},{"$f":"データ完成!O8","v":""},"3000m",{"$f":"COUNT(記録入力1!$E$104:$E$128)","v":0}]
[null,7,{"$f":"IF(データ完成!E9=2,\"女\",\"\")","v":""},{"$f":"データ完成!H9","v":""},{"$f":"データ完成!C9","v":""},{"$f":"データ完成!P9","v":""},{"$f":"IF(F23=\"\",\"\",データ完成!R9)","v":""},{"$f":"データ完成!S9","v":""},{"$f":"IF(H23=\"\",\"\",データ完成!U9)","v":""},{"$f":"データ完成!V9","v":""},{"$f":"IF(J23=\"\",\"\",データ完成!X9)","v":""},{"$f":"データ完成!M9","v":""},{"$f":"データ完成!O9","v":""},"100mH",{"$f":"COUNT(記録入力1!$E$129:$E$136)","v":0}]
[null,8,{"$f":"IF(データ完成!E10=2,\"女\",\"\")","v":""},{"$f":"データ完成!H10","v":""},{"$f":"データ完成!C10","v":""},{"$f":"データ完成!P10","v":""},{"$f":"IF(F24=\"\",\"\",データ完成!R10)","v":""},{"$f":"データ完成!S10","v":""},{"$f":"IF(H24=\"\",\"\",データ完成!U10)","v":""},{"$f":"データ完成!V10","v":""},{"$f":"IF(J24=\"\",\"\",データ完成!X10)","v":""},{"$f":"データ完成!M10","v":""},{"$f":"データ完成!O10","v":""},"400mH",{"$f":"COUNT(記録入力1!$E$137:$E$144)","v":0}]
[null,9,{"$f":"IF(データ完成!E11=2,\"女\",\"\")","v":""},{"$f":"データ完成!H11","v":""},{"$f":"データ完成!C11","v":""},{"$f":"データ完成!P11","v":""},{"$f":"IF(F25=\"\",\"\",データ完成!R11)","v":""},{"$f":"データ完成!S11","v":""},{"$f":"IF(H25=\"\",\"\",データ完成!U11)","v":""},{"$f":"データ完成!V11","v":""},{"$f":"IF(J25=\"\",\"\",データ完成!X11)","v":""},{"$f":"データ完成!M11","v":""},{"$f":"データ完成!O11","v":""}]
[null,10,{"$f":"IF(データ完成!E12=2,\"女\",\"\")","v":""},{"$f":"データ完成!H12","v":""},{"$f":"データ完成!C12","v":""},{"$f":"データ完成!P12","v":""},{"$f":"IF(F26=\"\",\"\",データ完成!R12)","v":""},{"$f":"データ完成!S12","v":""},{"$f":"IF(H26=\"\",\"\",データ完成!U12)","v":""},{"$f":"データ完成!V12","v":""},{"$f":"IF(J26=\"\",\"\",データ完成!X12)","v":""},{"$f":"データ完成!M12","v":""},{"$f":"データ完成!O12","v":""},"5000mW",{"$f":"COUNT(記録入力1!$E$153:$E$160)","v":0}]
[null,11,{"$f":"IF(データ完成!E13=2,\"女\",\"\")","v":""},{"$f":"データ完成!H13","v":""},{"$f":"データ完成!C13","v":""},{"$f":"データ完成!P13","v":""},{"$f":"IF(F27=\"\",\"\",データ完成!R13)","v":""},{"$f":"データ完成!S13","v":""},{"$f":"IF(H27=\"\",\"\",データ完成!U13)","v":""},{"$f":"データ完成!V13","v":""},{"$f":"IF(J27=\"\",\"\",データ完成!X13)","v":""},{"$f":"データ完成!M13","v":""},{"$f":"データ完成!O13","v":""},"4*100m",{"$f":"COUNT(記録入力1!$E$161,記録入力1!$E$167,記録入力1!$E$173,記録入力1!$E$179,記録入力1!$E$185)","v":0}]
[null,12,{"$f":"IF(データ完成!E14=2,\"女\",\"\")","v":""},{"$f":"データ完成!H14","v":""},{"$f":"データ完成!C14","v":""},{"$f":"データ完成!P14","v":""},{"$f":"IF(F28=\"\",\"\",データ完成!R14)","v":""},{"$f":"データ完成!S14","v":""},{"$f":"IF(H28=\"\",\"\",データ完成!U14)","v":""},{"$f":"データ完成!V14","v":""},{"$f":"IF(J28=\"\",\"\",データ完成!X14)","v":""},{"$f":"データ完成!M14","v":""},{"$f":"データ完成!O14","v":""},"4*400m",{"$f":"COUNT(記録入力1!$E$191,記録入力1!$E$197,記録入力1!$E$203,記録入力1!$E$209,記録入力1!$E$215)","v":0}]
[null,13,{"$f":"IF(データ完成!E15=2,\"女\",\"\")","v":""},{"$f":"データ完成!H15","v":""},{"$f":"データ完成!C15","v":""},{"$f":"データ完成!P15","v":""},{"$f":"IF(F29=\"\",\"\",データ完成!R15)","v":""},{"$f":"データ完成!S15","v":""},{"$f":"IF(H29=\"\",\"\",データ完成!U15)","v":""},{"$f":"データ完成!V15","v":""},{"$f":"IF(J29=\"\",\"\",データ完成!X15)","v":""},{"$f":"データ完成!M15","v":""},{"$f":"データ完成!O15","v":""},"走高跳",{"$f":"COUNT(記録入力1!$E$221:$E$228)","v":0}]
[null,14,{"$f":"IF(データ完成!E16=2,\"女\",\"\")","v":""},{"$f":"データ完成!H16","v":""},{"$f":"データ完成!C16","v":""},{"$f":"データ完成!P16","v":""},{"$f":"IF(F30=\"\",\"\",データ完成!R16)","v":""},{"$f":"データ完成!S16","v":""},{"$f":"IF(H30=\"\",\"\",データ完成!U16)","v":""},{"$f":"データ完成!V16","v":""},{"$f":"IF(J30=\"\",\"\",データ完成!X16)","v":""},{"$f":"データ完成!M16","v":""},{"$f":"データ完成!O16","v":""},"棒高跳",{"$f":"COUNT(記録入力1!$E$229:$E$234)","v":0}]
[null,15,{"$f":"IF(データ完成!E17=2,\"女\",\"\")","v":""},{"$f":"データ完成!H17","v":""},{"$f":"データ完成!C17","v":""},{"$f":"データ完成!P17","v":""},{"$f":"IF(F31=\"\",\"\",データ完成!R17)","v":""},{"$f":"データ完成!S17","v":""},{"$f":"IF(H31=\"\",\"\",データ完成!U17)","v":""},{"$f":"データ完成!V17","v":""},{"$f":"IF(J31=\"\",\"\",データ完成!X17)","v":""},{"$f":"データ完成!M17","v":""},{"$f":"データ完成!O17","v":""},"走幅跳",{"$f":"COUNT(記録入力1!$E$235:$E$249)","v":0}]
[null,16,{"$f":"IF(データ完成!E18=2,\"女\",\"\")","v":""},{"$f":"データ完成!H18","v":""},{"$f":"データ完成!C18","v":""},{"$f":"データ完成!P18","v":""},{"$f":"IF(F32=\"\",\"\",データ完成!R18)","v":""},{"$f":"データ完成!S18","v":""},{"$f":"IF(H32=\"\",\"\",データ完成!U18)","v":""},{"$f":"データ完成!V18","v":""},{"$f":"IF(J32=\"\",\"\",データ完成!X18)","v":""},{"$f":"データ完成!M18","v":""},{"$f":"データ完成!O18","v":""},"三段跳",{"$f":"COUNT(記録入力1!$E$250:$E$257)","v":0}]
[null,17,{"$f":"IF(データ完成!E19=2,\"女\",\"\")","v":""},{"$f":"データ完成!H19","v":""},{"$f":"データ完成!C19","v":""},{"$f":"データ完成!P19","v":""},{"$f":"IF(F33=\"\",\"\",データ完成!R19)","v":""},{"$f":"データ完成!S19","v":""},{"$f":"IF(H33=\"\",\"\",データ完成!U19)","v":""},{"$f":"データ完成!V19","v":""},{"$f":"IF(J33=\"\",\"\",データ完成!X19)","v":""},{"$f":"データ完成!M19","v":""},{"$f":"データ完成!O19","v":""},"砲丸投",{"$f":"COUNT(記録入力1!$E$258:$E$265)","v":0}]
[null,18,{"$f":"IF(データ完成!E20=2,\"女\",\"\")","v":""},{"$f":"データ完成!H20","v":""},{"$f":"データ完成!C20","v":""},{"$f":"データ完成!P20","v":""},{"$f":"IF(F34=\"\",\"\",データ完成!R20)","v":""},{"$f":"データ完成!S20","v":""},{"$f":"IF(H34=\"\",\"\",データ完成!U20)","v":""},{"$f":"データ完成!V20","v":""},{"$f":"IF(J34=\"\",\"\",データ完成!X20)","v":""},{"$f":"データ完成!M20","v":""},{"$f":"データ完成!O20","v":""},"円盤投",{"$f":"COUNT(記録入力1!$E$266:$E$273)","v":0}]
[null,19,{"$f":"IF(データ完成!E21=2,\"女\",\"\")","v":""},{"$f":"データ完成!H21","v":""},{"$f":"データ完成!C21","v":""},{"$f":"データ完成!P21","v":""},{"$f":"IF(F35=\"\",\"\",データ完成!R21)","v":""},{"$f":"データ完成!S21","v":""},{"$f":"IF(H35=\"\",\"\",データ完成!U21)","v":""},{"$f":"データ完成!V21","v":""},{"$f":"IF(J35=\"\",\"\",データ完成!X21)","v":""},{"$f":"データ完成!M21","v":""},{"$f":"データ完成!O21","v":""},"ﾊﾝﾏｰ投",{"$f":"COUNT(記録入力1!$E$274:$E$279)","v":0}]
[null,20,{"$f":"IF(データ完成!E22=2,\"女\",\"\")","v":""},{"$f":"データ完成!H22","v":""},{"$f":"データ完成!C22","v":""},{"$f":"データ完成!P22","v":""},{"$f":"IF(F36=\"\",\"\",データ完成!R22)","v":""},{"$f":"データ完成!S22","v":""},{"$f":"IF(H36=\"\",\"\",データ完成!U22)","v":""},{"$f":"データ完成!V22","v":""},{"$f":"IF(J36=\"\",\"\",データ完成!X22)","v":""},{"$f":"データ完成!M22","v":""},{"$f":"データ完成!O22","v":""},"やり投",{"$f":"COUNT(記録入力1!$E$280:$E$287)","v":0}]
[null,21,{"$f":"IF(データ完成!E23=2,\"女\",\"\")","v":""},{"$f":"データ完成!H23","v":""},{"$f":"データ完成!C23","v":""},{"$f":"データ完成!P23","v":""},{"$f":"IF(F37=\"\",\"\",データ完成!R23)","v":""},{"$f":"データ完成!S23","v":""},{"$f":"IF(H37=\"\",\"\",データ完成!U23)","v":""},{"$f":"データ完成!V23","v":""},{"$f":"IF(J37=\"\",\"\",データ完成!X23)","v":""},{"$f":"データ完成!M23","v":""},{"$f":"データ完成!O23","v":""}]
[null,22,{"$f":"IF(データ完成!E24=2,\"女\",\"\")","v":""},{"$f":"データ完成!H24","v":""},{"$f":"データ完成!C24","v":""},{"$f":"データ完成!P24","v":""},{"$f":"IF(F38=\"\",\"\",データ完成!R24)","v":""},{"$f":"データ完成!S24","v":""},{"$f":"IF(H38=\"\",\"\",データ完成!U24)","v":""},{"$f":"データ完成!V24","v":""},{"$f":"IF(J38=\"\",\"\",データ完成!X24)","v":""},{"$f":"データ完成!M24","v":""},{"$f":"データ完成!O24","v":""}]
[null,23,{"$f":"IF(データ完成!E25=2,\"女\",\"\")","v":""},{"$f":"データ完成!H25","v":""},{"$f":"データ完成!C25","v":""},{"$f":"データ完成!P25","v":""},{"$f":"IF(F39=\"\",\"\",データ完成!R25)","v":""},{"$f":"データ完成!S25","v":""},{"$f":"IF(H39=\"\",\"\",データ完成!U25)","v":""},{"$f":"データ完成!V25","v":""},{"$f":"IF(J39=\"\",\"\",データ完成!X25)","v":""},{"$f":"データ完成!M25","v":""},{"$f":"データ完成!O25","v":""}]
[null,24,{"$f":"IF(データ完成!E26=2,\"女\",\"\")","v":""},{"$f":"データ完成!H26","v":""},{"$f":"データ完成!C26","v":""},{"$f":"データ完成!P26","v":""},{"$f":"IF(F40=\"\",\"\",データ完成!R26)","v":""},{"$f":"データ完成!S26","v":""},{"$f":"IF(H40=\"\",\"\",データ完成!U26)","v":""},{"$f":"データ完成!V26","v":""},{"$f":"IF(J40=\"\",\"\",データ完成!X26)","v":""},{"$f":"データ完成!M26","v":""},{"$f":"データ完成!O26","v":""}]
[null,25,{"$f":"IF(データ完成!E27=2,\"女\",\"\")","v":""},{"$f":"データ完成!H27","v":""},{"$f":"データ完成!C27","v":""},{"$f":"データ完成!P27","v":""},{"$f":"IF(F41=\"\",\"\",データ完成!R27)","v":""},{"$f":"データ完成!S27","v":""},{"$f":"IF(H41=\"\",\"\",データ完成!U27)","v":""},{"$f":"データ完成!V27","v":""},{"$f":"IF(J41=\"\",\"\",データ完成!X27)","v":""},{"$f":"データ完成!M27","v":""},{"$f":"データ完成!O27","v":""}]
[null,26,{"$f":"IF(データ完成!E28=2,\"女\",\"\")","v":""},{"$f":"データ完成!H28","v":""},{"$f":"データ完成!C28","v":""},{"$f":"データ完成!P28","v":""},{"$f":"IF(F42=\"\",\"\",データ完成!R28)","v":""},{"$f":"データ完成!S28","v":""},{"$f":"IF(H42=\"\",\"\",データ完成!U28)","v":""},{"$f":"データ完成!V28","v":""},{"$f":"IF(J42=\"\",\"\",データ完成!X28)","v":""},{"$f":"データ完成!M28","v":""},{"$f":"データ完成!O28","v":""}]
[null,27,{"$f":"IF(データ完成!E29=2,\"女\",\"\")","v":""},{"$f":"データ完成!H29","v":""},{"$f":"データ完成!C29","v":""},{"$f":"データ完成!P29","v":""},{"$f":"IF(F43=\"\",\"\",データ完成!R29)","v":""},{"$f":"データ完成!S29","v":""},{"$f":"IF(H43=\"\",\"\",データ完成!U29)","v":""},{"$f":"データ完成!V29","v":""},{"$f":"IF(J43=\"\",\"\",データ完成!X29)","v":""},{"$f":"データ完成!M29","v":""},{"$f":"データ完成!O29","v":""}]
[null,28,{"$f":"IF(データ完成!E30=2,\"女\",\"\")","v":""},{"$f":"データ完成!H30","v":""},{"$f":"データ完成!C30","v":""},{"$f":"データ完成!P30","v":""},{"$f":"IF(F44=\"\",\"\",データ完成!R30)","v":""},{"$f":"データ完成!S30","v":""},{"$f":"IF(H44=\"\",\"\",データ完成!U30)","v":""},{"$f":"データ完成!V30","v":""},{"$f":"IF(J44=\"\",\"\",データ完成!X30)","v":""},{"$f":"データ完成!M30","v":""},{"$f":"データ完成!O30","v":""}]
[null,29,{"$f":"IF(データ完成!E31=2,\"女\",\"\")","v":""},{"$f":"データ完成!H31","v":""},{"$f":"データ完成!C31","v":""},{"$f":"データ完成!P31","v":""},{"$f":"IF(F45=\"\",\"\",データ完成!R31)","v":""},{"$f":"データ完成!S31","v":""},{"$f":"IF(H45=\"\",\"\",データ完成!U31)","v":""},{"$f":"データ完成!V31","v":""},{"$f":"IF(J45=\"\",\"\",データ完成!X31)","v":""},{"$f":"データ完成!M31","v":""},{"$f":"データ完成!O31","v":""}]
[null,30,{"$f":"IF(データ完成!E32=2,\"女\",\"\")","v":""},{"$f":"データ完成!H32","v":""},{"$f":"データ完成!C32","v":""},{"$f":"データ完成!P32","v":""},{"$f":"IF(F46=\"\",\"\",データ完成!R32)","v":""},{"$f":"データ完成!S32","v":""},{"$f":"IF(H46=\"\",\"\",データ完成!U32)","v":""},{"$f":"データ完成!V32","v":""},{"$f":"IF(J46=\"\",\"\",データ完成!X32)","v":""},{"$f":"データ完成!M32","v":""},{"$f":"データ完成!O32","v":""}]
[null,31,{"$f":"IF(データ完成!E33=2,\"女\",\"\")","v":""},{"$f":"データ完成!H33","v":""},{"$f":"データ完成!C33","v":""},{"$f":"データ完成!P33","v":""},{"$f":"IF(F47=\"\",\"\",データ完成!R33)","v":""},{"$f":"データ完成!S33","v":""},{"$f":"IF(H47=\"\",\"\",データ完成!U33)","v":""},{"$f":"データ完成!V33","v":""},{"$f":"IF(J47=\"\",\"\",データ完成!X33)","v":""},{"$f":"データ完成!M33","v":""},{"$f":"データ完成!O33","v":""}]
[null,32,{"$f":"IF(データ完成!E34=2,\"女\",\"\")","v":""},{"$f":"データ完成!H34","v":""},{"$f":"データ完成!C34","v":""},{"$f":"データ完成!P34","v":""},{"$f":"IF(F48=\"\",\"\",データ完成!R34)","v":""},{"$f":"データ完成!S34","v":""},{"$f":"IF(H48=\"\",\"\",データ完成!U34)","v":""},{"$f":"データ完成!V34","v":""},{"$f":"IF(J48=\"\",\"\",データ完成!X34)","v":""},{"$f":"データ完成!M34","v":""},{"$f":"データ完成!O34","v":""}]
[null,33,{"$f":"IF(データ完成!E35=2,\"女\",\"\")","v":""},{"$f":"データ完成!H35","v":""},{"$f":"データ完成!C35","v":""},{"$f":"データ完成!P35","v":""},{"$f":"IF(F49=\"\",\"\",データ完成!R35)","v":""},{"$f":"データ完成!S35","v":""},{"$f":"IF(H49=\"\",\"\",データ完成!U35)","v":""},{"$f":"データ完成!V35","v":""},{"$f":"IF(J49=\"\",\"\",データ完成!X35)","v":""},{"$f":"データ完成!M35","v":""},{"$f":"データ完成!O35","v":""}]
[null,34,{"$f":"IF(データ完成!E36=2,\"女\",\"\")","v":""},{"$f":"データ完成!H36","v":""},{"$f":"データ完成!C36","v":""},{"$f":"データ完成!P36","v":""},{"$f":"IF(F50=\"\",\"\",データ完成!R36)","v":""},{"$f":"データ完成!S36","v":""},{"$f":"IF(H50=\"\",\"\",データ完成!U36)","v":""},{"$f":"データ完成!V36","v":""},{"$f":"IF(J50=\"\",\"\",データ完成!X36)","v":""},{"$f":"データ完成!M36","v":""},{"$f":"データ完成!O36","v":""}]
[null,35,{"$f":"IF(データ完成!E37=2,\"女\",\"\")","v":""},{"$f":"データ完成!H37","v":""},{"$f":"データ完成!C37","v":""},{"$f":"データ完成!P37","v":""},{"$f":"IF(F51=\"\",\"\",データ完成!R37)","v":""},{"$f":"データ完成!S37","v":""},{"$f":"IF(H51=\"\",\"\",データ完成!U37)","v":""},{"$f":"データ完成!V37","v":""},{"$f":"IF(J51=\"\",\"\",データ完成!X37)","v":""},{"$f":"データ完成!M37","v":""},{"$f":"データ完成!O37","v":""}]
[null,36,{"$f":"IF(データ完成!E38=2,\"女\",\"\")","v":""},{"$f":"データ完成!H38","v":""},{"$f":"データ完成!C38","v":""},{"$f":"データ完成!P38","v":""},{"$f":"IF(F52=\"\",\"\",データ完成!R38)","v":""},{"$f":"データ完成!S38","v":""},{"$f":"IF(H52=\"\",\"\",データ完成!U38)","v":""},{"$f":"データ完成!V38","v":""},{"$f":"IF(J52=\"\",\"\",データ完成!X38)","v":""},{"$f":"データ完成!M38","v":""},{"$f":"データ完成!O38","v":""}]
[null,37,{"$f":"IF(データ完成!E39=2,\"女\",\"\")","v":""},{"$f":"データ完成!H39","v":""},{"$f":"データ完成!C39","v":""},{"$f":"データ完成!P39","v":""},{"$f":"IF(F53=\"\",\"\",データ完成!R39)","v":""},{"$f":"データ完成!S39","v":""},{"$f":"IF(H53=\"\",\"\",データ完成!U39)","v":""},{"$f":"データ完成!V39","v":""},{"$f":"IF(J53=\"\",\"\",データ完成!X39)","v":""},{"$f":"データ完成!M39","v":""},{"$f":"データ完成!O39","v":""}]
[null,38,{"$f":"IF(データ完成!E40=2,\"女\",\"\")","v":""},{"$f":"データ完成!H40","v":""},{"$f":"データ完成!C40","v":""},{"$f":"データ完成!P40","v":""},{"$f":"IF(F54=\"\",\"\",データ完成!R40)","v":""},{"$f":"データ完成!S40","v":""},{"$f":"IF(H54=\"\",\"\",データ完成!U40)","v":""},{"$f":"データ完成!V40","v":""},{"$f":"IF(J54=\"\",\"\",データ完成!X40)","v":""},{"$f":"データ完成!M40","v":""},{"$f":"データ完成!O40","v":""}]
[null,39,{"$f":"IF(データ完成!E41=2,\"女\",\"\")","v":""},{"$f":"データ完成!H41","v":""},{"$f":"データ完成!C41","v":""},{"$f":"データ完成!P41","v":""},{"$f":"IF(F55=\"\",\"\",データ完成!R41)","v":""},{"$f":"データ完成!S41","v":""},{"$f":"IF(H55=\"\",\"\",データ完成!U41)","v":""},{"$f":"データ完成!V41","v":""},{"$f":"IF(J55=\"\",\"\",データ完成!X41)","v":""},{"$f":"データ完成!M41","v":""},{"$f":"データ完成!O41","v":""}]
[null,40,{"$f":"IF(データ完成!E42=2,\"女\",\"\")","v":""},{"$f":"データ完成!H42","v":""},{"$f":"データ完成!C42","v":""},{"$f":"データ完成!P42","v":""},{"$f":"IF(F56=\"\",\"\",データ完成!R42)","v":""},{"$f":"データ完成!S42","v":""},{"$f":"IF(H56=\"\",\"\",データ完成!U42)","v":""},{"$f":"データ完成!V42","v":""},{"$f":"IF(J56=\"\",\"\",データ完成!X42)","v":""},{"$f":"データ完成!M42","v":""},{"$f":"データ完成!O42","v":""}]
[null,41,{"$f":"IF(データ完成!E43=2,\"女\",\"\")","v":""},{"$f":"データ完成!H43","v":""},{"$f":"データ完成!C43","v":""},{"$f":"データ完成!P43","v":""},{"$f":"IF(F57=\"\",\"\",データ完成!R43)","v":""},{"$f":"データ完成!S43","v":""},{"$f":"IF(H57=\"\",\"\",データ完成!U43)","v":""},{"$f":"データ完成!V43","v":""},{"$f":"IF(J57=\"\",\"\",データ完成!X43)","v":""},{"$f":"データ完成!M43","v":""},{"$f":"データ完成!O43","v":""}]
[null,42,{"$f":"IF(データ完成!E44=2,\"女\",\"\")","v":""},{"$f":"データ完成!H44","v":""},{"$f":"データ完成!C44","v":""},{"$f":"データ完成!P44","v":""},{"$f":"IF(F58=\"\",\"\",データ完成!R44)","v":""},{"$f":"データ完成!S44","v":""},{"$f":"IF(H58=\"\",\"\",データ完成!U44)","v":""},{"$f":"データ完成!V44","v":""},{"$f":"IF(J58=\"\",\"\",データ完成!X44)","v":""},{"$f":"データ完成!M44","v":""},{"$f":"データ完成!O44","v":""}]
[null,43,{"$f":"IF(データ完成!E45=2,\"女\",\"\")","v":""},{"$f":"データ完成!H45","v":""},{"$f":"データ完成!C45","v":""},{"$f":"データ完成!P45","v":""},{"$f":"IF(F59=\"\",\"\",データ完成!R45)","v":""},{"$f":"データ完成!S45","v":""},{"$f":"IF(H59=\"\",\"\",データ完成!U45)","v":""},{"$f":"データ完成!V45","v":""},{"$f":"IF(J59=\"\",\"\",データ完成!X45)","v":""},{"$f":"データ完成!M45","v":""},{"$f":"データ完成!O45","v":""}]
[null,44,{"$f":"IF(データ完成!E46=2,\"女\",\"\")","v":""},{"$f":"データ完成!H46","v":""},{"$f":"データ完成!C46","v":""},{"$f":"データ完成!P46","v":""},{"$f":"IF(F60=\"\",\"\",データ完成!R46)","v":""},{"$f":"データ完成!S46","v":""},{"$f":"IF(H60=\"\",\"\",データ完成!U46)","v":""},{"$f":"データ完成!V46","v":""},{"$f":"IF(J60=\"\",\"\",データ完成!X46)","v":""},{"$f":"データ完成!M46","v":""},{"$f":"データ完成!O46","v":""}]
[null,45,{"$f":"IF(データ完成!E47=2,\"女\",\"\")","v":""},{"$f":"データ完成!H47","v":""},{"$f":"データ完成!C47","v":""},{"$f":"データ完成!P47","v":""},{"$f":"IF(F61=\"\",\"\",データ完成!R47)","v":""},{"$f":"データ完成!S47","v":""},{"$f":"IF(H61=\"\",\"\",データ完成!U47)","v":""},{"$f":"データ完成!V47","v":""},{"$f":"IF(J61=\"\",\"\",データ完成!X47)","v":""},{"$f":"データ完成!M47","v":""},{"$f":"データ完成!O47","v":""}]
[]
[null,"申 込 人 数",null,null,"推薦審判員は確実に出席できる審判員を記入のこと","氏    名",null,"年　齢","審判資格",null,"ﾘﾚｰ記録","400mR","1600mR"]
[null,"男子",{"$f":"初期設定1!$D$14&\" 名\"","v":" 名"},null,null,{"$f":"初期設定1!$C$10","v":0},"14 名",{"$f":"初期設定1!$D$10","v":0},{"$f":"初期設定1!$E$10","v":0},null,"Ａ",{"$f":"記録入力1!$I$161","v":""},{"$f":"記録入力1!$I$191","v":""}]
[null,"女子",{"$f":"初期設定1!$D$15&\" 名\"","v":" 名"},null,null,{"$f":"初期設定1!$C$11","v":0},"14 名",{"$f":"初期設定1!$D$11","v":0},{"$f":"初期設定1!$E$11","v":0},null,"Ｂ",{"$f":"記録入力1!$I$167","v":""},{"$f":"記録入力1!$I$197","v":""}]
[null,"合計",{"$f":"初期設定1!$D$16&\" 名\"","v":"0 名"},null,null,{"$f":"初期設定1!$C$12","v":0},"14 名",{"$f":"初期設定1!$D$12","v":0},{"$f":"初期設定1!$E$12","v":0}]
[]
["2024年度 兵庫県高等学校陸上競技地区別記録会 神戸地区 申込書"]
[]
[null,"女　子"]
[]
[null,"学校番号",null,null,{"$f":"初期設定1!$C$3","v":0},"学　校　名",null,{"$f":"初期設定1!$C$2","v":""}]
[]
[null,"学校所在地",null,null,{"$f":"初期設定1!$C$4","v":""},null,null,{"$f":"初期設定1!$C$6","v":""}]
[null,null,null,null,{"$f":"初期設定1!$C$5","v":""}]
[]
[null,"学校長氏名",null,null,{"$f":"初期設定1!$C$7","v":0},null,null,null,null,null,"印"]
[]
[null,"顧問氏名",null,null,{"$f":"初期設定1!$C$8","v":0},null,null,null,null,null,"印"]
[]
[]
[null,"No.","性","ﾅﾝﾊﾞ-","氏　名(学年)","申 込 種 目",null,null,null,null,null,"400mR","1600mR","種目別参加数"]
[null,null,null,null,null,"種目","記録","種目","記録","種目","記録",null,null,"種　目","人数"]
[null,46,{"$f":"IF(データ完成!E48=1,\"女\",\"\")","v":""},{"$f":"データ完成!H48","v":""},{"$f":"データ完成!C48","v":""},{"$f":"データ完成!P48","v":""},{"$f":"IF(F84=\"\",\"\",データ完成!R48)","v":""},{"$f":"データ完成!S48","v":""},{"$f":"IF(H84=\"\",\"\",データ完成!U48)","v":""},{"$f":"データ完成!V48","v":""},{"$f":"IF(J84=\"\",\"\",データ完成!X48)","v":""},{"$f":"データ完成!M48","v":""},{"$f":"データ完成!O48","v":""},"100m",{"$f":"COUNT(記録入力1!$E$4:$E$28)","v":0}]
[null,47,{"$f":"IF(データ完成!E49=1,\"女\",\"\")","v":""},{"$f":"データ完成!H49","v":""},{"$f":"データ完成!C49","v":""},{"$f":"データ完成!P49","v":""},{"$f":"IF(F85=\"\",\"\",データ完成!R49)","v":""},{"$f":"データ完成!S49","v":""},{"$f":"IF(H85=\"\",\"\",データ完成!U49)","v":""},{"$f":"データ完成!V49","v":""},{"$f":"IF(J85=\"\",\"\",データ完成!X49)","v":""},{"$f":"データ完成!M49","v":""},{"$f":"データ完成!O49","v":""},"200m",{"$f":"COUNT(記録入力1!$E$29:$E$48)","v":0}]
[null,48,{"$f":"IF(データ完成!E50=1,\"女\",\"\")","v":""},{"$f":"データ完成!H50","v":""},{"$f":"データ完成!C50","v":""},{"$f":"データ完成!P50","v":""},{"$f":"IF(F86=\"\",\"\",データ完成!R50)","v":""},{"$f":"データ完成!S50","v":""},{"$f":"IF(H86=\"\",\"\",データ完成!U50)","v":""},{"$f":"データ完成!V50","v":""},{"$f":"IF(J86=\"\",\"\",データ完成!X50)","v":""},{"$f":"データ完成!M50","v":""},{"$f":"データ完成!O50","v":""},"400m",{"$f":"COUNT(記録入力1!$E$49:$E$63)","v":0}]
[null,49,{"$f":"IF(データ完成!E51=1,\"女\",\"\")","v":""},{"$f":"データ完成!H51","v":""},{"$f":"データ完成!C51","v":""},{"$f":"データ完成!P51","v":""},{"$f":"IF(F87=\"\",\"\",データ完成!R51)","v":""},{"$f":"データ完成!S51","v":""},{"$f":"IF(H87=\"\",\"\",データ完成!U51)","v":""},{"$f":"データ完成!V51","v":""},{"$f":"IF(J87=\"\",\"\",データ完成!X51)","v":""},{"$f":"データ完成!M51","v":""},{"$f":"データ完成!O51","v":""},"800m",{"$f":"COUNT(記録入力1!$E$64:$E$78)","v":0}]
[null,50,{"$f":"IF(データ完成!E52=1,\"女\",\"\")","v":""},{"$f":"データ完成!H52","v":""},{"$f":"データ完成!C52","v":""},{"$f":"データ完成!P52","v":""},{"$f":"IF(F88=\"\",\"\",データ完成!R52)","v":""},{"$f":"データ完成!S52","v":""},{"$f":"IF(H88=\"\",\"\",データ完成!U52)","v":""},{"$f":"データ完成!V52","v":""},{"$f":"IF(J88=\"\",\"\",データ完成!X52)","v":""},{"$f":"データ完成!M52","v":""},{"$f":"データ完成!O52","v":""},"1500m",{"$f":"COUNT(記録入力1!$E$79:$E$103)","v":0}]
[null,51,{"$f":"IF(データ完成!E53=1,\"女\",\"\")","v":""},{"$f":"データ完成!H53","v":""},{"$f":"データ完成!C53","v":""},{"$f":"データ完成!P53","v":""},{"$f":"IF(F89=\"\",\"\",データ完成!R53)","v":""},{"$f":"データ完成!S53","v":""},{"$f":"IF(H89=\"\",\"\",データ完成!U53)","v":""},{"$f":"データ完成!V53","v":""},{"$f":"IF(J89=\"\",\"\",データ完成!X53)","v":""},{"$f":"データ完成!M53","v":""},{"$f":"データ完成!O53","v":""},"5000m",{"$f":"COUNT(記録入力1!$E$104:$E$128)","v":0}]
[null,52,{"$f":"IF(データ完成!E54=1,\"女\",\"\")","v":""},{"$f":"データ完成!H54","v":""},{"$f":"データ完成!C54","v":""},{"$f":"データ完成!P54","v":""},{"$f":"IF(F90=\"\",\"\",データ完成!R54)","v":""},{"$f":"データ完成!S54","v":""},{"$f":"IF(H90=\"\",\"\",データ完成!U54)","v":""},{"$f":"データ完成!V54","v":""},{"$f":"IF(J90=\"\",\"\",データ完成!X54)","v":""},{"$f":"データ完成!M54","v":""},{"$f":"データ完成!O54","v":""},"110mH",{"$f":"COUNT(記録入力1!$E$129:$E$136)","v":0}]
[null,53,{"$f":"IF(データ完成!E55=1,\"女\",\"\")","v":""},{"$f":"データ完成!H55","v":""},{"$f":"データ完成!C55","v":""},{"$f":"データ完成!P55","v":""},{"$f":"IF(F91=\"\",\"\",データ完成!R55)","v":""},{"$f":"データ完成!S55","v":""},{"$f":"IF(H91=\"\",\"\",データ完成!U55)","v":""},{"$f":"データ完成!V55","v":""},{"$f":"IF(J91=\"\",\"\",データ完成!X55)","v":""},{"$f":"データ完成!M55","v":""},{"$f":"データ完成!O55","v":""},"400mH",{"$f":"COUNT(記録入力1!$E$137:$E$144)","v":0}]
[null,54,{"$f":"IF(データ完成!E56=1,\"女\",\"\")","v":""},{"$f":"データ完成!H56","v":""},{"$f":"データ完成!C56","v":""},{"$f":"データ完成!P56","v":""},{"$f":"IF(F92=\"\",\"\",データ完成!R56)","v":""},{"$f":"データ完成!S56","v":""},{"$f":"IF(H92=\"\",\"\",データ完成!U56)","v":""},{"$f":"データ完成!V56","v":""},{"$f":"IF(J92=\"\",\"\",データ完成!X56)","v":""},{"$f":"データ完成!M56","v":""},{"$f":"データ完成!O56","v":""},"3000mSC",{"$f":"COUNT(記録入力1!$E$145:$E$152)","v":0}]
[null,55,{"$f":"IF(データ完成!E57=1,\"女\",\"\")","v":""},{"$f":"データ完成!H57","v":""},{"$f":"データ完成!C57","v":""},{"$f":"データ完成!P57","v":""},{"$f":"IF(F93=\"\",\"\",データ完成!R57)","v":""},{"$f":"データ完成!S57","v":""},{"$f":"IF(H93=\"\",\"\",データ完成!U57)","v":""},{"$f":"データ完成!V57","v":""},{"$f":"IF(J93=\"\",\"\",データ完成!X57)","v":""},{"$f":"データ完成!M57","v":""},{"$f":"データ完成!O57","v":""},"5000mW",{"$f":"COUNT(記録入力1!$E$153:$E$160)","v":0}]
[null,56,{"$f":"IF(データ完成!E58=1,\"女\",\"\")","v":""},{"$f":"データ完成!H58","v":""},{"$f":"データ完成!C58","v":""},{"$f":"データ完成!P58","v":""},{"$f":"IF(F94=\"\",\"\",データ完成!R58)","v":""},{"$f":"データ完成!S58","v":""},{"$f":"IF(H94=\"\",\"\",データ完成!U58)","v":""},{"$f":"データ完成!V58","v":""},{"$f":"IF(J94=\"\",\"\",データ完成!X58)","v":""},{"$f":"データ完成!M58","v":""},{"$f":"データ完成!O58","v":""},"4*100m",{"$f":"COUNT(記録入力1!$E$161,記録入力1!$E$167,記録入力1!$E$173,記録入力1!$E$179,記録入力1!$E$185)","v":0}]
[null,57,{"$f":"IF(データ完成!E59=1,\"女\",\"\")","v":""},{"$f":"データ完成!H59","v":""},{"$f":"データ完成!C59","v":""},{"$f":"データ完成!P59","v":""},{"$f":"IF(F95=\"\",\"\",データ完成!R59)","v":""},{"$f":"データ完成!S59","v":""},{"$f":"IF(H95=\"\",\"\",データ完成!U59)","v":""},{"$f":"データ完成!V59","v":""},{"$f":"IF(J95=\"\",\"\",データ完成!X59)","v":""},{"$f":"データ完成!M59","v":""},{"$f":"データ完成!O59","v":""},"4*400m",{"$f":"COUNT(記録入力1!$E$191,記録入力1!$E$197,記録入力1!$E$203,記録入力1!$E$209,記録入力1!$E$215)","v":0}]
[null,58,{"$f":"IF(データ完成!E60=1,\"女\",\"\")","v":""},{"$f":"データ完成!H60","v":""},{"$f":"データ完成!C60","v":""},{"$f":"データ完成!P60","v":""},{"$f":"IF(F96=\"\",\"\",データ完成!R60)","v":""},{"$f":"データ完成!S60","v":""},{"$f":"IF(H96=\"\",\"\",データ完成!U60)","v":""},{"$f":"データ完成!V60","v":""},{"$f":"IF(J96=\"\",\"\",データ完成!X60)","v":""},{"$f":"データ完成!M60","v":""},{"$f":"データ完成!O60","v":""},"走高跳",{"$f":"COUNT(記録入力1!$E$221:$E$228)","v":0}]
[null,59,{"$f":"IF(データ完成!E61=1,\"女\",\"\")","v":""},{"$f":"データ完成!H61","v":""},{"$f":"データ完成!C61","v":""},{"$f":"データ完成!P61","v":""},{"$f":"IF(F97=\"\",\"\",データ完成!R61)","v":""},{"$f":"データ完成!S61","v":""},{"$f":"IF(H97=\"\",\"\",データ完成!U61)","v":""},{"$f":"データ完成!V61","v":""},{"$f":"IF(J97=\"\",\"\",データ完成!X61)","v":""},{"$f":"データ完成!M61","v":""},{"$f":"データ完成!O61","v":""},"棒高跳",{"$f":"COUNT(記録入力1!$E$229:$E$234)","v":0}]
[null,60,{"$f":"IF(データ完成!E62=1,\"女\",\"\")","v":""},{"$f":"データ完成!H62","v":""},{"$f":"データ完成!C62","v":""},{"$f":"データ完成!P62","v":""},{"$f":"IF(F98=\"\",\"\",データ完成!R62)","v":""},{"$f":"データ完成!S62","v":""},{"$f":"IF(H98=\"\",\"\",データ完成!U62)","v":""},{"$f":"データ完成!V62","v":""},{"$f":"IF(J98=\"\",\"\",データ完成!X62)","v":""},{"$f":"データ完成!M62","v":""},{"$f":"データ完成!O62","v":""},"走幅跳",{"$f":"COUNT(記録入力1!$E$235:$E$249)","v":0}]
[null,61,{"$f":"IF(データ完成!E63=1,\"女\",\"\")","v":""},{"$f":"データ完成!H63","v":""},{"$f":"データ完成!C63","v":""},{"$f":"データ完成!P63","v":""},{"$f":"IF(F99=\"\",\"\",データ完成!R63)","v":""},{"$f":"データ完成!S63","v":""},{"$f":"IF(H99=\"\",\"\",データ完成!U63)","v":""},{"$f":"データ完成!V63","v":""},{"$f":"IF(J99=\"\",\"\",データ完成!X63)","v":""},{"$f":"データ完成!M63","v":""},{"$f":"データ完成!O63","v":""},"三段跳",{"$f":"COUNT(記録入力1!$E$250:$E$257)","v":0}]
[null,62,{"$f":"IF(データ完成!E64=1,\"女\",\"\")","v":""},{"$f":"データ完成!H64","v":""},{"$f":"データ完成!C64","v":""},{"$f":"データ完成!P64","v":""},{"$f":"IF(F100=\"\",\"\",データ完成!R64)","v":""},{"$f":"データ完成!S64","v":""},{"$f":"IF(H100=\"\",\"\",データ完成!U64)","v":""},{"$f":"データ完成!V64","v":""},{"$f":"IF(J100=\"\",\"\",データ完成!X64)","v":""},{"$f":"データ完成!M64","v":""},{"$f":"データ完成!O64","v":""},"砲丸投",{"$f":"COUNT(記録入力1!$E$258:$E$265)","v":0}]
[null,63,{"$f":"IF(データ完成!E65=1,\"女\",\"\")","v":""},{"$f":"データ完成!H65","v":""},{"$f":"データ完成!C65","v":""},{"$f":"データ完成!P65","v":""},{"$f":"IF(F101=\"\",\"\",データ完成!R65)","v":""},{"$f":"データ完成!S65","v":""},{"$f":"IF(H101=\"\",\"\",データ完成!U65)","v":""},{"$f":"データ完成!V65","v":""},{"$f":"IF(J101=\"\",\"\",データ完成!X65)","v":""},{"$f":"データ完成!M65","v":""},{"$f":"データ完成!O65","v":""},"円盤投",{"$f":"COUNT(記録入力1!$E$266:$E$273)","v":0}]
[null,64,{"$f":"IF(データ完成!E66=1,\"女\",\"\")","v":""},{"$f":"データ完成!H66","v":""},{"$f":"データ完成!C66","v":""},{"$f":"データ完成!P66","v":""},{"$f":"IF(F102=\"\",\"\",データ完成!R66)","v":""},{"$f":"データ完成!S66","v":""},{"$f":"IF(H102=\"\",\"\",データ完成!U66)","v":""},{"$f":"データ完成!V66","v":""},{"$f":"IF(J102=\"\",\"\",データ完成!X66)","v":""},{"$f":"データ完成!M66","v":""},{"$f":"データ完成!O66","v":""},"ﾊﾝﾏｰ投",{"$f":"COUNT(記録入力1!$E$274:$E$279)","v":0}]
[null,65,{"$f":"IF(データ完成!E67=1,\"女\",\"\")","v":""},{"$f":"データ完成!H67","v":""},{"$f":"データ完成!C67","v":""},{"$f":"データ完成!P67","v":""},{"$f":"IF(F103=\"\",\"\",データ完成!R67)","v":""},{"$f":"データ完成!S67","v":""},{"$f":"IF(H103=\"\",\"\",データ完成!U67)","v":""},{"$f":"データ完成!V67","v":""},{"$f":"IF(J103=\"\",\"\",データ完成!X67)","v":""},{"$f":"データ完成!M67","v":""},{"$f":"データ完成!O67","v":""},"やり投",{"$f":"COUNT(記録入力1!$E$280:$E$287)","v":0}]
[null,66,{"$f":"IF(データ完成!E68=1,\"女\",\"\")","v":""},{"$f":"データ完成!H68","v":""},{"$f":"データ完成!C68","v":""},{"$f":"データ完成!P68","v":""},{"$f":"IF(F104=\"\",\"\",データ完成!R68)","v":""},{"$f":"データ完成!S68","v":""},{"$f":"IF(H104=\"\",\"\",データ完成!U68)","v":""},{"$f":"データ完成!V68","v":""},{"$f":"IF(J104=\"\",\"\",データ完成!X68)","v":""},{"$f":"データ完成!M68","v":""},{"$f":"データ完成!O68","v":""}]
[null,67,{"$f":"IF(データ完成!E69=1,\"女\",\"\")","v":""},{"$f":"データ完成!H69","v":""},{"$f":"データ完成!C69","v":""},{"$f":"データ完成!P69","v":""},{"$f":"IF(F105=\"\",\"\",データ完成!R69)","v":""},{"$f":"データ完成!S69","v":""},{"$f":"IF(H105=\"\",\"\",データ完成!U69)","v":""},{"$f":"データ完成!V69","v":""},{"$f":"IF(J105=\"\",\"\",データ完成!X69)","v":""},{"$f":"データ完成!M69","v":""},{"$f":"データ完成!O69","v":""}]
[null,68,{"$f":"IF(データ完成!E70=1,\"女\",\"\")","v":""},{"$f":"データ完成!H70","v":""},{"$f":"データ完成!C70","v":""},{"$f":"データ完成!P70","v":""},{"$f":"IF(F106=\"\",\"\",データ完成!R70)","v":""},{"$f":"データ完成!S70","v":""},{"$f":"IF(H106=\"\",\"\",データ完成!U70)","v":""},{"$f":"データ完成!V70","v":""},{"$f":"IF(J106=\"\",\"\",データ完成!X70)","v":""},{"$f":"データ完成!M70","v":""},{"$f":"データ完成!O70","v":""}]
[null,69,{"$f":"IF(データ完成!E71=1,\"女\",\"\")","v":""},{"$f":"データ完成!H71","v":""},{"$f":"データ完成!C71","v":""},{"$f":"データ完成!P71","v":""},{"$f":"IF(F107=\"\",\"\",データ完成!R71)","v":""},{"$f":"データ完成!S71","v":""},{"$f":"IF(H107=\"\",\"\",データ完成!U71)","v":""},{"$f":"データ完成!V71","v":""},{"$f":"IF(J107=\"\",\"\",データ完成!X71)","v":""},{"$f":"データ完成!M71","v":""},{"$f":"データ完成!O71","v":""}]
[null,70,{"$f":"IF(データ完成!E72=1,\"女\",\"\")","v":""},{"$f":"データ完成!H72","v":""},{"$f":"データ完成!C72","v":""},{"$f":"データ完成!P72","v":""},{"$f":"IF(F108=\"\",\"\",データ完成!R72)","v":""},{"$f":"データ完成!S72","v":""},{"$f":"IF(H108=\"\",\"\",データ完成!U72)","v":""},{"$f":"データ完成!V72","v":""},{"$f":"IF(J108=\"\",\"\",データ完成!X72)","v":""},{"$f":"データ完成!M72","v":""},{"$f":"データ完成!O72","v":""}]
[null,71,{"$f":"IF(データ完成!E73=1,\"女\",\"\")","v":""},{"$f":"データ完成!H73","v":""},{"$f":"データ完成!C73","v":""},{"$f":"データ完成!P73","v":""},{"$f":"IF(F109=\"\",\"\",データ完成!R73)","v":""},{"$f":"データ完成!S73","v":""},{"$f":"IF(H109=\"\",\"\",データ完成!U73)","v":""},{"$f":"データ完成!V73","v":""},{"$f":"IF(J109=\"\",\"\",データ完成!X73)","v":""},{"$f":"データ完成!M73","v":""},{"$f":"データ完成!O73","v":""}]
[null,72,{"$f":"IF(データ完成!E74=1,\"女\",\"\")","v":""},{"$f":"データ完成!H74","v":""},{"$f":"データ完成!C74","v":""},{"$f":"データ完成!P74","v":""},{"$f":"IF(F110=\"\",\"\",データ完成!R74)","v":""},{"$f":"データ完成!S74","v":""},{"$f":"IF(H110=\"\",\"\",データ完成!U74)","v":""},{"$f":"データ完成!V74","v":""},{"$f":"IF(J110=\"\",\"\",データ完成!X74)","v":""},{"$f":"データ完成!M74","v":""},{"$f":"データ完成!O74","v":""}]
[null,73,{"$f":"IF(データ完成!E75=1,\"女\",\"\")","v":""},{"$f":"データ完成!H75","v":""},{"$f":"データ完成!C75","v":""},{"$f":"データ完成!P75","v":""},{"$f":"IF(F111=\"\",\"\",データ完成!R75)","v":""},{"$f":"データ完成!S75","v":""},{"$f":"IF(H111=\"\",\"\",データ完成!U75)","v":""},{"$f":"データ完成!V75","v":""},{"$f":"IF(J111=\"\",\"\",データ完成!X75)","v":""},{"$f":"データ完成!M75","v":""},{"$f":"データ完成!O75","v":""}]
[null,74,{"$f":"IF(データ完成!E76=1,\"女\",\"\")","v":""},{"$f":"データ完成!H76","v":""},{"$f":"データ完成!C76","v":""},{"$f":"データ完成!P76","v":""},{"$f":"IF(F112=\"\",\"\",データ完成!R76)","v":""},{"$f":"データ完成!S76","v":""},{"$f":"IF(H112=\"\",\"\",データ完成!U76)","v":""},{"$f":"データ完成!V76","v":""},{"$f":"IF(J112=\"\",\"\",データ完成!X76)","v":""},{"$f":"データ完成!M76","v":""},{"$f":"データ完成!O76","v":""}]
[null,75,{"$f":"IF(データ完成!E77=1,\"女\",\"\")","v":""},{"$f":"データ完成!H77","v":""},{"$f":"データ完成!C77","v":""},{"$f":"データ完成!P77","v":""},{"$f":"IF(F113=\"\",\"\",データ完成!R77)","v":""},{"$f":"データ完成!S77","v":""},{"$f":"IF(H113=\"\",\"\",データ完成!U77)","v":""},{"$f":"データ完成!V77","v":""},{"$f":"IF(J113=\"\",\"\",データ完成!X77)","v":""},{"$f":"データ完成!M77","v":""},{"$f":"データ完成!O77","v":""}]
[null,76,{"$f":"IF(データ完成!E78=1,\"女\",\"\")","v":""},{"$f":"データ完成!H78","v":""},{"$f":"データ完成!C78","v":""},{"$f":"データ完成!P78","v":""},{"$f":"IF(F114=\"\",\"\",データ完成!R78)","v":""},{"$f":"データ完成!S78","v":""},{"$f":"IF(H114=\"\",\"\",データ完成!U78)","v":""},{"$f":"データ完成!V78","v":""},{"$f":"IF(J114=\"\",\"\",データ完成!X78)","v":""},{"$f":"データ完成!M78","v":""},{"$f":"データ完成!O78","v":""}]
[null,77,{"$f":"IF(データ完成!E79=1,\"女\",\"\")","v":""},{"$f":"データ完成!H79","v":""},{"$f":"データ完成!C79","v":""},{"$f":"データ完成!P79","v":""},{"$f":"IF(F115=\"\",\"\",データ完成!R79)","v":""},{"$f":"データ完成!S79","v":""},{"$f":"IF(H115=\"\",\"\",データ完成!U79)","v":""},{"$f":"データ完成!V79","v":""},{"$f":"IF(J115=\"\",\"\",データ完成!X79)","v":""},{"$f":"データ完成!M79","v":""},{"$f":"データ完成!O79","v":""}]
[null,78,{"$f":"IF(データ完成!E80=1,\"女\",\"\")","v":""},{"$f":"データ完成!H80","v":""},{"$f":"データ完成!C80","v":""},{"$f":"データ完成!P80","v":""},{"$f":"IF(F116=\"\",\"\",データ完成!R80)","v":""},{"$f":"データ完成!S80","v":""},{"$f":"IF(H116=\"\",\"\",データ完成!U80)","v":""},{"$f":"データ完成!V80","v":""},{"$f":"IF(J116=\"\",\"\",データ完成!X80)","v":""},{"$f":"データ完成!M80","v":""},{"$f":"データ完成!O80","v":""}]
[null,79,{"$f":"IF(データ完成!E81=1,\"女\",\"\")","v":""},{"$f":"データ完成!H81","v":""},{"$f":"データ完成!C81","v":""},{"$f":"データ完成!P81","v":""},{"$f":"IF(F117=\"\",\"\",データ完成!R81)","v":""},{"$f":"データ完成!S81","v":""},{"$f":"IF(H117=\"\",\"\",データ完成!U81)","v":""},{"$f":"データ完成!V81","v":""},{"$f":"IF(J117=\"\",\"\",データ完成!X81)","v":""},{"$f":"データ完成!M81","v":""},{"$f":"データ完成!O81","v":""}]
[null,80,{"$f":"IF(データ完成!E82=1,\"女\",\"\")","v":""},{"$f":"データ完成!H82","v":""},{"$f":"データ完成!C82","v":""},{"$f":"データ完成!P82","v":""},{"$f":"IF(F118=\"\",\"\",データ完成!R82)","v":""},{"$f":"データ完成!S82","v":""},{"$f":"IF(H118=\"\",\"\",データ完成!U82)","v":""},{"$f":"データ完成!V82","v":""},{"$f":"IF(J118=\"\",\"\",データ完成!X82)","v":""},{"$f":"データ完成!M82","v":""},{"$f":"データ完成!O82","v":""}]
[null,81,{"$f":"IF(データ完成!E83=1,\"女\",\"\")","v":""},{"$f":"データ完成!H83","v":""},{"$f":"データ完成!C83","v":""},{"$f":"データ完成!P83","v":""},{"$f":"IF(F119=\"\",\"\",データ完成!R83)","v":""},{"$f":"データ完成!S83","v":""},{"$f":"IF(H119=\"\",\"\",データ完成!U83)","v":""},{"$f":"データ完成!V83","v":""},{"$f":"IF(J119=\"\",\"\",データ完成!X83)","v":""},{"$f":"データ完成!M83","v":""},{"$f":"データ完成!O83","v":""}]
[null,82,{"$f":"IF(データ完成!E84=1,\"女\",\"\")","v":""},{"$f":"データ完成!H84","v":""},{"$f":"データ完成!C84","v":""},{"$f":"データ完成!P84","v":""},{"$f":"IF(F120=\"\",\"\",データ完成!R84)","v":""},{"$f":"データ完成!S84","v":""},{"$f":"IF(H120=\"\",\"\",データ完成!U84)","v":""},{"$f":"データ完成!V84","v":""},{"$f":"IF(J120=\"\",\"\",データ完成!X84)","v":""},{"$f":"データ完成!M84","v":""},{"$f":"データ完成!O84","v":""}]
[null,83,{"$f":"IF(データ完成!E85=1,\"女\",\"\")","v":""},{"$f":"データ完成!H85","v":""},{"$f":"データ完成!C85","v":""},{"$f":"データ完成!P85","v":""},{"$f":"IF(F121=\"\",\"\",データ完成!R85)","v":""},{"$f":"データ完成!S85","v":""},{"$f":"IF(H121=\"\",\"\",データ完成!U85)","v":""},{"$f":"データ完成!V85","v":""},{"$f":"IF(J121=\"\",\"\",データ完成!X85)","v":""},{"$f":"データ完成!M85","v":""},{"$f":"データ完成!O85","v":""}]
[null,84,{"$f":"IF(データ完成!E86=1,\"女\",\"\")","v":""},{"$f":"データ完成!H86","v":""},{"$f":"データ完成!C86","v":""},{"$f":"データ完成!P86","v":""},{"$f":"IF(F122=\"\",\"\",データ完成!R86)","v":""},{"$f":"データ完成!S86","v":""},{"$f":"IF(H122=\"\",\"\",データ完成!U86)","v":""},{"$f":"データ完成!V86","v":""},{"$f":"IF(J122=\"\",\"\",データ完成!X86)","v":""},{"$f":"データ完成!M86","v":""},{"$f":"データ完成!O86","v":""}]
[null,85,{"$f":"IF(データ完成!E87=1,\"女\",\"\")","v":""},{"$f":"データ完成!H87","v":""},{"$f":"データ完成!C87","v":""},{"$f":"データ完成!P87","v":""},{"$f":"IF(F123=\"\",\"\",データ完成!R87)","v":""},{"$f":"データ完成!S87","v":""},{"$f":"IF(H123=\"\",\"\",データ完成!U87)","v":""},{"$f":"データ完成!V87","v":""},{"$f":"IF(J123=\"\",\"\",データ完成!X87)","v":""},{"$f":"データ完成!M87","v":""},{"$f":"データ完成!O87","v":""}]
[null,86,{"$f":"IF(データ完成!E88=1,\"女\",\"\")","v":""},{"$f":"データ完成!H88","v":""},{"$f":"データ完成!C88","v":""},{"$f":"データ完成!P88","v":""},{"$f":"IF(F124=\"\",\"\",データ完成!R88)","v":""},{"$f":"データ完成!S88","v":""},{"$f":"IF(H124=\"\",\"\",データ完成!U88)","v":""},{"$f":"データ完成!V88","v":""},{"$f":"IF(J124=\"\",\"\",データ完成!X88)","v":""},{"$f":"データ完成!M88","v":""},{"$f":"データ完成!O88","v":""}]
[null,87,{"$f":"IF(データ完成!E89=1,\"女\",\"\")","v":""},{"$f":"データ完成!H89","v":""},{"$f":"データ完成!C89","v":""},{"$f":"データ完成!P89","v":""},{"$f":"IF(F125=\"\",\"\",データ完成!R89)","v":""},{"$f":"データ完成!S89","v":""},{"$f":"IF(H125=\"\",\"\",データ完成!U89)","v":""},{"$f":"データ完成!V89","v":""},{"$f":"IF(J125=\"\",\"\",データ完成!X89)","v":""},{"$f":"データ完成!M89","v":""},{"$f":"データ完成!O89","v":""}]
[null,88,{"$f":"IF(データ完成!E90=1,\"女\",\"\")","v":""},{"$f":"データ完成!H90","v":""},{"$f":"データ完成!C90","v":""},{"$f":"データ完成!P90","v":""},{"$f":"IF(F126=\"\",\"\",データ完成!R90)","v":""},{"$f":"データ完成!S90","v":""},{"$f":"IF(H126=\"\",\"\",データ完成!U90)","v":""},{"$f":"データ完成!V90","v":""},{"$f":"IF(J126=\"\",\"\",データ完成!X90)","v":""},{"$f":"データ完成!M90","v":""},{"$f":"データ完成!O90","v":""}]
[null,89,{"$f":"IF(データ完成!E91=1,\"女\",\"\")","v":""},{"$f":"データ完成!H91","v":""},{"$f":"データ完成!C91","v":""},{"$f":"データ完成!P91","v":""},{"$f":"IF(F127=\"\",\"\",データ完成!R91)","v":""},{"$f":"データ完成!S91","v":""},{"$f":"IF(H127=\"\",\"\",データ完成!U91)","v":""},{"$f":"データ完成!V91","v":""},{"$f":"IF(J127=\"\",\"\",データ完成!X91)","v":""},{"$f":"データ完成!M91","v":""},{"$f":"データ完成!O91","v":""}]
[null,90,{"$f":"IF(データ完成!E92=1,\"女\",\"\")","v":""},{"$f":"データ完成!H92","v":""},{"$f":"データ完成!C92","v":""},{"$f":"データ完成!P92","v":""},{"$f":"IF(F128=\"\",\"\",データ完成!R92)","v":""},{"$f":"データ完成!S92","v":""},{"$f":"IF(H128=\"\",\"\",データ完成!U92)","v":""},{"$f":"データ完成!V92","v":""},{"$f":"IF(J128=\"\",\"\",データ完成!X92)","v":""},{"$f":"データ完成!M92","v":""},{"$f":"データ完成!O92","v":""}]
[]
[null,"申 込 人 数",null,null,"推薦審判員は確実に出席できる審判員を記入のこと","氏    名",null,"年　齢","審判資格",null,"ﾘﾚｰ記録","400mR","1600mR"]
[null,"男子",{"$f":"初期設定1!$D$14&\" 名\"","v":" 名"},null,null,{"$f":"初期設定1!$C$10","v":0},"14 名",{"$f":"初期設定1!$D$10","v":0},{"$f":"初期設定1!$E$10","v":0},null,"Ａ",{"$f":"記録入力1!$I$161","v":""},{"$f":"記録入力1!$I$191","v":""}]
[null,"女子",{"$f":"初期設定1!$D$15&\" 名\"","v":" 名"},null,null,{"$f":"初期設定1!$C$11","v":0},"14 名",{"$f":"初期設定1!$D$11","v":0},{"$f":"初期設定1!$E$11","v":0},null,"Ｂ",{"$f":"記録入力1!$I$167","v":""},{"$f":"記録入力1!$I$197","v":""}]
[null,"合計",{"$f":"初期設定1!$D$16&\" 名\"","v":"0 名"},null,null,{"$f":"初期設定1!$C$12","v":0},"14 名",{"$f":"初期設定1!$D$12","v":0},{"$f":"初期設定1!$E$12","v":0}]

{"sheet":"csv","index":5,"n_rows":51,"n_cols":10,"rows_kept":51,"cut":false,"hidden":false,"merged":[]}
[{"$f":"データ完成!B2","v":"DB"},{"$f":"データ完成!C2","v":"N1"},{"$f":"データ完成!D2","v":"N2"},{"$f":"データ完成!E2","v":"SX"},{"$f":"データ完成!F2","v":"KC"},{"$f":"データ完成!G2","v":"MC"},{"$f":"データ完成!H2","v":"ZK"},{"$f":"データ完成!I2","v":"S1"},{"$f":"データ完成!J2","v":"S2"},{"$f":"データ完成!K2","v":"S3"}]
[{"$f":"データ完成!B3","v":""},{"$f":"データ完成!C3","v":""},{"$f":"データ完成!D3","v":""},{"$f":"データ完成!E3","v":""},{"$f":"データ完成!F3","v":""},{"$f":"データ完成!G3","v":""},{"$f":"データ完成!H3","v":""},{"$f":"データ完成!I3","v":""},{"$f":"データ完成!J3","v":""},{"$f":"データ完成!K3","v":""}]
[{"$f":"データ完成!B4","v":""},{"$f":"データ完成!C4","v":""},{"$f":"データ完成!D4","v":""},{"$f":"データ完成!E4","v":""},{"$f":"データ完成!F4","v":""},{"$f":"データ完成!G4","v":""},{"$f":"データ完成!H4","v":""},{"$f":"データ完成!I4","v":""},{"$f":"データ完成!J4","v":""},{"$f":"データ完成!K4","v":""}]
[{"$f":"データ完成!B5","v":""},{"$f":"データ完成!C5","v":""},{"$f":"データ完成!D5","v":""},{"$f":"データ完成!E5","v":""},{"$f":"データ完成!F5","v":""},{"$f":"データ完成!G5","v":""},{"$f":"データ完成!H5","v":""},{"$f":"データ完成!I5","v":""},{"$f":"データ完成!J5","v":""},{"$f":"データ完成!K5","v":""}]
[{"$f":"データ完成!B6","v":""},{"$f":"データ完成!C6","v":""},{"$f":"データ完成!D6","v":""},{"$f":"データ完成!E6","v":""},{"$f":"データ完成!F6","v":""},{"$f":"データ完成!G6","v":""},{"$f":"データ完成!H6","v":""},{"$f":"データ完成!I6","v":""},{"$f":"データ完成!J6","v":""},{"$f":"データ完成!K6","v":""}]
[{"$f":"データ完成!B7","v":""},{"$f":"データ完成!C7","v":""},{"$f":"データ完成!D7","v":""},{"$f":"データ完成!E7","v":""},{"$f":"データ完成!F7","v":""},{"$f":"データ完成!G7","v":""},{"$f":"データ完成!H7","v":""},{"$f":"データ完成!I7","v":""},{"$f":"データ完成!J7","v":""},{"$f":"データ完成!K7","v":""}]
[{"$f":"データ完成!B8","v":""},{"$f":"データ完成!C8","v":""},{"$f":"データ完成!D8","v":""},{"$f":"データ完成!E8","v":""},{"$f":"データ完成!F8","v":""},{"$f":"データ完成!G8","v":""},{"$f":"データ完成!H8","v":""},{"$f":"データ完成!I8","v":""},{"$f":"データ完成!J8","v":""},{"$f":"データ完成!K8","v":""}]
[{"$f":"データ完成!B9","v":""},{"$f":"データ完成!C9","v":""},{"$f":"データ完成!D9","v":""},{"$f":"データ完成!E9","v":""},{"$f":"データ完成!F9","v":""},{"$f":"データ完成!G9","v":""},{"$f":"データ完成!H9","v":""},{"$f":"データ完成!I9","v":""},{"$f":"データ完成!J9","v":""},{"$f":"データ完成!K9","v":""}]
[{"$f":"データ完成!B10","v":""},{"$f":"データ完成!C10","v":""},{"$f":"データ完成!D10","v":""},{"$f":"データ完成!E10","v":""},{"$f":"データ完成!F10","v":""},{"$f":"データ完成!G10","v":""},{"$f":"データ完成!H10","v":""},{"$f":"データ完成!I10","v":""},{"$f":"データ完成!J10","v":""},{"$f":"データ完成!K10","v":""}]
[{"$f":"データ完成!B11","v":""},{"$f":"データ完成!C11","v":""},{"$f":"データ完成!D11","v":""},{"$f":"データ完成!E11","v":""},{"$f":"データ完成!F11","v":""},{"$f":"データ完成!G11","v":""},{"$f":"データ完成!H11","v":""},{"$f":"データ完成!I11","v":""},{"$f":"データ完成!J11","v":""},{"$f":"データ完成!K11","v":""}]
[{"$f":"データ完成!B12","v":""},{"$f":"データ完成!C12","v":""},{"$f":"データ完成!D12","v":""},{"$f":"データ完成!E12","v":""},{"$f":"データ完成!F12","v":""},{"$f":"データ完成!G12","v":""},{"$f":"データ完成!H12","v":""},{"$f":"データ完成!I12","v":""},{"$f":"データ完成!J12","v":""},{"$f":"データ完成!K12","v":""}]
[{"$f":"データ完成!B13","v":""},{"$f":"データ完成!C13","v":""},{"$f":"データ完成!D13","v":""},{"$f":"データ完成!E13","v":""},{"$f":"データ完成!F13","v":""},{"$f":"データ完成!G13","v":""},{"$f":"データ完成!H13","v":""},{"$f":"データ完成!I13","v":""},{"$f":"データ完成!J13","v":""},{"$f":"データ完成!K13","v":""}]
[{"$f":"データ完成!B14","v":""},{"$f":"データ完成!C14","v":""},{"$f":"データ完成!D14","v":""},{"$f":"データ完成!E14","v":""},{"$f":"データ完成!F14","v":""},{"$f":"データ完成!G14","v":""},{"$f":"データ完成!H14","v":""},{"$f":"データ完成!I14","v":""},{"$f":"データ完成!J14","v":""},{"$f":"データ完成!K14","v":""}]
[{"$f":"データ完成!B15","v":""},{"$f":"データ完成!C15","v":""},{"$f":"データ完成!D15","v":""},{"$f":"データ完成!E15","v":""},{"$f":"データ完成!F15","v":""},{"$f":"データ完成!G15","v":""},{"$f":"データ完成!H15","v":""},{"$f":"データ完成!I15","v":""},{"$f":"データ完成!J15","v":""},{"$f":"データ完成!K15","v":""}]
[{"$f":"データ完成!B16","v":""},{"$f":"データ完成!C16","v":""},{"$f":"データ完成!D16","v":""},{"$f":"データ完成!E16","v":""},{"$f":"データ完成!F16","v":""},{"$f":"データ完成!G16","v":""},{"$f":"データ完成!H16","v":""},{"$f":"データ完成!I16","v":""},{"$f":"データ完成!J16","v":""},{"$f":"データ完成!K16","v":""}]
[{"$f":"データ完成!B17","v":""},{"$f":"データ完成!C17","v":""},{"$f":"データ完成!D17","v":""},{"$f":"データ完成!E17","v":""},{"$f":"データ完成!F17","v":""},{"$f":"データ完成!G17","v":""},{"$f":"データ完成!H17","v":""},{"$f":"データ完成!I17","v":""},{"$f":"データ完成!J17","v":""},{"$f":"データ完成!K17","v":""}]
[{"$f":"データ完成!B18","v":""},{"$f":"データ完成!C18","v":""},{"$f":"データ完成!D18","v":""},{"$f":"データ完成!E18","v":""},{"$f":"データ完成!F18","v":""},{"$f":"データ完成!G18","v":""},{"$f":"データ完成!H18","v":""},{"$f":"データ完成!I18","v":""},{"$f":"データ完成!J18","v":""},{"$f":"データ完成!K18","v":""}]
[{"$f":"データ完成!B19","v":""},{"$f":"データ完成!C19","v":""},{"$f":"データ完成!D19","v":""},{"$f":"データ完成!E19","v":""},{"$f":"データ完成!F19","v":""},{"$f":"データ完成!G19","v":""},{"$f":"データ完成!H19","v":""},{"$f":"データ完成!I19","v":""},{"$f":"データ完成!J19","v":""},{"$f":"データ完成!K19","v":""}]
[{"$f":"データ完成!B20","v":""},{"$f":"データ完成!C20","v":""},{"$f":"データ完成!D20","v":""},{"$f":"データ完成!E20","v":""},{"$f":"データ完成!F20","v":""},{"$f":"データ完成!G20","v":""},{"$f":"データ完成!H20","v":""},{"$f":"データ完成!I20","v":""},{"$f":"データ完成!J20","v":""},{"$f":"データ完成!K20","v":""}]
[{"$f":"データ完成!B21","v":""},{"$f":"データ完成!C21","v":""},{"$f":"データ完成!D21","v":""},{"$f":"データ完成!E21","v":""},{"$f":"データ完成!F21","v":""},{"$f":"データ完成!G21","v":""},{"$f":"データ完成!H21","v":""},{"$f":"データ完成!I21","v":""},{"$f":"データ完成!J21","v":""},{"$f":"データ完成!K21","v":""}]
[{"$f":"データ完成!B22","v":""},{"$f":"データ完成!C22","v":""},{"$f":"データ完成!D22","v":""},{"$f":"データ完成!E22","v":""},{"$f":"データ完成!F22","v":""},{"$f":"データ完成!G22","v":""},{"$f":"データ完成!H22","v":""},{"$f":"データ完成!I22","v":""},{"$f":"データ完成!J22","v":""},{"$f":"データ完成!K22","v":""}]
[{"$f":"データ完成!B23","v":""},{"$f":"データ完成!C23","v":""},{"$f":"データ完成!D23","v":""},{"$f":"データ完成!E23","v":""},{"$f":"データ完成!F23","v":""},{"$f":"データ完成!G23","v":""},{"$f":"データ完成!H23","v":""},{"$f":"データ完成!I23","v":""},{"$f":"データ完成!J23","v":""},{"$f":"データ完成!K23","v":""}]
[{"$f":"データ完成!B24","v":""},{"$f":"データ完成!C24","v":""},{"$f":"データ完成!D24","v":""},{"$f":"データ完成!E24","v":""},{"$f":"データ完成!F24","v":""},{"$f":"データ完成!G24","v":""},{"$f":"データ完成!H24","v":""},{"$f":"データ完成!I24","v":""},{"$f":"データ完成!J24","v":""},{"$f":"データ完成!K24","v":""}]
[{"$f":"データ完成!B25","v":""},{"$f":"データ完成!C25","v":""},{"$f":"データ完成!D25","v":""},{"$f":"データ完成!E25","v":""},{"$f":"データ完成!F25","v":""},{"$f":"データ完成!G25","v":""},{"$f":"データ完成!H25","v":""},{"$f":"データ完成!I25","v":""},{"$f":"データ完成!J25","v":""},{"$f":"データ完成!K25","v":""}]
[{"$f":"データ完成!B26","v":""},{"$f":"データ完成!C26","v":""},{"$f":"データ完成!D26","v":""},{"$f":"データ完成!E26","v":""},{"$f":"データ完成!F26","v":""},{"$f":"データ完成!G26","v":""},{"$f":"データ完成!H26","v":""},{"$f":"データ完成!I26","v":""},{"$f":"データ完成!J26","v":""},{"$f":"データ完成!K26","v":""}]
[{"$f":"データ完成!B27","v":""},{"$f":"データ完成!C27","v":""},{"$f":"データ完成!D27","v":""},{"$f":"データ完成!E27","v":""},{"$f":"データ完成!F27","v":""},{"$f":"データ完成!G27","v":""},{"$f":"データ完成!H27","v":""},{"$f":"データ完成!I27","v":""},{"$f":"データ完成!J27","v":""},{"$f":"データ完成!K27","v":""}]
[{"$f":"データ完成!B28","v":""},{"$f":"データ完成!C28","v":""},{"$f":"データ完成!D28","v":""},{"$f":"データ完成!E28","v":""},{"$f":"データ完成!F28","v":""},{"$f":"データ完成!G28","v":""},{"$f":"データ完成!H28","v":""},{"$f":"データ完成!I28","v":""},{"$f":"データ完成!J28","v":""},{"$f":"データ完成!K28","v":""}]
[{"$f":"データ完成!B29","v":""},{"$f":"データ完成!C29","v":""},{"$f":"データ完成!D29","v":""},{"$f":"データ完成!E29","v":""},{"$f":"データ完成!F29","v":""},{"$f":"データ完成!G29","v":""},{"$f":"データ完成!H29","v":""},{"$f":"データ完成!I29","v":""},{"$f":"データ完成!J29","v":""},{"$f":"データ完成!K29","v":""}]
[{"$f":"データ完成!B30","v":""},{"$f":"データ完成!C30","v":""},{"$f":"データ完成!D30","v":""},{"$f":"データ完成!E30","v":""},{"$f":"データ完成!F30","v":""},{"$f":"データ完成!G30","v":""},{"$f":"データ完成!H30","v":""},{"$f":"データ完成!I30","v":""},{"$f":"データ完成!J30","v":""},{"$f":"データ完成!K30","v":""}]
[{"$f":"データ完成!B31","v":""},{"$f":"データ完成!C31","v":""},{"$f":"データ完成!D31","v":""},{"$f":"データ完成!E31","v":""},{"$f":"データ完成!F31","v":""},{"$f":"データ完成!G31","v":""},{"$f":"データ完成!H31","v":""},{"$f":"データ完成!I31","v":""},{"$f":"データ完成!J31","v":""},{"$f":"データ完成!K31","v":""}]
[{"$f":"データ完成!B32","v":""},{"$f":"データ完成!C32","v":""},{"$f":"データ完成!D32","v":""},{"$f":"データ完成!E32","v":""},{"$f":"データ完成!F32","v":""},{"$f":"データ完成!G32","v":""},{"$f":"データ完成!H32","v":""},{"$f":"データ完成!I32","v":""},{"$f":"データ完成!J32","v":""},{"$f":"データ完成!K32","v":""}]
[{"$f":"データ完成!B33","v":""},{"$f":"データ完成!C33","v":""},{"$f":"データ完成!D33","v":""},{"$f":"データ完成!E33","v":""},{"$f":"データ完成!F33","v":""},{"$f":"データ完成!G33","v":""},{"$f":"データ完成!H33","v":""},{"$f":"データ完成!I33","v":""},{"$f":"データ完成!J33","v":""},{"$f":"データ完成!K33","v":""}]
[{"$f":"データ完成!B34","v":""},{"$f":"データ完成!C34","v":""},{"$f":"データ完成!D34","v":""},{"$f":"データ完成!E34","v":""},{"$f":"データ完成!F34","v":""},{"$f":"データ完成!G34","v":""},{"$f":"データ完成!H34","v":""},{"$f":"データ完成!I34","v":""},{"$f":"データ完成!J34","v":""},{"$f":"データ完成!K34","v":""}]
[{"$f":"データ完成!B35","v":""},{"$f":"データ完成!C35","v":""},{"$f":"データ完成!D35","v":""},{"$f":"データ完成!E35","v":""},{"$f":"データ完成!F35","v":""},{"$f":"データ完成!G35","v":""},{"$f":"データ完成!H35","v":""},{"$f":"データ完成!I35","v":""},{"$f":"データ完成!J35","v":""},{"$f":"データ完成!K35","v":""}]
[{"$f":"データ完成!B36","v":""},{"$f":"データ完成!C36","v":""},{"$f":"データ完成!D36","v":""},{"$f":"データ完成!E36","v":""},{"$f":"データ完成!F36","v":""},{"$f":"データ完成!G36","v":""},{"$f":"データ完成!H36","v":""},{"$f":"データ完成!I36","v":""},{"$f":"データ完成!J36","v":""},{"$f":"データ完成!K36","v":""}]
[{"$f":"データ完成!B37","v":""},{"$f":"データ完成!C37","v":""},{"$f":"データ完成!D37","v":""},{"$f":"データ完成!E37","v":""},{"$f":"データ完成!F37","v":""},{"$f":"データ完成!G37","v":""},{"$f":"データ完成!H37","v":""},{"$f":"データ完成!I37","v":""},{"$f":"データ完成!J37","v":""},{"$f":"データ完成!K37","v":""}]
[{"$f":"データ完成!B38","v":""},{"$f":"データ完成!C38","v":""},{"$f":"データ完成!D38","v":""},{"$f":"データ完成!E38","v":""},{"$f":"データ完成!F38","v":""},{"$f":"データ完成!G38","v":""},{"$f":"データ完成!H38","v":""},{"$f":"データ完成!I38","v":""},{"$f":"データ完成!J38","v":""},{"$f":"データ完成!K38","v":""}]
[{"$f":"データ完成!B39","v":""},{"$f":"データ完成!C39","v":""},{"$f":"データ完成!D39","v":""},{"$f":"データ完成!E39","v":""},{"$f":"データ完成!F39","v":""},{"$f":"データ完成!G39","v":""},{"$f":"データ完成!H39","v":""},{"$f":"データ完成!I39","v":""},{"$f":"データ完成!J39","v":""},{"$f":"データ完成!K39","v":""}]
[{"$f":"データ完成!B40","v":""},{"$f":"データ完成!C40","v":""},{"$f":"データ完成!D40","v":""},{"$f":"データ完成!E40","v":""},{"$f":"データ完成!F40","v":""},{"$f":"データ完成!G40","v":""},{"$f":"データ完成!H40","v":""},{"$f":"データ完成!I40","v":""},{"$f":"データ完成!J40","v":""},{"$f":"データ完成!K40","v":""}]
[{"$f":"データ完成!B41","v":""},{"$f":"データ完成!C41","v":""},{"$f":"データ完成!D41","v":""},{"$f":"データ完成!E41","v":""},{"$f":"データ完成!F41","v":""},{"$f":"データ完成!G41","v":""},{"$f":"データ完成!H41","v":""},{"$f":"データ完成!I41","v":""},{"$f":"データ完成!J41","v":""},{"$f":"データ完成!K41","v":""}]
[{"$f":"データ完成!B42","v":""},{"$f":"データ完成!C42","v":""},{"$f":"データ完成!D42","v":""},{"$f":"データ完成!E42","v":""},{"$f":"データ完成!F42","v":""},{"$f":"データ完成!G42","v":""},{"$f":"データ完成!H42","v":""},{"$f":"データ完成!I42","v":""},{"$f":"データ完成!J42","v":""},{"$f":"データ完成!K42","v":""}]
[{"$f":"データ完成!B43","v":""},{"$f":"データ完成!C43","v":""},{"$f":"データ完成!D43","v":""},{"$f":"データ完成!E43","v":""},{"$f":"データ完成!F43","v":""},{"$f":"データ完成!G43","v":""},{"$f":"データ完成!H43","v":""},{"$f":"データ完成!I43","v":""},{"$f":"データ完成!J43","v":""},{"$f":"データ完成!K43","v":""}]
[{"$f":"データ完成!B44","v":""},{"$f":"データ完成!C44","v":""},{"$f":"データ完成!D44","v":""},{"$f":"データ完成!E44","v":""},{"$f":"データ完成!F44","v":""},{"$f":"データ完成!G44","v":""},{"$f":"データ完成!H44","v":""},{"$f":"データ完成!I44","v":""},{"$f":"データ完成!J44","v":""},{"$f":"データ完成!K44","v":""}]
[{"$f":"データ完成!B45","v":""},{"$f":"データ完成!C45","v":""},{"$f":"データ完成!D45","v":""},{"$f":"データ完成!E45","v":""},{"$f":"データ完成!F45","v":""},{"$f":"データ完成!G45","v":""},{"$f":"データ完成!H45","v":""},{"$f":"データ完成!I45","v":""},{"$f":"データ完成!J45","v":""},{"$f":"データ完成!K45","v":""}]
[{"$f":"データ完成!B46","v":""},{"$f":"データ完成!C46","v":""},{"$f":"データ完成!D46","v":""},{"$f":"データ完成!E46","v":""},{"$f":"データ完成!F46","v":""},{"$f":"データ完成!G46","v":""},{"$f":"データ完成!H46","v":""},{"$f":"データ完成!I46","v":""},{"$f":"データ完成!J46","v":""},{"$f":"データ完成!K46","v":""}]
[{"$f":"データ完成!B47","v":""},{"$f":"データ完成!C47","v":""},{"$f":"データ完成!D47","v":""},{"$f":"データ完成!E47","v":""},{"$f":"データ完成!F47","v":""},{"$f":"データ完成!G47","v":""},{"$f":"データ完成!H47","v":""},{"$f":"データ完成!I47","v":""},{"$f":"データ完成!J47","v":""},{"$f":"データ完成!K47","v":""}]
[{"$f":"データ完成!B48","v":""},{"$f":"データ完成!C48","v":""},{"$f":"データ完成!D48","v":""},{"$f":"データ完成!E48","v":""},{"$f":"データ完成!F48","v":""},{"$f":"データ完成!G48","v":""},{"$f":"データ完成!H48","v":""},{"$f":"データ完成!I48","v":""},{"$f":"データ完成!J48","v":""},{"$f":"データ完成!K48","v":""}]
[{"$f":"データ完成!B49","v":""},{"$f":"データ完成!C49","v":""},{"$f":"データ完成!D49","v":""},{"$f":"データ完成!E49","v":""},{"$f":"データ完成!F49","v":""},{"$f":"データ完成!G49","v":""},{"$f":"データ完成!H49","v":""},{"$f":"データ完成!I49","v":""},{"$f":"データ完成!J49","v":""},{"$f":"データ完成!K49","v":""}]
[{"$f":"データ完成!B50","v":""},{"$f":"データ完成!C50","v":""},{"$f":"データ完成!D50","v":""},{"$f":"データ完成!E50","v":""},{"$f":"データ完成!F50","v":""},{"$f":"データ完成!G50","v":""},{"$f":"データ完成!H50","v":""},{"$f":"データ完成!I50","v":""},{"$f":"データ完成!J50","v":""},{"$f":"データ完成!K50","v":""}]
[{"$f":"データ完成!B51","v":""},{"$f":"データ完成!C51","v":""},{"$f":"データ完成!D51","v":""},{"$f":"データ完成!E51","v":""},{"$f":"データ完成!F51","v":""},{"$f":"データ完成!G51","v":""},{"$f":"データ完成!H51","v":""},{"$f":"データ完成!I51","v":""},{"$f":"データ完成!J51","v":""},{"$f":"データ完成!K51","v":""}]
[{"$f":"データ完成!B52","v":""},{"$f":"データ完成!C52","v":""},{"$f":"データ完成!D52","v":""},{"$f":"データ完成!E52","v":""},{"$f":"データ完成!F52","v":""},{"$f":"データ完成!G52","v":""},{"$f":"データ完成!H52","v":""},{"$f":"データ完成!I52","v":""},{"$f":"データ完成!J52","v":""},{"$f":"データ完成!K52","v":""}]

{"sheet":"csvﾘﾚｰ","index":6,"n_rows":12,"n_cols":10,"rows_kept":12,"cut":false,"hidden":false,"merged":[]}
["４×１００ｍR"]
["DB","N1","N2","TM","S1","S2","S3","S4","S5","S6"]
[{"$f":"VALUE(28&初期設定1!C3)","v":28},{"$f":"VLOOKUP(A3,学校番号!$A$1:$C$60,2)","v":{"$error":"#N/A"}},{"$f":"VLOOKUP(A3,学校番号!$A$1:$C$60,3)","v":{"$error":"#N/A"}},{"$f":"\"0\"&記録入力1!G161&記録入力1!H161","v":"0"},{"$f":"記録入力1!E161&\"*\"","v":"*"},{"$f":"記録入力1!E162&\"*\"","v":"*"},{"$f":"記録入力1!E163&\"*\"","v":"*"},{"$f":"記録入力1!E164&\"*\"","v":"*"},{"$f":"記録入力1!E165&\"*\"","v":"*"},{"$f":"記録入力1!E166&\"*\"","v":"*"}]
["４×１００ｍR"]
["DB","N1","N2","TM","S1","S2","S3","S4","S5","S6"]
[{"$f":"VALUE(28&初期設定1!C3)","v":28},{"$f":"VLOOKUP(A6,学校番号!$A$1:$C$60,2)","v":{"$error":"#N/A"}},{"$f":"VLOOKUP(A6,学校番号!$A$1:$C$60,3)","v":{"$error":"#N/A"}},{"$f":"\"0\"&記録入力1!G167&記録入力1!H167","v":"0"},{"$f":"記録入力1!E167&\"*\"","v":"*"},{"$f":"記録入力1!E168&\"*\"","v":"*"},{"$f":"記録入力1!E169&\"*\"","v":"*"},{"$f":"記録入力1!E170&\"*\"","v":"*"},{"$f":"記録入力1!E171&\"*\"","v":"*"},{"$f":"記録入力1!E172&\"*\"","v":"*"}]
["４×４００ｍR"]
["DB","N1","N2","TM","S1","S2","S3","S4","S5","S6"]
[{"$f":"VALUE(28&初期設定1!C3)","v":28},{"$f":"VLOOKUP(A9,学校番号!$A$1:$C$60,2)","v":{"$error":"#N/A"}},{"$f":"VLOOKUP(A9,学校番号!$A$1:$C$60,3)","v":{"$error":"#N/A"}},{"$f":"記録入力1!F191&記録入力1!G191&記録入力1!H191","v":""},{"$f":"記録入力1!E191&\"*\"","v":"*"},{"$f":"記録入力1!E192&\"*\"","v":"*"},{"$f":"記録入力1!E193&\"*\"","v":"*"},{"$f":"記録入力1!E194&\"*\"","v":"*"},{"$f":"記録入力1!E195&\"*\"","v":"*"},{"$f":"記録入力1!E196&\"*\"","v":"*"}]
["４×４００ｍR"]
["DB","N1","N2","TM","S1","S2","S3","S4","S5","S6"]
[{"$f":"VALUE(28&初期設定1!C3)","v":28},{"$f":"VLOOKUP(A12,学校番号!$A$1:$C$60,2)","v":{"$error":"#N/A"}},{"$f":"VLOOKUP(A12,学校番号!$A$1:$C$60,3)","v":{"$error":"#N/A"}},{"$f":"記録入力1!F197&記録入力1!G197&記録入力1!H197","v":""},{"$f":"記録入力1!E197&\"*\"","v":"*"},{"$f":"記録入力1!E198&\"*\"","v":"*"},{"$f":"記録入力1!E199&\"*\"","v":"*"},{"$f":"記録入力1!E200&\"*\"","v":"*"},{"$f":"記録入力1!E201&\"*\"","v":"*"},{"$f":"記録入力1!E202&\"*\"","v":"*"}]

{"sheet":"データ作成1","index":7,"n_rows":275,"n_cols":11,"rows_kept":275,"cut":false,"hidden":false,"merged":[]}
["種目","db","n1","n2","sx","kc","mc","zk","s1"]
[{"$f":"IF(B2=\"\",\"\",記録入力1!C4)","v":{"$error":"#N/A"}},{"$f":"VLOOKUP($H2,女子選手!$B$2:$G$158,6,FALSE)","v":{"$error":"#N/A"}},{"$f":"IF($H2=\"\",\"\",VLOOKUP($H2,女子選手!$B$2:$D$158,2,FALSE))","v":""},{"$f":"IF($H2=\"\",\"\",VLOOKUP($H2,女子選手!$B$2:$D$158,3,FALSE))","v":""},{"$f":"IF(H2=\"\",\"\",2)","v":""},{"$f":"IF(H2=\"\",\"\",2)","v":""},{"$f":"IF(H2=\"\",\"\",VALUE(MID(VLOOKUP($H2,女子選手!$B$2:$G$158,6,FALSE),2,6)))","v":""},{"$f":"記録入力1!J4","v":""},{"$f":"IF(H2=\"\",\"\",VLOOKUP(記録入力1!C4,初期設定1!$C$18:$F$59,3,FALSE)&\" \"&RIGHT(記録入力1!N4,7))","v":""},null,{"$f":"IF(B2=\"\",\"\",記録入力1!I4)","v":{"$error":"#N/A"}}]
[{"$f":"IF(B3=\"\",\"\",記録入力1!C5)","v":{"$error":"#N/A"}},{"$f":"VLOOKUP($H3,女子選手!$B$2:$G$158,6,FALSE)","v":{"$error":"#N/A"}},{"$f":"IF($H3=\"\",\"\",VLOOKUP($H3,女子選手!$B$2:$D$158,2,FALSE))","v":""},{"$f":"IF($H3=\"\",\"\",VLOOKUP($H3,女子選手!$B$2:$D$158,3,FALSE))","v":""},{"$f":"IF(H3=\"\",\"\",2)","v":""},{"$f":"IF(H3=\"\",\"\",2)","v":""},{"$f":"IF(H3=\"\",\"\",VALUE(MID(VLOOKUP($H3,女子選手!$B$2:$G$158,6,FALSE),2,6)))","v":""},{"$f":"記録入力1!J5","v":""},{"$f":"IF(H3=\"\",\"\",VLOOKUP(記録入力1!C5,初期設定1!$C$18:$F$59,3,FALSE)&\" \"&RIGHT(記録入力1!N5,7))","v":""},null,{"$f":"IF(B3=\"\",\"\",記録入力1!I5)","v":{"$error":"#N/A"}}]
[{"$f":"IF(B4=\"\",\"\",記録入力1!C6)","v":{"$error":"#N/A"}},{"$f":"VLOOKUP($H4,女子選手!$B$2:$G$158,6,FALSE)","v":{"$error":"#N/A"}},{"$f":"IF($H4=\"\",\"\",VLOOKUP($H4,女子選手!$B$2:$D$158,2,FALSE))","v":""},{"$f":"IF($H4=\"\",\"\",VLOOKUP($H4,女子選手!$B$2:$D$158,3,FALSE))","v":""},"","",{"$f":"IF(H4=\"\",\"\",VALUE(MID(VLOOKUP($H4,女子選手!$B$2:$G$158,6,FALSE),2,6)))","v":""},{"$f":"記録入力1!J6","v":""},{"$f":"IF(H4=\"\",\"\",VLOOKUP(記録入力1!C6,初期設定1!$C$18:$F$59,3,FALSE)&\" \"&RIGHT(記録入力1!N6,7))","v":""},null,{"$f":"IF(B4=\"\",\"\",記録入力1!I6)","v":{"$error":"#N/A"}}]
[{"$f":"IF(B5=\"\",\"\",記録入力1!C7)","v":{"$error":"#N/A"}},{"$f":"VLOOKUP($H5,女子選手!$B$2:$G$158,6,FALSE)","v":{"$error":"#N/A"}},{"$f":"IF($H5=\"\",\"\",VLOOKUP($H5,女子選手!$B$2:$D$158,2,FALSE))","v":""},{"$f":"IF($H5=\"\",\"\",VLOOKUP($H5,女子選手!$B$2:$D$158,3,FALSE))","v":""},"","",{"$f":"IF(H5=\"\",\"\",VALUE(MID(VLOOKUP($H5,女子選手!$B$2:$G$158,6,FALSE),2,6)))","v":""},{"$f":"記録入力1!J7","v":""},{"$f":"IF(H5=\"\",\"\",VLOOKUP(記録入力1!C7,初期設定1!$C$18:$F$59,3,FALSE)&\" \"&RIGHT(記録入力1!N7,7))","v":""},null,{"$f":"IF(B5=\"\",\"\",記録入力1!I7)","v":{"$error":"#N/A"}}]
[{"$f":"IF(B6=\"\",\"\",記録入力1!C8)","v":{"$error":"#N/A"}},{"$f":"VLOOKUP($H6,女子選手!$B$2:$G$158,6,FALSE)","v":{"$error":"#N/A"}},{"$f":"IF($H6=\"\",\"\",VLOOKUP($H6,女子選手!$B$2:$D$158,2,FALSE))","v":""},{"$f":"IF($H6=\"\",\"\",VLOOKUP($H6,女子選手!$B$2:$D$158,3,FALSE))","v":""},"","",{"$f":"IF(H6=\"\",\"\",VALUE(MID(VLOOKUP($H6,女子選手!$B$2:$G$158,6,FALSE),2,6)))","v":""},{"$f":"記録入力1!J8","v":""},{"$f":"IF(H6=\"\",\"\",VLOOKUP(記録入力1!C8,初期設定1!$C$18:$F$59,3,FALSE)&\" \"&RIGHT(記録入力1!N8,7))","v":""},null,{"$f":"IF(B6=\"\",\"\",記録入力1!I8)","v":{"$error":"#N/A"}}]
[{"$f":"IF(B7=\"\",\"\",記録入力1!C9)","v":{"$error":"#N/A"}},{"$f":"VLOOKUP($H7,女子選手!$B$2:$G$158,6,FALSE)","v":{"$error":"#N/A"}},{"$f":"IF($H7=\"\",\"\",VLOOKUP($H7,女子選手!$B$2:$D$158,2,FALSE))","v":""},{"$f":"IF($H7=\"\",\"\",VLOOKUP($H7,女子選手!$B$2:$D$158,3,FALSE))","v":""},"","",{"$f":"IF(H7=\"\",\"\",VALUE(MID(VLOOKUP($H7,女子選手!$B$2:$G$158,6,FALSE),2,6)))","v":""},{"$f":"記録入力1!J9","v":""},{"$f":"IF(H7=\"\",\"\",VLOOKUP(記録入力1!C9,初期設定1!$C$18:$F$59,3,FALSE)&\" \"&RIGHT(記録入力1!N9,7))","v":""},null,{"$f":"IF(B7=\"\",\"\",記録入力1!I9)","v":{"$error":"#N/A"}}]
[{"$f":"IF(B8=\"\",\"\",記録入力1!C10)","v":{"$error":"#N/A"}},{"$f":"VLOOKUP($H8,女子選手!$B$2:$G$158,6,FALSE)","v":{"$error":"#N/A"}},{"$f":"IF($H8=\"\",\"\",VLOOKUP($H8,女子選手!$B$2:$D$158,2,FALSE))","v":""},{"$f":"IF($H8=\"\",\"\",VLOOKUP($H8,女子選手!$B$2:$D$158,3,FALSE))","v":""},"","",{"$f":"IF(H8=\"\",\"\",VALUE(MID(VLOOKUP($H8,女子選手!$B$2:$G$158,6,FALSE),2,6)))","v":""},{"$f":"記録入力1!J10","v":""},{"$f":"IF(H8=\"\",\"\",VLOOKUP(記録入力1!C10,初期設定1!$C$18:$F$59,3,FALSE)&\" \"&RIGHT(記録入力1!N10,7))","v":""},null,{"$f":"IF(B8=\"\",\"\",記録入力1!I10)","v":{"$error":"#N/A"}}]
[{"$f":"IF(B9=\"\",\"\",記録入力1!C11)","v":{"$error":"#N/A"}},{"$f":"VLOOKUP($H9,女子選手!$B$2:$G$158,6,FALSE)","v":{"$error":"#N/A"}},{"$f":"IF($H9=\"\",\"\",VLOOKUP($H9,女子選手!$B$2:$D$158,2,FALSE))","v":""},{"$f":"IF($H9=\"\",\"\",VLOOKUP($H9,女子選手!$B$2:$D$158,3,FALSE))","v":""},"","",{"$f":"IF(H9=\"\",\"\",VALUE(MID(VLOOKUP($H9,女子選手!$B$2:$G$158,6,FALSE),2,6)))","v":""},{"$f":"記録入力1!J11","v":""},{"$f":"IF(H9=\"\",\"\",VLOOKUP(記録入力1!C11,初期設定1!$C$18:$F$59,3,FALSE)&\" \"&RIGHT(記録入力1!N11,7))","v":""},null,{"$f":"IF(B9=\"\",\"\",記録入力1!I11)","v":{"$error":"#N/A"}}]
[{"$f":"IF(B10=\"\",\"\",記録入力1!C12)","v":{"$error":"#N/A"}},{"$f":"VLOOKUP($H10,女子選手!$B$2:$G$158,6,FALSE)","v":{"$error":"#N/A"}},{"$f":"IF($H10=\"\",\"\",VLOOKUP($H10,女子選手!$B$2:$D$158,2,FALSE))","v":""},{"$f":"IF($H10=\"\",\"\",VLOOKUP($H10,女子選手!$B$2:$D$158,3,FALSE))","v":""},"","",{"$f":"IF(H10=\"\",\"\",VALUE(MID(VLOOKUP($H10,女子選手!$B$2:$G$158,6,FALSE),2,6)))","v":""},{"$f":"記録入力1!J12","v":""},{"$f":"IF(H10=\"\",\"\",VLOOKUP(記録入力1!C12,初期設定1!$C$18:$F$59,3,FALSE)&\" \"&RIGHT(記録入力1!N12,7))","v":""},null,{"$f":"IF(B10=\"\",\"\",記録入力1!I12)","v":{"$error":"#N/A"}}]
[{"$f":"IF(B11=\"\",\"\",記録入力1!C13)","v":{"$error":"#N/A"}},{"$f":"VLOOKUP($H11,女子選手!$B$2:$G$158,6,FALSE)","v":{"$error":"#N/A"}},{"$f":"IF($H11=\"\",\"\",VLOOKUP($H11,女子選手!$B$2:$D$158,2,FALSE))","v":""},{"$f":"IF($H11=\"\",\"\",VLOOKUP($H11,女子選手!$B$2:$D$158,3,FALSE))","v":""},"","",{"$f":"IF(H11=\"\",\"\",VALUE(MID(VLOOKUP($H11,女子選手!$B$2:$G$158,6,FALSE),2,6)))","v":""},{"$f":"記録入力1!J13","v":""},{"$f":"IF(H11=\"\",\"\",VLOOKUP(記録入力1!C13,初期設定1!$C$18:$F$59,3,FALSE)&\" \"&RIGHT(記録入力1!N13,7))","v":""},null,{"$f":"IF(B11=\"\",\"\",記録入力1!I13)","v":{"$error":"#N/A"}}]
[{"$f":"IF(B12=\"\",\"\",記録入力1!C14)","v":{"$error":"#N/A"}},{"$f":"VLOOKUP($H12,女子選手!$B$2:$G$158,6,FALSE)","v":{"$error":"#N/A"}},{"$f":"IF($H12=\"\",\"\",VLOOKUP($H12,女子選手!$B$2:$D$158,2,FALSE))","v":""},{"$f":"IF($H12=\"\",\"\",VLOOKUP($H12,女子選手!$B$2:$D$158,3,FALSE))","v":""},"","",{"$f":"IF(H12=\"\",\"\",VALUE(MID(VLOOKUP($H12,女子選手!$B$2:$G$158,6,FALSE),2,6)))","v":""},{"$f":"記録入力1!J14","v":""},{"$f":"IF(H12=\"\",\"\",VLOOKUP(記録入力1!C14,初期設定1!$C$18:$F$59,3,FALSE)&\" \"&RIGHT(記録入力1!N14,7))","v":""},null,{"$f":"IF(B12=\"\",\"\",記録入力1!I14)","v":{"$error":"#N/A"}}]
[{"$f":"IF(B13=\"\",\"\",記録入力1!C15)","v":{"$error":"#N/A"}},{"$f":"VLOOKUP($H13,女子選手!$B$2:$G$158,6,FALSE)","v":{"$error":"#N/A"}},{"$f":"IF($H13=\"\",\"\",VLOOKUP($H13,女子選手!$B$2:$D$158,2,FALSE))","v":""},{"$f":"IF($H13=\"\",\"\",VLOOKUP($H13,女子選手!$B$2:$D$158,3,FALSE))","v":""},"","",{"$f":"IF(H13=\"\",\"\",VALUE(MID(VLOOKUP($H13,女子選手!$B$2:$G$158,6,FALSE),2,6)))","v":""},{"$f":"記録入力1!J15","v":""},{"$f":"IF(H13=\"\",\"\",VLOOKUP(記録入力1!C15,初期設定1!$C$18:$F$59,3,FALSE)&\" \"&RIGHT(記録入力1!N15,7))","v":""},null,{"$f":"IF(B13=\"\",\"\",記録入力1!I15)","v":{"$error":"#N/A"}}]
[{"$f":"IF(B14=\"\",\"\",記録入力1!C16)","v":{"$error":"#N/A"}},{"$f":"VLOOKUP($H14,女子選手!$B$2:$G$158,6,FALSE)","v":{"$error":"#N/A"}},{"$f":"IF($H14=\"\",\"\",VLOOKUP($H14,女子選手!$B$2:$D$158,2,FALSE))","v":""},{"$f":"IF($H14=\"\",\"\",VLOOKUP($H14,女子選手!$B$2:$D$158,3,FALSE))","v":""},"","",{"$f":"IF(H14=\"\",\"\",VALUE(MID(VLOOKUP($H14,女子選手!$B$2:$G$158,6,FALSE),2,6)))","v":""},{"$f":"記録入力1!J16","v":""},{"$f":"IF(H14=\"\",\"\",VLOOKUP(記録入力1!C16,初期設定1!$C$18:$F$59,3,FALSE)&\" \"&RIGHT(記録入力1!N16,7))","v":""},null,{"$f":"IF(B14=\"\",\"\",記録入力1!I16)","v":{"$error":"#N/A"}}]
[{"$f":"IF(B15=\"\",\"\",記録入力1!C17)","v":{"$error":"#N/A"}},{"$f":"VLOOKUP($H15,女子選手!$B$2:$G$158,6,FALSE)","v":{"$error":"#N/A"}},{"$f":"IF($H15=\"\",\"\",VLOOKUP($H15,女子選手!$B$2:$D$158,2,FALSE))","v":""},{"$f":"IF($H15=\"\",\"\",VLOOKUP($H15,女子選手!$B$2:$D$158,3,FALSE))","v":""},"","",{"$f":"IF(H15=\"\",\"\",VALUE(MID(VLOOKUP($H15,女子選手!$B$2:$G$158,6,FALSE),2,6)))","v":""},{"$f":"記録入力1!J17","v":""},{"$f":"IF(H15=\"\",\"\",VLOOKUP(記録入力1!C17,初期設定1!$C$18:$F$59,3,FALSE)&\" \"&RIGHT(記録入力1!N17,7))","v":""},null,{"$f":"IF(B15=\"\",\"\",記録入力1!I17)","v":{"$error":"#N/A"}}]
[{"$f":"IF(B16=\"\",\"\",記録入力1!C18)","v":{"$error":"#N/A"}},{"$f":"VLOOKUP($H16,女子選手!$B$2:$G$158,6,FALSE)","v":{"$error":"#N/A"}},{"$f":"IF($H16=\"\",\"\",VLOOKUP($H16,女子選手!$B$2:$D$158,2,FALSE))","v":""},{"$f":"IF($H16=\"\",\"\",VLOOKUP($H16,女子選手!$B$2:$D$158,3,FALSE))","v":""},"","",{"$f":"IF(H16=\"\",\"\",VALUE(MID(VLOOKUP($H16,女子選手!$B$2:$G$158,6,FALSE),2,6)))","v":""},{"$f":"記録入力1!J18","v":""},{"$f":"IF(H16=\"\",\"\",VLOOKUP(記録入力1!C18,初期設定1!$C$18:$F$59,3,FALSE)&\" \"&RIGHT(記録入力1!N18,7))","v":""},null,{"$f":"IF(B16=\"\",\"\",記録入力1!I18)","v":{"$error":"#N/A"}}]
[{"$f":"IF(B17=\"\",\"\",記録入力1!C19)","v":{"$error":"#N/A"}},{"$f":"VLOOKUP($H17,女子選手!$B$2:$G$158,6,FALSE)","v":{"$error":"#N/A"}},{"$f":"IF($H17=\"\",\"\",VLOOKUP($H17,女子選手!$B$2:$D$158,2,FALSE))","v":""},{"$f":"IF($H17=\"\",\"\",VLOOKUP($H17,女子選手!$B$2:$D$158,3,FALSE))","v":""},"","",{"$f":"IF(H17=\"\",\"\",VALUE(MID(VLOOKUP($H17,女子選手!$B$2:$G$158,6,FALSE),2,6)))","v":""},{"$f":"記録入力1!J19","v":""},{"$f":"IF(H17=\"\",\"\",VLOOKUP(記録入力1!C19,初期設定1!$C$18:$F$59,3,FALSE)&\" \"&RIGHT(記録入力1!N19,7))","v":""},null,{"$f":"IF(B17=\"\",\"\",記録入力1!I19)","v":{"$error":"#N/A"}}]
[{"$f":"IF(B18=\"\",\"\",記録入力1!C20)","v":{"$error":"#N/A"}},{"$f":"VLOOKUP($H18,女子選手!$B$2:$G$158,6,FALSE)","v":{"$error":"#N/A"}},{"$f":"IF($H18=\"\",\"\",VLOOKUP($H18,女子選手!$B$2:$D$158,2,FALSE))","v":""},{"$f":"IF($H18=\"\",\"\",VLOOKUP($H18,女子選手!$B$2:$D$158,3,FALSE))","v":""},"","",{"$f":"IF(H18=\"\",\"\",VALUE(MID(VLOOKUP($H18,女子選手!$B$2:$G$158,6,FALSE),2,6)))","v":""},{"$f":"記録入力1!J20","v":""},{"$f":"IF(H18=\"\",\"\",VLOOKUP(記録入力1!C20,初期設定1!$C$18:$F$59,3,FALSE)&\" \"&RIGHT(記録入力1!N20,7))","v":""},null,{"$f":"IF(B18=\"\",\"\",記録入力1!I20)","v":{"$error":"#N/A"}}]
[{"$f":"IF(B19=\"\",\"\",記録入力1!C21)","v":{"$error":"#N/A"}},{"$f":"VLOOKUP($H19,女子選手!$B$2:$G$158,6,FALSE)","v":{"$error":"#N/A"}},{"$f":"IF($H19=\"\",\"\",VLOOKUP($H19,女子選手!$B$2:$D$158,2,FALSE))","v":""},{"$f":"IF($H19=\"\",\"\",VLOOKUP($H19,女子選手!$B$2:$D$158,3,FALSE))","v":""},"","",{"$f":"IF(H19=\"\",\"\",VALUE(MID(VLOOKUP($H19,女子選手!$B$2:$G$158,6,FALSE),2,6)))","v":""},{"$f":"記録入力1!J21","v":""},{"$f":"IF(H19=\"\",\"\",VLOOKUP(記録入力1!C21,初期設定1!$C$18:$F$59,3,FALSE)&\" \"&RIGHT(記録入力1!N21,7))","v":""},null,{"$f":"IF(B19=\"\",\"\",記録入力1!I21)","v":{"$error":"#N/A"}}]
[{"$f":"IF(B20=\"\",\"\",記録入力1!C22)","v":{"$error":"#N/A"}},{"$f":"VLOOKUP($H20,女子選手!$B$2:$G$158,6,FALSE)","v":{"$error":"#N/A"}},{"$f":"IF($H20=\"\",\"\",VLOOKUP($H20,女子選手!$B$2:$D$158,2,FALSE))","v":""},{"$f":"IF($H20=\"\",\"\",VLOOKUP($H20,女子選手!$B$2:$D$158,3,FALSE))","v":""},"","",{"$f":"IF(H20=\"\",\"\",VALUE(MID(VLOOKUP($H20,女子選手!$B$2:$G$158,6,FALSE),2,6)))","v":""},{"$f":"記録入力1!J22","v":""},{"$f":"IF(H20=\"\",\"\",VLOOKUP(記録入力1!C22,初期設定1!$C$18:$F$59,3,FALSE)&\" \"&RIGHT(記録入力1!N22,7))","v":""},null,{"$f":"IF(B20=\"\",\"\",記録入力1!I22)","v":{"$error":"#N/A"}}]
[{"$f":"IF(B21=\"\",\"\",記録入力1!C23)","v":{"$error":"#N/A"}},{"$f":"VLOOKUP($H21,女子選手!$B$2:$G$158,6,FALSE)","v":{"$error":"#N/A"}},{"$f":"IF($H21=\"\",\"\",VLOOKUP($H21,女子選手!$B$2:$D$158,2,FALSE))","v":""},{"$f":"IF($H21=\"\",\"\",VLOOKUP($H21,女子選手!$B$2:$D$158,3,FALSE))","v":""},"","",{"$f":"IF(H21=\"\",\"\",VALUE(MID(VLOOKUP($H21,女子選手!$B$2:$G$158,6,FALSE),2,6)))","v":""},{"$f":"記録入力1!J23","v":""},{"$f":"IF(H21=\"\",\"\",VLOOKUP(記録入力1!C23,初期設定1!$C$18:$F$59,3,FALSE)&\" \"&RIGHT(記録入力1!N23,7))","v":""},null,{"$f":"IF(B21=\"\",\"\",記録入力1!I23)","v":{"$error":"#N/A"}}]
[{"$f":"IF(B22=\"\",\"\",記録入力1!C24)","v":{"$error":"#N/A"}},{"$f":"VLOOKUP($H22,女子選手!$B$2:$G$158,6,FALSE)","v":{"$error":"#N/A"}},{"$f":"IF($H22=\"\",\"\",VLOOKUP($H22,女子選手!$B$2:$D$158,2,FALSE))","v":""},{"$f":"IF($H22=\"\",\"\",VLOOKUP($H22,女子選手!$B$2:$D$158,3,FALSE))","v":""},"","",{"$f":"IF(H22=\"\",\"\",VALUE(MID(VLOOKUP($H22,女子選手!$B$2:$G$158,6,FALSE),2,6)))","v":""},{"$f":"記録入力1!J24","v":""},{"$f":"IF(H22=\"\",\"\",VLOOKUP(記録入力1!C24,初期設定1!$C$18:$F$59,3,FALSE)&\" \"&RIGHT(記録入力1!N24,7))","v":""},null,{"$f":"IF(B22=\"\",\"\",記録入力1!I24)","v":{"$error":"#N/A"}}]
[{"$f":"IF(B23=\"\",\"\",記録入力1!C25)","v":{"$error":"#N/A"}},{"$f":"VLOOKUP($H23,女子選手!$B$2:$G$158,6,FALSE)","v":{"$error":"#N/A"}},{"$f":"IF($H23=\"\",\"\",VLOOKUP($H23,女子選手!$B$2:$D$158,2,FALSE))","v":""},{"$f":"IF($H23=\"\",\"\",VLOOKUP($H23,女子選手!$B$2:$D$158,3,FALSE))","v":""},"","",{"$f":"IF(H23=\"\",\"\",VALUE(MID(VLOOKUP($H23,女子選手!$B$2:$G$158,6,FALSE),2,6)))","v":""},{"$f":"記録入力1!J25","v":""},{"$f":"IF(H23=\"\",\"\",VLOOKUP(記録入力1!C25,初期設定1!$C$18:$F$59,3,FALSE)&\" \"&RIGHT(記録入力1!N25,7))","v":""},null,{"$f":"IF(B23=\"\",\"\",記録入力1!I25)","v":{"$error":"#N/A"}}]
[{"$f":"IF(B24=\"\",\"\",記録入力1!C26)","v":{"$error":"#N/A"}},{"$f":"VLOOKUP($H24,女子選手!$B$2:$G$158,6,FALSE)","v":{"$error":"#N/A"}},{"$f":"IF($H24=\"\",\"\",VLOOKUP($H24,女子選手!$B$2:$D$158,2,FALSE))","v":""},{"$f":"IF($H24=\"\",\"\",VLOOKUP($H24,女子選手!$B$2:$D$158,3,FALSE))","v":""},"","",{"$f":"IF(H24=\"\",\"\",VALUE(MID(VLOOKUP($H24,女子選手!$B$2:$G$158,6,FALSE),2,6)))","v":""},{"$f":"記録入力1!J26","v":""},{"$f":"IF(H24=\"\",\"\",VLOOKUP(記録入力1!C26,初期設定1!$C$18:$F$59,3,FALSE)&\" \"&RIGHT(記録入力1!N26,7))","v":""},null,{"$f":"IF(B24=\"\",\"\",記録入力1!I26)","v":{"$error":"#N/A"}}]
[{"$f":"IF(B25=\"\",\"\",記録入力1!C27)","v":{"$error":"#N/A"}},{"$f":"VLOOKUP($H25,女子選手!$B$2:$G$158,6,FALSE)","v":{"$error":"#N/A"}},{"$f":"IF($H25=\"\",\"\",VLOOKUP($H25,女子選手!$B$2:$D$158,2,FALSE))","v":""},{"$f":"IF($H25=\"\",\"\",VLOOKUP($H25,女子選手!$B$2:$D$158,3,FALSE))","v":""},"","",{"$f":"IF(H25=\"\",\"\",VALUE(MID(VLOOKUP($H25,女子選手!$B$2:$G$158,6,FALSE),2,6)))","v":""},{"$f":"記録入力1!J27","v":""},{"$f":"IF(H25=\"\",\"\",VLOOKUP(記録入力1!C27,初期設定1!$C$18:$F$59,3,FALSE)&\" \"&RIGHT(記録入力1!N27,7))","v":""},null,{"$f":"IF(B25=\"\",\"\",記録入力1!I27)","v":{"$error":"#N/A"}}]
[{"$f":"IF(B26=\"\",\"\",記録入力1!C28)","v":{"$error":"#N/A"}},{"$f":"VLOOKUP($H26,女子選手!$B$2:$G$158,6,FALSE)","v":{"$error":"#N/A"}},{"$f":"IF($H26=\"\",\"\",VLOOKUP($H26,女子選手!$B$2:$D$158,2,FALSE))","v":""},{"$f":"IF($H26=\"\",\"\",VLOOKUP($H26,女子選手!$B$2:$D$158,3,FALSE))","v":""},"","",{"$f":"IF(H26=\"\",\"\",VALUE(MID(VLOOKUP($H26,女子選手!$B$2:$G$158,6,FALSE),2,6)))","v":""},{"$f":"記録入力1!J28","v":""},{"$f":"IF(H26=\"\",\"\",VLOOKUP(記録入力1!C28,初期設定1!$C$18:$F$59,3,FALSE)&\" \"&RIGHT(記録入力1!N28,7))","v":""},null,{"$f":"IF(B26=\"\",\"\",記録入力1!I28)","v":{"$error":"#N/A"}}]
[{"$f":"IF(B27=\"\",\"\",記録入力1!C29)","v":{"$error":"#N/A"}},{"$f":"VLOOKUP($H27,女子選手!$B$2:$G$158,6,FALSE)","v":{"$error":"#N/A"}},{"$f":"IF($H27=\"\",\"\",VLOOKUP($H27,女子選手!$B$2:$D$158,2,FALSE))","v":""},{"$f":"IF($H27=\"\",\"\",VLOOKUP($H27,女子選手!$B$2:$D$158,3,FALSE))","v":""},"","",{"$f":"IF(H27=\"\",\"\",VALUE(MID(VLOOKUP($H27,女子選手!$B$2:$G$158,6,FALSE),2,6)))","v":""},{"$f":"記録入力1!J29","v":""},{"$f":"IF(H27=\"\",\"\",VLOOKUP(記録入力1!C29,初期設定1!$C$18:$F$59,3,FALSE)&\" \"&RIGHT(記録入力1!N29,7))","v":""},null,{"$f":"IF(B27=\"\",\"\",記録入力1!I29)","v":{"$error":"#N/A"}}]
[{"$f":"IF(B28=\"\",\"\",記録入力1!C30)","v":{"$error":"#N/A"}},{"$f":"VLOOKUP($H28,女子選手!$B$2:$G$158,6,FALSE)","v":{"$error":"#N/A"}},{"$f":"IF($H28=\"\",\"\",VLOOKUP($H28,女子選手!$B$2:$D$158,2,FALSE))","v":""},{"$f":"IF($H28=\"\",\"\",VLOOKUP($H28,女子選手!$B$2:$D$158,3,FALSE))","v":""},"","",{"$f":"IF(H28=\"\",\"\",VALUE(MID(VLOOKUP($H28,女子選手!$B$2:$G$158,6,FALSE),2,6)))","v":""},{"$f":"記録入力1!J30","v":""},{"$f":"IF(H28=\"\",\"\",VLOOKUP(記録入力1!C30,初期設定1!$C$18:$F$59,3,FALSE)&\" \"&RIGHT(記録入力1!N30,7))","v":""},null,{"$f":"IF(B28=\"\",\"\",記録入力1!I30)","v":{"$error":"#N/A"}}]
[{"$f":"IF(B29=\"\",\"\",記録入力1!C31)","v":{"$error":"#N/A"}},{"$f":"VLOOKUP($H29,女子選手!$B$2:$G$158,6,FALSE)","v":{"$error":"#N/A"}},{"$f":"IF($H29=\"\",\"\",VLOOKUP($H29,女子選手!$B$2:$D$158,2,FALSE))","v":""},{"$f":"IF($H29=\"\",\"\",VLOOKUP($H29,女子選手!$B$2:$D$158,3,FALSE))","v":""},"","",{"$f":"IF(H29=\"\",\"\",VALUE(MID(VLOOKUP($H29,女子選手!$B$2:$G$158,6,FALSE),2,6)))","v":""},{"$f":"記録入力1!J31","v":""},{"$f":"IF(H29=\"\",\"\",VLOOKUP(記録入力1!C31,初期設定1!$C$18:$F$59,3,FALSE)&\" \"&RIGHT(記録入力1!N31,7))","v":""},null,{"$f":"IF(B29=\"\",\"\",記録入力1!I31)","v":{"$error":"#N/A"}}]
[{"$f":"IF(B30=\"\",\"\",記録入力1!C32)","v":{"$error":"#N/A"}},{"$f":"VLOOKUP($H30,女子選手!$B$2:$G$158,6,FALSE)","v":{"$error":"#N/A"}},{"$f":"IF($H30=\"\",\"\",VLOOKUP($H30,女子選手!$B$2:$D$158,2,FALSE))","v":""},{"$f":"IF($H30=\"\",\"\",VLOOKUP($H30,女子選手!$B$2:$D$158,3,FALSE))","v":""},"","",{"$f":"IF(H30=\"\",\"\",VALUE(MID(VLOOKUP($H30,女子選手!$B$2:$G$158,6,FALSE),2,6)))","v":""},{"$f":"記録入力1!J32","v":""},{"$f":"IF(H30=\"\",\"\",VLOOKUP(記録入力1!C32,初期設定1!$C$18:$F$59,3,FALSE)&\" \"&RIGHT(記録入力1!N32,7))","v":""},null,{"$f":"IF(B30=\"\",\"\",記録入力1!I32)","v":{"$error":"#N/A"}}]
[{"$f":"IF(B31=\"\",\"\",記録入力1!C33)","v":{"$error":"#N/A"}},{"$f":"VLOOKUP($H31,女子選手!$B$2:$G$158,6,FALSE)","v":{"$error":"#N/A"}},{"$f":"IF($H31=\"\",\"\",VLOOKUP($H31,女子選手!$B$2:$D$158,2,FALSE))","v":""},{"$f":"IF($H31=\"\",\"\",VLOOKUP($H31,女子選手!$B$2:$D$158,3,FALSE))","v":""},"","",{"$f":"IF(H31=\"\",\"\",VALUE(MID(VLOOKUP($H31,女子選手!$B$2:$G$158,6,FALSE),2,6)))","v":""},{"$f":"記録入力1!J33","v":""},{"$f":"IF(H31=\"\",\"\",VLOOKUP(記録入力1!C33,初期設定1!$C$18:$F$59,3,FALSE)&\" \"&RIGHT(記録入力1!N33,7))","v":""},null,{"$f":"IF(B31=\"\",\"\",記録入力1!I33)","v":{"$error":"#N/A"}}]
[{"$f":"IF(B32=\"\",\"\",記録入力1!C34)","v":{"$error":"#N/A"}},{"$f":"VLOOKUP($H32,女子選手!$B$2:$G$158,6,FALSE)","v":{"$error":"#N/A"}},{"$f":"IF($H32=\"\",\"\",VLOOKUP($H32,女子選手!$B$2:$D$158,2,FALSE))","v":""},{"$f":"IF($H32=\"\",\"\",VLOOKUP($H32,女子選手!$B$2:$D$158,3,FALSE))","v":""},"","",{"$f":"IF(H32=\"\",\"\",VALUE(MID(VLOOKUP($H32,女子選手!$B$2:$G$158,6,FALSE),2,6)))","v":""},{"$f":"記録入力1!J34","v":""},{"$f":"IF(H32=\"\",\"\",VLOOKUP(記録入力1!C34,初期設定1!$C$18:$F$59,3,FALSE)&\" \"&RIGHT(記録入力1!N34,7))","v":""},null,{"$f":"IF(B32=\"\",\"\",記録入力1!I34)","v":{"$error":"#N/A"}}]
[{"$f":"IF(B33=\"\",\"\",記録入力1!C35)","v":{"$error":"#N/A"}},{"$f":"VLOOKUP($H33,女子選手!$B$2:$G$158,6,FALSE)","v":{"$error":"#N/A"}},{"$f":"IF($H33=\"\",\"\",VLOOKUP($H33,女子選手!$B$2:$D$158,2,FALSE))","v":""},{"$f":"IF($H33=\"\",\"\",VLOOKUP($H33,女子選手!$B$2:$D$158,3,FALSE))","v":""},"","",{"$f":"IF(H33=\"\",\"\",VALUE(MID(VLOOKUP($H33,女子選手!$B$2:$G$158,6,FALSE),2,6)))","v":""},{"$f":"記録入力1!J35","v":""},{"$f":"IF(H33=\"\",\"\",VLOOKUP(記録入力1!C35,初期設定1!$C$18:$F$59,3,FALSE)&\" \"&RIGHT(記録入力1!N35,7))","v":""},null,{"$f":"IF(B33=\"\",\"\",記録入力1!I35)","v":{"$error":"#N/A"}}]
[{"$f":"IF(B34=\"\",\"\",記録入力1!C36)","v":{"$error":"#N/A"}},{"$f":"VLOOKUP($H34,女子選手!$B$2:$G$158,6,FALSE)","v":{"$error":"#N/A"}},{"$f":"IF($H34=\"\",\"\",VLOOKUP($H34,女子選手!$B$2:$D$158,2,FALSE))","v":""},{"$f":"IF($H34=\"\",\"\",VLOOKUP($H34,女子選手!$B$2:$D$158,3,FALSE))","v":""},"","",{"$f":"IF(H34=\"\",\"\",VALUE(MID(VLOOKUP($H34,女子選手!$B$2:$G$158,6,FALSE),2,6)))","v":""},{"$f":"記録入力1!J36","v":""},{"$f":"IF(H34=\"\",\"\",VLOOKUP(記録入力1!C36,初期設定1!$C$18:$F$59,3,FALSE)&\" \"&RIGHT(記録入力1!N36,7))","v":""},null,{"$f":"IF(B34=\"\",\"\",記録入力1!I36)","v":{"$error":"#N/A"}}]
[{"$f":"IF(B35=\"\",\"\",記録入力1!C37)","v":{"$error":"#N/A"}},{"$f":"VLOOKUP($H35,女子選手!$B$2:$G$158,6,FALSE)","v":{"$error":"#N/A"}},{"$f":"IF($H35=\"\",\"\",VLOOKUP($H35,女子選手!$B$2:$D$158,2,FALSE))","v":""},{"$f":"IF($H35=\"\",\"\",VLOOKUP($H35,女子選手!$B$2:$D$158,3,FALSE))","v":""},"","",{"$f":"IF(H35=\"\",\"\",VALUE(MID(VLOOKUP($H35,女子選手!$B$2:$G$158,6,FALSE),2,6)))","v":""},{"$f":"記録入力1!J37","v":""},{"$f":"IF(H35=\"\",\"\",VLOOKUP(記録入力1!C37,初期設定1!$C$18:$F$59,3,FALSE)&\" \"&RIGHT(記録入力1!N37,7))","v":""},null,{"$f":"IF(B35=\"\",\"\",記録入力1!I37)","v":{"$error":"#N/A"}}]
[{"$f":"IF(B36=\"\",\"\",記録入力1!C38)","v":{"$error":"#N/A"}},{"$f":"VLOOKUP($H36,女子選手!$B$2:$G$158,6,FALSE)","v":{"$error":"#N/A"}},{"$f":"IF($H36=\"\",\"\",VLOOKUP($H36,女子選手!$B$2:$D$158,2,FALSE))","v":""},{"$f":"IF($H36=\"\",\"\",VLOOKUP($H36,女子選手!$B$2:$D$158,3,FALSE))","v":""},"","",{"$f":"IF(H36=\"\",\"\",VALUE(MID(VLOOKUP($H36,女子選手!$B$2:$G$158,6,FALSE),2,6)))","v":""},{"$f":"記録入力1!J38","v":""},{"$f":"IF(H36=\"\",\"\",VLOOKUP(記録入力1!C38,初期設定1!$C$18:$F$59,3,FALSE)&\" \"&RIGHT(記録入力1!N38,7))","v":""},null,{"$f":"IF(B36=\"\",\"\",記録入力1!I38)","v":{"$error":"#N/A"}}]
[{"$f":"IF(B37=\"\",\"\",記録入力1!C39)","v":{"$error":"#N/A"}},{"$f":"VLOOKUP($H37,女子選手!$B$2:$G$158,6,FALSE)","v":{"$error":"#N/A"}},{"$f":"IF($H37=\"\",\"\",VLOOKUP($H37,女子選手!$B$2:$D$158,2,FALSE))","v":""},{"$f":"IF($H37=\"\",\"\",VLOOKUP($H37,女子選手!$B$2:$D$158,3,FALSE))","v":""},"","",{"$f":"IF(H37=\"\",\"\",VALUE(MID(VLOOKUP($H37,女子選手!$B$2:$G$158,6,FALSE),2,6)))","v":""},{"$f":"記録入力1!J39","v":""},{"$f":"IF(H37=\"\",\"\",VLOOKUP(記録入力1!C39,初期設定1!$C$18:$F$59,3,FALSE)&\" \"&RIGHT(記録入力1!N39,7))","v":""},null,{"$f":"IF(B37=\"\",\"\",記録入力1!I39)","v":{"$error":"#N/A"}}]
[{"$f":"IF(B38=\"\",\"\",記録入力1!C40)","v":{"$error":"#N/A"}},{"$f":"VLOOKUP($H38,女子選手!$B$2:$G$158,6,FALSE)","v":{"$error":"#N/A"}},{"$f":"IF($H38=\"\",\"\",VLOOKUP($H38,女子選手!$B$2:$D$158,2,FALSE))","v":""},{"$f":"IF($H38=\"\",\"\",VLOOKUP($H38,女子選手!$B$2:$D$158,3,FALSE))","v":""},"","",{"$f":"IF(H38=\"\",\"\",VALUE(MID(VLOOKUP($H38,女子選手!$B$2:$G$158,6,FALSE),2,6)))","v":""},{"$f":"記録入力1!J40","v":""},{"$f":"IF(H38=\"\",\"\",VLOOKUP(記録入力1!C40,初期設定1!$C$18:$F$59,3,FALSE)&\" \"&RIGHT(記録入力1!N40,7))","v":""},null,{"$f":"IF(B38=\"\",\"\",記録入力1!I40)","v":{"$error":"#N/A"}}]
[{"$f":"IF(B39=\"\",\"\",記録入力1!C41)","v":{"$error":"#N/A"}},{"$f":"VLOOKUP($H39,女子選手!$B$2:$G$158,6,FALSE)","v":{"$error":"#N/A"}},{"$f":"IF($H39=\"\",\"\",VLOOKUP($H39,女子選手!$B$2:$D$158,2,FALSE))","v":""},{"$f":"IF($H39=\"\",\"\",VLOOKUP($H39,女子選手!$B$2:$D$158,3,FALSE))","v":""},"","",{"$f":"IF(H39=\"\",\"\",VALUE(MID(VLOOKUP($H39,女子選手!$B$2:$G$158,6,FALSE),2,6)))","v":""},{"$f":"記録入力1!J41","v":""},{"$f":"IF(H39=\"\",\"\",VLOOKUP(記録入力1!C41,初期設定1!$C$18:$F$59,3,FALSE)&\" \"&RIGHT(記録入力1!N41,7))","v":""},null,{"$f":"IF(B39=\"\",\"\",記録入力1!I41)","v":{"$error":"#N/A"}}]
[{"$f":"IF(B40=\"\",\"\",記録入力1!C42)","v":{"$error":"#N/A"}},{"$f":"VLOOKUP($H40,女子選手!$B$2:$G$158,6,FALSE)","v":{"$error":"#N/A"}},{"$f":"IF($H40=\"\",\"\",VLOOKUP($H40,女子選手!$B$2:$D$158,2,FALSE))","v":""},{"$f":"IF($H40=\"\",\"\",VLOOKUP($H40,女子選手!$B$2:$D$158,3,FALSE))","v":""},"","",{"$f":"IF(H40=\"\",\"\",VALUE(MID(VLOOKUP($H40,女子選手!$B$2:$G$158,6,FALSE),2,6)))","v":""},{"$f":"記録入力1!J42","v":""},{"$f":"IF(H40=\"\",\"\",VLOOKUP(記録入力1!C42,初期設定1!$C$18:$F$59,3,FALSE)&\" \"&RIGHT(記録入力1!N42,7))","v":""},null,{"$f":"IF(B40=\"\",\"\",記録入力1!I42)","v":{"$error":"#N/A"}}]
[{"$f":"IF(B41=\"\",\"\",記録入力1!C43)","v":{"$error":"#N/A"}},{"$f":"VLOOKUP($H41,女子選手!$B$2:$G$158,6,FALSE)","v":{"$error":"#N/A"}},{"$f":"IF($H41=\"\",\"\",VLOOKUP($H41,女子選手!$B$2:$D$158,2,FALSE))","v":""},{"$f":"IF($H41=\"\",\"\",VLOOKUP($H41,女子選手!$B$2:$D$158,3,FALSE))","v":""},"","",{"$f":"IF(H41=\"\",\"\",VALUE(MID(VLOOKUP($H41,女子選手!$B$2:$G$158,6,FALSE),2,6)))","v":""},{"$f":"記録入力1!J43","v":""},{"$f":"IF(H41=\"\",\"\",VLOOKUP(記録入力1!C43,初期設定1!$C$18:$F$59,3,FALSE)&\" \"&RIGHT(記録入力1!N43,7))","v":""},null,{"$f":"IF(B41=\"\",\"\",記録入力1!I43)","v":{"$error":"#N/A"}}]
[{"$f":"IF(B42=\"\",\"\",記録入力1!C44)","v":{"$error":"#N/A"}},{"$f":"VLOOKUP($H42,女子選手!$B$2:$G$158,6,FALSE)","v":{"$error":"#N/A"}},{"$f":"IF($H42=\"\",\"\",VLOOKUP($H42,女子選手!$B$2:$D$158,2,FALSE))","v":""},{"$f":"IF($H42=\"\",\"\",VLOOKUP($H42,女子選手!$B$2:$D$158,3,FALSE))","v":""},"","",{"$f":"IF(H42=\"\",\"\",VALUE(MID(VLOOKUP($H42,女子選手!$B$2:$G$158,6,FALSE),2,6)))","v":""},{"$f":"記録入力1!J44","v":""},{"$f":"IF(H42=\"\",\"\",VLOOKUP(記録入力1!C44,初期設定1!$C$18:$F$59,3,FALSE)&\" \"&RIGHT(記録入力1!N44,7))","v":""},null,{"$f":"IF(B42=\"\",\"\",記録入力1!I44)","v":{"$error":"#N/A"}}]
[{"$f":"IF(B43=\"\",\"\",記録入力1!C45)","v":{"$error":"#N/A"}},{"$f":"VLOOKUP($H43,女子選手!$B$2:$G$158,6,FALSE)","v":{"$error":"#N/A"}},{"$f":"IF($H43=\"\",\"\",VLOOKUP($H43,女子選手!$B$2:$D$158,2,FALSE))","v":""},{"$f":"IF($H43=\"\",\"\",VLOOKUP($H43,女子選手!$B$2:$D$158,3,FALSE))","v":""},"","",{"$f":"IF(H43=\"\",\"\",VALUE(MID(VLOOKUP($H43,女子選手!$B$2:$G$158,6,FALSE),2,6)))","v":""},{"$f":"記録入力1!J45","v":""},{"$f":"IF(H43=\"\",\"\",VLOOKUP(記録入力1!C45,初期設定1!$C$18:$F$59,3,FALSE)&\" \"&RIGHT(記録入力1!N45,7))","v":""},null,{"$f":"IF(B43=\"\",\"\",記録入力1!I45)","v":{"$error":"#N/A"}}]
[{"$f":"IF(B44=\"\",\"\",記録入力1!C46)","v":{"$error":"#N/A"}},{"$f":"VLOOKUP($H44,女子選手!$B$2:$G$158,6,FALSE)","v":{"$error":"#N/A"}},{"$f":"IF($H44=\"\",\"\",VLOOKUP($H44,女子選手!$B$2:$D$158,2,FALSE))","v":""},{"$f":"IF($H44=\"\",\"\",VLOOKUP($H44,女子選手!$B$2:$D$158,3,FALSE))","v":""},"","",{"$f":"IF(H44=\"\",\"\",VALUE(MID(VLOOKUP($H44,女子選手!$B$2:$G$158,6,FALSE),2,6)))","v":""},{"$f":"記録入力1!J46","v":""},{"$f":"IF(H44=\"\",\"\",VLOOKUP(記録入力1!C46,初期設定1!$C$18:$F$59,3,FALSE)&\" \"&RIGHT(記録入力1!N46,7))","v":""},null,{"$f":"IF(B44=\"\",\"\",記録入力1!I46)","v":{"$error":"#N/A"}}]
[{"$f":"IF(B45=\"\",\"\",記録入力1!C47)","v":{"$error":"#N/A"}},{"$f":"VLOOKUP($H45,女子選手!$B$2:$G$158,6,FALSE)","v":{"$error":"#N/A"}},{"$f":"IF($H45=\"\",\"\",VLOOKUP($H45,女子選手!$B$2:$D$158,2,FALSE))","v":""},{"$f":"IF($H45=\"\",\"\",VLOOKUP($H45,女子選手!$B$2:$D$158,3,FALSE))","v":""},"","",{"$f":"IF(H45=\"\",\"\",VALUE(MID(VLOOKUP($H45,女子選手!$B$2:$G$158,6,FALSE),2,6)))","v":""},{"$f":"記録入力1!J47","v":""},{"$f":"IF(H45=\"\",\"\",VLOOKUP(記録入力1!C47,初期設定1!$C$18:$F$59,3,FALSE)&\" \"&RIGHT(記録入力1!N47,7))","v":""},null,{"$f":"IF(B45=\"\",\"\",記録入力1!I47)","v":{"$error":"#N/A"}}]
[{"$f":"IF(B46=\"\",\"\",記録入力1!C48)","v":{"$error":"#N/A"}},{"$f":"VLOOKUP($H46,女子選手!$B$2:$G$158,6,FALSE)","v":{"$error":"#N/A"}},{"$f":"IF($H46=\"\",\"\",VLOOKUP($H46,女子選手!$B$2:$D$158,2,FALSE))","v":""},{"$f":"IF($H46=\"\",\"\",VLOOKUP($H46,女子選手!$B$2:$D$158,3,FALSE))","v":""},"","",{"$f":"IF(H46=\"\",\"\",VALUE(MID(VLOOKUP($H46,女子選手!$B$2:$G$158,6,FALSE),2,6)))","v":""},{"$f":"記録入力1!J48","v":""},{"$f":"IF(H46=\"\",\"\",VLOOKUP(記録入力1!C48,初期設定1!$C$18:$F$59,3,FALSE)&\" \"&RIGHT(記録入力1!N48,7))","v":""},null,{"$f":"IF(B46=\"\",\"\",記録入力1!I48)","v":{"$error":"#N/A"}}]
[{"$f":"IF(B47=\"\",\"\",記録入力1!C49)","v":{"$error":"#N/A"}},{"$f":"VLOOKUP($H47,女子選手!$B$2:$G$158,6,FALSE)","v":{"$error":"#N/A"}},{"$f":"IF($H47=\"\",\"\",VLOOKUP($H47,女子選手!$B$2:$D$158,2,FALSE))","v":""},{"$f":"IF($H47=\"\",\"\",VLOOKUP($H47,女子選手!$B$2:$D$158,3,FALSE))","v":""},"","",{"$f":"IF(H47=\"\",\"\",VALUE(MID(VLOOKUP($H47,女子選手!$B$2:$G$158,6,FALSE),2,6)))","v":""},{"$f":"記録入力1!J49","v":""},{"$f":"IF(H47=\"\",\"\",VLOOKUP(記録入力1!C49,初期設定1!$C$18:$F$59,3,FALSE)&\" \"&RIGHT(記録入力1!N49,7))","v":""},null,{"$f":"IF(B47=\"\",\"\",記録入力1!I49)","v":{"$error":"#N/A"}}]
[{"$f":"IF(B48=\"\",\"\",記録入力1!C50)","v":{"$error":"#N/A"}},{"$f":"VLOOKUP($H48,女子選手!$B$2:$G$158,6,FALSE)","v":{"$error":"#N/A"}},{"$f":"IF($H48=\"\",\"\",VLOOKUP($H48,女子選手!$B$2:$D$158,2,FALSE))","v":""},{"$f":"IF($H48=\"\",\"\",VLOOKUP($H48,女子選手!$B$2:$D$158,3,FALSE))","v":""},"","",{"$f":"IF(H48=\"\",\"\",VALUE(MID(VLOOKUP($H48,女子選手!$B$2:$G$158,6,FALSE),2,6)))","v":""},{"$f":"記録入力1!J50","v":""},{"$f":"IF(H48=\"\",\"\",VLOOKUP(記録入力1!C50,初期設定1!$C$18:$F$59,3,FALSE)&\" \"&RIGHT(記録入力1!N50,7))","v":""},null,{"$f":"IF(B48=\"\",\"\",記録入力1!I50)","v":{"$error":"#N/A"}}]
[{"$f":"IF(B49=\"\",\"\",記録入力1!C51)","v":{"$error":"#N/A"}},{"$f":"VLOOKUP($H49,女子選手!$B$2:$G$158,6,FALSE)","v":{"$error":"#N/A"}},{"$f":"IF($H49=\"\",\"\",VLOOKUP($H49,女子選手!$B$2:$D$158,2,FALSE))","v":""},{"$f":"IF($H49=\"\",\"\",VLOOKUP($H49,女子選手!$B$2:$D$158,3,FALSE))","v":""},"","",{"$f":"IF(H49=\"\",\"\",VALUE(MID(VLOOKUP($H49,女子選手!$B$2:$G$158,6,FALSE),2,6)))","v":""},{"$f":"記録入力1!J51","v":""},{"$f":"IF(H49=\"\",\"\",VLOOKUP(記録入力1!C51,初期設定1!$C$18:$F$59,3,FALSE)&\" \"&RIGHT(記録入力1!N51,7))","v":""},null,{"$f":"IF(B49=\"\",\"\",記録入力1!I51)","v":{"$error":"#N/A"}}]
[{"$f":"IF(B50=\"\",\"\",記録入力1!C52)","v":{"$error":"#N/A"}},{"$f":"VLOOKUP($H50,女子選手!$B$2:$G$158,6,FALSE)","v":{"$error":"#N/A"}},{"$f":"IF($H50=\"\",\"\",VLOOKUP($H50,女子選手!$B$2:$D$158,2,FALSE))","v":""},{"$f":"IF($H50=\"\",\"\",VLOOKUP($H50,女子選手!$B$2:$D$158,3,FALSE))","v":""},"","",{"$f":"IF(H50=\"\",\"\",VALUE(MID(VLOOKUP($H50,女子選手!$B$2:$G$158,6,FALSE),2,6)))","v":""},{"$f":"記録入力1!J52","v":""},{"$f":"IF(H50=\"\",\"\",VLOOKUP(記録入力1!C52,初期設定1!$C$18:$F$59,3,FALSE)&\" \"&RIGHT(記録入力1!N52,7))","v":""},null,{"$f":"IF(B50=\"\",\"\",記録入力1!I52)","v":{"$error":"#N/A"}}]
[{"$f":"IF(B51=\"\",\"\",記録入力1!C53)","v":{"$error":"#N/A"}},{"$f":"VLOOKUP($H51,女子選手!$B$2:$G$158,6,FALSE)","v":{"$error":"#N/A"}},{"$f":"IF($H51=\"\",\"\",VLOOKUP($H51,女子選手!$B$2:$D$158,2,FALSE))","v":""},{"$f":"IF($H51=\"\",\"\",VLOOKUP($H51,女子選手!$B$2:$D$158,3,FALSE))","v":""},"","",{"$f":"IF(H51=\"\",\"\",VALUE(MID(VLOOKUP($H51,女子選手!$B$2:$G$158,6,FALSE),2,6)))","v":""},{"$f":"記録入力1!J53","v":""},{"$f":"IF(H51=\"\",\"\",VLOOKUP(記録入力1!C53,初期設定1!$C$18:$F$59,3,FALSE)&\" \"&RIGHT(記録入力1!N53,7))","v":""},null,{"$f":"IF(B51=\"\",\"\",記録入力1!I53)","v":{"$error":"#N/A"}}]
[{"$f":"IF(B52=\"\",\"\",記録入力1!C54)","v":{"$error":"#N/A"}},{"$f":"VLOOKUP($H52,女子選手!$B$2:$G$158,6,FALSE)","v":{"$error":"#N/A"}},{"$f":"IF($H52=\"\",\"\",VLOOKUP($H52,女子選手!$B$2:$D$158,2,FALSE))","v":""},{"$f":"IF($H52=\"\",\"\",VLOOKUP($H52,女子選手!$B$2:$D$158,3,FALSE))","v":""},"","",{"$f":"IF(H52=\"\",\"\",VALUE(MID(VLOOKUP($H52,女子選手!$B$2:$G$158,6,FALSE),2,6)))","v":""},{"$f":"記録入力1!J54","v":""},{"$f":"IF(H52=\"\",\"\",VLOOKUP(記録入力1!C54,初期設定1!$C$18:$F$59,3,FALSE)&\" \"&RIGHT(記録入力1!N54,7))","v":""},null,{"$f":"IF(B52=\"\",\"\",記録入力1!I54)","v":{"$error":"#N/A"}}]
[{"$f":"IF(B53=\"\",\"\",記録入力1!C55)","v":{"$error":"#N/A"}},{"$f":"VLOOKUP($H53,女子選手!$B$2:$G$158,6,FALSE)","v":{"$error":"#N/A"}},{"$f":"IF($H53=\"\",\"\",VLOOKUP($H53,女子選手!$B$2:$D$158,2,FALSE))","v":""},{"$f":"IF($H53=\"\",\"\",VLOOKUP($H53,女子選手!$B$2:$D$158,3,FALSE))","v":""},"","",{"$f":"IF(H53=\"\",\"\",VALUE(MID(VLOOKUP($H53,女子選手!$B$2:$G$158,6,FALSE),2,6)))","v":""},{"$f":"記録入力1!J55","v":""},{"$f":"IF(H53=\"\",\"\",VLOOKUP(記録入力1!C55,初期設定1!$C$18:$F$59,3,FALSE)&\" \"&RIGHT(記録入力1!N55,7))","v":""},null,{"$f":"IF(B53=\"\",\"\",記録入力1!I55)","v":{"$error":"#N/A"}}]
[{"$f":"IF(B54=\"\",\"\",記録入力1!C56)","v":{"$error":"#N/A"}},{"$f":"VLOOKUP($H54,女子選手!$B$2:$G$158,6,FALSE)","v":{"$error":"#N/A"}},{"$f":"IF($H54=\"\",\"\",VLOOKUP($H54,女子選手!$B$2:$D$158,2,FALSE))","v":""},{"$f":"IF($H54=\"\",\"\",VLOOKUP($H54,女子選手!$B$2:$D$158,3,FALSE))","v":""},"","",{"$f":"IF(H54=\"\",\"\",VALUE(MID(VLOOKUP($H54,女子選手!$B$2:$G$158,6,FALSE),2,6)))","v":""},{"$f":"記録入力1!J56","v":""},{"$f":"IF(H54=\"\",\"\",VLOOKUP(記録入力1!C56,初期設定1!$C$18:$F$59,3,FALSE)&\" \"&RIGHT(記録入力1!N56,7))","v":""},null,{"$f":"IF(B54=\"\",\"\",記録入力1!I56)","v":{"$error":"#N/A"}}]
[{"$f":"IF(B55=\"\",\"\",記録入力1!C57)","v":{"$error":"#N/A"}},{"$f":"VLOOKUP($H55,女子選手!$B$2:$G$158,6,FALSE)","v":{"$error":"#N/A"}},{"$f":"IF($H55=\"\",\"\",VLOOKUP($H55,女子選手!$B$2:$D$158,2,FALSE))","v":""},{"$f":"IF($H55=\"\",\"\",VLOOKUP($H55,女子選手!$B$2:$D$158,3,FALSE))","v":""},"","",{"$f":"IF(H55=\"\",\"\",VALUE(MID(VLOOKUP($H55,女子選手!$B$2:$G$158,6,FALSE),2,6)))","v":""},{"$f":"記録入力1!J57","v":""},{"$f":"IF(H55=\"\",\"\",VLOOKUP(記録入力1!C57,初期設定1!$C$18:$F$59,3,FALSE)&\" \"&RIGHT(記録入力1!N57,7))","v":""},null,{"$f":"IF(B55=\"\",\"\",記録入力1!I57)","v":{"$error":"#N/A"}}]
[{"$f":"IF(B56=\"\",\"\",記録入力1!C58)","v":{"$error":"#N/A"}},{"$f":"VLOOKUP($H56,女子選手!$B$2:$G$158,6,FALSE)","v":{"$error":"#N/A"}},{"$f":"IF($H56=\"\",\"\",VLOOKUP($H56,女子選手!$B$2:$D$158,2,FALSE))","v":""},{"$f":"IF($H56=\"\",\"\",VLOOKUP($H56,女子選手!$B$2:$D$158,3,FALSE))","v":""},"","",{"$f":"IF(H56=\"\",\"\",VALUE(MID(VLOOKUP($H56,女子選手!$B$2:$G$158,6,FALSE),2,6)))","v":""},{"$f":"記録入力1!J58","v":""},{"$f":"IF(H56=\"\",\"\",VLOOKUP(記録入力1!C58,初期設定1!$C$18:$F$59,3,FALSE)&\" \"&RIGHT(記録入力1!N58,7))","v":""},null,{"$f":"IF(B56=\"\",\"\",記録入力1!I58)","v":{"$error":"#N/A"}}]
[{"$f":"IF(B57=\"\",\"\",記録入力1!C59)","v":{"$error":"#N/A"}},{"$f":"VLOOKUP($H57,女子選手!$B$2:$G$158,6,FALSE)","v":{"$error":"#N/A"}},{"$f":"IF($H57=\"\",\"\",VLOOKUP($H57,女子選手!$B$2:$D$158,2,FALSE))","v":""},{"$f":"IF($H57=\"\",\"\",VLOOKUP($H57,女子選手!$B$2:$D$158,3,FALSE))","v":""},"","",{"$f":"IF(H57=\"\",\"\",VALUE(MID(VLOOKUP($H57,女子選手!$B$2:$G$158,6,FALSE),2,6)))","v":""},{"$f":"記録入力1!J59","v":""},{"$f":"IF(H57=\"\",\"\",VLOOKUP(記録入力1!C59,初期設定1!$C$18:$F$59,3,FALSE)&\" \"&RIGHT(記録入力1!N59,7))","v":""},null,{"$f":"IF(B57=\"\",\"\",記録入力1!I59)","v":{"$error":"#N/A"}}]
[{"$f":"IF(B58=\"\",\"\",記録入力1!C60)","v":{"$error":"#N/A"}},{"$f":"VLOOKUP($H58,女子選手!$B$2:$G$158,6,FALSE)","v":{"$error":"#N/A"}},{"$f":"IF($H58=\"\",\"\",VLOOKUP($H58,女子選手!$B$2:$D$158,2,FALSE))","v":""},{"$f":"IF($H58=\"\",\"\",VLOOKUP($H58,女子選手!$B$2:$D$158,3,FALSE))","v":""},"","",{"$f":"IF(H58=\"\",\"\",VALUE(MID(VLOOKUP($H58,女子選手!$B$2:$G$158,6,FALSE),2,6)))","v":""},{"$f":"記録入力1!J60","v":""},{"$f":"IF(H58=\"\",\"\",VLOOKUP(記録入力1!C60,初期設定1!$C$18:$F$59,3,FALSE)&\" \"&RIGHT(記録入力1!N60,7))","v":""},null,{"$f":"IF(B58=\"\",\"\",記録入力1!I60)","v":{"$error":"#N/A"}}]
[{"$f":"IF(B59=\"\",\"\",記録入力1!C61)","v":{"$error":"#N/A"}},{"$f":"VLOOKUP($H59,女子選手!$B$2:$G$158,6,FALSE)","v":{"$error":"#N/A"}},{"$f":"IF($H59=\"\",\"\",VLOOKUP($H59,女子選手!$B$2:$D$158,2,FALSE))","v":""},{"$f":"IF($H59=\"\",\"\",VLOOKUP($H59,女子選手!$B$2:$D$158,3,FALSE))","v":""},"","",{"$f":"IF(H59=\"\",\"\",VALUE(MID(VLOOKUP($H59,女子選手!$B$2:$G$158,6,FALSE),2,6)))","v":""},{"$f":"記録入力1!J61","v":""},{"$f":"IF(H59=\"\",\"\",VLOOKUP(記録入力1!C61,初期設定1!$C$18:$F$59,3,FALSE)&\" \"&RIGHT(記録入力1!N61,7))","v":""},null,{"$f":"IF(B59=\"\",\"\",記録入力1!I61)","v":{"$error":"#N/A"}}]
[{"$f":"IF(B60=\"\",\"\",記録入力1!C62)","v":{"$error":"#N/A"}},{"$f":"VLOOKUP($H60,女子選手!$B$2:$G$158,6,FALSE)","v":{"$error":"#N/A"}},{"$f":"IF($H60=\"\",\"\",VLOOKUP($H60,女子選手!$B$2:$D$158,2,FALSE))","v":""},{"$f":"IF($H60=\"\",\"\",VLOOKUP($H60,女子選手!$B$2:$D$158,3,FALSE))","v":""},"","",{"$f":"IF(H60=\"\",\"\",VALUE(MID(VLOOKUP($H60,女子選手!$B$2:$G$158,6,FALSE),2,6)))","v":""},{"$f":"記録入力1!J62","v":""},{"$f":"IF(H60=\"\",\"\",VLOOKUP(記録入力1!C62,初期設定1!$C$18:$F$59,3,FALSE)&\" \"&RIGHT(記録入力1!N62,7))","v":""},null,{"$f":"IF(B60=\"\",\"\",記録入力1!I62)","v":{"$error":"#N/A"}}]
[{"$f":"IF(B61=\"\",\"\",記録入力1!C63)","v":{"$error":"#N/A"}},{"$f":"VLOOKUP($H61,女子選手!$B$2:$G$158,6,FALSE)","v":{"$error":"#N/A"}},{"$f":"IF($H61=\"\",\"\",VLOOKUP($H61,女子選手!$B$2:$D$158,2,FALSE))","v":""},{"$f":"IF($H61=\"\",\"\",VLOOKUP($H61,女子選手!$B$2:$D$158,3,FALSE))","v":""},"","",{"$f":"IF(H61=\"\",\"\",VALUE(MID(VLOOKUP($H61,女子選手!$B$2:$G$158,6,FALSE),2,6)))","v":""},{"$f":"記録入力1!J63","v":""},{"$f":"IF(H61=\"\",\"\",VLOOKUP(記録入力1!C63,初期設定1!$C$18:$F$59,3,FALSE)&\" \"&RIGHT(記録入力1!N63,7))","v":""},null,{"$f":"IF(B61=\"\",\"\",記録入力1!I63)","v":{"$error":"#N/A"}}]
[{"$f":"IF(B62=\"\",\"\",記録入力1!C64)","v":{"$error":"#N/A"}},{"$f":"VLOOKUP($H62,女子選手!$B$2:$G$158,6,FALSE)","v":{"$error":"#N/A"}},{"$f":"IF($H62=\"\",\"\",VLOOKUP($H62,女子選手!$B$2:$D$158,2,FALSE))","v":""},{"$f":"IF($H62=\"\",\"\",VLOOKUP($H62,女子選手!$B$2:$D$158,3,FALSE))","v":""},"","",{"$f":"IF(H62=\"\",\"\",VALUE(MID(VLOOKUP($H62,女子選手!$B$2:$G$158,6,FALSE),2,6)))","v":""},{"$f":"記録入力1!J64","v":""},{"$f":"IF(H62=\"\",\"\",VLOOKUP(記録入力1!C64,初期設定1!$C$18:$F$59,3,FALSE)&\" \"&RIGHT(記録入力1!N64,7))","v":""},null,{"$f":"IF(B62=\"\",\"\",記録入力1!I64)","v":{"$error":"#N/A"}}]
[{"$f":"IF(B63=\"\",\"\",記録入力1!C65)","v":{"$error":"#N/A"}},{"$f":"VLOOKUP($H63,女子選手!$B$2:$G$158,6,FALSE)","v":{"$error":"#N/A"}},{"$f":"IF($H63=\"\",\"\",VLOOKUP($H63,女子選手!$B$2:$D$158,2,FALSE))","v":""},{"$f":"IF($H63=\"\",\"\",VLOOKUP($H63,女子選手!$B$2:$D$158,3,FALSE))","v":""},"","",{"$f":"IF(H63=\"\",\"\",VALUE(MID(VLOOKUP($H63,女子選手!$B$2:$G$158,6,FALSE),2,6)))","v":""},{"$f":"記録入力1!J65","v":""},{"$f":"IF(H63=\"\",\"\",VLOOKUP(記録入力1!C65,初期設定1!$C$18:$F$59,3,FALSE)&\" \"&RIGHT(記録入力1!N65,7))","v":""},null,{"$f":"IF(B63=\"\",\"\",記録入力1!I65)","v":{"$error":"#N/A"}}]
[{"$f":"IF(B64=\"\",\"\",記録入力1!C66)","v":{"$error":"#N/A"}},{"$f":"VLOOKUP($H64,女子選手!$B$2:$G$158,6,FALSE)","v":{"$error":"#N/A"}},{"$f":"IF($H64=\"\",\"\",VLOOKUP($H64,女子選手!$B$2:$D$158,2,FALSE))","v":""},{"$f":"IF($H64=\"\",\"\",VLOOKUP($H64,女子選手!$B$2:$D$158,3,FALSE))","v":""},"","",{"$f":"IF(H64=\"\",\"\",VALUE(MID(VLOOKUP($H64,女子選手!$B$2:$G$158,6,FALSE),2,6)))","v":""},{"$f":"記録入力1!J66","v":""},{"$f":"IF(H64=\"\",\"\",VLOOKUP(記録入力1!C66,初期設定1!$C$18:$F$59,3,FALSE)&\" \"&RIGHT(記録入力1!N66,7))","v":""},null,{"$f":"IF(B64=\"\",\"\",記録入力1!I66)","v":{"$error":"#N/A"}}]
[{"$f":"IF(B65=\"\",\"\",記録入力1!C67)","v":{"$error":"#N/A"}},{"$f":"VLOOKUP($H65,女子選手!$B$2:$G$158,6,FALSE)","v":{"$error":"#N/A"}},{"$f":"IF($H65=\"\",\"\",VLOOKUP($H65,女子選手!$B$2:$D$158,2,FALSE))","v":""},{"$f":"IF($H65=\"\",\"\",VLOOKUP($H65,女子選手!$B$2:$D$158,3,FALSE))","v":""},"","",{"$f":"IF(H65=\"\",\"\",VALUE(MID(VLOOKUP($H65,女子選手!$B$2:$G$158,6,FALSE),2,6)))","v":""},{"$f":"記録入力1!J67","v":""},{"$f":"IF(H65=\"\",\"\",VLOOKUP(記録入力1!C67,初期設定1!$C$18:$F$59,3,FALSE)&\" \"&RIGHT(記録入力1!N67,7))","v":""},null,{"$f":"IF(B65=\"\",\"\",記録入力1!I67)","v":{"$error":"#N/A"}}]
[{"$f":"IF(B66=\"\",\"\",記録入力1!C68)","v":{"$error":"#N/A"}},{"$f":"VLOOKUP($H66,女子選手!$B$2:$G$158,6,FALSE)","v":{"$error":"#N/A"}},{"$f":"IF($H66=\"\",\"\",VLOOKUP($H66,女子選手!$B$2:$D$158,2,FALSE))","v":""},{"$f":"IF($H66=\"\",\"\",VLOOKUP($H66,女子選手!$B$2:$D$158,3,FALSE))","v":""},"","",{"$f":"IF(H66=\"\",\"\",VALUE(MID(VLOOKUP($H66,女子選手!$B$2:$G$158,6,FALSE),2,6)))","v":""},{"$f":"記録入力1!J68","v":""},{"$f":"IF(H66=\"\",\"\",VLOOKUP(記録入力1!C68,初期設定1!$C$18:$F$59,3,FALSE)&\" \"&RIGHT(記録入力1!N68,7))","v":""},null,{"$f":"IF(B66=\"\",\"\",記録入力1!I68)","v":{"$error":"#N/A"}}]
[{"$f":"IF(B67=\"\",\"\",記録入力1!C69)","v":{"$error":"#N/A"}},{"$f":"VLOOKUP($H67,女子選手!$B$2:$G$158,6,FALSE)","v":{"$error":"#N/A"}},{"$f":"IF($H67=\"\",\"\",VLOOKUP($H67,女子選手!$B$2:$D$158,2,FALSE))","v":""},{"$f":"IF($H67=\"\",\"\",VLOOKUP($H67,女子選手!$B$2:$D$158,3,FALSE))","v":""},{"$f":"IF(H67=\"\",\"\",2)","v":""},{"$f":"IF(H67=\"\",\"\",2)","v":""},{"$f":"IF(H67=\"\",\"\",VALUE(MID(VLOOKUP($H67,女子選手!$B$2:$G$158,6,FALSE),2,6)))","v":""},{"$f":"記録入力1!J69","v":""},{"$f":"IF(H67=\"\",\"\",VLOOKUP(記録入力1!C69,初期設定1!$C$18:$F$59,3,FALSE)&\" \"&RIGHT(記録入力1!N69,7))","v":""},null,{"$f":"IF(B67=\"\",\"\",記録入力1!I69)","v":{"$error":"#N/A"}}]
[{"$f":"IF(B68=\"\",\"\",記録入力1!C70)","v":{"$error":"#N/A"}},{"$f":"VLOOKUP($H68,女子選手!$B$2:$G$158,6,FALSE)","v":{"$error":"#N/A"}},{"$f":"IF($H68=\"\",\"\",VLOOKUP($H68,女子選手!$B$2:$D$158,2,FALSE))","v":""},{"$f":"IF($H68=\"\",\"\",VLOOKUP($H68,女子選手!$B$2:$D$158,3,FALSE))","v":""},"","",{"$f":"IF(H68=\"\",\"\",VALUE(MID(VLOOKUP($H68,女子選手!$B$2:$G$158,6,FALSE),2,6)))","v":""},{"$f":"記録入力1!J70","v":""},{"$f":"IF(H68=\"\",\"\",VLOOKUP(記録入力1!C70,初期設定1!$C$18:$F$59,3,FALSE)&\" \"&RIGHT(記録入力1!N70,7))","v":""},null,{"$f":"IF(B68=\"\",\"\",記録入力1!I70)","v":{"$error":"#N/A"}}]
[{"$f":"IF(B69=\"\",\"\",記録入力1!C71)","v":{"$error":"#N/A"}},{"$f":"VLOOKUP($H69,女子選手!$B$2:$G$158,6,FALSE)","v":{"$error":"#N/A"}},{"$f":"IF($H69=\"\",\"\",VLOOKUP($H69,女子選手!$B$2:$D$158,2,FALSE))","v":""},{"$f":"IF($H69=\"\",\"\",VLOOKUP($H69,女子選手!$B$2:$D$158,3,FALSE))","v":""},"","",{"$f":"IF(H69=\"\",\"\",VALUE(MID(VLOOKUP($H69,女子選手!$B$2:$G$158,6,FALSE),2,6)))","v":""},{"$f":"記録入力1!J71","v":""},{"$f":"IF(H69=\"\",\"\",VLOOKUP(記録入力1!C71,初期設定1!$C$18:$F$59,3,FALSE)&\" \"&RIGHT(記録入力1!N71,7))","v":""},null,{"$f":"IF(B69=\"\",\"\",記録入力1!I71)","v":{"$error":"#N/A"}}]
[{"$f":"IF(B70=\"\",\"\",記録入力1!C72)","v":{"$error":"#N/A"}},{"$f":"VLOOKUP($H70,女子選手!$B$2:$G$158,6,FALSE)","v":{"$error":"#N/A"}},{"$f":"IF($H70=\"\",\"\",VLOOKUP($H70,女子選手!$B$2:$D$158,2,FALSE))","v":""},{"$f":"IF($H70=\"\",\"\",VLOOKUP($H70,女子選手!$B$2:$D$158,3,FALSE))","v":""},"","",{"$f":"IF(H70=\"\",\"\",VALUE(MID(VLOOKUP($H70,女子選手!$B$2:$G$158,6,FALSE),2,6)))","v":""},{"$f":"記録入力1!J72","v":""},{"$f":"IF(H70=\"\",\"\",VLOOKUP(記録入力1!C72,初期設定1!$C$18:$F$59,3,FALSE)&\" \"&RIGHT(記録入力1!N72,7))","v":""},null,{"$f":"IF(B70=\"\",\"\",記録入力1!I72)","v":{"$error":"#N/A"}}]
[{"$f":"IF(B71=\"\",\"\",記録入力1!C73)","v":{"$error":"#N/A"}},{"$f":"VLOOKUP($H71,女子選手!$B$2:$G$158,6,FALSE)","v":{"$error":"#N/A"}},{"$f":"IF($H71=\"\",\"\",VLOOKUP($H71,女子選手!$B$2:$D$158,2,FALSE))","v":""},{"$f":"IF($H71=\"\",\"\",VLOOKUP($H71,女子選手!$B$2:$D$158,3,FALSE))","v":""},"","",{"$f":"IF(H71=\"\",\"\",VALUE(MID(VLOOKUP($H71,女子選手!$B$2:$G$158,6,FALSE),2,6)))","v":""},{"$f":"記録入力1!J73","v":""},{"$f":"IF(H71=\"\",\"\",VLOOKUP(記録入力1!C73,初期設定1!$C$18:$F$59,3,FALSE)&\" \"&RIGHT(記録入力1!N73,7))","v":""},null,{"$f":"IF(B71=\"\",\"\",記録入力1!I73)","v":{"$error":"#N/A"}}]
[{"$f":"IF(B72=\"\",\"\",記録入力1!C74)","v":{"$error":"#N/A"}},{"$f":"VLOOKUP($H72,女子選手!$B$2:$G$158,6,FALSE)","v":{"$error":"#N/A"}},{"$f":"IF($H72=\"\",\"\",VLOOKUP($H72,女子選手!$B$2:$D$158,2,FALSE))","v":""},{"$f":"IF($H72=\"\",\"\",VLOOKUP($H72,女子選手!$B$2:$D$158,3,FALSE))","v":""},"","",{"$f":"IF(H72=\"\",\"\",VALUE(MID(VLOOKUP($H72,女子選手!$B$2:$G$158,6,FALSE),2,6)))","v":""},{"$f":"記録入力1!J74","v":""},{"$f":"IF(H72=\"\",\"\",VLOOKUP(記録入力1!C74,初期設定1!$C$18:$F$59,3,FALSE)&\" \"&RIGHT(記録入力1!N74,7))","v":""},null,{"$f":"IF(B72=\"\",\"\",記録入力1!I74)","v":{"$error":"#N/A"}}]
[{"$f":"IF(B73=\"\",\"\",記録入力1!C75)","v":{"$error":"#N/A"}},{"$f":"VLOOKUP($H73,女子選手!$B$2:$G$158,6,FALSE)","v":{"$error":"#N/A"}},{"$f":"IF($H73=\"\",\"\",VLOOKUP($H73,女子選手!$B$2:$D$158,2,FALSE))","v":""},{"$f":"IF($H73=\"\",\"\",VLOOKUP($H73,女子選手!$B$2:$D$158,3,FALSE))","v":""},"","",{"$f":"IF(H73=\"\",\"\",VALUE(MID(VLOOKUP($H73,女子選手!$B$2:$G$158,6,FALSE),2,6)))","v":""},{"$f":"記録入力1!J75","v":""},{"$f":"IF(H73=\"\",\"\",VLOOKUP(記録入力1!C75,初期設定1!$C$18:$F$59,3,FALSE)&\" \"&RIGHT(記録入力1!N75,7))","v":""},null,{"$f":"IF(B73=\"\",\"\",記録入力1!I75)","v":{"$error":"#N/A"}}]
[{"$f":"IF(B74=\"\",\"\",記録入力1!C76)","v":{"$error":"#N/A"}},{"$f":"VLOOKUP($H74,女子選手!$B$2:$G$158,6,FALSE)","v":{"$error":"#N/A"}},{"$f":"IF($H74=\"\",\"\",VLOOKUP($H74,女子選手!$B$2:$D$158,2,FALSE))","v":""},{"$f":"IF($H74=\"\",\"\",VLOOKUP($H74,女子選手!$B$2:$D$158,3,FALSE))","v":""},"","",{"$f":"IF(H74=\"\",\"\",VALUE(MID(VLOOKUP($H74,女子選手!$B$2:$G$158,6,FALSE),2,6)))","v":""},{"$f":"記録入力1!J76","v":""},{"$f":"IF(H74=\"\",\"\",VLOOKUP(記録入力1!C76,初期設定1!$C$18:$F$59,3,FALSE)&\" \"&RIGHT(記録入力1!N76,7))","v":""},null,{"$f":"IF(B74=\"\",\"\",記録入力1!I76)","v":{"$error":"#N/A"}}]
[{"$f":"IF(B75=\"\",\"\",記録入力1!C77)","v":{"$error":"#N/A"}},{"$f":"VLOOKUP($H75,女子選手!$B$2:$G$158,6,FALSE)","v":{"$error":"#N/A"}},{"$f":"IF($H75=\"\",\"\",VLOOKUP($H75,女子選手!$B$2:$D$158,2,FALSE))","v":""},{"$f":"IF($H75=\"\",\"\",VLOOKUP($H75,女子選手!$B$2:$D$158,3,FALSE))","v":""},"","",{"$f":"IF(H75=\"\",\"\",VALUE(MID(VLOOKUP($H75,女子選手!$B$2:$G$158,6,FALSE),2,6)))","v":""},{"$f":"記録入力1!J77","v":""},{"$f":"IF(H75=\"\",\"\",VLOOKUP(記録入力1!C77,初期設定1!$C$18:$F$59,3,FALSE)&\" \"&RIGHT(記録入力1!N77,7))","v":""},null,{"$f":"IF(B75=\"\",\"\",記録入力1!I77)","v":{"$error":"#N/A"}}]
[{"$f":"IF(B76=\"\",\"\",記録入力1!C78)","v":{"$error":"#N/A"}},{"$f":"VLOOKUP($H76,女子選手!$B$2:$G$158,6,FALSE)","v":{"$error":"#N/A"}},{"$f":"IF($H76=\"\",\"\",VLOOKUP($H76,女子選手!$B$2:$D$158,2,FALSE))","v":""},{"$f":"IF($H76=\"\",\"\",VLOOKUP($H76,女子選手!$B$2:$D$158,3,FALSE))","v":""},"","",{"$f":"IF(H76=\"\",\"\",VALUE(MID(VLOOKUP($H76,女子選手!$B$2:$G$158,6,FALSE),2,6)))","v":""},{"$f":"記録入力1!J78","v":""},{"$f":"IF(H76=\"\",\"\",VLOOKUP(記録入力1!C78,初期設定1!$C$18:$F$59,3,FALSE)&\" \"&RIGHT(記録入力1!N78,7))","v":""},null,{"$f":"IF(B76=\"\",\"\",記録入力1!I78)","v":{"$error":"#N/A"}}]
[{"$f":"IF(B77=\"\",\"\",記録入力1!C79)","v":{"$error":"#N/A"}},{"$f":"VLOOKUP($H77,女子選手!$B$2:$G$158,6,FALSE)","v":{"$error":"#N/A"}},{"$f":"IF($H77=\"\",\"\",VLOOKUP($H77,女子選手!$B$2:$D$158,2,FALSE))","v":""},{"$f":"IF($H77=\"\",\"\",VLOOKUP($H77,女子選手!$B$2:$D$158,3,FALSE))","v":""},"","",{"$f":"IF(H77=\"\",\"\",VALUE(MID(VLOOKUP($H77,女子選手!$B$2:$G$158,6,FALSE),2,6)))","v":""},{"$f":"記録入力1!J79","v":""},{"$f":"IF(H77=\"\",\"\",VLOOKUP(記録入力1!C79,初期設定1!$C$18:$F$59,3,FALSE)&\" \"&RIGHT(記録入力1!N79,7))","v":""},null,{"$f":"IF(B77=\"\",\"\",記録入力1!I79)","v":{"$error":"#N/A"}}]
[{"$f":"IF(B78=\"\",\"\",記録入力1!C80)","v":{"$error":"#N/A"}},{"$f":"VLOOKUP($H78,女子選手!$B$2:$G$158,6,FALSE)","v":{"$error":"#N/A"}},{"$f":"IF($H78=\"\",\"\",VLOOKUP($H78,女子選手!$B$2:$D$158,2,FALSE))","v":""},{"$f":"IF($H78=\"\",\"\",VLOOKUP($H78,女子選手!$B$2:$D$158,3,FALSE))","v":""},"","",{"$f":"IF(H78=\"\",\"\",VALUE(MID(VLOOKUP($H78,女子選手!$B$2:$G$158,6,FALSE),2,6)))","v":""},{"$f":"記録入力1!J80","v":""},{"$f":"IF(H78=\"\",\"\",VLOOKUP(記録入力1!C80,初期設定1!$C$18:$F$59,3,FALSE)&\" \"&RIGHT(記録入力1!N80,7))","v":""},null,{"$f":"IF(B78=\"\",\"\",記録入力1!I80)","v":{"$error":"#N/A"}}]
[{"$f":"IF(B79=\"\",\"\",記録入力1!C81)","v":{"$error":"#N/A"}},{"$f":"VLOOKUP($H79,女子選手!$B$2:$G$158,6,FALSE)","v":{"$error":"#N/A"}},{"$f":"IF($H79=\"\",\"\",VLOOKUP($H79,女子選手!$B$2:$D$158,2,FALSE))","v":""},{"$f":"IF($H79=\"\",\"\",VLOOKUP($H79,女子選手!$B$2:$D$158,3,FALSE))","v":""},"","",{"$f":"IF(H79=\"\",\"\",VALUE(MID(VLOOKUP($H79,女子選手!$B$2:$G$158,6,FALSE),2,6)))","v":""},{"$f":"記録入力1!J81","v":""},{"$f":"IF(H79=\"\",\"\",VLOOKUP(記録入力1!C81,初期設定1!$C$18:$F$59,3,FALSE)&\" \"&RIGHT(記録入力1!N81,7))","v":""},null,{"$f":"IF(B79=\"\",\"\",記録入力1!I81)","v":{"$error":"#N/A"}}]
[{"$f":"IF(B80=\"\",\"\",記録入力1!C82)","v":{"$error":"#N/A"}},{"$f":"VLOOKUP($H80,女子選手!$B$2:$G$158,6,FALSE)","v":{"$error":"#N/A"}},{"$f":"IF($H80=\"\",\"\",VLOOKUP($H80,女子選手!$B$2:$D$158,2,FALSE))","v":""},{"$f":"IF($H80=\"\",\"\",VLOOKUP($H80,女子選手!$B$2:$D$158,3,FALSE))","v":""},"","",{"$f":"IF(H80=\"\",\"\",VALUE(MID(VLOOKUP($H80,女子選手!$B$2:$G$158,6,FALSE),2,6)))","v":""},{"$f":"記録入力1!J82","v":""},{"$f":"IF(H80=\"\",\"\",VLOOKUP(記録入力1!C82,初期設定1!$C$18:$F$59,3,FALSE)&\" \"&RIGHT(記録入力1!N82,7))","v":""},null,{"$f":"IF(B80=\"\",\"\",記録入力1!I82)","v":{"$error":"#N/A"}}]
[{"$f":"IF(B81=\"\",\"\",記録入力1!C83)","v":{"$error":"#N/A"}},{"$f":"VLOOKUP($H81,女子選手!$B$2:$G$158,6,FALSE)","v":{"$error":"#N/A"}},{"$f":"IF($H81=\"\",\"\",VLOOKUP($H81,女子選手!$B$2:$D$158,2,FALSE))","v":""},{"$f":"IF($H81=\"\",\"\",VLOOKUP($H81,女子選手!$B$2:$D$158,3,FALSE))","v":""},"","",{"$f":"IF(H81=\"\",\"\",VALUE(MID(VLOOKUP($H81,女子選手!$B$2:$G$158,6,FALSE),2,6)))","v":""},{"$f":"記録入力1!J83","v":""},{"$f":"IF(H81=\"\",\"\",VLOOKUP(記録入力1!C83,初期設定1!$C$18:$F$59,3,FALSE)&\" \"&RIGHT(記録入力1!N83,7))","v":""},null,{"$f":"IF(B81=\"\",\"\",記録入力1!I83)","v":{"$error":"#N/A"}}]
[{"$f":"IF(B82=\"\",\"\",記録入力1!C84)","v":{"$error":"#N/A"}},{"$f":"VLOOKUP($H82,女子選手!$B$2:$G$158,6,FALSE)","v":{"$error":"#N/A"}},{"$f":"IF($H82=\"\",\"\",VLOOKUP($H82,女子選手!$B$2:$D$158,2,FALSE))","v":""},{"$f":"IF($H82=\"\",\"\",VLOOKUP($H82,女子選手!$B$2:$D$158,3,FALSE))","v":""},"","",{"$f":"IF(H82=\"\",\"\",VALUE(MID(VLOOKUP($H82,女子選手!$B$2:$G$158,6,FALSE),2,6)))","v":""},{"$f":"記録入力1!J84","v":""},{"$f":"IF(H82=\"\",\"\",VLOOKUP(記録入力1!C84,初期設定1!$C$18:$F$59,3,FALSE)&\" \"&RIGHT(記録入力1!N84,7))","v":""},null,{"$f":"IF(B82=\"\",\"\",記録入力1!I84)","v":{"$error":"#N/A"}}]
[{"$f":"IF(B83=\"\",\"\",記録入力1!C85)","v":{"$error":"#N/A"}},{"$f":"VLOOKUP($H83,女子選手!$B$2:$G$158,6,FALSE)","v":{"$error":"#N/A"}},{"$f":"IF($H83=\"\",\"\",VLOOKUP($H83,女子選手!$B$2:$D$158,2,FALSE))","v":""},{"$f":"IF($H83=\"\",\"\",VLOOKUP($H83,女子選手!$B$2:$D$158,3,FALSE))","v":""},"","",{"$f":"IF(H83=\"\",\"\",VALUE(MID(VLOOKUP($H83,女子選手!$B$2:$G$158,6,FALSE),2,6)))","v":""},{"$f":"記録入力1!J85","v":""},{"$f":"IF(H83=\"\",\"\",VLOOKUP(記録入力1!C85,初期設定1!$C$18:$F$59,3,FALSE)&\" \"&RIGHT(記録入力1!N85,7))","v":""},null,{"$f":"IF(B83=\"\",\"\",記録入力1!I85)","v":{"$error":"#N/A"}}]
[{"$f":"IF(B84=\"\",\"\",記録入力1!C86)","v":{"$error":"#N/A"}},{"$f":"VLOOKUP($H84,女子選手!$B$2:$G$158,6,FALSE)","v":{"$error":"#N/A"}},{"$f":"IF($H84=\"\",\"\",VLOOKUP($H84,女子選手!$B$2:$D$158,2,FALSE))","v":""},{"$f":"IF($H84=\"\",\"\",VLOOKUP($H84,女子選手!$B$2:$D$158,3,FALSE))","v":""},"","",{"$f":"IF(H84=\"\",\"\",VALUE(MID(VLOOKUP($H84,女子選手!$B$2:$G$158,6,FALSE),2,6)))","v":""},{"$f":"記録入力1!J86","v":""},{"$f":"IF(H84=\"\",\"\",VLOOKUP(記録入力1!C86,初期設定1!$C$18:$F$59,3,FALSE)&\" \"&RIGHT(記録入力1!N86,7))","v":""},null,{"$f":"IF(B84=\"\",\"\",記録入力1!I86)","v":{"$error":"#N/A"}}]
[{"$f":"IF(B85=\"\",\"\",記録入力1!C87)","v":{"$error":"#N/A"}},{"$f":"VLOOKUP($H85,女子選手!$B$2:$G$158,6,FALSE)","v":{"$error":"#N/A"}},{"$f":"IF($H85=\"\",\"\",VLOOKUP($H85,女子選手!$B$2:$D$158,2,FALSE))","v":""},{"$f":"IF($H85=\"\",\"\",VLOOKUP($H85,女子選手!$B$2:$D$158,3,FALSE))","v":""},"","",{"$f":"IF(H85=\"\",\"\",VALUE(MID(VLOOKUP($H85,女子選手!$B$2:$G$158,6,FALSE),2,6)))","v":""},{"$f":"記録入力1!J87","v":""},{"$f":"IF(H85=\"\",\"\",VLOOKUP(記録入力1!C87,初期設定1!$C$18:$F$59,3,FALSE)&\" \"&RIGHT(記録入力1!N87,7))","v":""},null,{"$f":"IF(B85=\"\",\"\",記録入力1!I87)","v":{"$error":"#N/A"}}]
[{"$f":"IF(B86=\"\",\"\",記録入力1!C88)","v":{"$error":"#N/A"}},{"$f":"VLOOKUP($H86,女子選手!$B$2:$G$158,6,FALSE)","v":{"$error":"#N/A"}},{"$f":"IF($H86=\"\",\"\",VLOOKUP($H86,女子選手!$B$2:$D$158,2,FALSE))","v":""},{"$f":"IF($H86=\"\",\"\",VLOOKUP($H86,女子選手!$B$2:$D$158,3,FALSE))","v":""},"","",{"$f":"IF(H86=\"\",\"\",VALUE(MID(VLOOKUP($H86,女子選手!$B$2:$G$158,6,FALSE),2,6)))","v":""},{"$f":"記録入力1!J88","v":""},{"$f":"IF(H86=\"\",\"\",VLOOKUP(記録入力1!C88,初期設定1!$C$18:$F$59,3,FALSE)&\" \"&RIGHT(記録入力1!N88,7))","v":""},null,{"$f":"IF(B86=\"\",\"\",記録入力1!I88)","v":{"$error":"#N/A"}}]
[{"$f":"IF(B87=\"\",\"\",記録入力1!C89)","v":{"$error":"#N/A"}},{"$f":"VLOOKUP($H87,女子選手!$B$2:$G$158,6,FALSE)","v":{"$error":"#N/A"}},{"$f":"IF($H87=\"\",\"\",VLOOKUP($H87,女子選手!$B$2:$D$158,2,FALSE))","v":""},{"$f":"IF($H87=\"\",\"\",VLOOKUP($H87,女子選手!$B$2:$D$158,3,FALSE))","v":""},"","",{"$f":"IF(H87=\"\",\"\",VALUE(MID(VLOOKUP($H87,女子選手!$B$2:$G$158,6,FALSE),2,6)))","v":""},{"$f":"記録入力1!J89","v":""},{"$f":"IF(H87=\"\",\"\",VLOOKUP(記録入力1!C89,初期設定1!$C$18:$F$59,3,FALSE)&\" \"&RIGHT(記録入力1!N89,7))","v":""},null,{"$f":"IF(B87=\"\",\"\",記録入力1!I89)","v":{"$error":"#N/A"}}]
[{"$f":"IF(B88=\"\",\"\",記録入力1!C90)","v":{"$error":"#N/A"}},{"$f":"VLOOKUP($H88,女子選手!$B$2:$G$158,6,FALSE)","v":{"$error":"#N/A"}},{"$f":"IF($H88=\"\",\"\",VLOOKUP($H88,女子選手!$B$2:$D$158,2,FALSE))","v":""},{"$f":"IF($H88=\"\",\"\",VLOOKUP($H88,女子選手!$B$2:$D$158,3,FALSE))","v":""},"","",{"$f":"IF(H88=\"\",\"\",VALUE(MID(VLOOKUP($H88,女子選手!$B$2:$G$158,6,FALSE),2,6)))","v":""},{"$f":"記録入力1!J90","v":""},{"$f":"IF(H88=\"\",\"\",VLOOKUP(記録入力1!C90,初期設定1!$C$18:$F$59,3,FALSE)&\" \"&RIGHT(記録入力1!N90,7))","v":""},null,{"$f":"IF(B88=\"\",\"\",記録入力1!I90)","v":{"$error":"#N/A"}}]
[{"$f":"IF(B89=\"\",\"\",記録入力1!C91)","v":{"$error":"#N/A"}},{"$f":"VLOOKUP($H89,女子選手!$B$2:$G$158,6,FALSE)","v":{"$error":"#N/A"}},{"$f":"IF($H89=\"\",\"\",VLOOKUP($H89,女子選手!$B$2:$D$158,2,FALSE))","v":""},{"$f":"IF($H89=\"\",\"\",VLOOKUP($H89,女子選手!$B$2:$D$158,3,FALSE))","v":""},"","",{"$f":"IF(H89=\"\",\"\",VALUE(MID(VLOOKUP($H89,女子選手!$B$2:$G$158,6,FALSE),2,6)))","v":""},{"$f":"記録入力1!J91","v":""},{"$f":"IF(H89=\"\",\"\",VLOOKUP(記録入力1!C91,初期設定1!$C$18:$F$59,3,FALSE)&\" \"&RIGHT(記録入力1!N91,7))","v":""},null,{"$f":"IF(B89=\"\",\"\",記録入力1!I91)","v":{"$error":"#N/A"}}]
[{"$f":"IF(B90=\"\",\"\",記録入力1!C93)","v":{"$error":"#N/A"}},{"$f":"VLOOKUP($H90,女子選手!$B$2:$G$158,6,FALSE)","v":{"$error":"#N/A"}},{"$f":"IF($H90=\"\",\"\",VLOOKUP($H90,女子選手!$B$2:$D$158,2,FALSE))","v":""},{"$f":"IF($H90=\"\",\"\",VLOOKUP($H90,女子選手!$B$2:$D$158,3,FALSE))","v":""},"","",{"$f":"IF(H90=\"\",\"\",VALUE(MID(VLOOKUP($H90,女子選手!$B$2:$G$158,6,FALSE),2,6)))","v":""},{"$f":"記録入力1!J93","v":""},{"$f":"IF(H90=\"\",\"\",VLOOKUP(記録入力1!C93,初期設定1!$C$18:$F$59,3,FALSE)&\" \"&RIGHT(記録入力1!N93,7))","v":""},null,{"$f":"IF(B90=\"\",\"\",記録入力1!I93)","v":{"$error":"#N/A"}}]
[{"$f":"IF(B91=\"\",\"\",記録入力1!C103)","v":{"$error":"#N/A"}},{"$f":"VLOOKUP($H91,女子選手!$B$2:$G$158,6,FALSE)","v":{"$error":"#N/A"}},{"$f":"IF($H91=\"\",\"\",VLOOKUP($H91,女子選手!$B$2:$D$158,2,FALSE))","v":""},{"$f":"IF($H91=\"\",\"\",VLOOKUP($H91,女子選手!$B$2:$D$158,3,FALSE))","v":""},"","",{"$f":"IF(H91=\"\",\"\",VALUE(MID(VLOOKUP($H91,女子選手!$B$2:$G$158,6,FALSE),2,6)))","v":""},{"$f":"記録入力1!J103","v":""},{"$f":"IF(H91=\"\",\"\",VLOOKUP(記録入力1!C103,初期設定1!$C$18:$F$59,3,FALSE)&\" \"&RIGHT(記録入力1!N103,7))","v":""},null,{"$f":"IF(B91=\"\",\"\",記録入力1!I103)","v":{"$error":"#N/A"}}]
[{"$f":"IF(B92=\"\",\"\",記録入力1!C104)","v":{"$error":"#N/A"}},{"$f":"VLOOKUP($H92,女子選手!$B$2:$G$158,6,FALSE)","v":{"$error":"#N/A"}},{"$f":"IF($H92=\"\",\"\",VLOOKUP($H92,女子選手!$B$2:$D$158,2,FALSE))","v":""},{"$f":"IF($H92=\"\",\"\",VLOOKUP($H92,女子選手!$B$2:$D$158,3,FALSE))","v":""},"","",{"$f":"IF(H92=\"\",\"\",VALUE(MID(VLOOKUP($H92,女子選手!$B$2:$G$158,6,FALSE),2,6)))","v":""},{"$f":"記録入力1!J104","v":""},{"$f":"IF(H92=\"\",\"\",VLOOKUP(記録入力1!C104,初期設定1!$C$18:$F$59,3,FALSE)&\" \"&RIGHT(記録入力1!N104,7))","v":""},null,{"$f":"IF(B92=\"\",\"\",記録入力1!I104)","v":{"$error":"#N/A"}}]
[{"$f":"IF(B93=\"\",\"\",記録入力1!C105)","v":{"$error":"#N/A"}},{"$f":"VLOOKUP($H93,女子選手!$B$2:$G$158,6,FALSE)","v":{"$error":"#N/A"}},{"$f":"IF($H93=\"\",\"\",VLOOKUP($H93,女子選手!$B$2:$D$158,2,FALSE))","v":""},{"$f":"IF($H93=\"\",\"\",VLOOKUP($H93,女子選手!$B$2:$D$158,3,FALSE))","v":""},"","",{"$f":"IF(H93=\"\",\"\",VALUE(MID(VLOOKUP($H93,女子選手!$B$2:$G$158,6,FALSE),2,6)))","v":""},{"$f":"記録入力1!J105","v":""},{"$f":"IF(H93=\"\",\"\",VLOOKUP(記録入力1!C105,初期設定1!$C$18:$F$59,3,FALSE)&\" \"&RIGHT(記録入力1!N105,7))","v":""},null,{"$f":"IF(B93=\"\",\"\",記録入力1!I105)","v":{"$error":"#N/A"}}]
[{"$f":"IF(B94=\"\",\"\",記録入力1!C106)","v":{"$error":"#N/A"}},{"$f":"VLOOKUP($H94,女子選手!$B$2:$G$158,6,FALSE)","v":{"$error":"#N/A"}},{"$f":"IF($H94=\"\",\"\",VLOOKUP($H94,女子選手!$B$2:$D$158,2,FALSE))","v":""},{"$f":"IF($H94=\"\",\"\",VLOOKUP($H94,女子選手!$B$2:$D$158,3,FALSE))","v":""},"","",{"$f":"IF(H94=\"\",\"\",VALUE(MID(VLOOKUP($H94,女子選手!$B$2:$G$158,6,FALSE),2,6)))","v":""},{"$f":"記録入力1!J106","v":""},{"$f":"IF(H94=\"\",\"\",VLOOKUP(記録入力1!C106,初期設定1!$C$18:$F$59,3,FALSE)&\" \"&RIGHT(記録入力1!N106,7))","v":""},null,{"$f":"IF(B94=\"\",\"\",記録入力1!I106)","v":{"$error":"#N/A"}}]
[{"$f":"IF(B95=\"\",\"\",記録入力1!C107)","v":{"$error":"#N/A"}},{"$f":"VLOOKUP($H95,女子選手!$B$2:$G$158,6,FALSE)","v":{"$error":"#N/A"}},{"$f":"IF($H95=\"\",\"\",VLOOKUP($H95,女子選手!$B$2:$D$158,2,FALSE))","v":""},{"$f":"IF($H95=\"\",\"\",VLOOKUP($H95,女子選手!$B$2:$D$158,3,FALSE))","v":""},"","",{"$f":"IF(H95=\"\",\"\",VALUE(MID(VLOOKUP($H95,女子選手!$B$2:$G$158,6,FALSE),2,6)))","v":""},{"$f":"記録入力1!J107","v":""},{"$f":"IF(H95=\"\",\"\",VLOOKUP(記録入力1!C107,初期設定1!$C$18:$F$59,3,FALSE)&\" \"&RIGHT(記録入力1!N107,7))","v":""},null,{"$f":"IF(B95=\"\",\"\",記録入力1!I107)","v":{"$error":"#N/A"}}]
[{"$f":"IF(B96=\"\",\"\",記録入力1!C108)","v":{"$error":"#N/A"}},{"$f":"VLOOKUP($H96,女子選手!$B$2:$G$158,6,FALSE)","v":{"$error":"#N/A"}},{"$f":"IF($H96=\"\",\"\",VLOOKUP($H96,女子選手!$B$2:$D$158,2,FALSE))","v":""},{"$f":"IF($H96=\"\",\"\",VLOOKUP($H96,女子選手!$B$2:$D$158,3,FALSE))","v":""},"","",{"$f":"IF(H96=\"\",\"\",VALUE(MID(VLOOKUP($H96,女子選手!$B$2:$G$158,6,FALSE),2,6)))","v":""},{"$f":"記録入力1!J108","v":""},{"$f":"IF(H96=\"\",\"\",VLOOKUP(記録入力1!C108,初期設定1!$C$18:$F$59,3,FALSE)&\" \"&RIGHT(記録入力1!N108,7))","v":""},null,{"$f":"IF(B96=\"\",\"\",記録入力1!I108)","v":{"$error":"#N/A"}}]
[{"$f":"IF(B97=\"\",\"\",記録入力1!C109)","v":{"$error":"#N/A"}},{"$f":"VLOOKUP($H97,女子選手!$B$2:$G$158,6,FALSE)","v":{"$error":"#N/A"}},{"$f":"IF($H97=\"\",\"\",VLOOKUP($H97,女子選手!$B$2:$D$158,2,FALSE))","v":""},{"$f":"IF($H97=\"\",\"\",VLOOKUP($H97,女子選手!$B$2:$D$158,3,FALSE))","v":""},"","",{"$f":"IF(H97=\"\",\"\",VALUE(MID(VLOOKUP($H97,女子選手!$B$2:$G$158,6,FALSE),2,6)))","v":""},{"$f":"記録入力1!J109","v":""},{"$f":"IF(H97=\"\",\"\",VLOOKUP(記録入力1!C109,初期設定1!$C$18:$F$59,3,FALSE)&\" \"&RIGHT(記録入力1!N109,7))","v":""},null,{"$f":"IF(B97=\"\",\"\",記録入力1!I109)","v":{"$error":"#N/A"}}]
[{"$f":"IF(B98=\"\",\"\",記録入力1!C110)","v":{"$error":"#N/A"}},{"$f":"VLOOKUP($H98,女子選手!$B$2:$G$158,6,FALSE)","v":{"$error":"#N/A"}},{"$f":"IF($H98=\"\",\"\",VLOOKUP($H98,女子選手!$B$2:$D$158,2,FALSE))","v":""},{"$f":"IF($H98=\"\",\"\",VLOOKUP($H98,女子選手!$B$2:$D$158,3,FALSE))","v":""},"","",{"$f":"IF(H98=\"\",\"\",VALUE(MID(VLOOKUP($H98,女子選手!$B$2:$G$158,6,FALSE),2,6)))","v":""},{"$f":"記録入力1!J110","v":""},{"$f":"IF(H98=\"\",\"\",VLOOKUP(記録入力1!C110,初期設定1!$C$18:$F$59,3,FALSE)&\" \"&RIGHT(記録入力1!N110,7))","v":""},null,{"$f":"IF(B98=\"\",\"\",記録入力1!I110)","v":{"$error":"#N/A"}}]
[{"$f":"IF(B99=\"\",\"\",記録入力1!C111)","v":{"$error":"#N/A"}},{"$f":"VLOOKUP($H99,女子選手!$B$2:$G$158,6,FALSE)","v":{"$error":"#N/A"}},{"$f":"IF($H99=\"\",\"\",VLOOKUP($H99,女子選手!$B$2:$D$158,2,FALSE))","v":""},{"$f":"IF($H99=\"\",\"\",VLOOKUP($H99,女子選手!$B$2:$D$158,3,FALSE))","v":""},"","",{"$f":"IF(H99=\"\",\"\",VALUE(MID(VLOOKUP($H99,女子選手!$B$2:$G$158,6,FALSE),2,6)))","v":""},{"$f":"記録入力1!J111","v":""},{"$f":"IF(H99=\"\",\"\",VLOOKUP(記録入力1!C111,初期設定1!$C$18:$F$59,3,FALSE)&\" \"&RIGHT(記録入力1!N111,7))","v":""},null,{"$f":"IF(B99=\"\",\"\",記録入力1!I111)","v":{"$error":"#N/A"}}]
[{"$f":"IF(B100=\"\",\"\",記録入力1!C112)","v":{"$error":"#N/A"}},{"$f":"VLOOKUP($H100,女子選手!$B$2:$G$158,6,FALSE)","v":{"$error":"#N/A"}},{"$f":"IF($H100=\"\",\"\",VLOOKUP($H100,女子選手!$B$2:$D$158,2,FALSE))","v":""},{"$f":"IF($H100=\"\",\"\",VLOOKUP($H100,女子選手!$B$2:$D$158,3,FALSE))","v":""},"","",{"$f":"IF(H100=\"\",\"\",VALUE(MID(VLOOKUP($H100,女子選手!$B$2:$G$158,6,FALSE),2,6)))","v":""},{"$f":"記録入力1!J112","v":""},{"$f":"IF(H100=\"\",\"\",VLOOKUP(記録入力1!C112,初期設定1!$C$18:$F$59,3,FALSE)&\" \"&RIGHT(記録入力1!N112,7))","v":""},null,{"$f":"IF(B100=\"\",\"\",記録入力1!I112)","v":{"$error":"#N/A"}}]
[{"$f":"IF(B101=\"\",\"\",記録入力1!C113)","v":{"$error":"#N/A"}},{"$f":"VLOOKUP($H101,女子選手!$B$2:$G$158,6,FALSE)","v":{"$error":"#N/A"}},{"$f":"IF($H101=\"\",\"\",VLOOKUP($H101,女子選手!$B$2:$D$158,2,FALSE))","v":""},{"$f":"IF($H101=\"\",\"\",VLOOKUP($H101,女子選手!$B$2:$D$158,3,FALSE))","v":""},"","",{"$f":"IF(H101=\"\",\"\",VALUE(MID(VLOOKUP($H101,女子選手!$B$2:$G$158,6,FALSE),2,6)))","v":""},{"$f":"記録入力1!J113","v":""},{"$f":"IF(H101=\"\",\"\",VLOOKUP(記録入力1!C113,初期設定1!$C$18:$F$59,3,FALSE)&\" \"&RIGHT(記録入力1!N113,7))","v":""},null,{"$f":"IF(B101=\"\",\"\",記録入力1!I113)","v":{"$error":"#N/A"}}]
[{"$f":"IF(B102=\"\",\"\",記録入力1!C114)","v":{"$error":"#N/A"}},{"$f":"VLOOKUP($H102,女子選手!$B$2:$G$158,6,FALSE)","v":{"$error":"#N/A"}},{"$f":"IF($H102=\"\",\"\",VLOOKUP($H102,女子選手!$B$2:$D$158,2,FALSE))","v":""},{"$f":"IF($H102=\"\",\"\",VLOOKUP($H102,女子選手!$B$2:$D$158,3,FALSE))","v":""},"","",{"$f":"IF(H102=\"\",\"\",VALUE(MID(VLOOKUP($H102,女子選手!$B$2:$G$158,6,FALSE),2,6)))","v":""},{"$f":"記録入力1!J114","v":""},{"$f":"IF(H102=\"\",\"\",VLOOKUP(記録入力1!C114,初期設定1!$C$18:$F$59,3,FALSE)&\" \"&RIGHT(記録入力1!N114,7))","v":""},null,{"$f":"IF(B102=\"\",\"\",記録入力1!I114)","v":{"$error":"#N/A"}}]
[{"$f":"IF(B103=\"\",\"\",記録入力1!C115)","v":{"$error":"#N/A"}},{"$f":"VLOOKUP($H103,女子選手!$B$2:$G$158,6,FALSE)","v":{"$error":"#N/A"}},{"$f":"IF($H103=\"\",\"\",VLOOKUP($H103,女子選手!$B$2:$D$158,2,FALSE))","v":""},{"$f":"IF($H103=\"\",\"\",VLOOKUP($H103,女子選手!$B$2:$D$158,3,FALSE))","v":""},"","",{"$f":"IF(H103=\"\",\"\",VALUE(MID(VLOOKUP($H103,女子選手!$B$2:$G$158,6,FALSE),2,6)))","v":""},{"$f":"記録入力1!J115","v":""},{"$f":"IF(H103=\"\",\"\",VLOOKUP(記録入力1!C115,初期設定1!$C$18:$F$59,3,FALSE)&\" \"&RIGHT(記録入力1!N115,7))","v":""},null,{"$f":"IF(B103=\"\",\"\",記録入力1!I115)","v":{"$error":"#N/A"}}]
[{"$f":"IF(B104=\"\",\"\",記録入力1!C116)","v":{"$error":"#N/A"}},{"$f":"VLOOKUP($H104,女子選手!$B$2:$G$158,6,FALSE)","v":{"$error":"#N/A"}},{"$f":"IF($H104=\"\",\"\",VLOOKUP($H104,女子選手!$B$2:$D$158,2,FALSE))","v":""},{"$f":"IF($H104=\"\",\"\",VLOOKUP($H104,女子選手!$B$2:$D$158,3,FALSE))","v":""},"","",{"$f":"IF(H104=\"\",\"\",VALUE(MID(VLOOKUP($H104,女子選手!$B$2:$G$158,6,FALSE),2,6)))","v":""},{"$f":"記録入力1!J116","v":""},{"$f":"IF(H104=\"\",\"\",VLOOKUP(記録入力1!C116,初期設定1!$C$18:$F$59,3,FALSE)&\" \"&RIGHT(記録入力1!N116,7))","v":""},null,{"$f":"IF(B104=\"\",\"\",記録入力1!I116)","v":{"$error":"#N/A"}}]
[{"$f":"IF(B105=\"\",\"\",記録入力1!C117)","v":{"$error":"#N/A"}},{"$f":"VLOOKUP($H105,女子選手!$B$2:$G$158,6,FALSE)","v":{"$error":"#N/A"}},{"$f":"IF($H105=\"\",\"\",VLOOKUP($H105,女子選手!$B$2:$D$158,2,FALSE))","v":""},{"$f":"IF($H105=\"\",\"\",VLOOKUP($H105,女子選手!$B$2:$D$158,3,FALSE))","v":""},"","",{"$f":"IF(H105=\"\",\"\",VALUE(MID(VLOOKUP($H105,女子選手!$B$2:$G$158,6,FALSE),2,6)))","v":""},{"$f":"記録入力1!J117","v":""},{"$f":"IF(H105=\"\",\"\",VLOOKUP(記録入力1!C117,初期設定1!$C$18:$F$59,3,FALSE)&\" \"&RIGHT(記録入力1!N117,7))","v":""},null,{"$f":"IF(B105=\"\",\"\",記録入力1!I117)","v":{"$error":"#N/A"}}]
[{"$f":"IF(B106=\"\",\"\",記録入力1!C118)","v":{"$error":"#N/A"}},{"$f":"VLOOKUP($H106,女子選手!$B$2:$G$158,6,FALSE)","v":{"$error":"#N/A"}},{"$f":"IF($H106=\"\",\"\",VLOOKUP($H106,女子選手!$B$2:$D$158,2,FALSE))","v":""},{"$f":"IF($H106=\"\",\"\",VLOOKUP($H106,女子選手!$B$2:$D$158,3,FALSE))","v":""},"","",{"$f":"IF(H106=\"\",\"\",VALUE(MID(VLOOKUP($H106,女子選手!$B$2:$G$158,6,FALSE),2,6)))","v":""},{"$f":"記録入力1!J118","v":""},{"$f":"IF(H106=\"\",\"\",VLOOKUP(記録入力1!C118,初期設定1!$C$18:$F$59,3,FALSE)&\" \"&RIGHT(記録入力1!N118,7))","v":""},null,{"$f":"IF(B106=\"\",\"\",記録入力1!I118)","v":{"$error":"#N/A"}}]
[{"$f":"IF(B107=\"\",\"\",記録入力1!C119)","v":{"$error":"#N/A"}},{"$f":"VLOOKUP($H107,女子選手!$B$2:$G$158,6,FALSE)","v":{"$error":"#N/A"}},{"$f":"IF($H107=\"\",\"\",VLOOKUP($H107,女子選手!$B$2:$D$158,2,FALSE))","v":""},{"$f":"IF($H107=\"\",\"\",VLOOKUP($H107,女子選手!$B$2:$D$158,3,FALSE))","v":""},"","",{"$f":"IF(H107=\"\",\"\",VALUE(MID(VLOOKUP($H107,女子選手!$B$2:$G$158,6,FALSE),2,6)))","v":""},{"$f":"記録入力1!J119","v":""},{"$f":"IF(H107=\"\",\"\",VLOOKUP(記録入力1!C119,初期設定1!$C$18:$F$59,3,FALSE)&\" \"&RIGHT(記録入力1!N119,7))","v":""},null,{"$f":"IF(B107=\"\",\"\",記録入力1!I119)","v":{"$error":"#N/A"}}]
[{"$f":"IF(B108=\"\",\"\",記録入力1!C120)","v":{"$error":"#N/A"}},{"$f":"VLOOKUP($H108,女子選手!$B$2:$G$158,6,FALSE)","v":{"$error":"#N/A"}},{"$f":"IF($H108=\"\",\"\",VLOOKUP($H108,女子選手!$B$2:$D$158,2,FALSE))","v":""},{"$f":"IF($H108=\"\",\"\",VLOOKUP($H108,女子選手!$B$2:$D$158,3,FALSE))","v":""},"","",{"$f":"IF(H108=\"\",\"\",VALUE(MID(VLOOKUP($H108,女子選手!$B$2:$G$158,6,FALSE),2,6)))","v":""},{"$f":"記録入力1!J120","v":""},{"$f":"IF(H108=\"\",\"\",VLOOKUP(記録入力1!C120,初期設定1!$C$18:$F$59,3,FALSE)&\" \"&RIGHT(記録入力1!N120,7))","v":""},null,{"$f":"IF(B108=\"\",\"\",記録入力1!I120)","v":{"$error":"#N/A"}}]
[{"$f":"IF(B109=\"\",\"\",記録入力1!C121)","v":{"$error":"#N/A"}},{"$f":"VLOOKUP($H109,女子選手!$B$2:$G$158,6,FALSE)","v":{"$error":"#N/A"}},{"$f":"IF($H109=\"\",\"\",VLOOKUP($H109,女子選手!$B$2:$D$158,2,FALSE))","v":""},{"$f":"IF($H109=\"\",\"\",VLOOKUP($H109,女子選手!$B$2:$D$158,3,FALSE))","v":""},"","",{"$f":"IF(H109=\"\",\"\",VALUE(MID(VLOOKUP($H109,女子選手!$B$2:$G$158,6,FALSE),2,6)))","v":""},{"$f":"記録入力1!J121","v":""},{"$f":"IF(H109=\"\",\"\",VLOOKUP(記録入力1!C121,初期設定1!$C$18:$F$59,3,FALSE)&\" \"&RIGHT(記録入力1!N121,7))","v":""},null,{"$f":"IF(B109=\"\",\"\",記録入力1!I121)","v":{"$error":"#N/A"}}]
[{"$f":"IF(B110=\"\",\"\",記録入力1!C122)","v":{"$error":"#N/A"}},{"$f":"VLOOKUP($H110,女子選手!$B$2:$G$158,6,FALSE)","v":{"$error":"#N/A"}},{"$f":"IF($H110=\"\",\"\",VLOOKUP($H110,女子選手!$B$2:$D$158,2,FALSE))","v":""},{"$f":"IF($H110=\"\",\"\",VLOOKUP($H110,女子選手!$B$2:$D$158,3,FALSE))","v":""},"","",{"$f":"IF(H110=\"\",\"\",VALUE(MID(VLOOKUP($H110,女子選手!$B$2:$G$158,6,FALSE),2,6)))","v":""},{"$f":"記録入力1!J122","v":""},{"$f":"IF(H110=\"\",\"\",VLOOKUP(記録入力1!C122,初期設定1!$C$18:$F$59,3,FALSE)&\" \"&RIGHT(記録入力1!N122,7))","v":""},null,{"$f":"IF(B110=\"\",\"\",記録入力1!I122)","v":{"$error":"#N/A"}}]
[{"$f":"IF(B111=\"\",\"\",記録入力1!C123)","v":{"$error":"#N/A"}},{"$f":"VLOOKUP($H111,女子選手!$B$2:$G$158,6,FALSE)","v":{"$error":"#N/A"}},{"$f":"IF($H111=\"\",\"\",VLOOKUP($H111,女子選手!$B$2:$D$158,2,FALSE))","v":""},{"$f":"IF($H111=\"\",\"\",VLOOKUP($H111,女子選手!$B$2:$D$158,3,FALSE))","v":""},"","",{"$f":"IF(H111=\"\",\"\",VALUE(MID(VLOOKUP($H111,女子選手!$B$2:$G$158,6,FALSE),2,6)))","v":""},{"$f":"記録入力1!J123","v":""},{"$f":"IF(H111=\"\",\"\",VLOOKUP(記録入力1!C123,初期設定1!$C$18:$F$59,3,FALSE)&\" \"&RIGHT(記録入力1!N123,7))","v":""},null,{"$f":"IF(B111=\"\",\"\",記録入力1!I123)","v":{"$error":"#N/A"}}]
[{"$f":"IF(B112=\"\",\"\",記録入力1!C124)","v":{"$error":"#N/A"}},{"$f":"VLOOKUP($H112,女子選手!$B$2:$G$158,6,FALSE)","v":{"$error":"#N/A"}},{"$f":"IF($H112=\"\",\"\",VLOOKUP($H112,女子選手!$B$2:$D$158,2,FALSE))","v":""},{"$f":"IF($H112=\"\",\"\",VLOOKUP($H112,女子選手!$B$2:$D$158,3,FALSE))","v":""},"","",{"$f":"IF(H112=\"\",\"\",VALUE(MID(VLOOKUP($H112,女子選手!$B$2:$G$158,6,FALSE),2,6)))","v":""},{"$f":"記録入力1!J124","v":""},{"$f":"IF(H112=\"\",\"\",VLOOKUP(記録入力1!C124,初期設定1!$C$18:$F$59,3,FALSE)&\" \"&RIGHT(記録入力1!N124,7))","v":""},null,{"$f":"IF(B112=\"\",\"\",記録入力1!I124)","v":{"$error":"#N/A"}}]
[{"$f":"IF(B113=\"\",\"\",記録入力1!C125)","v":{"$error":"#N/A"}},{"$f":"VLOOKUP($H113,女子選手!$B$2:$G$158,6,FALSE)","v":{"$error":"#N/A"}},{"$f":"IF($H113=\"\",\"\",VLOOKUP($H113,女子選手!$B$2:$D$158,2,FALSE))","v":""},{"$f":"IF($H113=\"\",\"\",VLOOKUP($H113,女子選手!$B$2:$D$158,3,FALSE))","v":""},"","",{"$f":"IF(H113=\"\",\"\",VALUE(MID(VLOOKUP($H113,女子選手!$B$2:$G$158,6,FALSE),2,6)))","v":""},{"$f":"記録入力1!J125","v":""},{"$f":"IF(H113=\"\",\"\",VLOOKUP(記録入力1!C125,初期設定1!$C$18:$F$59,3,FALSE)&\" \"&RIGHT(記録入力1!N125,7))","v":""},null,{"$f":"IF(B113=\"\",\"\",記録入力1!I125)","v":{"$error":"#N/A"}}]
[{"$f":"IF(B114=\"\",\"\",記録入力1!C126)","v":{"$error":"#N/A"}},{"$f":"VLOOKUP($H114,女子選手!$B$2:$G$158,6,FALSE)","v":{"$error":"#N/A"}},{"$f":"IF($H114=\"\",\"\",VLOOKUP($H114,女子選手!$B$2:$D$158,2,FALSE))","v":""},{"$f":"IF($H114=\"\",\"\",VLOOKUP($H114,女子選手!$B$2:$D$158,3,FALSE))","v":""},"","",{"$f":"IF(H114=\"\",\"\",VALUE(MID(VLOOKUP($H114,女子選手!$B$2:$G$158,6,FALSE),2,6)))","v":""},{"$f":"記録入力1!J126","v":""},{"$f":"IF(H114=\"\",\"\",VLOOKUP(記録入力1!C126,初期設定1!$C$18:$F$59,3,FALSE)&\" \"&RIGHT(記録入力1!N126,7))","v":""},null,{"$f":"IF(B114=\"\",\"\",記録入力1!I126)","v":{"$error":"#N/A"}}]
[{"$f":"IF(B115=\"\",\"\",記録入力1!C127)","v":{"$error":"#N/A"}},{"$f":"VLOOKUP($H115,女子選手!$B$2:$G$158,6,FALSE)","v":{"$error":"#N/A"}},{"$f":"IF($H115=\"\",\"\",VLOOKUP($H115,女子選手!$B$2:$D$158,2,FALSE))","v":""},{"$f":"IF($H115=\"\",\"\",VLOOKUP($H115,女子選手!$B$2:$D$158,3,FALSE))","v":""},"","",{"$f":"IF(H115=\"\",\"\",VALUE(MID(VLOOKUP($H115,女子選手!$B$2:$G$158,6,FALSE),2,6)))","v":""},{"$f":"記録入力1!J127","v":""},{"$f":"IF(H115=\"\",\"\",VLOOKUP(記録入力1!C127,初期設定1!$C$18:$F$59,3,FALSE)&\" \"&RIGHT(記録入力1!N127,7))","v":""},null,{"$f":"IF(B115=\"\",\"\",記録入力1!I127)","v":{"$error":"#N/A"}}]
[{"$f":"IF(B116=\"\",\"\",記録入力1!C128)","v":{"$error":"#N/A"}},{"$f":"VLOOKUP($H116,女子選手!$B$2:$G$158,6,FALSE)","v":{"$error":"#N/A"}},{"$f":"IF($H116=\"\",\"\",VLOOKUP($H116,女子選手!$B$2:$D$158,2,FALSE))","v":""},{"$f":"IF($H116=\"\",\"\",VLOOKUP($H116,女子選手!$B$2:$D$158,3,FALSE))","v":""},"","",{"$f":"IF(H116=\"\",\"\",VALUE(MID(VLOOKUP($H116,女子選手!$B$2:$G$158,6,FALSE),2,6)))","v":""},{"$f":"記録入力1!J128","v":""},{"$f":"IF(H116=\"\",\"\",VLOOKUP(記録入力1!C128,初期設定1!$C$18:$F$59,3,FALSE)&\" \"&RIGHT(記録入力1!N128,7))","v":""},null,{"$f":"IF(B116=\"\",\"\",記録入力1!I128)","v":{"$error":"#N/A"}}]
[{"$f":"IF(B117=\"\",\"\",記録入力1!C129)","v":{"$error":"#N/A"}},{"$f":"VLOOKUP($H117,女子選手!$B$2:$G$158,6,FALSE)","v":{"$error":"#N/A"}},{"$f":"IF($H117=\"\",\"\",VLOOKUP($H117,女子選手!$B$2:$D$158,2,FALSE))","v":""},{"$f":"IF($H117=\"\",\"\",VLOOKUP($H117,女子選手!$B$2:$D$158,3,FALSE))","v":""},"","",{"$f":"IF(H117=\"\",\"\",VALUE(MID(VLOOKUP($H117,女子選手!$B$2:$G$158,6,FALSE),2,6)))","v":""},{"$f":"記録入力1!J129","v":""},{"$f":"IF(H117=\"\",\"\",VLOOKUP(記録入力1!C129,初期設定1!$C$18:$F$59,3,FALSE)&\" \"&RIGHT(記録入力1!N129,7))","v":""},null,{"$f":"IF(B117=\"\",\"\",記録入力1!I129)","v":{"$error":"#N/A"}}]
[{"$f":"IF(B118=\"\",\"\",記録入力1!C130)","v":{"$error":"#N/A"}},{"$f":"VLOOKUP($H118,女子選手!$B$2:$G$158,6,FALSE)","v":{"$error":"#N/A"}},{"$f":"IF($H118=\"\",\"\",VLOOKUP($H118,女子選手!$B$2:$D$158,2,FALSE))","v":""},{"$f":"IF($H118=\"\",\"\",VLOOKUP($H118,女子選手!$B$2:$D$158,3,FALSE))","v":""},"","",{"$f":"IF(H118=\"\",\"\",VALUE(MID(VLOOKUP($H118,女子選手!$B$2:$G$158,6,FALSE),2,6)))","v":""},{"$f":"記録入力1!J130","v":""},{"$f":"IF(H118=\"\",\"\",VLOOKUP(記録入力1!C130,初期設定1!$C$18:$F$59,3,FALSE)&\" \"&RIGHT(記録入力1!N130,7))","v":""},null,{"$f":"IF(B118=\"\",\"\",記録入力1!I130)","v":{"$error":"#N/A"}}]
[{"$f":"IF(B119=\"\",\"\",記録入力1!C131)","v":{"$error":"#N/A"}},{"$f":"VLOOKUP($H119,女子選手!$B$2:$G$158,6,FALSE)","v":{"$error":"#N/A"}},{"$f":"IF($H119=\"\",\"\",VLOOKUP($H119,女子選手!$B$2:$D$158,2,FALSE))","v":""},{"$f":"IF($H119=\"\",\"\",VLOOKUP($H119,女子選手!$B$2:$D$158,3,FALSE))","v":""},"","",{"$f":"IF(H119=\"\",\"\",VALUE(MID(VLOOKUP($H119,女子選手!$B$2:$G$158,6,FALSE),2,6)))","v":""},{"$f":"記録入力1!J131","v":""},{"$f":"IF(H119=\"\",\"\",VLOOKUP(記録入力1!C131,初期設定1!$C$18:$F$59,3,FALSE)&\" \"&RIGHT(記録入力1!N131,7))","v":""},null,{"$f":"IF(B119=\"\",\"\",記録入力1!I131)","v":{"$error":"#N/A"}}]
[{"$f":"IF(B120=\"\",\"\",記録入力1!C132)","v":{"$error":"#N/A"}},{"$f":"VLOOKUP($H120,女子選手!$B$2:$G$158,6,FALSE)","v":{"$error":"#N/A"}},{"$f":"IF($H120=\"\",\"\",VLOOKUP($H120,女子選手!$B$2:$D$158,2,FALSE))","v":""},{"$f":"IF($H120=\"\",\"\",VLOOKUP($H120,女子選手!$B$2:$D$158,3,FALSE))","v":""},"","",{"$f":"IF(H120=\"\",\"\",VALUE(MID(VLOOKUP($H120,女子選手!$B$2:$G$158,6,FALSE),2,6)))","v":""},{"$f":"記録入力1!J132","v":""},{"$f":"IF(H120=\"\",\"\",VLOOKUP(記録入力1!C132,初期設定1!$C$18:$F$59,3,FALSE)&\" \"&RIGHT(記録入力1!N132,7))","v":""},null,{"$f":"IF(B120=\"\",\"\",記録入力1!I132)","v":{"$error":"#N/A"}}]
[{"$f":"IF(B121=\"\",\"\",記録入力1!C133)","v":{"$error":"#N/A"}},{"$f":"VLOOKUP($H121,女子選手!$B$2:$G$158,6,FALSE)","v":{"$error":"#N/A"}},{"$f":"IF($H121=\"\",\"\",VLOOKUP($H121,女子選手!$B$2:$D$158,2,FALSE))","v":""},{"$f":"IF($H121=\"\",\"\",VLOOKUP($H121,女子選手!$B$2:$D$158,3,FALSE))","v":""},"","",{"$f":"IF(H121=\"\",\"\",VALUE(MID(VLOOKUP($H121,女子選手!$B$2:$G$158,6,FALSE),2,6)))","v":""},{"$f":"記録入力1!J133","v":""},{"$f":"IF(H121=\"\",\"\",VLOOKUP(記録入力1!C133,初期設定1!$C$18:$F$59,3,FALSE)&\" \"&RIGHT(記録入力1!N133,7))","v":""},null,{"$f":"IF(B121=\"\",\"\",記録入力1!I133)","v":{"$error":"#N/A"}}]
[{"$f":"IF(B122=\"\",\"\",記録入力1!C134)","v":{"$error":"#N/A"}},{"$f":"VLOOKUP($H122,女子選手!$B$2:$G$158,6,FALSE)","v":{"$error":"#N/A"}},{"$f":"IF($H122=\"\",\"\",VLOOKUP($H122,女子選手!$B$2:$D$158,2,FALSE))","v":""},{"$f":"IF($H122=\"\",\"\",VLOOKUP($H122,女子選手!$B$2:$D$158,3,FALSE))","v":""},"","",{"$f":"IF(H122=\"\",\"\",VALUE(MID(VLOOKUP($H122,女子選手!$B$2:$G$158,6,FALSE),2,6)))","v":""},{"$f":"記録入力1!J134","v":""},{"$f":"IF(H122=\"\",\"\",VLOOKUP(記録入力1!C134,初期設定1!$C$18:$F$59,3,FALSE)&\" \"&RIGHT(記録入力1!N134,7))","v":""},null,{"$f":"IF(B122=\"\",\"\",記録入力1!I134)","v":{"$error":"#N/A"}}]
[{"$f":"IF(B123=\"\",\"\",記録入力1!C135)","v":{"$error":"#N/A"}},{"$f":"VLOOKUP($H123,女子選手!$B$2:$G$158,6,FALSE)","v":{"$error":"#N/A"}},{"$f":"IF($H123=\"\",\"\",VLOOKUP($H123,女子選手!$B$2:$D$158,2,FALSE))","v":""},{"$f":"IF($H123=\"\",\"\",VLOOKUP($H123,女子選手!$B$2:$D$158,3,FALSE))","v":""},"","",{"$f":"IF(H123=\"\",\"\",VALUE(MID(VLOOKUP($H123,女子選手!$B$2:$G$158,6,FALSE),2,6)))","v":""},{"$f":"記録入力1!J135","v":""},{"$f":"IF(H123=\"\",\"\",VLOOKUP(記録入力1!C135,初期設定1!$C$18:$F$59,3,FALSE)&\" \"&RIGHT(記録入力1!N135,7))","v":""},null,{"$f":"IF(B123=\"\",\"\",記録入力1!I135)","v":{"$error":"#N/A"}}]
[{"$f":"IF(B124=\"\",\"\",記録入力1!C136)","v":{"$error":"#N/A"}},{"$f":"VLOOKUP($H124,女子選手!$B$2:$G$158,6,FALSE)","v":{"$error":"#N/A"}},{"$f":"IF($H124=\"\",\"\",VLOOKUP($H124,女子選手!$B$2:$D$158,2,FALSE))","v":""},{"$f":"IF($H124=\"\",\"\",VLOOKUP($H124,女子選手!$B$2:$D$158,3,FALSE))","v":""},"","",{"$f":"IF(H124=\"\",\"\",VALUE(MID(VLOOKUP($H124,女子選手!$B$2:$G$158,6,FALSE),2,6)))","v":""},{"$f":"記録入力1!J136","v":""},{"$f":"IF(H124=\"\",\"\",VLOOKUP(記録入力1!C136,初期設定1!$C$18:$F$59,3,FALSE)&\" \"&RIGHT(記録入力1!N136,7))","v":""},null,{"$f":"IF(B124=\"\",\"\",記録入力1!I136)","v":{"$error":"#N/A"}}]
[{"$f":"IF(B125=\"\",\"\",記録入力1!C137)","v":{"$error":"#N/A"}},{"$f":"VLOOKUP($H125,女子選手!$B$2:$G$158,6,FALSE)","v":{"$error":"#N/A"}},{"$f":"IF($H125=\"\",\"\",VLOOKUP($H125,女子選手!$B$2:$D$158,2,FALSE))","v":""},{"$f":"IF($H125=\"\",\"\",VLOOKUP($H125,女子選手!$B$2:$D$158,3,FALSE))","v":""},"","",{"$f":"IF(H125=\"\",\"\",VALUE(MID(VLOOKUP($H125,女子選手!$B$2:$G$158,6,FALSE),2,6)))","v":""},{"$f":"記録入力1!J137","v":""},{"$f":"IF(H125=\"\",\"\",VLOOKUP(記録入力1!C137,初期設定1!$C$18:$F$59,3,FALSE)&\" \"&RIGHT(記録入力1!N137,7))","v":""},null,{"$f":"IF(B125=\"\",\"\",記録入力1!I137)","v":{"$error":"#N/A"}}]
[{"$f":"IF(B126=\"\",\"\",記録入力1!C138)","v":{"$error":"#N/A"}},{"$f":"VLOOKUP($H126,女子選手!$B$2:$G$158,6,FALSE)","v":{"$error":"#N/A"}},{"$f":"IF($H126=\"\",\"\",VLOOKUP($H126,女子選手!$B$2:$D$158,2,FALSE))","v":""},{"$f":"IF($H126=\"\",\"\",VLOOKUP($H126,女子選手!$B$2:$D$158,3,FALSE))","v":""},"","",{"$f":"IF(H126=\"\",\"\",VALUE(MID(VLOOKUP($H126,女子選手!$B$2:$G$158,6,FALSE),2,6)))","v":""},{"$f":"記録入力1!J138","v":""},{"$f":"IF(H126=\"\",\"\",VLOOKUP(記録入力1!C138,初期設定1!$C$18:$F$59,3,FALSE)&\" \"&RIGHT(記録入力1!N138,7))","v":""},null,{"$f":"IF(B126=\"\",\"\",記録入力1!I138)","v":{"$error":"#N/A"}}]
[{"$f":"IF(B127=\"\",\"\",記録入力1!C139)","v":{"$error":"#N/A"}},{"$f":"VLOOKUP($H127,女子選手!$B$2:$G$158,6,FALSE)","v":{"$error":"#N/A"}},{"$f":"IF($H127=\"\",\"\",VLOOKUP($H127,女子選手!$B$2:$D$158,2,FALSE))","v":""},{"$f":"IF($H127=\"\",\"\",VLOOKUP($H127,女子選手!$B$2:$D$158,3,FALSE))","v":""},"","",{"$f":"IF(H127=\"\",\"\",VALUE(MID(VLOOKUP($H127,女子選手!$B$2:$G$158,6,FALSE),2,6)))","v":""},{"$f":"記録入力1!J139","v":""},{"$f":"IF(H127=\"\",\"\",VLOOKUP(記録入力1!C139,初期設定1!$C$18:$F$59,3,FALSE)&\" \"&RIGHT(記録入力1!N139,7))","v":""},null,{"$f":"IF(B127=\"\",\"\",記録入力1!I139)","v":{"$error":"#N/A"}}]
[{"$f":"IF(B128=\"\",\"\",記録入力1!C140)","v":{"$error":"#N/A"}},{"$f":"VLOOKUP($H128,女子選手!$B$2:$G$158,6,FALSE)","v":{"$error":"#N/A"}},{"$f":"IF($H128=\"\",\"\",VLOOKUP($H128,女子選手!$B$2:$D$158,2,FALSE))","v":""},{"$f":"IF($H128=\"\",\"\",VLOOKUP($H128,女子選手!$B$2:$D$158,3,FALSE))","v":""},"","",{"$f":"IF(H128=\"\",\"\",VALUE(MID(VLOOKUP($H128,女子選手!$B$2:$G$158,6,FALSE),2,6)))","v":""},{"$f":"記録入力1!J140","v":""},{"$f":"IF(H128=\"\",\"\",VLOOKUP(記録入力1!C140,初期設定1!$C$18:$F$59,3,FALSE)&\" \"&RIGHT(記録入力1!N140,7))","v":""},null,{"$f":"IF(B128=\"\",\"\",記録入力1!I140)","v":{"$error":"#N/A"}}]
[{"$f":"IF(B129=\"\",\"\",記録入力1!C141)","v":{"$error":"#N/A"}},{"$f":"VLOOKUP($H129,女子選手!$B$2:$G$158,6,FALSE)","v":{"$error":"#N/A"}},{"$f":"IF($H129=\"\",\"\",VLOOKUP($H129,女子選手!$B$2:$D$158,2,FALSE))","v":""},{"$f":"IF($H129=\"\",\"\",VLOOKUP($H129,女子選手!$B$2:$D$158,3,FALSE))","v":""},"","",{"$f":"IF(H129=\"\",\"\",VALUE(MID(VLOOKUP($H129,女子選手!$B$2:$G$158,6,FALSE),2,6)))","v":""},{"$f":"記録入力1!J141","v":""},{"$f":"IF(H129=\"\",\"\",VLOOKUP(記録入力1!C141,初期設定1!$C$18:$F$59,3,FALSE)&\" \"&RIGHT(記録入力1!N141,7))","v":""},null,{"$f":"IF(B129=\"\",\"\",記録入力1!I141)","v":{"$error":"#N/A"}}]
[{"$f":"IF(B130=\"\",\"\",記録入力1!C142)","v":{"$error":"#N/A"}},{"$f":"VLOOKUP($H130,女子選手!$B$2:$G$158,6,FALSE)","v":{"$error":"#N/A"}},{"$f":"IF($H130=\"\",\"\",VLOOKUP($H130,女子選手!$B$2:$D$158,2,FALSE))","v":""},{"$f":"IF($H130=\"\",\"\",VLOOKUP($H130,女子選手!$B$2:$D$158,3,FALSE))","v":""},"","",{"$f":"IF(H130=\"\",\"\",VALUE(MID(VLOOKUP($H130,女子選手!$B$2:$G$158,6,FALSE),2,6)))","v":""},{"$f":"記録入力1!J142","v":""},{"$f":"IF(H130=\"\",\"\",VLOOKUP(記録入力1!C142,初期設定1!$C$18:$F$59,3,FALSE)&\" \"&RIGHT(記録入力1!N142,7))","v":""},null,{"$f":"IF(B130=\"\",\"\",記録入力1!I142)","v":{"$error":"#N/A"}}]
[{"$f":"IF(B131=\"\",\"\",記録入力1!C143)","v":{"$error":"#N/A"}},{"$f":"VLOOKUP($H131,女子選手!$B$2:$G$158,6,FALSE)","v":{"$error":"#N/A"}},{"$f":"IF($H131=\"\",\"\",VLOOKUP($H131,女子選手!$B$2:$D$158,2,FALSE))","v":""},{"$f":"IF($H131=\"\",\"\",VLOOKUP($H131,女子選手!$B$2:$D$158,3,FALSE))","v":""},{"$f":"IF(H131=\"\",\"\",2)","v":""},{"$f":"IF(H131=\"\",\"\",2)","v":""},{"$f":"IF(H131=\"\",\"\",VALUE(MID(VLOOKUP($H131,女子選手!$B$2:$G$158,6,FALSE),2,6)))","v":""},{"$f":"記録入力1!J143","v":""},{"$f":"IF(H131=\"\",\"\",VLOOKUP(記録入力1!C143,初期設定1!$C$18:$F$59,3,FALSE)&\" \"&RIGHT(記録入力1!N143,7))","v":""},null,{"$f":"IF(B131=\"\",\"\",記録入力1!I143)","v":{"$error":"#N/A"}}]
[{"$f":"IF(B132=\"\",\"\",記録入力1!C144)","v":{"$error":"#N/A"}},{"$f":"VLOOKUP($H132,女子選手!$B$2:$G$158,6,FALSE)","v":{"$error":"#N/A"}},{"$f":"IF($H132=\"\",\"\",VLOOKUP($H132,女子選手!$B$2:$D$158,2,FALSE))","v":""},{"$f":"IF($H132=\"\",\"\",VLOOKUP($H132,女子選手!$B$2:$D$158,3,FALSE))","v":""},"","",{"$f":"IF(H132=\"\",\"\",VALUE(MID(VLOOKUP($H132,女子選手!$B$2:$G$158,6,FALSE),2,6)))","v":""},{"$f":"記録入力1!J144","v":""},{"$f":"IF(H132=\"\",\"\",VLOOKUP(記録入力1!C144,初期設定1!$C$18:$F$59,3,FALSE)&\" \"&RIGHT(記録入力1!N144,7))","v":""},null,{"$f":"IF(B132=\"\",\"\",記録入力1!I144)","v":{"$error":"#N/A"}}]
[{"$f":"IF(B133=\"\",\"\",記録入力1!C145)","v":{"$error":"#N/A"}},{"$f":"VLOOKUP($H133,女子選手!$B$2:$G$158,6,FALSE)","v":{"$error":"#N/A"}},{"$f":"IF($H133=\"\",\"\",VLOOKUP($H133,女子選手!$B$2:$D$158,2,FALSE))","v":""},{"$f":"IF($H133=\"\",\"\",VLOOKUP($H133,女子選手!$B$2:$D$158,3,FALSE))","v":""},"","",{"$f":"IF(H133=\"\",\"\",VALUE(MID(VLOOKUP($H133,女子選手!$B$2:$G$158,6,FALSE),2,6)))","v":""},{"$f":"記録入力1!J145","v":""},{"$f":"IF(H133=\"\",\"\",VLOOKUP(記録入力1!C145,初期設定1!$C$18:$F$59,3,FALSE)&\" \"&RIGHT(記録入力1!N145,7))","v":""},null,{"$f":"IF(B133=\"\",\"\",記録入力1!I145)","v":{"$error":"#N/A"}}]
[{"$f":"IF(B134=\"\",\"\",記録入力1!C146)","v":{"$error":"#N/A"}},{"$f":"VLOOKUP($H134,女子選手!$B$2:$G$158,6,FALSE)","v":{"$error":"#N/A"}},{"$f":"IF($H134=\"\",\"\",VLOOKUP($H134,女子選手!$B$2:$D$158,2,FALSE))","v":""},{"$f":"IF($H134=\"\",\"\",VLOOKUP($H134,女子選手!$B$2:$D$158,3,FALSE))","v":""},"","",{"$f":"IF(H134=\"\",\"\",VALUE(MID(VLOOKUP($H134,女子選手!$B$2:$G$158,6,FALSE),2,6)))","v":""},{"$f":"記録入力1!J146","v":""},{"$f":"IF(H134=\"\",\"\",VLOOKUP(記録入力1!C146,初期設定1!$C$18:$F$59,3,FALSE)&\" \"&RIGHT(記録入力1!N146,7))","v":""},null,{"$f":"IF(B134=\"\",\"\",記録入力1!I146)","v":{"$error":"#N/A"}}]
[{"$f":"IF(B135=\"\",\"\",記録入力1!C147)","v":{"$error":"#N/A"}},{"$f":"VLOOKUP($H135,女子選手!$B$2:$G$158,6,FALSE)","v":{"$error":"#N/A"}},{"$f":"IF($H135=\"\",\"\",VLOOKUP($H135,女子選手!$B$2:$D$158,2,FALSE))","v":""},{"$f":"IF($H135=\"\",\"\",VLOOKUP($H135,女子選手!$B$2:$D$158,3,FALSE))","v":""},"","",{"$f":"IF(H135=\"\",\"\",VALUE(MID(VLOOKUP($H135,女子選手!$B$2:$G$158,6,FALSE),2,6)))","v":""},{"$f":"記録入力1!J147","v":""},{"$f":"IF(H135=\"\",\"\",VLOOKUP(記録入力1!C147,初期設定1!$C$18:$F$59,3,FALSE)&\" \"&RIGHT(記録入力1!N147,7))","v":""},null,{"$f":"IF(B135=\"\",\"\",記録入力1!I147)","v":{"$error":"#N/A"}}]
[{"$f":"IF(B136=\"\",\"\",記録入力1!C148)","v":{"$error":"#N/A"}},{"$f":"VLOOKUP($H136,女子選手!$B$2:$G$158,6,FALSE)","v":{"$error":"#N/A"}},{"$f":"IF($H136=\"\",\"\",VLOOKUP($H136,女子選手!$B$2:$D$158,2,FALSE))","v":""},{"$f":"IF($H136=\"\",\"\",VLOOKUP($H136,女子選手!$B$2:$D$158,3,FALSE))","v":""},"","",{"$f":"IF(H136=\"\",\"\",VALUE(MID(VLOOKUP($H136,女子選手!$B$2:$G$158,6,FALSE),2,6)))","v":""},{"$f":"記録入力1!J148","v":""},{"$f":"IF(H136=\"\",\"\",VLOOKUP(記録入力1!C148,初期設定1!$C$18:$F$59,3,FALSE)&\" \"&RIGHT(記録入力1!N148,7))","v":""},null,{"$f":"IF(B136=\"\",\"\",記録入力1!I148)","v":{"$error":"#N/A"}}]
[{"$f":"IF(B137=\"\",\"\",記録入力1!C149)","v":{"$error":"#N/A"}},{"$f":"VLOOKUP($H137,女子選手!$B$2:$G$158,6,FALSE)","v":{"$error":"#N/A"}},{"$f":"IF($H137=\"\",\"\",VLOOKUP($H137,女子選手!$B$2:$D$158,2,FALSE))","v":""},{"$f":"IF($H137=\"\",\"\",VLOOKUP($H137,女子選手!$B$2:$D$158,3,FALSE))","v":""},"","",{"$f":"IF(H137=\"\",\"\",VALUE(MID(VLOOKUP($H137,女子選手!$B$2:$G$158,6,FALSE),2,6)))","v":""},{"$f":"記録入力1!J149","v":""},{"$f":"IF(H137=\"\",\"\",VLOOKUP(記録入力1!C149,初期設定1!$C$18:$F$59,3,FALSE)&\" \"&RIGHT(記録入力1!N149,7))","v":""},null,{"$f":"IF(B137=\"\",\"\",記録入力1!I149)","v":{"$error":"#N/A"}}]
[{"$f":"IF(B138=\"\",\"\",記録入力1!C150)","v":{"$error":"#N/A"}},{"$f":"VLOOKUP($H138,女子選手!$B$2:$G$158,6,FALSE)","v":{"$error":"#N/A"}},{"$f":"IF($H138=\"\",\"\",VLOOKUP($H138,女子選手!$B$2:$D$158,2,FALSE))","v":""},{"$f":"IF($H138=\"\",\"\",VLOOKUP($H138,女子選手!$B$2:$D$158,3,FALSE))","v":""},"","",{"$f":"IF(H138=\"\",\"\",VALUE(MID(VLOOKUP($H138,女子選手!$B$2:$G$158,6,FALSE),2,6)))","v":""},{"$f":"記録入力1!J150","v":""},{"$f":"IF(H138=\"\",\"\",VLOOKUP(記録入力1!C150,初期設定1!$C$18:$F$59,3,FALSE)&\" \"&RIGHT(記録入力1!N150,7))","v":""},null,{"$f":"IF(B138=\"\",\"\",記録入力1!I150)","v":{"$error":"#N/A"}}]
[{"$f":"IF(B139=\"\",\"\",記録入力1!C151)","v":{"$error":"#N/A"}},{"$f":"VLOOKUP($H139,女子選手!$B$2:$G$158,6,FALSE)","v":{"$error":"#N/A"}},{"$f":"IF($H139=\"\",\"\",VLOOKUP($H139,女子選手!$B$2:$D$158,2,FALSE))","v":""},{"$f":"IF($H139=\"\",\"\",VLOOKUP($H139,女子選手!$B$2:$D$158,3,FALSE))","v":""},"","",{"$f":"IF(H139=\"\",\"\",VALUE(MID(VLOOKUP($H139,女子選手!$B$2:$G$158,6,FALSE),2,6)))","v":""},{"$f":"記録入力1!J151","v":""},{"$f":"IF(H139=\"\",\"\",VLOOKUP(記録入力1!C151,初期設定1!$C$18:$F$59,3,FALSE)&\" \"&RIGHT(記録入力1!N151,7))","v":""},null,{"$f":"IF(B139=\"\",\"\",記録入力1!I151)","v":{"$error":"#N/A"}}]
[{"$f":"IF(B140=\"\",\"\",記録入力1!C152)","v":{"$error":"#N/A"}},{"$f":"VLOOKUP($H140,女子選手!$B$2:$G$158,6,FALSE)","v":{"$error":"#N/A"}},{"$f":"IF($H140=\"\",\"\",VLOOKUP($H140,女子選手!$B$2:$D$158,2,FALSE))","v":""},{"$f":"IF($H140=\"\",\"\",VLOOKUP($H140,女子選手!$B$2:$D$158,3,FALSE))","v":""},"","",{"$f":"IF(H140=\"\",\"\",VALUE(MID(VLOOKUP($H140,女子選手!$B$2:$G$158,6,FALSE),2,6)))","v":""},{"$f":"記録入力1!J152","v":""},{"$f":"IF(H140=\"\",\"\",VLOOKUP(記録入力1!C152,初期設定1!$C$18:$F$59,3,FALSE)&\" \"&RIGHT(記録入力1!N152,7))","v":""},null,{"$f":"IF(B140=\"\",\"\",記録入力1!I152)","v":{"$error":"#N/A"}}]
[{"$f":"IF(B141=\"\",\"\",記録入力1!C153)","v":{"$error":"#N/A"}},{"$f":"VLOOKUP($H141,女子選手!$B$2:$G$158,6,FALSE)","v":{"$error":"#N/A"}},{"$f":"IF($H141=\"\",\"\",VLOOKUP($H141,女子選手!$B$2:$D$158,2,FALSE))","v":""},{"$f":"IF($H141=\"\",\"\",VLOOKUP($H141,女子選手!$B$2:$D$158,3,FALSE))","v":""},"","",{"$f":"IF(H141=\"\",\"\",VALUE(MID(VLOOKUP($H141,女子選手!$B$2:$G$158,6,FALSE),2,6)))","v":""},{"$f":"記録入力1!J153","v":""},{"$f":"IF(H141=\"\",\"\",VLOOKUP(記録入力1!C153,初期設定1!$C$18:$F$59,3,FALSE)&\" \"&RIGHT(記録入力1!N153,7))","v":""},null,{"$f":"IF(B141=\"\",\"\",記録入力1!I153)","v":{"$error":"#N/A"}}]
[{"$f":"IF(B142=\"\",\"\",記録入力1!C154)","v":{"$error":"#N/A"}},{"$f":"VLOOKUP($H142,女子選手!$B$2:$G$158,6,FALSE)","v":{"$error":"#N/A"}},{"$f":"IF($H142=\"\",\"\",VLOOKUP($H142,女子選手!$B$2:$D$158,2,FALSE))","v":""},{"$f":"IF($H142=\"\",\"\",VLOOKUP($H142,女子選手!$B$2:$D$158,3,FALSE))","v":""},"","",{"$f":"IF(H142=\"\",\"\",VALUE(MID(VLOOKUP($H142,女子選手!$B$2:$G$158,6,FALSE),2,6)))","v":""},{"$f":"記録入力1!J154","v":""},{"$f":"IF(H142=\"\",\"\",VLOOKUP(記録入力1!C154,初期設定1!$C$18:$F$59,3,FALSE)&\" \"&RIGHT(記録入力1!N154,7))","v":""},null,{"$f":"IF(B142=\"\",\"\",記録入力1!I154)","v":{"$error":"#N/A"}}]
[{"$f":"IF(B143=\"\",\"\",記録入力1!C155)","v":{"$error":"#N/A"}},{"$f":"VLOOKUP($H143,女子選手!$B$2:$G$158,6,FALSE)","v":{"$error":"#N/A"}},{"$f":"IF($H143=\"\",\"\",VLOOKUP($H143,女子選手!$B$2:$D$158,2,FALSE))","v":""},{"$f":"IF($H143=\"\",\"\",VLOOKUP($H143,女子選手!$B$2:$D$158,3,FALSE))","v":""},"","",{"$f":"IF(H143=\"\",\"\",VALUE(MID(VLOOKUP($H143,女子選手!$B$2:$G$158,6,FALSE),2,6)))","v":""},{"$f":"記録入力1!J155","v":""},{"$f":"IF(H143=\"\",\"\",VLOOKUP(記録入力1!C155,初期設定1!$C$18:$F$59,3,FALSE)&\" \"&RIGHT(記録入力1!N155,7))","v":""},null,{"$f":"IF(B143=\"\",\"\",記録入力1!I155)","v":{"$error":"#N/A"}}]
[{"$f":"IF(B144=\"\",\"\",記録入力1!C156)","v":{"$error":"#N/A"}},{"$f":"VLOOKUP($H144,女子選手!$B$2:$G$158,6,FALSE)","v":{"$error":"#N/A"}},{"$f":"IF($H144=\"\",\"\",VLOOKUP($H144,女子選手!$B$2:$D$158,2,FALSE))","v":""},{"$f":"IF($H144=\"\",\"\",VLOOKUP($H144,女子選手!$B$2:$D$158,3,FALSE))","v":""},"","",{"$f":"IF(H144=\"\",\"\",VALUE(MID(VLOOKUP($H144,女子選手!$B$2:$G$158,6,FALSE),2,6)))","v":""},{"$f":"記録入力1!J156","v":""},{"$f":"IF(H144=\"\",\"\",VLOOKUP(記録入力1!C156,初期設定1!$C$18:$F$59,3,FALSE)&\" \"&RIGHT(記録入力1!N156,7))","v":""},null,{"$f":"IF(B144=\"\",\"\",記録入力1!I156)","v":{"$error":"#N/A"}}]
[{"$f":"IF(B145=\"\",\"\",記録入力1!C157)","v":{"$error":"#N/A"}},{"$f":"VLOOKUP($H145,女子選手!$B$2:$G$158,6,FALSE)","v":{"$error":"#N/A"}},{"$f":"IF($H145=\"\",\"\",VLOOKUP($H145,女子選手!$B$2:$D$158,2,FALSE))","v":""},{"$f":"IF($H145=\"\",\"\",VLOOKUP($H145,女子選手!$B$2:$D$158,3,FALSE))","v":""},"","",{"$f":"IF(H145=\"\",\"\",VALUE(MID(VLOOKUP($H145,女子選手!$B$2:$G$158,6,FALSE),2,6)))","v":""},{"$f":"記録入力1!J157","v":""},{"$f":"IF(H145=\"\",\"\",VLOOKUP(記録入力1!C157,初期設定1!$C$18:$F$59,3,FALSE)&\" \"&RIGHT(記録入力1!N157,7))","v":""},null,{"$f":"IF(B145=\"\",\"\",記録入力1!I157)","v":{"$error":"#N/A"}}]
[{"$f":"IF(B146=\"\",\"\",記録入力1!C158)","v":{"$error":"#N/A"}},{"$f":"VLOOKUP($H146,女子選手!$B$2:$G$158,6,FALSE)","v":{"$error":"#N/A"}},{"$f":"IF($H146=\"\",\"\",VLOOKUP($H146,女子選手!$B$2:$D$158,2,FALSE))","v":""},{"$f":"IF($H146=\"\",\"\",VLOOKUP($H146,女子選手!$B$2:$D$158,3,FALSE))","v":""},"","",{"$f":"IF(H146=\"\",\"\",VALUE(MID(VLOOKUP($H146,女子選手!$B$2:$G$158,6,FALSE),2,6)))","v":""},{"$f":"記録入力1!J158","v":""},{"$f":"IF(H146=\"\",\"\",VLOOKUP(記録入力1!C158,初期設定1!$C$18:$F$59,3,FALSE)&\" \"&RIGHT(記録入力1!N158,7))","v":""},null,{"$f":"IF(B146=\"\",\"\",記録入力1!I158)","v":{"$error":"#N/A"}}]
[{"$f":"IF(B147=\"\",\"\",記録入力1!C159)","v":{"$error":"#N/A"}},{"$f":"VLOOKUP($H147,女子選手!$B$2:$G$158,6,FALSE)","v":{"$error":"#N/A"}},{"$f":"IF($H147=\"\",\"\",VLOOKUP($H147,女子選手!$B$2:$D$158,2,FALSE))","v":""},{"$f":"IF($H147=\"\",\"\",VLOOKUP($H147,女子選手!$B$2:$D$158,3,FALSE))","v":""},"","",{"$f":"IF(H147=\"\",\"\",VALUE(MID(VLOOKUP($H147,女子選手!$B$2:$G$158,6,FALSE),2,6)))","v":""},{"$f":"記録入力1!J159","v":""},{"$f":"IF(H147=\"\",\"\",VLOOKUP(記録入力1!C159,初期設定1!$C$18:$F$59,3,FALSE)&\" \"&RIGHT(記録入力1!N159,7))","v":""},null,{"$f":"IF(B147=\"\",\"\",記録入力1!I159)","v":{"$error":"#N/A"}}]
[{"$f":"IF(B148=\"\",\"\",記録入力1!C160)","v":{"$error":"#N/A"}},{"$f":"VLOOKUP($H148,女子選手!$B$2:$G$158,6,FALSE)","v":{"$error":"#N/A"}},{"$f":"IF($H148=\"\",\"\",VLOOKUP($H148,女子選手!$B$2:$D$158,2,FALSE))","v":""},{"$f":"IF($H148=\"\",\"\",VLOOKUP($H148,女子選手!$B$2:$D$158,3,FALSE))","v":""},"","",{"$f":"IF(H148=\"\",\"\",VALUE(MID(VLOOKUP($H148,女子選手!$B$2:$G$158,6,FALSE),2,6)))","v":""},{"$f":"記録入力1!J160","v":""},{"$f":"IF(H148=\"\",\"\",VLOOKUP(記録入力1!C160,初期設定1!$C$18:$F$59,3,FALSE)&\" \"&RIGHT(記録入力1!N160,7))","v":""},null,{"$f":"IF(B148=\"\",\"\",記録入力1!I160)","v":{"$error":"#N/A"}}]
[{"$f":"IF(B149=\"\",\"\",記録入力1!C161)","v":{"$error":"#N/A"}},{"$f":"VLOOKUP($H149,女子選手!$B$2:$G$158,6,FALSE)","v":{"$error":"#N/A"}},{"$f":"IF($H149=\"\",\"\",VLOOKUP($H149,女子選手!$B$2:$D$158,2,FALSE))","v":""},{"$f":"IF($H149=\"\",\"\",VLOOKUP($H149,女子選手!$B$2:$D$158,3,FALSE))","v":""},"","",{"$f":"IF(H149=\"\",\"\",VALUE(MID(VLOOKUP($H149,女子選手!$B$2:$G$158,6,FALSE),2,6)))","v":""},{"$f":"記録入力1!J161","v":""},{"$f":"IF(H149=\"\",\"\",VLOOKUP(記録入力1!C161,初期設定1!$C$18:$F$59,3,FALSE)&\" \"&RIGHT(記録入力1!N161,5))","v":""},null,{"$f":"IF(B149=\"\",\"\",記録入力1!I161)","v":{"$error":"#N/A"}}]
[{"$f":"IF(B150=\"\",\"\",記録入力1!C162)","v":{"$error":"#N/A"}},{"$f":"VLOOKUP($H150,女子選手!$B$2:$G$158,6,FALSE)","v":{"$error":"#N/A"}},{"$f":"IF($H150=\"\",\"\",VLOOKUP($H150,女子選手!$B$2:$D$158,2,FALSE))","v":""},{"$f":"IF($H150=\"\",\"\",VLOOKUP($H150,女子選手!$B$2:$D$158,3,FALSE))","v":""},"","",{"$f":"IF(H150=\"\",\"\",VALUE(MID(VLOOKUP($H150,女子選手!$B$2:$G$158,6,FALSE),2,6)))","v":""},{"$f":"記録入力1!J162","v":""},{"$f":"IF(H150=\"\",\"\",VLOOKUP(記録入力1!C162,初期設定1!$C$18:$F$59,3,FALSE)&\" \"&RIGHT(記録入力1!N162,5))","v":""},null,{"$f":"IF(B150=\"\",\"\",記録入力1!I162)","v":{"$error":"#N/A"}}]
[{"$f":"IF(B151=\"\",\"\",記録入力1!C163)","v":{"$error":"#N/A"}},{"$f":"VLOOKUP($H151,女子選手!$B$2:$G$158,6,FALSE)","v":{"$error":"#N/A"}},{"$f":"IF($H151=\"\",\"\",VLOOKUP($H151,女子選手!$B$2:$D$158,2,FALSE))","v":""},{"$f":"IF($H151=\"\",\"\",VLOOKUP($H151,女子選手!$B$2:$D$158,3,FALSE))","v":""},"","",{"$f":"IF(H151=\"\",\"\",VALUE(MID(VLOOKUP($H151,女子選手!$B$2:$G$158,6,FALSE),2,6)))","v":""},{"$f":"記録入力1!J163","v":""},{"$f":"IF(H151=\"\",\"\",VLOOKUP(記録入力1!C163,初期設定1!$C$18:$F$59,3,FALSE)&\" \"&RIGHT(記録入力1!N163,5))","v":""},null,{"$f":"IF(B151=\"\",\"\",記録入力1!I163)","v":{"$error":"#N/A"}}]
[{"$f":"IF(B152=\"\",\"\",記録入力1!C164)","v":{"$error":"#N/A"}},{"$f":"VLOOKUP($H152,女子選手!$B$2:$G$158,6,FALSE)","v":{"$error":"#N/A"}},{"$f":"IF($H152=\"\",\"\",VLOOKUP($H152,女子選手!$B$2:$D$158,2,FALSE))","v":""},{"$f":"IF($H152=\"\",\"\",VLOOKUP($H152,女子選手!$B$2:$D$158,3,FALSE))","v":""},"","",{"$f":"IF(H152=\"\",\"\",VALUE(MID(VLOOKUP($H152,女子選手!$B$2:$G$158,6,FALSE),2,6)))","v":""},{"$f":"記録入力1!J164","v":""},{"$f":"IF(H152=\"\",\"\",VLOOKUP(記録入力1!C164,初期設定1!$C$18:$F$59,3,FALSE)&\" \"&RIGHT(記録入力1!N164,5))","v":""},null,{"$f":"IF(B152=\"\",\"\",記録入力1!I164)","v":{"$error":"#N/A"}}]
[{"$f":"IF(B153=\"\",\"\",記録入力1!C165)","v":{"$error":"#N/A"}},{"$f":"VLOOKUP($H153,女子選手!$B$2:$G$158,6,FALSE)","v":{"$error":"#N/A"}},{"$f":"IF($H153=\"\",\"\",VLOOKUP($H153,女子選手!$B$2:$D$158,2,FALSE))","v":""},{"$f":"IF($H153=\"\",\"\",VLOOKUP($H153,女子選手!$B$2:$D$158,3,FALSE))","v":""},"","",{"$f":"IF(H153=\"\",\"\",VALUE(MID(VLOOKUP($H153,女子選手!$B$2:$G$158,6,FALSE),2,6)))","v":""},{"$f":"記録入力1!J165","v":""},{"$f":"IF(H153=\"\",\"\",VLOOKUP(記録入力1!C165,初期設定1!$C$18:$F$59,3,FALSE)&\" \"&RIGHT(記録入力1!N165,5))","v":""},null,{"$f":"IF(B153=\"\",\"\",記録入力1!I165)","v":{"$error":"#N/A"}}]
[{"$f":"IF(B154=\"\",\"\",記録入力1!C166)","v":{"$error":"#N/A"}},{"$f":"VLOOKUP($H154,女子選手!$B$2:$G$158,6,FALSE)","v":{"$error":"#N/A"}},{"$f":"IF($H154=\"\",\"\",VLOOKUP($H154,女子選手!$B$2:$D$158,2,FALSE))","v":""},{"$f":"IF($H154=\"\",\"\",VLOOKUP($H154,女子選手!$B$2:$D$158,3,FALSE))","v":""},"","",{"$f":"IF(H154=\"\",\"\",VALUE(MID(VLOOKUP($H154,女子選手!$B$2:$G$158,6,FALSE),2,6)))","v":""},{"$f":"記録入力1!J166","v":""},{"$f":"IF(H154=\"\",\"\",VLOOKUP(記録入力1!C166,初期設定1!$C$18:$F$59,3,FALSE)&\" \"&RIGHT(記録入力1!N166,5))","v":""},null,{"$f":"IF(B154=\"\",\"\",記録入力1!I166)","v":{"$error":"#N/A"}}]
[{"$f":"IF(B155=\"\",\"\",記録入力1!C167)","v":{"$error":"#N/A"}},{"$f":"VLOOKUP($H155,女子選手!$B$2:$G$158,6,FALSE)","v":{"$error":"#N/A"}},{"$f":"IF($H155=\"\",\"\",VLOOKUP($H155,女子選手!$B$2:$D$158,2,FALSE))","v":""},{"$f":"IF($H155=\"\",\"\",VLOOKUP($H155,女子選手!$B$2:$D$158,3,FALSE))","v":""},"","",{"$f":"IF(H155=\"\",\"\",VALUE(MID(VLOOKUP($H155,女子選手!$B$2:$G$158,6,FALSE),2,6)))","v":""},{"$f":"記録入力1!J167","v":""},{"$f":"IF(H155=\"\",\"\",VLOOKUP(記録入力1!C167,初期設定1!$C$18:$F$59,3,FALSE)&\" \"&RIGHT(記録入力1!N167,5))","v":""},null,{"$f":"IF(B155=\"\",\"\",記録入力1!I167)","v":{"$error":"#N/A"}}]
[{"$f":"IF(B156=\"\",\"\",記録入力1!C168)","v":{"$error":"#N/A"}},{"$f":"VLOOKUP($H156,女子選手!$B$2:$G$158,6,FALSE)","v":{"$error":"#N/A"}},{"$f":"IF($H156=\"\",\"\",VLOOKUP($H156,女子選手!$B$2:$D$158,2,FALSE))","v":""},{"$f":"IF($H156=\"\",\"\",VLOOKUP($H156,女子選手!$B$2:$D$158,3,FALSE))","v":""},"","",{"$f":"IF(H156=\"\",\"\",VALUE(MID(VLOOKUP($H156,女子選手!$B$2:$G$158,6,FALSE),2,6)))","v":""},{"$f":"記録入力1!J168","v":""},{"$f":"IF(H156=\"\",\"\",VLOOKUP(記録入力1!C168,初期設定1!$C$18:$F$59,3,FALSE)&\" \"&RIGHT(記録入力1!N168,5))","v":""},null,{"$f":"IF(B156=\"\",\"\",記録入力1!I168)","v":{"$error":"#N/A"}}]
[{"$f":"IF(B157=\"\",\"\",記録入力1!C169)","v":{"$error":"#N/A"}},{"$f":"VLOOKUP($H157,女子選手!$B$2:$G$158,6,FALSE)","v":{"$error":"#N/A"}},{"$f":"IF($H157=\"\",\"\",VLOOKUP($H157,女子選手!$B$2:$D$158,2,FALSE))","v":""},{"$f":"IF($H157=\"\",\"\",VLOOKUP($H157,女子選手!$B$2:$D$158,3,FALSE))","v":""},"","",{"$f":"IF(H157=\"\",\"\",VALUE(MID(VLOOKUP($H157,女子選手!$B$2:$G$158,6,FALSE),2,6)))","v":""},{"$f":"記録入力1!J169","v":""},{"$f":"IF(H157=\"\",\"\",VLOOKUP(記録入力1!C169,初期設定1!$C$18:$F$59,3,FALSE)&\" \"&RIGHT(記録入力1!N169,5))","v":""},null,{"$f":"IF(B157=\"\",\"\",記録入力1!I169)","v":{"$error":"#N/A"}}]
[{"$f":"IF(B158=\"\",\"\",記録入力1!C170)","v":{"$error":"#N/A"}},{"$f":"VLOOKUP($H158,女子選手!$B$2:$G$158,6,FALSE)","v":{"$error":"#N/A"}},{"$f":"IF($H158=\"\",\"\",VLOOKUP($H158,女子選手!$B$2:$D$158,2,FALSE))","v":""},{"$f":"IF($H158=\"\",\"\",VLOOKUP($H158,女子選手!$B$2:$D$158,3,FALSE))","v":""},"","",{"$f":"IF(H158=\"\",\"\",VALUE(MID(VLOOKUP($H158,女子選手!$B$2:$G$158,6,FALSE),2,6)))","v":""},{"$f":"記録入力1!J170","v":""},{"$f":"IF(H158=\"\",\"\",VLOOKUP(記録入力1!C170,初期設定1!$C$18:$F$59,3,FALSE)&\" \"&RIGHT(記録入力1!N170,5))","v":""},null,{"$f":"IF(B158=\"\",\"\",記録入力1!I170)","v":{"$error":"#N/A"}}]
[{"$f":"IF(B159=\"\",\"\",記録入力1!C171)","v":{"$error":"#N/A"}},{"$f":"VLOOKUP($H159,女子選手!$B$2:$G$158,6,FALSE)","v":{"$error":"#N/A"}},{"$f":"IF($H159=\"\",\"\",VLOOKUP($H159,女子選手!$B$2:$D$158,2,FALSE))","v":""},{"$f":"IF($H159=\"\",\"\",VLOOKUP($H159,女子選手!$B$2:$D$158,3,FALSE))","v":""},"","",{"$f":"IF(H159=\"\",\"\",VALUE(MID(VLOOKUP($H159,女子選手!$B$2:$G$158,6,FALSE),2,6)))","v":""},{"$f":"記録入力1!J171","v":""},{"$f":"IF(H159=\"\",\"\",VLOOKUP(記録入力1!C171,初期設定1!$C$18:$F$59,3,FALSE)&\" \"&RIGHT(記録入力1!N171,5))","v":""},null,{"$f":"IF(B159=\"\",\"\",記録入力1!I171)","v":{"$error":"#N/A"}}]
[{"$f":"IF(B160=\"\",\"\",記録入力1!C172)","v":{"$error":"#N/A"}},{"$f":"VLOOKUP($H160,女子選手!$B$2:$G$158,6,FALSE)","v":{"$error":"#N/A"}},{"$f":"IF($H160=\"\",\"\",VLOOKUP($H160,女子選手!$B$2:$D$158,2,FALSE))","v":""},{"$f":"IF($H160=\"\",\"\",VLOOKUP($H160,女子選手!$B$2:$D$158,3,FALSE))","v":""},"","",{"$f":"IF(H160=\"\",\"\",VALUE(MID(VLOOKUP($H160,女子選手!$B$2:$G$158,6,FALSE),2,6)))","v":""},{"$f":"記録入力1!J172","v":""},{"$f":"IF(H160=\"\",\"\",VLOOKUP(記録入力1!C172,初期設定1!$C$18:$F$59,3,FALSE)&\" \"&RIGHT(記録入力1!N172,5))","v":""},null,{"$f":"IF(B160=\"\",\"\",記録入力1!I172)","v":{"$error":"#N/A"}}]
[{"$f":"IF(B161=\"\",\"\",記録入力1!C173)","v":{"$error":"#N/A"}},{"$f":"VLOOKUP($H161,女子選手!$B$2:$G$158,6,FALSE)","v":{"$error":"#N/A"}},{"$f":"IF($H161=\"\",\"\",VLOOKUP($H161,女子選手!$B$2:$D$158,2,FALSE))","v":""},{"$f":"IF($H161=\"\",\"\",VLOOKUP($H161,女子選手!$B$2:$D$158,3,FALSE))","v":""},"","",{"$f":"IF(H161=\"\",\"\",VALUE(MID(VLOOKUP($H161,女子選手!$B$2:$G$158,6,FALSE),2,6)))","v":""},{"$f":"記録入力1!J173","v":""},{"$f":"IF(H161=\"\",\"\",VLOOKUP(記録入力1!C173,初期設定1!$C$18:$F$59,3,FALSE)&\" \"&RIGHT(記録入力1!N173,5))","v":""},null,{"$f":"IF(B161=\"\",\"\",記録入力1!I173)","v":{"$error":"#N/A"}}]
[{"$f":"IF(B162=\"\",\"\",記録入力1!C174)","v":{"$error":"#N/A"}},{"$f":"VLOOKUP($H162,女子選手!$B$2:$G$158,6,FALSE)","v":{"$error":"#N/A"}},{"$f":"IF($H162=\"\",\"\",VLOOKUP($H162,女子選手!$B$2:$D$158,2,FALSE))","v":""},{"$f":"IF($H162=\"\",\"\",VLOOKUP($H162,女子選手!$B$2:$D$158,3,FALSE))","v":""},"","",{"$f":"IF(H162=\"\",\"\",VALUE(MID(VLOOKUP($H162,女子選手!$B$2:$G$158,6,FALSE),2,6)))","v":""},{"$f":"記録入力1!J174","v":""},{"$f":"IF(H162=\"\",\"\",VLOOKUP(記録入力1!C174,初期設定1!$C$18:$F$59,3,FALSE)&\" \"&RIGHT(記録入力1!N174,5))","v":""},null,{"$f":"IF(B162=\"\",\"\",記録入力1!I174)","v":{"$error":"#N/A"}}]
[{"$f":"IF(B163=\"\",\"\",記録入力1!C175)","v":{"$error":"#N/A"}},{"$f":"VLOOKUP($H163,女子選手!$B$2:$G$158,6,FALSE)","v":{"$error":"#N/A"}},{"$f":"IF($H163=\"\",\"\",VLOOKUP($H163,女子選手!$B$2:$D$158,2,FALSE))","v":""},{"$f":"IF($H163=\"\",\"\",VLOOKUP($H163,女子選手!$B$2:$D$158,3,FALSE))","v":""},"","",{"$f":"IF(H163=\"\",\"\",VALUE(MID(VLOOKUP($H163,女子選手!$B$2:$G$158,6,FALSE),2,6)))","v":""},{"$f":"記録入力1!J175","v":""},{"$f":"IF(H163=\"\",\"\",VLOOKUP(記録入力1!C175,初期設定1!$C$18:$F$59,3,FALSE)&\" \"&RIGHT(記録入力1!N175,5))","v":""},null,{"$f":"IF(B163=\"\",\"\",記録入力1!I175)","v":{"$error":"#N/A"}}]
[{"$f":"IF(B164=\"\",\"\",記録入力1!C176)","v":{"$error":"#N/A"}},{"$f":"VLOOKUP($H164,女子選手!$B$2:$G$158,6,FALSE)","v":{"$error":"#N/A"}},{"$f":"IF($H164=\"\",\"\",VLOOKUP($H164,女子選手!$B$2:$D$158,2,FALSE))","v":""},{"$f":"IF($H164=\"\",\"\",VLOOKUP($H164,女子選手!$B$2:$D$158,3,FALSE))","v":""},"","",{"$f":"IF(H164=\"\",\"\",VALUE(MID(VLOOKUP($H164,女子選手!$B$2:$G$158,6,FALSE),2,6)))","v":""},{"$f":"記録入力1!J176","v":""},{"$f":"IF(H164=\"\",\"\",VLOOKUP(記録入力1!C176,初期設定1!$C$18:$F$59,3,FALSE)&\" \"&RIGHT(記録入力1!N176,5))","v":""},null,{"$f":"IF(B164=\"\",\"\",記録入力1!I176)","v":{"$error":"#N/A"}}]
[{"$f":"IF(B165=\"\",\"\",記録入力1!C177)","v":{"$error":"#N/A"}},{"$f":"VLOOKUP($H165,女子選手!$B$2:$G$158,6,FALSE)","v":{"$error":"#N/A"}},{"$f":"IF($H165=\"\",\"\",VLOOKUP($H165,女子選手!$B$2:$D$158,2,FALSE))","v":""},{"$f":"IF($H165=\"\",\"\",VLOOKUP($H165,女子選手!$B$2:$D$158,3,FALSE))","v":""},"","",{"$f":"IF(H165=\"\",\"\",VALUE(MID(VLOOKUP($H165,女子選手!$B$2:$G$158,6,FALSE),2,6)))","v":""},{"$f":"記録入力1!J177","v":""},{"$f":"IF(H165=\"\",\"\",VLOOKUP(記録入力1!C177,初期設定1!$C$18:$F$59,3,FALSE)&\" \"&RIGHT(記録入力1!N177,5))","v":""},null,{"$f":"IF(B165=\"\",\"\",記録入力1!I177)","v":{"$error":"#N/A"}}]
[{"$f":"IF(B166=\"\",\"\",記録入力1!C178)","v":{"$error":"#N/A"}},{"$f":"VLOOKUP($H166,女子選手!$B$2:$G$158,6,FALSE)","v":{"$error":"#N/A"}},{"$f":"IF($H166=\"\",\"\",VLOOKUP($H166,女子選手!$B$2:$D$158,2,FALSE))","v":""},{"$f":"IF($H166=\"\",\"\",VLOOKUP($H166,女子選手!$B$2:$D$158,3,FALSE))","v":""},"","",{"$f":"IF(H166=\"\",\"\",VALUE(MID(VLOOKUP($H166,女子選手!$B$2:$G$158,6,FALSE),2,6)))","v":""},{"$f":"記録入力1!J178","v":""},{"$f":"IF(H166=\"\",\"\",VLOOKUP(記録入力1!C178,初期設定1!$C$18:$F$59,3,FALSE)&\" \"&RIGHT(記録入力1!N178,5))","v":""},null,{"$f":"IF(B166=\"\",\"\",記録入力1!I178)","v":{"$error":"#N/A"}}]
[{"$f":"IF(B167=\"\",\"\",記録入力1!C179)","v":{"$error":"#N/A"}},{"$f":"VLOOKUP($H167,女子選手!$B$2:$G$158,6,FALSE)","v":{"$error":"#N/A"}},{"$f":"IF($H167=\"\",\"\",VLOOKUP($H167,女子選手!$B$2:$D$158,2,FALSE))","v":""},{"$f":"IF($H167=\"\",\"\",VLOOKUP($H167,女子選手!$B$2:$D$158,3,FALSE))","v":""},"","",{"$f":"IF(H167=\"\",\"\",VALUE(MID(VLOOKUP($H167,女子選手!$B$2:$G$158,6,FALSE),2,6)))","v":""},{"$f":"記録入力1!J179","v":""},{"$f":"IF(H167=\"\",\"\",VLOOKUP(記録入力1!C179,初期設定1!$C$18:$F$59,3,FALSE)&\" \"&RIGHT(記録入力1!N179,5))","v":""},null,{"$f":"IF(B167=\"\",\"\",記録入力1!I179)","v":{"$error":"#N/A"}}]
[{"$f":"IF(B168=\"\",\"\",記録入力1!C180)","v":{"$error":"#N/A"}},{"$f":"VLOOKUP($H168,女子選手!$B$2:$G$158,6,FALSE)","v":{"$error":"#N/A"}},{"$f":"IF($H168=\"\",\"\",VLOOKUP($H168,女子選手!$B$2:$D$158,2,FALSE))","v":""},{"$f":"IF($H168=\"\",\"\",VLOOKUP($H168,女子選手!$B$2:$D$158,3,FALSE))","v":""},"","",{"$f":"IF(H168=\"\",\"\",VALUE(MID(VLOOKUP($H168,女子選手!$B$2:$G$158,6,FALSE),2,6)))","v":""},{"$f":"記録入力1!J180","v":""},{"$f":"IF(H168=\"\",\"\",VLOOKUP(記録入力1!C180,初期設定1!$C$18:$F$59,3,FALSE)&\" \"&RIGHT(記録入力1!N180,5))","v":""},null,{"$f":"IF(B168=\"\",\"\",記録入力1!I180)","v":{"$error":"#N/A"}}]
[{"$f":"IF(B169=\"\",\"\",記録入力1!C181)","v":{"$error":"#N/A"}},{"$f":"VLOOKUP($H169,女子選手!$B$2:$G$158,6,FALSE)","v":{"$error":"#N/A"}},{"$f":"IF($H169=\"\",\"\",VLOOKUP($H169,女子選手!$B$2:$D$158,2,FALSE))","v":""},{"$f":"IF($H169=\"\",\"\",VLOOKUP($H169,女子選手!$B$2:$D$158,3,FALSE))","v":""},"","",{"$f":"IF(H169=\"\",\"\",VALUE(MID(VLOOKUP($H169,女子選手!$B$2:$G$158,6,FALSE),2,6)))","v":""},{"$f":"記録入力1!J181","v":""},{"$f":"IF(H169=\"\",\"\",VLOOKUP(記録入力1!C181,初期設定1!$C$18:$F$59,3,FALSE)&\" \"&RIGHT(記録入力1!N181,5))","v":""},null,{"$f":"IF(B169=\"\",\"\",記録入力1!I181)","v":{"$error":"#N/A"}}]
[{"$f":"IF(B170=\"\",\"\",記録入力1!C182)","v":{"$error":"#N/A"}},{"$f":"VLOOKUP($H170,女子選手!$B$2:$G$158,6,FALSE)","v":{"$error":"#N/A"}},{"$f":"IF($H170=\"\",\"\",VLOOKUP($H170,女子選手!$B$2:$D$158,2,FALSE))","v":""},{"$f":"IF($H170=\"\",\"\",VLOOKUP($H170,女子選手!$B$2:$D$158,3,FALSE))","v":""},"","",{"$f":"IF(H170=\"\",\"\",VALUE(MID(VLOOKUP($H170,女子選手!$B$2:$G$158,6,FALSE),2,6)))","v":""},{"$f":"記録入力1!J182","v":""},{"$f":"IF(H170=\"\",\"\",VLOOKUP(記録入力1!C182,初期設定1!$C$18:$F$59,3,FALSE)&\" \"&RIGHT(記録入力1!N182,5))","v":""},null,{"$f":"IF(B170=\"\",\"\",記録入力1!I182)","v":{"$error":"#N/A"}}]
[{"$f":"IF(B171=\"\",\"\",記録入力1!C183)","v":{"$error":"#N/A"}},{"$f":"VLOOKUP($H171,女子選手!$B$2:$G$158,6,FALSE)","v":{"$error":"#N/A"}},{"$f":"IF($H171=\"\",\"\",VLOOKUP($H171,女子選手!$B$2:$D$158,2,FALSE))","v":""},{"$f":"IF($H171=\"\",\"\",VLOOKUP($H171,女子選手!$B$2:$D$158,3,FALSE))","v":""},"","",{"$f":"IF(H171=\"\",\"\",VALUE(MID(VLOOKUP($H171,女子選手!$B$2:$G$158,6,FALSE),2,6)))","v":""},{"$f":"記録入力1!J183","v":""},{"$f":"IF(H171=\"\",\"\",VLOOKUP(記録入力1!C183,初期設定1!$C$18:$F$59,3,FALSE)&\" \"&RIGHT(記録入力1!N183,5))","v":""},null,{"$f":"IF(B171=\"\",\"\",記録入力1!I183)","v":{"$error":"#N/A"}}]
[{"$f":"IF(B172=\"\",\"\",記録入力1!C184)","v":{"$error":"#N/A"}},{"$f":"VLOOKUP($H172,女子選手!$B$2:$G$158,6,FALSE)","v":{"$error":"#N/A"}},{"$f":"IF($H172=\"\",\"\",VLOOKUP($H172,女子選手!$B$2:$D$158,2,FALSE))","v":""},{"$f":"IF($H172=\"\",\"\",VLOOKUP($H172,女子選手!$B$2:$D$158,3,FALSE))","v":""},"","",{"$f":"IF(H172=\"\",\"\",VALUE(MID(VLOOKUP($H172,女子選手!$B$2:$G$158,6,FALSE),2,6)))","v":""},{"$f":"記録入力1!J184","v":""},{"$f":"IF(H172=\"\",\"\",VLOOKUP(記録入力1!C184,初期設定1!$C$18:$F$59,3,FALSE)&\" \"&RIGHT(記録入力1!N184,5))","v":""},null,{"$f":"IF(B172=\"\",\"\",記録入力1!I184)","v":{"$error":"#N/A"}}]
[{"$f":"IF(B173=\"\",\"\",記録入力1!C185)","v":{"$error":"#N/A"}},{"$f":"VLOOKUP($H173,女子選手!$B$2:$G$158,6,FALSE)","v":{"$error":"#N/A"}},{"$f":"IF($H173=\"\",\"\",VLOOKUP($H173,女子選手!$B$2:$D$158,2,FALSE))","v":""},{"$f":"IF($H173=\"\",\"\",VLOOKUP($H173,女子選手!$B$2:$D$158,3,FALSE))","v":""},"","",{"$f":"IF(H173=\"\",\"\",VALUE(MID(VLOOKUP($H173,女子選手!$B$2:$G$158,6,FALSE),2,6)))","v":""},{"$f":"記録入力1!J185","v":""},{"$f":"IF(H173=\"\",\"\",VLOOKUP(記録入力1!C185,初期設定1!$C$18:$F$59,3,FALSE)&\" \"&RIGHT(記録入力1!N185,5))","v":""},null,{"$f":"IF(B173=\"\",\"\",記録入力1!I185)","v":{"$error":"#N/A"}}]
[{"$f":"IF(B174=\"\",\"\",記録入力1!C186)","v":{"$error":"#N/A"}},{"$f":"VLOOKUP($H174,女子選手!$B$2:$G$158,6,FALSE)","v":{"$error":"#N/A"}},{"$f":"IF($H174=\"\",\"\",VLOOKUP($H174,女子選手!$B$2:$D$158,2,FALSE))","v":""},{"$f":"IF($H174=\"\",\"\",VLOOKUP($H174,女子選手!$B$2:$D$158,3,FALSE))","v":""},"","",{"$f":"IF(H174=\"\",\"\",VALUE(MID(VLOOKUP($H174,女子選手!$B$2:$G$158,6,FALSE),2,6)))","v":""},{"$f":"記録入力1!J186","v":""},{"$f":"IF(H174=\"\",\"\",VLOOKUP(記録入力1!C186,初期設定1!$C$18:$F$59,3,FALSE)&\" \"&RIGHT(記録入力1!N186,5))","v":""},null,{"$f":"IF(B174=\"\",\"\",記録入力1!I186)","v":{"$error":"#N/A"}}]
[{"$f":"IF(B175=\"\",\"\",記録入力1!C187)","v":{"$error":"#N/A"}},{"$f":"VLOOKUP($H175,女子選手!$B$2:$G$158,6,FALSE)","v":{"$error":"#N/A"}},{"$f":"IF($H175=\"\",\"\",VLOOKUP($H175,女子選手!$B$2:$D$158,2,FALSE))","v":""},{"$f":"IF($H175=\"\",\"\",VLOOKUP($H175,女子選手!$B$2:$D$158,3,FALSE))","v":""},"","",{"$f":"IF(H175=\"\",\"\",VALUE(MID(VLOOKUP($H175,女子選手!$B$2:$G$158,6,FALSE),2,6)))","v":""},{"$f":"記録入力1!J187","v":""},{"$f":"IF(H175=\"\",\"\",VLOOKUP(記録入力1!C187,初期設定1!$C$18:$F$59,3,FALSE)&\" \"&RIGHT(記録入力1!N187,5))","v":""},null,{"$f":"IF(B175=\"\",\"\",記録入力1!I187)","v":{"$error":"#N/A"}}]
[{"$f":"IF(B176=\"\",\"\",記録入力1!C188)","v":{"$error":"#N/A"}},{"$f":"VLOOKUP($H176,女子選手!$B$2:$G$158,6,FALSE)","v":{"$error":"#N/A"}},{"$f":"IF($H176=\"\",\"\",VLOOKUP($H176,女子選手!$B$2:$D$158,2,FALSE))","v":""},{"$f":"IF($H176=\"\",\"\",VLOOKUP($H176,女子選手!$B$2:$D$158,3,FALSE))","v":""},"","",{"$f":"IF(H176=\"\",\"\",VALUE(MID(VLOOKUP($H176,女子選手!$B$2:$G$158,6,FALSE),2,6)))","v":""},{"$f":"記録入力1!J188","v":""},{"$f":"IF(H176=\"\",\"\",VLOOKUP(記録入力1!C188,初期設定1!$C$18:$F$59,3,FALSE)&\" \"&RIGHT(記録入力1!N188,5))","v":""},null,{"$f":"IF(B176=\"\",\"\",記録入力1!I188)","v":{"$error":"#N/A"}}]
[{"$f":"IF(B177=\"\",\"\",記録入力1!C189)","v":{"$error":"#N/A"}},{"$f":"VLOOKUP($H177,女子選手!$B$2:$G$158,6,FALSE)","v":{"$error":"#N/A"}},{"$f":"IF($H177=\"\",\"\",VLOOKUP($H177,女子選手!$B$2:$D$158,2,FALSE))","v":""},{"$f":"IF($H177=\"\",\"\",VLOOKUP($H177,女子選手!$B$2:$D$158,3,FALSE))","v":""},"","",{"$f":"IF(H177=\"\",\"\",VALUE(MID(VLOOKUP($H177,女子選手!$B$2:$G$158,6,FALSE),2,6)))","v":""},{"$f":"記録入力1!J189","v":""},{"$f":"IF(H177=\"\",\"\",VLOOKUP(記録入力1!C189,初期設定1!$C$18:$F$59,3,FALSE)&\" \"&RIGHT(記録入力1!N189,5))","v":""},null,{"$f":"IF(B177=\"\",\"\",記録入力1!I189)","v":{"$error":"#N/A"}}]
[{"$f":"IF(B178=\"\",\"\",記録入力1!C190)","v":{"$error":"#N/A"}},{"$f":"VLOOKUP($H178,女子選手!$B$2:$G$158,6,FALSE)","v":{"$error":"#N/A"}},{"$f":"IF($H178=\"\",\"\",VLOOKUP($H178,女子選手!$B$2:$D$158,2,FALSE))","v":""},{"$f":"IF($H178=\"\",\"\",VLOOKUP($H178,女子選手!$B$2:$D$158,3,FALSE))","v":""},"","",{"$f":"IF(H178=\"\",\"\",VALUE(MID(VLOOKUP($H178,女子選手!$B$2:$G$158,6,FALSE),2,6)))","v":""},{"$f":"記録入力1!J190","v":""},{"$f":"IF(H178=\"\",\"\",VLOOKUP(記録入力1!C190,初期設定1!$C$18:$F$59,3,FALSE)&\" \"&RIGHT(記録入力1!N190,5))","v":""},null,{"$f":"IF(B178=\"\",\"\",記録入力1!I190)","v":{"$error":"#N/A"}}]
[{"$f":"IF(B179=\"\",\"\",記録入力1!C191)","v":{"$error":"#N/A"}},{"$f":"VLOOKUP($H179,女子選手!$B$2:$G$158,6,FALSE)","v":{"$error":"#N/A"}},{"$f":"IF($H179=\"\",\"\",VLOOKUP($H179,女子選手!$B$2:$D$158,2,FALSE))","v":""},{"$f":"IF($H179=\"\",\"\",VLOOKUP($H179,女子選手!$B$2:$D$158,3,FALSE))","v":""},"","",{"$f":"IF(H179=\"\",\"\",VALUE(MID(VLOOKUP($H179,女子選手!$B$2:$G$158,6,FALSE),2,6)))","v":""},{"$f":"記録入力1!J191","v":""},{"$f":"IF(H179=\"\",\"\",VLOOKUP(記録入力1!C191,初期設定1!$C$18:$F$59,3,FALSE)&\" \"&RIGHT(記録入力1!N191,5))","v":""},null,{"$f":"IF(B179=\"\",\"\",記録入力1!I191)","v":{"$error":"#N/A"}}]
[{"$f":"IF(B180=\"\",\"\",記録入力1!C192)","v":{"$error":"#N/A"}},{"$f":"VLOOKUP($H180,女子選手!$B$2:$G$158,6,FALSE)","v":{"$error":"#N/A"}},{"$f":"IF($H180=\"\",\"\",VLOOKUP($H180,女子選手!$B$2:$D$158,2,FALSE))","v":""},{"$f":"IF($H180=\"\",\"\",VLOOKUP($H180,女子選手!$B$2:$D$158,3,FALSE))","v":""},"","",{"$f":"IF(H180=\"\",\"\",VALUE(MID(VLOOKUP($H180,女子選手!$B$2:$G$158,6,FALSE),2,6)))","v":""},{"$f":"記録入力1!J192","v":""},{"$f":"IF(H180=\"\",\"\",VLOOKUP(記録入力1!C192,初期設定1!$C$18:$F$59,3,FALSE)&\" \"&RIGHT(記録入力1!N192,5))","v":""},null,{"$f":"IF(B180=\"\",\"\",記録入力1!I192)","v":{"$error":"#N/A"}}]
[{"$f":"IF(B181=\"\",\"\",記録入力1!C193)","v":{"$error":"#N/A"}},{"$f":"VLOOKUP($H181,女子選手!$B$2:$G$158,6,FALSE)","v":{"$error":"#N/A"}},{"$f":"IF($H181=\"\",\"\",VLOOKUP($H181,女子選手!$B$2:$D$158,2,FALSE))","v":""},{"$f":"IF($H181=\"\",\"\",VLOOKUP($H181,女子選手!$B$2:$D$158,3,FALSE))","v":""},"","",{"$f":"IF(H181=\"\",\"\",VALUE(MID(VLOOKUP($H181,女子選手!$B$2:$G$158,6,FALSE),2,6)))","v":""},{"$f":"記録入力1!J193","v":""},{"$f":"IF(H181=\"\",\"\",VLOOKUP(記録入力1!C193,初期設定1!$C$18:$F$59,3,FALSE)&\" \"&RIGHT(記録入力1!N193,5))","v":""},null,{"$f":"IF(B181=\"\",\"\",記録入力1!I193)","v":{"$error":"#N/A"}}]
[{"$f":"IF(B182=\"\",\"\",記録入力1!C194)","v":{"$error":"#N/A"}},{"$f":"VLOOKUP($H182,女子選手!$B$2:$G$158,6,FALSE)","v":{"$error":"#N/A"}},{"$f":"IF($H182=\"\",\"\",VLOOKUP($H182,女子選手!$B$2:$D$158,2,FALSE))","v":""},{"$f":"IF($H182=\"\",\"\",VLOOKUP($H182,女子選手!$B$2:$D$158,3,FALSE))","v":""},"","",{"$f":"IF(H182=\"\",\"\",VALUE(MID(VLOOKUP($H182,女子選手!$B$2:$G$158,6,FALSE),2,6)))","v":""},{"$f":"記録入力1!J194","v":""},{"$f":"IF(H182=\"\",\"\",VLOOKUP(記録入力1!C194,初期設定1!$C$18:$F$59,3,FALSE)&\" \"&RIGHT(記録入力1!N194,5))","v":""},null,{"$f":"IF(B182=\"\",\"\",記録入力1!I194)","v":{"$error":"#N/A"}}]
[{"$f":"IF(B183=\"\",\"\",記録入力1!C195)","v":{"$error":"#N/A"}},{"$f":"VLOOKUP($H183,女子選手!$B$2:$G$158,6,FALSE)","v":{"$error":"#N/A"}},{"$f":"IF($H183=\"\",\"\",VLOOKUP($H183,女子選手!$B$2:$D$158,2,FALSE))","v":""},{"$f":"IF($H183=\"\",\"\",VLOOKUP($H183,女子選手!$B$2:$D$158,3,FALSE))","v":""},"","",{"$f":"IF(H183=\"\",\"\",VALUE(MID(VLOOKUP($H183,女子選手!$B$2:$G$158,6,FALSE),2,6)))","v":""},{"$f":"記録入力1!J195","v":""},{"$f":"IF(H183=\"\",\"\",VLOOKUP(記録入力1!C195,初期設定1!$C$18:$F$59,3,FALSE)&\" \"&RIGHT(記録入力1!N195,5))","v":""},null,{"$f":"IF(B183=\"\",\"\",記録入力1!I195)","v":{"$error":"#N/A"}}]
[{"$f":"IF(B184=\"\",\"\",記録入力1!C196)","v":{"$error":"#N/A"}},{"$f":"VLOOKUP($H184,女子選手!$B$2:$G$158,6,FALSE)","v":{"$error":"#N/A"}},{"$f":"IF($H184=\"\",\"\",VLOOKUP($H184,女子選手!$B$2:$D$158,2,FALSE))","v":""},{"$f":"IF($H184=\"\",\"\",VLOOKUP($H184,女子選手!$B$2:$D$158,3,FALSE))","v":""},"","",{"$f":"IF(H184=\"\",\"\",VALUE(MID(VLOOKUP($H184,女子選手!$B$2:$G$158,6,FALSE),2,6)))","v":""},{"$f":"記録入力1!J196","v":""},{"$f":"IF(H184=\"\",\"\",VLOOKUP(記録入力1!C196,初期設定1!$C$18:$F$59,3,FALSE)&\" \"&RIGHT(記録入力1!N196,5))","v":""},null,{"$f":"IF(B184=\"\",\"\",記録入力1!I196)","v":{"$error":"#N/A"}}]
[{"$f":"IF(B185=\"\",\"\",記録入力1!C197)","v":{"$error":"#N/A"}},{"$f":"VLOOKUP($H185,女子選手!$B$2:$G$158,6,FALSE)","v":{"$error":"#N/A"}},{"$f":"IF($H185=\"\",\"\",VLOOKUP($H185,女子選手!$B$2:$D$158,2,FALSE))","v":""},{"$f":"IF($H185=\"\",\"\",VLOOKUP($H185,女子選手!$B$2:$D$158,3,FALSE))","v":""},"","",{"$f":"IF(H185=\"\",\"\",VALUE(MID(VLOOKUP($H185,女子選手!$B$2:$G$158,6,FALSE),2,6)))","v":""},{"$f":"記録入力1!J197","v":""},{"$f":"IF(H185=\"\",\"\",VLOOKUP(記録入力1!C197,初期設定1!$C$18:$F$59,3,FALSE)&\" \"&RIGHT(記録入力1!N197,5))","v":""},null,{"$f":"IF(B185=\"\",\"\",記録入力1!I197)","v":{"$error":"#N/A"}}]
[{"$f":"IF(B186=\"\",\"\",記録入力1!C198)","v":{"$error":"#N/A"}},{"$f":"VLOOKUP($H186,女子選手!$B$2:$G$158,6,FALSE)","v":{"$error":"#N/A"}},{"$f":"IF($H186=\"\",\"\",VLOOKUP($H186,女子選手!$B$2:$D$158,2,FALSE))","v":""},{"$f":"IF($H186=\"\",\"\",VLOOKUP($H186,女子選手!$B$2:$D$158,3,FALSE))","v":""},"","",{"$f":"IF(H186=\"\",\"\",VALUE(MID(VLOOKUP($H186,女子選手!$B$2:$G$158,6,FALSE),2,6)))","v":""},{"$f":"記録入力1!J198","v":""},{"$f":"IF(H186=\"\",\"\",VLOOKUP(記録入力1!C198,初期設定1!$C$18:$F$59,3,FALSE)&\" \"&RIGHT(記録入力1!N198,5))","v":""},null,{"$f":"IF(B186=\"\",\"\",記録入力1!I198)","v":{"$error":"#N/A"}}]
[{"$f":"IF(B187=\"\",\"\",記録入力1!C199)","v":{"$error":"#N/A"}},{"$f":"VLOOKUP($H187,女子選手!$B$2:$G$158,6,FALSE)","v":{"$error":"#N/A"}},{"$f":"IF($H187=\"\",\"\",VLOOKUP($H187,女子選手!$B$2:$D$158,2,FALSE))","v":""},{"$f":"IF($H187=\"\",\"\",VLOOKUP($H187,女子選手!$B$2:$D$158,3,FALSE))","v":""},"","",{"$f":"IF(H187=\"\",\"\",VALUE(MID(VLOOKUP($H187,女子選手!$B$2:$G$158,6,FALSE),2,6)))","v":""},{"$f":"記録入力1!J199","v":""},{"$f":"IF(H187=\"\",\"\",VLOOKUP(記録入力1!C199,初期設定1!$C$18:$F$59,3,FALSE)&\" \"&RIGHT(記録入力1!N199,5))","v":""},null,{"$f":"IF(B187=\"\",\"\",記録入力1!I199)","v":{"$error":"#N/A"}}]
[{"$f":"IF(B188=\"\",\"\",記録入力1!C200)","v":{"$error":"#N/A"}},{"$f":"VLOOKUP($H188,女子選手!$B$2:$G$158,6,FALSE)","v":{"$error":"#N/A"}},{"$f":"IF($H188=\"\",\"\",VLOOKUP($H188,女子選手!$B$2:$D$158,2,FALSE))","v":""},{"$f":"IF($H188=\"\",\"\",VLOOKUP($H188,女子選手!$B$2:$D$158,3,FALSE))","v":""},"","",{"$f":"IF(H188=\"\",\"\",VALUE(MID(VLOOKUP($H188,女子選手!$B$2:$G$158,6,FALSE),2,6)))","v":""},{"$f":"記録入力1!J200","v":""},{"$f":"IF(H188=\"\",\"\",VLOOKUP(記録入力1!C200,初期設定1!$C$18:$F$59,3,FALSE)&\" \"&RIGHT(記録入力1!N200,5))","v":""},null,{"$f":"IF(B188=\"\",\"\",記録入力1!I200)","v":{"$error":"#N/A"}}]
[{"$f":"IF(B189=\"\",\"\",記録入力1!C201)","v":{"$error":"#N/A"}},{"$f":"VLOOKUP($H189,女子選手!$B$2:$G$158,6,FALSE)","v":{"$error":"#N/A"}},{"$f":"IF($H189=\"\",\"\",VLOOKUP($H189,女子選手!$B$2:$D$158,2,FALSE))","v":""},{"$f":"IF($H189=\"\",\"\",VLOOKUP($H189,女子選手!$B$2:$D$158,3,FALSE))","v":""},"","",{"$f":"IF(H189=\"\",\"\",VALUE(MID(VLOOKUP($H189,女子選手!$B$2:$G$158,6,FALSE),2,6)))","v":""},{"$f":"記録入力1!J201","v":""},{"$f":"IF(H189=\"\",\"\",VLOOKUP(記録入力1!C201,初期設定1!$C$18:$F$59,3,FALSE)&\" \"&RIGHT(記録入力1!N201,5))","v":""},null,{"$f":"IF(B189=\"\",\"\",記録入力1!I201)","v":{"$error":"#N/A"}}]
[{"$f":"IF(B190=\"\",\"\",記録入力1!C202)","v":{"$error":"#N/A"}},{"$f":"VLOOKUP($H190,女子選手!$B$2:$G$158,6,FALSE)","v":{"$error":"#N/A"}},{"$f":"IF($H190=\"\",\"\",VLOOKUP($H190,女子選手!$B$2:$D$158,2,FALSE))","v":""},{"$f":"IF($H190=\"\",\"\",VLOOKUP($H190,女子選手!$B$2:$D$158,3,FALSE))","v":""},"","",{"$f":"IF(H190=\"\",\"\",VALUE(MID(VLOOKUP($H190,女子選手!$B$2:$G$158,6,FALSE),2,6)))","v":""},{"$f":"記録入力1!J202","v":""},{"$f":"IF(H190=\"\",\"\",VLOOKUP(記録入力1!C202,初期設定1!$C$18:$F$59,3,FALSE)&\" \"&RIGHT(記録入力1!N202,5))","v":""},null,{"$f":"IF(B190=\"\",\"\",記録入力1!I202)","v":{"$error":"#N/A"}}]
[{"$f":"IF(B191=\"\",\"\",記録入力1!C203)","v":{"$error":"#N/A"}},{"$f":"VLOOKUP($H191,女子選手!$B$2:$G$158,6,FALSE)","v":{"$error":"#N/A"}},{"$f":"IF($H191=\"\",\"\",VLOOKUP($H191,女子選手!$B$2:$D$158,2,FALSE))","v":""},{"$f":"IF($H191=\"\",\"\",VLOOKUP($H191,女子選手!$B$2:$D$158,3,FALSE))","v":""},"","",{"$f":"IF(H191=\"\",\"\",VALUE(MID(VLOOKUP($H191,女子選手!$B$2:$G$158,6,FALSE),2,6)))","v":""},{"$f":"記録入力1!J203","v":""},{"$f":"IF(H191=\"\",\"\",VLOOKUP(記録入力1!C203,初期設定1!$C$18:$F$59,3,FALSE)&\" \"&RIGHT(記録入力1!N203,5))","v":""},null,{"$f":"IF(B191=\"\",\"\",記録入力1!I203)","v":{"$error":"#N/A"}}]
[{"$f":"IF(B192=\"\",\"\",記録入力1!C204)","v":{"$error":"#N/A"}},{"$f":"VLOOKUP($H192,女子選手!$B$2:$G$158,6,FALSE)","v":{"$error":"#N/A"}},{"$f":"IF($H192=\"\",\"\",VLOOKUP($H192,女子選手!$B$2:$D$158,2,FALSE))","v":""},{"$f":"IF($H192=\"\",\"\",VLOOKUP($H192,女子選手!$B$2:$D$158,3,FALSE))","v":""},"","",{"$f":"IF(H192=\"\",\"\",VALUE(MID(VLOOKUP($H192,女子選手!$B$2:$G$158,6,FALSE),2,6)))","v":""},{"$f":"記録入力1!J204","v":""},{"$f":"IF(H192=\"\",\"\",VLOOKUP(記録入力1!C204,初期設定1!$C$18:$F$59,3,FALSE)&\" \"&RIGHT(記録入力1!N204,5))","v":""},null,{"$f":"IF(B192=\"\",\"\",記録入力1!I204)","v":{"$error":"#N/A"}}]
[{"$f":"IF(B193=\"\",\"\",記録入力1!C205)","v":{"$error":"#N/A"}},{"$f":"VLOOKUP($H193,女子選手!$B$2:$G$158,6,FALSE)","v":{"$error":"#N/A"}},{"$f":"IF($H193=\"\",\"\",VLOOKUP($H193,女子選手!$B$2:$D$158,2,FALSE))","v":""},{"$f":"IF($H193=\"\",\"\",VLOOKUP($H193,女子選手!$B$2:$D$158,3,FALSE))","v":""},"","",{"$f":"IF(H193=\"\",\"\",VALUE(MID(VLOOKUP($H193,女子選手!$B$2:$G$158,6,FALSE),2,6)))","v":""},{"$f":"記録入力1!J205","v":""},{"$f":"IF(H193=\"\",\"\",VLOOKUP(記録入力1!C205,初期設定1!$C$18:$F$59,3,FALSE)&\" \"&RIGHT(記録入力1!N205,5))","v":""},null,{"$f":"IF(B193=\"\",\"\",記録入力1!I205)","v":{"$error":"#N/A"}}]
[{"$f":"IF(B194=\"\",\"\",記録入力1!C206)","v":{"$error":"#N/A"}},{"$f":"VLOOKUP($H194,女子選手!$B$2:$G$158,6,FALSE)","v":{"$error":"#N/A"}},{"$f":"IF($H194=\"\",\"\",VLOOKUP($H194,女子選手!$B$2:$D$158,2,FALSE))","v":""},{"$f":"IF($H194=\"\",\"\",VLOOKUP($H194,女子選手!$B$2:$D$158,3,FALSE))","v":""},"","",{"$f":"IF(H194=\"\",\"\",VALUE(MID(VLOOKUP($H194,女子選手!$B$2:$G$158,6,FALSE),2,6)))","v":""},{"$f":"記録入力1!J206","v":""},{"$f":"IF(H194=\"\",\"\",VLOOKUP(記録入力1!C206,初期設定1!$C$18:$F$59,3,FALSE)&\" \"&RIGHT(記録入力1!N206,5))","v":""},null,{"$f":"IF(B194=\"\",\"\",記録入力1!I206)","v":{"$error":"#N/A"}}]
[{"$f":"IF(B195=\"\",\"\",記録入力1!C207)","v":{"$error":"#N/A"}},{"$f":"VLOOKUP($H195,女子選手!$B$2:$G$158,6,FALSE)","v":{"$error":"#N/A"}},{"$f":"IF($H195=\"\",\"\",VLOOKUP($H195,女子選手!$B$2:$D$158,2,FALSE))","v":""},{"$f":"IF($H195=\"\",\"\",VLOOKUP($H195,女子選手!$B$2:$D$158,3,FALSE))","v":""},{"$f":"IF(H195=\"\",\"\",2)","v":""},{"$f":"IF(H195=\"\",\"\",2)","v":""},{"$f":"IF(H195=\"\",\"\",VALUE(MID(VLOOKUP($H195,女子選手!$B$2:$G$158,6,FALSE),2,6)))","v":""},{"$f":"記録入力1!J207","v":""},{"$f":"IF(H195=\"\",\"\",VLOOKUP(記録入力1!C207,初期設定1!$C$18:$F$59,3,FALSE)&\" \"&RIGHT(記録入力1!N207,5))","v":""},null,{"$f":"IF(B195=\"\",\"\",記録入力1!I207)","v":{"$error":"#N/A"}}]
[{"$f":"IF(B196=\"\",\"\",記録入力1!C208)","v":{"$error":"#N/A"}},{"$f":"VLOOKUP($H196,女子選手!$B$2:$G$158,6,FALSE)","v":{"$error":"#N/A"}},{"$f":"IF($H196=\"\",\"\",VLOOKUP($H196,女子選手!$B$2:$D$158,2,FALSE))","v":""},{"$f":"IF($H196=\"\",\"\",VLOOKUP($H196,女子選手!$B$2:$D$158,3,FALSE))","v":""},"","",{"$f":"IF(H196=\"\",\"\",VALUE(MID(VLOOKUP($H196,女子選手!$B$2:$G$158,6,FALSE),2,6)))","v":""},{"$f":"記録入力1!J208","v":""},{"$f":"IF(H196=\"\",\"\",VLOOKUP(記録入力1!C208,初期設定1!$C$18:$F$59,3,FALSE)&\" \"&RIGHT(記録入力1!N208,5))","v":""},null,{"$f":"IF(B196=\"\",\"\",記録入力1!I208)","v":{"$error":"#N/A"}}]
[{"$f":"IF(B197=\"\",\"\",記録入力1!C209)","v":{"$error":"#N/A"}},{"$f":"VLOOKUP($H197,女子選手!$B$2:$G$158,6,FALSE)","v":{"$error":"#N/A"}},{"$f":"IF($H197=\"\",\"\",VLOOKUP($H197,女子選手!$B$2:$D$158,2,FALSE))","v":""},{"$f":"IF($H197=\"\",\"\",VLOOKUP($H197,女子選手!$B$2:$D$158,3,FALSE))","v":""},"","",{"$f":"IF(H197=\"\",\"\",VALUE(MID(VLOOKUP($H197,女子選手!$B$2:$G$158,6,FALSE),2,6)))","v":""},{"$f":"記録入力1!J209","v":""},{"$f":"IF(H197=\"\",\"\",VLOOKUP(記録入力1!C209,初期設定1!$C$18:$F$59,3,FALSE)&\" \"&RIGHT(記録入力1!N209,5))","v":""},null,{"$f":"IF(B197=\"\",\"\",記録入力1!I209)","v":{"$error":"#N/A"}}]
[{"$f":"IF(B198=\"\",\"\",記録入力1!C210)","v":{"$error":"#N/A"}},{"$f":"VLOOKUP($H198,女子選手!$B$2:$G$158,6,FALSE)","v":{"$error":"#N/A"}},{"$f":"IF($H198=\"\",\"\",VLOOKUP($H198,女子選手!$B$2:$D$158,2,FALSE))","v":""},{"$f":"IF($H198=\"\",\"\",VLOOKUP($H198,女子選手!$B$2:$D$158,3,FALSE))","v":""},"","",{"$f":"IF(H198=\"\",\"\",VALUE(MID(VLOOKUP($H198,女子選手!$B$2:$G$158,6,FALSE),2,6)))","v":""},{"$f":"記録入力1!J210","v":""},{"$f":"IF(H198=\"\",\"\",VLOOKUP(記録入力1!C210,初期設定1!$C$18:$F$59,3,FALSE)&\" \"&RIGHT(記録入力1!N210,5))","v":""},null,{"$f":"IF(B198=\"\",\"\",記録入力1!I210)","v":{"$error":"#N/A"}}]
[{"$f":"IF(B199=\"\",\"\",記録入力1!C211)","v":{"$error":"#N/A"}},{"$f":"VLOOKUP($H199,女子選手!$B$2:$G$158,6,FALSE)","v":{"$error":"#N/A"}},{"$f":"IF($H199=\"\",\"\",VLOOKUP($H199,女子選手!$B$2:$D$158,2,FALSE))","v":""},{"$f":"IF($H199=\"\",\"\",VLOOKUP($H199,女子選手!$B$2:$D$158,3,FALSE))","v":""},"","",{"$f":"IF(H199=\"\",\"\",VALUE(MID(VLOOKUP($H199,女子選手!$B$2:$G$158,6,FALSE),2,6)))","v":""},{"$f":"記録入力1!J211","v":""},{"$f":"IF(H199=\"\",\"\",VLOOKUP(記録入力1!C211,初期設定1!$C$18:$F$59,3,FALSE)&\" \"&RIGHT(記録入力1!N211,5))","v":""},null,{"$f":"IF(B199=\"\",\"\",記録入力1!I211)","v":{"$error":"#N/A"}}]
[{"$f":"IF(B200=\"\",\"\",記録入力1!C212)","v":{"$error":"#N/A"}},{"$f":"VLOOKUP($H200,女子選手!$B$2:$G$158,6,FALSE)","v":{"$error":"#N/A"}},{"$f":"IF($H200=\"\",\"\",VLOOKUP($H200,女子選手!$B$2:$D$158,2,FALSE))","v":""},{"$f":"IF($H200=\"\",\"\",VLOOKUP($H200,女子選手!$B$2:$D$158,3,FALSE))","v":""},"","",{"$f":"IF(H200=\"\",\"\",VALUE(MID(VLOOKUP($H200,女子選手!$B$2:$G$158,6,FALSE),2,6)))","v":""},{"$f":"記録入力1!J212","v":""},{"$f":"IF(H200=\"\",\"\",VLOOKUP(記録入力1!C212,初期設定1!$C$18:$F$59,3,FALSE)&\" \"&RIGHT(記録入力1!N212,5))","v":""},null,{"$f":"IF(B200=\"\",\"\",記録入力1!I212)","v":{"$error":"#N/A"}}]
[{"$f":"IF(B201=\"\",\"\",記録入力1!C213)","v":{"$error":"#N/A"}},{"$f":"VLOOKUP($H201,女子選手!$B$2:$G$158,6,FALSE)","v":{"$error":"#N/A"}},{"$f":"IF($H201=\"\",\"\",VLOOKUP($H201,女子選手!$B$2:$D$158,2,FALSE))","v":""},{"$f":"IF($H201=\"\",\"\",VLOOKUP($H201,女子選手!$B$2:$D$158,3,FALSE))","v":""},"","",{"$f":"IF(H201=\"\",\"\",VALUE(MID(VLOOKUP($H201,女子選手!$B$2:$G$158,6,FALSE),2,6)))","v":""},{"$f":"記録入力1!J213","v":""},{"$f":"IF(H201=\"\",\"\",VLOOKUP(記録入力1!C213,初期設定1!$C$18:$F$59,3,FALSE)&\" \"&RIGHT(記録入力1!N213,5))","v":""},null,{"$f":"IF(B201=\"\",\"\",記録入力1!I213)","v":{"$error":"#N/A"}}]
[{"$f":"IF(B202=\"\",\"\",記録入力1!C214)","v":{"$error":"#N/A"}},{"$f":"VLOOKUP($H202,女子選手!$B$2:$G$158,6,FALSE)","v":{"$error":"#N/A"}},{"$f":"IF($H202=\"\",\"\",VLOOKUP($H202,女子選手!$B$2:$D$158,2,FALSE))","v":""},{"$f":"IF($H202=\"\",\"\",VLOOKUP($H202,女子選手!$B$2:$D$158,3,FALSE))","v":""},"","",{"$f":"IF(H202=\"\",\"\",VALUE(MID(VLOOKUP($H202,女子選手!$B$2:$G$158,6,FALSE),2,6)))","v":""},{"$f":"記録入力1!J214","v":""},{"$f":"IF(H202=\"\",\"\",VLOOKUP(記録入力1!C214,初期設定1!$C$18:$F$59,3,FALSE)&\" \"&RIGHT(記録入力1!N214,5))","v":""},null,{"$f":"IF(B202=\"\",\"\",記録入力1!I214)","v":{"$error":"#N/A"}}]
[{"$f":"IF(B203=\"\",\"\",記録入力1!C215)","v":{"$error":"#N/A"}},{"$f":"VLOOKUP($H203,女子選手!$B$2:$G$158,6,FALSE)","v":{"$error":"#N/A"}},{"$f":"IF($H203=\"\",\"\",VLOOKUP($H203,女子選手!$B$2:$D$158,2,FALSE))","v":""},{"$f":"IF($H203=\"\",\"\",VLOOKUP($H203,女子選手!$B$2:$D$158,3,FALSE))","v":""},"","",{"$f":"IF(H203=\"\",\"\",VALUE(MID(VLOOKUP($H203,女子選手!$B$2:$G$158,6,FALSE),2,6)))","v":""},{"$f":"記録入力1!J215","v":""},{"$f":"IF(H203=\"\",\"\",VLOOKUP(記録入力1!C215,初期設定1!$C$18:$F$59,3,FALSE)&\" \"&RIGHT(記録入力1!N215,5))","v":""},null,{"$f":"IF(B203=\"\",\"\",記録入力1!I215)","v":{"$error":"#N/A"}}]
[{"$f":"IF(B204=\"\",\"\",記録入力1!C216)","v":{"$error":"#N/A"}},{"$f":"VLOOKUP($H204,女子選手!$B$2:$G$158,6,FALSE)","v":{"$error":"#N/A"}},{"$f":"IF($H204=\"\",\"\",VLOOKUP($H204,女子選手!$B$2:$D$158,2,FALSE))","v":""},{"$f":"IF($H204=\"\",\"\",VLOOKUP($H204,女子選手!$B$2:$D$158,3,FALSE))","v":""},"","",{"$f":"IF(H204=\"\",\"\",VALUE(MID(VLOOKUP($H204,女子選手!$B$2:$G$158,6,FALSE),2,6)))","v":""},{"$f":"記録入力1!J216","v":""},{"$f":"IF(H204=\"\",\"\",VLOOKUP(記録入力1!C216,初期設定1!$C$18:$F$59,3,FALSE)&\" \"&RIGHT(記録入力1!N216,5))","v":""},null,{"$f":"IF(B204=\"\",\"\",記録入力1!I216)","v":{"$error":"#N/A"}}]
[{"$f":"IF(B205=\"\",\"\",記録入力1!C217)","v":{"$error":"#N/A"}},{"$f":"VLOOKUP($H205,女子選手!$B$2:$G$158,6,FALSE)","v":{"$error":"#N/A"}},{"$f":"IF($H205=\"\",\"\",VLOOKUP($H205,女子選手!$B$2:$D$158,2,FALSE))","v":""},{"$f":"IF($H205=\"\",\"\",VLOOKUP($H205,女子選手!$B$2:$D$158,3,FALSE))","v":""},"","",{"$f":"IF(H205=\"\",\"\",VALUE(MID(VLOOKUP($H205,女子選手!$B$2:$G$158,6,FALSE),2,6)))","v":""},{"$f":"記録入力1!J217","v":""},{"$f":"IF(H205=\"\",\"\",VLOOKUP(記録入力1!C217,初期設定1!$C$18:$F$59,3,FALSE)&\" \"&RIGHT(記録入力1!N217,5))","v":""},null,{"$f":"IF(B205=\"\",\"\",記録入力1!I217)","v":{"$error":"#N/A"}}]
[{"$f":"IF(B206=\"\",\"\",記録入力1!C218)","v":{"$error":"#N/A"}},{"$f":"VLOOKUP($H206,女子選手!$B$2:$G$158,6,FALSE)","v":{"$error":"#N/A"}},{"$f":"IF($H206=\"\",\"\",VLOOKUP($H206,女子選手!$B$2:$D$158,2,FALSE))","v":""},{"$f":"IF($H206=\"\",\"\",VLOOKUP($H206,女子選手!$B$2:$D$158,3,FALSE))","v":""},"","",{"$f":"IF(H206=\"\",\"\",VALUE(MID(VLOOKUP($H206,女子選手!$B$2:$G$158,6,FALSE),2,6)))","v":""},{"$f":"記録入力1!J218","v":""},{"$f":"IF(H206=\"\",\"\",VLOOKUP(記録入力1!C218,初期設定1!$C$18:$F$59,3,FALSE)&\" \"&RIGHT(記録入力1!N218,5))","v":""},null,{"$f":"IF(B206=\"\",\"\",記録入力1!I218)","v":{"$error":"#N/A"}}]
[{"$f":"IF(B207=\"\",\"\",記録入力1!C219)","v":{"$error":"#N/A"}},{"$f":"VLOOKUP($H207,女子選手!$B$2:$G$158,6,FALSE)","v":{"$error":"#N/A"}},{"$f":"IF($H207=\"\",\"\",VLOOKUP($H207,女子選手!$B$2:$D$158,2,FALSE))","v":""},{"$f":"IF($H207=\"\",\"\",VLOOKUP($H207,女子選手!$B$2:$D$158,3,FALSE))","v":""},"","",{"$f":"IF(H207=\"\",\"\",VALUE(MID(VLOOKUP($H207,女子選手!$B$2:$G$158,6,FALSE),2,6)))","v":""},{"$f":"記録入力1!J219","v":""},{"$f":"IF(H207=\"\",\"\",VLOOKUP(記録入力1!C219,初期設定1!$C$18:$F$59,3,FALSE)&\" \"&RIGHT(記録入力1!N219,5))","v":""},null,{"$f":"IF(B207=\"\",\"\",記録入力1!I219)","v":{"$error":"#N/A"}}]
[{"$f":"IF(B208=\"\",\"\",記録入力1!C220)","v":{"$error":"#N/A"}},{"$f":"VLOOKUP($H208,女子選手!$B$2:$G$158,6,FALSE)","v":{"$error":"#N/A"}},{"$f":"IF($H208=\"\",\"\",VLOOKUP($H208,女子選手!$B$2:$D$158,2,FALSE))","v":""},{"$f":"IF($H208=\"\",\"\",VLOOKUP($H208,女子選手!$B$2:$D$158,3,FALSE))","v":""},"","",{"$f":"IF(H208=\"\",\"\",VALUE(MID(VLOOKUP($H208,女子選手!$B$2:$G$158,6,FALSE),2,6)))","v":""},{"$f":"記録入力1!J220","v":""},{"$f":"IF(H208=\"\",\"\",VLOOKUP(記録入力1!C220,初期設定1!$C$18:$F$59,3,FALSE)&\" \"&RIGHT(記録入力1!N220,5))","v":""},null,{"$f":"IF(B208=\"\",\"\",記録入力1!I220)","v":{"$error":"#N/A"}}]
[{"$f":"IF(B209=\"\",\"\",記録入力1!C221)","v":{"$error":"#N/A"}},{"$f":"VLOOKUP($H209,女子選手!$B$2:$G$158,6,FALSE)","v":{"$error":"#N/A"}},{"$f":"IF($H209=\"\",\"\",VLOOKUP($H209,女子選手!$B$2:$D$158,2,FALSE))","v":""},{"$f":"IF($H209=\"\",\"\",VLOOKUP($H209,女子選手!$B$2:$D$158,3,FALSE))","v":""},"","",{"$f":"IF(H209=\"\",\"\",VALUE(MID(VLOOKUP($H209,女子選手!$B$2:$G$158,6,FALSE),2,6)))","v":""},{"$f":"記録入力1!J221","v":""},{"$f":"IF(H209=\"\",\"\",VLOOKUP(記録入力1!C221,初期設定1!$C$18:$F$59,3,FALSE)&\" \"&RIGHT(記録入力1!N221,5))","v":""},null,{"$f":"IF(B209=\"\",\"\",記録入力1!I221)","v":{"$error":"#N/A"}}]
[{"$f":"IF(B210=\"\",\"\",記録入力1!C222)","v":{"$error":"#N/A"}},{"$f":"VLOOKUP($H210,女子選手!$B$2:$G$158,6,FALSE)","v":{"$error":"#N/A"}},{"$f":"IF($H210=\"\",\"\",VLOOKUP($H210,女子選手!$B$2:$D$158,2,FALSE))","v":""},{"$f":"IF($H210=\"\",\"\",VLOOKUP($H210,女子選手!$B$2:$D$158,3,FALSE))","v":""},"","",{"$f":"IF(H210=\"\",\"\",VALUE(MID(VLOOKUP($H210,女子選手!$B$2:$G$158,6,FALSE),2,6)))","v":""},{"$f":"記録入力1!J222","v":""},{"$f":"IF(H210=\"\",\"\",VLOOKUP(記録入力1!C222,初期設定1!$C$18:$F$59,3,FALSE)&\" \"&RIGHT(記録入力1!N222,5))","v":""},null,{"$f":"IF(B210=\"\",\"\",記録入力1!I222)","v":{"$error":"#N/A"}}]
[{"$f":"IF(B211=\"\",\"\",記録入力1!C223)","v":{"$error":"#N/A"}},{"$f":"VLOOKUP($H211,女子選手!$B$2:$G$158,6,FALSE)","v":{"$error":"#N/A"}},{"$f":"IF($H211=\"\",\"\",VLOOKUP($H211,女子選手!$B$2:$D$158,2,FALSE))","v":""},{"$f":"IF($H211=\"\",\"\",VLOOKUP($H211,女子選手!$B$2:$D$158,3,FALSE))","v":""},"","",{"$f":"IF(H211=\"\",\"\",VALUE(MID(VLOOKUP($H211,女子選手!$B$2:$G$158,6,FALSE),2,6)))","v":""},{"$f":"記録入力1!J223","v":""},{"$f":"IF(H211=\"\",\"\",VLOOKUP(記録入力1!C223,初期設定1!$C$18:$F$59,3,FALSE)&\" \"&RIGHT(記録入力1!N223,5))","v":""},null,{"$f":"IF(B211=\"\",\"\",記録入力1!I223)","v":{"$error":"#N/A"}}]
[{"$f":"IF(B212=\"\",\"\",記録入力1!C224)","v":{"$error":"#N/A"}},{"$f":"VLOOKUP($H212,女子選手!$B$2:$G$158,6,FALSE)","v":{"$error":"#N/A"}},{"$f":"IF($H212=\"\",\"\",VLOOKUP($H212,女子選手!$B$2:$D$158,2,FALSE))","v":""},{"$f":"IF($H212=\"\",\"\",VLOOKUP($H212,女子選手!$B$2:$D$158,3,FALSE))","v":""},"","",{"$f":"IF(H212=\"\",\"\",VALUE(MID(VLOOKUP($H212,女子選手!$B$2:$G$158,6,FALSE),2,6)))","v":""},{"$f":"記録入力1!J224","v":""},{"$f":"IF(H212=\"\",\"\",VLOOKUP(記録入力1!C224,初期設定1!$C$18:$F$59,3,FALSE)&\" \"&RIGHT(記録入力1!N224,5))","v":""},null,{"$f":"IF(B212=\"\",\"\",記録入力1!I224)","v":{"$error":"#N/A"}}]
[{"$f":"IF(B213=\"\",\"\",記録入力1!C225)","v":{"$error":"#N/A"}},{"$f":"VLOOKUP($H213,女子選手!$B$2:$G$158,6,FALSE)","v":{"$error":"#N/A"}},{"$f":"IF($H213=\"\",\"\",VLOOKUP($H213,女子選手!$B$2:$D$158,2,FALSE))","v":""},{"$f":"IF($H213=\"\",\"\",VLOOKUP($H213,女子選手!$B$2:$D$158,3,FALSE))","v":""},"","",{"$f":"IF(H213=\"\",\"\",VALUE(MID(VLOOKUP($H213,女子選手!$B$2:$G$158,6,FALSE),2,6)))","v":""},{"$f":"記録入力1!J225","v":""},{"$f":"IF(H213=\"\",\"\",VLOOKUP(記録入力1!C225,初期設定1!$C$18:$F$59,3,FALSE)&\" \"&RIGHT(記録入力1!N225,5))","v":""},null,{"$f":"IF(B213=\"\",\"\",記録入力1!I225)","v":{"$error":"#N/A"}}]
[{"$f":"IF(B214=\"\",\"\",記録入力1!C226)","v":{"$error":"#N/A"}},{"$f":"VLOOKUP($H214,女子選手!$B$2:$G$158,6,FALSE)","v":{"$error":"#N/A"}},{"$f":"IF($H214=\"\",\"\",VLOOKUP($H214,女子選手!$B$2:$D$158,2,FALSE))","v":""},{"$f":"IF($H214=\"\",\"\",VLOOKUP($H214,女子選手!$B$2:$D$158,3,FALSE))","v":""},"","",{"$f":"IF(H214=\"\",\"\",VALUE(MID(VLOOKUP($H214,女子選手!$B$2:$G$158,6,FALSE),2,6)))","v":""},{"$f":"記録入力1!J226","v":""},{"$f":"IF(H214=\"\",\"\",VLOOKUP(記録入力1!C226,初期設定1!$C$18:$F$59,3,FALSE)&\" \"&RIGHT(記録入力1!N226,5))","v":""},null,{"$f":"IF(B214=\"\",\"\",記録入力1!I226)","v":{"$error":"#N/A"}}]
[{"$f":"IF(B215=\"\",\"\",記録入力1!C227)","v":{"$error":"#N/A"}},{"$f":"VLOOKUP($H215,女子選手!$B$2:$G$158,6,FALSE)","v":{"$error":"#N/A"}},{"$f":"IF($H215=\"\",\"\",VLOOKUP($H215,女子選手!$B$2:$D$158,2,FALSE))","v":""},{"$f":"IF($H215=\"\",\"\",VLOOKUP($H215,女子選手!$B$2:$D$158,3,FALSE))","v":""},"","",{"$f":"IF(H215=\"\",\"\",VALUE(MID(VLOOKUP($H215,女子選手!$B$2:$G$158,6,FALSE),2,6)))","v":""},{"$f":"記録入力1!J227","v":""},{"$f":"IF(H215=\"\",\"\",VLOOKUP(記録入力1!C227,初期設定1!$C$18:$F$59,3,FALSE)&\" \"&RIGHT(記録入力1!N227,5))","v":""},null,{"$f":"IF(B215=\"\",\"\",記録入力1!I227)","v":{"$error":"#N/A"}}]
[{"$f":"IF(B216=\"\",\"\",記録入力1!C228)","v":{"$error":"#N/A"}},{"$f":"VLOOKUP($H216,女子選手!$B$2:$G$158,6,FALSE)","v":{"$error":"#N/A"}},{"$f":"IF($H216=\"\",\"\",VLOOKUP($H216,女子選手!$B$2:$D$158,2,FALSE))","v":""},{"$f":"IF($H216=\"\",\"\",VLOOKUP($H216,女子選手!$B$2:$D$158,3,FALSE))","v":""},"","",{"$f":"IF(H216=\"\",\"\",VALUE(MID(VLOOKUP($H216,女子選手!$B$2:$G$158,6,FALSE),2,6)))","v":""},{"$f":"記録入力1!J228","v":""},{"$f":"IF(H216=\"\",\"\",VLOOKUP(記録入力1!C228,初期設定1!$C$18:$F$59,3,FALSE)&\" \"&RIGHT(記録入力1!N228,5))","v":""},null,{"$f":"IF(B216=\"\",\"\",記録入力1!I228)","v":{"$error":"#N/A"}}]
[{"$f":"IF(B217=\"\",\"\",記録入力1!C229)","v":{"$error":"#N/A"}},{"$f":"VLOOKUP($H217,女子選手!$B$2:$G$158,6,FALSE)","v":{"$error":"#N/A"}},{"$f":"IF($H217=\"\",\"\",VLOOKUP($H217,女子選手!$B$2:$D$158,2,FALSE))","v":""},{"$f":"IF($H217=\"\",\"\",VLOOKUP($H217,女子選手!$B$2:$D$158,3,FALSE))","v":""},"","",{"$f":"IF(H217=\"\",\"\",VALUE(MID(VLOOKUP($H217,女子選手!$B$2:$G$158,6,FALSE),2,6)))","v":""},{"$f":"記録入力1!J229","v":""},{"$f":"IF(H217=\"\",\"\",VLOOKUP(記録入力1!C229,初期設定1!$C$18:$F$59,3,FALSE)&\" \"&RIGHT(記録入力1!N229,5))","v":""},null,{"$f":"IF(B217=\"\",\"\",記録入力1!I229)","v":{"$error":"#N/A"}}]
[{"$f":"IF(B218=\"\",\"\",記録入力1!C230)","v":{"$error":"#N/A"}},{"$f":"VLOOKUP($H218,女子選手!$B$2:$G$158,6,FALSE)","v":{"$error":"#N/A"}},{"$f":"IF($H218=\"\",\"\",VLOOKUP($H218,女子選手!$B$2:$D$158,2,FALSE))","v":""},{"$f":"IF($H218=\"\",\"\",VLOOKUP($H218,女子選手!$B$2:$D$158,3,FALSE))","v":""},"","",{"$f":"IF(H218=\"\",\"\",VALUE(MID(VLOOKUP($H218,女子選手!$B$2:$G$158,6,FALSE),2,6)))","v":""},{"$f":"記録入力1!J230","v":""},{"$f":"IF(H218=\"\",\"\",VLOOKUP(記録入力1!C230,初期設定1!$C$18:$F$59,3,FALSE)&\" \"&RIGHT(記録入力1!N230,5))","v":""},null,{"$f":"IF(B218=\"\",\"\",記録入力1!I230)","v":{"$error":"#N/A"}}]
[{"$f":"IF(B219=\"\",\"\",記録入力1!C231)","v":{"$error":"#N/A"}},{"$f":"VLOOKUP($H219,女子選手!$B$2:$G$158,6,FALSE)","v":{"$error":"#N/A"}},{"$f":"IF($H219=\"\",\"\",VLOOKUP($H219,女子選手!$B$2:$D$158,2,FALSE))","v":""},{"$f":"IF($H219=\"\",\"\",VLOOKUP($H219,女子選手!$B$2:$D$158,3,FALSE))","v":""},"","",{"$f":"IF(H219=\"\",\"\",VALUE(MID(VLOOKUP($H219,女子選手!$B$2:$G$158,6,FALSE),2,6)))","v":""},{"$f":"記録入力1!J231","v":""},{"$f":"IF(H219=\"\",\"\",VLOOKUP(記録入力1!C231,初期設定1!$C$18:$F$59,3,FALSE)&\" \"&RIGHT(記録入力1!N231,5))","v":""},null,{"$f":"IF(B219=\"\",\"\",記録入力1!I231)","v":{"$error":"#N/A"}}]
[{"$f":"IF(B220=\"\",\"\",記録入力1!C232)","v":{"$error":"#N/A"}},{"$f":"VLOOKUP($H220,女子選手!$B$2:$G$158,6,FALSE)","v":{"$error":"#N/A"}},{"$f":"IF($H220=\"\",\"\",VLOOKUP($H220,女子選手!$B$2:$D$158,2,FALSE))","v":""},{"$f":"IF($H220=\"\",\"\",VLOOKUP($H220,女子選手!$B$2:$D$158,3,FALSE))","v":""},"","",{"$f":"IF(H220=\"\",\"\",VALUE(MID(VLOOKUP($H220,女子選手!$B$2:$G$158,6,FALSE),2,6)))","v":""},{"$f":"記録入力1!J232","v":""},{"$f":"IF(H220=\"\",\"\",VLOOKUP(記録入力1!C232,初期設定1!$C$18:$F$59,3,FALSE)&\" \"&RIGHT(記録入力1!N232,5))","v":""},null,{"$f":"IF(B220=\"\",\"\",記録入力1!I232)","v":{"$error":"#N/A"}}]
[{"$f":"IF(B221=\"\",\"\",記録入力1!C233)","v":{"$error":"#N/A"}},{"$f":"VLOOKUP($H221,女子選手!$B$2:$G$158,6,FALSE)","v":{"$error":"#N/A"}},{"$f":"IF($H221=\"\",\"\",VLOOKUP($H221,女子選手!$B$2:$D$158,2,FALSE))","v":""},{"$f":"IF($H221=\"\",\"\",VLOOKUP($H221,女子選手!$B$2:$D$158,3,FALSE))","v":""},"","",{"$f":"IF(H221=\"\",\"\",VALUE(MID(VLOOKUP($H221,女子選手!$B$2:$G$158,6,FALSE),2,6)))","v":""},{"$f":"記録入力1!J233","v":""},{"$f":"IF(H221=\"\",\"\",VLOOKUP(記録入力1!C233,初期設定1!$C$18:$F$59,3,FALSE)&\" \"&RIGHT(記録入力1!N233,5))","v":""},null,{"$f":"IF(B221=\"\",\"\",記録入力1!I233)","v":{"$error":"#N/A"}}]
[{"$f":"IF(B222=\"\",\"\",記録入力1!C234)","v":{"$error":"#N/A"}},{"$f":"VLOOKUP($H222,女子選手!$B$2:$G$158,6,FALSE)","v":{"$error":"#N/A"}},{"$f":"IF($H222=\"\",\"\",VLOOKUP($H222,女子選手!$B$2:$D$158,2,FALSE))","v":""},{"$f":"IF($H222=\"\",\"\",VLOOKUP($H222,女子選手!$B$2:$D$158,3,FALSE))","v":""},"","",{"$f":"IF(H222=\"\",\"\",VALUE(MID(VLOOKUP($H222,女子選手!$B$2:$G$158,6,FALSE),2,6)))","v":""},{"$f":"記録入力1!J234","v":""},{"$f":"IF(H222=\"\",\"\",VLOOKUP(記録入力1!C234,初期設定1!$C$18:$F$59,3,FALSE)&\" \"&RIGHT(記録入力1!N234,5))","v":""},null,{"$f":"IF(B222=\"\",\"\",記録入力1!I234)","v":{"$error":"#N/A"}}]
[{"$f":"IF(B223=\"\",\"\",記録入力1!C235)","v":{"$error":"#N/A"}},{"$f":"VLOOKUP($H223,女子選手!$B$2:$G$158,6,FALSE)","v":{"$error":"#N/A"}},{"$f":"IF($H223=\"\",\"\",VLOOKUP($H223,女子選手!$B$2:$D$158,2,FALSE))","v":""},{"$f":"IF($H223=\"\",\"\",VLOOKUP($H223,女子選手!$B$2:$D$158,3,FALSE))","v":""},"","",{"$f":"IF(H223=\"\",\"\",VALUE(MID(VLOOKUP($H223,女子選手!$B$2:$G$158,6,FALSE),2,6)))","v":""},{"$f":"記録入力1!J235","v":""},{"$f":"IF(H223=\"\",\"\",VLOOKUP(記録入力1!C235,初期設定1!$C$18:$F$59,3,FALSE)&\" \"&RIGHT(記録入力1!N235,5))","v":""},null,{"$f":"IF(B223=\"\",\"\",記録入力1!I235)","v":{"$error":"#N/A"}}]
[{"$f":"IF(B224=\"\",\"\",記録入力1!C236)","v":{"$error":"#N/A"}},{"$f":"VLOOKUP($H224,女子選手!$B$2:$G$158,6,FALSE)","v":{"$error":"#N/A"}},{"$f":"IF($H224=\"\",\"\",VLOOKUP($H224,女子選手!$B$2:$D$158,2,FALSE))","v":""},{"$f":"IF($H224=\"\",\"\",VLOOKUP($H224,女子選手!$B$2:$D$158,3,FALSE))","v":""},"","",{"$f":"IF(H224=\"\",\"\",VALUE(MID(VLOOKUP($H224,女子選手!$B$2:$G$158,6,FALSE),2,6)))","v":""},{"$f":"記録入力1!J236","v":""},{"$f":"IF(H224=\"\",\"\",VLOOKUP(記録入力1!C236,初期設定1!$C$18:$F$59,3,FALSE)&\" \"&RIGHT(記録入力1!N236,5))","v":""},null,{"$f":"IF(B224=\"\",\"\",記録入力1!I236)","v":{"$error":"#N/A"}}]
[{"$f":"IF(B225=\"\",\"\",記録入力1!C237)","v":{"$error":"#N/A"}},{"$f":"VLOOKUP($H225,女子選手!$B$2:$G$158,6,FALSE)","v":{"$error":"#N/A"}},{"$f":"IF($H225=\"\",\"\",VLOOKUP($H225,女子選手!$B$2:$D$158,2,FALSE))","v":""},{"$f":"IF($H225=\"\",\"\",VLOOKUP($H225,女子選手!$B$2:$D$158,3,FALSE))","v":""},"","",{"$f":"IF(H225=\"\",\"\",VALUE(MID(VLOOKUP($H225,女子選手!$B$2:$G$158,6,FALSE),2,6)))","v":""},{"$f":"記録入力1!J237","v":""},{"$f":"IF(H225=\"\",\"\",VLOOKUP(記録入力1!C237,初期設定1!$C$18:$F$59,3,FALSE)&\" \"&RIGHT(記録入力1!N237,5))","v":""},null,{"$f":"IF(B225=\"\",\"\",記録入力1!I237)","v":{"$error":"#N/A"}}]
[{"$f":"IF(B226=\"\",\"\",記録入力1!C238)","v":{"$error":"#N/A"}},{"$f":"VLOOKUP($H226,女子選手!$B$2:$G$158,6,FALSE)","v":{"$error":"#N/A"}},{"$f":"IF($H226=\"\",\"\",VLOOKUP($H226,女子選手!$B$2:$D$158,2,FALSE))","v":""},{"$f":"IF($H226=\"\",\"\",VLOOKUP($H226,女子選手!$B$2:$D$158,3,FALSE))","v":""},"","",{"$f":"IF(H226=\"\",\"\",VALUE(MID(VLOOKUP($H226,女子選手!$B$2:$G$158,6,FALSE),2,6)))","v":""},{"$f":"記録入力1!J238","v":""},{"$f":"IF(H226=\"\",\"\",VLOOKUP(記録入力1!C238,初期設定1!$C$18:$F$59,3,FALSE)&\" \"&RIGHT(記録入力1!N238,5))","v":""},null,{"$f":"IF(B226=\"\",\"\",記録入力1!I238)","v":{"$error":"#N/A"}}]
[{"$f":"IF(B227=\"\",\"\",記録入力1!C239)","v":{"$error":"#N/A"}},{"$f":"VLOOKUP($H227,女子選手!$B$2:$G$158,6,FALSE)","v":{"$error":"#N/A"}},{"$f":"IF($H227=\"\",\"\",VLOOKUP($H227,女子選手!$B$2:$D$158,2,FALSE))","v":""},{"$f":"IF($H227=\"\",\"\",VLOOKUP($H227,女子選手!$B$2:$D$158,3,FALSE))","v":""},"","",{"$f":"IF(H227=\"\",\"\",VALUE(MID(VLOOKUP($H227,女子選手!$B$2:$G$158,6,FALSE),2,6)))","v":""},{"$f":"記録入力1!J239","v":""},{"$f":"IF(H227=\"\",\"\",VLOOKUP(記録入力1!C239,初期設定1!$C$18:$F$59,3,FALSE)&\" \"&RIGHT(記録入力1!N239,5))","v":""},null,{"$f":"IF(B227=\"\",\"\",記録入力1!I239)","v":{"$error":"#N/A"}}]
[{"$f":"IF(B228=\"\",\"\",記録入力1!C240)","v":{"$error":"#N/A"}},{"$f":"VLOOKUP($H228,女子選手!$B$2:$G$158,6,FALSE)","v":{"$error":"#N/A"}},{"$f":"IF($H228=\"\",\"\",VLOOKUP($H228,女子選手!$B$2:$D$158,2,FALSE))","v":""},{"$f":"IF($H228=\"\",\"\",VLOOKUP($H228,女子選手!$B$2:$D$158,3,FALSE))","v":""},"","",{"$f":"IF(H228=\"\",\"\",VALUE(MID(VLOOKUP($H228,女子選手!$B$2:$G$158,6,FALSE),2,6)))","v":""},{"$f":"記録入力1!J240","v":""},{"$f":"IF(H228=\"\",\"\",VLOOKUP(記録入力1!C240,初期設定1!$C$18:$F$59,3,FALSE)&\" \"&RIGHT(記録入力1!N240,5))","v":""},null,{"$f":"IF(B228=\"\",\"\",記録入力1!I240)","v":{"$error":"#N/A"}}]
[{"$f":"IF(B229=\"\",\"\",記録入力1!C241)","v":{"$error":"#N/A"}},{"$f":"VLOOKUP($H229,女子選手!$B$2:$G$158,6,FALSE)","v":{"$error":"#N/A"}},{"$f":"IF($H229=\"\",\"\",VLOOKUP($H229,女子選手!$B$2:$D$158,2,FALSE))","v":""},{"$f":"IF($H229=\"\",\"\",VLOOKUP($H229,女子選手!$B$2:$D$158,3,FALSE))","v":""},"","",{"$f":"IF(H229=\"\",\"\",VALUE(MID(VLOOKUP($H229,女子選手!$B$2:$G$158,6,FALSE),2,6)))","v":""},{"$f":"記録入力1!J241","v":""},{"$f":"IF(H229=\"\",\"\",VLOOKUP(記録入力1!C241,初期設定1!$C$18:$F$59,3,FALSE)&\" \"&RIGHT(記録入力1!N241,5))","v":""},null,{"$f":"IF(B229=\"\",\"\",記録入力1!I241)","v":{"$error":"#N/A"}}]
[{"$f":"IF(B230=\"\",\"\",記録入力1!C242)","v":{"$error":"#N/A"}},{"$f":"VLOOKUP($H230,女子選手!$B$2:$G$158,6,FALSE)","v":{"$error":"#N/A"}},{"$f":"IF($H230=\"\",\"\",VLOOKUP($H230,女子選手!$B$2:$D$158,2,FALSE))","v":""},{"$f":"IF($H230=\"\",\"\",VLOOKUP($H230,女子選手!$B$2:$D$158,3,FALSE))","v":""},"","",{"$f":"IF(H230=\"\",\"\",VALUE(MID(VLOOKUP($H230,女子選手!$B$2:$G$158,6,FALSE),2,6)))","v":""},{"$f":"記録入力1!J242","v":""},{"$f":"IF(H230=\"\",\"\",VLOOKUP(記録入力1!C242,初期設定1!$C$18:$F$59,3,FALSE)&\" \"&RIGHT(記録入力1!N242,5))","v":""},null,{"$f":"IF(B230=\"\",\"\",記録入力1!I242)","v":{"$error":"#N/A"}}]
[{"$f":"IF(B231=\"\",\"\",記録入力1!C243)","v":{"$error":"#N/A"}},{"$f":"VLOOKUP($H231,女子選手!$B$2:$G$158,6,FALSE)","v":{"$error":"#N/A"}},{"$f":"IF($H231=\"\",\"\",VLOOKUP($H231,女子選手!$B$2:$D$158,2,FALSE))","v":""},{"$f":"IF($H231=\"\",\"\",VLOOKUP($H231,女子選手!$B$2:$D$158,3,FALSE))","v":""},"","",{"$f":"IF(H231=\"\",\"\",VALUE(MID(VLOOKUP($H231,女子選手!$B$2:$G$158,6,FALSE),2,6)))","v":""},{"$f":"記録入力1!J243","v":""},{"$f":"IF(H231=\"\",\"\",VLOOKUP(記録入力1!C243,初期設定1!$C$18:$F$59,3,FALSE)&\" \"&RIGHT(記録入力1!N243,5))","v":""},null,{"$f":"IF(B231=\"\",\"\",記録入力1!I243)","v":{"$error":"#N/A"}}]
[{"$f":"IF(B232=\"\",\"\",記録入力1!C244)","v":{"$error":"#N/A"}},{"$f":"VLOOKUP($H232,女子選手!$B$2:$G$158,6,FALSE)","v":{"$error":"#N/A"}},{"$f":"IF($H232=\"\",\"\",VLOOKUP($H232,女子選手!$B$2:$D$158,2,FALSE))","v":""},{"$f":"IF($H232=\"\",\"\",VLOOKUP($H232,女子選手!$B$2:$D$158,3,FALSE))","v":""},"","",{"$f":"IF(H232=\"\",\"\",VALUE(MID(VLOOKUP($H232,女子選手!$B$2:$G$158,6,FALSE),2,6)))","v":""},{"$f":"記録入力1!J244","v":""},{"$f":"IF(H232=\"\",\"\",VLOOKUP(記録入力1!C244,初期設定1!$C$18:$F$59,3,FALSE)&\" \"&RIGHT(記録入力1!N244,5))","v":""},null,{"$f":"IF(B232=\"\",\"\",記録入力1!I244)","v":{"$error":"#N/A"}}]
[{"$f":"IF(B233=\"\",\"\",記録入力1!C245)","v":{"$error":"#N/A"}},{"$f":"VLOOKUP($H233,女子選手!$B$2:$G$158,6,FALSE)","v":{"$error":"#N/A"}},{"$f":"IF($H233=\"\",\"\",VLOOKUP($H233,女子選手!$B$2:$D$158,2,FALSE))","v":""},{"$f":"IF($H233=\"\",\"\",VLOOKUP($H233,女子選手!$B$2:$D$158,3,FALSE))","v":""},"","",{"$f":"IF(H233=\"\",\"\",VALUE(MID(VLOOKUP($H233,女子選手!$B$2:$G$158,6,FALSE),2,6)))","v":""},{"$f":"記録入力1!J245","v":""},{"$f":"IF(H233=\"\",\"\",VLOOKUP(記録入力1!C245,初期設定1!$C$18:$F$59,3,FALSE)&\" \"&RIGHT(記録入力1!N245,5))","v":""},null,{"$f":"IF(B233=\"\",\"\",記録入力1!I245)","v":{"$error":"#N/A"}}]
[{"$f":"IF(B234=\"\",\"\",記録入力1!C246)","v":{"$error":"#N/A"}},{"$f":"VLOOKUP($H234,女子選手!$B$2:$G$158,6,FALSE)","v":{"$error":"#N/A"}},{"$f":"IF($H234=\"\",\"\",VLOOKUP($H234,女子選手!$B$2:$D$158,2,FALSE))","v":""},{"$f":"IF($H234=\"\",\"\",VLOOKUP($H234,女子選手!$B$2:$D$158,3,FALSE))","v":""},"","",{"$f":"IF(H234=\"\",\"\",VALUE(MID(VLOOKUP($H234,女子選手!$B$2:$G$158,6,FALSE),2,6)))","v":""},{"$f":"記録入力1!J246","v":""},{"$f":"IF(H234=\"\",\"\",VLOOKUP(記録入力1!C246,初期設定1!$C$18:$F$59,3,FALSE)&\" \"&RIGHT(記録入力1!N246,5))","v":""},null,{"$f":"IF(B234=\"\",\"\",記録入力1!I246)","v":{"$error":"#N/A"}}]
[{"$f":"IF(B235=\"\",\"\",記録入力1!C247)","v":{"$error":"#N/A"}},{"$f":"VLOOKUP($H235,女子選手!$B$2:$G$158,6,FALSE)","v":{"$error":"#N/A"}},{"$f":"IF($H235=\"\",\"\",VLOOKUP($H235,女子選手!$B$2:$D$158,2,FALSE))","v":""},{"$f":"IF($H235=\"\",\"\",VLOOKUP($H235,女子選手!$B$2:$D$158,3,FALSE))","v":""},"","",{"$f":"IF(H235=\"\",\"\",VALUE(MID(VLOOKUP($H235,女子選手!$B$2:$G$158,6,FALSE),2,6)))","v":""},{"$f":"記録入力1!J247","v":""},{"$f":"IF(H235=\"\",\"\",VLOOKUP(記録入力1!C247,初期設定1!$C$18:$F$59,3,FALSE)&\" \"&RIGHT(記録入力1!N247,5))","v":""},null,{"$f":"IF(B235=\"\",\"\",記録入力1!I247)","v":{"$error":"#N/A"}}]
[{"$f":"IF(B236=\"\",\"\",記録入力1!C248)","v":{"$error":"#N/A"}},{"$f":"VLOOKUP($H236,女子選手!$B$2:$G$158,6,FALSE)","v":{"$error":"#N/A"}},{"$f":"IF($H236=\"\",\"\",VLOOKUP($H236,女子選手!$B$2:$D$158,2,FALSE))","v":""},{"$f":"IF($H236=\"\",\"\",VLOOKUP($H236,女子選手!$B$2:$D$158,3,FALSE))","v":""},"","",{"$f":"IF(H236=\"\",\"\",VALUE(MID(VLOOKUP($H236,女子選手!$B$2:$G$158,6,FALSE),2,6)))","v":""},{"$f":"記録入力1!J248","v":""},{"$f":"IF(H236=\"\",\"\",VLOOKUP(記録入力1!C248,初期設定1!$C$18:$F$59,3,FALSE)&\" \"&RIGHT(記録入力1!N248,5))","v":""},null,{"$f":"IF(B236=\"\",\"\",記録入力1!I248)","v":{"$error":"#N/A"}}]
[{"$f":"IF(B237=\"\",\"\",記録入力1!C249)","v":{"$error":"#N/A"}},{"$f":"VLOOKUP($H237,女子選手!$B$2:$G$158,6,FALSE)","v":{"$error":"#N/A"}},{"$f":"IF($H237=\"\",\"\",VLOOKUP($H237,女子選手!$B$2:$D$158,2,FALSE))","v":""},{"$f":"IF($H237=\"\",\"\",VLOOKUP($H237,女子選手!$B$2:$D$158,3,FALSE))","v":""},"","",{"$f":"IF(H237=\"\",\"\",VALUE(MID(VLOOKUP($H237,女子選手!$B$2:$G$158,6,FALSE),2,6)))","v":""},{"$f":"記録入力1!J249","v":""},{"$f":"IF(H237=\"\",\"\",VLOOKUP(記録入力1!C249,初期設定1!$C$18:$F$59,3,FALSE)&\" \"&RIGHT(記録入力1!N249,5))","v":""},null,{"$f":"IF(B237=\"\",\"\",記録入力1!I249)","v":{"$error":"#N/A"}}]
[{"$f":"IF(B238=\"\",\"\",記録入力1!C250)","v":{"$error":"#N/A"}},{"$f":"VLOOKUP($H238,女子選手!$B$2:$G$158,6,FALSE)","v":{"$error":"#N/A"}},{"$f":"IF($H238=\"\",\"\",VLOOKUP($H238,女子選手!$B$2:$D$158,2,FALSE))","v":""},{"$f":"IF($H238=\"\",\"\",VLOOKUP($H238,女子選手!$B$2:$D$158,3,FALSE))","v":""},"","",{"$f":"IF(H238=\"\",\"\",VALUE(MID(VLOOKUP($H238,女子選手!$B$2:$G$158,6,FALSE),2,6)))","v":""},{"$f":"記録入力1!J250","v":""},{"$f":"IF(H238=\"\",\"\",VLOOKUP(記録入力1!C250,初期設定1!$C$18:$F$59,3,FALSE)&\" \"&RIGHT(記録入力1!N250,5))","v":""},null,{"$f":"IF(B238=\"\",\"\",記録入力1!I250)","v":{"$error":"#N/A"}}]
[{"$f":"IF(B239=\"\",\"\",記録入力1!C251)","v":{"$error":"#N/A"}},{"$f":"VLOOKUP($H239,女子選手!$B$2:$G$158,6,FALSE)","v":{"$error":"#N/A"}},{"$f":"IF($H239=\"\",\"\",VLOOKUP($H239,女子選手!$B$2:$D$158,2,FALSE))","v":""},{"$f":"IF($H239=\"\",\"\",VLOOKUP($H239,女子選手!$B$2:$D$158,3,FALSE))","v":""},"","",{"$f":"IF(H239=\"\",\"\",VALUE(MID(VLOOKUP($H239,女子選手!$B$2:$G$158,6,FALSE),2,6)))","v":""},{"$f":"記録入力1!J251","v":""},{"$f":"IF(H239=\"\",\"\",VLOOKUP(記録入力1!C251,初期設定1!$C$18:$F$59,3,FALSE)&\" \"&RIGHT(記録入力1!N251,5))","v":""},null,{"$f":"IF(B239=\"\",\"\",記録入力1!I251)","v":{"$error":"#N/A"}}]
[{"$f":"IF(B240=\"\",\"\",記録入力1!C252)","v":{"$error":"#N/A"}},{"$f":"VLOOKUP($H240,女子選手!$B$2:$G$158,6,FALSE)","v":{"$error":"#N/A"}},{"$f":"IF($H240=\"\",\"\",VLOOKUP($H240,女子選手!$B$2:$D$158,2,FALSE))","v":""},{"$f":"IF($H240=\"\",\"\",VLOOKUP($H240,女子選手!$B$2:$D$158,3,FALSE))","v":""},"","",{"$f":"IF(H240=\"\",\"\",VALUE(MID(VLOOKUP($H240,女子選手!$B$2:$G$158,6,FALSE),2,6)))","v":""},{"$f":"記録入力1!J252","v":""},{"$f":"IF(H240=\"\",\"\",VLOOKUP(記録入力1!C252,初期設定1!$C$18:$F$59,3,FALSE)&\" \"&RIGHT(記録入力1!N252,5))","v":""},null,{"$f":"IF(B240=\"\",\"\",記録入力1!I252)","v":{"$error":"#N/A"}}]
[{"$f":"IF(B241=\"\",\"\",記録入力1!C253)","v":{"$error":"#N/A"}},{"$f":"VLOOKUP($H241,女子選手!$B$2:$G$158,6,FALSE)","v":{"$error":"#N/A"}},{"$f":"IF($H241=\"\",\"\",VLOOKUP($H241,女子選手!$B$2:$D$158,2,FALSE))","v":""},{"$f":"IF($H241=\"\",\"\",VLOOKUP($H241,女子選手!$B$2:$D$158,3,FALSE))","v":""},"","",{"$f":"IF(H241=\"\",\"\",VALUE(MID(VLOOKUP($H241,女子選手!$B$2:$G$158,6,FALSE),2,6)))","v":""},{"$f":"記録入力1!J253","v":""},{"$f":"IF(H241=\"\",\"\",VLOOKUP(記録入力1!C253,初期設定1!$C$18:$F$59,3,FALSE)&\" \"&RIGHT(記録入力1!N253,5))","v":""},null,{"$f":"IF(B241=\"\",\"\",記録入力1!I253)","v":{"$error":"#N/A"}}]
[{"$f":"IF(B242=\"\",\"\",記録入力1!C254)","v":{"$error":"#N/A"}},{"$f":"VLOOKUP($H242,女子選手!$B$2:$G$158,6,FALSE)","v":{"$error":"#N/A"}},{"$f":"IF($H242=\"\",\"\",VLOOKUP($H242,女子選手!$B$2:$D$158,2,FALSE))","v":""},{"$f":"IF($H242=\"\",\"\",VLOOKUP($H242,女子選手!$B$2:$D$158,3,FALSE))","v":""},"","",{"$f":"IF(H242=\"\",\"\",VALUE(MID(VLOOKUP($H242,女子選手!$B$2:$G$158,6,FALSE),2,6)))","v":""},{"$f":"記録入力1!J254","v":""},{"$f":"IF(H242=\"\",\"\",VLOOKUP(記録入力1!C254,初期設定1!$C$18:$F$59,3,FALSE)&\" \"&RIGHT(記録入力1!N254,5))","v":""},null,{"$f":"IF(B242=\"\",\"\",記録入力1!I254)","v":{"$error":"#N/A"}}]
[{"$f":"IF(B243=\"\",\"\",記録入力1!C255)","v":{"$error":"#N/A"}},{"$f":"VLOOKUP($H243,女子選手!$B$2:$G$158,6,FALSE)","v":{"$error":"#N/A"}},{"$f":"IF($H243=\"\",\"\",VLOOKUP($H243,女子選手!$B$2:$D$158,2,FALSE))","v":""},{"$f":"IF($H243=\"\",\"\",VLOOKUP($H243,女子選手!$B$2:$D$158,3,FALSE))","v":""},"","",{"$f":"IF(H243=\"\",\"\",VALUE(MID(VLOOKUP($H243,女子選手!$B$2:$G$158,6,FALSE),2,6)))","v":""},{"$f":"記録入力1!J255","v":""},{"$f":"IF(H243=\"\",\"\",VLOOKUP(記録入力1!C255,初期設定1!$C$18:$F$59,3,FALSE)&\" \"&RIGHT(記録入力1!N255,5))","v":""},null,{"$f":"IF(B243=\"\",\"\",記録入力1!I255)","v":{"$error":"#N/A"}}]
[{"$f":"IF(B244=\"\",\"\",記録入力1!C256)","v":{"$error":"#N/A"}},{"$f":"VLOOKUP($H244,女子選手!$B$2:$G$158,6,FALSE)","v":{"$error":"#N/A"}},{"$f":"IF($H244=\"\",\"\",VLOOKUP($H244,女子選手!$B$2:$D$158,2,FALSE))","v":""},{"$f":"IF($H244=\"\",\"\",VLOOKUP($H244,女子選手!$B$2:$D$158,3,FALSE))","v":""},"","",{"$f":"IF(H244=\"\",\"\",VALUE(MID(VLOOKUP($H244,女子選手!$B$2:$G$158,6,FALSE),2,6)))","v":""},{"$f":"記録入力1!J256","v":""},{"$f":"IF(H244=\"\",\"\",VLOOKUP(記録入力1!C256,初期設定1!$C$18:$F$59,3,FALSE)&\" \"&RIGHT(記録入力1!N256,5))","v":""},null,{"$f":"IF(B244=\"\",\"\",記録入力1!I256)","v":{"$error":"#N/A"}}]
[{"$f":"IF(B245=\"\",\"\",記録入力1!C257)","v":{"$error":"#N/A"}},{"$f":"VLOOKUP($H245,女子選手!$B$2:$G$158,6,FALSE)","v":{"$error":"#N/A"}},{"$f":"IF($H245=\"\",\"\",VLOOKUP($H245,女子選手!$B$2:$D$158,2,FALSE))","v":""},{"$f":"IF($H245=\"\",\"\",VLOOKUP($H245,女子選手!$B$2:$D$158,3,FALSE))","v":""},"","",{"$f":"IF(H245=\"\",\"\",VALUE(MID(VLOOKUP($H245,女子選手!$B$2:$G$158,6,FALSE),2,6)))","v":""},{"$f":"記録入力1!J257","v":""},{"$f":"IF(H245=\"\",\"\",VLOOKUP(記録入力1!C257,初期設定1!$C$18:$F$59,3,FALSE)&\" \"&RIGHT(記録入力1!N257,5))","v":""},null,{"$f":"IF(B245=\"\",\"\",記録入力1!I257)","v":{"$error":"#N/A"}}]
[{"$f":"IF(B246=\"\",\"\",記録入力1!C258)","v":{"$error":"#N/A"}},{"$f":"VLOOKUP($H246,女子選手!$B$2:$G$158,6,FALSE)","v":{"$error":"#N/A"}},{"$f":"IF($H246=\"\",\"\",VLOOKUP($H246,女子選手!$B$2:$D$158,2,FALSE))","v":""},{"$f":"IF($H246=\"\",\"\",VLOOKUP($H246,女子選手!$B$2:$D$158,3,FALSE))","v":""},"","",{"$f":"IF(H246=\"\",\"\",VALUE(MID(VLOOKUP($H246,女子選手!$B$2:$G$158,6,FALSE),2,6)))","v":""},{"$f":"記録入力1!J258","v":""},{"$f":"IF(H246=\"\",\"\",VLOOKUP(記録入力1!C258,初期設定1!$C$18:$F$59,3,FALSE)&\" \"&RIGHT(記録入力1!N258,5))","v":""},null,{"$f":"IF(B246=\"\",\"\",記録入力1!I258)","v":{"$error":"#N/A"}}]
[{"$f":"IF(B247=\"\",\"\",記録入力1!C259)","v":{"$error":"#N/A"}},{"$f":"VLOOKUP($H247,女子選手!$B$2:$G$158,6,FALSE)","v":{"$error":"#N/A"}},{"$f":"IF($H247=\"\",\"\",VLOOKUP($H247,女子選手!$B$2:$D$158,2,FALSE))","v":""},{"$f":"IF($H247=\"\",\"\",VLOOKUP($H247,女子選手!$B$2:$D$158,3,FALSE))","v":""},"","",{"$f":"IF(H247=\"\",\"\",VALUE(MID(VLOOKUP($H247,女子選手!$B$2:$G$158,6,FALSE),2,6)))","v":""},{"$f":"記録入力1!J259","v":""},{"$f":"IF(H247=\"\",\"\",VLOOKUP(記録入力1!C259,初期設定1!$C$18:$F$59,3,FALSE)&\" \"&RIGHT(記録入力1!N259,5))","v":""},null,{"$f":"IF(B247=\"\",\"\",記録入力1!I259)","v":{"$error":"#N/A"}}]
[{"$f":"IF(B248=\"\",\"\",記録入力1!C260)","v":{"$error":"#N/A"}},{"$f":"VLOOKUP($H248,女子選手!$B$2:$G$158,6,FALSE)","v":{"$error":"#N/A"}},{"$f":"IF($H248=\"\",\"\",VLOOKUP($H248,女子選手!$B$2:$D$158,2,FALSE))","v":""},{"$f":"IF($H248=\"\",\"\",VLOOKUP($H248,女子選手!$B$2:$D$158,3,FALSE))","v":""},"","",{"$f":"IF(H248=\"\",\"\",VALUE(MID(VLOOKUP($H248,女子選手!$B$2:$G$158,6,FALSE),2,6)))","v":""},{"$f":"記録入力1!J260","v":""},{"$f":"IF(H248=\"\",\"\",VLOOKUP(記録入力1!C260,初期設定1!$C$18:$F$59,3,FALSE)&\" \"&RIGHT(記録入力1!N260,5))","v":""},null,{"$f":"IF(B248=\"\",\"\",記録入力1!I260)","v":{"$error":"#N/A"}}]
[{"$f":"IF(B249=\"\",\"\",記録入力1!C261)","v":{"$error":"#N/A"}},{"$f":"VLOOKUP($H249,女子選手!$B$2:$G$158,6,FALSE)","v":{"$error":"#N/A"}},{"$f":"IF($H249=\"\",\"\",VLOOKUP($H249,女子選手!$B$2:$D$158,2,FALSE))","v":""},{"$f":"IF($H249=\"\",\"\",VLOOKUP($H249,女子選手!$B$2:$D$158,3,FALSE))","v":""},"","",{"$f":"IF(H249=\"\",\"\",VALUE(MID(VLOOKUP($H249,女子選手!$B$2:$G$158,6,FALSE),2,6)))","v":""},{"$f":"記録入力1!J261","v":""},{"$f":"IF(H249=\"\",\"\",VLOOKUP(記録入力1!C261,初期設定1!$C$18:$F$59,3,FALSE)&\" \"&RIGHT(記録入力1!N261,5))","v":""},null,{"$f":"IF(B249=\"\",\"\",記録入力1!I261)","v":{"$error":"#N/A"}}]
[{"$f":"IF(B250=\"\",\"\",記録入力1!C262)","v":{"$error":"#N/A"}},{"$f":"VLOOKUP($H250,女子選手!$B$2:$G$158,6,FALSE)","v":{"$error":"#N/A"}},{"$f":"IF($H250=\"\",\"\",VLOOKUP($H250,女子選手!$B$2:$D$158,2,FALSE))","v":""},{"$f":"IF($H250=\"\",\"\",VLOOKUP($H250,女子選手!$B$2:$D$158,3,FALSE))","v":""},"","",{"$f":"IF(H250=\"\",\"\",VALUE(MID(VLOOKUP($H250,女子選手!$B$2:$G$158,6,FALSE),2,6)))","v":""},{"$f":"記録入力1!J262","v":""},{"$f":"IF(H250=\"\",\"\",VLOOKUP(記録入力1!C262,初期設定1!$C$18:$F$59,3,FALSE)&\" \"&RIGHT(記録入力1!N262,5))","v":""},null,{"$f":"IF(B250=\"\",\"\",記録入力1!I262)","v":{"$error":"#N/A"}}]
[{"$f":"IF(B251=\"\",\"\",記録入力1!C263)","v":{"$error":"#N/A"}},{"$f":"VLOOKUP($H251,女子選手!$B$2:$G$158,6,FALSE)","v":{"$error":"#N/A"}},{"$f":"IF($H251=\"\",\"\",VLOOKUP($H251,女子選手!$B$2:$D$158,2,FALSE))","v":""},{"$f":"IF($H251=\"\",\"\",VLOOKUP($H251,女子選手!$B$2:$D$158,3,FALSE))","v":""},"","",{"$f":"IF(H251=\"\",\"\",VALUE(MID(VLOOKUP($H251,女子選手!$B$2:$G$158,6,FALSE),2,6)))","v":""},{"$f":"記録入力1!J263","v":""},{"$f":"IF(H251=\"\",\"\",VLOOKUP(記録入力1!C263,初期設定1!$C$18:$F$59,3,FALSE)&\" \"&RIGHT(記録入力1!N263,5))","v":""},null,{"$f":"IF(B251=\"\",\"\",記録入力1!I263)","v":{"$error":"#N/A"}}]
[{"$f":"IF(B252=\"\",\"\",記録入力1!C264)","v":{"$error":"#N/A"}},{"$f":"VLOOKUP($H252,女子選手!$B$2:$G$158,6,FALSE)","v":{"$error":"#N/A"}},{"$f":"IF($H252=\"\",\"\",VLOOKUP($H252,女子選手!$B$2:$D$158,2,FALSE))","v":""},{"$f":"IF($H252=\"\",\"\",VLOOKUP($H252,女子選手!$B$2:$D$158,3,FALSE))","v":""},"","",{"$f":"IF(H252=\"\",\"\",VALUE(MID(VLOOKUP($H252,女子選手!$B$2:$G$158,6,FALSE),2,6)))","v":""},{"$f":"記録入力1!J264","v":""},{"$f":"IF(H252=\"\",\"\",VLOOKUP(記録入力1!C264,初期設定1!$C$18:$F$59,3,FALSE)&\" \"&RIGHT(記録入力1!N264,5))","v":""},null,{"$f":"IF(B252=\"\",\"\",記録入力1!I264)","v":{"$error":"#N/A"}}]
[{"$f":"IF(B253=\"\",\"\",記録入力1!C265)","v":{"$error":"#N/A"}},{"$f":"VLOOKUP($H253,女子選手!$B$2:$G$158,6,FALSE)","v":{"$error":"#N/A"}},{"$f":"IF($H253=\"\",\"\",VLOOKUP($H253,女子選手!$B$2:$D$158,2,FALSE))","v":""},{"$f":"IF($H253=\"\",\"\",VLOOKUP($H253,女子選手!$B$2:$D$158,3,FALSE))","v":""},"","",{"$f":"IF(H253=\"\",\"\",VALUE(MID(VLOOKUP($H253,女子選手!$B$2:$G$158,6,FALSE),2,6)))","v":""},{"$f":"記録入力1!J265","v":""},{"$f":"IF(H253=\"\",\"\",VLOOKUP(記録入力1!C265,初期設定1!$C$18:$F$59,3,FALSE)&\" \"&RIGHT(記録入力1!N265,5))","v":""},null,{"$f":"IF(B253=\"\",\"\",記録入力1!I265)","v":{"$error":"#N/A"}}]
[{"$f":"IF(B254=\"\",\"\",記録入力1!C266)","v":{"$error":"#N/A"}},{"$f":"VLOOKUP($H254,女子選手!$B$2:$G$158,6,FALSE)","v":{"$error":"#N/A"}},{"$f":"IF($H254=\"\",\"\",VLOOKUP($H254,女子選手!$B$2:$D$158,2,FALSE))","v":""},{"$f":"IF($H254=\"\",\"\",VLOOKUP($H254,女子選手!$B$2:$D$158,3,FALSE))","v":""},"","",{"$f":"IF(H254=\"\",\"\",VALUE(MID(VLOOKUP($H254,女子選手!$B$2:$G$158,6,FALSE),2,6)))","v":""},{"$f":"記録入力1!J266","v":""},{"$f":"IF(H254=\"\",\"\",VLOOKUP(記録入力1!C266,初期設定1!$C$18:$F$59,3,FALSE)&\" \"&RIGHT(記録入力1!N266,5))","v":""},null,{"$f":"IF(B254=\"\",\"\",記録入力1!I266)","v":{"$error":"#N/A"}}]
[{"$f":"IF(B255=\"\",\"\",記録入力1!C267)","v":{"$error":"#N/A"}},{"$f":"VLOOKUP($H255,女子選手!$B$2:$G$158,6,FALSE)","v":{"$error":"#N/A"}},{"$f":"IF($H255=\"\",\"\",VLOOKUP($H255,女子選手!$B$2:$D$158,2,FALSE))","v":""},{"$f":"IF($H255=\"\",\"\",VLOOKUP($H255,女子選手!$B$2:$D$158,3,FALSE))","v":""},"","",{"$f":"IF(H255=\"\",\"\",VALUE(MID(VLOOKUP($H255,女子選手!$B$2:$G$158,6,FALSE),2,6)))","v":""},{"$f":"記録入力1!J267","v":""},{"$f":"IF(H255=\"\",\"\",VLOOKUP(記録入力1!C267,初期設定1!$C$18:$F$59,3,FALSE)&\" \"&RIGHT(記録入力1!N267,5))","v":""},null,{"$f":"IF(B255=\"\",\"\",記録入力1!I267)","v":{"$error":"#N/A"}}]
[{"$f":"IF(B256=\"\",\"\",記録入力1!C268)","v":{"$error":"#N/A"}},{"$f":"VLOOKUP($H256,女子選手!$B$2:$G$158,6,FALSE)","v":{"$error":"#N/A"}},{"$f":"IF($H256=\"\",\"\",VLOOKUP($H256,女子選手!$B$2:$D$158,2,FALSE))","v":""},{"$f":"IF($H256=\"\",\"\",VLOOKUP($H256,女子選手!$B$2:$D$158,3,FALSE))","v":""},"","",{"$f":"IF(H256=\"\",\"\",VALUE(MID(VLOOKUP($H256,女子選手!$B$2:$G$158,6,FALSE),2,6)))","v":""},{"$f":"記録入力1!J268","v":""},{"$f":"IF(H256=\"\",\"\",VLOOKUP(記録入力1!C268,初期設定1!$C$18:$F$59,3,FALSE)&\" \"&RIGHT(記録入力1!N268,5))","v":""},null,{"$f":"IF(B256=\"\",\"\",記録入力1!I268)","v":{"$error":"#N/A"}}]
[{"$f":"IF(B257=\"\",\"\",記録入力1!C269)","v":{"$error":"#N/A"}},{"$f":"VLOOKUP($H257,女子選手!$B$2:$G$158,6,FALSE)","v":{"$error":"#N/A"}},{"$f":"IF($H257=\"\",\"\",VLOOKUP($H257,女子選手!$B$2:$D$158,2,FALSE))","v":""},{"$f":"IF($H257=\"\",\"\",VLOOKUP($H257,女子選手!$B$2:$D$158,3,FALSE))","v":""},"","",{"$f":"IF(H257=\"\",\"\",VALUE(MID(VLOOKUP($H257,女子選手!$B$2:$G$158,6,FALSE),2,6)))","v":""},{"$f":"記録入力1!J269","v":""},{"$f":"IF(H257=\"\",\"\",VLOOKUP(記録入力1!C269,初期設定1!$C$18:$F$59,3,FALSE)&\" \"&RIGHT(記録入力1!N269,5))","v":""},null,{"$f":"IF(B257=\"\",\"\",記録入力1!I269)","v":{"$error":"#N/A"}}]
[{"$f":"IF(B258=\"\",\"\",記録入力1!C270)","v":{"$error":"#N/A"}},{"$f":"VLOOKUP($H258,女子選手!$B$2:$G$158,6,FALSE)","v":{"$error":"#N/A"}},{"$f":"IF($H258=\"\",\"\",VLOOKUP($H258,女子選手!$B$2:$D$158,2,FALSE))","v":""},{"$f":"IF($H258=\"\",\"\",VLOOKUP($H258,女子選手!$B$2:$D$158,3,FALSE))","v":""},"","",{"$f":"IF(H258=\"\",\"\",VALUE(MID(VLOOKUP($H258,女子選手!$B$2:$G$158,6,FALSE),2,6)))","v":""},{"$f":"記録入力1!J270","v":""},{"$f":"IF(H258=\"\",\"\",VLOOKUP(記録入力1!C270,初期設定1!$C$18:$F$59,3,FALSE)&\" \"&RIGHT(記録入力1!N270,5))","v":""},null,{"$f":"IF(B258=\"\",\"\",記録入力1!I270)","v":{"$error":"#N/A"}}]
[{"$f":"IF(B259=\"\",\"\",記録入力1!C271)","v":{"$error":"#N/A"}},{"$f":"VLOOKUP($H259,女子選手!$B$2:$G$158,6,FALSE)","v":{"$error":"#N/A"}},{"$f":"IF($H259=\"\",\"\",VLOOKUP($H259,女子選手!$B$2:$D$158,2,FALSE))","v":""},{"$f":"IF($H259=\"\",\"\",VLOOKUP($H259,女子選手!$B$2:$D$158,3,FALSE))","v":""},{"$f":"IF(H259=\"\",\"\",2)","v":""},{"$f":"IF(H259=\"\",\"\",2)","v":""},{"$f":"IF(H259=\"\",\"\",VALUE(MID(VLOOKUP($H259,女子選手!$B$2:$G$158,6,FALSE),2,6)))","v":""},{"$f":"記録入力1!J271","v":""},{"$f":"IF(H259=\"\",\"\",VLOOKUP(記録入力1!C271,初期設定1!$C$18:$F$59,3,FALSE)&\" \"&RIGHT(記録入力1!N271,5))","v":""},null,{"$f":"IF(B259=\"\",\"\",記録入力1!I271)","v":{"$error":"#N/A"}}]
[{"$f":"IF(B260=\"\",\"\",記録入力1!C272)","v":{"$error":"#N/A"}},{"$f":"VLOOKUP($H260,女子選手!$B$2:$G$158,6,FALSE)","v":{"$error":"#N/A"}},{"$f":"IF($H260=\"\",\"\",VLOOKUP($H260,女子選手!$B$2:$D$158,2,FALSE))","v":""},{"$f":"IF($H260=\"\",\"\",VLOOKUP($H260,女子選手!$B$2:$D$158,3,FALSE))","v":""},"","",{"$f":"IF(H260=\"\",\"\",VALUE(MID(VLOOKUP($H260,女子選手!$B$2:$G$158,6,FALSE),2,6)))","v":""},{"$f":"記録入力1!J272","v":""},{"$f":"IF(H260=\"\",\"\",VLOOKUP(記録入力1!C272,初期設定1!$C$18:$F$59,3,FALSE)&\" \"&RIGHT(記録入力1!N272,5))","v":""},null,{"$f":"IF(B260=\"\",\"\",記録入力1!I272)","v":{"$error":"#N/A"}}]
[{"$f":"IF(B261=\"\",\"\",記録入力1!C273)","v":{"$error":"#N/A"}},{"$f":"VLOOKUP($H261,女子選手!$B$2:$G$158,6,FALSE)","v":{"$error":"#N/A"}},{"$f":"IF($H261=\"\",\"\",VLOOKUP($H261,女子選手!$B$2:$D$158,2,FALSE))","v":""},{"$f":"IF($H261=\"\",\"\",VLOOKUP($H261,女子選手!$B$2:$D$158,3,FALSE))","v":""},"","",{"$f":"IF(H261=\"\",\"\",VALUE(MID(VLOOKUP($H261,女子選手!$B$2:$G$158,6,FALSE),2,6)))","v":""},{"$f":"記録入力1!J273","v":""},{"$f":"IF(H261=\"\",\"\",VLOOKUP(記録入力1!C273,初期設定1!$C$18:$F$59,3,FALSE)&\" \"&RIGHT(記録入力1!N273,5))","v":""},null,{"$f":"IF(B261=\"\",\"\",記録入力1!I273)","v":{"$error":"#N/A"}}]
[{"$f":"IF(B262=\"\",\"\",記録入力1!C274)","v":{"$error":"#N/A"}},{"$f":"VLOOKUP($H262,女子選手!$B$2:$G$158,6,FALSE)","v":{"$error":"#N/A"}},{"$f":"IF($H262=\"\",\"\",VLOOKUP($H262,女子選手!$B$2:$D$158,2,FALSE))","v":""},{"$f":"IF($H262=\"\",\"\",VLOOKUP($H262,女子選手!$B$2:$D$158,3,FALSE))","v":""},"","",{"$f":"IF(H262=\"\",\"\",VALUE(MID(VLOOKUP($H262,女子選手!$B$2:$G$158,6,FALSE),2,6)))","v":""},{"$f":"記録入力1!J274","v":""},{"$f":"IF(H262=\"\",\"\",VLOOKUP(記録入力1!C274,初期設定1!$C$18:$F$59,3,FALSE)&\" \"&RIGHT(記録入力1!N274,5))","v":""},null,{"$f":"IF(B262=\"\",\"\",記録入力1!I274)","v":{"$error":"#N/A"}}]
[{"$f":"IF(B263=\"\",\"\",記録入力1!C275)","v":{"$error":"#N/A"}},{"$f":"VLOOKUP($H263,女子選手!$B$2:$G$158,6,FALSE)","v":{"$error":"#N/A"}},{"$f":"IF($H263=\"\",\"\",VLOOKUP($H263,女子選手!$B$2:$D$158,2,FALSE))","v":""},{"$f":"IF($H263=\"\",\"\",VLOOKUP($H263,女子選手!$B$2:$D$158,3,FALSE))","v":""},"","",{"$f":"IF(H263=\"\",\"\",VALUE(MID(VLOOKUP($H263,女子選手!$B$2:$G$158,6,FALSE),2,6)))","v":""},{"$f":"記録入力1!J275","v":""},{"$f":"IF(H263=\"\",\"\",VLOOKUP(記録入力1!C275,初期設定1!$C$18:$F$59,3,FALSE)&\" \"&RIGHT(記録入力1!N275,5))","v":""},null,{"$f":"IF(B263=\"\",\"\",記録入力1!I275)","v":{"$error":"#N/A"}}]
[{"$f":"IF(B264=\"\",\"\",記録入力1!C276)","v":{"$error":"#N/A"}},{"$f":"VLOOKUP($H264,女子選手!$B$2:$G$158,6,FALSE)","v":{"$error":"#N/A"}},{"$f":"IF($H264=\"\",\"\",VLOOKUP($H264,女子選手!$B$2:$D$158,2,FALSE))","v":""},{"$f":"IF($H264=\"\",\"\",VLOOKUP($H264,女子選手!$B$2:$D$158,3,FALSE))","v":""},"","",{"$f":"IF(H264=\"\",\"\",VALUE(MID(VLOOKUP($H264,女子選手!$B$2:$G$158,6,FALSE),2,6)))","v":""},{"$f":"記録入力1!J276","v":""},{"$f":"IF(H264=\"\",\"\",VLOOKUP(記録入力1!C276,初期設定1!$C$18:$F$59,3,FALSE)&\" \"&RIGHT(記録入力1!N276,5))","v":""},null,{"$f":"IF(B264=\"\",\"\",記録入力1!I276)","v":{"$error":"#N/A"}}]
[{"$f":"IF(B265=\"\",\"\",記録入力1!C277)","v":{"$error":"#N/A"}},{"$f":"VLOOKUP($H265,女子選手!$B$2:$G$158,6,FALSE)","v":{"$error":"#N/A"}},{"$f":"IF($H265=\"\",\"\",VLOOKUP($H265,女子選手!$B$2:$D$158,2,FALSE))","v":""},{"$f":"IF($H265=\"\",\"\",VLOOKUP($H265,女子選手!$B$2:$D$158,3,FALSE))","v":""},"","",{"$f":"IF(H265=\"\",\"\",VALUE(MID(VLOOKUP($H265,女子選手!$B$2:$G$158,6,FALSE),2,6)))","v":""},{"$f":"記録入力1!J277","v":""},{"$f":"IF(H265=\"\",\"\",VLOOKUP(記録入力1!C277,初期設定1!$C$18:$F$59,3,FALSE)&\" \"&RIGHT(記録入力1!N277,5))","v":""},null,{"$f":"IF(B265=\"\",\"\",記録入力1!I277)","v":{"$error":"#N/A"}}]
[{"$f":"IF(B266=\"\",\"\",記録入力1!C278)","v":{"$error":"#N/A"}},{"$f":"VLOOKUP($H266,女子選手!$B$2:$G$158,6,FALSE)","v":{"$error":"#N/A"}},{"$f":"IF($H266=\"\",\"\",VLOOKUP($H266,女子選手!$B$2:$D$158,2,FALSE))","v":""},{"$f":"IF($H266=\"\",\"\",VLOOKUP($H266,女子選手!$B$2:$D$158,3,FALSE))","v":""},"","",{"$f":"IF(H266=\"\",\"\",VALUE(MID(VLOOKUP($H266,女子選手!$B$2:$G$158,6,FALSE),2,6)))","v":""},{"$f":"記録入力1!J278","v":""},{"$f":"IF(H266=\"\",\"\",VLOOKUP(記録入力1!C278,初期設定1!$C$18:$F$59,3,FALSE)&\" \"&RIGHT(記録入力1!N278,5))","v":""},null,{"$f":"IF(B266=\"\",\"\",記録入力1!I278)","v":{"$error":"#N/A"}}]
[{"$f":"IF(B267=\"\",\"\",記録入力1!C279)","v":{"$error":"#N/A"}},{"$f":"VLOOKUP($H267,女子選手!$B$2:$G$158,6,FALSE)","v":{"$error":"#N/A"}},{"$f":"IF($H267=\"\",\"\",VLOOKUP($H267,女子選手!$B$2:$D$158,2,FALSE))","v":""},{"$f":"IF($H267=\"\",\"\",VLOOKUP($H267,女子選手!$B$2:$D$158,3,FALSE))","v":""},"","",{"$f":"IF(H267=\"\",\"\",VALUE(MID(VLOOKUP($H267,女子選手!$B$2:$G$158,6,FALSE),2,6)))","v":""},{"$f":"記録入力1!J279","v":""},{"$f":"IF(H267=\"\",\"\",VLOOKUP(記録入力1!C279,初期設定1!$C$18:$F$59,3,FALSE)&\" \"&RIGHT(記録入力1!N279,5))","v":""},null,{"$f":"IF(B267=\"\",\"\",記録入力1!I279)","v":{"$error":"#N/A"}}]
[{"$f":"IF(B268=\"\",\"\",記録入力1!C280)","v":{"$error":"#N/A"}},{"$f":"VLOOKUP($H268,女子選手!$B$2:$G$158,6,FALSE)","v":{"$error":"#N/A"}},{"$f":"IF($H268=\"\",\"\",VLOOKUP($H268,女子選手!$B$2:$D$158,2,FALSE))","v":""},{"$f":"IF($H268=\"\",\"\",VLOOKUP($H268,女子選手!$B$2:$D$158,3,FALSE))","v":""},"","",{"$f":"IF(H268=\"\",\"\",VALUE(MID(VLOOKUP($H268,女子選手!$B$2:$G$158,6,FALSE),2,6)))","v":""},{"$f":"記録入力1!J280","v":""},{"$f":"IF(H268=\"\",\"\",VLOOKUP(記録入力1!C280,初期設定1!$C$18:$F$59,3,FALSE)&\" \"&RIGHT(記録入力1!N280,5))","v":""},null,{"$f":"IF(B268=\"\",\"\",記録入力1!I280)","v":{"$error":"#N/A"}}]
[{"$f":"IF(B269=\"\",\"\",記録入力1!C281)","v":{"$error":"#N/A"}},{"$f":"VLOOKUP($H269,女子選手!$B$2:$G$158,6,FALSE)","v":{"$error":"#N/A"}},{"$f":"IF($H269=\"\",\"\",VLOOKUP($H269,女子選手!$B$2:$D$158,2,FALSE))","v":""},{"$f":"IF($H269=\"\",\"\",VLOOKUP($H269,女子選手!$B$2:$D$158,3,FALSE))","v":""},"","",{"$f":"IF(H269=\"\",\"\",VALUE(MID(VLOOKUP($H269,女子選手!$B$2:$G$158,6,FALSE),2,6)))","v":""},{"$f":"記録入力1!J281","v":""},{"$f":"IF(H269=\"\",\"\",VLOOKUP(記録入力1!C281,初期設定1!$C$18:$F$59,3,FALSE)&\" \"&RIGHT(記録入力1!N281,5))","v":""},null,{"$f":"IF(B269=\"\",\"\",記録入力1!I281)","v":{"$error":"#N/A"}}]
[{"$f":"IF(B270=\"\",\"\",記録入力1!C282)","v":{"$error":"#N/A"}},{"$f":"VLOOKUP($H270,女子選手!$B$2:$G$158,6,FALSE)","v":{"$error":"#N/A"}},{"$f":"IF($H270=\"\",\"\",VLOOKUP($H270,女子選手!$B$2:$D$158,2,FALSE))","v":""},{"$f":"IF($H270=\"\",\"\",VLOOKUP($H270,女子選手!$B$2:$D$158,3,FALSE))","v":""},"","",{"$f":"IF(H270=\"\",\"\",VALUE(MID(VLOOKUP($H270,女子選手!$B$2:$G$158,6,FALSE),2,6)))","v":""},{"$f":"記録入力1!J282","v":""},{"$f":"IF(H270=\"\",\"\",VLOOKUP(記録入力1!C282,初期設定1!$C$18:$F$59,3,FALSE)&\" \"&RIGHT(記録入力1!N282,5))","v":""},null,{"$f":"IF(B270=\"\",\"\",記録入力1!I282)","v":{"$error":"#N/A"}}]
[{"$f":"IF(B271=\"\",\"\",記録入力1!C283)","v":{"$error":"#N/A"}},{"$f":"VLOOKUP($H271,女子選手!$B$2:$G$158,6,FALSE)","v":{"$error":"#N/A"}},{"$f":"IF($H271=\"\",\"\",VLOOKUP($H271,女子選手!$B$2:$D$158,2,FALSE))","v":""},{"$f":"IF($H271=\"\",\"\",VLOOKUP($H271,女子選手!$B$2:$D$158,3,FALSE))","v":""},"","",{"$f":"IF(H271=\"\",\"\",VALUE(MID(VLOOKUP($H271,女子選手!$B$2:$G$158,6,FALSE),2,6)))","v":""},{"$f":"記録入力1!J283","v":""},{"$f":"IF(H271=\"\",\"\",VLOOKUP(記録入力1!C283,初期設定1!$C$18:$F$59,3,FALSE)&\" \"&RIGHT(記録入力1!N283,5))","v":""},null,{"$f":"IF(B271=\"\",\"\",記録入力1!I283)","v":{"$error":"#N/A"}}]
[{"$f":"IF(B272=\"\",\"\",記録入力1!C284)","v":{"$error":"#N/A"}},{"$f":"VLOOKUP($H272,女子選手!$B$2:$G$158,6,FALSE)","v":{"$error":"#N/A"}},{"$f":"IF($H272=\"\",\"\",VLOOKUP($H272,女子選手!$B$2:$D$158,2,FALSE))","v":""},{"$f":"IF($H272=\"\",\"\",VLOOKUP($H272,女子選手!$B$2:$D$158,3,FALSE))","v":""},"","",{"$f":"IF(H272=\"\",\"\",VALUE(MID(VLOOKUP($H272,女子選手!$B$2:$G$158,6,FALSE),2,6)))","v":""},{"$f":"記録入力1!J284","v":""},{"$f":"IF(H272=\"\",\"\",VLOOKUP(記録入力1!C284,初期設定1!$C$18:$F$59,3,FALSE)&\" \"&RIGHT(記録入力1!N284,5))","v":""},null,{"$f":"IF(B272=\"\",\"\",記録入力1!I284)","v":{"$error":"#N/A"}}]
[{"$f":"IF(B273=\"\",\"\",記録入力1!C285)","v":{"$error":"#N/A"}},{"$f":"VLOOKUP($H273,女子選手!$B$2:$G$158,6,FALSE)","v":{"$error":"#N/A"}},{"$f":"IF($H273=\"\",\"\",VLOOKUP($H273,女子選手!$B$2:$D$158,2,FALSE))","v":""},{"$f":"IF($H273=\"\",\"\",VLOOKUP($H273,女子選手!$B$2:$D$158,3,FALSE))","v":""},"","",{"$f":"IF(H273=\"\",\"\",VALUE(MID(VLOOKUP($H273,女子選手!$B$2:$G$158,6,FALSE),2,6)))","v":""},{"$f":"記録入力1!J285","v":""},{"$f":"IF(H273=\"\",\"\",VLOOKUP(記録入力1!C285,初期設定1!$C$18:$F$59,3,FALSE)&\" \"&RIGHT(記録入力1!N285,5))","v":""},null,{"$f":"IF(B273=\"\",\"\",記録入力1!I285)","v":{"$error":"#N/A"}}]
[{"$f":"IF(B274=\"\",\"\",記録入力1!C286)","v":{"$error":"#N/A"}},{"$f":"VLOOKUP($H274,女子選手!$B$2:$G$158,6,FALSE)","v":{"$error":"#N/A"}},{"$f":"IF($H274=\"\",\"\",VLOOKUP($H274,女子選手!$B$2:$D$158,2,FALSE))","v":""},{"$f":"IF($H274=\"\",\"\",VLOOKUP($H274,女子選手!$B$2:$D$158,3,FALSE))","v":""},"","",{"$f":"IF(H274=\"\",\"\",VALUE(MID(VLOOKUP($H274,女子選手!$B$2:$G$158,6,FALSE),2,6)))","v":""},{"$f":"記録入力1!J286","v":""},{"$f":"IF(H274=\"\",\"\",VLOOKUP(記録入力1!C286,初期設定1!$C$18:$F$59,3,FALSE)&\" \"&RIGHT(記録入力1!N286,5))","v":""},null,{"$f":"IF(B274=\"\",\"\",記録入力1!I286)","v":{"$error":"#N/A"}}]
[{"$f":"IF(B275=\"\",\"\",記録入力1!C287)","v":{"$error":"#N/A"}},{"$f":"VLOOKUP($H275,女子選手!$B$2:$G$158,6,FALSE)","v":{"$error":"#N/A"}},{"$f":"IF($H275=\"\",\"\",VLOOKUP($H275,女子選手!$B$2:$D$158,2,FALSE))","v":""},{"$f":"IF($H275=\"\",\"\",VLOOKUP($H275,女子選手!$B$2:$D$158,3,FALSE))","v":""},"","",{"$f":"IF(H275=\"\",\"\",VALUE(MID(VLOOKUP($H275,女子選手!$B$2:$G$158,6,FALSE),2,6)))","v":""},{"$f":"記録入力1!J287","v":""},{"$f":"IF(H275=\"\",\"\",VLOOKUP(記録入力1!C287,初期設定1!$C$18:$F$59,3,FALSE)&\" \"&RIGHT(記録入力1!N287,5))","v":""},null,{"$f":"IF(B275=\"\",\"\",記録入力1!I287)","v":{"$error":"#N/A"}}]

{"sheet":"データ作成貼付１","index":8,"n_rows":300,"n_cols":11,"rows_kept":300,"cut":false,"hidden":false,"merged":[]}
["sort","種目","db","n1","n2","sx","kc","mc","zk","s1","種目数"]
[{"$f":"IF(B2=\"\",\"\",IF(B2=\"4x100R\",2,IF(B2=\"4x400R\",3,1)))","v":""},null,null,null,null,null,null,null,null,null,{"$f":"IF(B2=\"4x100R\",4,IF(B2=\"4x400R\",5,IF(C1=C2,K1+1,1)))","v":1}]
["",null,null,null,null,null,null,null,null,null,2]
["",null,null,null,null,null,null,null,null,null,3]
["",null,null,null,null,null,null,null,null,null,4]
["",null,null,null,null,null,null,null,null,null,5]
["",null,null,null,null,null,null,null,null,null,6]
["",null,null,null,null,null,null,null,null,null,7]
["",null,null,null,null,null,null,null,null,null,8]
["",null,null,null,null,null,null,null,null,null,9]
["",null,null,null,null,null,null,null,null,null,10]
["",null,null,null,null,null,null,null,null,null,11]
["",null,null,null,null,null,null,null,null,null,12]
["",null,null,null,null,null,null,null,null,null,13]
["",null,null,null,null,null,null,null,null,null,14]
["",null,null,null,null,null,null,null,null,null,15]
["",null,null,null,null,null,null,null,null,null,16]
["",null,null,null,null,null,null,null,null,null,17]
["",null,null,null,null,null,null,null,null,null,18]
["",null,null,null,null,null,null,null,null,null,19]
["",null,null,null,null,null,null,null,null,null,20]
["",null,null,null,null,null,null,null,null,null,21]
["",null,null,null,null,null,null,null,null,null,22]
["",null,null,null,null,null,null,null,null,null,23]
["",null,null,null,null,null,null,null,null,null,24]
["",null,null,null,null,null,null,null,null,null,25]
[{"$error":"#N/A"},{"$error":"#N/A"},{"$error":"#N/A"},"","","","","","","",{"$error":"#N/A"}]
[{"$error":"#N/A"},{"$error":"#N/A"},{"$error":"#N/A"},"","","","","","","",{"$error":"#N/A"}]
[{"$error":"#N/A"},{"$error":"#N/A"},{"$error":"#N/A"},"","","","","","","",{"$error":"#N/A"}]
[{"$error":"#N/A"},{"$error":"#N/A"},{"$error":"#N/A"},"","","","","","","",{"$error":"#N/A"}]
[{"$error":"#N/A"},{"$error":"#N/A"},{"$error":"#N/A"},"","","","","","","",{"$error":"#N/A"}]
[{"$error":"#N/A"},{"$error":"#N/A"},{"$error":"#N/A"},"","","","","","","",{"$error":"#N/A"}]
[{"$error":"#N/A"},{"$error":"#N/A"},{"$error":"#N/A"},"","","","","","","",{"$error":"#N/A"}]
[{"$error":"#N/A"},{"$error":"#N/A"},{"$error":"#N/A"},"","","","","","","",{"$error":"#N/A"}]
[{"$error":"#N/A"},{"$error":"#N/A"},{"$error":"#N/A"},"","","","","","","",{"$error":"#N/A"}]
[{"$error":"#N/A"},{"$error":"#N/A"},{"$error":"#N/A"},"","","","","","","",{"$error":"#N/A"}]
[{"$error":"#N/A"},{"$error":"#N/A"},{"$error":"#N/A"},"","","","","","","",{"$error":"#N/A"}]
[{"$error":"#N/A"},{"$error":"#N/A"},{"$error":"#N/A"},"","","","","","","",{"$error":"#N/A"}]
[{"$error":"#N/A"},{"$error":"#N/A"},{"$error":"#N/A"},"","","","","","","",{"$error":"#N/A"}]
[{"$error":"#N/A"},{"$error":"#N/A"},{"$error":"#N/A"},"","","","","","","",{"$error":"#N/A"}]
[{"$error":"#N/A"},{"$error":"#N/A"},{"$error":"#N/A"},"","","","","","","",{"$error":"#N/A"}]
[{"$error":"#N/A"},{"$error":"#N/A"},{"$error":"#N/A"},"","","","","","","",{"$error":"#N/A"}]
[{"$error":"#N/A"},{"$error":"#N/A"},{"$error":"#N/A"},"","","","","","","",{"$error":"#N/A"}]
[{"$error":"#N/A"},{"$error":"#N/A"},{"$error":"#N/A"},"","","","","","","",{"$error":"#N/A"}]
[{"$error":"#N/A"},{"$error":"#N/A"},{"$error":"#N/A"},"","","","","","","",{"$error":"#N/A"}]
[{"$error":"#N/A"},{"$error":"#N/A"},{"$error":"#N/A"},"","","","","","","",{"$error":"#N/A"}]
[{"$error":"#N/A"},{"$error":"#N/A"},{"$error":"#N/A"},"","","","","","","",{"$error":"#N/A"}]
[{"$error":"#N/A"},{"$error":"#N/A"},{"$error":"#N/A"},"","","","","","","",{"$error":"#N/A"}]
[{"$error":"#N/A"},{"$error":"#N/A"},{"$error":"#N/A"},"","","","","","","",{"$error":"#N/A"}]
[{"$error":"#N/A"},{"$error":"#N/A"},{"$error":"#N/A"},"","","","","","","",{"$error":"#N/A"}]
[{"$error":"#N/A"},{"$error":"#N/A"},{"$error":"#N/A"},"","","","","","","",{"$error":"#N/A"}]
[{"$error":"#N/A"},{"$error":"#N/A"},{"$error":"#N/A"},"","","","","","","",{"$error":"#N/A"}]
[{"$error":"#N/A"},{"$error":"#N/A"},{"$error":"#N/A"},"","","","","","","",{"$error":"#N/A"}]
[{"$error":"#N/A"},{"$error":"#N/A"},{"$error":"#N/A"},"","","","","","","",{"$error":"#N/A"}]
[{"$error":"#N/A"},{"$error":"#N/A"},{"$error":"#N/A"},"","","","","","","",{"$error":"#N/A"}]
[{"$error":"#N/A"},{"$error":"#N/A"},{"$error":"#N/A"},"","","","","","","",{"$error":"#N/A"}]
[{"$error":"#N/A"},{"$error":"#N/A"},{"$error":"#N/A"},"","","","","","","",{"$error":"#N/A"}]
[{"$error":"#N/A"},{"$error":"#N/A"},{"$error":"#N/A"},"","","","","","","",{"$error":"#N/A"}]
[{"$error":"#N/A"},{"$error":"#N/A"},{"$error":"#N/A"},"","","","","","","",{"$error":"#N/A"}]
[{"$error":"#N/A"},{"$error":"#N/A"},{"$error":"#N/A"},"","","","","","","",{"$error":"#N/A"}]
[{"$error":"#N/A"},{"$error":"#N/A"},{"$error":"#N/A"},"","","","","","","",{"$error":"#N/A"}]
[{"$error":"#N/A"},{"$error":"#N/A"},{"$error":"#N/A"},"","","","","","","",{"$error":"#N/A"}]
[{"$error":"#N/A"},{"$error":"#N/A"},{"$error":"#N/A"},"","","","","","","",{"$error":"#N/A"}]
[{"$error":"#N/A"},{"$error":"#N/A"},{"$error":"#N/A"},"","","","","","","",{"$error":"#N/A"}]
[{"$error":"#N/A"},{"$error":"#N/A"},{"$error":"#N/A"},"","","","","","","",{"$error":"#N/A"}]
[{"$f":"IF(B66=\"\",\"\",IF(B66=\"4x100R\",2,IF(B66=\"4x400R\",3,1)))","v":{"$error":"#N/A"}},{"$error":"#N/A"},{"$error":"#N/A"},"","","","","","","",{"$f":"IF(B66=\"4x100R\",4,IF(B66=\"4x400R\",5,IF(C65=C66,K65+1,1)))","v":{"$error":"#N/A"}}]
[{"$error":"#N/A"},{"$error":"#N/A"},{"$error":"#N/A"},"","","","","","","",{"$error":"#N/A"}]
[{"$error":"#N/A"},{"$error":"#N/A"},{"$error":"#N/A"},"","","","","","","",{"$error":"#N/A"}]
[{"$error":"#N/A"},{"$error":"#N/A"},{"$error":"#N/A"},"","","","","","","",{"$error":"#N/A"}]
[{"$error":"#N/A"},{"$error":"#N/A"},{"$error":"#N/A"},"","","","","","","",{"$error":"#N/A"}]
[{"$error":"#N/A"},{"$error":"#N/A"},{"$error":"#N/A"},"","","","","","","",{"$error":"#N/A"}]
[{"$error":"#N/A"},{"$error":"#N/A"},{"$error":"#N/A"},"","","","","","","",{"$error":"#N/A"}]
[{"$error":"#N/A"},{"$error":"#N/A"},{"$error":"#N/A"},"","","","","","","",{"$error":"#N/A"}]
[{"$error":"#N/A"},{"$error":"#N/A"},{"$error":"#N/A"},"","","","","","","",{"$error":"#N/A"}]
[{"$error":"#N/A"},{"$error":"#N/A"},{"$error":"#N/A"},"","","","","","","",{"$error":"#N/A"}]
[{"$error":"#N/A"},{"$error":"#N/A"},{"$error":"#N/A"},"","","","","","","",{"$error":"#N/A"}]
[{"$error":"#N/A"},{"$error":"#N/A"},{"$error":"#N/A"},"","","","","","","",{"$error":"#N/A"}]
[{"$error":"#N/A"},{"$error":"#N/A"},{"$error":"#N/A"},"","","","","","","",{"$error":"#N/A"}]
[{"$error":"#N/A"},{"$error":"#N/A"},{"$error":"#N/A"},"","","","","","","",{"$error":"#N/A"}]
[{"$error":"#N/A"},{"$error":"#N/A"},{"$error":"#N/A"},"","","","","","","",{"$error":"#N/A"}]
[{"$error":"#N/A"},{"$error":"#N/A"},{"$error":"#N/A"},"","","","","","","",{"$error":"#N/A"}]
[{"$error":"#N/A"},{"$error":"#N/A"},{"$error":"#N/A"},"","","","","","","",{"$error":"#N/A"}]
[{"$error":"#N/A"},{"$error":"#N/A"},{"$error":"#N/A"},"","","","","","","",{"$error":"#N/A"}]
[{"$error":"#N/A"},{"$error":"#N/A"},{"$error":"#N/A"},"","","","","","","",{"$error":"#N/A"}]
[{"$error":"#N/A"},{"$error":"#N/A"},{"$error":"#N/A"},"","","","","","","",{"$error":"#N/A"}]
[{"$error":"#N/A"},{"$error":"#N/A"},{"$error":"#N/A"},"","","","","","","",{"$error":"#N/A"}]
[{"$error":"#N/A"},{"$error":"#N/A"},{"$error":"#N/A"},"","","","","","","",{"$error":"#N/A"}]
[{"$error":"#N/A"},{"$error":"#N/A"},{"$error":"#N/A"},"","","","","","","",{"$error":"#N/A"}]
[{"$error":"#N/A"},{"$error":"#N/A"},{"$error":"#N/A"},"","","","","","","",{"$error":"#N/A"}]
[{"$error":"#N/A"},{"$error":"#N/A"},{"$error":"#N/A"},"","","","","","","",{"$error":"#N/A"}]
[{"$error":"#N/A"},{"$error":"#N/A"},{"$error":"#N/A"},"","","","","","","",{"$error":"#N/A"}]
[{"$error":"#N/A"},{"$error":"#N/A"},{"$error":"#N/A"},"","","","","","","",{"$error":"#N/A"}]
[{"$error":"#N/A"},{"$error":"#N/A"},{"$error":"#N/A"},"","","","","","","",{"$error":"#N/A"}]
[{"$error":"#N/A"},{"$error":"#N/A"},{"$error":"#N/A"},"","","","","","","",{"$error":"#N/A"}]
[{"$error":"#N/A"},{"$error":"#N/A"},{"$error":"#N/A"},"","","","","","","",{"$error":"#N/A"}]
[{"$error":"#N/A"},{"$error":"#N/A"},{"$error":"#N/A"},"","","","","","","",{"$error":"#N/A"}]
[{"$error":"#N/A"},{"$error":"#N/A"},{"$error":"#N/A"},"","","","","","","",{"$error":"#N/A"}]
[{"$error":"#N/A"},{"$error":"#N/A"},{"$error":"#N/A"},"","","","","","","",{"$error":"#N/A"}]
[{"$error":"#N/A"},{"$error":"#N/A"},{"$error":"#N/A"},"","","","","","","",{"$error":"#N/A"}]
[{"$error":"#N/A"},{"$error":"#N/A"},{"$error":"#N/A"},"","","","","","","",{"$error":"#N/A"}]
[{"$error":"#N/A"},{"$error":"#N/A"},{"$error":"#N/A"},"","","","","","","",{"$error":"#N/A"}]
[{"$error":"#N/A"},{"$error":"#N/A"},{"$error":"#N/A"},"","","","","","","",{"$error":"#N/A"}]
[{"$error":"#N/A"},{"$error":"#N/A"},{"$error":"#N/A"},"","","","","","","",{"$error":"#N/A"}]
[{"$error":"#N/A"},{"$error":"#N/A"},{"$error":"#N/A"},"","","","","","","",{"$error":"#N/A"}]
[{"$error":"#N/A"},{"$error":"#N/A"},{"$error":"#N/A"},"","","","","","","",{"$error":"#N/A"}]
[{"$error":"#N/A"},{"$error":"#N/A"},{"$error":"#N/A"},"","","","","","","",{"$error":"#N/A"}]
[{"$error":"#N/A"},{"$error":"#N/A"},{"$error":"#N/A"},"","","","","","","",{"$error":"#N/A"}]
[{"$error":"#N/A"},{"$error":"#N/A"},{"$error":"#N/A"},"","","","","","","",{"$error":"#N/A"}]
[{"$error":"#N/A"},{"$error":"#N/A"},{"$error":"#N/A"},"","","","","","","",{"$error":"#N/A"}]
[{"$error":"#N/A"},{"$error":"#N/A"},{"$error":"#N/A"},"","","","","","","",{"$error":"#N/A"}]
[{"$error":"#N/A"},{"$error":"#N/A"},{"$error":"#N/A"},"","","","","","","",{"$error":"#N/A"}]
[{"$error":"#N/A"},{"$error":"#N/A"},{"$error":"#N/A"},"","","","","","","",{"$error":"#N/A"}]
[{"$error":"#N/A"},{"$error":"#N/A"},{"$error":"#N/A"},"","","","","","","",{"$error":"#N/A"}]
[{"$error":"#N/A"},{"$error":"#N/A"},{"$error":"#N/A"},"","","","","","","",{"$error":"#N/A"}]
[{"$error":"#N/A"},{"$error":"#N/A"},{"$error":"#N/A"},"","","","","","","",{"$error":"#N/A"}]
[{"$error":"#N/A"},{"$error":"#N/A"},{"$error":"#N/A"},"","","","","","","",{"$error":"#N/A"}]
[{"$error":"#N/A"},{"$error":"#N/A"},{"$error":"#N/A"},"","","","","","","",{"$error":"#N/A"}]
[{"$error":"#N/A"},{"$error":"#N/A"},{"$error":"#N/A"},"","","","","","","",{"$error":"#N/A"}]
[{"$error":"#N/A"},{"$error":"#N/A"},{"$error":"#N/A"},"","","","","","","",{"$error":"#N/A"}]
[{"$error":"#N/A"},{"$error":"#N/A"},{"$error":"#N/A"},"","","","","","","",{"$error":"#N/A"}]
[{"$error":"#N/A"},{"$error":"#N/A"},{"$error":"#N/A"},"","","","","","","",{"$error":"#N/A"}]
[{"$error":"#N/A"},{"$error":"#N/A"},{"$error":"#N/A"},"","","","","","","",{"$error":"#N/A"}]
[{"$error":"#N/A"},{"$error":"#N/A"},{"$error":"#N/A"},"","","","","","","",{"$error":"#N/A"}]
[{"$error":"#N/A"},{"$error":"#N/A"},{"$error":"#N/A"},"","","","","","","",{"$error":"#N/A"}]
[{"$error":"#N/A"},{"$error":"#N/A"},{"$error":"#N/A"},"","","","","","","",{"$error":"#N/A"}]
[{"$error":"#N/A"},{"$error":"#N/A"},{"$error":"#N/A"},"","","","","","","",{"$error":"#N/A"}]
[{"$error":"#N/A"},{"$error":"#N/A"},{"$error":"#N/A"},"","","","","","","",{"$error":"#N/A"}]
[{"$error":"#N/A"},{"$error":"#N/A"},{"$error":"#N/A"},"","","","","","","",{"$error":"#N/A"}]
[{"$error":"#N/A"},{"$error":"#N/A"},{"$error":"#N/A"},"","","","","","","",{"$error":"#N/A"}]
[{"$f":"IF(B130=\"\",\"\",IF(B130=\"4x100R\",2,IF(B130=\"4x400R\",3,1)))","v":{"$error":"#N/A"}},{"$error":"#N/A"},{"$error":"#N/A"},"","","","","","","",{"$f":"IF(B130=\"4x100R\",4,IF(B130=\"4x400R\",5,IF(C129=C130,K129+1,1)))","v":{"$error":"#N/A"}}]
[{"$error":"#N/A"},{"$error":"#N/A"},{"$error":"#N/A"},"","","","","","","",{"$error":"#N/A"}]
[{"$error":"#N/A"},{"$error":"#N/A"},{"$error":"#N/A"},"","","","","","","",{"$error":"#N/A"}]
[{"$error":"#N/A"},{"$error":"#N/A"},{"$error":"#N/A"},"","","","","","","",{"$error":"#N/A"}]
[{"$error":"#N/A"},{"$error":"#N/A"},{"$error":"#N/A"},"","","","","","","",{"$error":"#N/A"}]
[{"$error":"#N/A"},{"$error":"#N/A"},{"$error":"#N/A"},"","","","","","","",{"$error":"#N/A"}]
[{"$error":"#N/A"},{"$error":"#N/A"},{"$error":"#N/A"},"","","","","","","",{"$error":"#N/A"}]
[{"$error":"#N/A"},{"$error":"#N/A"},{"$error":"#N/A"},"","","","","","","",{"$error":"#N/A"}]
[{"$error":"#N/A"},{"$error":"#N/A"},{"$error":"#N/A"},"","","","","","","",{"$error":"#N/A"}]
[{"$error":"#N/A"},{"$error":"#N/A"},{"$error":"#N/A"},"","","","","","","",{"$error":"#N/A"}]
[{"$error":"#N/A"},{"$error":"#N/A"},{"$error":"#N/A"},"","","","","","","",{"$error":"#N/A"}]
[{"$error":"#N/A"},{"$error":"#N/A"},{"$error":"#N/A"},"","","","","","","",{"$error":"#N/A"}]
[{"$error":"#N/A"},{"$error":"#N/A"},{"$error":"#N/A"},"","","","","","","",{"$error":"#N/A"}]
[{"$error":"#N/A"},{"$error":"#N/A"},{"$error":"#N/A"},"","","","","","","",{"$error":"#N/A"}]
[{"$error":"#N/A"},{"$error":"#N/A"},{"$error":"#N/A"},"","","","","","","",{"$error":"#N/A"}]
[{"$error":"#N/A"},{"$error":"#N/A"},{"$error":"#N/A"},"","","","","","","",{"$error":"#N/A"}]
[{"$error":"#N/A"},{"$error":"#N/A"},{"$error":"#N/A"},"","","","","","","",{"$error":"#N/A"}]
[{"$error":"#N/A"},{"$error":"#N/A"},{"$error":"#N/A"},"","","","","","","",{"$error":"#N/A"}]
[{"$error":"#N/A"},{"$error":"#N/A"},{"$error":"#N/A"},"","","","","","","",{"$error":"#N/A"}]
[{"$error":"#N/A"},{"$error":"#N/A"},{"$error":"#N/A"},"","","","","","","",{"$error":"#N/A"}]
[{"$error":"#N/A"},{"$error":"#N/A"},{"$error":"#N/A"},"","","","","","","",{"$error":"#N/A"}]
[{"$error":"#N/A"},{"$error":"#N/A"},{"$error":"#N/A"},"","","","","","","",{"$error":"#N/A"}]
[{"$error":"#N/A"},{"$error":"#N/A"},{"$error":"#N/A"},"","","","","","","",{"$error":"#N/A"}]
[{"$error":"#N/A"},{"$error":"#N/A"},{"$error":"#N/A"},"","","","","","","",{"$error":"#N/A"}]
[{"$error":"#N/A"},{"$error":"#N/A"},{"$error":"#N/A"},"","","","","","","",{"$error":"#N/A"}]
[{"$error":"#N/A"},{"$error":"#N/A"},{"$error":"#N/A"},"","","","","","","",{"$error":"#N/A"}]
[{"$error":"#N/A"},{"$error":"#N/A"},{"$error":"#N/A"},"","","","","","","",{"$error":"#N/A"}]
[{"$error":"#N/A"},{"$error":"#N/A"},{"$error":"#N/A"},"","","","","","","",{"$error":"#N/A"}]
[{"$error":"#N/A"},{"$error":"#N/A"},{"$error":"#N/A"},"","","","","","","",{"$error":"#N/A"}]
[{"$error":"#N/A"},{"$error":"#N/A"},{"$error":"#N/A"},"","","","","","","",{"$error":"#N/A"}]
[{"$error":"#N/A"},{"$error":"#N/A"},{"$error":"#N/A"},"","","","","","","",{"$error":"#N/A"}]
[{"$error":"#N/A"},{"$error":"#N/A"},{"$error":"#N/A"},"","","","","","","",{"$error":"#N/A"}]
[{"$error":"#N/A"},{"$error":"#N/A"},{"$error":"#N/A"},"","","","","","","",{"$error":"#N/A"}]
[{"$error":"#N/A"},{"$error":"#N/A"},{"$error":"#N/A"},"","","","","","","",{"$error":"#N/A"}]
[{"$error":"#N/A"},{"$error":"#N/A"},{"$error":"#N/A"},"","","","","","","",{"$error":"#N/A"}]
[{"$error":"#N/A"},{"$error":"#N/A"},{"$error":"#N/A"},"","","","","","","",{"$error":"#N/A"}]
[{"$error":"#N/A"},{"$error":"#N/A"},{"$error":"#N/A"},"","","","","","","",{"$error":"#N/A"}]
[{"$error":"#N/A"},{"$error":"#N/A"},{"$error":"#N/A"},"","","","","","","",{"$error":"#N/A"}]
[{"$error":"#N/A"},{"$error":"#N/A"},{"$error":"#N/A"},"","","","","","","",{"$error":"#N/A"}]
[{"$error":"#N/A"},{"$error":"#N/A"},{"$error":"#N/A"},"","","","","","","",{"$error":"#N/A"}]
[{"$error":"#N/A"},{"$error":"#N/A"},{"$error":"#N/A"},"","","","","","","",{"$error":"#N/A"}]
[{"$error":"#N/A"},{"$error":"#N/A"},{"$error":"#N/A"},"","","","","","","",{"$error":"#N/A"}]
[{"$error":"#N/A"},{"$error":"#N/A"},{"$error":"#N/A"},"","","","","","","",{"$error":"#N/A"}]
[{"$error":"#N/A"},{"$error":"#N/A"},{"$error":"#N/A"},"","","","","","","",{"$error":"#N/A"}]
[{"$error":"#N/A"},{"$error":"#N/A"},{"$error":"#N/A"},"","","","","","","",{"$error":"#N/A"}]
[{"$error":"#N/A"},{"$error":"#N/A"},{"$error":"#N/A"},"","","","","","","",{"$error":"#N/A"}]
[{"$error":"#N/A"},{"$error":"#N/A"},{"$error":"#N/A"},"","","","","","","",{"$error":"#N/A"}]
[{"$error":"#N/A"},{"$error":"#N/A"},{"$error":"#N/A"},"","","","","","","",{"$error":"#N/A"}]
[{"$error":"#N/A"},{"$error":"#N/A"},{"$error":"#N/A"},"","","","","","","",{"$error":"#N/A"}]
[{"$error":"#N/A"},{"$error":"#N/A"},{"$error":"#N/A"},"","","","","","","",{"$error":"#N/A"}]
[{"$error":"#N/A"},{"$error":"#N/A"},{"$error":"#N/A"},"","","","","","","",{"$error":"#N/A"}]
[{"$error":"#N/A"},{"$error":"#N/A"},{"$error":"#N/A"},"","","","","","","",{"$error":"#N/A"}]
[{"$error":"#N/A"},{"$error":"#N/A"},{"$error":"#N/A"},"","","","","","","",{"$error":"#N/A"}]
[{"$error":"#N/A"},{"$error":"#N/A"},{"$error":"#N/A"},"","","","","","","",{"$error":"#N/A"}]
[{"$error":"#N/A"},{"$error":"#N/A"},{"$error":"#N/A"},"","","","","","","",{"$error":"#N/A"}]
[{"$error":"#N/A"},{"$error":"#N/A"},{"$error":"#N/A"},"","","","","","","",{"$error":"#N/A"}]
[{"$error":"#N/A"},{"$error":"#N/A"},{"$error":"#N/A"},"","","","","","","",{"$error":"#N/A"}]
[{"$error":"#N/A"},{"$error":"#N/A"},{"$error":"#N/A"},"","","","","","","",{"$error":"#N/A"}]
[{"$error":"#N/A"},{"$error":"#N/A"},{"$error":"#N/A"},"","","","","","","",{"$error":"#N/A"}]
[{"$error":"#N/A"},{"$error":"#N/A"},{"$error":"#N/A"},"","","","","","","",{"$error":"#N/A"}]
[{"$error":"#N/A"},{"$error":"#N/A"},{"$error":"#N/A"},"","","","","","","",{"$error":"#N/A"}]
[{"$error":"#N/A"},{"$error":"#N/A"},{"$error":"#N/A"},"","","","","","","",{"$error":"#N/A"}]
[{"$error":"#N/A"},{"$error":"#N/A"},{"$error":"#N/A"},"","","","","","","",{"$error":"#N/A"}]
[{"$error":"#N/A"},{"$error":"#N/A"},{"$error":"#N/A"},"","","","","","","",{"$error":"#N/A"}]
[{"$f":"IF(B194=\"\",\"\",IF(B194=\"4x100R\",2,IF(B194=\"4x400R\",3,1)))","v":{"$error":"#N/A"}},{"$error":"#N/A"},{"$error":"#N/A"},"","","","","","","",{"$f":"IF(B194=\"4x100R\",4,IF(B194=\"4x400R\",5,IF(C193=C194,K193+1,1)))","v":{"$error":"#N/A"}}]
[{"$error":"#N/A"},{"$error":"#N/A"},{"$error":"#N/A"},"","","","","","","",{"$error":"#N/A"}]
[{"$error":"#N/A"},{"$error":"#N/A"},{"$error":"#N/A"},"","","","","","","",{"$error":"#N/A"}]
[{"$error":"#N/A"},{"$error":"#N/A"},{"$error":"#N/A"},"","","","","","","",{"$error":"#N/A"}]
[{"$error":"#N/A"},{"$error":"#N/A"},{"$error":"#N/A"},"","","","","","","",{"$error":"#N/A"}]
[{"$error":"#N/A"},{"$error":"#N/A"},{"$error":"#N/A"},"","","","","","","",{"$error":"#N/A"}]
[{"$error":"#N/A"},{"$error":"#N/A"},{"$error":"#N/A"},"","","","","","","",{"$error":"#N/A"}]
[{"$error":"#N/A"},{"$error":"#N/A"},{"$error":"#N/A"},"","","","","","","",{"$error":"#N/A"}]
[{"$error":"#N/A"},{"$error":"#N/A"},{"$error":"#N/A"},"","","","","","","",{"$error":"#N/A"}]
[{"$error":"#N/A"},{"$error":"#N/A"},{"$error":"#N/A"},"","","","","","","",{"$error":"#N/A"}]
[{"$error":"#N/A"},{"$error":"#N/A"},{"$error":"#N/A"},"","","","","","","",{"$error":"#N/A"}]
[{"$error":"#N/A"},{"$error":"#N/A"},{"$error":"#N/A"},"","","","","","","",{"$error":"#N/A"}]
[{"$error":"#N/A"},{"$error":"#N/A"},{"$error":"#N/A"},"","","","","","","",{"$error":"#N/A"}]
[{"$error":"#N/A"},{"$error":"#N/A"},{"$error":"#N/A"},"","","","","","","",{"$error":"#N/A"}]
[{"$error":"#N/A"},{"$error":"#N/A"},{"$error":"#N/A"},"","","","","","","",{"$error":"#N/A"}]
[{"$error":"#N/A"},{"$error":"#N/A"},{"$error":"#N/A"},"","","","","","","",{"$error":"#N/A"}]
[{"$error":"#N/A"},{"$error":"#N/A"},{"$error":"#N/A"},"","","","","","","",{"$error":"#N/A"}]
[{"$error":"#N/A"},{"$error":"#N/A"},{"$error":"#N/A"},"","","","","","","",{"$error":"#N/A"}]
[{"$error":"#N/A"},{"$error":"#N/A"},{"$error":"#N/A"},"","","","","","","",{"$error":"#N/A"}]
[{"$error":"#N/A"},{"$error":"#N/A"},{"$error":"#N/A"},"","","","","","","",{"$error":"#N/A"}]
[{"$error":"#N/A"},{"$error":"#N/A"},{"$error":"#N/A"},"","","","","","","",{"$error":"#N/A"}]
[{"$error":"#N/A"},{"$error":"#N/A"},{"$error":"#N/A"},"","","","","","","",{"$error":"#N/A"}]
[{"$error":"#N/A"},{"$error":"#N/A"},{"$error":"#N/A"},"","","","","","","",{"$error":"#N/A"}]
[{"$error":"#N/A"},{"$error":"#N/A"},{"$error":"#N/A"},"","","","","","","",{"$error":"#N/A"}]
[{"$error":"#N/A"},{"$error":"#N/A"},{"$error":"#N/A"},"","","","","","","",{"$error":"#N/A"}]
[{"$error":"#N/A"},{"$error":"#N/A"},{"$error":"#N/A"},"","","","","","","",{"$error":"#N/A"}]
[{"$error":"#N/A"},{"$error":"#N/A"},{"$error":"#N/A"},"","","","","","","",{"$error":"#N/A"}]
[{"$error":"#N/A"},{"$error":"#N/A"},{"$error":"#N/A"},"","","","","","","",{"$error":"#N/A"}]
[{"$error":"#N/A"},{"$error":"#N/A"},{"$error":"#N/A"},"","","","","","","",{"$error":"#N/A"}]
[{"$error":"#N/A"},{"$error":"#N/A"},{"$error":"#N/A"},"","","","","","","",{"$error":"#N/A"}]
[{"$error":"#N/A"},{"$error":"#N/A"},{"$error":"#N/A"},"","","","","","","",{"$error":"#N/A"}]
[{"$error":"#N/A"},{"$error":"#N/A"},{"$error":"#N/A"},"","","","","","","",{"$error":"#N/A"}]
[{"$error":"#N/A"},{"$error":"#N/A"},{"$error":"#N/A"},"","","","","","","",{"$error":"#N/A"}]
[{"$error":"#N/A"},{"$error":"#N/A"},{"$error":"#N/A"},"","","","","","","",{"$error":"#N/A"}]
[{"$error":"#N/A"},{"$error":"#N/A"},{"$error":"#N/A"},"","","","","","","",{"$error":"#N/A"}]
[{"$error":"#N/A"},{"$error":"#N/A"},{"$error":"#N/A"},"","","","","","","",{"$error":"#N/A"}]
[{"$error":"#N/A"},{"$error":"#N/A"},{"$error":"#N/A"},"","","","","","","",{"$error":"#N/A"}]
[{"$error":"#N/A"},{"$error":"#N/A"},{"$error":"#N/A"},"","","","","","","",{"$error":"#N/A"}]
[{"$error":"#N/A"},{"$error":"#N/A"},{"$error":"#N/A"},"","","","","","","",{"$error":"#N/A"}]
[{"$error":"#N/A"},{"$error":"#N/A"},{"$error":"#N/A"},"","","","","","","",{"$error":"#N/A"}]
[{"$error":"#N/A"},{"$error":"#N/A"},{"$error":"#N/A"},"","","","","","","",{"$error":"#N/A"}]
[{"$error":"#N/A"},{"$error":"#N/A"},{"$error":"#N/A"},"","","","","","","",{"$error":"#N/A"}]
[{"$error":"#N/A"},{"$error":"#N/A"},{"$error":"#N/A"},"","","","","","","",{"$error":"#N/A"}]
[{"$error":"#N/A"},{"$error":"#N/A"},{"$error":"#N/A"},"","","","","","","",{"$error":"#N/A"}]
[{"$error":"#N/A"},{"$error":"#N/A"},{"$error":"#N/A"},"","","","","","","",{"$error":"#N/A"}]
[{"$error":"#N/A"},{"$error":"#N/A"},{"$error":"#N/A"},"","","","","","","",{"$error":"#N/A"}]
[{"$error":"#N/A"},{"$error":"#N/A"},{"$error":"#N/A"},"","","","","","","",{"$error":"#N/A"}]
[{"$error":"#N/A"},{"$error":"#N/A"},{"$error":"#N/A"},"","","","","","","",{"$error":"#N/A"}]
[{"$error":"#N/A"},{"$error":"#N/A"},{"$error":"#N/A"},"","","","","","","",{"$error":"#N/A"}]
[{"$error":"#N/A"},{"$error":"#N/A"},{"$error":"#N/A"},"","","","","","","",{"$error":"#N/A"}]
[{"$error":"#N/A"},{"$error":"#N/A"},{"$error":"#N/A"},"","","","","","","",{"$error":"#N/A"}]
[{"$error":"#N/A"},{"$error":"#N/A"},{"$error":"#N/A"},"","","","","","","",{"$error":"#N/A"}]
[{"$error":"#N/A"},{"$error":"#N/A"},{"$error":"#N/A"},"","","","","","","",{"$error":"#N/A"}]
[{"$error":"#N/A"},{"$error":"#N/A"},{"$error":"#N/A"},"","","","","","","",{"$error":"#N/A"}]
[{"$error":"#N/A"},{"$error":"#N/A"},{"$error":"#N/A"},"","","","","","","",{"$error":"#N/A"}]
[{"$error":"#N/A"},{"$error":"#N/A"},{"$error":"#N/A"},"","","","","","","",{"$error":"#N/A"}]
[{"$error":"#N/A"},{"$error":"#N/A"},{"$error":"#N/A"},"","","","","","","",{"$error":"#N/A"}]
[{"$error":"#N/A"},{"$error":"#N/A"},{"$error":"#N/A"},"","","","","","","",{"$error":"#N/A"}]
[{"$error":"#N/A"},{"$error":"#N/A"},{"$error":"#N/A"},"","","","","","","",{"$error":"#N/A"}]
[{"$error":"#N/A"},{"$error":"#N/A"},{"$error":"#N/A"},"","","","","","","",{"$error":"#N/A"}]
[{"$error":"#N/A"},{"$error":"#N/A"},{"$error":"#N/A"},"","","","","","","",{"$error":"#N/A"}]
[{"$error":"#N/A"},{"$error":"#N/A"},{"$error":"#N/A"},"","","","","","","",{"$error":"#N/A"}]
[{"$error":"#N/A"},{"$error":"#N/A"},{"$error":"#N/A"},"","","","","","","",{"$error":"#N/A"}]
[{"$error":"#N/A"},{"$error":"#N/A"},{"$error":"#N/A"},"","","","","","","",{"$error":"#N/A"}]
[{"$f":"IF(B258=\"\",\"\",IF(B258=\"4x100R\",2,IF(B258=\"4x400R\",3,1)))","v":{"$error":"#N/A"}},{"$error":"#N/A"},{"$error":"#N/A"},"","","","","","","",{"$f":"IF(B258=\"4x100R\",4,IF(B258=\"4x400R\",5,IF(C257=C258,K257+1,1)))","v":{"$error":"#N/A"}}]
[{"$error":"#N/A"},{"$error":"#N/A"},{"$error":"#N/A"},"","","","","","","",{"$error":"#N/A"}]
[{"$error":"#N/A"},{"$error":"#N/A"},{"$error":"#N/A"},"","","","","","","",{"$error":"#N/A"}]
[{"$error":"#N/A"},{"$error":"#N/A"},{"$error":"#N/A"},"","","","","","","",{"$error":"#N/A"}]
[{"$error":"#N/A"},{"$error":"#N/A"},{"$error":"#N/A"},"","","","","","","",{"$error":"#N/A"}]
[{"$error":"#N/A"},{"$error":"#N/A"},{"$error":"#N/A"},"","","","","","","",{"$error":"#N/A"}]
[{"$error":"#N/A"},{"$error":"#N/A"},{"$error":"#N/A"},"","","","","","","",{"$error":"#N/A"}]
[{"$error":"#N/A"},{"$error":"#N/A"},{"$error":"#N/A"},"","","","","","","",{"$error":"#N/A"}]
[{"$error":"#N/A"},{"$error":"#N/A"},{"$error":"#N/A"},"","","","","","","",{"$error":"#N/A"}]
[{"$error":"#N/A"},{"$error":"#N/A"},{"$error":"#N/A"},"","","","","","","",{"$error":"#N/A"}]
[{"$error":"#N/A"},{"$error":"#N/A"},{"$error":"#N/A"},"","","","","","","",{"$error":"#N/A"}]
[{"$error":"#N/A"},{"$error":"#N/A"},{"$error":"#N/A"},"","","","","","","",{"$error":"#N/A"}]
[{"$error":"#N/A"},{"$error":"#N/A"},{"$error":"#N/A"},"","","","","","","",{"$error":"#N/A"}]
[{"$error":"#N/A"},{"$error":"#N/A"},{"$error":"#N/A"},"","","","","","","",{"$error":"#N/A"}]
[{"$error":"#N/A"},{"$error":"#N/A"},{"$error":"#N/A"},"","","","","","","",{"$error":"#N/A"}]
[{"$error":"#N/A"},{"$error":"#N/A"},{"$error":"#N/A"},"","","","","","","",{"$error":"#N/A"}]
[{"$error":"#N/A"},{"$error":"#N/A"},{"$error":"#N/A"},"","","","","","","",{"$error":"#N/A"}]
[{"$error":"#N/A"},{"$error":"#N/A"},{"$error":"#N/A"},"","","","","","","",{"$error":"#N/A"}]
[{"$error":"#N/A"},{"$error":"#N/A"},{"$error":"#N/A"},"","","","","","","",{"$error":"#N/A"}]
[{"$error":"#N/A"},{"$error":"#N/A"},{"$error":"#N/A"},"","","","","","","",{"$error":"#N/A"}]
[{"$error":"#N/A"},{"$error":"#N/A"},{"$error":"#N/A"},"","","","","","","",{"$error":"#N/A"}]
[{"$error":"#N/A"},{"$error":"#N/A"},{"$error":"#N/A"},"","","","","","","",{"$error":"#N/A"}]
[{"$error":"#N/A"},{"$error":"#N/A"},{"$error":"#N/A"},"","","","","","","",{"$error":"#N/A"}]
[{"$error":"#N/A"},{"$error":"#N/A"},{"$error":"#N/A"},"","","","","","","",{"$error":"#N/A"}]
[{"$error":"#N/A"},{"$error":"#N/A"},{"$error":"#N/A"},"","","","","","","",{"$error":"#N/A"}]
[{"$error":"#N/A"},{"$error":"#N/A"},{"$error":"#N/A"},"","","","","","","",{"$error":"#N/A"}]
[{"$error":"#N/A"},{"$error":"#N/A"},{"$error":"#N/A"},"","","","","","","",{"$error":"#N/A"}]
[{"$error":"#N/A"},{"$error":"#N/A"},{"$error":"#N/A"},"","","","","","","",{"$error":"#N/A"}]
[{"$error":"#N/A"},{"$error":"#N/A"},{"$error":"#N/A"},"","","","","","","",{"$error":"#N/A"}]
[{"$error":"#N/A"},{"$error":"#N/A"},{"$error":"#N/A"},"","","","","","","",{"$error":"#N/A"}]
[{"$error":"#N/A"},{"$error":"#N/A"},{"$error":"#N/A"},"","","","","","","",{"$error":"#N/A"}]
[{"$error":"#N/A"},{"$error":"#N/A"},{"$error":"#N/A"},"","","","","","","",{"$error":"#N/A"}]
[{"$error":"#N/A"},{"$error":"#N/A"},{"$error":"#N/A"},"","","","","","","",{"$error":"#N/A"}]
[{"$error":"#N/A"},{"$error":"#N/A"},{"$error":"#N/A"},"","","","","","","",{"$error":"#N/A"}]
[{"$error":"#N/A"},{"$error":"#N/A"},{"$error":"#N/A"},"","","","","","","",{"$error":"#N/A"}]
[{"$error":"#N/A"},{"$error":"#N/A"},{"$error":"#N/A"},"","","","","","","",{"$error":"#N/A"}]
[{"$error":"#N/A"},{"$error":"#N/A"},{"$error":"#N/A"},"","","","","","","",{"$error":"#N/A"}]
[{"$error":"#N/A"},{"$error":"#N/A"},{"$error":"#N/A"},"","","","","","","",{"$error":"#N/A"}]
[{"$error":"#N/A"},{"$error":"#N/A"},{"$error":"#N/A"},"","","","","","","",{"$error":"#N/A"}]
[{"$error":"#N/A"},{"$error":"#N/A"},{"$error":"#N/A"},"","","","","","","",{"$error":"#N/A"}]
[{"$error":"#N/A"},{"$error":"#N/A"},{"$error":"#N/A"},"","","","","","","",{"$error":"#N/A"}]
[{"$error":"#N/A"},{"$error":"#N/A"},{"$error":"#N/A"},"","","","","","","",{"$error":"#N/A"}]
[{"$error":"#N/A"},{"$error":"#N/A"},{"$error":"#N/A"},"","","","","","","",{"$error":"#N/A"}]

{"sheet":"データ作成貼付２","index":9,"n_rows":300,"n_cols":13,"rows_kept":300,"cut":false,"hidden":false,"merged":[]}
[null,null,"sort","種目","db","n1","n2","sx","kc","mc","zk","s1","種目数"]
[{"$f":"IF(E1=E2,A1,A1+1)","v":{"$error":"#N/A"}},{"$f":"A2*10+M2","v":{"$error":"#N/A"}},{"$error":"#N/A"},{"$error":"#N/A"},{"$error":"#N/A"},"","","","","","","",{"$error":"#N/A"}]
[{"$error":"#N/A"},{"$error":"#N/A"},{"$error":"#N/A"},{"$error":"#N/A"},{"$error":"#N/A"},"","","","","","","",{"$error":"#N/A"}]
[{"$error":"#N/A"},{"$error":"#N/A"},{"$error":"#N/A"},{"$error":"#N/A"},{"$error":"#N/A"},"","","","","","","",{"$error":"#N/A"}]
[{"$error":"#N/A"},{"$error":"#N/A"},{"$error":"#N/A"},{"$error":"#N/A"},{"$error":"#N/A"},"","","","","","","",{"$error":"#N/A"}]
[{"$error":"#N/A"},{"$error":"#N/A"},{"$error":"#N/A"},{"$error":"#N/A"},{"$error":"#N/A"},"","","","","","","",{"$error":"#N/A"}]
[{"$error":"#N/A"},{"$error":"#N/A"},{"$error":"#N/A"},{"$error":"#N/A"},{"$error":"#N/A"},"","","","","","","",{"$error":"#N/A"}]
[{"$error":"#N/A"},{"$error":"#N/A"},{"$error":"#N/A"},{"$error":"#N/A"},{"$error":"#N/A"},"","","","","","","",{"$error":"#N/A"}]
[{"$error":"#N/A"},{"$error":"#N/A"},{"$error":"#N/A"},{"$error":"#N/A"},{"$error":"#N/A"},"","","","","","","",{"$error":"#N/A"}]
[{"$error":"#N/A"},{"$error":"#N/A"},{"$error":"#N/A"},{"$error":"#N/A"},{"$error":"#N/A"},"","","","","","","",{"$error":"#N/A"}]
[{"$error":"#N/A"},{"$error":"#N/A"},{"$error":"#N/A"},{"$error":"#N/A"},{"$error":"#N/A"},"","","","","","","",{"$error":"#N/A"}]
[{"$error":"#N/A"},{"$error":"#N/A"},{"$error":"#N/A"},{"$error":"#N/A"},{"$error":"#N/A"},"","","","","","","",{"$error":"#N/A"}]
[{"$error":"#N/A"},{"$error":"#N/A"},{"$error":"#N/A"},{"$error":"#N/A"},{"$error":"#N/A"},"","","","","","","",{"$error":"#N/A"}]
[{"$error":"#N/A"},{"$error":"#N/A"},{"$error":"#N/A"},{"$error":"#N/A"},{"$error":"#N/A"},"","","","","","","",{"$error":"#N/A"}]
[{"$error":"#N/A"},{"$error":"#N/A"},{"$error":"#N/A"},{"$error":"#N/A"},{"$error":"#N/A"},"","","","","","","",{"$error":"#N/A"}]
[{"$error":"#N/A"},{"$error":"#N/A"},{"$error":"#N/A"},{"$error":"#N/A"},{"$error":"#N/A"},"","","","","","","",{"$error":"#N/A"}]
[{"$error":"#N/A"},{"$error":"#N/A"},{"$error":"#N/A"},{"$error":"#N/A"},{"$error":"#N/A"},"","","","","","","",{"$error":"#N/A"}]
[{"$error":"#N/A"},{"$error":"#N/A"},{"$error":"#N/A"},{"$error":"#N/A"},{"$error":"#N/A"},"","","","","","","",{"$error":"#N/A"}]
[{"$error":"#N/A"},{"$error":"#N/A"},{"$error":"#N/A"},{"$error":"#N/A"},{"$error":"#N/A"},"","","","","","","",{"$error":"#N/A"}]
[{"$error":"#N/A"},{"$error":"#N/A"},{"$error":"#N/A"},{"$error":"#N/A"},{"$error":"#N/A"},"","","","","","","",{"$error":"#N/A"}]
[{"$error":"#N/A"},{"$error":"#N/A"},{"$error":"#N/A"},{"$error":"#N/A"},{"$error":"#N/A"},"","","","","","","",{"$error":"#N/A"}]
[{"$error":"#N/A"},{"$error":"#N/A"},{"$error":"#N/A"},{"$error":"#N/A"},{"$error":"#N/A"},"","","","","","","",{"$error":"#N/A"}]
[{"$error":"#N/A"},{"$error":"#N/A"},{"$error":"#N/A"},{"$error":"#N/A"},{"$error":"#N/A"},"","","","","","","",{"$error":"#N/A"}]
[{"$error":"#N/A"},{"$error":"#N/A"},{"$error":"#N/A"},{"$error":"#N/A"},{"$error":"#N/A"},"","","","","","","",{"$error":"#N/A"}]
[{"$error":"#N/A"},{"$error":"#N/A"},{"$error":"#N/A"},{"$error":"#N/A"},{"$error":"#N/A"},"","","","","","","",{"$error":"#N/A"}]
[{"$error":"#N/A"},{"$error":"#N/A"},{"$error":"#N/A"},{"$error":"#N/A"},{"$error":"#N/A"},"","","","","","","",{"$error":"#N/A"}]
[{"$error":"#N/A"},{"$error":"#N/A"},{"$error":"#N/A"},{"$error":"#N/A"},{"$error":"#N/A"},"","","","","","","",{"$error":"#N/A"}]
[{"$error":"#N/A"},{"$error":"#N/A"},{"$error":"#N/A"},{"$error":"#N/A"},{"$error":"#N/A"},"","","","","","","",{"$error":"#N/A"}]
[{"$error":"#N/A"},{"$error":"#N/A"},{"$error":"#N/A"},{"$error":"#N/A"},{"$error":"#N/A"},"","","","","","","",{"$error":"#N/A"}]
[{"$error":"#N/A"},{"$error":"#N/A"},{"$error":"#N/A"},{"$error":"#N/A"},{"$error":"#N/A"},"","","","","","","",{"$error":"#N/A"}]
[{"$error":"#N/A"},{"$error":"#N/A"},{"$error":"#N/A"},{"$error":"#N/A"},{"$error":"#N/A"},"","","","","","","",{"$error":"#N/A"}]
[{"$error":"#N/A"},{"$error":"#N/A"},{"$error":"#N/A"},{"$error":"#N/A"},{"$error":"#N/A"},"","","","","","","",{"$error":"#N/A"}]
[{"$error":"#N/A"},{"$error":"#N/A"},{"$error":"#N/A"},{"$error":"#N/A"},{"$error":"#N/A"},"","","","","","","",{"$error":"#N/A"}]
[{"$error":"#N/A"},{"$error":"#N/A"},{"$error":"#N/A"},{"$error":"#N/A"},{"$error":"#N/A"},"","","","","","","",{"$error":"#N/A"}]
[{"$error":"#N/A"},{"$error":"#N/A"},{"$error":"#N/A"},{"$error":"#N/A"},{"$error":"#N/A"},"","","","","","","",{"$error":"#N/A"}]
[{"$error":"#N/A"},{"$error":"#N/A"},{"$error":"#N/A"},{"$error":"#N/A"},{"$error":"#N/A"},"","","","","","","",{"$error":"#N/A"}]
[{"$error":"#N/A"},{"$error":"#N/A"},{"$error":"#N/A"},{"$error":"#N/A"},{"$error":"#N/A"},"","","","","","","",{"$error":"#N/A"}]
[{"$error":"#N/A"},{"$error":"#N/A"},{"$error":"#N/A"},{"$error":"#N/A"},{"$error":"#N/A"},"","","","","","","",{"$error":"#N/A"}]
[{"$error":"#N/A"},{"$error":"#N/A"},{"$error":"#N/A"},{"$error":"#N/A"},{"$error":"#N/A"},"","","","","","","",{"$error":"#N/A"}]
[{"$error":"#N/A"},{"$error":"#N/A"},{"$error":"#N/A"},{"$error":"#N/A"},{"$error":"#N/A"},"","","","","","","",{"$error":"#N/A"}]
[{"$error":"#N/A"},{"$error":"#N/A"},{"$error":"#N/A"},{"$error":"#N/A"},{"$error":"#N/A"},"","","","","","","",{"$error":"#N/A"}]
[{"$error":"#N/A"},{"$error":"#N/A"},{"$error":"#N/A"},{"$error":"#N/A"},{"$error":"#N/A"},"","","","","","","",{"$error":"#N/A"}]
[{"$error":"#N/A"},{"$error":"#N/A"},{"$error":"#N/A"},{"$error":"#N/A"},{"$error":"#N/A"},"","","","","","","",{"$error":"#N/A"}]
[{"$error":"#N/A"},{"$error":"#N/A"},{"$error":"#N/A"},{"$error":"#N/A"},{"$error":"#N/A"},"","","","","","","",{"$error":"#N/A"}]
[{"$error":"#N/A"},{"$error":"#N/A"},{"$error":"#N/A"},{"$error":"#N/A"},{"$error":"#N/A"},"","","","","","","",{"$error":"#N/A"}]
[{"$error":"#N/A"},{"$error":"#N/A"},{"$error":"#N/A"},{"$error":"#N/A"},{"$error":"#N/A"},"","","","","","","",{"$error":"#N/A"}]
[{"$error":"#N/A"},{"$error":"#N/A"},{"$error":"#N/A"},{"$error":"#N/A"},{"$error":"#N/A"},"","","","","","","",{"$error":"#N/A"}]
[{"$error":"#N/A"},{"$error":"#N/A"},{"$error":"#N/A"},{"$error":"#N/A"},{"$error":"#N/A"},"","","","","","","",{"$error":"#N/A"}]
[{"$error":"#N/A"},{"$error":"#N/A"},{"$error":"#N/A"},{"$error":"#N/A"},{"$error":"#N/A"},"","","","","","","",{"$error":"#N/A"}]
[{"$error":"#N/A"},{"$error":"#N/A"},{"$error":"#N/A"},{"$error":"#N/A"},{"$error":"#N/A"},"","","","","","","",{"$error":"#N/A"}]
[{"$error":"#N/A"},{"$error":"#N/A"},{"$error":"#N/A"},{"$error":"#N/A"},{"$error":"#N/A"},"","","","","","","",{"$error":"#N/A"}]
[{"$error":"#N/A"},{"$error":"#N/A"},{"$error":"#N/A"},{"$error":"#N/A"},{"$error":"#N/A"},"","","","","","","",{"$error":"#N/A"}]
[{"$error":"#N/A"},{"$error":"#N/A"},{"$error":"#N/A"},{"$error":"#N/A"},{"$error":"#N/A"},"","","","","","","",{"$error":"#N/A"}]
[{"$error":"#N/A"},{"$error":"#N/A"},{"$error":"#N/A"},{"$error":"#N/A"},{"$error":"#N/A"},"","","","","","","",{"$error":"#N/A"}]
[{"$error":"#N/A"},{"$error":"#N/A"},{"$error":"#N/A"},{"$error":"#N/A"},{"$error":"#N/A"},"","","","","","","",{"$error":"#N/A"}]
[{"$error":"#N/A"},{"$error":"#N/A"},{"$error":"#N/A"},{"$error":"#N/A"},{"$error":"#N/A"},"","","","","","","",{"$error":"#N/A"}]
[{"$error":"#N/A"},{"$error":"#N/A"},{"$error":"#N/A"},{"$error":"#N/A"},{"$error":"#N/A"},"","","","","","","",{"$error":"#N/A"}]
[{"$error":"#N/A"},{"$error":"#N/A"},{"$error":"#N/A"},{"$error":"#N/A"},{"$error":"#N/A"},"","","","","","","",{"$error":"#N/A"}]
[{"$error":"#N/A"},{"$error":"#N/A"},{"$error":"#N/A"},{"$error":"#N/A"},{"$error":"#N/A"},"","","","","","","",{"$error":"#N/A"}]
[{"$error":"#N/A"},{"$error":"#N/A"},{"$error":"#N/A"},{"$error":"#N/A"},{"$error":"#N/A"},"","","","","","","",{"$error":"#N/A"}]
[{"$error":"#N/A"},{"$error":"#N/A"},{"$error":"#N/A"},{"$error":"#N/A"},{"$error":"#N/A"},"","","","","","","",{"$error":"#N/A"}]
[{"$error":"#N/A"},{"$error":"#N/A"},{"$error":"#N/A"},{"$error":"#N/A"},{"$error":"#N/A"},"","","","","","","",{"$error":"#N/A"}]
[{"$error":"#N/A"},{"$error":"#N/A"},{"$error":"#N/A"},{"$error":"#N/A"},{"$error":"#N/A"},"","","","","","","",{"$error":"#N/A"}]
[{"$error":"#N/A"},{"$error":"#N/A"},{"$error":"#N/A"},{"$error":"#N/A"},{"$error":"#N/A"},"","","","","","","",{"$error":"#N/A"}]
[{"$error":"#N/A"},{"$error":"#N/A"},{"$error":"#N/A"},{"$error":"#N/A"},{"$error":"#N/A"},"","","","","","","",{"$error":"#N/A"}]
[{"$f":"IF(E65=E66,A65,A65+1)","v":{"$error":"#N/A"}},{"$f":"A66*10+M66","v":{"$error":"#N/A"}},{"$error":"#N/A"},{"$error":"#N/A"},{"$error":"#N/A"},"","","","","","","",{"$error":"#N/A"}]
[{"$error":"#N/A"},{"$error":"#N/A"},{"$error":"#N/A"},{"$error":"#N/A"},{"$error":"#N/A"},"","","","","","","",{"$error":"#N/A"}]
[{"$error":"#N/A"},{"$error":"#N/A"},{"$error":"#N/A"},{"$error":"#N/A"},{"$error":"#N/A"},"","","","","","","",{"$error":"#N/A"}]
[{"$error":"#N/A"},{"$error":"#N/A"},{"$error":"#N/A"},{"$error":"#N/A"},{"$error":"#N/A"},"","","","","","","",{"$error":"#N/A"}]
[{"$error":"#N/A"},{"$error":"#N/A"},{"$error":"#N/A"},{"$error":"#N/A"},{"$error":"#N/A"},"","","","","","","",{"$error":"#N/A"}]
[{"$error":"#N/A"},{"$error":"#N/A"},{"$error":"#N/A"},{"$error":"#N/A"},{"$error":"#N/A"},"","","","","","","",{"$error":"#N/A"}]
[{"$error":"#N/A"},{"$error":"#N/A"},{"$error":"#N/A"},{"$error":"#N/A"},{"$error":"#N/A"},"","","","","","","",{"$error":"#N/A"}]
[{"$error":"#N/A"},{"$error":"#N/A"},{"$error":"#N/A"},{"$error":"#N/A"},{"$error":"#N/A"},"","","","","","","",{"$error":"#N/A"}]
[{"$error":"#N/A"},{"$error":"#N/A"},{"$error":"#N/A"},{"$error":"#N/A"},{"$error":"#N/A"},"","","","","","","",{"$error":"#N/A"}]
[{"$error":"#N/A"},{"$error":"#N/A"},{"$error":"#N/A"},{"$error":"#N/A"},{"$error":"#N/A"},"","","","","","","",{"$error":"#N/A"}]
[{"$error":"#N/A"},{"$error":"#N/A"},{"$error":"#N/A"},{"$error":"#N/A"},{"$error":"#N/A"},"","","","","","","",{"$error":"#N/A"}]
[{"$error":"#N/A"},{"$error":"#N/A"},{"$error":"#N/A"},{"$error":"#N/A"},{"$error":"#N/A"},"","","","","","","",{"$error":"#N/A"}]
[{"$error":"#N/A"},{"$error":"#N/A"},{"$error":"#N/A"},{"$error":"#N/A"},{"$error":"#N/A"},"","","","","","","",{"$error":"#N/A"}]
[{"$error":"#N/A"},{"$error":"#N/A"},{"$error":"#N/A"},{"$error":"#N/A"},{"$error":"#N/A"},"","","","","","","",{"$error":"#N/A"}]
[{"$error":"#N/A"},{"$error":"#N/A"},{"$error":"#N/A"},{"$error":"#N/A"},{"$error":"#N/A"},"","","","","","","",{"$error":"#N/A"}]
[{"$error":"#N/A"},{"$error":"#N/A"},{"$error":"#N/A"},{"$error":"#N/A"},{"$error":"#N/A"},"","","","","","","",{"$error":"#N/A"}]
[{"$error":"#N/A"},{"$error":"#N/A"},{"$error":"#N/A"},{"$error":"#N/A"},{"$error":"#N/A"},"","","","","","","",{"$error":"#N/A"}]
[{"$error":"#N/A"},{"$error":"#N/A"},{"$error":"#N/A"},{"$error":"#N/A"},{"$error":"#N/A"},"","","","","","","",{"$error":"#N/A"}]
[{"$error":"#N/A"},{"$error":"#N/A"},{"$error":"#N/A"},{"$error":"#N/A"},{"$error":"#N/A"},"","","","","","","",{"$error":"#N/A"}]
[{"$error":"#N/A"},{"$error":"#N/A"},{"$error":"#N/A"},{"$error":"#N/A"},{"$error":"#N/A"},"","","","","","","",{"$error":"#N/A"}]
[{"$error":"#N/A"},{"$error":"#N/A"},{"$error":"#N/A"},{"$error":"#N/A"},{"$error":"#N/A"},"","","","","","","",{"$error":"#N/A"}]
[{"$error":"#N/A"},{"$error":"#N/A"},{"$error":"#N/A"},{"$error":"#N/A"},{"$error":"#N/A"},"","","","","","","",{"$error":"#N/A"}]
[{"$error":"#N/A"},{"$error":"#N/A"},{"$error":"#N/A"},{"$error":"#N/A"},{"$error":"#N/A"},"","","","","","","",{"$error":"#N/A"}]
[{"$error":"#N/A"},{"$error":"#N/A"},{"$error":"#N/A"},{"$error":"#N/A"},{"$error":"#N/A"},"","","","","","","",{"$error":"#N/A"}]
[{"$error":"#N/A"},{"$error":"#N/A"},{"$error":"#N/A"},{"$error":"#N/A"},{"$error":"#N/A"},"","","","","","","",{"$error":"#N/A"}]
[{"$error":"#N/A"},{"$error":"#N/A"},{"$error":"#N/A"},{"$error":"#N/A"},{"$error":"#N/A"},"","","","","","","",{"$error":"#N/A"}]
[{"$error":"#N/A"},{"$error":"#N/A"},{"$error":"#N/A"},{"$error":"#N/A"},{"$error":"#N/A"},"","","","","","","",{"$error":"#N/A"}]
[{"$error":"#N/A"},{"$error":"#N/A"},{"$error":"#N/A"},{"$error":"#N/A"},{"$error":"#N/A"},"","","","","","","",{"$error":"#N/A"}]
[{"$error":"#N/A"},{"$error":"#N/A"},{"$error":"#N/A"},{"$error":"#N/A"},{"$error":"#N/A"},"","","","","","","",{"$error":"#N/A"}]
[{"$error":"#N/A"},{"$error":"#N/A"},{"$error":"#N/A"},{"$error":"#N/A"},{"$error":"#N/A"},"","","","","","","",{"$error":"#N/A"}]
[{"$error":"#N/A"},{"$error":"#N/A"},{"$error":"#N/A"},{"$error":"#N/A"},{"$error":"#N/A"},"","","","","","","",{"$error":"#N/A"}]
[{"$error":"#N/A"},{"$error":"#N/A"},{"$error":"#N/A"},{"$error":"#N/A"},{"$error":"#N/A"},"","","","","","","",{"$error":"#N/A"}]
[{"$error":"#N/A"},{"$error":"#N/A"},{"$error":"#N/A"},{"$error":"#N/A"},{"$error":"#N/A"},"","","","","","","",{"$error":"#N/A"}]
[{"$error":"#N/A"},{"$error":"#N/A"},{"$error":"#N/A"},{"$error":"#N/A"},{"$error":"#N/A"},"","","","","","","",{"$error":"#N/A"}]
[{"$error":"#N/A"},{"$error":"#N/A"},{"$error":"#N/A"},{"$error":"#N/A"},{"$error":"#N/A"},"","","","","","","",{"$error":"#N/A"}]
[{"$error":"#N/A"},{"$error":"#N/A"},{"$error":"#N/A"},{"$error":"#N/A"},{"$error":"#N/A"},"","","","","","","",{"$error":"#N/A"}]
[{"$error":"#N/A"},{"$error":"#N/A"},{"$error":"#N/A"},{"$error":"#N/A"},{"$error":"#N/A"},"","","","","","","",{"$error":"#N/A"}]
[{"$error":"#N/A"},{"$error":"#N/A"},{"$error":"#N/A"},{"$error":"#N/A"},{"$error":"#N/A"},"","","","","","","",{"$error":"#N/A"}]
[{"$error":"#N/A"},{"$error":"#N/A"},{"$error":"#N/A"},{"$error":"#N/A"},{"$error":"#N/A"},"","","","","","","",{"$error":"#N/A"}]
[{"$error":"#N/A"},{"$error":"#N/A"},{"$error":"#N/A"},{"$error":"#N/A"},{"$error":"#N/A"},"","","","","","","",{"$error":"#N/A"}]
[{"$error":"#N/A"},{"$error":"#N/A"},{"$error":"#N/A"},{"$error":"#N/A"},{"$error":"#N/A"},"","","","","","","",{"$error":"#N/A"}]
[{"$error":"#N/A"},{"$error":"#N/A"},{"$error":"#N/A"},{"$error":"#N/A"},{"$error":"#N/A"},"","","","","","","",{"$error":"#N/A"}]
[{"$error":"#N/A"},{"$error":"#N/A"},{"$error":"#N/A"},{"$error":"#N/A"},{"$error":"#N/A"},"","","","","","","",{"$error":"#N/A"}]
[{"$error":"#N/A"},{"$error":"#N/A"},{"$error":"#N/A"},{"$error":"#N/A"},{"$error":"#N/A"},"","","","","","","",{"$error":"#N/A"}]
[{"$error":"#N/A"},{"$error":"#N/A"},{"$error":"#N/A"},{"$error":"#N/A"},{"$error":"#N/A"},"","","","","","","",{"$error":"#N/A"}]
[{"$error":"#N/A"},{"$error":"#N/A"},{"$error":"#N/A"},{"$error":"#N/A"},{"$error":"#N/A"},"","","","","","","",{"$error":"#N/A"}]
[{"$error":"#N/A"},{"$error":"#N/A"},{"$error":"#N/A"},{"$error":"#N/A"},{"$error":"#N/A"},"","","","","","","",{"$error":"#N/A"}]
[{"$error":"#N/A"},{"$error":"#N/A"},{"$error":"#N/A"},{"$error":"#N/A"},{"$error":"#N/A"},"","","","","","","",{"$error":"#N/A"}]
[{"$error":"#N/A"},{"$error":"#N/A"},{"$error":"#N/A"},{"$error":"#N/A"},{"$error":"#N/A"},"","","","","","","",{"$error":"#N/A"}]
[{"$error":"#N/A"},{"$error":"#N/A"},{"$error":"#N/A"},{"$error":"#N/A"},{"$error":"#N/A"},"","","","","","","",{"$error":"#N/A"}]
[{"$error":"#N/A"},{"$error":"#N/A"},{"$error":"#N/A"},{"$error":"#N/A"},{"$error":"#N/A"},"","","","","","","",{"$error":"#N/A"}]
[{"$error":"#N/A"},{"$error":"#N/A"},{"$error":"#N/A"},{"$error":"#N/A"},{"$error":"#N/A"},"","","","","","","",{"$error":"#N/A"}]
[{"$error":"#N/A"},{"$error":"#N/A"},{"$error":"#N/A"},{"$error":"#N/A"},{"$error":"#N/A"},"","","","","","","",{"$error":"#N/A"}]
[{"$error":"#N/A"},{"$error":"#N/A"},{"$error":"#N/A"},{"$error":"#N/A"},{"$error":"#N/A"},"","","","","","","",{"$error":"#N/A"}]
[{"$error":"#N/A"},{"$error":"#N/A"},{"$error":"#N/A"},{"$error":"#N/A"},{"$error":"#N/A"},"","","","","","","",{"$error":"#N/A"}]
[{"$error":"#N/A"},{"$error":"#N/A"},{"$error":"#N/A"},{"$error":"#N/A"},{"$error":"#N/A"},"","","","","","","",{"$error":"#N/A"}]
[{"$error":"#N/A"},{"$error":"#N/A"},{"$error":"#N/A"},{"$error":"#N/A"},{"$error":"#N/A"},"","","","","","","",{"$error":"#N/A"}]
[{"$error":"#N/A"},{"$error":"#N/A"},{"$error":"#N/A"},{"$error":"#N/A"},{"$error":"#N/A"},"","","","","","","",{"$error":"#N/A"}]
[{"$error":"#N/A"},{"$error":"#N/A"},{"$error":"#N/A"},{"$error":"#N/A"},{"$error":"#N/A"},"","","","","","","",{"$error":"#N/A"}]
[{"$error":"#N/A"},{"$error":"#N/A"},{"$error":"#N/A"},{"$error":"#N/A"},{"$error":"#N/A"},"","","","","","","",{"$error":"#N/A"}]
[{"$error":"#N/A"},{"$error":"#N/A"},{"$error":"#N/A"},{"$error":"#N/A"},{"$error":"#N/A"},"","","","","","","",{"$error":"#N/A"}]
[{"$error":"#N/A"},{"$error":"#N/A"},{"$error":"#N/A"},{"$error":"#N/A"},{"$error":"#N/A"},"","","","","","","",{"$error":"#N/A"}]
[{"$error":"#N/A"},{"$error":"#N/A"},{"$error":"#N/A"},{"$error":"#N/A"},{"$error":"#N/A"},"","","","","","","",{"$error":"#N/A"}]
[{"$error":"#N/A"},{"$error":"#N/A"},{"$error":"#N/A"},{"$error":"#N/A"},{"$error":"#N/A"},"","","","","","","",{"$error":"#N/A"}]
[{"$f":"IF(E129=E130,A129,A129+1)","v":{"$error":"#N/A"}},{"$f":"A130*10+M130","v":{"$error":"#N/A"}},{"$error":"#N/A"},{"$error":"#N/A"},{"$error":"#N/A"},"","","","","","","",{"$error":"#N/A"}]
[{"$error":"#N/A"},{"$error":"#N/A"},{"$error":"#N/A"},{"$error":"#N/A"},{"$error":"#N/A"},"","","","","","","",{"$error":"#N/A"}]
[{"$error":"#N/A"},{"$error":"#N/A"},{"$error":"#N/A"},{"$error":"#N/A"},{"$error":"#N/A"},"","","","","","","",{"$error":"#N/A"}]
[{"$error":"#N/A"},{"$error":"#N/A"},{"$error":"#N/A"},{"$error":"#N/A"},{"$error":"#N/A"},"","","","","","","",{"$error":"#N/A"}]
[{"$error":"#N/A"},{"$error":"#N/A"},{"$error":"#N/A"},{"$error":"#N/A"},{"$error":"#N/A"},"","","","","","","",{"$error":"#N/A"}]
[{"$error":"#N/A"},{"$error":"#N/A"},{"$error":"#N/A"},{"$error":"#N/A"},{"$error":"#N/A"},"","","","","","","",{"$error":"#N/A"}]
[{"$error":"#N/A"},{"$error":"#N/A"},{"$error":"#N/A"},{"$error":"#N/A"},{"$error":"#N/A"},"","","","","","","",{"$error":"#N/A"}]
[{"$error":"#N/A"},{"$error":"#N/A"},{"$error":"#N/A"},{"$error":"#N/A"},{"$error":"#N/A"},"","","","","","","",{"$error":"#N/A"}]
[{"$error":"#N/A"},{"$error":"#N/A"},{"$error":"#N/A"},{"$error":"#N/A"},{"$error":"#N/A"},"","","","","","","",{"$error":"#N/A"}]
[{"$error":"#N/A"},{"$error":"#N/A"},{"$error":"#N/A"},{"$error":"#N/A"},{"$error":"#N/A"},"","","","","","","",{"$error":"#N/A"}]
[{"$error":"#N/A"},{"$error":"#N/A"},{"$error":"#N/A"},{"$error":"#N/A"},{"$error":"#N/A"},"","","","","","","",{"$error":"#N/A"}]
[{"$error":"#N/A"},{"$error":"#N/A"},{"$error":"#N/A"},{"$error":"#N/A"},{"$error":"#N/A"},"","","","","","","",{"$error":"#N/A"}]
[{"$error":"#N/A"},{"$error":"#N/A"},{"$error":"#N/A"},{"$error":"#N/A"},{"$error":"#N/A"},"","","","","","","",{"$error":"#N/A"}]
[{"$error":"#N/A"},{"$error":"#N/A"},{"$error":"#N/A"},{"$error":"#N/A"},{"$error":"#N/A"},"","","","","","","",{"$error":"#N/A"}]
[{"$error":"#N/A"},{"$error":"#N/A"},{"$error":"#N/A"},{"$error":"#N/A"},{"$error":"#N/A"},"","","","","","","",{"$error":"#N/A"}]
[{"$error":"#N/A"},{"$error":"#N/A"},{"$error":"#N/A"},{"$error":"#N/A"},{"$error":"#N/A"},"","","","","","","",{"$error":"#N/A"}]
[{"$error":"#N/A"},{"$error":"#N/A"},{"$error":"#N/A"},{"$error":"#N/A"},{"$error":"#N/A"},"","","","","","","",{"$error":"#N/A"}]
[{"$error":"#N/A"},{"$error":"#N/A"},{"$error":"#N/A"},{"$error":"#N/A"},{"$error":"#N/A"},"","","","","","","",{"$error":"#N/A"}]
[{"$error":"#N/A"},{"$error":"#N/A"},{"$error":"#N/A"},{"$error":"#N/A"},{"$error":"#N/A"},"","","","","","","",{"$error":"#N/A"}]
[{"$error":"#N/A"},{"$error":"#N/A"},{"$error":"#N/A"},{"$error":"#N/A"},{"$error":"#N/A"},"","","","","","","",{"$error":"#N/A"}]
[{"$error":"#N/A"},{"$error":"#N/A"},{"$error":"#N/A"},{"$error":"#N/A"},{"$error":"#N/A"},"","","","","","","",{"$error":"#N/A"}]
[{"$error":"#N/A"},{"$error":"#N/A"},{"$error":"#N/A"},{"$error":"#N/A"},{"$error":"#N/A"},"","","","","","","",{"$error":"#N/A"}]
[{"$error":"#N/A"},{"$error":"#N/A"},{"$error":"#N/A"},{"$error":"#N/A"},{"$error":"#N/A"},"","","","","","","",{"$error":"#N/A"}]
[{"$error":"#N/A"},{"$error":"#N/A"},{"$error":"#N/A"},{"$error":"#N/A"},{"$error":"#N/A"},"","","","","","","",{"$error":"#N/A"}]
[{"$error":"#N/A"},{"$error":"#N/A"},{"$error":"#N/A"},{"$error":"#N/A"},{"$error":"#N/A"},"","","","","","","",{"$error":"#N/A"}]
[{"$error":"#N/A"},{"$error":"#N/A"},{"$error":"#N/A"},{"$error":"#N/A"},{"$error":"#N/A"},"","","","","","","",{"$error":"#N/A"}]
[{"$error":"#N/A"},{"$error":"#N/A"},{"$error":"#N/A"},{"$error":"#N/A"},{"$error":"#N/A"},"","","","","","","",{"$error":"#N/A"}]
[{"$error":"#N/A"},{"$error":"#N/A"},{"$error":"#N/A"},{"$error":"#N/A"},{"$error":"#N/A"},"","","","","","","",{"$error":"#N/A"}]
[{"$error":"#N/A"},{"$error":"#N/A"},{"$error":"#N/A"},{"$error":"#N/A"},{"$error":"#N/A"},"","","","","","","",{"$error":"#N/A"}]
[{"$error":"#N/A"},{"$error":"#N/A"},{"$error":"#N/A"},{"$error":"#N/A"},{"$error":"#N/A"},"","","","","","","",{"$error":"#N/A"}]
[{"$error":"#N/A"},{"$error":"#N/A"},{"$error":"#N/A"},{"$error":"#N/A"},{"$error":"#N/A"},"","","","","","","",{"$error":"#N/A"}]
[{"$error":"#N/A"},{"$error":"#N/A"},{"$error":"#N/A"},{"$error":"#N/A"},{"$error":"#N/A"},"","","","","","","",{"$error":"#N/A"}]
[{"$error":"#N/A"},{"$error":"#N/A"},{"$error":"#N/A"},{"$error":"#N/A"},{"$error":"#N/A"},"","","","","","","",{"$error":"#N/A"}]
[{"$error":"#N/A"},{"$error":"#N/A"},{"$error":"#N/A"},{"$error":"#N/A"},{"$error":"#N/A"},"","","","","","","",{"$error":"#N/A"}]
[{"$error":"#N/A"},{"$error":"#N/A"},{"$error":"#N/A"},{"$error":"#N/A"},{"$error":"#N/A"},"","","","","","","",{"$error":"#N/A"}]
[{"$error":"#N/A"},{"$error":"#N/A"},{"$error":"#N/A"},{"$error":"#N/A"},{"$error":"#N/A"},"","","","","","","",{"$error":"#N/A"}]
[{"$error":"#N/A"},{"$error":"#N/A"},{"$error":"#N/A"},{"$error":"#N/A"},{"$error":"#N/A"},"","","","","","","",{"$error":"#N/A"}]
[{"$error":"#N/A"},{"$error":"#N/A"},{"$error":"#N/A"},{"$error":"#N/A"},{"$error":"#N/A"},"","","","","","","",{"$error":"#N/A"}]
[{"$error":"#N/A"},{"$error":"#N/A"},{"$error":"#N/A"},{"$error":"#N/A"},{"$error":"#N/A"},"","","","","","","",{"$error":"#N/A"}]
[{"$error":"#N/A"},{"$error":"#N/A"},{"$error":"#N/A"},{"$error":"#N/A"},{"$error":"#N/A"},"","","","","","","",{"$error":"#N/A"}]
[{"$error":"#N/A"},{"$error":"#N/A"},{"$error":"#N/A"},{"$error":"#N/A"},{"$error":"#N/A"},"","","","","","","",{"$error":"#N/A"}]
[{"$error":"#N/A"},{"$error":"#N/A"},{"$error":"#N/A"},{"$error":"#N/A"},{"$error":"#N/A"},"","","","","","","",{"$error":"#N/A"}]
[{"$error":"#N/A"},{"$error":"#N/A"},{"$error":"#N/A"},{"$error":"#N/A"},{"$error":"#N/A"},"","","","","","","",{"$error":"#N/A"}]
[{"$error":"#N/A"},{"$error":"#N/A"},{"$error":"#N/A"},{"$error":"#N/A"},{"$error":"#N/A"},"","","","","","","",{"$error":"#N/A"}]
[{"$error":"#N/A"},{"$error":"#N/A"},{"$error":"#N/A"},{"$error":"#N/A"},{"$error":"#N/A"},"","","","","","","",{"$error":"#N/A"}]
[{"$error":"#N/A"},{"$error":"#N/A"},{"$error":"#N/A"},{"$error":"#N/A"},{"$error":"#N/A"},"","","","","","","",{"$error":"#N/A"}]
[{"$error":"#N/A"},{"$error":"#N/A"},{"$error":"#N/A"},{"$error":"#N/A"},{"$error":"#N/A"},"","","","","","","",{"$error":"#N/A"}]
[{"$error":"#N/A"},{"$error":"#N/A"},{"$error":"#N/A"},{"$error":"#N/A"},{"$error":"#N/A"},"","","","","","","",{"$error":"#N/A"}]
[{"$error":"#N/A"},{"$error":"#N/A"},{"$error":"#N/A"},{"$error":"#N/A"},{"$error":"#N/A"},"","","","","","","",{"$error":"#N/A"}]
[{"$error":"#N/A"},{"$error":"#N/A"},{"$error":"#N/A"},{"$error":"#N/A"},{"$error":"#N/A"},"","","","","","","",{"$error":"#N/A"}]
[{"$error":"#N/A"},{"$error":"#N/A"},{"$error":"#N/A"},{"$error":"#N/A"},{"$error":"#N/A"},"","","","","","","",{"$error":"#N/A"}]
[{"$error":"#N/A"},{"$error":"#N/A"},{"$error":"#N/A"},{"$error":"#N/A"},{"$error":"#N/A"},"","","","","","","",{"$error":"#N/A"}]
[{"$error":"#N/A"},{"$error":"#N/A"},{"$error":"#N/A"},{"$error":"#N/A"},{"$error":"#N/A"},"","","","","","","",{"$error":"#N/A"}]
[{"$error":"#N/A"},{"$error":"#N/A"},{"$error":"#N/A"},{"$error":"#N/A"},{"$error":"#N/A"},"","","","","","","",{"$error":"#N/A"}]
[{"$error":"#N/A"},{"$error":"#N/A"},{"$error":"#N/A"},{"$error":"#N/A"},{"$error":"#N/A"},"","","","","","","",{"$error":"#N/A"}]
[{"$error":"#N/A"},{"$error":"#N/A"},{"$error":"#N/A"},{"$error":"#N/A"},{"$error":"#N/A"},"","","","","","","",{"$error":"#N/A"}]
[{"$error":"#N/A"},{"$error":"#N/A"},{"$error":"#N/A"},{"$error":"#N/A"},{"$error":"#N/A"},"","","","","","","",{"$error":"#N/A"}]
[{"$error":"#N/A"},{"$error":"#N/A"},{"$error":"#N/A"},{"$error":"#N/A"},{"$error":"#N/A"},"","","","","","","",{"$error":"#N/A"}]
[{"$error":"#N/A"},{"$error":"#N/A"},{"$error":"#N/A"},{"$error":"#N/A"},{"$error":"#N/A"},"","","","","","","",{"$error":"#N/A"}]
[{"$error":"#N/A"},{"$error":"#N/A"},{"$error":"#N/A"},{"$error":"#N/A"},{"$error":"#N/A"},"","","","","","","",{"$error":"#N/A"}]
[{"$error":"#N/A"},{"$error":"#N/A"},{"$error":"#N/A"},{"$error":"#N/A"},{"$error":"#N/A"},"","","","","","","",{"$error":"#N/A"}]
[{"$error":"#N/A"},{"$error":"#N/A"},{"$error":"#N/A"},{"$error":"#N/A"},{"$error":"#N/A"},"","","","","","","",{"$error":"#N/A"}]
[{"$error":"#N/A"},{"$error":"#N/A"},{"$error":"#N/A"},{"$error":"#N/A"},{"$error":"#N/A"},"","","","","","","",{"$error":"#N/A"}]
[{"$error":"#N/A"},{"$error":"#N/A"},{"$error":"#N/A"},{"$error":"#N/A"},{"$error":"#N/A"},"","","","","","","",{"$error":"#N/A"}]
[{"$f":"IF(E193=E194,A193,A193+1)","v":{"$error":"#N/A"}},{"$f":"A194*10+M194","v":{"$error":"#N/A"}},{"$error":"#N/A"},{"$error":"#N/A"},{"$error":"#N/A"},"","","","","","","",{"$error":"#N/A"}]
[{"$error":"#N/A"},{"$error":"#N/A"},{"$error":"#N/A"},{"$error":"#N/A"},{"$error":"#N/A"},"","","","","","","",{"$error":"#N/A"}]
[{"$error":"#N/A"},{"$error":"#N/A"},{"$error":"#N/A"},{"$error":"#N/A"},{"$error":"#N/A"},"","","","","","","",{"$error":"#N/A"}]
[{"$error":"#N/A"},{"$error":"#N/A"},{"$error":"#N/A"},{"$error":"#N/A"},{"$error":"#N/A"},"","","","","","","",{"$error":"#N/A"}]
[{"$error":"#N/A"},{"$error":"#N/A"},{"$error":"#N/A"},{"$error":"#N/A"},{"$error":"#N/A"},"","","","","","","",{"$error":"#N/A"}]
[{"$error":"#N/A"},{"$error":"#N/A"},{"$error":"#N/A"},{"$error":"#N/A"},{"$error":"#N/A"},"","","","","","","",{"$error":"#N/A"}]
[{"$error":"#N/A"},{"$error":"#N/A"},{"$error":"#N/A"},{"$error":"#N/A"},{"$error":"#N/A"},"","","","","","","",{"$error":"#N/A"}]
[{"$error":"#N/A"},{"$error":"#N/A"},{"$error":"#N/A"},{"$error":"#N/A"},{"$error":"#N/A"},"","","","","","","",{"$error":"#N/A"}]
[{"$error":"#N/A"},{"$error":"#N/A"},{"$error":"#N/A"},{"$error":"#N/A"},{"$error":"#N/A"},"","","","","","","",{"$error":"#N/A"}]
[{"$error":"#N/A"},{"$error":"#N/A"},{"$error":"#N/A"},{"$error":"#N/A"},{"$error":"#N/A"},"","","","","","","",{"$error":"#N/A"}]
[{"$error":"#N/A"},{"$error":"#N/A"},{"$error":"#N/A"},{"$error":"#N/A"},{"$error":"#N/A"},"","","","","","","",{"$error":"#N/A"}]
[{"$error":"#N/A"},{"$error":"#N/A"},{"$error":"#N/A"},{"$error":"#N/A"},{"$error":"#N/A"},"","","","","","","",{"$error":"#N/A"}]
[{"$error":"#N/A"},{"$error":"#N/A"},{"$error":"#N/A"},{"$error":"#N/A"},{"$error":"#N/A"},"","","","","","","",{"$error":"#N/A"}]
[{"$error":"#N/A"},{"$error":"#N/A"},{"$error":"#N/A"},{"$error":"#N/A"},{"$error":"#N/A"},"","","","","","","",{"$error":"#N/A"}]
[{"$error":"#N/A"},{"$error":"#N/A"},{"$error":"#N/A"},{"$error":"#N/A"},{"$error":"#N/A"},"","","","","","","",{"$error":"#N/A"}]
[{"$error":"#N/A"},{"$error":"#N/A"},{"$error":"#N/A"},{"$error":"#N/A"},{"$error":"#N/A"},"","","","","","","",{"$error":"#N/A"}]
[{"$error":"#N/A"},{"$error":"#N/A"},{"$error":"#N/A"},{"$error":"#N/A"},{"$error":"#N/A"},"","","","","","","",{"$error":"#N/A"}]
[{"$error":"#N/A"},{"$error":"#N/A"},{"$error":"#N/A"},{"$error":"#N/A"},{"$error":"#N/A"},"","","","","","","",{"$error":"#N/A"}]
[{"$error":"#N/A"},{"$error":"#N/A"},{"$error":"#N/A"},{"$error":"#N/A"},{"$error":"#N/A"},"","","","","","","",{"$error":"#N/A"}]
[{"$error":"#N/A"},{"$error":"#N/A"},{"$error":"#N/A"},{"$error":"#N/A"},{"$error":"#N/A"},"","","","","","","",{"$error":"#N/A"}]
[{"$error":"#N/A"},{"$error":"#N/A"},{"$error":"#N/A"},{"$error":"#N/A"},{"$error":"#N/A"},"","","","","","","",{"$error":"#N/A"}]
[{"$error":"#N/A"},{"$error":"#N/A"},{"$error":"#N/A"},{"$error":"#N/A"},{"$error":"#N/A"},"","","","","","","",{"$error":"#N/A"}]
[{"$error":"#N/A"},{"$error":"#N/A"},{"$error":"#N/A"},{"$error":"#N/A"},{"$error":"#N/A"},"","","","","","","",{"$error":"#N/A"}]
[{"$error":"#N/A"},{"$error":"#N/A"},{"$error":"#N/A"},{"$error":"#N/A"},{"$error":"#N/A"},"","","","","","","",{"$error":"#N/A"}]
[{"$error":"#N/A"},{"$error":"#N/A"},{"$error":"#N/A"},{"$error":"#N/A"},{"$error":"#N/A"},"","","","","","","",{"$error":"#N/A"}]
[{"$error":"#N/A"},{"$error":"#N/A"},{"$error":"#N/A"},{"$error":"#N/A"},{"$error":"#N/A"},"","","","","","","",{"$error":"#N/A"}]
[{"$error":"#N/A"},{"$error":"#N/A"},{"$error":"#N/A"},{"$error":"#N/A"},{"$error":"#N/A"},"","","","","","","",{"$error":"#N/A"}]
[{"$error":"#N/A"},{"$error":"#N/A"},{"$error":"#N/A"},{"$error":"#N/A"},{"$error":"#N/A"},"","","","","","","",{"$error":"#N/A"}]
[{"$error":"#N/A"},{"$error":"#N/A"},{"$error":"#N/A"},{"$error":"#N/A"},{"$error":"#N/A"},"","","","","","","",{"$error":"#N/A"}]
[{"$error":"#N/A"},{"$error":"#N/A"},{"$error":"#N/A"},{"$error":"#N/A"},{"$error":"#N/A"},"","","","","","","",{"$error":"#N/A"}]
[{"$error":"#N/A"},{"$error":"#N/A"},{"$error":"#N/A"},{"$error":"#N/A"},{"$error":"#N/A"},"","","","","","","",{"$error":"#N/A"}]
[{"$error":"#N/A"},{"$error":"#N/A"},{"$error":"#N/A"},{"$error":"#N/A"},{"$error":"#N/A"},"","","","","","","",{"$error":"#N/A"}]
[{"$error":"#N/A"},{"$error":"#N/A"},{"$error":"#N/A"},{"$error":"#N/A"},{"$error":"#N/A"},"","","","","","","",{"$error":"#N/A"}]
[{"$error":"#N/A"},{"$error":"#N/A"},{"$error":"#N/A"},{"$error":"#N/A"},{"$error":"#N/A"},"","","","","","","",{"$error":"#N/A"}]
[{"$error":"#N/A"},{"$error":"#N/A"},{"$error":"#N/A"},{"$error":"#N/A"},{"$error":"#N/A"},"","","","","","","",{"$error":"#N/A"}]
[{"$error":"#N/A"},{"$error":"#N/A"},{"$error":"#N/A"},{"$error":"#N/A"},{"$error":"#N/A"},"","","","","","","",{"$error":"#N/A"}]
[{"$error":"#N/A"},{"$error":"#N/A"},{"$error":"#N/A"},{"$error":"#N/A"},{"$error":"#N/A"},"","","","","","","",{"$error":"#N/A"}]
[{"$error":"#N/A"},{"$error":"#N/A"},{"$error":"#N/A"},{"$error":"#N/A"},{"$error":"#N/A"},"","","","","","","",{"$error":"#N/A"}]
[{"$error":"#N/A"},{"$error":"#N/A"},{"$error":"#N/A"},{"$error":"#N/A"},{"$error":"#N/A"},"","","","","","","",{"$error":"#N/A"}]
[{"$error":"#N/A"},{"$error":"#N/A"},{"$error":"#N/A"},{"$error":"#N/A"},{"$error":"#N/A"},"","","","","","","",{"$error":"#N/A"}]
[{"$error":"#N/A"},{"$error":"#N/A"},{"$error":"#N/A"},{"$error":"#N/A"},{"$error":"#N/A"},"","","","","","","",{"$error":"#N/A"}]
[{"$error":"#N/A"},{"$error":"#N/A"},{"$error":"#N/A"},{"$error":"#N/A"},{"$error":"#N/A"},"","","","","","","",{"$error":"#N/A"}]
[{"$error":"#N/A"},{"$error":"#N/A"},{"$error":"#N/A"},{"$error":"#N/A"},{"$error":"#N/A"},"","","","","","","",{"$error":"#N/A"}]
[{"$error":"#N/A"},{"$error":"#N/A"},{"$error":"#N/A"},{"$error":"#N/A"},{"$error":"#N/A"},"","","","","","","",{"$error":"#N/A"}]
[{"$error":"#N/A"},{"$error":"#N/A"},{"$error":"#N/A"},{"$error":"#N/A"},{"$error":"#N/A"},"","","","","","","",{"$error":"#N/A"}]
[{"$error":"#N/A"},{"$error":"#N/A"},{"$error":"#N/A"},{"$error":"#N/A"},{"$error":"#N/A"},"","","","","","","",{"$error":"#N/A"}]
[{"$error":"#N/A"},{"$error":"#N/A"},{"$error":"#N/A"},{"$error":"#N/A"},{"$error":"#N/A"},"","","","","","","",{"$error":"#N/A"}]
[{"$error":"#N/A"},{"$error":"#N/A"},{"$error":"#N/A"},{"$error":"#N/A"},{"$error":"#N/A"},"","","","","","","",{"$error":"#N/A"}]
[{"$error":"#N/A"},{"$error":"#N/A"},{"$error":"#N/A"},{"$error":"#N/A"},{"$error":"#N/A"},"","","","","","","",{"$error":"#N/A"}]
[{"$error":"#N/A"},{"$error":"#N/A"},{"$error":"#N/A"},{"$error":"#N/A"},{"$error":"#N/A"},"","","","","","","",{"$error":"#N/A"}]
[{"$error":"#N/A"},{"$error":"#N/A"},{"$error":"#N/A"},{"$error":"#N/A"},{"$error":"#N/A"},"","","","","","","",{"$error":"#N/A"}]
[{"$error":"#N/A"},{"$error":"#N/A"},{"$error":"#N/A"},{"$error":"#N/A"},{"$error":"#N/A"},"","","","","","","",{"$error":"#N/A"}]
[{"$error":"#N/A"},{"$error":"#N/A"},{"$error":"#N/A"},{"$error":"#N/A"},{"$error":"#N/A"},"","","","","","","",{"$error":"#N/A"}]
[{"$error":"#N/A"},{"$error":"#N/A"},{"$error":"#N/A"},{"$error":"#N/A"},{"$error":"#N/A"},"","","","","","","",{"$error":"#N/A"}]
[{"$error":"#N/A"},{"$error":"#N/A"},{"$error":"#N/A"},{"$error":"#N/A"},{"$error":"#N/A"},"","","","","","","",{"$error":"#N/A"}]
[{"$error":"#N/A"},{"$error":"#N/A"},{"$error":"#N/A"},{"$error":"#N/A"},{"$error":"#N/A"},"","","","","","","",{"$error":"#N/A"}]
[{"$error":"#N/A"},{"$error":"#N/A"},{"$error":"#N/A"},{"$error":"#N/A"},{"$error":"#N/A"},"","","","","","","",{"$error":"#N/A"}]
[{"$error":"#N/A"},{"$error":"#N/A"},{"$error":"#N/A"},{"$error":"#N/A"},{"$error":"#N/A"},"","","","","","","",{"$error":"#N/A"}]
[{"$error":"#N/A"},{"$error":"#N/A"},{"$error":"#N/A"},{"$error":"#N/A"},{"$error":"#N/A"},"","","","","","","",{"$error":"#N/A"}]
[{"$error":"#N/A"},{"$error":"#N/A"},{"$error":"#N/A"},{"$error":"#N/A"},{"$error":"#N/A"},"","","","","","","",{"$error":"#N/A"}]
[{"$error":"#N/A"},{"$error":"#N/A"},{"$error":"#N/A"},{"$error":"#N/A"},{"$error":"#N/A"},"","","","","","","",{"$error":"#N/A"}]
[{"$error":"#N/A"},{"$error":"#N/A"},{"$error":"#N/A"},{"$error":"#N/A"},{"$error":"#N/A"},"","","","","","","",{"$error":"#N/A"}]
[{"$error":"#N/A"},{"$error":"#N/A"},{"$error":"#N/A"},{"$error":"#N/A"},{"$error":"#N/A"},"","","","","","","",{"$error":"#N/A"}]
[{"$error":"#N/A"},{"$error":"#N/A"},{"$error":"#N/A"},{"$error":"#N/A"},{"$error":"#N/A"},"","","","","","","",{"$error":"#N/A"}]
[{"$f":"IF(E257=E258,A257,A257+1)","v":{"$error":"#N/A"}},{"$f":"A258*10+M258","v":{"$error":"#N/A"}},{"$error":"#N/A"},{"$error":"#N/A"},{"$error":"#N/A"},"","","","","","","",{"$error":"#N/A"}]
[{"$error":"#N/A"},{"$error":"#N/A"},{"$error":"#N/A"},{"$error":"#N/A"},{"$error":"#N/A"},"","","","","","","",{"$error":"#N/A"}]
[{"$error":"#N/A"},{"$error":"#N/A"},{"$error":"#N/A"},{"$error":"#N/A"},{"$error":"#N/A"},"","","","","","","",{"$error":"#N/A"}]
[{"$error":"#N/A"},{"$error":"#N/A"},{"$error":"#N/A"},{"$error":"#N/A"},{"$error":"#N/A"},"","","","","","","",{"$error":"#N/A"}]
[{"$error":"#N/A"},{"$error":"#N/A"},{"$error":"#N/A"},{"$error":"#N/A"},{"$error":"#N/A"},"","","","","","","",{"$error":"#N/A"}]
[{"$error":"#N/A"},{"$error":"#N/A"},{"$error":"#N/A"},{"$error":"#N/A"},{"$error":"#N/A"},"","","","","","","",{"$error":"#N/A"}]
[{"$error":"#N/A"},{"$error":"#N/A"},{"$error":"#N/A"},{"$error":"#N/A"},{"$error":"#N/A"},"","","","","","","",{"$error":"#N/A"}]
[{"$error":"#N/A"},{"$error":"#N/A"},{"$error":"#N/A"},{"$error":"#N/A"},{"$error":"#N/A"},"","","","","","","",{"$error":"#N/A"}]
[{"$error":"#N/A"},{"$error":"#N/A"},{"$error":"#N/A"},{"$error":"#N/A"},{"$error":"#N/A"},"","","","","","","",{"$error":"#N/A"}]
[{"$error":"#N/A"},{"$error":"#N/A"},{"$error":"#N/A"},{"$error":"#N/A"},{"$error":"#N/A"},"","","","","","","",{"$error":"#N/A"}]
[{"$error":"#N/A"},{"$error":"#N/A"},{"$error":"#N/A"},{"$error":"#N/A"},{"$error":"#N/A"},"","","","","","","",{"$error":"#N/A"}]
[{"$error":"#N/A"},{"$error":"#N/A"},{"$error":"#N/A"},{"$error":"#N/A"},{"$error":"#N/A"},"","","","","","","",{"$error":"#N/A"}]
[{"$error":"#N/A"},{"$error":"#N/A"},{"$error":"#N/A"},{"$error":"#N/A"},{"$error":"#N/A"},"","","","","","","",{"$error":"#N/A"}]
[{"$error":"#N/A"},{"$error":"#N/A"},{"$error":"#N/A"},{"$error":"#N/A"},{"$error":"#N/A"},"","","","","","","",{"$error":"#N/A"}]
[{"$error":"#N/A"},{"$error":"#N/A"},{"$error":"#N/A"},{"$error":"#N/A"},{"$error":"#N/A"},"","","","","","","",{"$error":"#N/A"}]
[{"$error":"#N/A"},{"$error":"#N/A"},{"$error":"#N/A"},{"$error":"#N/A"},{"$error":"#N/A"},"","","","","","","",{"$error":"#N/A"}]
[{"$error":"#N/A"},{"$error":"#N/A"},{"$error":"#N/A"},{"$error":"#N/A"},{"$error":"#N/A"},"","","","","","","",{"$error":"#N/A"}]
[{"$error":"#N/A"},{"$error":"#N/A"},{"$error":"#N/A"},{"$error":"#N/A"},{"$error":"#N/A"},"","","","","","","",{"$error":"#N/A"}]
[{"$error":"#N/A"},{"$error":"#N/A"},"",null,null,null,null,null,null,null,null,null,1]
[{"$error":"#N/A"},{"$error":"#N/A"},"",null,null,null,null,null,null,null,null,null,2]
[{"$error":"#N/A"},{"$error":"#N/A"},"",null,null,null,null,null,null,null,null,null,3]
[{"$error":"#N/A"},{"$error":"#N/A"},"",null,null,null,null,null,null,null,null,null,4]
[{"$error":"#N/A"},{"$error":"#N/A"},"",null,null,null,null,null,null,null,null,null,5]
[{"$error":"#N/A"},{"$error":"#N/A"},"",null,null,null,null,null,null,null,null,null,6]
[{"$error":"#N/A"},{"$error":"#N/A"},"",null,null,null,null,null,null,null,null,null,7]
[{"$error":"#N/A"},{"$error":"#N/A"},"",null,null,null,null,null,null,null,null,null,8]
[{"$error":"#N/A"},{"$error":"#N/A"},"",null,null,null,null,null,null,null,null,null,9]
[{"$error":"#N/A"},{"$error":"#N/A"},"",null,null,null,null,null,null,null,null,null,10]
[{"$error":"#N/A"},{"$error":"#N/A"},"",null,null,null,null,null,null,null,null,null,11]
[{"$error":"#N/A"},{"$error":"#N/A"},"",null,null,null,null,null,null,null,null,null,12]
[{"$error":"#N/A"},{"$error":"#N/A"},"",null,null,null,null,null,null,null,null,null,13]
[{"$error":"#N/A"},{"$error":"#N/A"},"",null,null,null,null,null,null,null,null,null,14]
[{"$error":"#N/A"},{"$error":"#N/A"},"",null,null,null,null,null,null,null,null,null,15]
[{"$error":"#N/A"},{"$error":"#N/A"},"",null,null,null,null,null,null,null,null,null,16]
[{"$error":"#N/A"},{"$error":"#N/A"},"",null,null,null,null,null,null,null,null,null,17]
[{"$error":"#N/A"},{"$error":"#N/A"},"",null,null,null,null,null,null,null,null,null,18]
[{"$error":"#N/A"},{"$error":"#N/A"},"",null,null,null,null,null,null,null,null,null,19]
[{"$error":"#N/A"},{"$error":"#N/A"},"",null,null,null,null,null,null,null,null,null,20]
[{"$error":"#N/A"},{"$error":"#N/A"},"",null,null,null,null,null,null,null,null,null,21]
[{"$error":"#N/A"},{"$error":"#N/A"},"",null,null,null,null,null,null,null,null,null,22]
[{"$error":"#N/A"},{"$error":"#N/A"},"",null,null,null,null,null,null,null,null,null,23]
[{"$error":"#N/A"},{"$error":"#N/A"},"",null,null,null,null,null,null,null,null,null,24]
[{"$error":"#N/A"},{"$error":"#N/A"},"",null,null,null,null,null,null,null,null,null,25]

{"sheet":"データ完成","index":10,"n_rows":102,"n_cols":25,"rows_kept":102,"cut":false,"hidden":false,"merged":[]}
[null,5,6,7,8,9,10,11,11,11,11,12,null,12]
["no","DB","N1","N2","SX","KC","MC","ZK","S1","S2","S3","r400",null,"r1600",null,"種目１",null,null,"種目２",null,null,"種目３",null,null,"学校名"]
[1,{"$f":"IF(ISERROR(VLOOKUP($A3,データ作成貼付２!$A$2:$M$280,データ完成!B$1,FALSE))=TRUE,\"\",VLOOKUP($A3,データ作成貼付２!$A$2:$M$280,データ完成!B$1,FALSE))","v":""},{"$f":"IF(ISERROR(VLOOKUP($A3,データ作成貼付２!$A$2:$M$280,データ完成!C$1,FALSE))=TRUE,\"\",VLOOKUP($A3,データ作成貼付２!$A$2:$M$280,データ完成!C$1,FALSE))","v":""},{"$f":"IF(ISERROR(VLOOKUP($A3,データ作成貼付２!$A$2:$M$280,データ完成!D$1,FALSE))=TRUE,\"\",VLOOKUP($A3,データ作成貼付２!$A$2:$M$280,データ完成!D$1,FALSE))","v":""},{"$f":"IF(ISERROR(VLOOKUP($A3,データ作成貼付２!$A$2:$M$280,データ完成!E$1,FALSE))=TRUE,\"\",VLOOKUP($A3,データ作成貼付２!$A$2:$M$280,データ完成!E$1,FALSE))","v":""},{"$f":"IF(ISERROR(VLOOKUP($A3,データ作成貼付２!$A$2:$M$280,データ完成!F$1,FALSE))=TRUE,\"\",VLOOKUP($A3,データ作成貼付２!$A$2:$M$280,データ完成!F$1,FALSE))","v":""},{"$f":"IF(ISERROR(VLOOKUP($A3,データ作成貼付２!$A$2:$M$280,データ完成!G$1,FALSE))=TRUE,\"\",VLOOKUP($A3,データ作成貼付２!$A$2:$M$280,データ完成!G$1,FALSE))","v":""},{"$f":"IF(ISERROR(VLOOKUP($A3,データ作成貼付２!$A$2:$M$280,データ完成!H$1,FALSE))=TRUE,\"\",VLOOKUP($A3,データ作成貼付２!$A$2:$M$280,データ完成!H$1,FALSE))","v":""},{"$f":"IF(ISERROR(VLOOKUP($A3*10+1,データ作成貼付２!$B$2:$M$280,データ完成!I$1,FALSE))=TRUE,\"\",VLOOKUP($A3*10+1,データ作成貼付２!$B$2:$M$280,データ完成!I$1,FALSE))","v":""},{"$f":"IF(ISERROR(VLOOKUP($A3*10+2,データ作成貼付２!$B$2:$M$280,データ完成!J$1,FALSE))=TRUE,\"\",VLOOKUP($A3*10+2,データ作成貼付２!$B$2:$M$280,データ完成!J$1,FALSE))","v":""},{"$f":"IF(ISERROR(VLOOKUP($A3*10+3,データ作成貼付２!$B$2:$M$280,データ完成!K$1,FALSE))=TRUE,\"\",VLOOKUP($A3*10+3,データ作成貼付２!$B$2:$M$280,データ完成!K$1,FALSE))","v":""},{"$f":"IF(ISERROR(VLOOKUP($A3*10+4,データ作成貼付２!$B$2:$M$280,データ完成!L$1,FALSE))=TRUE,\"\",\"○\")","v":""},{"$f":"IF(L3=\"\",\"\",VLOOKUP($H3,記録入力1!$E$161:$O$190,11,FALSE))","v":""},{"$f":"IF(ISERROR(VLOOKUP($A3*10+5,データ作成貼付２!$B$2:$M$280,データ完成!N$1,FALSE))=TRUE,\"\",\"○\")","v":""},{"$f":"IF(N3=\"\",\"\",VLOOKUP($H3,記録入力1!$E$191:$O$290,11,FALSE))","v":""},{"$f":"IF(I3=\"\",\"\",VLOOKUP(LEFT(I3,5),初期設定1!$E$18:$F$59,2,FALSE))","v":""},{"$f":"LEFT($I3,5)&$H3","v":""},{"$f":"VLOOKUP($Q3,記録入力1!$B$4:$I$287,8,FALSE)","v":{"$error":"#N/A"}},{"$f":"IF(J3=\"\",\"\",VLOOKUP(LEFT(J3,5),初期設定1!$E$18:$F$59,2,FALSE))","v":""},{"$f":"LEFT($J3,5)&$H3","v":""},{"$f":"VLOOKUP($T3,記録入力1!$B$4:$I$287,8,FALSE)","v":{"$error":"#N/A"}},{"$f":"IF(K3=\"\",\"\",VLOOKUP(LEFT(K3,5),初期設定1!$E$18:$F$59,2,FALSE))","v":""},{"$f":"LEFT($K3,5)&$H3","v":""},{"$f":"VLOOKUP($W3,記録入力1!$B$4:$I$287,8,FALSE)","v":{"$error":"#N/A"}},{"$f":"IF(G3=\"\",\"\",VLOOKUP(VALUE(RIGHT(G3,6)),学校番号!$A$2:$B$51,2))","v":""}]
[2,{"$f":"IF(ISERROR(VLOOKUP($A4,データ作成貼付２!$A$2:$M$280,データ完成!B$1,FALSE))=TRUE,\"\",VLOOKUP($A4,データ作成貼付２!$A$2:$M$280,データ完成!B$1,FALSE))","v":""},{"$f":"IF(ISERROR(VLOOKUP($A4,データ作成貼付２!$A$2:$M$280,データ完成!C$1,FALSE))=TRUE,\"\",VLOOKUP($A4,データ作成貼付２!$A$2:$M$280,データ完成!C$1,FALSE))","v":""},{"$f":"IF(ISERROR(VLOOKUP($A4,データ作成貼付２!$A$2:$M$280,データ完成!D$1,FALSE))=TRUE,\"\",VLOOKUP($A4,データ作成貼付２!$A$2:$M$280,データ完成!D$1,FALSE))","v":""},{"$f":"IF(ISERROR(VLOOKUP($A4,データ作成貼付２!$A$2:$M$280,データ完成!E$1,FALSE))=TRUE,\"\",VLOOKUP($A4,データ作成貼付２!$A$2:$M$280,データ完成!E$1,FALSE))","v":""},{"$f":"IF(ISERROR(VLOOKUP($A4,データ作成貼付２!$A$2:$M$280,データ完成!F$1,FALSE))=TRUE,\"\",VLOOKUP($A4,データ作成貼付２!$A$2:$M$280,データ完成!F$1,FALSE))","v":""},{"$f":"IF(ISERROR(VLOOKUP($A4,データ作成貼付２!$A$2:$M$280,データ完成!G$1,FALSE))=TRUE,\"\",VLOOKUP($A4,データ作成貼付２!$A$2:$M$280,データ完成!G$1,FALSE))","v":""},{"$f":"IF(ISERROR(VLOOKUP($A4,データ作成貼付２!$A$2:$M$280,データ完成!H$1,FALSE))=TRUE,\"\",VLOOKUP($A4,データ作成貼付２!$A$2:$M$280,データ完成!H$1,FALSE))","v":""},{"$f":"IF(ISERROR(VLOOKUP($A4*10+1,データ作成貼付２!$B$2:$M$280,データ完成!I$1,FALSE))=TRUE,\"\",VLOOKUP($A4*10+1,データ作成貼付２!$B$2:$M$280,データ完成!I$1,FALSE))","v":""},{"$f":"IF(ISERROR(VLOOKUP($A4*10+2,データ作成貼付２!$B$2:$M$280,データ完成!J$1,FALSE))=TRUE,\"\",VLOOKUP($A4*10+2,データ作成貼付２!$B$2:$M$280,データ完成!J$1,FALSE))","v":""},{"$f":"IF(ISERROR(VLOOKUP($A4*10+3,データ作成貼付２!$B$2:$M$280,データ完成!K$1,FALSE))=TRUE,\"\",VLOOKUP($A4*10+3,データ作成貼付２!$B$2:$M$280,データ完成!K$1,FALSE))","v":""},{"$f":"IF(ISERROR(VLOOKUP($A4*10+4,データ作成貼付２!$B$2:$M$280,データ完成!L$1,FALSE))=TRUE,\"\",\"○\")","v":""},{"$f":"IF(L4=\"\",\"\",VLOOKUP($H4,記録入力1!$E$161:$O$190,11,FALSE))","v":""},{"$f":"IF(ISERROR(VLOOKUP($A4*10+5,データ作成貼付２!$B$2:$M$280,データ完成!N$1,FALSE))=TRUE,\"\",\"○\")","v":""},{"$f":"IF(N4=\"\",\"\",VLOOKUP($H4,記録入力1!$E$191:$O$290,11,FALSE))","v":""},{"$f":"IF(I4=\"\",\"\",VLOOKUP(LEFT(I4,5),初期設定1!$E$18:$F$59,2,FALSE))","v":""},{"$f":"LEFT($I4,5)&$H4","v":""},{"$f":"VLOOKUP($Q4,記録入力1!$B$4:$I$287,8,FALSE)","v":{"$error":"#N/A"}},{"$f":"IF(J4=\"\",\"\",VLOOKUP(LEFT(J4,5),初期設定1!$E$18:$F$59,2,FALSE))","v":""},{"$f":"LEFT($J4,5)&$H4","v":""},{"$f":"VLOOKUP($T4,記録入力1!$B$4:$I$287,8,FALSE)","v":{"$error":"#N/A"}},{"$f":"IF(K4=\"\",\"\",VLOOKUP(LEFT(K4,5),初期設定1!$E$18:$F$59,2,FALSE))","v":""},{"$f":"LEFT($K4,5)&$H4","v":""},{"$f":"VLOOKUP($W4,記録入力1!$B$4:$I$287,8,FALSE)","v":{"$error":"#N/A"}},{"$f":"IF(G4=\"\",\"\",VLOOKUP(VALUE(RIGHT(G4,6)),学校番号!$A$2:$B$51,2))","v":""}]
[3,{"$f":"IF(ISERROR(VLOOKUP($A5,データ作成貼付２!$A$2:$M$280,データ完成!B$1,FALSE))=TRUE,\"\",VLOOKUP($A5,データ作成貼付２!$A$2:$M$280,データ完成!B$1,FALSE))","v":""},{"$f":"IF(ISERROR(VLOOKUP($A5,データ作成貼付２!$A$2:$M$280,データ完成!C$1,FALSE))=TRUE,\"\",VLOOKUP($A5,データ作成貼付２!$A$2:$M$280,データ完成!C$1,FALSE))","v":""},{"$f":"IF(ISERROR(VLOOKUP($A5,データ作成貼付２!$A$2:$M$280,データ完成!D$1,FALSE))=TRUE,\"\",VLOOKUP($A5,データ作成貼付２!$A$2:$M$280,データ完成!D$1,FALSE))","v":""},{"$f":"IF(ISERROR(VLOOKUP($A5,データ作成貼付２!$A$2:$M$280,データ完成!E$1,FALSE))=TRUE,\"\",VLOOKUP($A5,データ作成貼付２!$A$2:$M$280,データ完成!E$1,FALSE))","v":""},{"$f":"IF(ISERROR(VLOOKUP($A5,データ作成貼付２!$A$2:$M$280,データ完成!F$1,FALSE))=TRUE,\"\",VLOOKUP($A5,データ作成貼付２!$A$2:$M$280,データ完成!F$1,FALSE))","v":""},{"$f":"IF(ISERROR(VLOOKUP($A5,データ作成貼付２!$A$2:$M$280,データ完成!G$1,FALSE))=TRUE,\"\",VLOOKUP($A5,データ作成貼付２!$A$2:$M$280,データ完成!G$1,FALSE))","v":""},{"$f":"IF(ISERROR(VLOOKUP($A5,データ作成貼付２!$A$2:$M$280,データ完成!H$1,FALSE))=TRUE,\"\",VLOOKUP($A5,データ作成貼付２!$A$2:$M$280,データ完成!H$1,FALSE))","v":""},{"$f":"IF(ISERROR(VLOOKUP($A5*10+1,データ作成貼付２!$B$2:$M$280,データ完成!I$1,FALSE))=TRUE,\"\",VLOOKUP($A5*10+1,データ作成貼付２!$B$2:$M$280,データ完成!I$1,FALSE))","v":""},{"$f":"IF(ISERROR(VLOOKUP($A5*10+2,データ作成貼付２!$B$2:$M$280,データ完成!J$1,FALSE))=TRUE,\"\",VLOOKUP($A5*10+2,データ作成貼付２!$B$2:$M$280,データ完成!J$1,FALSE))","v":""},{"$f":"IF(ISERROR(VLOOKUP($A5*10+3,データ作成貼付２!$B$2:$M$280,データ完成!K$1,FALSE))=TRUE,\"\",VLOOKUP($A5*10+3,データ作成貼付２!$B$2:$M$280,データ完成!K$1,FALSE))","v":""},{"$f":"IF(ISERROR(VLOOKUP($A5*10+4,データ作成貼付２!$B$2:$M$280,データ完成!L$1,FALSE))=TRUE,\"\",\"○\")","v":""},{"$f":"IF(L5=\"\",\"\",VLOOKUP($H5,記録入力1!$E$161:$O$190,11,FALSE))","v":""},{"$f":"IF(ISERROR(VLOOKUP($A5*10+5,データ作成貼付２!$B$2:$M$280,データ完成!N$1,FALSE))=TRUE,\"\",\"○\")","v":""},{"$f":"IF(N5=\"\",\"\",VLOOKUP($H5,記録入力1!$E$191:$O$290,11,FALSE))","v":""},{"$f":"IF(I5=\"\",\"\",VLOOKUP(LEFT(I5,5),初期設定1!$E$18:$F$59,2,FALSE))","v":""},"",{"$f":"VLOOKUP($Q5,記録入力1!$B$4:$I$287,8,FALSE)","v":{"$error":"#N/A"}},{"$f":"IF(J5=\"\",\"\",VLOOKUP(LEFT(J5,5),初期設定1!$E$18:$F$59,2,FALSE))","v":""},"",{"$f":"VLOOKUP($T5,記録入力1!$B$4:$I$287,8,FALSE)","v":{"$error":"#N/A"}},{"$f":"IF(K5=\"\",\"\",VLOOKUP(LEFT(K5,5),初期設定1!$E$18:$F$59,2,FALSE))","v":""},"",{"$f":"VLOOKUP($W5,記録入力1!$B$4:$I$287,8,FALSE)","v":{"$error":"#N/A"}},{"$f":"IF(G5=\"\",\"\",VLOOKUP(VALUE(RIGHT(G5,6)),学校番号!$A$2:$B$51,2))","v":""}]
[4,{"$f":"IF(ISERROR(VLOOKUP($A6,データ作成貼付２!$A$2:$M$280,データ完成!B$1,FALSE))=TRUE,\"\",VLOOKUP($A6,データ作成貼付２!$A$2:$M$280,データ完成!B$1,FALSE))","v":""},{"$f":"IF(ISERROR(VLOOKUP($A6,データ作成貼付２!$A$2:$M$280,データ完成!C$1,FALSE))=TRUE,\"\",VLOOKUP($A6,データ作成貼付２!$A$2:$M$280,データ完成!C$1,FALSE))","v":""},{"$f":"IF(ISERROR(VLOOKUP($A6,データ作成貼付２!$A$2:$M$280,データ完成!D$1,FALSE))=TRUE,\"\",VLOOKUP($A6,データ作成貼付２!$A$2:$M$280,データ完成!D$1,FALSE))","v":""},{"$f":"IF(ISERROR(VLOOKUP($A6,データ作成貼付２!$A$2:$M$280,データ完成!E$1,FALSE))=TRUE,\"\",VLOOKUP($A6,データ作成貼付２!$A$2:$M$280,データ完成!E$1,FALSE))","v":""},{"$f":"IF(ISERROR(VLOOKUP($A6,データ作成貼付２!$A$2:$M$280,データ完成!F$1,FALSE))=TRUE,\"\",VLOOKUP($A6,データ作成貼付２!$A$2:$M$280,データ完成!F$1,FALSE))","v":""},{"$f":"IF(ISERROR(VLOOKUP($A6,データ作成貼付２!$A$2:$M$280,データ完成!G$1,FALSE))=TRUE,\"\",VLOOKUP($A6,データ作成貼付２!$A$2:$M$280,データ完成!G$1,FALSE))","v":""},{"$f":"IF(ISERROR(VLOOKUP($A6,データ作成貼付２!$A$2:$M$280,データ完成!H$1,FALSE))=TRUE,\"\",VLOOKUP($A6,データ作成貼付２!$A$2:$M$280,データ完成!H$1,FALSE))","v":""},{"$f":"IF(ISERROR(VLOOKUP($A6*10+1,データ作成貼付２!$B$2:$M$280,データ完成!I$1,FALSE))=TRUE,\"\",VLOOKUP($A6*10+1,データ作成貼付２!$B$2:$M$280,データ完成!I$1,FALSE))","v":""},{"$f":"IF(ISERROR(VLOOKUP($A6*10+2,データ作成貼付２!$B$2:$M$280,データ完成!J$1,FALSE))=TRUE,\"\",VLOOKUP($A6*10+2,データ作成貼付２!$B$2:$M$280,データ完成!J$1,FALSE))","v":""},{"$f":"IF(ISERROR(VLOOKUP($A6*10+3,データ作成貼付２!$B$2:$M$280,データ完成!K$1,FALSE))=TRUE,\"\",VLOOKUP($A6*10+3,データ作成貼付２!$B$2:$M$280,データ完成!K$1,FALSE))","v":""},{"$f":"IF(ISERROR(VLOOKUP($A6*10+4,データ作成貼付２!$B$2:$M$280,データ完成!L$1,FALSE))=TRUE,\"\",\"○\")","v":""},{"$f":"IF(L6=\"\",\"\",VLOOKUP($H6,記録入力1!$E$161:$O$190,11,FALSE))","v":""},{"$f":"IF(ISERROR(VLOOKUP($A6*10+5,データ作成貼付２!$B$2:$M$280,データ完成!N$1,FALSE))=TRUE,\"\",\"○\")","v":""},{"$f":"IF(N6=\"\",\"\",VLOOKUP($H6,記録入力1!$E$191:$O$290,11,FALSE))","v":""},{"$f":"IF(I6=\"\",\"\",VLOOKUP(LEFT(I6,5),初期設定1!$E$18:$F$59,2,FALSE))","v":""},"",{"$f":"VLOOKUP($Q6,記録入力1!$B$4:$I$287,8,FALSE)","v":{"$error":"#N/A"}},{"$f":"IF(J6=\"\",\"\",VLOOKUP(LEFT(J6,5),初期設定1!$E$18:$F$59,2,FALSE))","v":""},"",{"$f":"VLOOKUP($T6,記録入力1!$B$4:$I$287,8,FALSE)","v":{"$error":"#N/A"}},{"$f":"IF(K6=\"\",\"\",VLOOKUP(LEFT(K6,5),初期設定1!$E$18:$F$59,2,FALSE))","v":""},"",{"$f":"VLOOKUP($W6,記録入力1!$B$4:$I$287,8,FALSE)","v":{"$error":"#N/A"}},{"$f":"IF(G6=\"\",\"\",VLOOKUP(VALUE(RIGHT(G6,6)),学校番号!$A$2:$B$51,2))","v":""}]
[5,{"$f":"IF(ISERROR(VLOOKUP($A7,データ作成貼付２!$A$2:$M$280,データ完成!B$1,FALSE))=TRUE,\"\",VLOOKUP($A7,データ作成貼付２!$A$2:$M$280,データ完成!B$1,FALSE))","v":""},{"$f":"IF(ISERROR(VLOOKUP($A7,データ作成貼付２!$A$2:$M$280,データ完成!C$1,FALSE))=TRUE,\"\",VLOOKUP($A7,データ作成貼付２!$A$2:$M$280,データ完成!C$1,FALSE))","v":""},{"$f":"IF(ISERROR(VLOOKUP($A7,データ作成貼付２!$A$2:$M$280,データ完成!D$1,FALSE))=TRUE,\"\",VLOOKUP($A7,データ作成貼付２!$A$2:$M$280,データ完成!D$1,FALSE))","v":""},{"$f":"IF(ISERROR(VLOOKUP($A7,データ作成貼付２!$A$2:$M$280,データ完成!E$1,FALSE))=TRUE,\"\",VLOOKUP($A7,データ作成貼付２!$A$2:$M$280,データ完成!E$1,FALSE))","v":""},{"$f":"IF(ISERROR(VLOOKUP($A7,データ作成貼付２!$A$2:$M$280,データ完成!F$1,FALSE))=TRUE,\"\",VLOOKUP($A7,データ作成貼付２!$A$2:$M$280,データ完成!F$1,FALSE))","v":""},{"$f":"IF(ISERROR(VLOOKUP($A7,データ作成貼付２!$A$2:$M$280,データ完成!G$1,FALSE))=TRUE,\"\",VLOOKUP($A7,データ作成貼付２!$A$2:$M$280,データ完成!G$1,FALSE))","v":""},{"$f":"IF(ISERROR(VLOOKUP($A7,データ作成貼付２!$A$2:$M$280,データ完成!H$1,FALSE))=TRUE,\"\",VLOOKUP($A7,データ作成貼付２!$A$2:$M$280,データ完成!H$1,FALSE))","v":""},{"$f":"IF(ISERROR(VLOOKUP($A7*10+1,データ作成貼付２!$B$2:$M$280,データ完成!I$1,FALSE))=TRUE,\"\",VLOOKUP($A7*10+1,データ作成貼付２!$B$2:$M$280,データ完成!I$1,FALSE))","v":""},{"$f":"IF(ISERROR(VLOOKUP($A7*10+2,データ作成貼付２!$B$2:$M$280,データ完成!J$1,FALSE))=TRUE,\"\",VLOOKUP($A7*10+2,データ作成貼付２!$B$2:$M$280,データ完成!J$1,FALSE))","v":""},{"$f":"IF(ISERROR(VLOOKUP($A7*10+3,データ作成貼付２!$B$2:$M$280,データ完成!K$1,FALSE))=TRUE,\"\",VLOOKUP($A7*10+3,データ作成貼付２!$B$2:$M$280,データ完成!K$1,FALSE))","v":""},{"$f":"IF(ISERROR(VLOOKUP($A7*10+4,データ作成貼付２!$B$2:$M$280,データ完成!L$1,FALSE))=TRUE,\"\",\"○\")","v":""},{"$f":"IF(L7=\"\",\"\",VLOOKUP($H7,記録入力1!$E$161:$O$190,11,FALSE))","v":""},{"$f":"IF(ISERROR(VLOOKUP($A7*10+5,データ作成貼付２!$B$2:$M$280,データ完成!N$1,FALSE))=TRUE,\"\",\"○\")","v":""},{"$f":"IF(N7=\"\",\"\",VLOOKUP($H7,記録入力1!$E$191:$O$290,11,FALSE))","v":""},{"$f":"IF(I7=\"\",\"\",VLOOKUP(LEFT(I7,5),初期設定1!$E$18:$F$59,2,FALSE))","v":""},"",{"$f":"VLOOKUP($Q7,記録入力1!$B$4:$I$287,8,FALSE)","v":{"$error":"#N/A"}},{"$f":"IF(J7=\"\",\"\",VLOOKUP(LEFT(J7,5),初期設定1!$E$18:$F$59,2,FALSE))","v":""},"",{"$f":"VLOOKUP($T7,記録入力1!$B$4:$I$287,8,FALSE)","v":{"$error":"#N/A"}},{"$f":"IF(K7=\"\",\"\",VLOOKUP(LEFT(K7,5),初期設定1!$E$18:$F$59,2,FALSE))","v":""},"",{"$f":"VLOOKUP($W7,記録入力1!$B$4:$I$287,8,FALSE)","v":{"$error":"#N/A"}},{"$f":"IF(G7=\"\",\"\",VLOOKUP(VALUE(RIGHT(G7,6)),学校番号!$A$2:$B$51,2))","v":""}]
[6,{"$f":"IF(ISERROR(VLOOKUP($A8,データ作成貼付２!$A$2:$M$280,データ完成!B$1,FALSE))=TRUE,\"\",VLOOKUP($A8,データ作成貼付２!$A$2:$M$280,データ完成!B$1,FALSE))","v":""},{"$f":"IF(ISERROR(VLOOKUP($A8,データ作成貼付２!$A$2:$M$280,データ完成!C$1,FALSE))=TRUE,\"\",VLOOKUP($A8,データ作成貼付２!$A$2:$M$280,データ完成!C$1,FALSE))","v":""},{"$f":"IF(ISERROR(VLOOKUP($A8,データ作成貼付２!$A$2:$M$280,データ完成!D$1,FALSE))=TRUE,\"\",VLOOKUP($A8,データ作成貼付２!$A$2:$M$280,データ完成!D$1,FALSE))","v":""},{"$f":"IF(ISERROR(VLOOKUP($A8,データ作成貼付２!$A$2:$M$280,データ完成!E$1,FALSE))=TRUE,\"\",VLOOKUP($A8,データ作成貼付２!$A$2:$M$280,データ完成!E$1,FALSE))","v":""},{"$f":"IF(ISERROR(VLOOKUP($A8,データ作成貼付２!$A$2:$M$280,データ完成!F$1,FALSE))=TRUE,\"\",VLOOKUP($A8,データ作成貼付２!$A$2:$M$280,データ完成!F$1,FALSE))","v":""},{"$f":"IF(ISERROR(VLOOKUP($A8,データ作成貼付２!$A$2:$M$280,データ完成!G$1,FALSE))=TRUE,\"\",VLOOKUP($A8,データ作成貼付２!$A$2:$M$280,データ完成!G$1,FALSE))","v":""},{"$f":"IF(ISERROR(VLOOKUP($A8,データ作成貼付２!$A$2:$M$280,データ完成!H$1,FALSE))=TRUE,\"\",VLOOKUP($A8,データ作成貼付２!$A$2:$M$280,データ完成!H$1,FALSE))","v":""},{"$f":"IF(ISERROR(VLOOKUP($A8*10+1,データ作成貼付２!$B$2:$M$280,データ完成!I$1,FALSE))=TRUE,\"\",VLOOKUP($A8*10+1,データ作成貼付２!$B$2:$M$280,データ完成!I$1,FALSE))","v":""},{"$f":"IF(ISERROR(VLOOKUP($A8*10+2,データ作成貼付２!$B$2:$M$280,データ完成!J$1,FALSE))=TRUE,\"\",VLOOKUP($A8*10+2,データ作成貼付２!$B$2:$M$280,データ完成!J$1,FALSE))","v":""},{"$f":"IF(ISERROR(VLOOKUP($A8*10+3,データ作成貼付２!$B$2:$M$280,データ完成!K$1,FALSE))=TRUE,\"\",VLOOKUP($A8*10+3,データ作成貼付２!$B$2:$M$280,データ完成!K$1,FALSE))","v":""},{"$f":"IF(ISERROR(VLOOKUP($A8*10+4,データ作成貼付２!$B$2:$M$280,データ完成!L$1,FALSE))=TRUE,\"\",\"○\")","v":""},{"$f":"IF(L8=\"\",\"\",VLOOKUP($H8,記録入力1!$E$161:$O$190,11,FALSE))","v":""},{"$f":"IF(ISERROR(VLOOKUP($A8*10+5,データ作成貼付２!$B$2:$M$280,データ完成!N$1,FALSE))=TRUE,\"\",\"○\")","v":""},{"$f":"IF(N8=\"\",\"\",VLOOKUP($H8,記録入力1!$E$191:$O$290,11,FALSE))","v":""},{"$f":"IF(I8=\"\",\"\",VLOOKUP(LEFT(I8,5),初期設定1!$E$18:$F$59,2,FALSE))","v":""},"",{"$f":"VLOOKUP($Q8,記録入力1!$B$4:$I$287,8,FALSE)","v":{"$error":"#N/A"}},{"$f":"IF(J8=\"\",\"\",VLOOKUP(LEFT(J8,5),初期設定1!$E$18:$F$59,2,FALSE))","v":""},"",{"$f":"VLOOKUP($T8,記録入力1!$B$4:$I$287,8,FALSE)","v":{"$error":"#N/A"}},{"$f":"IF(K8=\"\",\"\",VLOOKUP(LEFT(K8,5),初期設定1!$E$18:$F$59,2,FALSE))","v":""},"",{"$f":"VLOOKUP($W8,記録入力1!$B$4:$I$287,8,FALSE)","v":{"$error":"#N/A"}},{"$f":"IF(G8=\"\",\"\",VLOOKUP(VALUE(RIGHT(G8,6)),学校番号!$A$2:$B$51,2))","v":""}]
[7,{"$f":"IF(ISERROR(VLOOKUP($A9,データ作成貼付２!$A$2:$M$280,データ完成!B$1,FALSE))=TRUE,\"\",VLOOKUP($A9,データ作成貼付２!$A$2:$M$280,データ完成!B$1,FALSE))","v":""},{"$f":"IF(ISERROR(VLOOKUP($A9,データ作成貼付２!$A$2:$M$280,データ完成!C$1,FALSE))=TRUE,\"\",VLOOKUP($A9,データ作成貼付２!$A$2:$M$280,データ完成!C$1,FALSE))","v":""},{"$f":"IF(ISERROR(VLOOKUP($A9,データ作成貼付２!$A$2:$M$280,データ完成!D$1,FALSE))=TRUE,\"\",VLOOKUP($A9,データ作成貼付２!$A$2:$M$280,データ完成!D$1,FALSE))","v":""},{"$f":"IF(ISERROR(VLOOKUP($A9,データ作成貼付２!$A$2:$M$280,データ完成!E$1,FALSE))=TRUE,\"\",VLOOKUP($A9,データ作成貼付２!$A$2:$M$280,データ完成!E$1,FALSE))","v":""},{"$f":"IF(ISERROR(VLOOKUP($A9,データ作成貼付２!$A$2:$M$280,データ完成!F$1,FALSE))=TRUE,\"\",VLOOKUP($A9,データ作成貼付２!$A$2:$M$280,データ完成!F$1,FALSE))","v":""},{"$f":"IF(ISERROR(VLOOKUP($A9,データ作成貼付２!$A$2:$M$280,データ完成!G$1,FALSE))=TRUE,\"\",VLOOKUP($A9,データ作成貼付２!$A$2:$M$280,データ完成!G$1,FALSE))","v":""},{"$f":"IF(ISERROR(VLOOKUP($A9,データ作成貼付２!$A$2:$M$280,データ完成!H$1,FALSE))=TRUE,\"\",VLOOKUP($A9,データ作成貼付２!$A$2:$M$280,データ完成!H$1,FALSE))","v":""},{"$f":"IF(ISERROR(VLOOKUP($A9*10+1,データ作成貼付２!$B$2:$M$280,データ完成!I$1,FALSE))=TRUE,\"\",VLOOKUP($A9*10+1,データ作成貼付２!$B$2:$M$280,データ完成!I$1,FALSE))","v":""},{"$f":"IF(ISERROR(VLOOKUP($A9*10+2,データ作成貼付２!$B$2:$M$280,データ完成!J$1,FALSE))=TRUE,\"\",VLOOKUP($A9*10+2,データ作成貼付２!$B$2:$M$280,データ完成!J$1,FALSE))","v":""},{"$f":"IF(ISERROR(VLOOKUP($A9*10+3,データ作成貼付２!$B$2:$M$280,データ完成!K$1,FALSE))=TRUE,\"\",VLOOKUP($A9*10+3,データ作成貼付２!$B$2:$M$280,データ完成!K$1,FALSE))","v":""},{"$f":"IF(ISERROR(VLOOKUP($A9*10+4,データ作成貼付２!$B$2:$M$280,データ完成!L$1,FALSE))=TRUE,\"\",\"○\")","v":""},{"$f":"IF(L9=\"\",\"\",VLOOKUP($H9,記録入力1!$E$161:$O$190,11,FALSE))","v":""},{"$f":"IF(ISERROR(VLOOKUP($A9*10+5,データ作成貼付２!$B$2:$M$280,データ完成!N$1,FALSE))=TRUE,\"\",\"○\")","v":""},{"$f":"IF(N9=\"\",\"\",VLOOKUP($H9,記録入力1!$E$191:$O$290,11,FALSE))","v":""},{"$f":"IF(I9=\"\",\"\",VLOOKUP(LEFT(I9,5),初期設定1!$E$18:$F$59,2,FALSE))","v":""},"",{"$f":"VLOOKUP($Q9,記録入力1!$B$4:$I$287,8,FALSE)","v":{"$error":"#N/A"}},{"$f":"IF(J9=\"\",\"\",VLOOKUP(LEFT(J9,5),初期設定1!$E$18:$F$59,2,FALSE))","v":""},"",{"$f":"VLOOKUP($T9,記録入力1!$B$4:$I$287,8,FALSE)","v":{"$error":"#N/A"}},{"$f":"IF(K9=\"\",\"\",VLOOKUP(LEFT(K9,5),初期設定1!$E$18:$F$59,2,FALSE))","v":""},"",{"$f":"VLOOKUP($W9,記録入力1!$B$4:$I$287,8,FALSE)","v":{"$error":"#N/A"}},{"$f":"IF(G9=\"\",\"\",VLOOKUP(VALUE(RIGHT(G9,6)),学校番号!$A$2:$B$51,2))","v":""}]
[8,{"$f":"IF(ISERROR(VLOOKUP($A10,データ作成貼付２!$A$2:$M$280,データ完成!B$1,FALSE))=TRUE,\"\",VLOOKUP($A10,データ作成貼付２!$A$2:$M$280,データ完成!B$1,FALSE))","v":""},{"$f":"IF(ISERROR(VLOOKUP($A10,データ作成貼付２!$A$2:$M$280,データ完成!C$1,FALSE))=TRUE,\"\",VLOOKUP($A10,データ作成貼付２!$A$2:$M$280,データ完成!C$1,FALSE))","v":""},{"$f":"IF(ISERROR(VLOOKUP($A10,データ作成貼付２!$A$2:$M$280,データ完成!D$1,FALSE))=TRUE,\"\",VLOOKUP($A10,データ作成貼付２!$A$2:$M$280,データ完成!D$1,FALSE))","v":""},{"$f":"IF(ISERROR(VLOOKUP($A10,データ作成貼付２!$A$2:$M$280,データ完成!E$1,FALSE))=TRUE,\"\",VLOOKUP($A10,データ作成貼付２!$A$2:$M$280,データ完成!E$1,FALSE))","v":""},{"$f":"IF(ISERROR(VLOOKUP($A10,データ作成貼付２!$A$2:$M$280,データ完成!F$1,FALSE))=TRUE,\"\",VLOOKUP($A10,データ作成貼付２!$A$2:$M$280,データ完成!F$1,FALSE))","v":""},{"$f":"IF(ISERROR(VLOOKUP($A10,データ作成貼付２!$A$2:$M$280,データ完成!G$1,FALSE))=TRUE,\"\",VLOOKUP($A10,データ作成貼付２!$A$2:$M$280,データ完成!G$1,FALSE))","v":""},{"$f":"IF(ISERROR(VLOOKUP($A10,データ作成貼付２!$A$2:$M$280,データ完成!H$1,FALSE))=TRUE,\"\",VLOOKUP($A10,データ作成貼付２!$A$2:$M$280,データ完成!H$1,FALSE))","v":""},{"$f":"IF(ISERROR(VLOOKUP($A10*10+1,データ作成貼付２!$B$2:$M$280,データ完成!I$1,FALSE))=TRUE,\"\",VLOOKUP($A10*10+1,データ作成貼付２!$B$2:$M$280,データ完成!I$1,FALSE))","v":""},{"$f":"IF(ISERROR(VLOOKUP($A10*10+2,データ作成貼付２!$B$2:$M$280,データ完成!J$1,FALSE))=TRUE,\"\",VLOOKUP($A10*10+2,データ作成貼付２!$B$2:$M$280,データ完成!J$1,FALSE))","v":""},{"$f":"IF(ISERROR(VLOOKUP($A10*10+3,データ作成貼付２!$B$2:$M$280,データ完成!K$1,FALSE))=TRUE,\"\",VLOOKUP($A10*10+3,データ作成貼付２!$B$2:$M$280,データ完成!K$1,FALSE))","v":""},{"$f":"IF(ISERROR(VLOOKUP($A10*10+4,データ作成貼付２!$B$2:$M$280,データ完成!L$1,FALSE))=TRUE,\"\",\"○\")","v":""},{"$f":"IF(L10=\"\",\"\",VLOOKUP($H10,記録入力1!$E$161:$O$190,11,FALSE))","v":""},{"$f":"IF(ISERROR(VLOOKUP($A10*10+5,データ作成貼付２!$B$2:$M$280,データ完成!N$1,FALSE))=TRUE,\"\",\"○\")","v":""},{"$f":"IF(N10=\"\",\"\",VLOOKUP($H10,記録入力1!$E$191:$O$290,11,FALSE))","v":""},{"$f":"IF(I10=\"\",\"\",VLOOKUP(LEFT(I10,5),初期設定1!$E$18:$F$59,2,FALSE))","v":""},"",{"$f":"VLOOKUP($Q10,記録入力1!$B$4:$I$287,8,FALSE)","v":{"$error":"#N/A"}},{"$f":"IF(J10=\"\",\"\",VLOOKUP(LEFT(J10,5),初期設定1!$E$18:$F$59,2,FALSE))","v":""},"",{"$f":"VLOOKUP($T10,記録入力1!$B$4:$I$287,8,FALSE)","v":{"$error":"#N/A"}},{"$f":"IF(K10=\"\",\"\",VLOOKUP(LEFT(K10,5),初期設定1!$E$18:$F$59,2,FALSE))","v":""},"",{"$f":"VLOOKUP($W10,記録入力1!$B$4:$I$287,8,FALSE)","v":{"$error":"#N/A"}},{"$f":"IF(G10=\"\",\"\",VLOOKUP(VALUE(RIGHT(G10,6)),学校番号!$A$2:$B$51,2))","v":""}]
[9,{"$f":"IF(ISERROR(VLOOKUP($A11,データ作成貼付２!$A$2:$M$280,データ完成!B$1,FALSE))=TRUE,\"\",VLOOKUP($A11,データ作成貼付２!$A$2:$M$280,データ完成!B$1,FALSE))","v":""},{"$f":"IF(ISERROR(VLOOKUP($A11,データ作成貼付２!$A$2:$M$280,データ完成!C$1,FALSE))=TRUE,\"\",VLOOKUP($A11,データ作成貼付２!$A$2:$M$280,データ完成!C$1,FALSE))","v":""},{"$f":"IF(ISERROR(VLOOKUP($A11,データ作成貼付２!$A$2:$M$280,データ完成!D$1,FALSE))=TRUE,\"\",VLOOKUP($A11,データ作成貼付２!$A$2:$M$280,データ完成!D$1,FALSE))","v":""},{"$f":"IF(ISERROR(VLOOKUP($A11,データ作成貼付２!$A$2:$M$280,データ完成!E$1,FALSE))=TRUE,\"\",VLOOKUP($A11,データ作成貼付２!$A$2:$M$280,データ完成!E$1,FALSE))","v":""},{"$f":"IF(ISERROR(VLOOKUP($A11,データ作成貼付２!$A$2:$M$280,データ完成!F$1,FALSE))=TRUE,\"\",VLOOKUP($A11,データ作成貼付２!$A$2:$M$280,データ完成!F$1,FALSE))","v":""},{"$f":"IF(ISERROR(VLOOKUP($A11,データ作成貼付２!$A$2:$M$280,データ完成!G$1,FALSE))=TRUE,\"\",VLOOKUP($A11,データ作成貼付２!$A$2:$M$280,データ完成!G$1,FALSE))","v":""},{"$f":"IF(ISERROR(VLOOKUP($A11,データ作成貼付２!$A$2:$M$280,データ完成!H$1,FALSE))=TRUE,\"\",VLOOKUP($A11,データ作成貼付２!$A$2:$M$280,データ完成!H$1,FALSE))","v":""},{"$f":"IF(ISERROR(VLOOKUP($A11*10+1,データ作成貼付２!$B$2:$M$280,データ完成!I$1,FALSE))=TRUE,\"\",VLOOKUP($A11*10+1,データ作成貼付２!$B$2:$M$280,データ完成!I$1,FALSE))","v":""},{"$f":"IF(ISERROR(VLOOKUP($A11*10+2,データ作成貼付２!$B$2:$M$280,データ完成!J$1,FALSE))=TRUE,\"\",VLOOKUP($A11*10+2,データ作成貼付２!$B$2:$M$280,データ完成!J$1,FALSE))","v":""},{"$f":"IF(ISERROR(VLOOKUP($A11*10+3,データ作成貼付２!$B$2:$M$280,データ完成!K$1,FALSE))=TRUE,\"\",VLOOKUP($A11*10+3,データ作成貼付２!$B$2:$M$280,データ完成!K$1,FALSE))","v":""},{"$f":"IF(ISERROR(VLOOKUP($A11*10+4,データ作成貼付２!$B$2:$M$280,データ完成!L$1,FALSE))=TRUE,\"\",\"○\")","v":""},{"$f":"IF(L11=\"\",\"\",VLOOKUP($H11,記録入力1!$E$161:$O$190,11,FALSE))","v":""},{"$f":"IF(ISERROR(VLOOKUP($A11*10+5,データ作成貼付２!$B$2:$M$280,データ完成!N$1,FALSE))=TRUE,\"\",\"○\")","v":""},{"$f":"IF(N11=\"\",\"\",VLOOKUP($H11,記録入力1!$E$191:$O$290,11,FALSE))","v":""},{"$f":"IF(I11=\"\",\"\",VLOOKUP(LEFT(I11,5),初期設定1!$E$18:$F$59,2,FALSE))","v":""},"",{"$f":"VLOOKUP($Q11,記録入力1!$B$4:$I$287,8,FALSE)","v":{"$error":"#N/A"}},{"$f":"IF(J11=\"\",\"\",VLOOKUP(LEFT(J11,5),初期設定1!$E$18:$F$59,2,FALSE))","v":""},"",{"$f":"VLOOKUP($T11,記録入力1!$B$4:$I$287,8,FALSE)","v":{"$error":"#N/A"}},{"$f":"IF(K11=\"\",\"\",VLOOKUP(LEFT(K11,5),初期設定1!$E$18:$F$59,2,FALSE))","v":""},"",{"$f":"VLOOKUP($W11,記録入力1!$B$4:$I$287,8,FALSE)","v":{"$error":"#N/A"}},{"$f":"IF(G11=\"\",\"\",VLOOKUP(VALUE(RIGHT(G11,6)),学校番号!$A$2:$B$51,2))","v":""}]
[10,{"$f":"IF(ISERROR(VLOOKUP($A12,データ作成貼付２!$A$2:$M$280,データ完成!B$1,FALSE))=TRUE,\"\",VLOOKUP($A12,データ作成貼付２!$A$2:$M$280,データ完成!B$1,FALSE))","v":""},{"$f":"IF(ISERROR(VLOOKUP($A12,データ作成貼付２!$A$2:$M$280,データ完成!C$1,FALSE))=TRUE,\"\",VLOOKUP($A12,データ作成貼付２!$A$2:$M$280,データ完成!C$1,FALSE))","v":""},{"$f":"IF(ISERROR(VLOOKUP($A12,データ作成貼付２!$A$2:$M$280,データ完成!D$1,FALSE))=TRUE,\"\",VLOOKUP($A12,データ作成貼付２!$A$2:$M$280,データ完成!D$1,FALSE))","v":""},{"$f":"IF(ISERROR(VLOOKUP($A12,データ作成貼付２!$A$2:$M$280,データ完成!E$1,FALSE))=TRUE,\"\",VLOOKUP($A12,データ作成貼付２!$A$2:$M$280,データ完成!E$1,FALSE))","v":""},{"$f":"IF(ISERROR(VLOOKUP($A12,データ作成貼付２!$A$2:$M$280,データ完成!F$1,FALSE))=TRUE,\"\",VLOOKUP($A12,データ作成貼付２!$A$2:$M$280,データ完成!F$1,FALSE))","v":""},{"$f":"IF(ISERROR(VLOOKUP($A12,データ作成貼付２!$A$2:$M$280,データ完成!G$1,FALSE))=TRUE,\"\",VLOOKUP($A12,データ作成貼付２!$A$2:$M$280,データ完成!G$1,FALSE))","v":""},{"$f":"IF(ISERROR(VLOOKUP($A12,データ作成貼付２!$A$2:$M$280,データ完成!H$1,FALSE))=TRUE,\"\",VLOOKUP($A12,データ作成貼付２!$A$2:$M$280,データ完成!H$1,FALSE))","v":""},{"$f":"IF(ISERROR(VLOOKUP($A12*10+1,データ作成貼付２!$B$2:$M$280,データ完成!I$1,FALSE))=TRUE,\"\",VLOOKUP($A12*10+1,データ作成貼付２!$B$2:$M$280,データ完成!I$1,FALSE))","v":""},{"$f":"IF(ISERROR(VLOOKUP($A12*10+2,データ作成貼付２!$B$2:$M$280,データ完成!J$1,FALSE))=TRUE,\"\",VLOOKUP($A12*10+2,データ作成貼付２!$B$2:$M$280,データ完成!J$1,FALSE))","v":""},{"$f":"IF(ISERROR(VLOOKUP($A12*10+3,データ作成貼付２!$B$2:$M$280,データ完成!K$1,FALSE))=TRUE,\"\",VLOOKUP($A12*10+3,データ作成貼付２!$B$2:$M$280,データ完成!K$1,FALSE))","v":""},{"$f":"IF(ISERROR(VLOOKUP($A12*10+4,データ作成貼付２!$B$2:$M$280,データ完成!L$1,FALSE))=TRUE,\"\",\"○\")","v":""},{"$f":"IF(L12=\"\",\"\",VLOOKUP($H12,記録入力1!$E$161:$O$190,11,FALSE))","v":""},{"$f":"IF(ISERROR(VLOOKUP($A12*10+5,データ作成貼付２!$B$2:$M$280,データ完成!N$1,FALSE))=TRUE,\"\",\"○\")","v":""},{"$f":"IF(N12=\"\",\"\",VLOOKUP($H12,記録入力1!$E$191:$O$290,11,FALSE))","v":""},{"$f":"IF(I12=\"\",\"\",VLOOKUP(LEFT(I12,5),初期設定1!$E$18:$F$59,2,FALSE))","v":""},"",{"$f":"VLOOKUP($Q12,記録入力1!$B$4:$I$287,8,FALSE)","v":{"$error":"#N/A"}},{"$f":"IF(J12=\"\",\"\",VLOOKUP(LEFT(J12,5),初期設定1!$E$18:$F$59,2,FALSE))","v":""},"",{"$f":"VLOOKUP($T12,記録入力1!$B$4:$I$287,8,FALSE)","v":{"$error":"#N/A"}},{"$f":"IF(K12=\"\",\"\",VLOOKUP(LEFT(K12,5),初期設定1!$E$18:$F$59,2,FALSE))","v":""},"",{"$f":"VLOOKUP($W12,記録入力1!$B$4:$I$287,8,FALSE)","v":{"$error":"#N/A"}},{"$f":"IF(G12=\"\",\"\",VLOOKUP(VALUE(RIGHT(G12,6)),学校番号!$A$2:$B$51,2))","v":""}]
[11,{"$f":"IF(ISERROR(VLOOKUP($A13,データ作成貼付２!$A$2:$M$280,データ完成!B$1,FALSE))=TRUE,\"\",VLOOKUP($A13,データ作成貼付２!$A$2:$M$280,データ完成!B$1,FALSE))","v":""},{"$f":"IF(ISERROR(VLOOKUP($A13,データ作成貼付２!$A$2:$M$280,データ完成!C$1,FALSE))=TRUE,\"\",VLOOKUP($A13,データ作成貼付２!$A$2:$M$280,データ完成!C$1,FALSE))","v":""},{"$f":"IF(ISERROR(VLOOKUP($A13,データ作成貼付２!$A$2:$M$280,データ完成!D$1,FALSE))=TRUE,\"\",VLOOKUP($A13,データ作成貼付２!$A$2:$M$280,データ完成!D$1,FALSE))","v":""},{"$f":"IF(ISERROR(VLOOKUP($A13,データ作成貼付２!$A$2:$M$280,データ完成!E$1,FALSE))=TRUE,\"\",VLOOKUP($A13,データ作成貼付２!$A$2:$M$280,データ完成!E$1,FALSE))","v":""},{"$f":"IF(ISERROR(VLOOKUP($A13,データ作成貼付２!$A$2:$M$280,データ完成!F$1,FALSE))=TRUE,\"\",VLOOKUP($A13,データ作成貼付２!$A$2:$M$280,データ完成!F$1,FALSE))","v":""},{"$f":"IF(ISERROR(VLOOKUP($A13,データ作成貼付２!$A$2:$M$280,データ完成!G$1,FALSE))=TRUE,\"\",VLOOKUP($A13,データ作成貼付２!$A$2:$M$280,データ完成!G$1,FALSE))","v":""},{"$f":"IF(ISERROR(VLOOKUP($A13,データ作成貼付２!$A$2:$M$280,データ完成!H$1,FALSE))=TRUE,\"\",VLOOKUP($A13,データ作成貼付２!$A$2:$M$280,データ完成!H$1,FALSE))","v":""},{"$f":"IF(ISERROR(VLOOKUP($A13*10+1,データ作成貼付２!$B$2:$M$280,データ完成!I$1,FALSE))=TRUE,\"\",VLOOKUP($A13*10+1,データ作成貼付２!$B$2:$M$280,データ完成!I$1,FALSE))","v":""},{"$f":"IF(ISERROR(VLOOKUP($A13*10+2,データ作成貼付２!$B$2:$M$280,データ完成!J$1,FALSE))=TRUE,\"\",VLOOKUP($A13*10+2,データ作成貼付２!$B$2:$M$280,データ完成!J$1,FALSE))","v":""},{"$f":"IF(ISERROR(VLOOKUP($A13*10+3,データ作成貼付２!$B$2:$M$280,データ完成!K$1,FALSE))=TRUE,\"\",VLOOKUP($A13*10+3,データ作成貼付２!$B$2:$M$280,データ完成!K$1,FALSE))","v":""},{"$f":"IF(ISERROR(VLOOKUP($A13*10+4,データ作成貼付２!$B$2:$M$280,データ完成!L$1,FALSE))=TRUE,\"\",\"○\")","v":""},{"$f":"IF(L13=\"\",\"\",VLOOKUP($H13,記録入力1!$E$161:$O$190,11,FALSE))","v":""},{"$f":"IF(ISERROR(VLOOKUP($A13*10+5,データ作成貼付２!$B$2:$M$280,データ完成!N$1,FALSE))=TRUE,\"\",\"○\")","v":""},{"$f":"IF(N13=\"\",\"\",VLOOKUP($H13,記録入力1!$E$191:$O$290,11,FALSE))","v":""},{"$f":"IF(I13=\"\",\"\",VLOOKUP(LEFT(I13,5),初期設定1!$E$18:$F$59,2,FALSE))","v":""},"",{"$f":"VLOOKUP($Q13,記録入力1!$B$4:$I$287,8,FALSE)","v":{"$error":"#N/A"}},{"$f":"IF(J13=\"\",\"\",VLOOKUP(LEFT(J13,5),初期設定1!$E$18:$F$59,2,FALSE))","v":""},"",{"$f":"VLOOKUP($T13,記録入力1!$B$4:$I$287,8,FALSE)","v":{"$error":"#N/A"}},{"$f":"IF(K13=\"\",\"\",VLOOKUP(LEFT(K13,5),初期設定1!$E$18:$F$59,2,FALSE))","v":""},"",{"$f":"VLOOKUP($W13,記録入力1!$B$4:$I$287,8,FALSE)","v":{"$error":"#N/A"}},{"$f":"IF(G13=\"\",\"\",VLOOKUP(VALUE(RIGHT(G13,6)),学校番号!$A$2:$B$51,2))","v":""}]
[12,{"$f":"IF(ISERROR(VLOOKUP($A14,データ作成貼付２!$A$2:$M$280,データ完成!B$1,FALSE))=TRUE,\"\",VLOOKUP($A14,データ作成貼付２!$A$2:$M$280,データ完成!B$1,FALSE))","v":""},{"$f":"IF(ISERROR(VLOOKUP($A14,データ作成貼付２!$A$2:$M$280,データ完成!C$1,FALSE))=TRUE,\"\",VLOOKUP($A14,データ作成貼付２!$A$2:$M$280,データ完成!C$1,FALSE))","v":""},{"$f":"IF(ISERROR(VLOOKUP($A14,データ作成貼付２!$A$2:$M$280,データ完成!D$1,FALSE))=TRUE,\"\",VLOOKUP($A14,データ作成貼付２!$A$2:$M$280,データ完成!D$1,FALSE))","v":""},{"$f":"IF(ISERROR(VLOOKUP($A14,データ作成貼付２!$A$2:$M$280,データ完成!E$1,FALSE))=TRUE,\"\",VLOOKUP($A14,データ作成貼付２!$A$2:$M$280,データ完成!E$1,FALSE))","v":""},{"$f":"IF(ISERROR(VLOOKUP($A14,データ作成貼付２!$A$2:$M$280,データ完成!F$1,FALSE))=TRUE,\"\",VLOOKUP($A14,データ作成貼付２!$A$2:$M$280,データ完成!F$1,FALSE))","v":""},{"$f":"IF(ISERROR(VLOOKUP($A14,データ作成貼付２!$A$2:$M$280,データ完成!G$1,FALSE))=TRUE,\"\",VLOOKUP($A14,データ作成貼付２!$A$2:$M$280,データ完成!G$1,FALSE))","v":""},{"$f":"IF(ISERROR(VLOOKUP($A14,データ作成貼付２!$A$2:$M$280,データ完成!H$1,FALSE))=TRUE,\"\",VLOOKUP($A14,データ作成貼付２!$A$2:$M$280,データ完成!H$1,FALSE))","v":""},{"$f":"IF(ISERROR(VLOOKUP($A14*10+1,データ作成貼付２!$B$2:$M$280,データ完成!I$1,FALSE))=TRUE,\"\",VLOOKUP($A14*10+1,データ作成貼付２!$B$2:$M$280,データ完成!I$1,FALSE))","v":""},{"$f":"IF(ISERROR(VLOOKUP($A14*10+2,データ作成貼付２!$B$2:$M$280,データ完成!J$1,FALSE))=TRUE,\"\",VLOOKUP($A14*10+2,データ作成貼付２!$B$2:$M$280,データ完成!J$1,FALSE))","v":""},{"$f":"IF(ISERROR(VLOOKUP($A14*10+3,データ作成貼付２!$B$2:$M$280,データ完成!K$1,FALSE))=TRUE,\"\",VLOOKUP($A14*10+3,データ作成貼付２!$B$2:$M$280,データ完成!K$1,FALSE))","v":""},{"$f":"IF(ISERROR(VLOOKUP($A14*10+4,データ作成貼付２!$B$2:$M$280,データ完成!L$1,FALSE))=TRUE,\"\",\"○\")","v":""},{"$f":"IF(L14=\"\",\"\",VLOOKUP($H14,記録入力1!$E$161:$O$190,11,FALSE))","v":""},{"$f":"IF(ISERROR(VLOOKUP($A14*10+5,データ作成貼付２!$B$2:$M$280,データ完成!N$1,FALSE))=TRUE,\"\",\"○\")","v":""},{"$f":"IF(N14=\"\",\"\",VLOOKUP($H14,記録入力1!$E$191:$O$290,11,FALSE))","v":""},{"$f":"IF(I14=\"\",\"\",VLOOKUP(LEFT(I14,5),初期設定1!$E$18:$F$59,2,FALSE))","v":""},"",{"$f":"VLOOKUP($Q14,記録入力1!$B$4:$I$287,8,FALSE)","v":{"$error":"#N/A"}},{"$f":"IF(J14=\"\",\"\",VLOOKUP(LEFT(J14,5),初期設定1!$E$18:$F$59,2,FALSE))","v":""},"",{"$f":"VLOOKUP($T14,記録入力1!$B$4:$I$287,8,FALSE)","v":{"$error":"#N/A"}},{"$f":"IF(K14=\"\",\"\",VLOOKUP(LEFT(K14,5),初期設定1!$E$18:$F$59,2,FALSE))","v":""},"",{"$f":"VLOOKUP($W14,記録入力1!$B$4:$I$287,8,FALSE)","v":{"$error":"#N/A"}},{"$f":"IF(G14=\"\",\"\",VLOOKUP(VALUE(RIGHT(G14,6)),学校番号!$A$2:$B$51,2))","v":""}]
[13,{"$f":"IF(ISERROR(VLOOKUP($A15,データ作成貼付２!$A$2:$M$280,データ完成!B$1,FALSE))=TRUE,\"\",VLOOKUP($A15,データ作成貼付２!$A$2:$M$280,データ完成!B$1,FALSE))","v":""},{"$f":"IF(ISERROR(VLOOKUP($A15,データ作成貼付２!$A$2:$M$280,データ完成!C$1,FALSE))=TRUE,\"\",VLOOKUP($A15,データ作成貼付２!$A$2:$M$280,データ完成!C$1,FALSE))","v":""},{"$f":"IF(ISERROR(VLOOKUP($A15,データ作成貼付２!$A$2:$M$280,データ完成!D$1,FALSE))=TRUE,\"\",VLOOKUP($A15,データ作成貼付２!$A$2:$M$280,データ完成!D$1,FALSE))","v":""},{"$f":"IF(ISERROR(VLOOKUP($A15,データ作成貼付２!$A$2:$M$280,データ完成!E$1,FALSE))=TRUE,\"\",VLOOKUP($A15,データ作成貼付２!$A$2:$M$280,データ完成!E$1,FALSE))","v":""},{"$f":"IF(ISERROR(VLOOKUP($A15,データ作成貼付２!$A$2:$M$280,データ完成!F$1,FALSE))=TRUE,\"\",VLOOKUP($A15,データ作成貼付２!$A$2:$M$280,データ完成!F$1,FALSE))","v":""},{"$f":"IF(ISERROR(VLOOKUP($A15,データ作成貼付２!$A$2:$M$280,データ完成!G$1,FALSE))=TRUE,\"\",VLOOKUP($A15,データ作成貼付２!$A$2:$M$280,データ完成!G$1,FALSE))","v":""},{"$f":"IF(ISERROR(VLOOKUP($A15,データ作成貼付２!$A$2:$M$280,データ完成!H$1,FALSE))=TRUE,\"\",VLOOKUP($A15,データ作成貼付２!$A$2:$M$280,データ完成!H$1,FALSE))","v":""},{"$f":"IF(ISERROR(VLOOKUP($A15*10+1,データ作成貼付２!$B$2:$M$280,データ完成!I$1,FALSE))=TRUE,\"\",VLOOKUP($A15*10+1,データ作成貼付２!$B$2:$M$280,データ完成!I$1,FALSE))","v":""},{"$f":"IF(ISERROR(VLOOKUP($A15*10+2,データ作成貼付２!$B$2:$M$280,データ完成!J$1,FALSE))=TRUE,\"\",VLOOKUP($A15*10+2,データ作成貼付２!$B$2:$M$280,データ完成!J$1,FALSE))","v":""},{"$f":"IF(ISERROR(VLOOKUP($A15*10+3,データ作成貼付２!$B$2:$M$280,データ完成!K$1,FALSE))=TRUE,\"\",VLOOKUP($A15*10+3,データ作成貼付２!$B$2:$M$280,データ完成!K$1,FALSE))","v":""},{"$f":"IF(ISERROR(VLOOKUP($A15*10+4,データ作成貼付２!$B$2:$M$280,データ完成!L$1,FALSE))=TRUE,\"\",\"○\")","v":""},{"$f":"IF(L15=\"\",\"\",VLOOKUP($H15,記録入力1!$E$161:$O$190,11,FALSE))","v":""},{"$f":"IF(ISERROR(VLOOKUP($A15*10+5,データ作成貼付２!$B$2:$M$280,データ完成!N$1,FALSE))=TRUE,\"\",\"○\")","v":""},{"$f":"IF(N15=\"\",\"\",VLOOKUP($H15,記録入力1!$E$191:$O$290,11,FALSE))","v":""},{"$f":"IF(I15=\"\",\"\",VLOOKUP(LEFT(I15,5),初期設定1!$E$18:$F$59,2,FALSE))","v":""},"",{"$f":"VLOOKUP($Q15,記録入力1!$B$4:$I$287,8,FALSE)","v":{"$error":"#N/A"}},{"$f":"IF(J15=\"\",\"\",VLOOKUP(LEFT(J15,5),初期設定1!$E$18:$F$59,2,FALSE))","v":""},"",{"$f":"VLOOKUP($T15,記録入力1!$B$4:$I$287,8,FALSE)","v":{"$error":"#N/A"}},{"$f":"IF(K15=\"\",\"\",VLOOKUP(LEFT(K15,5),初期設定1!$E$18:$F$59,2,FALSE))","v":""},"",{"$f":"VLOOKUP($W15,記録入力1!$B$4:$I$287,8,FALSE)","v":{"$error":"#N/A"}},{"$f":"IF(G15=\"\",\"\",VLOOKUP(VALUE(RIGHT(G15,6)),学校番号!$A$2:$B$51,2))","v":""}]
[14,{"$f":"IF(ISERROR(VLOOKUP($A16,データ作成貼付２!$A$2:$M$280,データ完成!B$1,FALSE))=TRUE,\"\",VLOOKUP($A16,データ作成貼付２!$A$2:$M$280,データ完成!B$1,FALSE))","v":""},{"$f":"IF(ISERROR(VLOOKUP($A16,データ作成貼付２!$A$2:$M$280,データ完成!C$1,FALSE))=TRUE,\"\",VLOOKUP($A16,データ作成貼付２!$A$2:$M$280,データ完成!C$1,FALSE))","v":""},{"$f":"IF(ISERROR(VLOOKUP($A16,データ作成貼付２!$A$2:$M$280,データ完成!D$1,FALSE))=TRUE,\"\",VLOOKUP($A16,データ作成貼付２!$A$2:$M$280,データ完成!D$1,FALSE))","v":""},{"$f":"IF(ISERROR(VLOOKUP($A16,データ作成貼付２!$A$2:$M$280,データ完成!E$1,FALSE))=TRUE,\"\",VLOOKUP($A16,データ作成貼付２!$A$2:$M$280,データ完成!E$1,FALSE))","v":""},{"$f":"IF(ISERROR(VLOOKUP($A16,データ作成貼付２!$A$2:$M$280,データ完成!F$1,FALSE))=TRUE,\"\",VLOOKUP($A16,データ作成貼付２!$A$2:$M$280,データ完成!F$1,FALSE))","v":""},{"$f":"IF(ISERROR(VLOOKUP($A16,データ作成貼付２!$A$2:$M$280,データ完成!G$1,FALSE))=TRUE,\"\",VLOOKUP($A16,データ作成貼付２!$A$2:$M$280,データ完成!G$1,FALSE))","v":""},{"$f":"IF(ISERROR(VLOOKUP($A16,データ作成貼付２!$A$2:$M$280,データ完成!H$1,FALSE))=TRUE,\"\",VLOOKUP($A16,データ作成貼付２!$A$2:$M$280,データ完成!H$1,FALSE))","v":""},{"$f":"IF(ISERROR(VLOOKUP($A16*10+1,データ作成貼付２!$B$2:$M$280,データ完成!I$1,FALSE))=TRUE,\"\",VLOOKUP($A16*10+1,データ作成貼付２!$B$2:$M$280,データ完成!I$1,FALSE))","v":""},{"$f":"IF(ISERROR(VLOOKUP($A16*10+2,データ作成貼付２!$B$2:$M$280,データ完成!J$1,FALSE))=TRUE,\"\",VLOOKUP($A16*10+2,データ作成貼付２!$B$2:$M$280,データ完成!J$1,FALSE))","v":""},{"$f":"IF(ISERROR(VLOOKUP($A16*10+3,データ作成貼付２!$B$2:$M$280,データ完成!K$1,FALSE))=TRUE,\"\",VLOOKUP($A16*10+3,データ作成貼付２!$B$2:$M$280,データ完成!K$1,FALSE))","v":""},{"$f":"IF(ISERROR(VLOOKUP($A16*10+4,データ作成貼付２!$B$2:$M$280,データ完成!L$1,FALSE))=TRUE,\"\",\"○\")","v":""},{"$f":"IF(L16=\"\",\"\",VLOOKUP($H16,記録入力1!$E$161:$O$190,11,FALSE))","v":""},{"$f":"IF(ISERROR(VLOOKUP($A16*10+5,データ作成貼付２!$B$2:$M$280,データ完成!N$1,FALSE))=TRUE,\"\",\"○\")","v":""},{"$f":"IF(N16=\"\",\"\",VLOOKUP($H16,記録入力1!$E$191:$O$290,11,FALSE))","v":""},{"$f":"IF(I16=\"\",\"\",VLOOKUP(LEFT(I16,5),初期設定1!$E$18:$F$59,2,FALSE))","v":""},"",{"$f":"VLOOKUP($Q16,記録入力1!$B$4:$I$287,8,FALSE)","v":{"$error":"#N/A"}},{"$f":"IF(J16=\"\",\"\",VLOOKUP(LEFT(J16,5),初期設定1!$E$18:$F$59,2,FALSE))","v":""},"",{"$f":"VLOOKUP($T16,記録入力1!$B$4:$I$287,8,FALSE)","v":{"$error":"#N/A"}},{"$f":"IF(K16=\"\",\"\",VLOOKUP(LEFT(K16,5),初期設定1!$E$18:$F$59,2,FALSE))","v":""},"",{"$f":"VLOOKUP($W16,記録入力1!$B$4:$I$287,8,FALSE)","v":{"$error":"#N/A"}},{"$f":"IF(G16=\"\",\"\",VLOOKUP(VALUE(RIGHT(G16,6)),学校番号!$A$2:$B$51,2))","v":""}]
[15,{"$f":"IF(ISERROR(VLOOKUP($A17,データ作成貼付２!$A$2:$M$280,データ完成!B$1,FALSE))=TRUE,\"\",VLOOKUP($A17,データ作成貼付２!$A$2:$M$280,データ完成!B$1,FALSE))","v":""},{"$f":"IF(ISERROR(VLOOKUP($A17,データ作成貼付２!$A$2:$M$280,データ完成!C$1,FALSE))=TRUE,\"\",VLOOKUP($A17,データ作成貼付２!$A$2:$M$280,データ完成!C$1,FALSE))","v":""},{"$f":"IF(ISERROR(VLOOKUP($A17,データ作成貼付２!$A$2:$M$280,データ完成!D$1,FALSE))=TRUE,\"\",VLOOKUP($A17,データ作成貼付２!$A$2:$M$280,データ完成!D$1,FALSE))","v":""},{"$f":"IF(ISERROR(VLOOKUP($A17,データ作成貼付２!$A$2:$M$280,データ完成!E$1,FALSE))=TRUE,\"\",VLOOKUP($A17,データ作成貼付２!$A$2:$M$280,データ完成!E$1,FALSE))","v":""},{"$f":"IF(ISERROR(VLOOKUP($A17,データ作成貼付２!$A$2:$M$280,データ完成!F$1,FALSE))=TRUE,\"\",VLOOKUP($A17,データ作成貼付２!$A$2:$M$280,データ完成!F$1,FALSE))","v":""},{"$f":"IF(ISERROR(VLOOKUP($A17,データ作成貼付２!$A$2:$M$280,データ完成!G$1,FALSE))=TRUE,\"\",VLOOKUP($A17,データ作成貼付２!$A$2:$M$280,データ完成!G$1,FALSE))","v":""},{"$f":"IF(ISERROR(VLOOKUP($A17,データ作成貼付２!$A$2:$M$280,データ完成!H$1,FALSE))=TRUE,\"\",VLOOKUP($A17,データ作成貼付２!$A$2:$M$280,データ完成!H$1,FALSE))","v":""},{"$f":"IF(ISERROR(VLOOKUP($A17*10+1,データ作成貼付２!$B$2:$M$280,データ完成!I$1,FALSE))=TRUE,\"\",VLOOKUP($A17*10+1,データ作成貼付２!$B$2:$M$280,データ完成!I$1,FALSE))","v":""},{"$f":"IF(ISERROR(VLOOKUP($A17*10+2,データ作成貼付２!$B$2:$M$280,データ完成!J$1,FALSE))=TRUE,\"\",VLOOKUP($A17*10+2,データ作成貼付２!$B$2:$M$280,データ完成!J$1,FALSE))","v":""},{"$f":"IF(ISERROR(VLOOKUP($A17*10+3,データ作成貼付２!$B$2:$M$280,データ完成!K$1,FALSE))=TRUE,\"\",VLOOKUP($A17*10+3,データ作成貼付２!$B$2:$M$280,データ完成!K$1,FALSE))","v":""},{"$f":"IF(ISERROR(VLOOKUP($A17*10+4,データ作成貼付２!$B$2:$M$280,データ完成!L$1,FALSE))=TRUE,\"\",\"○\")","v":""},{"$f":"IF(L17=\"\",\"\",VLOOKUP($H17,記録入力1!$E$161:$O$190,11,FALSE))","v":""},{"$f":"IF(ISERROR(VLOOKUP($A17*10+5,データ作成貼付２!$B$2:$M$280,データ完成!N$1,FALSE))=TRUE,\"\",\"○\")","v":""},{"$f":"IF(N17=\"\",\"\",VLOOKUP($H17,記録入力1!$E$191:$O$290,11,FALSE))","v":""},{"$f":"IF(I17=\"\",\"\",VLOOKUP(LEFT(I17,5),初期設定1!$E$18:$F$59,2,FALSE))","v":""},"",{"$f":"VLOOKUP($Q17,記録入力1!$B$4:$I$287,8,FALSE)","v":{"$error":"#N/A"}},{"$f":"IF(J17=\"\",\"\",VLOOKUP(LEFT(J17,5),初期設定1!$E$18:$F$59,2,FALSE))","v":""},"",{"$f":"VLOOKUP($T17,記録入力1!$B$4:$I$287,8,FALSE)","v":{"$error":"#N/A"}},{"$f":"IF(K17=\"\",\"\",VLOOKUP(LEFT(K17,5),初期設定1!$E$18:$F$59,2,FALSE))","v":""},"",{"$f":"VLOOKUP($W17,記録入力1!$B$4:$I$287,8,FALSE)","v":{"$error":"#N/A"}},{"$f":"IF(G17=\"\",\"\",VLOOKUP(VALUE(RIGHT(G17,6)),学校番号!$A$2:$B$51,2))","v":""}]
[16,{"$f":"IF(ISERROR(VLOOKUP($A18,データ作成貼付２!$A$2:$M$280,データ完成!B$1,FALSE))=TRUE,\"\",VLOOKUP($A18,データ作成貼付２!$A$2:$M$280,データ完成!B$1,FALSE))","v":""},{"$f":"IF(ISERROR(VLOOKUP($A18,データ作成貼付２!$A$2:$M$280,データ完成!C$1,FALSE))=TRUE,\"\",VLOOKUP($A18,データ作成貼付２!$A$2:$M$280,データ完成!C$1,FALSE))","v":""},{"$f":"IF(ISERROR(VLOOKUP($A18,データ作成貼付２!$A$2:$M$280,データ完成!D$1,FALSE))=TRUE,\"\",VLOOKUP($A18,データ作成貼付２!$A$2:$M$280,データ完成!D$1,FALSE))","v":""},{"$f":"IF(ISERROR(VLOOKUP($A18,データ作成貼付２!$A$2:$M$280,データ完成!E$1,FALSE))=TRUE,\"\",VLOOKUP($A18,データ作成貼付２!$A$2:$M$280,データ完成!E$1,FALSE))","v":""},{"$f":"IF(ISERROR(VLOOKUP($A18,データ作成貼付２!$A$2:$M$280,データ完成!F$1,FALSE))=TRUE,\"\",VLOOKUP($A18,データ作成貼付２!$A$2:$M$280,データ完成!F$1,FALSE))","v":""},{"$f":"IF(ISERROR(VLOOKUP($A18,データ作成貼付２!$A$2:$M$280,データ完成!G$1,FALSE))=TRUE,\"\",VLOOKUP($A18,データ作成貼付２!$A$2:$M$280,データ完成!G$1,FALSE))","v":""},{"$f":"IF(ISERROR(VLOOKUP($A18,データ作成貼付２!$A$2:$M$280,データ完成!H$1,FALSE))=TRUE,\"\",VLOOKUP($A18,データ作成貼付２!$A$2:$M$280,データ完成!H$1,FALSE))","v":""},{"$f":"IF(ISERROR(VLOOKUP($A18*10+1,データ作成貼付２!$B$2:$M$280,データ完成!I$1,FALSE))=TRUE,\"\",VLOOKUP($A18*10+1,データ作成貼付２!$B$2:$M$280,データ完成!I$1,FALSE))","v":""},{"$f":"IF(ISERROR(VLOOKUP($A18*10+2,データ作成貼付２!$B$2:$M$280,データ完成!J$1,FALSE))=TRUE,\"\",VLOOKUP($A18*10+2,データ作成貼付２!$B$2:$M$280,データ完成!J$1,FALSE))","v":""},{"$f":"IF(ISERROR(VLOOKUP($A18*10+3,データ作成貼付２!$B$2:$M$280,データ完成!K$1,FALSE))=TRUE,\"\",VLOOKUP($A18*10+3,データ作成貼付２!$B$2:$M$280,データ完成!K$1,FALSE))","v":""},{"$f":"IF(ISERROR(VLOOKUP($A18*10+4,データ作成貼付２!$B$2:$M$280,データ完成!L$1,FALSE))=TRUE,\"\",\"○\")","v":""},{"$f":"IF(L18=\"\",\"\",VLOOKUP($H18,記録入力1!$E$161:$O$190,11,FALSE))","v":""},{"$f":"IF(ISERROR(VLOOKUP($A18*10+5,データ作成貼付２!$B$2:$M$280,データ完成!N$1,FALSE))=TRUE,\"\",\"○\")","v":""},{"$f":"IF(N18=\"\",\"\",VLOOKUP($H18,記録入力1!$E$191:$O$290,11,FALSE))","v":""},{"$f":"IF(I18=\"\",\"\",VLOOKUP(LEFT(I18,5),初期設定1!$E$18:$F$59,2,FALSE))","v":""},"",{"$f":"VLOOKUP($Q18,記録入力1!$B$4:$I$287,8,FALSE)","v":{"$error":"#N/A"}},{"$f":"IF(J18=\"\",\"\",VLOOKUP(LEFT(J18,5),初期設定1!$E$18:$F$59,2,FALSE))","v":""},"",{"$f":"VLOOKUP($T18,記録入力1!$B$4:$I$287,8,FALSE)","v":{"$error":"#N/A"}},{"$f":"IF(K18=\"\",\"\",VLOOKUP(LEFT(K18,5),初期設定1!$E$18:$F$59,2,FALSE))","v":""},"",{"$f":"VLOOKUP($W18,記録入力1!$B$4:$I$287,8,FALSE)","v":{"$error":"#N/A"}},{"$f":"IF(G18=\"\",\"\",VLOOKUP(VALUE(RIGHT(G18,6)),学校番号!$A$2:$B$51,2))","v":""}]
[17,{"$f":"IF(ISERROR(VLOOKUP($A19,データ作成貼付２!$A$2:$M$280,データ完成!B$1,FALSE))=TRUE,\"\",VLOOKUP($A19,データ作成貼付２!$A$2:$M$280,データ完成!B$1,FALSE))","v":""},{"$f":"IF(ISERROR(VLOOKUP($A19,データ作成貼付２!$A$2:$M$280,データ完成!C$1,FALSE))=TRUE,\"\",VLOOKUP($A19,データ作成貼付２!$A$2:$M$280,データ完成!C$1,FALSE))","v":""},{"$f":"IF(ISERROR(VLOOKUP($A19,データ作成貼付２!$A$2:$M$280,データ完成!D$1,FALSE))=TRUE,\"\",VLOOKUP($A19,データ作成貼付２!$A$2:$M$280,データ完成!D$1,FALSE))","v":""},{"$f":"IF(ISERROR(VLOOKUP($A19,データ作成貼付２!$A$2:$M$280,データ完成!E$1,FALSE))=TRUE,\"\",VLOOKUP($A19,データ作成貼付２!$A$2:$M$280,データ完成!E$1,FALSE))","v":""},{"$f":"IF(ISERROR(VLOOKUP($A19,データ作成貼付２!$A$2:$M$280,データ完成!F$1,FALSE))=TRUE,\"\",VLOOKUP($A19,データ作成貼付２!$A$2:$M$280,データ完成!F$1,FALSE))","v":""},{"$f":"IF(ISERROR(VLOOKUP($A19,データ作成貼付２!$A$2:$M$280,データ完成!G$1,FALSE))=TRUE,\"\",VLOOKUP($A19,データ作成貼付２!$A$2:$M$280,データ完成!G$1,FALSE))","v":""},{"$f":"IF(ISERROR(VLOOKUP($A19,データ作成貼付２!$A$2:$M$280,データ完成!H$1,FALSE))=TRUE,\"\",VLOOKUP($A19,データ作成貼付２!$A$2:$M$280,データ完成!H$1,FALSE))","v":""},{"$f":"IF(ISERROR(VLOOKUP($A19*10+1,データ作成貼付２!$B$2:$M$280,データ完成!I$1,FALSE))=TRUE,\"\",VLOOKUP($A19*10+1,データ作成貼付２!$B$2:$M$280,データ完成!I$1,FALSE))","v":""},{"$f":"IF(ISERROR(VLOOKUP($A19*10+2,データ作成貼付２!$B$2:$M$280,データ完成!J$1,FALSE))=TRUE,\"\",VLOOKUP($A19*10+2,データ作成貼付２!$B$2:$M$280,データ完成!J$1,FALSE))","v":""},{"$f":"IF(ISERROR(VLOOKUP($A19*10+3,データ作成貼付２!$B$2:$M$280,データ完成!K$1,FALSE))=TRUE,\"\",VLOOKUP($A19*10+3,データ作成貼付２!$B$2:$M$280,データ完成!K$1,FALSE))","v":""},{"$f":"IF(ISERROR(VLOOKUP($A19*10+4,データ作成貼付２!$B$2:$M$280,データ完成!L$1,FALSE))=TRUE,\"\",\"○\")","v":""},{"$f":"IF(L19=\"\",\"\",VLOOKUP($H19,記録入力1!$E$161:$O$190,11,FALSE))","v":""},{"$f":"IF(ISERROR(VLOOKUP($A19*10+5,データ作成貼付２!$B$2:$M$280,データ完成!N$1,FALSE))=TRUE,\"\",\"○\")","v":""},{"$f":"IF(N19=\"\",\"\",VLOOKUP($H19,記録入力1!$E$191:$O$290,11,FALSE))","v":""},{"$f":"IF(I19=\"\",\"\",VLOOKUP(LEFT(I19,5),初期設定1!$E$18:$F$59,2,FALSE))","v":""},"",{"$f":"VLOOKUP($Q19,記録入力1!$B$4:$I$287,8,FALSE)","v":{"$error":"#N/A"}},{"$f":"IF(J19=\"\",\"\",VLOOKUP(LEFT(J19,5),初期設定1!$E$18:$F$59,2,FALSE))","v":""},"",{"$f":"VLOOKUP($T19,記録入力1!$B$4:$I$287,8,FALSE)","v":{"$error":"#N/A"}},{"$f":"IF(K19=\"\",\"\",VLOOKUP(LEFT(K19,5),初期設定1!$E$18:$F$59,2,FALSE))","v":""},"",{"$f":"VLOOKUP($W19,記録入力1!$B$4:$I$287,8,FALSE)","v":{"$error":"#N/A"}},{"$f":"IF(G19=\"\",\"\",VLOOKUP(VALUE(RIGHT(G19,6)),学校番号!$A$2:$B$51,2))","v":""}]
[18,{"$f":"IF(ISERROR(VLOOKUP($A20,データ作成貼付２!$A$2:$M$280,データ完成!B$1,FALSE))=TRUE,\"\",VLOOKUP($A20,データ作成貼付２!$A$2:$M$280,データ完成!B$1,FALSE))","v":""},{"$f":"IF(ISERROR(VLOOKUP($A20,データ作成貼付２!$A$2:$M$280,データ完成!C$1,FALSE))=TRUE,\"\",VLOOKUP($A20,データ作成貼付２!$A$2:$M$280,データ完成!C$1,FALSE))","v":""},{"$f":"IF(ISERROR(VLOOKUP($A20,データ作成貼付２!$A$2:$M$280,データ完成!D$1,FALSE))=TRUE,\"\",VLOOKUP($A20,データ作成貼付２!$A$2:$M$280,データ完成!D$1,FALSE))","v":""},{"$f":"IF(ISERROR(VLOOKUP($A20,データ作成貼付２!$A$2:$M$280,データ完成!E$1,FALSE))=TRUE,\"\",VLOOKUP($A20,データ作成貼付２!$A$2:$M$280,データ完成!E$1,FALSE))","v":""},{"$f":"IF(ISERROR(VLOOKUP($A20,データ作成貼付２!$A$2:$M$280,データ完成!F$1,FALSE))=TRUE,\"\",VLOOKUP($A20,データ作成貼付２!$A$2:$M$280,データ完成!F$1,FALSE))","v":""},{"$f":"IF(ISERROR(VLOOKUP($A20,データ作成貼付２!$A$2:$M$280,データ完成!G$1,FALSE))=TRUE,\"\",VLOOKUP($A20,データ作成貼付２!$A$2:$M$280,データ完成!G$1,FALSE))","v":""},{"$f":"IF(ISERROR(VLOOKUP($A20,データ作成貼付２!$A$2:$M$280,データ完成!H$1,FALSE))=TRUE,\"\",VLOOKUP($A20,データ作成貼付２!$A$2:$M$280,データ完成!H$1,FALSE))","v":""},{"$f":"IF(ISERROR(VLOOKUP($A20*10+1,データ作成貼付２!$B$2:$M$280,データ完成!I$1,FALSE))=TRUE,\"\",VLOOKUP($A20*10+1,データ作成貼付２!$B$2:$M$280,データ完成!I$1,FALSE))","v":""},{"$f":"IF(ISERROR(VLOOKUP($A20*10+2,データ作成貼付２!$B$2:$M$280,データ完成!J$1,FALSE))=TRUE,\"\",VLOOKUP($A20*10+2,データ作成貼付２!$B$2:$M$280,データ完成!J$1,FALSE))","v":""},{"$f":"IF(ISERROR(VLOOKUP($A20*10+3,データ作成貼付２!$B$2:$M$280,データ完成!K$1,FALSE))=TRUE,\"\",VLOOKUP($A20*10+3,データ作成貼付２!$B$2:$M$280,データ完成!K$1,FALSE))","v":""},{"$f":"IF(ISERROR(VLOOKUP($A20*10+4,データ作成貼付２!$B$2:$M$280,データ完成!L$1,FALSE))=TRUE,\"\",\"○\")","v":""},{"$f":"IF(L20=\"\",\"\",VLOOKUP($H20,記録入力1!$E$161:$O$190,11,FALSE))","v":""},{"$f":"IF(ISERROR(VLOOKUP($A20*10+5,データ作成貼付２!$B$2:$M$280,データ完成!N$1,FALSE))=TRUE,\"\",\"○\")","v":""},{"$f":"IF(N20=\"\",\"\",VLOOKUP($H20,記録入力1!$E$191:$O$290,11,FALSE))","v":""},{"$f":"IF(I20=\"\",\"\",VLOOKUP(LEFT(I20,5),初期設定1!$E$18:$F$59,2,FALSE))","v":""},"",{"$f":"VLOOKUP($Q20,記録入力1!$B$4:$I$287,8,FALSE)","v":{"$error":"#N/A"}},{"$f":"IF(J20=\"\",\"\",VLOOKUP(LEFT(J20,5),初期設定1!$E$18:$F$59,2,FALSE))","v":""},"",{"$f":"VLOOKUP($T20,記録入力1!$B$4:$I$287,8,FALSE)","v":{"$error":"#N/A"}},{"$f":"IF(K20=\"\",\"\",VLOOKUP(LEFT(K20,5),初期設定1!$E$18:$F$59,2,FALSE))","v":""},"",{"$f":"VLOOKUP($W20,記録入力1!$B$4:$I$287,8,FALSE)","v":{"$error":"#N/A"}},{"$f":"IF(G20=\"\",\"\",VLOOKUP(VALUE(RIGHT(G20,6)),学校番号!$A$2:$B$51,2))","v":""}]
[19,{"$f":"IF(ISERROR(VLOOKUP($A21,データ作成貼付２!$A$2:$M$280,データ完成!B$1,FALSE))=TRUE,\"\",VLOOKUP($A21,データ作成貼付２!$A$2:$M$280,データ完成!B$1,FALSE))","v":""},{"$f":"IF(ISERROR(VLOOKUP($A21,データ作成貼付２!$A$2:$M$280,データ完成!C$1,FALSE))=TRUE,\"\",VLOOKUP($A21,データ作成貼付２!$A$2:$M$280,データ完成!C$1,FALSE))","v":""},{"$f":"IF(ISERROR(VLOOKUP($A21,データ作成貼付２!$A$2:$M$280,データ完成!D$1,FALSE))=TRUE,\"\",VLOOKUP($A21,データ作成貼付２!$A$2:$M$280,データ完成!D$1,FALSE))","v":""},{"$f":"IF(ISERROR(VLOOKUP($A21,データ作成貼付２!$A$2:$M$280,データ完成!E$1,FALSE))=TRUE,\"\",VLOOKUP($A21,データ作成貼付２!$A$2:$M$280,データ完成!E$1,FALSE))","v":""},{"$f":"IF(ISERROR(VLOOKUP($A21,データ作成貼付２!$A$2:$M$280,データ完成!F$1,FALSE))=TRUE,\"\",VLOOKUP($A21,データ作成貼付２!$A$2:$M$280,データ完成!F$1,FALSE))","v":""},{"$f":"IF(ISERROR(VLOOKUP($A21,データ作成貼付２!$A$2:$M$280,データ完成!G$1,FALSE))=TRUE,\"\",VLOOKUP($A21,データ作成貼付２!$A$2:$M$280,データ完成!G$1,FALSE))","v":""},{"$f":"IF(ISERROR(VLOOKUP($A21,データ作成貼付２!$A$2:$M$280,データ完成!H$1,FALSE))=TRUE,\"\",VLOOKUP($A21,データ作成貼付２!$A$2:$M$280,データ完成!H$1,FALSE))","v":""},{"$f":"IF(ISERROR(VLOOKUP($A21*10+1,データ作成貼付２!$B$2:$M$280,データ完成!I$1,FALSE))=TRUE,\"\",VLOOKUP($A21*10+1,データ作成貼付２!$B$2:$M$280,データ完成!I$1,FALSE))","v":""},{"$f":"IF(ISERROR(VLOOKUP($A21*10+2,データ作成貼付２!$B$2:$M$280,データ完成!J$1,FALSE))=TRUE,\"\",VLOOKUP($A21*10+2,データ作成貼付２!$B$2:$M$280,データ完成!J$1,FALSE))","v":""},{"$f":"IF(ISERROR(VLOOKUP($A21*10+3,データ作成貼付２!$B$2:$M$280,データ完成!K$1,FALSE))=TRUE,\"\",VLOOKUP($A21*10+3,データ作成貼付２!$B$2:$M$280,データ完成!K$1,FALSE))","v":""},{"$f":"IF(ISERROR(VLOOKUP($A21*10+4,データ作成貼付２!$B$2:$M$280,データ完成!L$1,FALSE))=TRUE,\"\",\"○\")","v":""},{"$f":"IF(L21=\"\",\"\",VLOOKUP($H21,記録入力1!$E$161:$O$190,11,FALSE))","v":""},{"$f":"IF(ISERROR(VLOOKUP($A21*10+5,データ作成貼付２!$B$2:$M$280,データ完成!N$1,FALSE))=TRUE,\"\",\"○\")","v":""},{"$f":"IF(N21=\"\",\"\",VLOOKUP($H21,記録入力1!$E$191:$O$290,11,FALSE))","v":""},{"$f":"IF(I21=\"\",\"\",VLOOKUP(LEFT(I21,5),初期設定1!$E$18:$F$59,2,FALSE))","v":""},"",{"$f":"VLOOKUP($Q21,記録入力1!$B$4:$I$287,8,FALSE)","v":{"$error":"#N/A"}},{"$f":"IF(J21=\"\",\"\",VLOOKUP(LEFT(J21,5),初期設定1!$E$18:$F$59,2,FALSE))","v":""},"",{"$f":"VLOOKUP($T21,記録入力1!$B$4:$I$287,8,FALSE)","v":{"$error":"#N/A"}},{"$f":"IF(K21=\"\",\"\",VLOOKUP(LEFT(K21,5),初期設定1!$E$18:$F$59,2,FALSE))","v":""},"",{"$f":"VLOOKUP($W21,記録入力1!$B$4:$I$287,8,FALSE)","v":{"$error":"#N/A"}},{"$f":"IF(G21=\"\",\"\",VLOOKUP(VALUE(RIGHT(G21,6)),学校番号!$A$2:$B$51,2))","v":""}]
[20,{"$f":"IF(ISERROR(VLOOKUP($A22,データ作成貼付２!$A$2:$M$280,データ完成!B$1,FALSE))=TRUE,\"\",VLOOKUP($A22,データ作成貼付２!$A$2:$M$280,データ完成!B$1,FALSE))","v":""},{"$f":"IF(ISERROR(VLOOKUP($A22,データ作成貼付２!$A$2:$M$280,データ完成!C$1,FALSE))=TRUE,\"\",VLOOKUP($A22,データ作成貼付２!$A$2:$M$280,データ完成!C$1,FALSE))","v":""},{"$f":"IF(ISERROR(VLOOKUP($A22,データ作成貼付２!$A$2:$M$280,データ完成!D$1,FALSE))=TRUE,\"\",VLOOKUP($A22,データ作成貼付２!$A$2:$M$280,データ完成!D$1,FALSE))","v":""},{"$f":"IF(ISERROR(VLOOKUP($A22,データ作成貼付２!$A$2:$M$280,データ完成!E$1,FALSE))=TRUE,\"\",VLOOKUP($A22,データ作成貼付２!$A$2:$M$280,データ完成!E$1,FALSE))","v":""},{"$f":"IF(ISERROR(VLOOKUP($A22,データ作成貼付２!$A$2:$M$280,データ完成!F$1,FALSE))=TRUE,\"\",VLOOKUP($A22,データ作成貼付２!$A$2:$M$280,データ完成!F$1,FALSE))","v":""},{"$f":"IF(ISERROR(VLOOKUP($A22,データ作成貼付２!$A$2:$M$280,データ完成!G$1,FALSE))=TRUE,\"\",VLOOKUP($A22,データ作成貼付２!$A$2:$M$280,データ完成!G$1,FALSE))","v":""},{"$f":"IF(ISERROR(VLOOKUP($A22,データ作成貼付２!$A$2:$M$280,データ完成!H$1,FALSE))=TRUE,\"\",VLOOKUP($A22,データ作成貼付２!$A$2:$M$280,データ完成!H$1,FALSE))","v":""},{"$f":"IF(ISERROR(VLOOKUP($A22*10+1,データ作成貼付２!$B$2:$M$280,データ完成!I$1,FALSE))=TRUE,\"\",VLOOKUP($A22*10+1,データ作成貼付２!$B$2:$M$280,データ完成!I$1,FALSE))","v":""},{"$f":"IF(ISERROR(VLOOKUP($A22*10+2,データ作成貼付２!$B$2:$M$280,データ完成!J$1,FALSE))=TRUE,\"\",VLOOKUP($A22*10+2,データ作成貼付２!$B$2:$M$280,データ完成!J$1,FALSE))","v":""},{"$f":"IF(ISERROR(VLOOKUP($A22*10+3,データ作成貼付２!$B$2:$M$280,データ完成!K$1,FALSE))=TRUE,\"\",VLOOKUP($A22*10+3,データ作成貼付２!$B$2:$M$280,データ完成!K$1,FALSE))","v":""},{"$f":"IF(ISERROR(VLOOKUP($A22*10+4,データ作成貼付２!$B$2:$M$280,データ完成!L$1,FALSE))=TRUE,\"\",\"○\")","v":""},{"$f":"IF(L22=\"\",\"\",VLOOKUP($H22,記録入力1!$E$161:$O$190,11,FALSE))","v":""},{"$f":"IF(ISERROR(VLOOKUP($A22*10+5,データ作成貼付２!$B$2:$M$280,データ完成!N$1,FALSE))=TRUE,\"\",\"○\")","v":""},{"$f":"IF(N22=\"\",\"\",VLOOKUP($H22,記録入力1!$E$191:$O$290,11,FALSE))","v":""},{"$f":"IF(I22=\"\",\"\",VLOOKUP(LEFT(I22,5),初期設定1!$E$18:$F$59,2,FALSE))","v":""},"",{"$f":"VLOOKUP($Q22,記録入力1!$B$4:$I$287,8,FALSE)","v":{"$error":"#N/A"}},{"$f":"IF(J22=\"\",\"\",VLOOKUP(LEFT(J22,5),初期設定1!$E$18:$F$59,2,FALSE))","v":""},"",{"$f":"VLOOKUP($T22,記録入力1!$B$4:$I$287,8,FALSE)","v":{"$error":"#N/A"}},{"$f":"IF(K22=\"\",\"\",VLOOKUP(LEFT(K22,5),初期設定1!$E$18:$F$59,2,FALSE))","v":""},"",{"$f":"VLOOKUP($W22,記録入力1!$B$4:$I$287,8,FALSE)","v":{"$error":"#N/A"}},{"$f":"IF(G22=\"\",\"\",VLOOKUP(VALUE(RIGHT(G22,6)),学校番号!$A$2:$B$51,2))","v":""}]
[21,{"$f":"IF(ISERROR(VLOOKUP($A23,データ作成貼付２!$A$2:$M$280,データ完成!B$1,FALSE))=TRUE,\"\",VLOOKUP($A23,データ作成貼付２!$A$2:$M$280,データ完成!B$1,FALSE))","v":""},{"$f":"IF(ISERROR(VLOOKUP($A23,データ作成貼付２!$A$2:$M$280,データ完成!C$1,FALSE))=TRUE,\"\",VLOOKUP($A23,データ作成貼付２!$A$2:$M$280,データ完成!C$1,FALSE))","v":""},{"$f":"IF(ISERROR(VLOOKUP($A23,データ作成貼付２!$A$2:$M$280,データ完成!D$1,FALSE))=TRUE,\"\",VLOOKUP($A23,データ作成貼付２!$A$2:$M$280,データ完成!D$1,FALSE))","v":""},{"$f":"IF(ISERROR(VLOOKUP($A23,データ作成貼付２!$A$2:$M$280,データ完成!E$1,FALSE))=TRUE,\"\",VLOOKUP($A23,データ作成貼付２!$A$2:$M$280,データ完成!E$1,FALSE))","v":""},{"$f":"IF(ISERROR(VLOOKUP($A23,データ作成貼付２!$A$2:$M$280,データ完成!F$1,FALSE))=TRUE,\"\",VLOOKUP($A23,データ作成貼付２!$A$2:$M$280,データ完成!F$1,FALSE))","v":""},{"$f":"IF(ISERROR(VLOOKUP($A23,データ作成貼付２!$A$2:$M$280,データ完成!G$1,FALSE))=TRUE,\"\",VLOOKUP($A23,データ作成貼付２!$A$2:$M$280,データ完成!G$1,FALSE))","v":""},{"$f":"IF(ISERROR(VLOOKUP($A23,データ作成貼付２!$A$2:$M$280,データ完成!H$1,FALSE))=TRUE,\"\",VLOOKUP($A23,データ作成貼付２!$A$2:$M$280,データ完成!H$1,FALSE))","v":""},{"$f":"IF(ISERROR(VLOOKUP($A23*10+1,データ作成貼付２!$B$2:$M$280,データ完成!I$1,FALSE))=TRUE,\"\",VLOOKUP($A23*10+1,データ作成貼付２!$B$2:$M$280,データ完成!I$1,FALSE))","v":""},{"$f":"IF(ISERROR(VLOOKUP($A23*10+2,データ作成貼付２!$B$2:$M$280,データ完成!J$1,FALSE))=TRUE,\"\",VLOOKUP($A23*10+2,データ作成貼付２!$B$2:$M$280,データ完成!J$1,FALSE))","v":""},{"$f":"IF(ISERROR(VLOOKUP($A23*10+3,データ作成貼付２!$B$2:$M$280,データ完成!K$1,FALSE))=TRUE,\"\",VLOOKUP($A23*10+3,データ作成貼付２!$B$2:$M$280,データ完成!K$1,FALSE))","v":""},{"$f":"IF(ISERROR(VLOOKUP($A23*10+4,データ作成貼付２!$B$2:$M$280,データ完成!L$1,FALSE))=TRUE,\"\",\"○\")","v":""},{"$f":"IF(L23=\"\",\"\",VLOOKUP($H23,記録入力1!$E$161:$O$190,11,FALSE))","v":""},{"$f":"IF(ISERROR(VLOOKUP($A23*10+5,データ作成貼付２!$B$2:$M$280,データ完成!N$1,FALSE))=TRUE,\"\",\"○\")","v":""},{"$f":"IF(N23=\"\",\"\",VLOOKUP($H23,記録入力1!$E$191:$O$290,11,FALSE))","v":""},{"$f":"IF(I23=\"\",\"\",VLOOKUP(LEFT(I23,5),初期設定1!$E$18:$F$59,2,FALSE))","v":""},"",{"$f":"VLOOKUP($Q23,記録入力1!$B$4:$I$287,8,FALSE)","v":{"$error":"#N/A"}},{"$f":"IF(J23=\"\",\"\",VLOOKUP(LEFT(J23,5),初期設定1!$E$18:$F$59,2,FALSE))","v":""},"",{"$f":"VLOOKUP($T23,記録入力1!$B$4:$I$287,8,FALSE)","v":{"$error":"#N/A"}},{"$f":"IF(K23=\"\",\"\",VLOOKUP(LEFT(K23,5),初期設定1!$E$18:$F$59,2,FALSE))","v":""},"",{"$f":"VLOOKUP($W23,記録入力1!$B$4:$I$287,8,FALSE)","v":{"$error":"#N/A"}},{"$f":"IF(G23=\"\",\"\",VLOOKUP(VALUE(RIGHT(G23,6)),学校番号!$A$2:$B$51,2))","v":""}]
[22,{"$f":"IF(ISERROR(VLOOKUP($A24,データ作成貼付２!$A$2:$M$280,データ完成!B$1,FALSE))=TRUE,\"\",VLOOKUP($A24,データ作成貼付２!$A$2:$M$280,データ完成!B$1,FALSE))","v":""},{"$f":"IF(ISERROR(VLOOKUP($A24,データ作成貼付２!$A$2:$M$280,データ完成!C$1,FALSE))=TRUE,\"\",VLOOKUP($A24,データ作成貼付２!$A$2:$M$280,データ完成!C$1,FALSE))","v":""},{"$f":"IF(ISERROR(VLOOKUP($A24,データ作成貼付２!$A$2:$M$280,データ完成!D$1,FALSE))=TRUE,\"\",VLOOKUP($A24,データ作成貼付２!$A$2:$M$280,データ完成!D$1,FALSE))","v":""},{"$f":"IF(ISERROR(VLOOKUP($A24,データ作成貼付２!$A$2:$M$280,データ完成!E$1,FALSE))=TRUE,\"\",VLOOKUP($A24,データ作成貼付２!$A$2:$M$280,データ完成!E$1,FALSE))","v":""},{"$f":"IF(ISERROR(VLOOKUP($A24,データ作成貼付２!$A$2:$M$280,データ完成!F$1,FALSE))=TRUE,\"\",VLOOKUP($A24,データ作成貼付２!$A$2:$M$280,データ完成!F$1,FALSE))","v":""},{"$f":"IF(ISERROR(VLOOKUP($A24,データ作成貼付２!$A$2:$M$280,データ完成!G$1,FALSE))=TRUE,\"\",VLOOKUP($A24,データ作成貼付２!$A$2:$M$280,データ完成!G$1,FALSE))","v":""},{"$f":"IF(ISERROR(VLOOKUP($A24,データ作成貼付２!$A$2:$M$280,データ完成!H$1,FALSE))=TRUE,\"\",VLOOKUP($A24,データ作成貼付２!$A$2:$M$280,データ完成!H$1,FALSE))","v":""},{"$f":"IF(ISERROR(VLOOKUP($A24*10+1,データ作成貼付２!$B$2:$M$280,データ完成!I$1,FALSE))=TRUE,\"\",VLOOKUP($A24*10+1,データ作成貼付２!$B$2:$M$280,データ完成!I$1,FALSE))","v":""},{"$f":"IF(ISERROR(VLOOKUP($A24*10+2,データ作成貼付２!$B$2:$M$280,データ完成!J$1,FALSE))=TRUE,\"\",VLOOKUP($A24*10+2,データ作成貼付２!$B$2:$M$280,データ完成!J$1,FALSE))","v":""},{"$f":"IF(ISERROR(VLOOKUP($A24*10+3,データ作成貼付２!$B$2:$M$280,データ完成!K$1,FALSE))=TRUE,\"\",VLOOKUP($A24*10+3,データ作成貼付２!$B$2:$M$280,データ完成!K$1,FALSE))","v":""},{"$f":"IF(ISERROR(VLOOKUP($A24*10+4,データ作成貼付２!$B$2:$M$280,データ完成!L$1,FALSE))=TRUE,\"\",\"○\")","v":""},{"$f":"IF(L24=\"\",\"\",VLOOKUP($H24,記録入力1!$E$161:$O$190,11,FALSE))","v":""},{"$f":"IF(ISERROR(VLOOKUP($A24*10+5,データ作成貼付２!$B$2:$M$280,データ完成!N$1,FALSE))=TRUE,\"\",\"○\")","v":""},{"$f":"IF(N24=\"\",\"\",VLOOKUP($H24,記録入力1!$E$191:$O$290,11,FALSE))","v":""},{"$f":"IF(I24=\"\",\"\",VLOOKUP(LEFT(I24,5),初期設定1!$E$18:$F$59,2,FALSE))","v":""},"",{"$f":"VLOOKUP($Q24,記録入力1!$B$4:$I$287,8,FALSE)","v":{"$error":"#N/A"}},{"$f":"IF(J24=\"\",\"\",VLOOKUP(LEFT(J24,5),初期設定1!$E$18:$F$59,2,FALSE))","v":""},"",{"$f":"VLOOKUP($T24,記録入力1!$B$4:$I$287,8,FALSE)","v":{"$error":"#N/A"}},{"$f":"IF(K24=\"\",\"\",VLOOKUP(LEFT(K24,5),初期設定1!$E$18:$F$59,2,FALSE))","v":""},"",{"$f":"VLOOKUP($W24,記録入力1!$B$4:$I$287,8,FALSE)","v":{"$error":"#N/A"}},{"$f":"IF(G24=\"\",\"\",VLOOKUP(VALUE(RIGHT(G24,6)),学校番号!$A$2:$B$51,2))","v":""}]
[23,{"$f":"IF(ISERROR(VLOOKUP($A25,データ作成貼付２!$A$2:$M$280,データ完成!B$1,FALSE))=TRUE,\"\",VLOOKUP($A25,データ作成貼付２!$A$2:$M$280,データ完成!B$1,FALSE))","v":""},{"$f":"IF(ISERROR(VLOOKUP($A25,データ作成貼付２!$A$2:$M$280,データ完成!C$1,FALSE))=TRUE,\"\",VLOOKUP($A25,データ作成貼付２!$A$2:$M$280,データ完成!C$1,FALSE))","v":""},{"$f":"IF(ISERROR(VLOOKUP($A25,データ作成貼付２!$A$2:$M$280,データ完成!D$1,FALSE))=TRUE,\"\",VLOOKUP($A25,データ作成貼付２!$A$2:$M$280,データ完成!D$1,FALSE))","v":""},{"$f":"IF(ISERROR(VLOOKUP($A25,データ作成貼付２!$A$2:$M$280,データ完成!E$1,FALSE))=TRUE,\"\",VLOOKUP($A25,データ作成貼付２!$A$2:$M$280,データ完成!E$1,FALSE))","v":""},{"$f":"IF(ISERROR(VLOOKUP($A25,データ作成貼付２!$A$2:$M$280,データ完成!F$1,FALSE))=TRUE,\"\",VLOOKUP($A25,データ作成貼付２!$A$2:$M$280,データ完成!F$1,FALSE))","v":""},{"$f":"IF(ISERROR(VLOOKUP($A25,データ作成貼付２!$A$2:$M$280,データ完成!G$1,FALSE))=TRUE,\"\",VLOOKUP($A25,データ作成貼付２!$A$2:$M$280,データ完成!G$1,FALSE))","v":""},{"$f":"IF(ISERROR(VLOOKUP($A25,データ作成貼付２!$A$2:$M$280,データ完成!H$1,FALSE))=TRUE,\"\",VLOOKUP($A25,データ作成貼付２!$A$2:$M$280,データ完成!H$1,FALSE))","v":""},{"$f":"IF(ISERROR(VLOOKUP($A25*10+1,データ作成貼付２!$B$2:$M$280,データ完成!I$1,FALSE))=TRUE,\"\",VLOOKUP($A25*10+1,データ作成貼付２!$B$2:$M$280,データ完成!I$1,FALSE))","v":""},{"$f":"IF(ISERROR(VLOOKUP($A25*10+2,データ作成貼付２!$B$2:$M$280,データ完成!J$1,FALSE))=TRUE,\"\",VLOOKUP($A25*10+2,データ作成貼付２!$B$2:$M$280,データ完成!J$1,FALSE))","v":""},{"$f":"IF(ISERROR(VLOOKUP($A25*10+3,データ作成貼付２!$B$2:$M$280,データ完成!K$1,FALSE))=TRUE,\"\",VLOOKUP($A25*10+3,データ作成貼付２!$B$2:$M$280,データ完成!K$1,FALSE))","v":""},{"$f":"IF(ISERROR(VLOOKUP($A25*10+4,データ作成貼付２!$B$2:$M$280,データ完成!L$1,FALSE))=TRUE,\"\",\"○\")","v":""},{"$f":"IF(L25=\"\",\"\",VLOOKUP($H25,記録入力1!$E$161:$O$190,11,FALSE))","v":""},{"$f":"IF(ISERROR(VLOOKUP($A25*10+5,データ作成貼付２!$B$2:$M$280,データ完成!N$1,FALSE))=TRUE,\"\",\"○\")","v":""},{"$f":"IF(N25=\"\",\"\",VLOOKUP($H25,記録入力1!$E$191:$O$290,11,FALSE))","v":""},{"$f":"IF(I25=\"\",\"\",VLOOKUP(LEFT(I25,5),初期設定1!$E$18:$F$59,2,FALSE))","v":""},"",{"$f":"VLOOKUP($Q25,記録入力1!$B$4:$I$287,8,FALSE)","v":{"$error":"#N/A"}},{"$f":"IF(J25=\"\",\"\",VLOOKUP(LEFT(J25,5),初期設定1!$E$18:$F$59,2,FALSE))","v":""},"",{"$f":"VLOOKUP($T25,記録入力1!$B$4:$I$287,8,FALSE)","v":{"$error":"#N/A"}},{"$f":"IF(K25=\"\",\"\",VLOOKUP(LEFT(K25,5),初期設定1!$E$18:$F$59,2,FALSE))","v":""},"",{"$f":"VLOOKUP($W25,記録入力1!$B$4:$I$287,8,FALSE)","v":{"$error":"#N/A"}},{"$f":"IF(G25=\"\",\"\",VLOOKUP(VALUE(RIGHT(G25,6)),学校番号!$A$2:$B$51,2))","v":""}]
[24,{"$f":"IF(ISERROR(VLOOKUP($A26,データ作成貼付２!$A$2:$M$280,データ完成!B$1,FALSE))=TRUE,\"\",VLOOKUP($A26,データ作成貼付２!$A$2:$M$280,データ完成!B$1,FALSE))","v":""},{"$f":"IF(ISERROR(VLOOKUP($A26,データ作成貼付２!$A$2:$M$280,データ完成!C$1,FALSE))=TRUE,\"\",VLOOKUP($A26,データ作成貼付２!$A$2:$M$280,データ完成!C$1,FALSE))","v":""},{"$f":"IF(ISERROR(VLOOKUP($A26,データ作成貼付２!$A$2:$M$280,データ完成!D$1,FALSE))=TRUE,\"\",VLOOKUP($A26,データ作成貼付２!$A$2:$M$280,データ完成!D$1,FALSE))","v":""},{"$f":"IF(ISERROR(VLOOKUP($A26,データ作成貼付２!$A$2:$M$280,データ完成!E$1,FALSE))=TRUE,\"\",VLOOKUP($A26,データ作成貼付２!$A$2:$M$280,データ完成!E$1,FALSE))","v":""},{"$f":"IF(ISERROR(VLOOKUP($A26,データ作成貼付２!$A$2:$M$280,データ完成!F$1,FALSE))=TRUE,\"\",VLOOKUP($A26,データ作成貼付２!$A$2:$M$280,データ完成!F$1,FALSE))","v":""},{"$f":"IF(ISERROR(VLOOKUP($A26,データ作成貼付２!$A$2:$M$280,データ完成!G$1,FALSE))=TRUE,\"\",VLOOKUP($A26,データ作成貼付２!$A$2:$M$280,データ完成!G$1,FALSE))","v":""},{"$f":"IF(ISERROR(VLOOKUP($A26,データ作成貼付２!$A$2:$M$280,データ完成!H$1,FALSE))=TRUE,\"\",VLOOKUP($A26,データ作成貼付２!$A$2:$M$280,データ完成!H$1,FALSE))","v":""},{"$f":"IF(ISERROR(VLOOKUP($A26*10+1,データ作成貼付２!$B$2:$M$280,データ完成!I$1,FALSE))=TRUE,\"\",VLOOKUP($A26*10+1,データ作成貼付２!$B$2:$M$280,データ完成!I$1,FALSE))","v":""},{"$f":"IF(ISERROR(VLOOKUP($A26*10+2,データ作成貼付２!$B$2:$M$280,データ完成!J$1,FALSE))=TRUE,\"\",VLOOKUP($A26*10+2,データ作成貼付２!$B$2:$M$280,データ完成!J$1,FALSE))","v":""},{"$f":"IF(ISERROR(VLOOKUP($A26*10+3,データ作成貼付２!$B$2:$M$280,データ完成!K$1,FALSE))=TRUE,\"\",VLOOKUP($A26*10+3,データ作成貼付２!$B$2:$M$280,データ完成!K$1,FALSE))","v":""},{"$f":"IF(ISERROR(VLOOKUP($A26*10+4,データ作成貼付２!$B$2:$M$280,データ完成!L$1,FALSE))=TRUE,\"\",\"○\")","v":""},{"$f":"IF(L26=\"\",\"\",VLOOKUP($H26,記録入力1!$E$161:$O$190,11,FALSE))","v":""},{"$f":"IF(ISERROR(VLOOKUP($A26*10+5,データ作成貼付２!$B$2:$M$280,データ完成!N$1,FALSE))=TRUE,\"\",\"○\")","v":""},{"$f":"IF(N26=\"\",\"\",VLOOKUP($H26,記録入力1!$E$191:$O$290,11,FALSE))","v":""},{"$f":"IF(I26=\"\",\"\",VLOOKUP(LEFT(I26,5),初期設定1!$E$18:$F$59,2,FALSE))","v":""},"",{"$f":"VLOOKUP($Q26,記録入力1!$B$4:$I$287,8,FALSE)","v":{"$error":"#N/A"}},{"$f":"IF(J26=\"\",\"\",VLOOKUP(LEFT(J26,5),初期設定1!$E$18:$F$59,2,FALSE))","v":""},"",{"$f":"VLOOKUP($T26,記録入力1!$B$4:$I$287,8,FALSE)","v":{"$error":"#N/A"}},{"$f":"IF(K26=\"\",\"\",VLOOKUP(LEFT(K26,5),初期設定1!$E$18:$F$59,2,FALSE))","v":""},"",{"$f":"VLOOKUP($W26,記録入力1!$B$4:$I$287,8,FALSE)","v":{"$error":"#N/A"}},{"$f":"IF(G26=\"\",\"\",VLOOKUP(VALUE(RIGHT(G26,6)),学校番号!$A$2:$B$51,2))","v":""}]
[25,{"$f":"IF(ISERROR(VLOOKUP($A27,データ作成貼付２!$A$2:$M$280,データ完成!B$1,FALSE))=TRUE,\"\",VLOOKUP($A27,データ作成貼付２!$A$2:$M$280,データ完成!B$1,FALSE))","v":""},{"$f":"IF(ISERROR(VLOOKUP($A27,データ作成貼付２!$A$2:$M$280,データ完成!C$1,FALSE))=TRUE,\"\",VLOOKUP($A27,データ作成貼付２!$A$2:$M$280,データ完成!C$1,FALSE))","v":""},{"$f":"IF(ISERROR(VLOOKUP($A27,データ作成貼付２!$A$2:$M$280,データ完成!D$1,FALSE))=TRUE,\"\",VLOOKUP($A27,データ作成貼付２!$A$2:$M$280,データ完成!D$1,FALSE))","v":""},{"$f":"IF(ISERROR(VLOOKUP($A27,データ作成貼付２!$A$2:$M$280,データ完成!E$1,FALSE))=TRUE,\"\",VLOOKUP($A27,データ作成貼付２!$A$2:$M$280,データ完成!E$1,FALSE))","v":""},{"$f":"IF(ISERROR(VLOOKUP($A27,データ作成貼付２!$A$2:$M$280,データ完成!F$1,FALSE))=TRUE,\"\",VLOOKUP($A27,データ作成貼付２!$A$2:$M$280,データ完成!F$1,FALSE))","v":""},{"$f":"IF(ISERROR(VLOOKUP($A27,データ作成貼付２!$A$2:$M$280,データ完成!G$1,FALSE))=TRUE,\"\",VLOOKUP($A27,データ作成貼付２!$A$2:$M$280,データ完成!G$1,FALSE))","v":""},{"$f":"IF(ISERROR(VLOOKUP($A27,データ作成貼付２!$A$2:$M$280,データ完成!H$1,FALSE))=TRUE,\"\",VLOOKUP($A27,データ作成貼付２!$A$2:$M$280,データ完成!H$1,FALSE))","v":""},{"$f":"IF(ISERROR(VLOOKUP($A27*10+1,データ作成貼付２!$B$2:$M$280,データ完成!I$1,FALSE))=TRUE,\"\",VLOOKUP($A27*10+1,データ作成貼付２!$B$2:$M$280,データ完成!I$1,FALSE))","v":""},{"$f":"IF(ISERROR(VLOOKUP($A27*10+2,データ作成貼付２!$B$2:$M$280,データ完成!J$1,FALSE))=TRUE,\"\",VLOOKUP($A27*10+2,データ作成貼付２!$B$2:$M$280,データ完成!J$1,FALSE))","v":""},{"$f":"IF(ISERROR(VLOOKUP($A27*10+3,データ作成貼付２!$B$2:$M$280,データ完成!K$1,FALSE))=TRUE,\"\",VLOOKUP($A27*10+3,データ作成貼付２!$B$2:$M$280,データ完成!K$1,FALSE))","v":""},{"$f":"IF(ISERROR(VLOOKUP($A27*10+4,データ作成貼付２!$B$2:$M$280,データ完成!L$1,FALSE))=TRUE,\"\",\"○\")","v":""},{"$f":"IF(L27=\"\",\"\",VLOOKUP($H27,記録入力1!$E$161:$O$190,11,FALSE))","v":""},{"$f":"IF(ISERROR(VLOOKUP($A27*10+5,データ作成貼付２!$B$2:$M$280,データ完成!N$1,FALSE))=TRUE,\"\",\"○\")","v":""},{"$f":"IF(N27=\"\",\"\",VLOOKUP($H27,記録入力1!$E$191:$O$290,11,FALSE))","v":""},{"$f":"IF(I27=\"\",\"\",VLOOKUP(LEFT(I27,5),初期設定1!$E$18:$F$59,2,FALSE))","v":""},"",{"$f":"VLOOKUP($Q27,記録入力1!$B$4:$I$287,8,FALSE)","v":{"$error":"#N/A"}},{"$f":"IF(J27=\"\",\"\",VLOOKUP(LEFT(J27,5),初期設定1!$E$18:$F$59,2,FALSE))","v":""},"",{"$f":"VLOOKUP($T27,記録入力1!$B$4:$I$287,8,FALSE)","v":{"$error":"#N/A"}},{"$f":"IF(K27=\"\",\"\",VLOOKUP(LEFT(K27,5),初期設定1!$E$18:$F$59,2,FALSE))","v":""},"",{"$f":"VLOOKUP($W27,記録入力1!$B$4:$I$287,8,FALSE)","v":{"$error":"#N/A"}},{"$f":"IF(G27=\"\",\"\",VLOOKUP(VALUE(RIGHT(G27,6)),学校番号!$A$2:$B$51,2))","v":""}]
[26,{"$f":"IF(ISERROR(VLOOKUP($A28,データ作成貼付２!$A$2:$M$280,データ完成!B$1,FALSE))=TRUE,\"\",VLOOKUP($A28,データ作成貼付２!$A$2:$M$280,データ完成!B$1,FALSE))","v":""},{"$f":"IF(ISERROR(VLOOKUP($A28,データ作成貼付２!$A$2:$M$280,データ完成!C$1,FALSE))=TRUE,\"\",VLOOKUP($A28,データ作成貼付２!$A$2:$M$280,データ完成!C$1,FALSE))","v":""},{"$f":"IF(ISERROR(VLOOKUP($A28,データ作成貼付２!$A$2:$M$280,データ完成!D$1,FALSE))=TRUE,\"\",VLOOKUP($A28,データ作成貼付２!$A$2:$M$280,データ完成!D$1,FALSE))","v":""},{"$f":"IF(ISERROR(VLOOKUP($A28,データ作成貼付２!$A$2:$M$280,データ完成!E$1,FALSE))=TRUE,\"\",VLOOKUP($A28,データ作成貼付２!$A$2:$M$280,データ完成!E$1,FALSE))","v":""},{"$f":"IF(ISERROR(VLOOKUP($A28,データ作成貼付２!$A$2:$M$280,データ完成!F$1,FALSE))=TRUE,\"\",VLOOKUP($A28,データ作成貼付２!$A$2:$M$280,データ完成!F$1,FALSE))","v":""},{"$f":"IF(ISERROR(VLOOKUP($A28,データ作成貼付２!$A$2:$M$280,データ完成!G$1,FALSE))=TRUE,\"\",VLOOKUP($A28,データ作成貼付２!$A$2:$M$280,データ完成!G$1,FALSE))","v":""},{"$f":"IF(ISERROR(VLOOKUP($A28,データ作成貼付２!$A$2:$M$280,データ完成!H$1,FALSE))=TRUE,\"\",VLOOKUP($A28,データ作成貼付２!$A$2:$M$280,データ完成!H$1,FALSE))","v":""},{"$f":"IF(ISERROR(VLOOKUP($A28*10+1,データ作成貼付２!$B$2:$M$280,データ完成!I$1,FALSE))=TRUE,\"\",VLOOKUP($A28*10+1,データ作成貼付２!$B$2:$M$280,データ完成!I$1,FALSE))","v":""},{"$f":"IF(ISERROR(VLOOKUP($A28*10+2,データ作成貼付２!$B$2:$M$280,データ完成!J$1,FALSE))=TRUE,\"\",VLOOKUP($A28*10+2,データ作成貼付２!$B$2:$M$280,データ完成!J$1,FALSE))","v":""},{"$f":"IF(ISERROR(VLOOKUP($A28*10+3,データ作成貼付２!$B$2:$M$280,データ完成!K$1,FALSE))=TRUE,\"\",VLOOKUP($A28*10+3,データ作成貼付２!$B$2:$M$280,データ完成!K$1,FALSE))","v":""},{"$f":"IF(ISERROR(VLOOKUP($A28*10+4,データ作成貼付２!$B$2:$M$280,データ完成!L$1,FALSE))=TRUE,\"\",\"○\")","v":""},{"$f":"IF(L28=\"\",\"\",VLOOKUP($H28,記録入力1!$E$161:$O$190,11,FALSE))","v":""},{"$f":"IF(ISERROR(VLOOKUP($A28*10+5,データ作成貼付２!$B$2:$M$280,データ完成!N$1,FALSE))=TRUE,\"\",\"○\")","v":""},{"$f":"IF(N28=\"\",\"\",VLOOKUP($H28,記録入力1!$E$191:$O$290,11,FALSE))","v":""},{"$f":"IF(I28=\"\",\"\",VLOOKUP(LEFT(I28,5),初期設定1!$E$18:$F$59,2,FALSE))","v":""},"",{"$f":"VLOOKUP($Q28,記録入力1!$B$4:$I$287,8,FALSE)","v":{"$error":"#N/A"}},{"$f":"IF(J28=\"\",\"\",VLOOKUP(LEFT(J28,5),初期設定1!$E$18:$F$59,2,FALSE))","v":""},"",{"$f":"VLOOKUP($T28,記録入力1!$B$4:$I$287,8,FALSE)","v":{"$error":"#N/A"}},{"$f":"IF(K28=\"\",\"\",VLOOKUP(LEFT(K28,5),初期設定1!$E$18:$F$59,2,FALSE))","v":""},"",{"$f":"VLOOKUP($W28,記録入力1!$B$4:$I$287,8,FALSE)","v":{"$error":"#N/A"}},{"$f":"IF(G28=\"\",\"\",VLOOKUP(VALUE(RIGHT(G28,6)),学校番号!$A$2:$B$51,2))","v":""}]
[27,{"$f":"IF(ISERROR(VLOOKUP($A29,データ作成貼付２!$A$2:$M$280,データ完成!B$1,FALSE))=TRUE,\"\",VLOOKUP($A29,データ作成貼付２!$A$2:$M$280,データ完成!B$1,FALSE))","v":""},{"$f":"IF(ISERROR(VLOOKUP($A29,データ作成貼付２!$A$2:$M$280,データ完成!C$1,FALSE))=TRUE,\"\",VLOOKUP($A29,データ作成貼付２!$A$2:$M$280,データ完成!C$1,FALSE))","v":""},{"$f":"IF(ISERROR(VLOOKUP($A29,データ作成貼付２!$A$2:$M$280,データ完成!D$1,FALSE))=TRUE,\"\",VLOOKUP($A29,データ作成貼付２!$A$2:$M$280,データ完成!D$1,FALSE))","v":""},{"$f":"IF(ISERROR(VLOOKUP($A29,データ作成貼付２!$A$2:$M$280,データ完成!E$1,FALSE))=TRUE,\"\",VLOOKUP($A29,データ作成貼付２!$A$2:$M$280,データ完成!E$1,FALSE))","v":""},{"$f":"IF(ISERROR(VLOOKUP($A29,データ作成貼付２!$A$2:$M$280,データ完成!F$1,FALSE))=TRUE,\"\",VLOOKUP($A29,データ作成貼付２!$A$2:$M$280,データ完成!F$1,FALSE))","v":""},{"$f":"IF(ISERROR(VLOOKUP($A29,データ作成貼付２!$A$2:$M$280,データ完成!G$1,FALSE))=TRUE,\"\",VLOOKUP($A29,データ作成貼付２!$A$2:$M$280,データ完成!G$1,FALSE))","v":""},{"$f":"IF(ISERROR(VLOOKUP($A29,データ作成貼付２!$A$2:$M$280,データ完成!H$1,FALSE))=TRUE,\"\",VLOOKUP($A29,データ作成貼付２!$A$2:$M$280,データ完成!H$1,FALSE))","v":""},{"$f":"IF(ISERROR(VLOOKUP($A29*10+1,データ作成貼付２!$B$2:$M$280,データ完成!I$1,FALSE))=TRUE,\"\",VLOOKUP($A29*10+1,データ作成貼付２!$B$2:$M$280,データ完成!I$1,FALSE))","v":""},{"$f":"IF(ISERROR(VLOOKUP($A29*10+2,データ作成貼付２!$B$2:$M$280,データ完成!J$1,FALSE))=TRUE,\"\",VLOOKUP($A29*10+2,データ作成貼付２!$B$2:$M$280,データ完成!J$1,FALSE))","v":""},{"$f":"IF(ISERROR(VLOOKUP($A29*10+3,データ作成貼付２!$B$2:$M$280,データ完成!K$1,FALSE))=TRUE,\"\",VLOOKUP($A29*10+3,データ作成貼付２!$B$2:$M$280,データ完成!K$1,FALSE))","v":""},{"$f":"IF(ISERROR(VLOOKUP($A29*10+4,データ作成貼付２!$B$2:$M$280,データ完成!L$1,FALSE))=TRUE,\"\",\"○\")","v":""},{"$f":"IF(L29=\"\",\"\",VLOOKUP($H29,記録入力1!$E$161:$O$190,11,FALSE))","v":""},{"$f":"IF(ISERROR(VLOOKUP($A29*10+5,データ作成貼付２!$B$2:$M$280,データ完成!N$1,FALSE))=TRUE,\"\",\"○\")","v":""},{"$f":"IF(N29=\"\",\"\",VLOOKUP($H29,記録入力1!$E$191:$O$290,11,FALSE))","v":""},{"$f":"IF(I29=\"\",\"\",VLOOKUP(LEFT(I29,5),初期設定1!$E$18:$F$59,2,FALSE))","v":""},"",{"$f":"VLOOKUP($Q29,記録入力1!$B$4:$I$287,8,FALSE)","v":{"$error":"#N/A"}},{"$f":"IF(J29=\"\",\"\",VLOOKUP(LEFT(J29,5),初期設定1!$E$18:$F$59,2,FALSE))","v":""},"",{"$f":"VLOOKUP($T29,記録入力1!$B$4:$I$287,8,FALSE)","v":{"$error":"#N/A"}},{"$f":"IF(K29=\"\",\"\",VLOOKUP(LEFT(K29,5),初期設定1!$E$18:$F$59,2,FALSE))","v":""},"",{"$f":"VLOOKUP($W29,記録入力1!$B$4:$I$287,8,FALSE)","v":{"$error":"#N/A"}},{"$f":"IF(G29=\"\",\"\",VLOOKUP(VALUE(RIGHT(G29,6)),学校番号!$A$2:$B$51,2))","v":""}]
[28,{"$f":"IF(ISERROR(VLOOKUP($A30,データ作成貼付２!$A$2:$M$280,データ完成!B$1,FALSE))=TRUE,\"\",VLOOKUP($A30,データ作成貼付２!$A$2:$M$280,データ完成!B$1,FALSE))","v":""},{"$f":"IF(ISERROR(VLOOKUP($A30,データ作成貼付２!$A$2:$M$280,データ完成!C$1,FALSE))=TRUE,\"\",VLOOKUP($A30,データ作成貼付２!$A$2:$M$280,データ完成!C$1,FALSE))","v":""},{"$f":"IF(ISERROR(VLOOKUP($A30,データ作成貼付２!$A$2:$M$280,データ完成!D$1,FALSE))=TRUE,\"\",VLOOKUP($A30,データ作成貼付２!$A$2:$M$280,データ完成!D$1,FALSE))","v":""},{"$f":"IF(ISERROR(VLOOKUP($A30,データ作成貼付２!$A$2:$M$280,データ完成!E$1,FALSE))=TRUE,\"\",VLOOKUP($A30,データ作成貼付２!$A$2:$M$280,データ完成!E$1,FALSE))","v":""},{"$f":"IF(ISERROR(VLOOKUP($A30,データ作成貼付２!$A$2:$M$280,データ完成!F$1,FALSE))=TRUE,\"\",VLOOKUP($A30,データ作成貼付２!$A$2:$M$280,データ完成!F$1,FALSE))","v":""},{"$f":"IF(ISERROR(VLOOKUP($A30,データ作成貼付２!$A$2:$M$280,データ完成!G$1,FALSE))=TRUE,\"\",VLOOKUP($A30,データ作成貼付２!$A$2:$M$280,データ完成!G$1,FALSE))","v":""},{"$f":"IF(ISERROR(VLOOKUP($A30,データ作成貼付２!$A$2:$M$280,データ完成!H$1,FALSE))=TRUE,\"\",VLOOKUP($A30,データ作成貼付２!$A$2:$M$280,データ完成!H$1,FALSE))","v":""},{"$f":"IF(ISERROR(VLOOKUP($A30*10+1,データ作成貼付２!$B$2:$M$280,データ完成!I$1,FALSE))=TRUE,\"\",VLOOKUP($A30*10+1,データ作成貼付２!$B$2:$M$280,データ完成!I$1,FALSE))","v":""},{"$f":"IF(ISERROR(VLOOKUP($A30*10+2,データ作成貼付２!$B$2:$M$280,データ完成!J$1,FALSE))=TRUE,\"\",VLOOKUP($A30*10+2,データ作成貼付２!$B$2:$M$280,データ完成!J$1,FALSE))","v":""},{"$f":"IF(ISERROR(VLOOKUP($A30*10+3,データ作成貼付２!$B$2:$M$280,データ完成!K$1,FALSE))=TRUE,\"\",VLOOKUP($A30*10+3,データ作成貼付２!$B$2:$M$280,データ完成!K$1,FALSE))","v":""},{"$f":"IF(ISERROR(VLOOKUP($A30*10+4,データ作成貼付２!$B$2:$M$280,データ完成!L$1,FALSE))=TRUE,\"\",\"○\")","v":""},{"$f":"IF(L30=\"\",\"\",VLOOKUP($H30,記録入力1!$E$161:$O$190,11,FALSE))","v":""},{"$f":"IF(ISERROR(VLOOKUP($A30*10+5,データ作成貼付２!$B$2:$M$280,データ完成!N$1,FALSE))=TRUE,\"\",\"○\")","v":""},{"$f":"IF(N30=\"\",\"\",VLOOKUP($H30,記録入力1!$E$191:$O$290,11,FALSE))","v":""},{"$f":"IF(I30=\"\",\"\",VLOOKUP(LEFT(I30,5),初期設定1!$E$18:$F$59,2,FALSE))","v":""},"",{"$f":"VLOOKUP($Q30,記録入力1!$B$4:$I$287,8,FALSE)","v":{"$error":"#N/A"}},{"$f":"IF(J30=\"\",\"\",VLOOKUP(LEFT(J30,5),初期設定1!$E$18:$F$59,2,FALSE))","v":""},"",{"$f":"VLOOKUP($T30,記録入力1!$B$4:$I$287,8,FALSE)","v":{"$error":"#N/A"}},{"$f":"IF(K30=\"\",\"\",VLOOKUP(LEFT(K30,5),初期設定1!$E$18:$F$59,2,FALSE))","v":""},"",{"$f":"VLOOKUP($W30,記録入力1!$B$4:$I$287,8,FALSE)","v":{"$error":"#N/A"}},{"$f":"IF(G30=\"\",\"\",VLOOKUP(VALUE(RIGHT(G30,6)),学校番号!$A$2:$B$51,2))","v":""}]
[29,{"$f":"IF(ISERROR(VLOOKUP($A31,データ作成貼付２!$A$2:$M$280,データ完成!B$1,FALSE))=TRUE,\"\",VLOOKUP($A31,データ作成貼付２!$A$2:$M$280,データ完成!B$1,FALSE))","v":""},{"$f":"IF(ISERROR(VLOOKUP($A31,データ作成貼付２!$A$2:$M$280,データ完成!C$1,FALSE))=TRUE,\"\",VLOOKUP($A31,データ作成貼付２!$A$2:$M$280,データ完成!C$1,FALSE))","v":""},{"$f":"IF(ISERROR(VLOOKUP($A31,データ作成貼付２!$A$2:$M$280,データ完成!D$1,FALSE))=TRUE,\"\",VLOOKUP($A31,データ作成貼付２!$A$2:$M$280,データ完成!D$1,FALSE))","v":""},{"$f":"IF(ISERROR(VLOOKUP($A31,データ作成貼付２!$A$2:$M$280,データ完成!E$1,FALSE))=TRUE,\"\",VLOOKUP($A31,データ作成貼付２!$A$2:$M$280,データ完成!E$1,FALSE))","v":""},{"$f":"IF(ISERROR(VLOOKUP($A31,データ作成貼付２!$A$2:$M$280,データ完成!F$1,FALSE))=TRUE,\"\",VLOOKUP($A31,データ作成貼付２!$A$2:$M$280,データ完成!F$1,FALSE))","v":""},{"$f":"IF(ISERROR(VLOOKUP($A31,データ作成貼付２!$A$2:$M$280,データ完成!G$1,FALSE))=TRUE,\"\",VLOOKUP($A31,データ作成貼付２!$A$2:$M$280,データ完成!G$1,FALSE))","v":""},{"$f":"IF(ISERROR(VLOOKUP($A31,データ作成貼付２!$A$2:$M$280,データ完成!H$1,FALSE))=TRUE,\"\",VLOOKUP($A31,データ作成貼付２!$A$2:$M$280,データ完成!H$1,FALSE))","v":""},{"$f":"IF(ISERROR(VLOOKUP($A31*10+1,データ作成貼付２!$B$2:$M$280,データ完成!I$1,FALSE))=TRUE,\"\",VLOOKUP($A31*10+1,データ作成貼付２!$B$2:$M$280,データ完成!I$1,FALSE))","v":""},{"$f":"IF(ISERROR(VLOOKUP($A31*10+2,データ作成貼付２!$B$2:$M$280,データ完成!J$1,FALSE))=TRUE,\"\",VLOOKUP($A31*10+2,データ作成貼付２!$B$2:$M$280,データ完成!J$1,FALSE))","v":""},{"$f":"IF(ISERROR(VLOOKUP($A31*10+3,データ作成貼付２!$B$2:$M$280,データ完成!K$1,FALSE))=TRUE,\"\",VLOOKUP($A31*10+3,データ作成貼付２!$B$2:$M$280,データ完成!K$1,FALSE))","v":""},{"$f":"IF(ISERROR(VLOOKUP($A31*10+4,データ作成貼付２!$B$2:$M$280,データ完成!L$1,FALSE))=TRUE,\"\",\"○\")","v":""},{"$f":"IF(L31=\"\",\"\",VLOOKUP($H31,記録入力1!$E$161:$O$190,11,FALSE))","v":""},{"$f":"IF(ISERROR(VLOOKUP($A31*10+5,データ作成貼付２!$B$2:$M$280,データ完成!N$1,FALSE))=TRUE,\"\",\"○\")","v":""},{"$f":"IF(N31=\"\",\"\",VLOOKUP($H31,記録入力1!$E$191:$O$290,11,FALSE))","v":""},{"$f":"IF(I31=\"\",\"\",VLOOKUP(LEFT(I31,5),初期設定1!$E$18:$F$59,2,FALSE))","v":""},"",{"$f":"VLOOKUP($Q31,記録入力1!$B$4:$I$287,8,FALSE)","v":{"$error":"#N/A"}},{"$f":"IF(J31=\"\",\"\",VLOOKUP(LEFT(J31,5),初期設定1!$E$18:$F$59,2,FALSE))","v":""},"",{"$f":"VLOOKUP($T31,記録入力1!$B$4:$I$287,8,FALSE)","v":{"$error":"#N/A"}},{"$f":"IF(K31=\"\",\"\",VLOOKUP(LEFT(K31,5),初期設定1!$E$18:$F$59,2,FALSE))","v":""},"",{"$f":"VLOOKUP($W31,記録入力1!$B$4:$I$287,8,FALSE)","v":{"$error":"#N/A"}},{"$f":"IF(G31=\"\",\"\",VLOOKUP(VALUE(RIGHT(G31,6)),学校番号!$A$2:$B$51,2))","v":""}]
[30,{"$f":"IF(ISERROR(VLOOKUP($A32,データ作成貼付２!$A$2:$M$280,データ完成!B$1,FALSE))=TRUE,\"\",VLOOKUP($A32,データ作成貼付２!$A$2:$M$280,データ完成!B$1,FALSE))","v":""},{"$f":"IF(ISERROR(VLOOKUP($A32,データ作成貼付２!$A$2:$M$280,データ完成!C$1,FALSE))=TRUE,\"\",VLOOKUP($A32,データ作成貼付２!$A$2:$M$280,データ完成!C$1,FALSE))","v":""},{"$f":"IF(ISERROR(VLOOKUP($A32,データ作成貼付２!$A$2:$M$280,データ完成!D$1,FALSE))=TRUE,\"\",VLOOKUP($A32,データ作成貼付２!$A$2:$M$280,データ完成!D$1,FALSE))","v":""},{"$f":"IF(ISERROR(VLOOKUP($A32,データ作成貼付２!$A$2:$M$280,データ完成!E$1,FALSE))=TRUE,\"\",VLOOKUP($A32,データ作成貼付２!$A$2:$M$280,データ完成!E$1,FALSE))","v":""},{"$f":"IF(ISERROR(VLOOKUP($A32,データ作成貼付２!$A$2:$M$280,データ完成!F$1,FALSE))=TRUE,\"\",VLOOKUP($A32,データ作成貼付２!$A$2:$M$280,データ完成!F$1,FALSE))","v":""},{"$f":"IF(ISERROR(VLOOKUP($A32,データ作成貼付２!$A$2:$M$280,データ完成!G$1,FALSE))=TRUE,\"\",VLOOKUP($A32,データ作成貼付２!$A$2:$M$280,データ完成!G$1,FALSE))","v":""},{"$f":"IF(ISERROR(VLOOKUP($A32,データ作成貼付２!$A$2:$M$280,データ完成!H$1,FALSE))=TRUE,\"\",VLOOKUP($A32,データ作成貼付２!$A$2:$M$280,データ完成!H$1,FALSE))","v":""},{"$f":"IF(ISERROR(VLOOKUP($A32*10+1,データ作成貼付２!$B$2:$M$280,データ完成!I$1,FALSE))=TRUE,\"\",VLOOKUP($A32*10+1,データ作成貼付２!$B$2:$M$280,データ完成!I$1,FALSE))","v":""},{"$f":"IF(ISERROR(VLOOKUP($A32*10+2,データ作成貼付２!$B$2:$M$280,データ完成!J$1,FALSE))=TRUE,\"\",VLOOKUP($A32*10+2,データ作成貼付２!$B$2:$M$280,データ完成!J$1,FALSE))","v":""},{"$f":"IF(ISERROR(VLOOKUP($A32*10+3,データ作成貼付２!$B$2:$M$280,データ完成!K$1,FALSE))=TRUE,\"\",VLOOKUP($A32*10+3,データ作成貼付２!$B$2:$M$280,データ完成!K$1,FALSE))","v":""},{"$f":"IF(ISERROR(VLOOKUP($A32*10+4,データ作成貼付２!$B$2:$M$280,データ完成!L$1,FALSE))=TRUE,\"\",\"○\")","v":""},{"$f":"IF(L32=\"\",\"\",VLOOKUP($H32,記録入力1!$E$161:$O$190,11,FALSE))","v":""},{"$f":"IF(ISERROR(VLOOKUP($A32*10+5,データ作成貼付２!$B$2:$M$280,データ完成!N$1,FALSE))=TRUE,\"\",\"○\")","v":""},{"$f":"IF(N32=\"\",\"\",VLOOKUP($H32,記録入力1!$E$191:$O$290,11,FALSE))","v":""},{"$f":"IF(I32=\"\",\"\",VLOOKUP(LEFT(I32,5),初期設定1!$E$18:$F$59,2,FALSE))","v":""},"",{"$f":"VLOOKUP($Q32,記録入力1!$B$4:$I$287,8,FALSE)","v":{"$error":"#N/A"}},{"$f":"IF(J32=\"\",\"\",VLOOKUP(LEFT(J32,5),初期設定1!$E$18:$F$59,2,FALSE))","v":""},"",{"$f":"VLOOKUP($T32,記録入力1!$B$4:$I$287,8,FALSE)","v":{"$error":"#N/A"}},{"$f":"IF(K32=\"\",\"\",VLOOKUP(LEFT(K32,5),初期設定1!$E$18:$F$59,2,FALSE))","v":""},"",{"$f":"VLOOKUP($W32,記録入力1!$B$4:$I$287,8,FALSE)","v":{"$error":"#N/A"}},{"$f":"IF(G32=\"\",\"\",VLOOKUP(VALUE(RIGHT(G32,6)),学校番号!$A$2:$B$51,2))","v":""}]
[31,{"$f":"IF(ISERROR(VLOOKUP($A33,データ作成貼付２!$A$2:$M$280,データ完成!B$1,FALSE))=TRUE,\"\",VLOOKUP($A33,データ作成貼付２!$A$2:$M$280,データ完成!B$1,FALSE))","v":""},{"$f":"IF(ISERROR(VLOOKUP($A33,データ作成貼付２!$A$2:$M$280,データ完成!C$1,FALSE))=TRUE,\"\",VLOOKUP($A33,データ作成貼付２!$A$2:$M$280,データ完成!C$1,FALSE))","v":""},{"$f":"IF(ISERROR(VLOOKUP($A33,データ作成貼付２!$A$2:$M$280,データ完成!D$1,FALSE))=TRUE,\"\",VLOOKUP($A33,データ作成貼付２!$A$2:$M$280,データ完成!D$1,FALSE))","v":""},{"$f":"IF(ISERROR(VLOOKUP($A33,データ作成貼付２!$A$2:$M$280,データ完成!E$1,FALSE))=TRUE,\"\",VLOOKUP($A33,データ作成貼付２!$A$2:$M$280,データ完成!E$1,FALSE))","v":""},{"$f":"IF(ISERROR(VLOOKUP($A33,データ作成貼付２!$A$2:$M$280,データ完成!F$1,FALSE))=TRUE,\"\",VLOOKUP($A33,データ作成貼付２!$A$2:$M$280,データ完成!F$1,FALSE))","v":""},{"$f":"IF(ISERROR(VLOOKUP($A33,データ作成貼付２!$A$2:$M$280,データ完成!G$1,FALSE))=TRUE,\"\",VLOOKUP($A33,データ作成貼付２!$A$2:$M$280,データ完成!G$1,FALSE))","v":""},{"$f":"IF(ISERROR(VLOOKUP($A33,データ作成貼付２!$A$2:$M$280,データ完成!H$1,FALSE))=TRUE,\"\",VLOOKUP($A33,データ作成貼付２!$A$2:$M$280,データ完成!H$1,FALSE))","v":""},{"$f":"IF(ISERROR(VLOOKUP($A33*10+1,データ作成貼付２!$B$2:$M$280,データ完成!I$1,FALSE))=TRUE,\"\",VLOOKUP($A33*10+1,データ作成貼付２!$B$2:$M$280,データ完成!I$1,FALSE))","v":""},{"$f":"IF(ISERROR(VLOOKUP($A33*10+2,データ作成貼付２!$B$2:$M$280,データ完成!J$1,FALSE))=TRUE,\"\",VLOOKUP($A33*10+2,データ作成貼付２!$B$2:$M$280,データ完成!J$1,FALSE))","v":""},{"$f":"IF(ISERROR(VLOOKUP($A33*10+3,データ作成貼付２!$B$2:$M$280,データ完成!K$1,FALSE))=TRUE,\"\",VLOOKUP($A33*10+3,データ作成貼付２!$B$2:$M$280,データ完成!K$1,FALSE))","v":""},{"$f":"IF(ISERROR(VLOOKUP($A33*10+4,データ作成貼付２!$B$2:$M$280,データ完成!L$1,FALSE))=TRUE,\"\",\"○\")","v":""},{"$f":"IF(L33=\"\",\"\",VLOOKUP($H33,記録入力1!$E$161:$O$190,11,FALSE))","v":""},{"$f":"IF(ISERROR(VLOOKUP($A33*10+5,データ作成貼付２!$B$2:$M$280,データ完成!N$1,FALSE))=TRUE,\"\",\"○\")","v":""},{"$f":"IF(N33=\"\",\"\",VLOOKUP($H33,記録入力1!$E$191:$O$290,11,FALSE))","v":""},{"$f":"IF(I33=\"\",\"\",VLOOKUP(LEFT(I33,5),初期設定1!$E$18:$F$59,2,FALSE))","v":""},"",{"$f":"VLOOKUP($Q33,記録入力1!$B$4:$I$287,8,FALSE)","v":{"$error":"#N/A"}},{"$f":"IF(J33=\"\",\"\",VLOOKUP(LEFT(J33,5),初期設定1!$E$18:$F$59,2,FALSE))","v":""},"",{"$f":"VLOOKUP($T33,記録入力1!$B$4:$I$287,8,FALSE)","v":{"$error":"#N/A"}},{"$f":"IF(K33=\"\",\"\",VLOOKUP(LEFT(K33,5),初期設定1!$E$18:$F$59,2,FALSE))","v":""},"",{"$f":"VLOOKUP($W33,記録入力1!$B$4:$I$287,8,FALSE)","v":{"$error":"#N/A"}},{"$f":"IF(G33=\"\",\"\",VLOOKUP(VALUE(RIGHT(G33,6)),学校番号!$A$2:$B$51,2))","v":""}]
[32,{"$f":"IF(ISERROR(VLOOKUP($A34,データ作成貼付２!$A$2:$M$280,データ完成!B$1,FALSE))=TRUE,\"\",VLOOKUP($A34,データ作成貼付２!$A$2:$M$280,データ完成!B$1,FALSE))","v":""},{"$f":"IF(ISERROR(VLOOKUP($A34,データ作成貼付２!$A$2:$M$280,データ完成!C$1,FALSE))=TRUE,\"\",VLOOKUP($A34,データ作成貼付２!$A$2:$M$280,データ完成!C$1,FALSE))","v":""},{"$f":"IF(ISERROR(VLOOKUP($A34,データ作成貼付２!$A$2:$M$280,データ完成!D$1,FALSE))=TRUE,\"\",VLOOKUP($A34,データ作成貼付２!$A$2:$M$280,データ完成!D$1,FALSE))","v":""},{"$f":"IF(ISERROR(VLOOKUP($A34,データ作成貼付２!$A$2:$M$280,データ完成!E$1,FALSE))=TRUE,\"\",VLOOKUP($A34,データ作成貼付２!$A$2:$M$280,データ完成!E$1,FALSE))","v":""},{"$f":"IF(ISERROR(VLOOKUP($A34,データ作成貼付２!$A$2:$M$280,データ完成!F$1,FALSE))=TRUE,\"\",VLOOKUP($A34,データ作成貼付２!$A$2:$M$280,データ完成!F$1,FALSE))","v":""},{"$f":"IF(ISERROR(VLOOKUP($A34,データ作成貼付２!$A$2:$M$280,データ完成!G$1,FALSE))=TRUE,\"\",VLOOKUP($A34,データ作成貼付２!$A$2:$M$280,データ完成!G$1,FALSE))","v":""},{"$f":"IF(ISERROR(VLOOKUP($A34,データ作成貼付２!$A$2:$M$280,データ完成!H$1,FALSE))=TRUE,\"\",VLOOKUP($A34,データ作成貼付２!$A$2:$M$280,データ完成!H$1,FALSE))","v":""},{"$f":"IF(ISERROR(VLOOKUP($A34*10+1,データ作成貼付２!$B$2:$M$280,データ完成!I$1,FALSE))=TRUE,\"\",VLOOKUP($A34*10+1,データ作成貼付２!$B$2:$M$280,データ完成!I$1,FALSE))","v":""},{"$f":"IF(ISERROR(VLOOKUP($A34*10+2,データ作成貼付２!$B$2:$M$280,データ完成!J$1,FALSE))=TRUE,\"\",VLOOKUP($A34*10+2,データ作成貼付２!$B$2:$M$280,データ完成!J$1,FALSE))","v":""},{"$f":"IF(ISERROR(VLOOKUP($A34*10+3,データ作成貼付２!$B$2:$M$280,データ完成!K$1,FALSE))=TRUE,\"\",VLOOKUP($A34*10+3,データ作成貼付２!$B$2:$M$280,データ完成!K$1,FALSE))","v":""},{"$f":"IF(ISERROR(VLOOKUP($A34*10+4,データ作成貼付２!$B$2:$M$280,データ完成!L$1,FALSE))=TRUE,\"\",\"○\")","v":""},{"$f":"IF(L34=\"\",\"\",VLOOKUP($H34,記録入力1!$E$161:$O$190,11,FALSE))","v":""},{"$f":"IF(ISERROR(VLOOKUP($A34*10+5,データ作成貼付２!$B$2:$M$280,データ完成!N$1,FALSE))=TRUE,\"\",\"○\")","v":""},{"$f":"IF(N34=\"\",\"\",VLOOKUP($H34,記録入力1!$E$191:$O$290,11,FALSE))","v":""},{"$f":"IF(I34=\"\",\"\",VLOOKUP(LEFT(I34,5),初期設定1!$E$18:$F$59,2,FALSE))","v":""},"",{"$f":"VLOOKUP($Q34,記録入力1!$B$4:$I$287,8,FALSE)","v":{"$error":"#N/A"}},{"$f":"IF(J34=\"\",\"\",VLOOKUP(LEFT(J34,5),初期設定1!$E$18:$F$59,2,FALSE))","v":""},"",{"$f":"VLOOKUP($T34,記録入力1!$B$4:$I$287,8,FALSE)","v":{"$error":"#N/A"}},{"$f":"IF(K34=\"\",\"\",VLOOKUP(LEFT(K34,5),初期設定1!$E$18:$F$59,2,FALSE))","v":""},"",{"$f":"VLOOKUP($W34,記録入力1!$B$4:$I$287,8,FALSE)","v":{"$error":"#N/A"}},{"$f":"IF(G34=\"\",\"\",VLOOKUP(VALUE(RIGHT(G34,6)),学校番号!$A$2:$B$51,2))","v":""}]
[33,{"$f":"IF(ISERROR(VLOOKUP($A35,データ作成貼付２!$A$2:$M$280,データ完成!B$1,FALSE))=TRUE,\"\",VLOOKUP($A35,データ作成貼付２!$A$2:$M$280,データ完成!B$1,FALSE))","v":""},{"$f":"IF(ISERROR(VLOOKUP($A35,データ作成貼付２!$A$2:$M$280,データ完成!C$1,FALSE))=TRUE,\"\",VLOOKUP($A35,データ作成貼付２!$A$2:$M$280,データ完成!C$1,FALSE))","v":""},{"$f":"IF(ISERROR(VLOOKUP($A35,データ作成貼付２!$A$2:$M$280,データ完成!D$1,FALSE))=TRUE,\"\",VLOOKUP($A35,データ作成貼付２!$A$2:$M$280,データ完成!D$1,FALSE))","v":""},{"$f":"IF(ISERROR(VLOOKUP($A35,データ作成貼付２!$A$2:$M$280,データ完成!E$1,FALSE))=TRUE,\"\",VLOOKUP($A35,データ作成貼付２!$A$2:$M$280,データ完成!E$1,FALSE))","v":""},{"$f":"IF(ISERROR(VLOOKUP($A35,データ作成貼付２!$A$2:$M$280,データ完成!F$1,FALSE))=TRUE,\"\",VLOOKUP($A35,データ作成貼付２!$A$2:$M$280,データ完成!F$1,FALSE))","v":""},{"$f":"IF(ISERROR(VLOOKUP($A35,データ作成貼付２!$A$2:$M$280,データ完成!G$1,FALSE))=TRUE,\"\",VLOOKUP($A35,データ作成貼付２!$A$2:$M$280,データ完成!G$1,FALSE))","v":""},{"$f":"IF(ISERROR(VLOOKUP($A35,データ作成貼付２!$A$2:$M$280,データ完成!H$1,FALSE))=TRUE,\"\",VLOOKUP($A35,データ作成貼付２!$A$2:$M$280,データ完成!H$1,FALSE))","v":""},{"$f":"IF(ISERROR(VLOOKUP($A35*10+1,データ作成貼付２!$B$2:$M$280,データ完成!I$1,FALSE))=TRUE,\"\",VLOOKUP($A35*10+1,データ作成貼付２!$B$2:$M$280,データ完成!I$1,FALSE))","v":""},{"$f":"IF(ISERROR(VLOOKUP($A35*10+2,データ作成貼付２!$B$2:$M$280,データ完成!J$1,FALSE))=TRUE,\"\",VLOOKUP($A35*10+2,データ作成貼付２!$B$2:$M$280,データ完成!J$1,FALSE))","v":""},{"$f":"IF(ISERROR(VLOOKUP($A35*10+3,データ作成貼付２!$B$2:$M$280,データ完成!K$1,FALSE))=TRUE,\"\",VLOOKUP($A35*10+3,データ作成貼付２!$B$2:$M$280,データ完成!K$1,FALSE))","v":""},{"$f":"IF(ISERROR(VLOOKUP($A35*10+4,データ作成貼付２!$B$2:$M$280,データ完成!L$1,FALSE))=TRUE,\"\",\"○\")","v":""},{"$f":"IF(L35=\"\",\"\",VLOOKUP($H35,記録入力1!$E$161:$O$190,11,FALSE))","v":""},{"$f":"IF(ISERROR(VLOOKUP($A35*10+5,データ作成貼付２!$B$2:$M$280,データ完成!N$1,FALSE))=TRUE,\"\",\"○\")","v":""},{"$f":"IF(N35=\"\",\"\",VLOOKUP($H35,記録入力1!$E$191:$O$290,11,FALSE))","v":""},{"$f":"IF(I35=\"\",\"\",VLOOKUP(LEFT(I35,5),初期設定1!$E$18:$F$59,2,FALSE))","v":""},"",{"$f":"VLOOKUP($Q35,記録入力1!$B$4:$I$287,8,FALSE)","v":{"$error":"#N/A"}},{"$f":"IF(J35=\"\",\"\",VLOOKUP(LEFT(J35,5),初期設定1!$E$18:$F$59,2,FALSE))","v":""},"",{"$f":"VLOOKUP($T35,記録入力1!$B$4:$I$287,8,FALSE)","v":{"$error":"#N/A"}},{"$f":"IF(K35=\"\",\"\",VLOOKUP(LEFT(K35,5),初期設定1!$E$18:$F$59,2,FALSE))","v":""},"",{"$f":"VLOOKUP($W35,記録入力1!$B$4:$I$287,8,FALSE)","v":{"$error":"#N/A"}},{"$f":"IF(G35=\"\",\"\",VLOOKUP(VALUE(RIGHT(G35,6)),学校番号!$A$2:$B$51,2))","v":""}]
[34,{"$f":"IF(ISERROR(VLOOKUP($A36,データ作成貼付２!$A$2:$M$280,データ完成!B$1,FALSE))=TRUE,\"\",VLOOKUP($A36,データ作成貼付２!$A$2:$M$280,データ完成!B$1,FALSE))","v":""},{"$f":"IF(ISERROR(VLOOKUP($A36,データ作成貼付２!$A$2:$M$280,データ完成!C$1,FALSE))=TRUE,\"\",VLOOKUP($A36,データ作成貼付２!$A$2:$M$280,データ完成!C$1,FALSE))","v":""},{"$f":"IF(ISERROR(VLOOKUP($A36,データ作成貼付２!$A$2:$M$280,データ完成!D$1,FALSE))=TRUE,\"\",VLOOKUP($A36,データ作成貼付２!$A$2:$M$280,データ完成!D$1,FALSE))","v":""},{"$f":"IF(ISERROR(VLOOKUP($A36,データ作成貼付２!$A$2:$M$280,データ完成!E$1,FALSE))=TRUE,\"\",VLOOKUP($A36,データ作成貼付２!$A$2:$M$280,データ完成!E$1,FALSE))","v":""},{"$f":"IF(ISERROR(VLOOKUP($A36,データ作成貼付２!$A$2:$M$280,データ完成!F$1,FALSE))=TRUE,\"\",VLOOKUP($A36,データ作成貼付２!$A$2:$M$280,データ完成!F$1,FALSE))","v":""},{"$f":"IF(ISERROR(VLOOKUP($A36,データ作成貼付２!$A$2:$M$280,データ完成!G$1,FALSE))=TRUE,\"\",VLOOKUP($A36,データ作成貼付２!$A$2:$M$280,データ完成!G$1,FALSE))","v":""},{"$f":"IF(ISERROR(VLOOKUP($A36,データ作成貼付２!$A$2:$M$280,データ完成!H$1,FALSE))=TRUE,\"\",VLOOKUP($A36,データ作成貼付２!$A$2:$M$280,データ完成!H$1,FALSE))","v":""},{"$f":"IF(ISERROR(VLOOKUP($A36*10+1,データ作成貼付２!$B$2:$M$280,データ完成!I$1,FALSE))=TRUE,\"\",VLOOKUP($A36*10+1,データ作成貼付２!$B$2:$M$280,データ完成!I$1,FALSE))","v":""},{"$f":"IF(ISERROR(VLOOKUP($A36*10+2,データ作成貼付２!$B$2:$M$280,データ完成!J$1,FALSE))=TRUE,\"\",VLOOKUP($A36*10+2,データ作成貼付２!$B$2:$M$280,データ完成!J$1,FALSE))","v":""},{"$f":"IF(ISERROR(VLOOKUP($A36*10+3,データ作成貼付２!$B$2:$M$280,データ完成!K$1,FALSE))=TRUE,\"\",VLOOKUP($A36*10+3,データ作成貼付２!$B$2:$M$280,データ完成!K$1,FALSE))","v":""},{"$f":"IF(ISERROR(VLOOKUP($A36*10+4,データ作成貼付２!$B$2:$M$280,データ完成!L$1,FALSE))=TRUE,\"\",\"○\")","v":""},{"$f":"IF(L36=\"\",\"\",VLOOKUP($H36,記録入力1!$E$161:$O$190,11,FALSE))","v":""},{"$f":"IF(ISERROR(VLOOKUP($A36*10+5,データ作成貼付２!$B$2:$M$280,データ完成!N$1,FALSE))=TRUE,\"\",\"○\")","v":""},{"$f":"IF(N36=\"\",\"\",VLOOKUP($H36,記録入力1!$E$191:$O$290,11,FALSE))","v":""},{"$f":"IF(I36=\"\",\"\",VLOOKUP(LEFT(I36,5),初期設定1!$E$18:$F$59,2,FALSE))","v":""},"",{"$f":"VLOOKUP($Q36,記録入力1!$B$4:$I$287,8,FALSE)","v":{"$error":"#N/A"}},{"$f":"IF(J36=\"\",\"\",VLOOKUP(LEFT(J36,5),初期設定1!$E$18:$F$59,2,FALSE))","v":""},"",{"$f":"VLOOKUP($T36,記録入力1!$B$4:$I$287,8,FALSE)","v":{"$error":"#N/A"}},{"$f":"IF(K36=\"\",\"\",VLOOKUP(LEFT(K36,5),初期設定1!$E$18:$F$59,2,FALSE))","v":""},"",{"$f":"VLOOKUP($W36,記録入力1!$B$4:$I$287,8,FALSE)","v":{"$error":"#N/A"}},{"$f":"IF(G36=\"\",\"\",VLOOKUP(VALUE(RIGHT(G36,6)),学校番号!$A$2:$B$51,2))","v":""}]
[35,{"$f":"IF(ISERROR(VLOOKUP($A37,データ作成貼付２!$A$2:$M$280,データ完成!B$1,FALSE))=TRUE,\"\",VLOOKUP($A37,データ作成貼付２!$A$2:$M$280,データ完成!B$1,FALSE))","v":""},{"$f":"IF(ISERROR(VLOOKUP($A37,データ作成貼付２!$A$2:$M$280,データ完成!C$1,FALSE))=TRUE,\"\",VLOOKUP($A37,データ作成貼付２!$A$2:$M$280,データ完成!C$1,FALSE))","v":""},{"$f":"IF(ISERROR(VLOOKUP($A37,データ作成貼付２!$A$2:$M$280,データ完成!D$1,FALSE))=TRUE,\"\",VLOOKUP($A37,データ作成貼付２!$A$2:$M$280,データ完成!D$1,FALSE))","v":""},{"$f":"IF(ISERROR(VLOOKUP($A37,データ作成貼付２!$A$2:$M$280,データ完成!E$1,FALSE))=TRUE,\"\",VLOOKUP($A37,データ作成貼付２!$A$2:$M$280,データ完成!E$1,FALSE))","v":""},{"$f":"IF(ISERROR(VLOOKUP($A37,データ作成貼付２!$A$2:$M$280,データ完成!F$1,FALSE))=TRUE,\"\",VLOOKUP($A37,データ作成貼付２!$A$2:$M$280,データ完成!F$1,FALSE))","v":""},{"$f":"IF(ISERROR(VLOOKUP($A37,データ作成貼付２!$A$2:$M$280,データ完成!G$1,FALSE))=TRUE,\"\",VLOOKUP($A37,データ作成貼付２!$A$2:$M$280,データ完成!G$1,FALSE))","v":""},{"$f":"IF(ISERROR(VLOOKUP($A37,データ作成貼付２!$A$2:$M$280,データ完成!H$1,FALSE))=TRUE,\"\",VLOOKUP($A37,データ作成貼付２!$A$2:$M$280,データ完成!H$1,FALSE))","v":""},{"$f":"IF(ISERROR(VLOOKUP($A37*10+1,データ作成貼付２!$B$2:$M$280,データ完成!I$1,FALSE))=TRUE,\"\",VLOOKUP($A37*10+1,データ作成貼付２!$B$2:$M$280,データ完成!I$1,FALSE))","v":""},{"$f":"IF(ISERROR(VLOOKUP($A37*10+2,データ作成貼付２!$B$2:$M$280,データ完成!J$1,FALSE))=TRUE,\"\",VLOOKUP($A37*10+2,データ作成貼付２!$B$2:$M$280,データ完成!J$1,FALSE))","v":""},{"$f":"IF(ISERROR(VLOOKUP($A37*10+3,データ作成貼付２!$B$2:$M$280,データ完成!K$1,FALSE))=TRUE,\"\",VLOOKUP($A37*10+3,データ作成貼付２!$B$2:$M$280,データ完成!K$1,FALSE))","v":""},{"$f":"IF(ISERROR(VLOOKUP($A37*10+4,データ作成貼付２!$B$2:$M$280,データ完成!L$1,FALSE))=TRUE,\"\",\"○\")","v":""},{"$f":"IF(L37=\"\",\"\",VLOOKUP($H37,記録入力1!$E$161:$O$190,11,FALSE))","v":""},{"$f":"IF(ISERROR(VLOOKUP($A37*10+5,データ作成貼付２!$B$2:$M$280,データ完成!N$1,FALSE))=TRUE,\"\",\"○\")","v":""},{"$f":"IF(N37=\"\",\"\",VLOOKUP($H37,記録入力1!$E$191:$O$290,11,FALSE))","v":""},{"$f":"IF(I37=\"\",\"\",VLOOKUP(LEFT(I37,5),初期設定1!$E$18:$F$59,2,FALSE))","v":""},"",{"$f":"VLOOKUP($Q37,記録入力1!$B$4:$I$287,8,FALSE)","v":{"$error":"#N/A"}},{"$f":"IF(J37=\"\",\"\",VLOOKUP(LEFT(J37,5),初期設定1!$E$18:$F$59,2,FALSE))","v":""},"",{"$f":"VLOOKUP($T37,記録入力1!$B$4:$I$287,8,FALSE)","v":{"$error":"#N/A"}},{"$f":"IF(K37=\"\",\"\",VLOOKUP(LEFT(K37,5),初期設定1!$E$18:$F$59,2,FALSE))","v":""},"",{"$f":"VLOOKUP($W37,記録入力1!$B$4:$I$287,8,FALSE)","v":{"$error":"#N/A"}},{"$f":"IF(G37=\"\",\"\",VLOOKUP(VALUE(RIGHT(G37,6)),学校番号!$A$2:$B$51,2))","v":""}]
[36,{"$f":"IF(ISERROR(VLOOKUP($A38,データ作成貼付２!$A$2:$M$280,データ完成!B$1,FALSE))=TRUE,\"\",VLOOKUP($A38,データ作成貼付２!$A$2:$M$280,データ完成!B$1,FALSE))","v":""},{"$f":"IF(ISERROR(VLOOKUP($A38,データ作成貼付２!$A$2:$M$280,データ完成!C$1,FALSE))=TRUE,\"\",VLOOKUP($A38,データ作成貼付２!$A$2:$M$280,データ完成!C$1,FALSE))","v":""},{"$f":"IF(ISERROR(VLOOKUP($A38,データ作成貼付２!$A$2:$M$280,データ完成!D$1,FALSE))=TRUE,\"\",VLOOKUP($A38,データ作成貼付２!$A$2:$M$280,データ完成!D$1,FALSE))","v":""},{"$f":"IF(ISERROR(VLOOKUP($A38,データ作成貼付２!$A$2:$M$280,データ完成!E$1,FALSE))=TRUE,\"\",VLOOKUP($A38,データ作成貼付２!$A$2:$M$280,データ完成!E$1,FALSE))","v":""},{"$f":"IF(ISERROR(VLOOKUP($A38,データ作成貼付２!$A$2:$M$280,データ完成!F$1,FALSE))=TRUE,\"\",VLOOKUP($A38,データ作成貼付２!$A$2:$M$280,データ完成!F$1,FALSE))","v":""},{"$f":"IF(ISERROR(VLOOKUP($A38,データ作成貼付２!$A$2:$M$280,データ完成!G$1,FALSE))=TRUE,\"\",VLOOKUP($A38,データ作成貼付２!$A$2:$M$280,データ完成!G$1,FALSE))","v":""},{"$f":"IF(ISERROR(VLOOKUP($A38,データ作成貼付２!$A$2:$M$280,データ完成!H$1,FALSE))=TRUE,\"\",VLOOKUP($A38,データ作成貼付２!$A$2:$M$280,データ完成!H$1,FALSE))","v":""},{"$f":"IF(ISERROR(VLOOKUP($A38*10+1,データ作成貼付２!$B$2:$M$280,データ完成!I$1,FALSE))=TRUE,\"\",VLOOKUP($A38*10+1,データ作成貼付２!$B$2:$M$280,データ完成!I$1,FALSE))","v":""},{"$f":"IF(ISERROR(VLOOKUP($A38*10+2,データ作成貼付２!$B$2:$M$280,データ完成!J$1,FALSE))=TRUE,\"\",VLOOKUP($A38*10+2,データ作成貼付２!$B$2:$M$280,データ完成!J$1,FALSE))","v":""},{"$f":"IF(ISERROR(VLOOKUP($A38*10+3,データ作成貼付２!$B$2:$M$280,データ完成!K$1,FALSE))=TRUE,\"\",VLOOKUP($A38*10+3,データ作成貼付２!$B$2:$M$280,データ完成!K$1,FALSE))","v":""},{"$f":"IF(ISERROR(VLOOKUP($A38*10+4,データ作成貼付２!$B$2:$M$280,データ完成!L$1,FALSE))=TRUE,\"\",\"○\")","v":""},{"$f":"IF(L38=\"\",\"\",VLOOKUP($H38,記録入力1!$E$161:$O$190,11,FALSE))","v":""},{"$f":"IF(ISERROR(VLOOKUP($A38*10+5,データ作成貼付２!$B$2:$M$280,データ完成!N$1,FALSE))=TRUE,\"\",\"○\")","v":""},{"$f":"IF(N38=\"\",\"\",VLOOKUP($H38,記録入力1!$E$191:$O$290,11,FALSE))","v":""},{"$f":"IF(I38=\"\",\"\",VLOOKUP(LEFT(I38,5),初期設定1!$E$18:$F$59,2,FALSE))","v":""},"",{"$f":"VLOOKUP($Q38,記録入力1!$B$4:$I$287,8,FALSE)","v":{"$error":"#N/A"}},{"$f":"IF(J38=\"\",\"\",VLOOKUP(LEFT(J38,5),初期設定1!$E$18:$F$59,2,FALSE))","v":""},"",{"$f":"VLOOKUP($T38,記録入力1!$B$4:$I$287,8,FALSE)","v":{"$error":"#N/A"}},{"$f":"IF(K38=\"\",\"\",VLOOKUP(LEFT(K38,5),初期設定1!$E$18:$F$59,2,FALSE))","v":""},"",{"$f":"VLOOKUP($W38,記録入力1!$B$4:$I$287,8,FALSE)","v":{"$error":"#N/A"}},{"$f":"IF(G38=\"\",\"\",VLOOKUP(VALUE(RIGHT(G38,6)),学校番号!$A$2:$B$51,2))","v":""}]
[37,{"$f":"IF(ISERROR(VLOOKUP($A39,データ作成貼付２!$A$2:$M$280,データ完成!B$1,FALSE))=TRUE,\"\",VLOOKUP($A39,データ作成貼付２!$A$2:$M$280,データ完成!B$1,FALSE))","v":""},{"$f":"IF(ISERROR(VLOOKUP($A39,データ作成貼付２!$A$2:$M$280,データ完成!C$1,FALSE))=TRUE,\"\",VLOOKUP($A39,データ作成貼付２!$A$2:$M$280,データ完成!C$1,FALSE))","v":""},{"$f":"IF(ISERROR(VLOOKUP($A39,データ作成貼付２!$A$2:$M$280,データ完成!D$1,FALSE))=TRUE,\"\",VLOOKUP($A39,データ作成貼付２!$A$2:$M$280,データ完成!D$1,FALSE))","v":""},{"$f":"IF(ISERROR(VLOOKUP($A39,データ作成貼付２!$A$2:$M$280,データ完成!E$1,FALSE))=TRUE,\"\",VLOOKUP($A39,データ作成貼付２!$A$2:$M$280,データ完成!E$1,FALSE))","v":""},{"$f":"IF(ISERROR(VLOOKUP($A39,データ作成貼付２!$A$2:$M$280,データ完成!F$1,FALSE))=TRUE,\"\",VLOOKUP($A39,データ作成貼付２!$A$2:$M$280,データ完成!F$1,FALSE))","v":""},{"$f":"IF(ISERROR(VLOOKUP($A39,データ作成貼付２!$A$2:$M$280,データ完成!G$1,FALSE))=TRUE,\"\",VLOOKUP($A39,データ作成貼付２!$A$2:$M$280,データ完成!G$1,FALSE))","v":""},{"$f":"IF(ISERROR(VLOOKUP($A39,データ作成貼付２!$A$2:$M$280,データ完成!H$1,FALSE))=TRUE,\"\",VLOOKUP($A39,データ作成貼付２!$A$2:$M$280,データ完成!H$1,FALSE))","v":""},{"$f":"IF(ISERROR(VLOOKUP($A39*10+1,データ作成貼付２!$B$2:$M$280,データ完成!I$1,FALSE))=TRUE,\"\",VLOOKUP($A39*10+1,データ作成貼付２!$B$2:$M$280,データ完成!I$1,FALSE))","v":""},{"$f":"IF(ISERROR(VLOOKUP($A39*10+2,データ作成貼付２!$B$2:$M$280,データ完成!J$1,FALSE))=TRUE,\"\",VLOOKUP($A39*10+2,データ作成貼付２!$B$2:$M$280,データ完成!J$1,FALSE))","v":""},{"$f":"IF(ISERROR(VLOOKUP($A39*10+3,データ作成貼付２!$B$2:$M$280,データ完成!K$1,FALSE))=TRUE,\"\",VLOOKUP($A39*10+3,データ作成貼付２!$B$2:$M$280,データ完成!K$1,FALSE))","v":""},{"$f":"IF(ISERROR(VLOOKUP($A39*10+4,データ作成貼付２!$B$2:$M$280,データ完成!L$1,FALSE))=TRUE,\"\",\"○\")","v":""},{"$f":"IF(L39=\"\",\"\",VLOOKUP($H39,記録入力1!$E$161:$O$190,11,FALSE))","v":""},{"$f":"IF(ISERROR(VLOOKUP($A39*10+5,データ作成貼付２!$B$2:$M$280,データ完成!N$1,FALSE))=TRUE,\"\",\"○\")","v":""},{"$f":"IF(N39=\"\",\"\",VLOOKUP($H39,記録入力1!$E$191:$O$290,11,FALSE))","v":""},{"$f":"IF(I39=\"\",\"\",VLOOKUP(LEFT(I39,5),初期設定1!$E$18:$F$59,2,FALSE))","v":""},"",{"$f":"VLOOKUP($Q39,記録入力1!$B$4:$I$287,8,FALSE)","v":{"$error":"#N/A"}},{"$f":"IF(J39=\"\",\"\",VLOOKUP(LEFT(J39,5),初期設定1!$E$18:$F$59,2,FALSE))","v":""},"",{"$f":"VLOOKUP($T39,記録入力1!$B$4:$I$287,8,FALSE)","v":{"$error":"#N/A"}},{"$f":"IF(K39=\"\",\"\",VLOOKUP(LEFT(K39,5),初期設定1!$E$18:$F$59,2,FALSE))","v":""},"",{"$f":"VLOOKUP($W39,記録入力1!$B$4:$I$287,8,FALSE)","v":{"$error":"#N/A"}},{"$f":"IF(G39=\"\",\"\",VLOOKUP(VALUE(RIGHT(G39,6)),学校番号!$A$2:$B$51,2))","v":""}]
[38,{"$f":"IF(ISERROR(VLOOKUP($A40,データ作成貼付２!$A$2:$M$280,データ完成!B$1,FALSE))=TRUE,\"\",VLOOKUP($A40,データ作成貼付２!$A$2:$M$280,データ完成!B$1,FALSE))","v":""},{"$f":"IF(ISERROR(VLOOKUP($A40,データ作成貼付２!$A$2:$M$280,データ完成!C$1,FALSE))=TRUE,\"\",VLOOKUP($A40,データ作成貼付２!$A$2:$M$280,データ完成!C$1,FALSE))","v":""},{"$f":"IF(ISERROR(VLOOKUP($A40,データ作成貼付２!$A$2:$M$280,データ完成!D$1,FALSE))=TRUE,\"\",VLOOKUP($A40,データ作成貼付２!$A$2:$M$280,データ完成!D$1,FALSE))","v":""},{"$f":"IF(ISERROR(VLOOKUP($A40,データ作成貼付２!$A$2:$M$280,データ完成!E$1,FALSE))=TRUE,\"\",VLOOKUP($A40,データ作成貼付２!$A$2:$M$280,データ完成!E$1,FALSE))","v":""},{"$f":"IF(ISERROR(VLOOKUP($A40,データ作成貼付２!$A$2:$M$280,データ完成!F$1,FALSE))=TRUE,\"\",VLOOKUP($A40,データ作成貼付２!$A$2:$M$280,データ完成!F$1,FALSE))","v":""},{"$f":"IF(ISERROR(VLOOKUP($A40,データ作成貼付２!$A$2:$M$280,データ完成!G$1,FALSE))=TRUE,\"\",VLOOKUP($A40,データ作成貼付２!$A$2:$M$280,データ完成!G$1,FALSE))","v":""},{"$f":"IF(ISERROR(VLOOKUP($A40,データ作成貼付２!$A$2:$M$280,データ完成!H$1,FALSE))=TRUE,\"\",VLOOKUP($A40,データ作成貼付２!$A$2:$M$280,データ完成!H$1,FALSE))","v":""},{"$f":"IF(ISERROR(VLOOKUP($A40*10+1,データ作成貼付２!$B$2:$M$280,データ完成!I$1,FALSE))=TRUE,\"\",VLOOKUP($A40*10+1,データ作成貼付２!$B$2:$M$280,データ完成!I$1,FALSE))","v":""},{"$f":"IF(ISERROR(VLOOKUP($A40*10+2,データ作成貼付２!$B$2:$M$280,データ完成!J$1,FALSE))=TRUE,\"\",VLOOKUP($A40*10+2,データ作成貼付２!$B$2:$M$280,データ完成!J$1,FALSE))","v":""},{"$f":"IF(ISERROR(VLOOKUP($A40*10+3,データ作成貼付２!$B$2:$M$280,データ完成!K$1,FALSE))=TRUE,\"\",VLOOKUP($A40*10+3,データ作成貼付２!$B$2:$M$280,データ完成!K$1,FALSE))","v":""},{"$f":"IF(ISERROR(VLOOKUP($A40*10+4,データ作成貼付２!$B$2:$M$280,データ完成!L$1,FALSE))=TRUE,\"\",\"○\")","v":""},{"$f":"IF(L40=\"\",\"\",VLOOKUP($H40,記録入力1!$E$161:$O$190,11,FALSE))","v":""},{"$f":"IF(ISERROR(VLOOKUP($A40*10+5,データ作成貼付２!$B$2:$M$280,データ完成!N$1,FALSE))=TRUE,\"\",\"○\")","v":""},{"$f":"IF(N40=\"\",\"\",VLOOKUP($H40,記録入力1!$E$191:$O$290,11,FALSE))","v":""},{"$f":"IF(I40=\"\",\"\",VLOOKUP(LEFT(I40,5),初期設定1!$E$18:$F$59,2,FALSE))","v":""},"",{"$f":"VLOOKUP($Q40,記録入力1!$B$4:$I$287,8,FALSE)","v":{"$error":"#N/A"}},{"$f":"IF(J40=\"\",\"\",VLOOKUP(LEFT(J40,5),初期設定1!$E$18:$F$59,2,FALSE))","v":""},"",{"$f":"VLOOKUP($T40,記録入力1!$B$4:$I$287,8,FALSE)","v":{"$error":"#N/A"}},{"$f":"IF(K40=\"\",\"\",VLOOKUP(LEFT(K40,5),初期設定1!$E$18:$F$59,2,FALSE))","v":""},"",{"$f":"VLOOKUP($W40,記録入力1!$B$4:$I$287,8,FALSE)","v":{"$error":"#N/A"}},{"$f":"IF(G40=\"\",\"\",VLOOKUP(VALUE(RIGHT(G40,6)),学校番号!$A$2:$B$51,2))","v":""}]
[39,{"$f":"IF(ISERROR(VLOOKUP($A41,データ作成貼付２!$A$2:$M$280,データ完成!B$1,FALSE))=TRUE,\"\",VLOOKUP($A41,データ作成貼付２!$A$2:$M$280,データ完成!B$1,FALSE))","v":""},{"$f":"IF(ISERROR(VLOOKUP($A41,データ作成貼付２!$A$2:$M$280,データ完成!C$1,FALSE))=TRUE,\"\",VLOOKUP($A41,データ作成貼付２!$A$2:$M$280,データ完成!C$1,FALSE))","v":""},{"$f":"IF(ISERROR(VLOOKUP($A41,データ作成貼付２!$A$2:$M$280,データ完成!D$1,FALSE))=TRUE,\"\",VLOOKUP($A41,データ作成貼付２!$A$2:$M$280,データ完成!D$1,FALSE))","v":""},{"$f":"IF(ISERROR(VLOOKUP($A41,データ作成貼付２!$A$2:$M$280,データ完成!E$1,FALSE))=TRUE,\"\",VLOOKUP($A41,データ作成貼付２!$A$2:$M$280,データ完成!E$1,FALSE))","v":""},{"$f":"IF(ISERROR(VLOOKUP($A41,データ作成貼付２!$A$2:$M$280,データ完成!F$1,FALSE))=TRUE,\"\",VLOOKUP($A41,データ作成貼付２!$A$2:$M$280,データ完成!F$1,FALSE))","v":""},{"$f":"IF(ISERROR(VLOOKUP($A41,データ作成貼付２!$A$2:$M$280,データ完成!G$1,FALSE))=TRUE,\"\",VLOOKUP($A41,データ作成貼付２!$A$2:$M$280,データ完成!G$1,FALSE))","v":""},{"$f":"IF(ISERROR(VLOOKUP($A41,データ作成貼付２!$A$2:$M$280,データ完成!H$1,FALSE))=TRUE,\"\",VLOOKUP($A41,データ作成貼付２!$A$2:$M$280,データ完成!H$1,FALSE))","v":""},{"$f":"IF(ISERROR(VLOOKUP($A41*10+1,データ作成貼付２!$B$2:$M$280,データ完成!I$1,FALSE))=TRUE,\"\",VLOOKUP($A41*10+1,データ作成貼付２!$B$2:$M$280,データ完成!I$1,FALSE))","v":""},{"$f":"IF(ISERROR(VLOOKUP($A41*10+2,データ作成貼付２!$B$2:$M$280,データ完成!J$1,FALSE))=TRUE,\"\",VLOOKUP($A41*10+2,データ作成貼付２!$B$2:$M$280,データ完成!J$1,FALSE))","v":""},{"$f":"IF(ISERROR(VLOOKUP($A41*10+3,データ作成貼付２!$B$2:$M$280,データ完成!K$1,FALSE))=TRUE,\"\",VLOOKUP($A41*10+3,データ作成貼付２!$B$2:$M$280,データ完成!K$1,FALSE))","v":""},{"$f":"IF(ISERROR(VLOOKUP($A41*10+4,データ作成貼付２!$B$2:$M$280,データ完成!L$1,FALSE))=TRUE,\"\",\"○\")","v":""},{"$f":"IF(L41=\"\",\"\",VLOOKUP($H41,記録入力1!$E$161:$O$190,11,FALSE))","v":""},{"$f":"IF(ISERROR(VLOOKUP($A41*10+5,データ作成貼付２!$B$2:$M$280,データ完成!N$1,FALSE))=TRUE,\"\",\"○\")","v":""},{"$f":"IF(N41=\"\",\"\",VLOOKUP($H41,記録入力1!$E$191:$O$290,11,FALSE))","v":""},{"$f":"IF(I41=\"\",\"\",VLOOKUP(LEFT(I41,5),初期設定1!$E$18:$F$59,2,FALSE))","v":""},"",{"$f":"VLOOKUP($Q41,記録入力1!$B$4:$I$287,8,FALSE)","v":{"$error":"#N/A"}},{"$f":"IF(J41=\"\",\"\",VLOOKUP(LEFT(J41,5),初期設定1!$E$18:$F$59,2,FALSE))","v":""},"",{"$f":"VLOOKUP($T41,記録入力1!$B$4:$I$287,8,FALSE)","v":{"$error":"#N/A"}},{"$f":"IF(K41=\"\",\"\",VLOOKUP(LEFT(K41,5),初期設定1!$E$18:$F$59,2,FALSE))","v":""},"",{"$f":"VLOOKUP($W41,記録入力1!$B$4:$I$287,8,FALSE)","v":{"$error":"#N/A"}},{"$f":"IF(G41=\"\",\"\",VLOOKUP(VALUE(RIGHT(G41,6)),学校番号!$A$2:$B$51,2))","v":""}]
[40,{"$f":"IF(ISERROR(VLOOKUP($A42,データ作成貼付２!$A$2:$M$280,データ完成!B$1,FALSE))=TRUE,\"\",VLOOKUP($A42,データ作成貼付２!$A$2:$M$280,データ完成!B$1,FALSE))","v":""},{"$f":"IF(ISERROR(VLOOKUP($A42,データ作成貼付２!$A$2:$M$280,データ完成!C$1,FALSE))=TRUE,\"\",VLOOKUP($A42,データ作成貼付２!$A$2:$M$280,データ完成!C$1,FALSE))","v":""},{"$f":"IF(ISERROR(VLOOKUP($A42,データ作成貼付２!$A$2:$M$280,データ完成!D$1,FALSE))=TRUE,\"\",VLOOKUP($A42,データ作成貼付２!$A$2:$M$280,データ完成!D$1,FALSE))","v":""},{"$f":"IF(ISERROR(VLOOKUP($A42,データ作成貼付２!$A$2:$M$280,データ完成!E$1,FALSE))=TRUE,\"\",VLOOKUP($A42,データ作成貼付２!$A$2:$M$280,データ完成!E$1,FALSE))","v":""},{"$f":"IF(ISERROR(VLOOKUP($A42,データ作成貼付２!$A$2:$M$280,データ完成!F$1,FALSE))=TRUE,\"\",VLOOKUP($A42,データ作成貼付２!$A$2:$M$280,データ完成!F$1,FALSE))","v":""},{"$f":"IF(ISERROR(VLOOKUP($A42,データ作成貼付２!$A$2:$M$280,データ完成!G$1,FALSE))=TRUE,\"\",VLOOKUP($A42,データ作成貼付２!$A$2:$M$280,データ完成!G$1,FALSE))","v":""},{"$f":"IF(ISERROR(VLOOKUP($A42,データ作成貼付２!$A$2:$M$280,データ完成!H$1,FALSE))=TRUE,\"\",VLOOKUP($A42,データ作成貼付２!$A$2:$M$280,データ完成!H$1,FALSE))","v":""},{"$f":"IF(ISERROR(VLOOKUP($A42*10+1,データ作成貼付２!$B$2:$M$280,データ完成!I$1,FALSE))=TRUE,\"\",VLOOKUP($A42*10+1,データ作成貼付２!$B$2:$M$280,データ完成!I$1,FALSE))","v":""},{"$f":"IF(ISERROR(VLOOKUP($A42*10+2,データ作成貼付２!$B$2:$M$280,データ完成!J$1,FALSE))=TRUE,\"\",VLOOKUP($A42*10+2,データ作成貼付２!$B$2:$M$280,データ完成!J$1,FALSE))","v":""},{"$f":"IF(ISERROR(VLOOKUP($A42*10+3,データ作成貼付２!$B$2:$M$280,データ完成!K$1,FALSE))=TRUE,\"\",VLOOKUP($A42*10+3,データ作成貼付２!$B$2:$M$280,データ完成!K$1,FALSE))","v":""},{"$f":"IF(ISERROR(VLOOKUP($A42*10+4,データ作成貼付２!$B$2:$M$280,データ完成!L$1,FALSE))=TRUE,\"\",\"○\")","v":""},{"$f":"IF(L42=\"\",\"\",VLOOKUP($H42,記録入力1!$E$161:$O$190,11,FALSE))","v":""},{"$f":"IF(ISERROR(VLOOKUP($A42*10+5,データ作成貼付２!$B$2:$M$280,データ完成!N$1,FALSE))=TRUE,\"\",\"○\")","v":""},{"$f":"IF(N42=\"\",\"\",VLOOKUP($H42,記録入力1!$E$191:$O$290,11,FALSE))","v":""},{"$f":"IF(I42=\"\",\"\",VLOOKUP(LEFT(I42,5),初期設定1!$E$18:$F$59,2,FALSE))","v":""},"",{"$f":"VLOOKUP($Q42,記録入力1!$B$4:$I$287,8,FALSE)","v":{"$error":"#N/A"}},{"$f":"IF(J42=\"\",\"\",VLOOKUP(LEFT(J42,5),初期設定1!$E$18:$F$59,2,FALSE))","v":""},"",{"$f":"VLOOKUP($T42,記録入力1!$B$4:$I$287,8,FALSE)","v":{"$error":"#N/A"}},{"$f":"IF(K42=\"\",\"\",VLOOKUP(LEFT(K42,5),初期設定1!$E$18:$F$59,2,FALSE))","v":""},"",{"$f":"VLOOKUP($W42,記録入力1!$B$4:$I$287,8,FALSE)","v":{"$error":"#N/A"}},{"$f":"IF(G42=\"\",\"\",VLOOKUP(VALUE(RIGHT(G42,6)),学校番号!$A$2:$B$51,2))","v":""}]
[41,{"$f":"IF(ISERROR(VLOOKUP($A43,データ作成貼付２!$A$2:$M$280,データ完成!B$1,FALSE))=TRUE,\"\",VLOOKUP($A43,データ作成貼付２!$A$2:$M$280,データ完成!B$1,FALSE))","v":""},{"$f":"IF(ISERROR(VLOOKUP($A43,データ作成貼付２!$A$2:$M$280,データ完成!C$1,FALSE))=TRUE,\"\",VLOOKUP($A43,データ作成貼付２!$A$2:$M$280,データ完成!C$1,FALSE))","v":""},{"$f":"IF(ISERROR(VLOOKUP($A43,データ作成貼付２!$A$2:$M$280,データ完成!D$1,FALSE))=TRUE,\"\",VLOOKUP($A43,データ作成貼付２!$A$2:$M$280,データ完成!D$1,FALSE))","v":""},{"$f":"IF(ISERROR(VLOOKUP($A43,データ作成貼付２!$A$2:$M$280,データ完成!E$1,FALSE))=TRUE,\"\",VLOOKUP($A43,データ作成貼付２!$A$2:$M$280,データ完成!E$1,FALSE))","v":""},{"$f":"IF(ISERROR(VLOOKUP($A43,データ作成貼付２!$A$2:$M$280,データ完成!F$1,FALSE))=TRUE,\"\",VLOOKUP($A43,データ作成貼付２!$A$2:$M$280,データ完成!F$1,FALSE))","v":""},{"$f":"IF(ISERROR(VLOOKUP($A43,データ作成貼付２!$A$2:$M$280,データ完成!G$1,FALSE))=TRUE,\"\",VLOOKUP($A43,データ作成貼付２!$A$2:$M$280,データ完成!G$1,FALSE))","v":""},{"$f":"IF(ISERROR(VLOOKUP($A43,データ作成貼付２!$A$2:$M$280,データ完成!H$1,FALSE))=TRUE,\"\",VLOOKUP($A43,データ作成貼付２!$A$2:$M$280,データ完成!H$1,FALSE))","v":""},{"$f":"IF(ISERROR(VLOOKUP($A43*10+1,データ作成貼付２!$B$2:$M$280,データ完成!I$1,FALSE))=TRUE,\"\",VLOOKUP($A43*10+1,データ作成貼付２!$B$2:$M$280,データ完成!I$1,FALSE))","v":""},{"$f":"IF(ISERROR(VLOOKUP($A43*10+2,データ作成貼付２!$B$2:$M$280,データ完成!J$1,FALSE))=TRUE,\"\",VLOOKUP($A43*10+2,データ作成貼付２!$B$2:$M$280,データ完成!J$1,FALSE))","v":""},{"$f":"IF(ISERROR(VLOOKUP($A43*10+3,データ作成貼付２!$B$2:$M$280,データ完成!K$1,FALSE))=TRUE,\"\",VLOOKUP($A43*10+3,データ作成貼付２!$B$2:$M$280,データ完成!K$1,FALSE))","v":""},{"$f":"IF(ISERROR(VLOOKUP($A43*10+4,データ作成貼付２!$B$2:$M$280,データ完成!L$1,FALSE))=TRUE,\"\",\"○\")","v":""},{"$f":"IF(L43=\"\",\"\",VLOOKUP($H43,記録入力1!$E$161:$O$190,11,FALSE))","v":""},{"$f":"IF(ISERROR(VLOOKUP($A43*10+5,データ作成貼付２!$B$2:$M$280,データ完成!N$1,FALSE))=TRUE,\"\",\"○\")","v":""},{"$f":"IF(N43=\"\",\"\",VLOOKUP($H43,記録入力1!$E$191:$O$290,11,FALSE))","v":""},{"$f":"IF(I43=\"\",\"\",VLOOKUP(LEFT(I43,5),初期設定1!$E$18:$F$59,2,FALSE))","v":""},"",{"$f":"VLOOKUP($Q43,記録入力1!$B$4:$I$287,8,FALSE)","v":{"$error":"#N/A"}},{"$f":"IF(J43=\"\",\"\",VLOOKUP(LEFT(J43,5),初期設定1!$E$18:$F$59,2,FALSE))","v":""},"",{"$f":"VLOOKUP($T43,記録入力1!$B$4:$I$287,8,FALSE)","v":{"$error":"#N/A"}},{"$f":"IF(K43=\"\",\"\",VLOOKUP(LEFT(K43,5),初期設定1!$E$18:$F$59,2,FALSE))","v":""},"",{"$f":"VLOOKUP($W43,記録入力1!$B$4:$I$287,8,FALSE)","v":{"$error":"#N/A"}},{"$f":"IF(G43=\"\",\"\",VLOOKUP(VALUE(RIGHT(G43,6)),学校番号!$A$2:$B$51,2))","v":""}]
[42,{"$f":"IF(ISERROR(VLOOKUP($A44,データ作成貼付２!$A$2:$M$280,データ完成!B$1,FALSE))=TRUE,\"\",VLOOKUP($A44,データ作成貼付２!$A$2:$M$280,データ完成!B$1,FALSE))","v":""},{"$f":"IF(ISERROR(VLOOKUP($A44,データ作成貼付２!$A$2:$M$280,データ完成!C$1,FALSE))=TRUE,\"\",VLOOKUP($A44,データ作成貼付２!$A$2:$M$280,データ完成!C$1,FALSE))","v":""},{"$f":"IF(ISERROR(VLOOKUP($A44,データ作成貼付２!$A$2:$M$280,データ完成!D$1,FALSE))=TRUE,\"\",VLOOKUP($A44,データ作成貼付２!$A$2:$M$280,データ完成!D$1,FALSE))","v":""},{"$f":"IF(ISERROR(VLOOKUP($A44,データ作成貼付２!$A$2:$M$280,データ完成!E$1,FALSE))=TRUE,\"\",VLOOKUP($A44,データ作成貼付２!$A$2:$M$280,データ完成!E$1,FALSE))","v":""},{"$f":"IF(ISERROR(VLOOKUP($A44,データ作成貼付２!$A$2:$M$280,データ完成!F$1,FALSE))=TRUE,\"\",VLOOKUP($A44,データ作成貼付２!$A$2:$M$280,データ完成!F$1,FALSE))","v":""},{"$f":"IF(ISERROR(VLOOKUP($A44,データ作成貼付２!$A$2:$M$280,データ完成!G$1,FALSE))=TRUE,\"\",VLOOKUP($A44,データ作成貼付２!$A$2:$M$280,データ完成!G$1,FALSE))","v":""},{"$f":"IF(ISERROR(VLOOKUP($A44,データ作成貼付２!$A$2:$M$280,データ完成!H$1,FALSE))=TRUE,\"\",VLOOKUP($A44,データ作成貼付２!$A$2:$M$280,データ完成!H$1,FALSE))","v":""},{"$f":"IF(ISERROR(VLOOKUP($A44*10+1,データ作成貼付２!$B$2:$M$280,データ完成!I$1,FALSE))=TRUE,\"\",VLOOKUP($A44*10+1,データ作成貼付２!$B$2:$M$280,データ完成!I$1,FALSE))","v":""},{"$f":"IF(ISERROR(VLOOKUP($A44*10+2,データ作成貼付２!$B$2:$M$280,データ完成!J$1,FALSE))=TRUE,\"\",VLOOKUP($A44*10+2,データ作成貼付２!$B$2:$M$280,データ完成!J$1,FALSE))","v":""},{"$f":"IF(ISERROR(VLOOKUP($A44*10+3,データ作成貼付２!$B$2:$M$280,データ完成!K$1,FALSE))=TRUE,\"\",VLOOKUP($A44*10+3,データ作成貼付２!$B$2:$M$280,データ完成!K$1,FALSE))","v":""},{"$f":"IF(ISERROR(VLOOKUP($A44*10+4,データ作成貼付２!$B$2:$M$280,データ完成!L$1,FALSE))=TRUE,\"\",\"○\")","v":""},{"$f":"IF(L44=\"\",\"\",VLOOKUP($H44,記録入力1!$E$161:$O$190,11,FALSE))","v":""},{"$f":"IF(ISERROR(VLOOKUP($A44*10+5,データ作成貼付２!$B$2:$M$280,データ完成!N$1,FALSE))=TRUE,\"\",\"○\")","v":""},{"$f":"IF(N44=\"\",\"\",VLOOKUP($H44,記録入力1!$E$191:$O$290,11,FALSE))","v":""},{"$f":"IF(I44=\"\",\"\",VLOOKUP(LEFT(I44,5),初期設定1!$E$18:$F$59,2,FALSE))","v":""},"",{"$f":"VLOOKUP($Q44,記録入力1!$B$4:$I$287,8,FALSE)","v":{"$error":"#N/A"}},{"$f":"IF(J44=\"\",\"\",VLOOKUP(LEFT(J44,5),初期設定1!$E$18:$F$59,2,FALSE))","v":""},"",{"$f":"VLOOKUP($T44,記録入力1!$B$4:$I$287,8,FALSE)","v":{"$error":"#N/A"}},{"$f":"IF(K44=\"\",\"\",VLOOKUP(LEFT(K44,5),初期設定1!$E$18:$F$59,2,FALSE))","v":""},"",{"$f":"VLOOKUP($W44,記録入力1!$B$4:$I$287,8,FALSE)","v":{"$error":"#N/A"}},{"$f":"IF(G44=\"\",\"\",VLOOKUP(VALUE(RIGHT(G44,6)),学校番号!$A$2:$B$51,2))","v":""}]
[43,{"$f":"IF(ISERROR(VLOOKUP($A45,データ作成貼付２!$A$2:$M$280,データ完成!B$1,FALSE))=TRUE,\"\",VLOOKUP($A45,データ作成貼付２!$A$2:$M$280,データ完成!B$1,FALSE))","v":""},{"$f":"IF(ISERROR(VLOOKUP($A45,データ作成貼付２!$A$2:$M$280,データ完成!C$1,FALSE))=TRUE,\"\",VLOOKUP($A45,データ作成貼付２!$A$2:$M$280,データ完成!C$1,FALSE))","v":""},{"$f":"IF(ISERROR(VLOOKUP($A45,データ作成貼付２!$A$2:$M$280,データ完成!D$1,FALSE))=TRUE,\"\",VLOOKUP($A45,データ作成貼付２!$A$2:$M$280,データ完成!D$1,FALSE))","v":""},{"$f":"IF(ISERROR(VLOOKUP($A45,データ作成貼付２!$A$2:$M$280,データ完成!E$1,FALSE))=TRUE,\"\",VLOOKUP($A45,データ作成貼付２!$A$2:$M$280,データ完成!E$1,FALSE))","v":""},{"$f":"IF(ISERROR(VLOOKUP($A45,データ作成貼付２!$A$2:$M$280,データ完成!F$1,FALSE))=TRUE,\"\",VLOOKUP($A45,データ作成貼付２!$A$2:$M$280,データ完成!F$1,FALSE))","v":""},{"$f":"IF(ISERROR(VLOOKUP($A45,データ作成貼付２!$A$2:$M$280,データ完成!G$1,FALSE))=TRUE,\"\",VLOOKUP($A45,データ作成貼付２!$A$2:$M$280,データ完成!G$1,FALSE))","v":""},{"$f":"IF(ISERROR(VLOOKUP($A45,データ作成貼付２!$A$2:$M$280,データ完成!H$1,FALSE))=TRUE,\"\",VLOOKUP($A45,データ作成貼付２!$A$2:$M$280,データ完成!H$1,FALSE))","v":""},{"$f":"IF(ISERROR(VLOOKUP($A45*10+1,データ作成貼付２!$B$2:$M$280,データ完成!I$1,FALSE))=TRUE,\"\",VLOOKUP($A45*10+1,データ作成貼付２!$B$2:$M$280,データ完成!I$1,FALSE))","v":""},{"$f":"IF(ISERROR(VLOOKUP($A45*10+2,データ作成貼付２!$B$2:$M$280,データ完成!J$1,FALSE))=TRUE,\"\",VLOOKUP($A45*10+2,データ作成貼付２!$B$2:$M$280,データ完成!J$1,FALSE))","v":""},{"$f":"IF(ISERROR(VLOOKUP($A45*10+3,データ作成貼付２!$B$2:$M$280,データ完成!K$1,FALSE))=TRUE,\"\",VLOOKUP($A45*10+3,データ作成貼付２!$B$2:$M$280,データ完成!K$1,FALSE))","v":""},{"$f":"IF(ISERROR(VLOOKUP($A45*10+4,データ作成貼付２!$B$2:$M$280,データ完成!L$1,FALSE))=TRUE,\"\",\"○\")","v":""},{"$f":"IF(L45=\"\",\"\",VLOOKUP($H45,記録入力1!$E$161:$O$190,11,FALSE))","v":""},{"$f":"IF(ISERROR(VLOOKUP($A45*10+5,データ作成貼付２!$B$2:$M$280,データ完成!N$1,FALSE))=TRUE,\"\",\"○\")","v":""},{"$f":"IF(N45=\"\",\"\",VLOOKUP($H45,記録入力1!$E$191:$O$290,11,FALSE))","v":""},{"$f":"IF(I45=\"\",\"\",VLOOKUP(LEFT(I45,5),初期設定1!$E$18:$F$59,2,FALSE))","v":""},"",{"$f":"VLOOKUP($Q45,記録入力1!$B$4:$I$287,8,FALSE)","v":{"$error":"#N/A"}},{"$f":"IF(J45=\"\",\"\",VLOOKUP(LEFT(J45,5),初期設定1!$E$18:$F$59,2,FALSE))","v":""},"",{"$f":"VLOOKUP($T45,記録入力1!$B$4:$I$287,8,FALSE)","v":{"$error":"#N/A"}},{"$f":"IF(K45=\"\",\"\",VLOOKUP(LEFT(K45,5),初期設定1!$E$18:$F$59,2,FALSE))","v":""},"",{"$f":"VLOOKUP($W45,記録入力1!$B$4:$I$287,8,FALSE)","v":{"$error":"#N/A"}},{"$f":"IF(G45=\"\",\"\",VLOOKUP(VALUE(RIGHT(G45,6)),学校番号!$A$2:$B$51,2))","v":""}]
[44,{"$f":"IF(ISERROR(VLOOKUP($A46,データ作成貼付２!$A$2:$M$280,データ完成!B$1,FALSE))=TRUE,\"\",VLOOKUP($A46,データ作成貼付２!$A$2:$M$280,データ完成!B$1,FALSE))","v":""},{"$f":"IF(ISERROR(VLOOKUP($A46,データ作成貼付２!$A$2:$M$280,データ完成!C$1,FALSE))=TRUE,\"\",VLOOKUP($A46,データ作成貼付２!$A$2:$M$280,データ完成!C$1,FALSE))","v":""},{"$f":"IF(ISERROR(VLOOKUP($A46,データ作成貼付２!$A$2:$M$280,データ完成!D$1,FALSE))=TRUE,\"\",VLOOKUP($A46,データ作成貼付２!$A$2:$M$280,データ完成!D$1,FALSE))","v":""},{"$f":"IF(ISERROR(VLOOKUP($A46,データ作成貼付２!$A$2:$M$280,データ完成!E$1,FALSE))=TRUE,\"\",VLOOKUP($A46,データ作成貼付２!$A$2:$M$280,データ完成!E$1,FALSE))","v":""},{"$f":"IF(ISERROR(VLOOKUP($A46,データ作成貼付２!$A$2:$M$280,データ完成!F$1,FALSE))=TRUE,\"\",VLOOKUP($A46,データ作成貼付２!$A$2:$M$280,データ完成!F$1,FALSE))","v":""},{"$f":"IF(ISERROR(VLOOKUP($A46,データ作成貼付２!$A$2:$M$280,データ完成!G$1,FALSE))=TRUE,\"\",VLOOKUP($A46,データ作成貼付２!$A$2:$M$280,データ完成!G$1,FALSE))","v":""},{"$f":"IF(ISERROR(VLOOKUP($A46,データ作成貼付２!$A$2:$M$280,データ完成!H$1,FALSE))=TRUE,\"\",VLOOKUP($A46,データ作成貼付２!$A$2:$M$280,データ完成!H$1,FALSE))","v":""},{"$f":"IF(ISERROR(VLOOKUP($A46*10+1,データ作成貼付２!$B$2:$M$280,データ完成!I$1,FALSE))=TRUE,\"\",VLOOKUP($A46*10+1,データ作成貼付２!$B$2:$M$280,データ完成!I$1,FALSE))","v":""},{"$f":"IF(ISERROR(VLOOKUP($A46*10+2,データ作成貼付２!$B$2:$M$280,データ完成!J$1,FALSE))=TRUE,\"\",VLOOKUP($A46*10+2,データ作成貼付２!$B$2:$M$280,データ完成!J$1,FALSE))","v":""},{"$f":"IF(ISERROR(VLOOKUP($A46*10+3,データ作成貼付２!$B$2:$M$280,データ完成!K$1,FALSE))=TRUE,\"\",VLOOKUP($A46*10+3,データ作成貼付２!$B$2:$M$280,データ完成!K$1,FALSE))","v":""},{"$f":"IF(ISERROR(VLOOKUP($A46*10+4,データ作成貼付２!$B$2:$M$280,データ完成!L$1,FALSE))=TRUE,\"\",\"○\")","v":""},{"$f":"IF(L46=\"\",\"\",VLOOKUP($H46,記録入力1!$E$161:$O$190,11,FALSE))","v":""},{"$f":"IF(ISERROR(VLOOKUP($A46*10+5,データ作成貼付２!$B$2:$M$280,データ完成!N$1,FALSE))=TRUE,\"\",\"○\")","v":""},{"$f":"IF(N46=\"\",\"\",VLOOKUP($H46,記録入力1!$E$191:$O$290,11,FALSE))","v":""},{"$f":"IF(I46=\"\",\"\",VLOOKUP(LEFT(I46,5),初期設定1!$E$18:$F$59,2,FALSE))","v":""},"",{"$f":"VLOOKUP($Q46,記録入力1!$B$4:$I$287,8,FALSE)","v":{"$error":"#N/A"}},{"$f":"IF(J46=\"\",\"\",VLOOKUP(LEFT(J46,5),初期設定1!$E$18:$F$59,2,FALSE))","v":""},"",{"$f":"VLOOKUP($T46,記録入力1!$B$4:$I$287,8,FALSE)","v":{"$error":"#N/A"}},{"$f":"IF(K46=\"\",\"\",VLOOKUP(LEFT(K46,5),初期設定1!$E$18:$F$59,2,FALSE))","v":""},"",{"$f":"VLOOKUP($W46,記録入力1!$B$4:$I$287,8,FALSE)","v":{"$error":"#N/A"}},{"$f":"IF(G46=\"\",\"\",VLOOKUP(VALUE(RIGHT(G46,6)),学校番号!$A$2:$B$51,2))","v":""}]
[45,{"$f":"IF(ISERROR(VLOOKUP($A47,データ作成貼付２!$A$2:$M$280,データ完成!B$1,FALSE))=TRUE,\"\",VLOOKUP($A47,データ作成貼付２!$A$2:$M$280,データ完成!B$1,FALSE))","v":""},{"$f":"IF(ISERROR(VLOOKUP($A47,データ作成貼付２!$A$2:$M$280,データ完成!C$1,FALSE))=TRUE,\"\",VLOOKUP($A47,データ作成貼付２!$A$2:$M$280,データ完成!C$1,FALSE))","v":""},{"$f":"IF(ISERROR(VLOOKUP($A47,データ作成貼付２!$A$2:$M$280,データ完成!D$1,FALSE))=TRUE,\"\",VLOOKUP($A47,データ作成貼付２!$A$2:$M$280,データ完成!D$1,FALSE))","v":""},{"$f":"IF(ISERROR(VLOOKUP($A47,データ作成貼付２!$A$2:$M$280,データ完成!E$1,FALSE))=TRUE,\"\",VLOOKUP($A47,データ作成貼付２!$A$2:$M$280,データ完成!E$1,FALSE))","v":""},{"$f":"IF(ISERROR(VLOOKUP($A47,データ作成貼付２!$A$2:$M$280,データ完成!F$1,FALSE))=TRUE,\"\",VLOOKUP($A47,データ作成貼付２!$A$2:$M$280,データ完成!F$1,FALSE))","v":""},{"$f":"IF(ISERROR(VLOOKUP($A47,データ作成貼付２!$A$2:$M$280,データ完成!G$1,FALSE))=TRUE,\"\",VLOOKUP($A47,データ作成貼付２!$A$2:$M$280,データ完成!G$1,FALSE))","v":""},{"$f":"IF(ISERROR(VLOOKUP($A47,データ作成貼付２!$A$2:$M$280,データ完成!H$1,FALSE))=TRUE,\"\",VLOOKUP($A47,データ作成貼付２!$A$2:$M$280,データ完成!H$1,FALSE))","v":""},{"$f":"IF(ISERROR(VLOOKUP($A47*10+1,データ作成貼付２!$B$2:$M$280,データ完成!I$1,FALSE))=TRUE,\"\",VLOOKUP($A47*10+1,データ作成貼付２!$B$2:$M$280,データ完成!I$1,FALSE))","v":""},{"$f":"IF(ISERROR(VLOOKUP($A47*10+2,データ作成貼付２!$B$2:$M$280,データ完成!J$1,FALSE))=TRUE,\"\",VLOOKUP($A47*10+2,データ作成貼付２!$B$2:$M$280,データ完成!J$1,FALSE))","v":""},{"$f":"IF(ISERROR(VLOOKUP($A47*10+3,データ作成貼付２!$B$2:$M$280,データ完成!K$1,FALSE))=TRUE,\"\",VLOOKUP($A47*10+3,データ作成貼付２!$B$2:$M$280,データ完成!K$1,FALSE))","v":""},{"$f":"IF(ISERROR(VLOOKUP($A47*10+4,データ作成貼付２!$B$2:$M$280,データ完成!L$1,FALSE))=TRUE,\"\",\"○\")","v":""},{"$f":"IF(L47=\"\",\"\",VLOOKUP($H47,記録入力1!$E$161:$O$190,11,FALSE))","v":""},{"$f":"IF(ISERROR(VLOOKUP($A47*10+5,データ作成貼付２!$B$2:$M$280,データ完成!N$1,FALSE))=TRUE,\"\",\"○\")","v":""},{"$f":"IF(N47=\"\",\"\",VLOOKUP($H47,記録入力1!$E$191:$O$290,11,FALSE))","v":""},{"$f":"IF(I47=\"\",\"\",VLOOKUP(LEFT(I47,5),初期設定1!$E$18:$F$59,2,FALSE))","v":""},"",{"$f":"VLOOKUP($Q47,記録入力1!$B$4:$I$287,8,FALSE)","v":{"$error":"#N/A"}},{"$f":"IF(J47=\"\",\"\",VLOOKUP(LEFT(J47,5),初期設定1!$E$18:$F$59,2,FALSE))","v":""},"",{"$f":"VLOOKUP($T47,記録入力1!$B$4:$I$287,8,FALSE)","v":{"$error":"#N/A"}},{"$f":"IF(K47=\"\",\"\",VLOOKUP(LEFT(K47,5),初期設定1!$E$18:$F$59,2,FALSE))","v":""},"",{"$f":"VLOOKUP($W47,記録入力1!$B$4:$I$287,8,FALSE)","v":{"$error":"#N/A"}},{"$f":"IF(G47=\"\",\"\",VLOOKUP(VALUE(RIGHT(G47,6)),学校番号!$A$2:$B$51,2))","v":""}]
[46,{"$f":"IF(ISERROR(VLOOKUP($A48,データ作成貼付２!$A$2:$M$280,データ完成!B$1,FALSE))=TRUE,\"\",VLOOKUP($A48,データ作成貼付２!$A$2:$M$280,データ完成!B$1,FALSE))","v":""},{"$f":"IF(ISERROR(VLOOKUP($A48,データ作成貼付２!$A$2:$M$280,データ完成!C$1,FALSE))=TRUE,\"\",VLOOKUP($A48,データ作成貼付２!$A$2:$M$280,データ完成!C$1,FALSE))","v":""},{"$f":"IF(ISERROR(VLOOKUP($A48,データ作成貼付２!$A$2:$M$280,データ完成!D$1,FALSE))=TRUE,\"\",VLOOKUP($A48,データ作成貼付２!$A$2:$M$280,データ完成!D$1,FALSE))","v":""},{"$f":"IF(ISERROR(VLOOKUP($A48,データ作成貼付２!$A$2:$M$280,データ完成!E$1,FALSE))=TRUE,\"\",VLOOKUP($A48,データ作成貼付２!$A$2:$M$280,データ完成!E$1,FALSE))","v":""},{"$f":"IF(ISERROR(VLOOKUP($A48,データ作成貼付２!$A$2:$M$280,データ完成!F$1,FALSE))=TRUE,\"\",VLOOKUP($A48,データ作成貼付２!$A$2:$M$280,データ完成!F$1,FALSE))","v":""},{"$f":"IF(ISERROR(VLOOKUP($A48,データ作成貼付２!$A$2:$M$280,データ完成!G$1,FALSE))=TRUE,\"\",VLOOKUP($A48,データ作成貼付２!$A$2:$M$280,データ完成!G$1,FALSE))","v":""},{"$f":"IF(ISERROR(VLOOKUP($A48,データ作成貼付２!$A$2:$M$280,データ完成!H$1,FALSE))=TRUE,\"\",VLOOKUP($A48,データ作成貼付２!$A$2:$M$280,データ完成!H$1,FALSE))","v":""},{"$f":"IF(ISERROR(VLOOKUP($A48*10+1,データ作成貼付２!$B$2:$M$280,データ完成!I$1,FALSE))=TRUE,\"\",VLOOKUP($A48*10+1,データ作成貼付２!$B$2:$M$280,データ完成!I$1,FALSE))","v":""},{"$f":"IF(ISERROR(VLOOKUP($A48*10+2,データ作成貼付２!$B$2:$M$280,データ完成!J$1,FALSE))=TRUE,\"\",VLOOKUP($A48*10+2,データ作成貼付２!$B$2:$M$280,データ完成!J$1,FALSE))","v":""},{"$f":"IF(ISERROR(VLOOKUP($A48*10+3,データ作成貼付２!$B$2:$M$280,データ完成!K$1,FALSE))=TRUE,\"\",VLOOKUP($A48*10+3,データ作成貼付２!$B$2:$M$280,データ完成!K$1,FALSE))","v":""},{"$f":"IF(ISERROR(VLOOKUP($A48*10+4,データ作成貼付２!$B$2:$M$280,データ完成!L$1,FALSE))=TRUE,\"\",\"○\")","v":""},{"$f":"IF(L48=\"\",\"\",VLOOKUP($H48,記録入力1!$E$161:$O$190,11,FALSE))","v":""},{"$f":"IF(ISERROR(VLOOKUP($A48*10+5,データ作成貼付２!$B$2:$M$280,データ完成!N$1,FALSE))=TRUE,\"\",\"○\")","v":""},{"$f":"IF(N48=\"\",\"\",VLOOKUP($H48,記録入力1!$E$191:$O$290,11,FALSE))","v":""},{"$f":"IF(I48=\"\",\"\",VLOOKUP(LEFT(I48,5),初期設定1!$E$18:$F$59,2,FALSE))","v":""},"",{"$f":"VLOOKUP($Q48,記録入力1!$B$4:$I$287,8,FALSE)","v":{"$error":"#N/A"}},{"$f":"IF(J48=\"\",\"\",VLOOKUP(LEFT(J48,5),初期設定1!$E$18:$F$59,2,FALSE))","v":""},"",{"$f":"VLOOKUP($T48,記録入力1!$B$4:$I$287,8,FALSE)","v":{"$error":"#N/A"}},{"$f":"IF(K48=\"\",\"\",VLOOKUP(LEFT(K48,5),初期設定1!$E$18:$F$59,2,FALSE))","v":""},"",{"$f":"VLOOKUP($W48,記録入力1!$B$4:$I$287,8,FALSE)","v":{"$error":"#N/A"}},{"$f":"IF(G48=\"\",\"\",VLOOKUP(VALUE(RIGHT(G48,6)),学校番号!$A$2:$B$51,2))","v":""}]
[47,{"$f":"IF(ISERROR(VLOOKUP($A49,データ作成貼付２!$A$2:$M$280,データ完成!B$1,FALSE))=TRUE,\"\",VLOOKUP($A49,データ作成貼付２!$A$2:$M$280,データ完成!B$1,FALSE))","v":""},{"$f":"IF(ISERROR(VLOOKUP($A49,データ作成貼付２!$A$2:$M$280,データ完成!C$1,FALSE))=TRUE,\"\",VLOOKUP($A49,データ作成貼付２!$A$2:$M$280,データ完成!C$1,FALSE))","v":""},{"$f":"IF(ISERROR(VLOOKUP($A49,データ作成貼付２!$A$2:$M$280,データ完成!D$1,FALSE))=TRUE,\"\",VLOOKUP($A49,データ作成貼付２!$A$2:$M$280,データ完成!D$1,FALSE))","v":""},{"$f":"IF(ISERROR(VLOOKUP($A49,データ作成貼付２!$A$2:$M$280,データ完成!E$1,FALSE))=TRUE,\"\",VLOOKUP($A49,データ作成貼付２!$A$2:$M$280,データ完成!E$1,FALSE))","v":""},{"$f":"IF(ISERROR(VLOOKUP($A49,データ作成貼付２!$A$2:$M$280,データ完成!F$1,FALSE))=TRUE,\"\",VLOOKUP($A49,データ作成貼付２!$A$2:$M$280,データ完成!F$1,FALSE))","v":""},{"$f":"IF(ISERROR(VLOOKUP($A49,データ作成貼付２!$A$2:$M$280,データ完成!G$1,FALSE))=TRUE,\"\",VLOOKUP($A49,データ作成貼付２!$A$2:$M$280,データ完成!G$1,FALSE))","v":""},{"$f":"IF(ISERROR(VLOOKUP($A49,データ作成貼付２!$A$2:$M$280,データ完成!H$1,FALSE))=TRUE,\"\",VLOOKUP($A49,データ作成貼付２!$A$2:$M$280,データ完成!H$1,FALSE))","v":""},{"$f":"IF(ISERROR(VLOOKUP($A49*10+1,データ作成貼付２!$B$2:$M$280,データ完成!I$1,FALSE))=TRUE,\"\",VLOOKUP($A49*10+1,データ作成貼付２!$B$2:$M$280,データ完成!I$1,FALSE))","v":""},{"$f":"IF(ISERROR(VLOOKUP($A49*10+2,データ作成貼付２!$B$2:$M$280,データ完成!J$1,FALSE))=TRUE,\"\",VLOOKUP($A49*10+2,データ作成貼付２!$B$2:$M$280,データ完成!J$1,FALSE))","v":""},{"$f":"IF(ISERROR(VLOOKUP($A49*10+3,データ作成貼付２!$B$2:$M$280,データ完成!K$1,FALSE))=TRUE,\"\",VLOOKUP($A49*10+3,データ作成貼付２!$B$2:$M$280,データ完成!K$1,FALSE))","v":""},{"$f":"IF(ISERROR(VLOOKUP($A49*10+4,データ作成貼付２!$B$2:$M$280,データ完成!L$1,FALSE))=TRUE,\"\",\"○\")","v":""},{"$f":"IF(L49=\"\",\"\",VLOOKUP($H49,記録入力1!$E$161:$O$190,11,FALSE))","v":""},{"$f":"IF(ISERROR(VLOOKUP($A49*10+5,データ作成貼付２!$B$2:$M$280,データ完成!N$1,FALSE))=TRUE,\"\",\"○\")","v":""},{"$f":"IF(N49=\"\",\"\",VLOOKUP($H49,記録入力1!$E$191:$O$290,11,FALSE))","v":""},{"$f":"IF(I49=\"\",\"\",VLOOKUP(LEFT(I49,5),初期設定1!$E$18:$F$59,2,FALSE))","v":""},"",{"$f":"VLOOKUP($Q49,記録入力1!$B$4:$I$287,8,FALSE)","v":{"$error":"#N/A"}},{"$f":"IF(J49=\"\",\"\",VLOOKUP(LEFT(J49,5),初期設定1!$E$18:$F$59,2,FALSE))","v":""},"",{"$f":"VLOOKUP($T49,記録入力1!$B$4:$I$287,8,FALSE)","v":{"$error":"#N/A"}},{"$f":"IF(K49=\"\",\"\",VLOOKUP(LEFT(K49,5),初期設定1!$E$18:$F$59,2,FALSE))","v":""},"",{"$f":"VLOOKUP($W49,記録入力1!$B$4:$I$287,8,FALSE)","v":{"$error":"#N/A"}},{"$f":"IF(G49=\"\",\"\",VLOOKUP(VALUE(RIGHT(G49,6)),学校番号!$A$2:$B$51,2))","v":""}]
[48,{"$f":"IF(ISERROR(VLOOKUP($A50,データ作成貼付２!$A$2:$M$280,データ完成!B$1,FALSE))=TRUE,\"\",VLOOKUP($A50,データ作成貼付２!$A$2:$M$280,データ完成!B$1,FALSE))","v":""},{"$f":"IF(ISERROR(VLOOKUP($A50,データ作成貼付２!$A$2:$M$280,データ完成!C$1,FALSE))=TRUE,\"\",VLOOKUP($A50,データ作成貼付２!$A$2:$M$280,データ完成!C$1,FALSE))","v":""},{"$f":"IF(ISERROR(VLOOKUP($A50,データ作成貼付２!$A$2:$M$280,データ完成!D$1,FALSE))=TRUE,\"\",VLOOKUP($A50,データ作成貼付２!$A$2:$M$280,データ完成!D$1,FALSE))","v":""},{"$f":"IF(ISERROR(VLOOKUP($A50,データ作成貼付２!$A$2:$M$280,データ完成!E$1,FALSE))=TRUE,\"\",VLOOKUP($A50,データ作成貼付２!$A$2:$M$280,データ完成!E$1,FALSE))","v":""},{"$f":"IF(ISERROR(VLOOKUP($A50,データ作成貼付２!$A$2:$M$280,データ完成!F$1,FALSE))=TRUE,\"\",VLOOKUP($A50,データ作成貼付２!$A$2:$M$280,データ完成!F$1,FALSE))","v":""},{"$f":"IF(ISERROR(VLOOKUP($A50,データ作成貼付２!$A$2:$M$280,データ完成!G$1,FALSE))=TRUE,\"\",VLOOKUP($A50,データ作成貼付２!$A$2:$M$280,データ完成!G$1,FALSE))","v":""},{"$f":"IF(ISERROR(VLOOKUP($A50,データ作成貼付２!$A$2:$M$280,データ完成!H$1,FALSE))=TRUE,\"\",VLOOKUP($A50,データ作成貼付２!$A$2:$M$280,データ完成!H$1,FALSE))","v":""},{"$f":"IF(ISERROR(VLOOKUP($A50*10+1,データ作成貼付２!$B$2:$M$280,データ完成!I$1,FALSE))=TRUE,\"\",VLOOKUP($A50*10+1,データ作成貼付２!$B$2:$M$280,データ完成!I$1,FALSE))","v":""},{"$f":"IF(ISERROR(VLOOKUP($A50*10+2,データ作成貼付２!$B$2:$M$280,データ完成!J$1,FALSE))=TRUE,\"\",VLOOKUP($A50*10+2,データ作成貼付２!$B$2:$M$280,データ完成!J$1,FALSE))","v":""},{"$f":"IF(ISERROR(VLOOKUP($A50*10+3,データ作成貼付２!$B$2:$M$280,データ完成!K$1,FALSE))=TRUE,\"\",VLOOKUP($A50*10+3,データ作成貼付２!$B$2:$M$280,データ完成!K$1,FALSE))","v":""},{"$f":"IF(ISERROR(VLOOKUP($A50*10+4,データ作成貼付２!$B$2:$M$280,データ完成!L$1,FALSE))=TRUE,\"\",\"○\")","v":""},{"$f":"IF(L50=\"\",\"\",VLOOKUP($H50,記録入力1!$E$161:$O$190,11,FALSE))","v":""},{"$f":"IF(ISERROR(VLOOKUP($A50*10+5,データ作成貼付２!$B$2:$M$280,データ完成!N$1,FALSE))=TRUE,\"\",\"○\")","v":""},{"$f":"IF(N50=\"\",\"\",VLOOKUP($H50,記録入力1!$E$191:$O$290,11,FALSE))","v":""},{"$f":"IF(I50=\"\",\"\",VLOOKUP(LEFT(I50,5),初期設定1!$E$18:$F$59,2,FALSE))","v":""},"",{"$f":"VLOOKUP($Q50,記録入力1!$B$4:$I$287,8,FALSE)","v":{"$error":"#N/A"}},{"$f":"IF(J50=\"\",\"\",VLOOKUP(LEFT(J50,5),初期設定1!$E$18:$F$59,2,FALSE))","v":""},"",{"$f":"VLOOKUP($T50,記録入力1!$B$4:$I$287,8,FALSE)","v":{"$error":"#N/A"}},{"$f":"IF(K50=\"\",\"\",VLOOKUP(LEFT(K50,5),初期設定1!$E$18:$F$59,2,FALSE))","v":""},"",{"$f":"VLOOKUP($W50,記録入力1!$B$4:$I$287,8,FALSE)","v":{"$error":"#N/A"}},{"$f":"IF(G50=\"\",\"\",VLOOKUP(VALUE(RIGHT(G50,6)),学校番号!$A$2:$B$51,2))","v":""}]
[49,{"$f":"IF(ISERROR(VLOOKUP($A51,データ作成貼付２!$A$2:$M$280,データ完成!B$1,FALSE))=TRUE,\"\",VLOOKUP($A51,データ作成貼付２!$A$2:$M$280,データ完成!B$1,FALSE))","v":""},{"$f":"IF(ISERROR(VLOOKUP($A51,データ作成貼付２!$A$2:$M$280,データ完成!C$1,FALSE))=TRUE,\"\",VLOOKUP($A51,データ作成貼付２!$A$2:$M$280,データ完成!C$1,FALSE))","v":""},{"$f":"IF(ISERROR(VLOOKUP($A51,データ作成貼付２!$A$2:$M$280,データ完成!D$1,FALSE))=TRUE,\"\",VLOOKUP($A51,データ作成貼付２!$A$2:$M$280,データ完成!D$1,FALSE))","v":""},{"$f":"IF(ISERROR(VLOOKUP($A51,データ作成貼付２!$A$2:$M$280,データ完成!E$1,FALSE))=TRUE,\"\",VLOOKUP($A51,データ作成貼付２!$A$2:$M$280,データ完成!E$1,FALSE))","v":""},{"$f":"IF(ISERROR(VLOOKUP($A51,データ作成貼付２!$A$2:$M$280,データ完成!F$1,FALSE))=TRUE,\"\",VLOOKUP($A51,データ作成貼付２!$A$2:$M$280,データ完成!F$1,FALSE))","v":""},{"$f":"IF(ISERROR(VLOOKUP($A51,データ作成貼付２!$A$2:$M$280,データ完成!G$1,FALSE))=TRUE,\"\",VLOOKUP($A51,データ作成貼付２!$A$2:$M$280,データ完成!G$1,FALSE))","v":""},{"$f":"IF(ISERROR(VLOOKUP($A51,データ作成貼付２!$A$2:$M$280,データ完成!H$1,FALSE))=TRUE,\"\",VLOOKUP($A51,データ作成貼付２!$A$2:$M$280,データ完成!H$1,FALSE))","v":""},{"$f":"IF(ISERROR(VLOOKUP($A51*10+1,データ作成貼付２!$B$2:$M$280,データ完成!I$1,FALSE))=TRUE,\"\",VLOOKUP($A51*10+1,データ作成貼付２!$B$2:$M$280,データ完成!I$1,FALSE))","v":""},{"$f":"IF(ISERROR(VLOOKUP($A51*10+2,データ作成貼付２!$B$2:$M$280,データ完成!J$1,FALSE))=TRUE,\"\",VLOOKUP($A51*10+2,データ作成貼付２!$B$2:$M$280,データ完成!J$1,FALSE))","v":""},{"$f":"IF(ISERROR(VLOOKUP($A51*10+3,データ作成貼付２!$B$2:$M$280,データ完成!K$1,FALSE))=TRUE,\"\",VLOOKUP($A51*10+3,データ作成貼付２!$B$2:$M$280,データ完成!K$1,FALSE))","v":""},{"$f":"IF(ISERROR(VLOOKUP($A51*10+4,データ作成貼付２!$B$2:$M$280,データ完成!L$1,FALSE))=TRUE,\"\",\"○\")","v":""},{"$f":"IF(L51=\"\",\"\",VLOOKUP($H51,記録入力1!$E$161:$O$190,11,FALSE))","v":""},{"$f":"IF(ISERROR(VLOOKUP($A51*10+5,データ作成貼付２!$B$2:$M$280,データ完成!N$1,FALSE))=TRUE,\"\",\"○\")","v":""},{"$f":"IF(N51=\"\",\"\",VLOOKUP($H51,記録入力1!$E$191:$O$290,11,FALSE))","v":""},{"$f":"IF(I51=\"\",\"\",VLOOKUP(LEFT(I51,5),初期設定1!$E$18:$F$59,2,FALSE))","v":""},"",{"$f":"VLOOKUP($Q51,記録入力1!$B$4:$I$287,8,FALSE)","v":{"$error":"#N/A"}},{"$f":"IF(J51=\"\",\"\",VLOOKUP(LEFT(J51,5),初期設定1!$E$18:$F$59,2,FALSE))","v":""},"",{"$f":"VLOOKUP($T51,記録入力1!$B$4:$I$287,8,FALSE)","v":{"$error":"#N/A"}},{"$f":"IF(K51=\"\",\"\",VLOOKUP(LEFT(K51,5),初期設定1!$E$18:$F$59,2,FALSE))","v":""},"",{"$f":"VLOOKUP($W51,記録入力1!$B$4:$I$287,8,FALSE)","v":{"$error":"#N/A"}},{"$f":"IF(G51=\"\",\"\",VLOOKUP(VALUE(RIGHT(G51,6)),学校番号!$A$2:$B$51,2))","v":""}]
[50,{"$f":"IF(ISERROR(VLOOKUP($A52,データ作成貼付２!$A$2:$M$280,データ完成!B$1,FALSE))=TRUE,\"\",VLOOKUP($A52,データ作成貼付２!$A$2:$M$280,データ完成!B$1,FALSE))","v":""},{"$f":"IF(ISERROR(VLOOKUP($A52,データ作成貼付２!$A$2:$M$280,データ完成!C$1,FALSE))=TRUE,\"\",VLOOKUP($A52,データ作成貼付２!$A$2:$M$280,データ完成!C$1,FALSE))","v":""},{"$f":"IF(ISERROR(VLOOKUP($A52,データ作成貼付２!$A$2:$M$280,データ完成!D$1,FALSE))=TRUE,\"\",VLOOKUP($A52,データ作成貼付２!$A$2:$M$280,データ完成!D$1,FALSE))","v":""},{"$f":"IF(ISERROR(VLOOKUP($A52,データ作成貼付２!$A$2:$M$280,データ完成!E$1,FALSE))=TRUE,\"\",VLOOKUP($A52,データ作成貼付２!$A$2:$M$280,データ完成!E$1,FALSE))","v":""},{"$f":"IF(ISERROR(VLOOKUP($A52,データ作成貼付２!$A$2:$M$280,データ完成!F$1,FALSE))=TRUE,\"\",VLOOKUP($A52,データ作成貼付２!$A$2:$M$280,データ完成!F$1,FALSE))","v":""},{"$f":"IF(ISERROR(VLOOKUP($A52,データ作成貼付２!$A$2:$M$280,データ完成!G$1,FALSE))=TRUE,\"\",VLOOKUP($A52,データ作成貼付２!$A$2:$M$280,データ完成!G$1,FALSE))","v":""},{"$f":"IF(ISERROR(VLOOKUP($A52,データ作成貼付２!$A$2:$M$280,データ完成!H$1,FALSE))=TRUE,\"\",VLOOKUP($A52,データ作成貼付２!$A$2:$M$280,データ完成!H$1,FALSE))","v":""},{"$f":"IF(ISERROR(VLOOKUP($A52*10+1,データ作成貼付２!$B$2:$M$280,データ完成!I$1,FALSE))=TRUE,\"\",VLOOKUP($A52*10+1,データ作成貼付２!$B$2:$M$280,データ完成!I$1,FALSE))","v":""},{"$f":"IF(ISERROR(VLOOKUP($A52*10+2,データ作成貼付２!$B$2:$M$280,データ完成!J$1,FALSE))=TRUE,\"\",VLOOKUP($A52*10+2,データ作成貼付２!$B$2:$M$280,データ完成!J$1,FALSE))","v":""},{"$f":"IF(ISERROR(VLOOKUP($A52*10+3,データ作成貼付２!$B$2:$M$280,データ完成!K$1,FALSE))=TRUE,\"\",VLOOKUP($A52*10+3,データ作成貼付２!$B$2:$M$280,データ完成!K$1,FALSE))","v":""},{"$f":"IF(ISERROR(VLOOKUP($A52*10+4,データ作成貼付２!$B$2:$M$280,データ完成!L$1,FALSE))=TRUE,\"\",\"○\")","v":""},{"$f":"IF(L52=\"\",\"\",VLOOKUP($H52,記録入力1!$E$161:$O$190,11,FALSE))","v":""},{"$f":"IF(ISERROR(VLOOKUP($A52*10+5,データ作成貼付２!$B$2:$M$280,データ完成!N$1,FALSE))=TRUE,\"\",\"○\")","v":""},{"$f":"IF(N52=\"\",\"\",VLOOKUP($H52,記録入力1!$E$191:$O$290,11,FALSE))","v":""},{"$f":"IF(I52=\"\",\"\",VLOOKUP(LEFT(I52,5),初期設定1!$E$18:$F$59,2,FALSE))","v":""},"",{"$f":"VLOOKUP($Q52,記録入力1!$B$4:$I$287,8,FALSE)","v":{"$error":"#N/A"}},{"$f":"IF(J52=\"\",\"\",VLOOKUP(LEFT(J52,5),初期設定1!$E$18:$F$59,2,FALSE))","v":""},"",{"$f":"VLOOKUP($T52,記録入力1!$B$4:$I$287,8,FALSE)","v":{"$error":"#N/A"}},{"$f":"IF(K52=\"\",\"\",VLOOKUP(LEFT(K52,5),初期設定1!$E$18:$F$59,2,FALSE))","v":""},"",{"$f":"VLOOKUP($W52,記録入力1!$B$4:$I$287,8,FALSE)","v":{"$error":"#N/A"}},{"$f":"IF(G52=\"\",\"\",VLOOKUP(VALUE(RIGHT(G52,6)),学校番号!$A$2:$B$51,2))","v":""}]
[51,{"$f":"IF(ISERROR(VLOOKUP($A53,データ作成貼付２!$A$2:$M$280,データ完成!B$1,FALSE))=TRUE,\"\",VLOOKUP($A53,データ作成貼付２!$A$2:$M$280,データ完成!B$1,FALSE))","v":""},{"$f":"IF(ISERROR(VLOOKUP($A53,データ作成貼付２!$A$2:$M$280,データ完成!C$1,FALSE))=TRUE,\"\",VLOOKUP($A53,データ作成貼付２!$A$2:$M$280,データ完成!C$1,FALSE))","v":""},{"$f":"IF(ISERROR(VLOOKUP($A53,データ作成貼付２!$A$2:$M$280,データ完成!D$1,FALSE))=TRUE,\"\",VLOOKUP($A53,データ作成貼付２!$A$2:$M$280,データ完成!D$1,FALSE))","v":""},{"$f":"IF(ISERROR(VLOOKUP($A53,データ作成貼付２!$A$2:$M$280,データ完成!E$1,FALSE))=TRUE,\"\",VLOOKUP($A53,データ作成貼付２!$A$2:$M$280,データ完成!E$1,FALSE))","v":""},{"$f":"IF(ISERROR(VLOOKUP($A53,データ作成貼付２!$A$2:$M$280,データ完成!F$1,FALSE))=TRUE,\"\",VLOOKUP($A53,データ作成貼付２!$A$2:$M$280,データ完成!F$1,FALSE))","v":""},{"$f":"IF(ISERROR(VLOOKUP($A53,データ作成貼付２!$A$2:$M$280,データ完成!G$1,FALSE))=TRUE,\"\",VLOOKUP($A53,データ作成貼付２!$A$2:$M$280,データ完成!G$1,FALSE))","v":""},{"$f":"IF(ISERROR(VLOOKUP($A53,データ作成貼付２!$A$2:$M$280,データ完成!H$1,FALSE))=TRUE,\"\",VLOOKUP($A53,データ作成貼付２!$A$2:$M$280,データ完成!H$1,FALSE))","v":""},{"$f":"IF(ISERROR(VLOOKUP($A53*10+1,データ作成貼付２!$B$2:$M$280,データ完成!I$1,FALSE))=TRUE,\"\",VLOOKUP($A53*10+1,データ作成貼付２!$B$2:$M$280,データ完成!I$1,FALSE))","v":""},{"$f":"IF(ISERROR(VLOOKUP($A53*10+2,データ作成貼付２!$B$2:$M$280,データ完成!J$1,FALSE))=TRUE,\"\",VLOOKUP($A53*10+2,データ作成貼付２!$B$2:$M$280,データ完成!J$1,FALSE))","v":""},{"$f":"IF(ISERROR(VLOOKUP($A53*10+3,データ作成貼付２!$B$2:$M$280,データ完成!K$1,FALSE))=TRUE,\"\",VLOOKUP($A53*10+3,データ作成貼付２!$B$2:$M$280,データ完成!K$1,FALSE))","v":""},{"$f":"IF(ISERROR(VLOOKUP($A53*10+4,データ作成貼付２!$B$2:$M$280,データ完成!L$1,FALSE))=TRUE,\"\",\"○\")","v":""},{"$f":"IF(L53=\"\",\"\",VLOOKUP($H53,記録入力1!$E$161:$O$190,11,FALSE))","v":""},{"$f":"IF(ISERROR(VLOOKUP($A53*10+5,データ作成貼付２!$B$2:$M$280,データ完成!N$1,FALSE))=TRUE,\"\",\"○\")","v":""},{"$f":"IF(N53=\"\",\"\",VLOOKUP($H53,記録入力1!$E$191:$O$290,11,FALSE))","v":""},{"$f":"IF(I53=\"\",\"\",VLOOKUP(LEFT(I53,5),初期設定1!$E$18:$F$59,2,FALSE))","v":""},"",{"$f":"VLOOKUP($Q53,記録入力1!$B$4:$I$287,8,FALSE)","v":{"$error":"#N/A"}},{"$f":"IF(J53=\"\",\"\",VLOOKUP(LEFT(J53,5),初期設定1!$E$18:$F$59,2,FALSE))","v":""},"",{"$f":"VLOOKUP($T53,記録入力1!$B$4:$I$287,8,FALSE)","v":{"$error":"#N/A"}},{"$f":"IF(K53=\"\",\"\",VLOOKUP(LEFT(K53,5),初期設定1!$E$18:$F$59,2,FALSE))","v":""},"",{"$f":"VLOOKUP($W53,記録入力1!$B$4:$I$287,8,FALSE)","v":{"$error":"#N/A"}},{"$f":"IF(G53=\"\",\"\",VLOOKUP(VALUE(RIGHT(G53,6)),学校番号!$A$2:$B$51,2))","v":""}]
[52,{"$f":"IF(ISERROR(VLOOKUP($A54,データ作成貼付２!$A$2:$M$280,データ完成!B$1,FALSE))=TRUE,\"\",VLOOKUP($A54,データ作成貼付２!$A$2:$M$280,データ完成!B$1,FALSE))","v":""},{"$f":"IF(ISERROR(VLOOKUP($A54,データ作成貼付２!$A$2:$M$280,データ完成!C$1,FALSE))=TRUE,\"\",VLOOKUP($A54,データ作成貼付２!$A$2:$M$280,データ完成!C$1,FALSE))","v":""},{"$f":"IF(ISERROR(VLOOKUP($A54,データ作成貼付２!$A$2:$M$280,データ完成!D$1,FALSE))=TRUE,\"\",VLOOKUP($A54,データ作成貼付２!$A$2:$M$280,データ完成!D$1,FALSE))","v":""},{"$f":"IF(ISERROR(VLOOKUP($A54,データ作成貼付２!$A$2:$M$280,データ完成!E$1,FALSE))=TRUE,\"\",VLOOKUP($A54,データ作成貼付２!$A$2:$M$280,データ完成!E$1,FALSE))","v":""},{"$f":"IF(ISERROR(VLOOKUP($A54,データ作成貼付２!$A$2:$M$280,データ完成!F$1,FALSE))=TRUE,\"\",VLOOKUP($A54,データ作成貼付２!$A$2:$M$280,データ完成!F$1,FALSE))","v":""},{"$f":"IF(ISERROR(VLOOKUP($A54,データ作成貼付２!$A$2:$M$280,データ完成!G$1,FALSE))=TRUE,\"\",VLOOKUP($A54,データ作成貼付２!$A$2:$M$280,データ完成!G$1,FALSE))","v":""},{"$f":"IF(ISERROR(VLOOKUP($A54,データ作成貼付２!$A$2:$M$280,データ完成!H$1,FALSE))=TRUE,\"\",VLOOKUP($A54,データ作成貼付２!$A$2:$M$280,データ完成!H$1,FALSE))","v":""},{"$f":"IF(ISERROR(VLOOKUP($A54*10+1,データ作成貼付２!$B$2:$M$280,データ完成!I$1,FALSE))=TRUE,\"\",VLOOKUP($A54*10+1,データ作成貼付２!$B$2:$M$280,データ完成!I$1,FALSE))","v":""},{"$f":"IF(ISERROR(VLOOKUP($A54*10+2,データ作成貼付２!$B$2:$M$280,データ完成!J$1,FALSE))=TRUE,\"\",VLOOKUP($A54*10+2,データ作成貼付２!$B$2:$M$280,データ完成!J$1,FALSE))","v":""},{"$f":"IF(ISERROR(VLOOKUP($A54*10+3,データ作成貼付２!$B$2:$M$280,データ完成!K$1,FALSE))=TRUE,\"\",VLOOKUP($A54*10+3,データ作成貼付２!$B$2:$M$280,データ完成!K$1,FALSE))","v":""},{"$f":"IF(ISERROR(VLOOKUP($A54*10+4,データ作成貼付２!$B$2:$M$280,データ完成!L$1,FALSE))=TRUE,\"\",\"○\")","v":""},{"$f":"IF(L54=\"\",\"\",VLOOKUP($H54,記録入力1!$E$161:$O$190,11,FALSE))","v":""},{"$f":"IF(ISERROR(VLOOKUP($A54*10+5,データ作成貼付２!$B$2:$M$280,データ完成!N$1,FALSE))=TRUE,\"\",\"○\")","v":""},{"$f":"IF(N54=\"\",\"\",VLOOKUP($H54,記録入力1!$E$191:$O$290,11,FALSE))","v":""},{"$f":"IF(I54=\"\",\"\",VLOOKUP(LEFT(I54,5),初期設定1!$E$18:$F$59,2,FALSE))","v":""},"",{"$f":"VLOOKUP($Q54,記録入力1!$B$4:$I$287,8,FALSE)","v":{"$error":"#N/A"}},{"$f":"IF(J54=\"\",\"\",VLOOKUP(LEFT(J54,5),初期設定1!$E$18:$F$59,2,FALSE))","v":""},"",{"$f":"VLOOKUP($T54,記録入力1!$B$4:$I$287,8,FALSE)","v":{"$error":"#N/A"}},{"$f":"IF(K54=\"\",\"\",VLOOKUP(LEFT(K54,5),初期設定1!$E$18:$F$59,2,FALSE))","v":""},"",{"$f":"VLOOKUP($W54,記録入力1!$B$4:$I$287,8,FALSE)","v":{"$error":"#N/A"}},{"$f":"IF(G54=\"\",\"\",VLOOKUP(VALUE(RIGHT(G54,6)),学校番号!$A$2:$B$51,2))","v":""}]
[53,{"$f":"IF(ISERROR(VLOOKUP($A55,データ作成貼付２!$A$2:$M$280,データ完成!B$1,FALSE))=TRUE,\"\",VLOOKUP($A55,データ作成貼付２!$A$2:$M$280,データ完成!B$1,FALSE))","v":""},{"$f":"IF(ISERROR(VLOOKUP($A55,データ作成貼付２!$A$2:$M$280,データ完成!C$1,FALSE))=TRUE,\"\",VLOOKUP($A55,データ作成貼付２!$A$2:$M$280,データ完成!C$1,FALSE))","v":""},{"$f":"IF(ISERROR(VLOOKUP($A55,データ作成貼付２!$A$2:$M$280,データ完成!D$1,FALSE))=TRUE,\"\",VLOOKUP($A55,データ作成貼付２!$A$2:$M$280,データ完成!D$1,FALSE))","v":""},{"$f":"IF(ISERROR(VLOOKUP($A55,データ作成貼付２!$A$2:$M$280,データ完成!E$1,FALSE))=TRUE,\"\",VLOOKUP($A55,データ作成貼付２!$A$2:$M$280,データ完成!E$1,FALSE))","v":""},{"$f":"IF(ISERROR(VLOOKUP($A55,データ作成貼付２!$A$2:$M$280,データ完成!F$1,FALSE))=TRUE,\"\",VLOOKUP($A55,データ作成貼付２!$A$2:$M$280,データ完成!F$1,FALSE))","v":""},{"$f":"IF(ISERROR(VLOOKUP($A55,データ作成貼付２!$A$2:$M$280,データ完成!G$1,FALSE))=TRUE,\"\",VLOOKUP($A55,データ作成貼付２!$A$2:$M$280,データ完成!G$1,FALSE))","v":""},{"$f":"IF(ISERROR(VLOOKUP($A55,データ作成貼付２!$A$2:$M$280,データ完成!H$1,FALSE))=TRUE,\"\",VLOOKUP($A55,データ作成貼付２!$A$2:$M$280,データ完成!H$1,FALSE))","v":""},{"$f":"IF(ISERROR(VLOOKUP($A55*10+1,データ作成貼付２!$B$2:$M$280,データ完成!I$1,FALSE))=TRUE,\"\",VLOOKUP($A55*10+1,データ作成貼付２!$B$2:$M$280,データ完成!I$1,FALSE))","v":""},{"$f":"IF(ISERROR(VLOOKUP($A55*10+2,データ作成貼付２!$B$2:$M$280,データ完成!J$1,FALSE))=TRUE,\"\",VLOOKUP($A55*10+2,データ作成貼付２!$B$2:$M$280,データ完成!J$1,FALSE))","v":""},{"$f":"IF(ISERROR(VLOOKUP($A55*10+3,データ作成貼付２!$B$2:$M$280,データ完成!K$1,FALSE))=TRUE,\"\",VLOOKUP($A55*10+3,データ作成貼付２!$B$2:$M$280,データ完成!K$1,FALSE))","v":""},{"$f":"IF(ISERROR(VLOOKUP($A55*10+4,データ作成貼付２!$B$2:$M$280,データ完成!L$1,FALSE))=TRUE,\"\",\"○\")","v":""},{"$f":"IF(L55=\"\",\"\",VLOOKUP($H55,記録入力1!$E$161:$O$190,11,FALSE))","v":""},{"$f":"IF(ISERROR(VLOOKUP($A55*10+5,データ作成貼付２!$B$2:$M$280,データ完成!N$1,FALSE))=TRUE,\"\",\"○\")","v":""},{"$f":"IF(N55=\"\",\"\",VLOOKUP($H55,記録入力1!$E$191:$O$290,11,FALSE))","v":""},{"$f":"IF(I55=\"\",\"\",VLOOKUP(LEFT(I55,5),初期設定1!$E$18:$F$59,2,FALSE))","v":""},"",{"$f":"VLOOKUP($Q55,記録入力1!$B$4:$I$287,8,FALSE)","v":{"$error":"#N/A"}},{"$f":"IF(J55=\"\",\"\",VLOOKUP(LEFT(J55,5),初期設定1!$E$18:$F$59,2,FALSE))","v":""},"",{"$f":"VLOOKUP($T55,記録入力1!$B$4:$I$287,8,FALSE)","v":{"$error":"#N/A"}},{"$f":"IF(K55=\"\",\"\",VLOOKUP(LEFT(K55,5),初期設定1!$E$18:$F$59,2,FALSE))","v":""},"",{"$f":"VLOOKUP($W55,記録入力1!$B$4:$I$287,8,FALSE)","v":{"$error":"#N/A"}},{"$f":"IF(G55=\"\",\"\",VLOOKUP(VALUE(RIGHT(G55,6)),学校番号!$A$2:$B$51,2))","v":""}]
[54,{"$f":"IF(ISERROR(VLOOKUP($A56,データ作成貼付２!$A$2:$M$280,データ完成!B$1,FALSE))=TRUE,\"\",VLOOKUP($A56,データ作成貼付２!$A$2:$M$280,データ完成!B$1,FALSE))","v":""},{"$f":"IF(ISERROR(VLOOKUP($A56,データ作成貼付２!$A$2:$M$280,データ完成!C$1,FALSE))=TRUE,\"\",VLOOKUP($A56,データ作成貼付２!$A$2:$M$280,データ完成!C$1,FALSE))","v":""},{"$f":"IF(ISERROR(VLOOKUP($A56,データ作成貼付２!$A$2:$M$280,データ完成!D$1,FALSE))=TRUE,\"\",VLOOKUP($A56,データ作成貼付２!$A$2:$M$280,データ完成!D$1,FALSE))","v":""},{"$f":"IF(ISERROR(VLOOKUP($A56,データ作成貼付２!$A$2:$M$280,データ完成!E$1,FALSE))=TRUE,\"\",VLOOKUP($A56,データ作成貼付２!$A$2:$M$280,データ完成!E$1,FALSE))","v":""},{"$f":"IF(ISERROR(VLOOKUP($A56,データ作成貼付２!$A$2:$M$280,データ完成!F$1,FALSE))=TRUE,\"\",VLOOKUP($A56,データ作成貼付２!$A$2:$M$280,データ完成!F$1,FALSE))","v":""},{"$f":"IF(ISERROR(VLOOKUP($A56,データ作成貼付２!$A$2:$M$280,データ完成!G$1,FALSE))=TRUE,\"\",VLOOKUP($A56,データ作成貼付２!$A$2:$M$280,データ完成!G$1,FALSE))","v":""},{"$f":"IF(ISERROR(VLOOKUP($A56,データ作成貼付２!$A$2:$M$280,データ完成!H$1,FALSE))=TRUE,\"\",VLOOKUP($A56,データ作成貼付２!$A$2:$M$280,データ完成!H$1,FALSE))","v":""},{"$f":"IF(ISERROR(VLOOKUP($A56*10+1,データ作成貼付２!$B$2:$M$280,データ完成!I$1,FALSE))=TRUE,\"\",VLOOKUP($A56*10+1,データ作成貼付２!$B$2:$M$280,データ完成!I$1,FALSE))","v":""},{"$f":"IF(ISERROR(VLOOKUP($A56*10+2,データ作成貼付２!$B$2:$M$280,データ完成!J$1,FALSE))=TRUE,\"\",VLOOKUP($A56*10+2,データ作成貼付２!$B$2:$M$280,データ完成!J$1,FALSE))","v":""},{"$f":"IF(ISERROR(VLOOKUP($A56*10+3,データ作成貼付２!$B$2:$M$280,データ完成!K$1,FALSE))=TRUE,\"\",VLOOKUP($A56*10+3,データ作成貼付２!$B$2:$M$280,データ完成!K$1,FALSE))","v":""},{"$f":"IF(ISERROR(VLOOKUP($A56*10+4,データ作成貼付２!$B$2:$M$280,データ完成!L$1,FALSE))=TRUE,\"\",\"○\")","v":""},{"$f":"IF(L56=\"\",\"\",VLOOKUP($H56,記録入力1!$E$161:$O$190,11,FALSE))","v":""},{"$f":"IF(ISERROR(VLOOKUP($A56*10+5,データ作成貼付２!$B$2:$M$280,データ完成!N$1,FALSE))=TRUE,\"\",\"○\")","v":""},{"$f":"IF(N56=\"\",\"\",VLOOKUP($H56,記録入力1!$E$191:$O$290,11,FALSE))","v":""},{"$f":"IF(I56=\"\",\"\",VLOOKUP(LEFT(I56,5),初期設定1!$E$18:$F$59,2,FALSE))","v":""},"",{"$f":"VLOOKUP($Q56,記録入力1!$B$4:$I$287,8,FALSE)","v":{"$error":"#N/A"}},{"$f":"IF(J56=\"\",\"\",VLOOKUP(LEFT(J56,5),初期設定1!$E$18:$F$59,2,FALSE))","v":""},"",{"$f":"VLOOKUP($T56,記録入力1!$B$4:$I$287,8,FALSE)","v":{"$error":"#N/A"}},{"$f":"IF(K56=\"\",\"\",VLOOKUP(LEFT(K56,5),初期設定1!$E$18:$F$59,2,FALSE))","v":""},"",{"$f":"VLOOKUP($W56,記録入力1!$B$4:$I$287,8,FALSE)","v":{"$error":"#N/A"}},{"$f":"IF(G56=\"\",\"\",VLOOKUP(VALUE(RIGHT(G56,6)),学校番号!$A$2:$B$51,2))","v":""}]
[55,{"$f":"IF(ISERROR(VLOOKUP($A57,データ作成貼付２!$A$2:$M$280,データ完成!B$1,FALSE))=TRUE,\"\",VLOOKUP($A57,データ作成貼付２!$A$2:$M$280,データ完成!B$1,FALSE))","v":""},{"$f":"IF(ISERROR(VLOOKUP($A57,データ作成貼付２!$A$2:$M$280,データ完成!C$1,FALSE))=TRUE,\"\",VLOOKUP($A57,データ作成貼付２!$A$2:$M$280,データ完成!C$1,FALSE))","v":""},{"$f":"IF(ISERROR(VLOOKUP($A57,データ作成貼付２!$A$2:$M$280,データ完成!D$1,FALSE))=TRUE,\"\",VLOOKUP($A57,データ作成貼付２!$A$2:$M$280,データ完成!D$1,FALSE))","v":""},{"$f":"IF(ISERROR(VLOOKUP($A57,データ作成貼付２!$A$2:$M$280,データ完成!E$1,FALSE))=TRUE,\"\",VLOOKUP($A57,データ作成貼付２!$A$2:$M$280,データ完成!E$1,FALSE))","v":""},{"$f":"IF(ISERROR(VLOOKUP($A57,データ作成貼付２!$A$2:$M$280,データ完成!F$1,FALSE))=TRUE,\"\",VLOOKUP($A57,データ作成貼付２!$A$2:$M$280,データ完成!F$1,FALSE))","v":""},{"$f":"IF(ISERROR(VLOOKUP($A57,データ作成貼付２!$A$2:$M$280,データ完成!G$1,FALSE))=TRUE,\"\",VLOOKUP($A57,データ作成貼付２!$A$2:$M$280,データ完成!G$1,FALSE))","v":""},{"$f":"IF(ISERROR(VLOOKUP($A57,データ作成貼付２!$A$2:$M$280,データ完成!H$1,FALSE))=TRUE,\"\",VLOOKUP($A57,データ作成貼付２!$A$2:$M$280,データ完成!H$1,FALSE))","v":""},{"$f":"IF(ISERROR(VLOOKUP($A57*10+1,データ作成貼付２!$B$2:$M$280,データ完成!I$1,FALSE))=TRUE,\"\",VLOOKUP($A57*10+1,データ作成貼付２!$B$2:$M$280,データ完成!I$1,FALSE))","v":""},{"$f":"IF(ISERROR(VLOOKUP($A57*10+2,データ作成貼付２!$B$2:$M$280,データ完成!J$1,FALSE))=TRUE,\"\",VLOOKUP($A57*10+2,データ作成貼付２!$B$2:$M$280,データ完成!J$1,FALSE))","v":""},{"$f":"IF(ISERROR(VLOOKUP($A57*10+3,データ作成貼付２!$B$2:$M$280,データ完成!K$1,FALSE))=TRUE,\"\",VLOOKUP($A57*10+3,データ作成貼付２!$B$2:$M$280,データ完成!K$1,FALSE))","v":""},{"$f":"IF(ISERROR(VLOOKUP($A57*10+4,データ作成貼付２!$B$2:$M$280,データ完成!L$1,FALSE))=TRUE,\"\",\"○\")","v":""},{"$f":"IF(L57=\"\",\"\",VLOOKUP($H57,記録入力1!$E$161:$O$190,11,FALSE))","v":""},{"$f":"IF(ISERROR(VLOOKUP($A57*10+5,データ作成貼付２!$B$2:$M$280,データ完成!N$1,FALSE))=TRUE,\"\",\"○\")","v":""},{"$f":"IF(N57=\"\",\"\",VLOOKUP($H57,記録入力1!$E$191:$O$290,11,FALSE))","v":""},{"$f":"IF(I57=\"\",\"\",VLOOKUP(LEFT(I57,5),初期設定1!$E$18:$F$59,2,FALSE))","v":""},"",{"$f":"VLOOKUP($Q57,記録入力1!$B$4:$I$287,8,FALSE)","v":{"$error":"#N/A"}},{"$f":"IF(J57=\"\",\"\",VLOOKUP(LEFT(J57,5),初期設定1!$E$18:$F$59,2,FALSE))","v":""},"",{"$f":"VLOOKUP($T57,記録入力1!$B$4:$I$287,8,FALSE)","v":{"$error":"#N/A"}},{"$f":"IF(K57=\"\",\"\",VLOOKUP(LEFT(K57,5),初期設定1!$E$18:$F$59,2,FALSE))","v":""},"",{"$f":"VLOOKUP($W57,記録入力1!$B$4:$I$287,8,FALSE)","v":{"$error":"#N/A"}},{"$f":"IF(G57=\"\",\"\",VLOOKUP(VALUE(RIGHT(G57,6)),学校番号!$A$2:$B$51,2))","v":""}]
[56,{"$f":"IF(ISERROR(VLOOKUP($A58,データ作成貼付２!$A$2:$M$280,データ完成!B$1,FALSE))=TRUE,\"\",VLOOKUP($A58,データ作成貼付２!$A$2:$M$280,データ完成!B$1,FALSE))","v":""},{"$f":"IF(ISERROR(VLOOKUP($A58,データ作成貼付２!$A$2:$M$280,データ完成!C$1,FALSE))=TRUE,\"\",VLOOKUP($A58,データ作成貼付２!$A$2:$M$280,データ完成!C$1,FALSE))","v":""},{"$f":"IF(ISERROR(VLOOKUP($A58,データ作成貼付２!$A$2:$M$280,データ完成!D$1,FALSE))=TRUE,\"\",VLOOKUP($A58,データ作成貼付２!$A$2:$M$280,データ完成!D$1,FALSE))","v":""},{"$f":"IF(ISERROR(VLOOKUP($A58,データ作成貼付２!$A$2:$M$280,データ完成!E$1,FALSE))=TRUE,\"\",VLOOKUP($A58,データ作成貼付２!$A$2:$M$280,データ完成!E$1,FALSE))","v":""},{"$f":"IF(ISERROR(VLOOKUP($A58,データ作成貼付２!$A$2:$M$280,データ完成!F$1,FALSE))=TRUE,\"\",VLOOKUP($A58,データ作成貼付２!$A$2:$M$280,データ完成!F$1,FALSE))","v":""},{"$f":"IF(ISERROR(VLOOKUP($A58,データ作成貼付２!$A$2:$M$280,データ完成!G$1,FALSE))=TRUE,\"\",VLOOKUP($A58,データ作成貼付２!$A$2:$M$280,データ完成!G$1,FALSE))","v":""},{"$f":"IF(ISERROR(VLOOKUP($A58,データ作成貼付２!$A$2:$M$280,データ完成!H$1,FALSE))=TRUE,\"\",VLOOKUP($A58,データ作成貼付２!$A$2:$M$280,データ完成!H$1,FALSE))","v":""},{"$f":"IF(ISERROR(VLOOKUP($A58*10+1,データ作成貼付２!$B$2:$M$280,データ完成!I$1,FALSE))=TRUE,\"\",VLOOKUP($A58*10+1,データ作成貼付２!$B$2:$M$280,データ完成!I$1,FALSE))","v":""},{"$f":"IF(ISERROR(VLOOKUP($A58*10+2,データ作成貼付２!$B$2:$M$280,データ完成!J$1,FALSE))=TRUE,\"\",VLOOKUP($A58*10+2,データ作成貼付２!$B$2:$M$280,データ完成!J$1,FALSE))","v":""},{"$f":"IF(ISERROR(VLOOKUP($A58*10+3,データ作成貼付２!$B$2:$M$280,データ完成!K$1,FALSE))=TRUE,\"\",VLOOKUP($A58*10+3,データ作成貼付２!$B$2:$M$280,データ完成!K$1,FALSE))","v":""},{"$f":"IF(ISERROR(VLOOKUP($A58*10+4,データ作成貼付２!$B$2:$M$280,データ完成!L$1,FALSE))=TRUE,\"\",\"○\")","v":""},{"$f":"IF(L58=\"\",\"\",VLOOKUP($H58,記録入力1!$E$161:$O$190,11,FALSE))","v":""},{"$f":"IF(ISERROR(VLOOKUP($A58*10+5,データ作成貼付２!$B$2:$M$280,データ完成!N$1,FALSE))=TRUE,\"\",\"○\")","v":""},{"$f":"IF(N58=\"\",\"\",VLOOKUP($H58,記録入力1!$E$191:$O$290,11,FALSE))","v":""},{"$f":"IF(I58=\"\",\"\",VLOOKUP(LEFT(I58,5),初期設定1!$E$18:$F$59,2,FALSE))","v":""},"",{"$f":"VLOOKUP($Q58,記録入力1!$B$4:$I$287,8,FALSE)","v":{"$error":"#N/A"}},{"$f":"IF(J58=\"\",\"\",VLOOKUP(LEFT(J58,5),初期設定1!$E$18:$F$59,2,FALSE))","v":""},"",{"$f":"VLOOKUP($T58,記録入力1!$B$4:$I$287,8,FALSE)","v":{"$error":"#N/A"}},{"$f":"IF(K58=\"\",\"\",VLOOKUP(LEFT(K58,5),初期設定1!$E$18:$F$59,2,FALSE))","v":""},"",{"$f":"VLOOKUP($W58,記録入力1!$B$4:$I$287,8,FALSE)","v":{"$error":"#N/A"}},{"$f":"IF(G58=\"\",\"\",VLOOKUP(VALUE(RIGHT(G58,6)),学校番号!$A$2:$B$51,2))","v":""}]
[57,{"$f":"IF(ISERROR(VLOOKUP($A59,データ作成貼付２!$A$2:$M$280,データ完成!B$1,FALSE))=TRUE,\"\",VLOOKUP($A59,データ作成貼付２!$A$2:$M$280,データ完成!B$1,FALSE))","v":""},{"$f":"IF(ISERROR(VLOOKUP($A59,データ作成貼付２!$A$2:$M$280,データ完成!C$1,FALSE))=TRUE,\"\",VLOOKUP($A59,データ作成貼付２!$A$2:$M$280,データ完成!C$1,FALSE))","v":""},{"$f":"IF(ISERROR(VLOOKUP($A59,データ作成貼付２!$A$2:$M$280,データ完成!D$1,FALSE))=TRUE,\"\",VLOOKUP($A59,データ作成貼付２!$A$2:$M$280,データ完成!D$1,FALSE))","v":""},{"$f":"IF(ISERROR(VLOOKUP($A59,データ作成貼付２!$A$2:$M$280,データ完成!E$1,FALSE))=TRUE,\"\",VLOOKUP($A59,データ作成貼付２!$A$2:$M$280,データ完成!E$1,FALSE))","v":""},{"$f":"IF(ISERROR(VLOOKUP($A59,データ作成貼付２!$A$2:$M$280,データ完成!F$1,FALSE))=TRUE,\"\",VLOOKUP($A59,データ作成貼付２!$A$2:$M$280,データ完成!F$1,FALSE))","v":""},{"$f":"IF(ISERROR(VLOOKUP($A59,データ作成貼付２!$A$2:$M$280,データ完成!G$1,FALSE))=TRUE,\"\",VLOOKUP($A59,データ作成貼付２!$A$2:$M$280,データ完成!G$1,FALSE))","v":""},{"$f":"IF(ISERROR(VLOOKUP($A59,データ作成貼付２!$A$2:$M$280,データ完成!H$1,FALSE))=TRUE,\"\",VLOOKUP($A59,データ作成貼付２!$A$2:$M$280,データ完成!H$1,FALSE))","v":""},{"$f":"IF(ISERROR(VLOOKUP($A59*10+1,データ作成貼付２!$B$2:$M$280,データ完成!I$1,FALSE))=TRUE,\"\",VLOOKUP($A59*10+1,データ作成貼付２!$B$2:$M$280,データ完成!I$1,FALSE))","v":""},{"$f":"IF(ISERROR(VLOOKUP($A59*10+2,データ作成貼付２!$B$2:$M$280,データ完成!J$1,FALSE))=TRUE,\"\",VLOOKUP($A59*10+2,データ作成貼付２!$B$2:$M$280,データ完成!J$1,FALSE))","v":""},{"$f":"IF(ISERROR(VLOOKUP($A59*10+3,データ作成貼付２!$B$2:$M$280,データ完成!K$1,FALSE))=TRUE,\"\",VLOOKUP($A59*10+3,データ作成貼付２!$B$2:$M$280,データ完成!K$1,FALSE))","v":""},{"$f":"IF(ISERROR(VLOOKUP($A59*10+4,データ作成貼付２!$B$2:$M$280,データ完成!L$1,FALSE))=TRUE,\"\",\"○\")","v":""},{"$f":"IF(L59=\"\",\"\",VLOOKUP($H59,記録入力1!$E$161:$O$190,11,FALSE))","v":""},{"$f":"IF(ISERROR(VLOOKUP($A59*10+5,データ作成貼付２!$B$2:$M$280,データ完成!N$1,FALSE))=TRUE,\"\",\"○\")","v":""},{"$f":"IF(N59=\"\",\"\",VLOOKUP($H59,記録入力1!$E$191:$O$290,11,FALSE))","v":""},{"$f":"IF(I59=\"\",\"\",VLOOKUP(LEFT(I59,5),初期設定1!$E$18:$F$59,2,FALSE))","v":""},"",{"$f":"VLOOKUP($Q59,記録入力1!$B$4:$I$287,8,FALSE)","v":{"$error":"#N/A"}},{"$f":"IF(J59=\"\",\"\",VLOOKUP(LEFT(J59,5),初期設定1!$E$18:$F$59,2,FALSE))","v":""},"",{"$f":"VLOOKUP($T59,記録入力1!$B$4:$I$287,8,FALSE)","v":{"$error":"#N/A"}},{"$f":"IF(K59=\"\",\"\",VLOOKUP(LEFT(K59,5),初期設定1!$E$18:$F$59,2,FALSE))","v":""},"",{"$f":"VLOOKUP($W59,記録入力1!$B$4:$I$287,8,FALSE)","v":{"$error":"#N/A"}},{"$f":"IF(G59=\"\",\"\",VLOOKUP(VALUE(RIGHT(G59,6)),学校番号!$A$2:$B$51,2))","v":""}]
[58,{"$f":"IF(ISERROR(VLOOKUP($A60,データ作成貼付２!$A$2:$M$280,データ完成!B$1,FALSE))=TRUE,\"\",VLOOKUP($A60,データ作成貼付２!$A$2:$M$280,データ完成!B$1,FALSE))","v":""},{"$f":"IF(ISERROR(VLOOKUP($A60,データ作成貼付２!$A$2:$M$280,データ完成!C$1,FALSE))=TRUE,\"\",VLOOKUP($A60,データ作成貼付２!$A$2:$M$280,データ完成!C$1,FALSE))","v":""},{"$f":"IF(ISERROR(VLOOKUP($A60,データ作成貼付２!$A$2:$M$280,データ完成!D$1,FALSE))=TRUE,\"\",VLOOKUP($A60,データ作成貼付２!$A$2:$M$280,データ完成!D$1,FALSE))","v":""},{"$f":"IF(ISERROR(VLOOKUP($A60,データ作成貼付２!$A$2:$M$280,データ完成!E$1,FALSE))=TRUE,\"\",VLOOKUP($A60,データ作成貼付２!$A$2:$M$280,データ完成!E$1,FALSE))","v":""},{"$f":"IF(ISERROR(VLOOKUP($A60,データ作成貼付２!$A$2:$M$280,データ完成!F$1,FALSE))=TRUE,\"\",VLOOKUP($A60,データ作成貼付２!$A$2:$M$280,データ完成!F$1,FALSE))","v":""},{"$f":"IF(ISERROR(VLOOKUP($A60,データ作成貼付２!$A$2:$M$280,データ完成!G$1,FALSE))=TRUE,\"\",VLOOKUP($A60,データ作成貼付２!$A$2:$M$280,データ完成!G$1,FALSE))","v":""},{"$f":"IF(ISERROR(VLOOKUP($A60,データ作成貼付２!$A$2:$M$280,データ完成!H$1,FALSE))=TRUE,\"\",VLOOKUP($A60,データ作成貼付２!$A$2:$M$280,データ完成!H$1,FALSE))","v":""},{"$f":"IF(ISERROR(VLOOKUP($A60*10+1,データ作成貼付２!$B$2:$M$280,データ完成!I$1,FALSE))=TRUE,\"\",VLOOKUP($A60*10+1,データ作成貼付２!$B$2:$M$280,データ完成!I$1,FALSE))","v":""},{"$f":"IF(ISERROR(VLOOKUP($A60*10+2,データ作成貼付２!$B$2:$M$280,データ完成!J$1,FALSE))=TRUE,\"\",VLOOKUP($A60*10+2,データ作成貼付２!$B$2:$M$280,データ完成!J$1,FALSE))","v":""},{"$f":"IF(ISERROR(VLOOKUP($A60*10+3,データ作成貼付２!$B$2:$M$280,データ完成!K$1,FALSE))=TRUE,\"\",VLOOKUP($A60*10+3,データ作成貼付２!$B$2:$M$280,データ完成!K$1,FALSE))","v":""},{"$f":"IF(ISERROR(VLOOKUP($A60*10+4,データ作成貼付２!$B$2:$M$280,データ完成!L$1,FALSE))=TRUE,\"\",\"○\")","v":""},{"$f":"IF(L60=\"\",\"\",VLOOKUP($H60,記録入力1!$E$161:$O$190,11,FALSE))","v":""},{"$f":"IF(ISERROR(VLOOKUP($A60*10+5,データ作成貼付２!$B$2:$M$280,データ完成!N$1,FALSE))=TRUE,\"\",\"○\")","v":""},{"$f":"IF(N60=\"\",\"\",VLOOKUP($H60,記録入力1!$E$191:$O$290,11,FALSE))","v":""},{"$f":"IF(I60=\"\",\"\",VLOOKUP(LEFT(I60,5),初期設定1!$E$18:$F$59,2,FALSE))","v":""},"",{"$f":"VLOOKUP($Q60,記録入力1!$B$4:$I$287,8,FALSE)","v":{"$error":"#N/A"}},{"$f":"IF(J60=\"\",\"\",VLOOKUP(LEFT(J60,5),初期設定1!$E$18:$F$59,2,FALSE))","v":""},"",{"$f":"VLOOKUP($T60,記録入力1!$B$4:$I$287,8,FALSE)","v":{"$error":"#N/A"}},{"$f":"IF(K60=\"\",\"\",VLOOKUP(LEFT(K60,5),初期設定1!$E$18:$F$59,2,FALSE))","v":""},"",{"$f":"VLOOKUP($W60,記録入力1!$B$4:$I$287,8,FALSE)","v":{"$error":"#N/A"}},{"$f":"IF(G60=\"\",\"\",VLOOKUP(VALUE(RIGHT(G60,6)),学校番号!$A$2:$B$51,2))","v":""}]
[59,{"$f":"IF(ISERROR(VLOOKUP($A61,データ作成貼付２!$A$2:$M$280,データ完成!B$1,FALSE))=TRUE,\"\",VLOOKUP($A61,データ作成貼付２!$A$2:$M$280,データ完成!B$1,FALSE))","v":""},{"$f":"IF(ISERROR(VLOOKUP($A61,データ作成貼付２!$A$2:$M$280,データ完成!C$1,FALSE))=TRUE,\"\",VLOOKUP($A61,データ作成貼付２!$A$2:$M$280,データ完成!C$1,FALSE))","v":""},{"$f":"IF(ISERROR(VLOOKUP($A61,データ作成貼付２!$A$2:$M$280,データ完成!D$1,FALSE))=TRUE,\"\",VLOOKUP($A61,データ作成貼付２!$A$2:$M$280,データ完成!D$1,FALSE))","v":""},{"$f":"IF(ISERROR(VLOOKUP($A61,データ作成貼付２!$A$2:$M$280,データ完成!E$1,FALSE))=TRUE,\"\",VLOOKUP($A61,データ作成貼付２!$A$2:$M$280,データ完成!E$1,FALSE))","v":""},{"$f":"IF(ISERROR(VLOOKUP($A61,データ作成貼付２!$A$2:$M$280,データ完成!F$1,FALSE))=TRUE,\"\",VLOOKUP($A61,データ作成貼付２!$A$2:$M$280,データ完成!F$1,FALSE))","v":""},{"$f":"IF(ISERROR(VLOOKUP($A61,データ作成貼付２!$A$2:$M$280,データ完成!G$1,FALSE))=TRUE,\"\",VLOOKUP($A61,データ作成貼付２!$A$2:$M$280,データ完成!G$1,FALSE))","v":""},{"$f":"IF(ISERROR(VLOOKUP($A61,データ作成貼付２!$A$2:$M$280,データ完成!H$1,FALSE))=TRUE,\"\",VLOOKUP($A61,データ作成貼付２!$A$2:$M$280,データ完成!H$1,FALSE))","v":""},{"$f":"IF(ISERROR(VLOOKUP($A61*10+1,データ作成貼付２!$B$2:$M$280,データ完成!I$1,FALSE))=TRUE,\"\",VLOOKUP($A61*10+1,データ作成貼付２!$B$2:$M$280,データ完成!I$1,FALSE))","v":""},{"$f":"IF(ISERROR(VLOOKUP($A61*10+2,データ作成貼付２!$B$2:$M$280,データ完成!J$1,FALSE))=TRUE,\"\",VLOOKUP($A61*10+2,データ作成貼付２!$B$2:$M$280,データ完成!J$1,FALSE))","v":""},{"$f":"IF(ISERROR(VLOOKUP($A61*10+3,データ作成貼付２!$B$2:$M$280,データ完成!K$1,FALSE))=TRUE,\"\",VLOOKUP($A61*10+3,データ作成貼付２!$B$2:$M$280,データ完成!K$1,FALSE))","v":""},{"$f":"IF(ISERROR(VLOOKUP($A61*10+4,データ作成貼付２!$B$2:$M$280,データ完成!L$1,FALSE))=TRUE,\"\",\"○\")","v":""},{"$f":"IF(L61=\"\",\"\",VLOOKUP($H61,記録入力1!$E$161:$O$190,11,FALSE))","v":""},{"$f":"IF(ISERROR(VLOOKUP($A61*10+5,データ作成貼付２!$B$2:$M$280,データ完成!N$1,FALSE))=TRUE,\"\",\"○\")","v":""},{"$f":"IF(N61=\"\",\"\",VLOOKUP($H61,記録入力1!$E$191:$O$290,11,FALSE))","v":""},{"$f":"IF(I61=\"\",\"\",VLOOKUP(LEFT(I61,5),初期設定1!$E$18:$F$59,2,FALSE))","v":""},"",{"$f":"VLOOKUP($Q61,記録入力1!$B$4:$I$287,8,FALSE)","v":{"$error":"#N/A"}},{"$f":"IF(J61=\"\",\"\",VLOOKUP(LEFT(J61,5),初期設定1!$E$18:$F$59,2,FALSE))","v":""},"",{"$f":"VLOOKUP($T61,記録入力1!$B$4:$I$287,8,FALSE)","v":{"$error":"#N/A"}},{"$f":"IF(K61=\"\",\"\",VLOOKUP(LEFT(K61,5),初期設定1!$E$18:$F$59,2,FALSE))","v":""},"",{"$f":"VLOOKUP($W61,記録入力1!$B$4:$I$287,8,FALSE)","v":{"$error":"#N/A"}},{"$f":"IF(G61=\"\",\"\",VLOOKUP(VALUE(RIGHT(G61,6)),学校番号!$A$2:$B$51,2))","v":""}]
[60,{"$f":"IF(ISERROR(VLOOKUP($A62,データ作成貼付２!$A$2:$M$280,データ完成!B$1,FALSE))=TRUE,\"\",VLOOKUP($A62,データ作成貼付２!$A$2:$M$280,データ完成!B$1,FALSE))","v":""},{"$f":"IF(ISERROR(VLOOKUP($A62,データ作成貼付２!$A$2:$M$280,データ完成!C$1,FALSE))=TRUE,\"\",VLOOKUP($A62,データ作成貼付２!$A$2:$M$280,データ完成!C$1,FALSE))","v":""},{"$f":"IF(ISERROR(VLOOKUP($A62,データ作成貼付２!$A$2:$M$280,データ完成!D$1,FALSE))=TRUE,\"\",VLOOKUP($A62,データ作成貼付２!$A$2:$M$280,データ完成!D$1,FALSE))","v":""},{"$f":"IF(ISERROR(VLOOKUP($A62,データ作成貼付２!$A$2:$M$280,データ完成!E$1,FALSE))=TRUE,\"\",VLOOKUP($A62,データ作成貼付２!$A$2:$M$280,データ完成!E$1,FALSE))","v":""},{"$f":"IF(ISERROR(VLOOKUP($A62,データ作成貼付２!$A$2:$M$280,データ完成!F$1,FALSE))=TRUE,\"\",VLOOKUP($A62,データ作成貼付２!$A$2:$M$280,データ完成!F$1,FALSE))","v":""},{"$f":"IF(ISERROR(VLOOKUP($A62,データ作成貼付２!$A$2:$M$280,データ完成!G$1,FALSE))=TRUE,\"\",VLOOKUP($A62,データ作成貼付２!$A$2:$M$280,データ完成!G$1,FALSE))","v":""},{"$f":"IF(ISERROR(VLOOKUP($A62,データ作成貼付２!$A$2:$M$280,データ完成!H$1,FALSE))=TRUE,\"\",VLOOKUP($A62,データ作成貼付２!$A$2:$M$280,データ完成!H$1,FALSE))","v":""},{"$f":"IF(ISERROR(VLOOKUP($A62*10+1,データ作成貼付２!$B$2:$M$280,データ完成!I$1,FALSE))=TRUE,\"\",VLOOKUP($A62*10+1,データ作成貼付２!$B$2:$M$280,データ完成!I$1,FALSE))","v":""},{"$f":"IF(ISERROR(VLOOKUP($A62*10+2,データ作成貼付２!$B$2:$M$280,データ完成!J$1,FALSE))=TRUE,\"\",VLOOKUP($A62*10+2,データ作成貼付２!$B$2:$M$280,データ完成!J$1,FALSE))","v":""},{"$f":"IF(ISERROR(VLOOKUP($A62*10+3,データ作成貼付２!$B$2:$M$280,データ完成!K$1,FALSE))=TRUE,\"\",VLOOKUP($A62*10+3,データ作成貼付２!$B$2:$M$280,データ完成!K$1,FALSE))","v":""},{"$f":"IF(ISERROR(VLOOKUP($A62*10+4,データ作成貼付２!$B$2:$M$280,データ完成!L$1,FALSE))=TRUE,\"\",\"○\")","v":""},{"$f":"IF(L62=\"\",\"\",VLOOKUP($H62,記録入力1!$E$161:$O$190,11,FALSE))","v":""},{"$f":"IF(ISERROR(VLOOKUP($A62*10+5,データ作成貼付２!$B$2:$M$280,データ完成!N$1,FALSE))=TRUE,\"\",\"○\")","v":""},{"$f":"IF(N62=\"\",\"\",VLOOKUP($H62,記録入力1!$E$191:$O$290,11,FALSE))","v":""},{"$f":"IF(I62=\"\",\"\",VLOOKUP(LEFT(I62,5),初期設定1!$E$18:$F$59,2,FALSE))","v":""},"",{"$f":"VLOOKUP($Q62,記録入力1!$B$4:$I$287,8,FALSE)","v":{"$error":"#N/A"}},{"$f":"IF(J62=\"\",\"\",VLOOKUP(LEFT(J62,5),初期設定1!$E$18:$F$59,2,FALSE))","v":""},"",{"$f":"VLOOKUP($T62,記録入力1!$B$4:$I$287,8,FALSE)","v":{"$error":"#N/A"}},{"$f":"IF(K62=\"\",\"\",VLOOKUP(LEFT(K62,5),初期設定1!$E$18:$F$59,2,FALSE))","v":""},"",{"$f":"VLOOKUP($W62,記録入力1!$B$4:$I$287,8,FALSE)","v":{"$error":"#N/A"}},{"$f":"IF(G62=\"\",\"\",VLOOKUP(VALUE(RIGHT(G62,6)),学校番号!$A$2:$B$51,2))","v":""}]
[61,{"$f":"IF(ISERROR(VLOOKUP($A63,データ作成貼付２!$A$2:$M$280,データ完成!B$1,FALSE))=TRUE,\"\",VLOOKUP($A63,データ作成貼付２!$A$2:$M$280,データ完成!B$1,FALSE))","v":""},{"$f":"IF(ISERROR(VLOOKUP($A63,データ作成貼付２!$A$2:$M$280,データ完成!C$1,FALSE))=TRUE,\"\",VLOOKUP($A63,データ作成貼付２!$A$2:$M$280,データ完成!C$1,FALSE))","v":""},{"$f":"IF(ISERROR(VLOOKUP($A63,データ作成貼付２!$A$2:$M$280,データ完成!D$1,FALSE))=TRUE,\"\",VLOOKUP($A63,データ作成貼付２!$A$2:$M$280,データ完成!D$1,FALSE))","v":""},{"$f":"IF(ISERROR(VLOOKUP($A63,データ作成貼付２!$A$2:$M$280,データ完成!E$1,FALSE))=TRUE,\"\",VLOOKUP($A63,データ作成貼付２!$A$2:$M$280,データ完成!E$1,FALSE))","v":""},{"$f":"IF(ISERROR(VLOOKUP($A63,データ作成貼付２!$A$2:$M$280,データ完成!F$1,FALSE))=TRUE,\"\",VLOOKUP($A63,データ作成貼付２!$A$2:$M$280,データ完成!F$1,FALSE))","v":""},{"$f":"IF(ISERROR(VLOOKUP($A63,データ作成貼付２!$A$2:$M$280,データ完成!G$1,FALSE))=TRUE,\"\",VLOOKUP($A63,データ作成貼付２!$A$2:$M$280,データ完成!G$1,FALSE))","v":""},{"$f":"IF(ISERROR(VLOOKUP($A63,データ作成貼付２!$A$2:$M$280,データ完成!H$1,FALSE))=TRUE,\"\",VLOOKUP($A63,データ作成貼付２!$A$2:$M$280,データ完成!H$1,FALSE))","v":""},{"$f":"IF(ISERROR(VLOOKUP($A63*10+1,データ作成貼付２!$B$2:$M$280,データ完成!I$1,FALSE))=TRUE,\"\",VLOOKUP($A63*10+1,データ作成貼付２!$B$2:$M$280,データ完成!I$1,FALSE))","v":""},{"$f":"IF(ISERROR(VLOOKUP($A63*10+2,データ作成貼付２!$B$2:$M$280,データ完成!J$1,FALSE))=TRUE,\"\",VLOOKUP($A63*10+2,データ作成貼付２!$B$2:$M$280,データ完成!J$1,FALSE))","v":""},{"$f":"IF(ISERROR(VLOOKUP($A63*10+3,データ作成貼付２!$B$2:$M$280,データ完成!K$1,FALSE))=TRUE,\"\",VLOOKUP($A63*10+3,データ作成貼付２!$B$2:$M$280,データ完成!K$1,FALSE))","v":""},{"$f":"IF(ISERROR(VLOOKUP($A63*10+4,データ作成貼付２!$B$2:$M$280,データ完成!L$1,FALSE))=TRUE,\"\",\"○\")","v":""},{"$f":"IF(L63=\"\",\"\",VLOOKUP($H63,記録入力1!$E$161:$O$190,11,FALSE))","v":""},{"$f":"IF(ISERROR(VLOOKUP($A63*10+5,データ作成貼付２!$B$2:$M$280,データ完成!N$1,FALSE))=TRUE,\"\",\"○\")","v":""},{"$f":"IF(N63=\"\",\"\",VLOOKUP($H63,記録入力1!$E$191:$O$290,11,FALSE))","v":""},{"$f":"IF(I63=\"\",\"\",VLOOKUP(LEFT(I63,5),初期設定1!$E$18:$F$59,2,FALSE))","v":""},"",{"$f":"VLOOKUP($Q63,記録入力1!$B$4:$I$287,8,FALSE)","v":{"$error":"#N/A"}},{"$f":"IF(J63=\"\",\"\",VLOOKUP(LEFT(J63,5),初期設定1!$E$18:$F$59,2,FALSE))","v":""},"",{"$f":"VLOOKUP($T63,記録入力1!$B$4:$I$287,8,FALSE)","v":{"$error":"#N/A"}},{"$f":"IF(K63=\"\",\"\",VLOOKUP(LEFT(K63,5),初期設定1!$E$18:$F$59,2,FALSE))","v":""},"",{"$f":"VLOOKUP($W63,記録入力1!$B$4:$I$287,8,FALSE)","v":{"$error":"#N/A"}},{"$f":"IF(G63=\"\",\"\",VLOOKUP(VALUE(RIGHT(G63,6)),学校番号!$A$2:$B$51,2))","v":""}]
[62,{"$f":"IF(ISERROR(VLOOKUP($A64,データ作成貼付２!$A$2:$M$280,データ完成!B$1,FALSE))=TRUE,\"\",VLOOKUP($A64,データ作成貼付２!$A$2:$M$280,データ完成!B$1,FALSE))","v":""},{"$f":"IF(ISERROR(VLOOKUP($A64,データ作成貼付２!$A$2:$M$280,データ完成!C$1,FALSE))=TRUE,\"\",VLOOKUP($A64,データ作成貼付２!$A$2:$M$280,データ完成!C$1,FALSE))","v":""},{"$f":"IF(ISERROR(VLOOKUP($A64,データ作成貼付２!$A$2:$M$280,データ完成!D$1,FALSE))=TRUE,\"\",VLOOKUP($A64,データ作成貼付２!$A$2:$M$280,データ完成!D$1,FALSE))","v":""},{"$f":"IF(ISERROR(VLOOKUP($A64,データ作成貼付２!$A$2:$M$280,データ完成!E$1,FALSE))=TRUE,\"\",VLOOKUP($A64,データ作成貼付２!$A$2:$M$280,データ完成!E$1,FALSE))","v":""},{"$f":"IF(ISERROR(VLOOKUP($A64,データ作成貼付２!$A$2:$M$280,データ完成!F$1,FALSE))=TRUE,\"\",VLOOKUP($A64,データ作成貼付２!$A$2:$M$280,データ完成!F$1,FALSE))","v":""},{"$f":"IF(ISERROR(VLOOKUP($A64,データ作成貼付２!$A$2:$M$280,データ完成!G$1,FALSE))=TRUE,\"\",VLOOKUP($A64,データ作成貼付２!$A$2:$M$280,データ完成!G$1,FALSE))","v":""},{"$f":"IF(ISERROR(VLOOKUP($A64,データ作成貼付２!$A$2:$M$280,データ完成!H$1,FALSE))=TRUE,\"\",VLOOKUP($A64,データ作成貼付２!$A$2:$M$280,データ完成!H$1,FALSE))","v":""},{"$f":"IF(ISERROR(VLOOKUP($A64*10+1,データ作成貼付２!$B$2:$M$280,データ完成!I$1,FALSE))=TRUE,\"\",VLOOKUP($A64*10+1,データ作成貼付２!$B$2:$M$280,データ完成!I$1,FALSE))","v":""},{"$f":"IF(ISERROR(VLOOKUP($A64*10+2,データ作成貼付２!$B$2:$M$280,データ完成!J$1,FALSE))=TRUE,\"\",VLOOKUP($A64*10+2,データ作成貼付２!$B$2:$M$280,データ完成!J$1,FALSE))","v":""},{"$f":"IF(ISERROR(VLOOKUP($A64*10+3,データ作成貼付２!$B$2:$M$280,データ完成!K$1,FALSE))=TRUE,\"\",VLOOKUP($A64*10+3,データ作成貼付２!$B$2:$M$280,データ完成!K$1,FALSE))","v":""},{"$f":"IF(ISERROR(VLOOKUP($A64*10+4,データ作成貼付２!$B$2:$M$280,データ完成!L$1,FALSE))=TRUE,\"\",\"○\")","v":""},{"$f":"IF(L64=\"\",\"\",VLOOKUP($H64,記録入力1!$E$161:$O$190,11,FALSE))","v":""},{"$f":"IF(ISERROR(VLOOKUP($A64*10+5,データ作成貼付２!$B$2:$M$280,データ完成!N$1,FALSE))=TRUE,\"\",\"○\")","v":""},{"$f":"IF(N64=\"\",\"\",VLOOKUP($H64,記録入力1!$E$191:$O$290,11,FALSE))","v":""},{"$f":"IF(I64=\"\",\"\",VLOOKUP(LEFT(I64,5),初期設定1!$E$18:$F$59,2,FALSE))","v":""},"",{"$f":"VLOOKUP($Q64,記録入力1!$B$4:$I$287,8,FALSE)","v":{"$error":"#N/A"}},{"$f":"IF(J64=\"\",\"\",VLOOKUP(LEFT(J64,5),初期設定1!$E$18:$F$59,2,FALSE))","v":""},"",{"$f":"VLOOKUP($T64,記録入力1!$B$4:$I$287,8,FALSE)","v":{"$error":"#N/A"}},{"$f":"IF(K64=\"\",\"\",VLOOKUP(LEFT(K64,5),初期設定1!$E$18:$F$59,2,FALSE))","v":""},"",{"$f":"VLOOKUP($W64,記録入力1!$B$4:$I$287,8,FALSE)","v":{"$error":"#N/A"}},{"$f":"IF(G64=\"\",\"\",VLOOKUP(VALUE(RIGHT(G64,6)),学校番号!$A$2:$B$51,2))","v":""}]
[63,{"$f":"IF(ISERROR(VLOOKUP($A65,データ作成貼付２!$A$2:$M$280,データ完成!B$1,FALSE))=TRUE,\"\",VLOOKUP($A65,データ作成貼付２!$A$2:$M$280,データ完成!B$1,FALSE))","v":""},{"$f":"IF(ISERROR(VLOOKUP($A65,データ作成貼付２!$A$2:$M$280,データ完成!C$1,FALSE))=TRUE,\"\",VLOOKUP($A65,データ作成貼付２!$A$2:$M$280,データ完成!C$1,FALSE))","v":""},{"$f":"IF(ISERROR(VLOOKUP($A65,データ作成貼付２!$A$2:$M$280,データ完成!D$1,FALSE))=TRUE,\"\",VLOOKUP($A65,データ作成貼付２!$A$2:$M$280,データ完成!D$1,FALSE))","v":""},{"$f":"IF(ISERROR(VLOOKUP($A65,データ作成貼付２!$A$2:$M$280,データ完成!E$1,FALSE))=TRUE,\"\",VLOOKUP($A65,データ作成貼付２!$A$2:$M$280,データ完成!E$1,FALSE))","v":""},{"$f":"IF(ISERROR(VLOOKUP($A65,データ作成貼付２!$A$2:$M$280,データ完成!F$1,FALSE))=TRUE,\"\",VLOOKUP($A65,データ作成貼付２!$A$2:$M$280,データ完成!F$1,FALSE))","v":""},{"$f":"IF(ISERROR(VLOOKUP($A65,データ作成貼付２!$A$2:$M$280,データ完成!G$1,FALSE))=TRUE,\"\",VLOOKUP($A65,データ作成貼付２!$A$2:$M$280,データ完成!G$1,FALSE))","v":""},{"$f":"IF(ISERROR(VLOOKUP($A65,データ作成貼付２!$A$2:$M$280,データ完成!H$1,FALSE))=TRUE,\"\",VLOOKUP($A65,データ作成貼付２!$A$2:$M$280,データ完成!H$1,FALSE))","v":""},{"$f":"IF(ISERROR(VLOOKUP($A65*10+1,データ作成貼付２!$B$2:$M$280,データ完成!I$1,FALSE))=TRUE,\"\",VLOOKUP($A65*10+1,データ作成貼付２!$B$2:$M$280,データ完成!I$1,FALSE))","v":""},{"$f":"IF(ISERROR(VLOOKUP($A65*10+2,データ作成貼付２!$B$2:$M$280,データ完成!J$1,FALSE))=TRUE,\"\",VLOOKUP($A65*10+2,データ作成貼付２!$B$2:$M$280,データ完成!J$1,FALSE))","v":""},{"$f":"IF(ISERROR(VLOOKUP($A65*10+3,データ作成貼付２!$B$2:$M$280,データ完成!K$1,FALSE))=TRUE,\"\",VLOOKUP($A65*10+3,データ作成貼付２!$B$2:$M$280,データ完成!K$1,FALSE))","v":""},{"$f":"IF(ISERROR(VLOOKUP($A65*10+4,データ作成貼付２!$B$2:$M$280,データ完成!L$1,FALSE))=TRUE,\"\",\"○\")","v":""},{"$f":"IF(L65=\"\",\"\",VLOOKUP($H65,記録入力1!$E$161:$O$190,11,FALSE))","v":""},{"$f":"IF(ISERROR(VLOOKUP($A65*10+5,データ作成貼付２!$B$2:$M$280,データ完成!N$1,FALSE))=TRUE,\"\",\"○\")","v":""},{"$f":"IF(N65=\"\",\"\",VLOOKUP($H65,記録入力1!$E$191:$O$290,11,FALSE))","v":""},{"$f":"IF(I65=\"\",\"\",VLOOKUP(LEFT(I65,5),初期設定1!$E$18:$F$59,2,FALSE))","v":""},"",{"$f":"VLOOKUP($Q65,記録入力1!$B$4:$I$287,8,FALSE)","v":{"$error":"#N/A"}},{"$f":"IF(J65=\"\",\"\",VLOOKUP(LEFT(J65,5),初期設定1!$E$18:$F$59,2,FALSE))","v":""},"",{"$f":"VLOOKUP($T65,記録入力1!$B$4:$I$287,8,FALSE)","v":{"$error":"#N/A"}},{"$f":"IF(K65=\"\",\"\",VLOOKUP(LEFT(K65,5),初期設定1!$E$18:$F$59,2,FALSE))","v":""},"",{"$f":"VLOOKUP($W65,記録入力1!$B$4:$I$287,8,FALSE)","v":{"$error":"#N/A"}},{"$f":"IF(G65=\"\",\"\",VLOOKUP(VALUE(RIGHT(G65,6)),学校番号!$A$2:$B$51,2))","v":""}]
[64,{"$f":"IF(ISERROR(VLOOKUP($A66,データ作成貼付２!$A$2:$M$280,データ完成!B$1,FALSE))=TRUE,\"\",VLOOKUP($A66,データ作成貼付２!$A$2:$M$280,データ完成!B$1,FALSE))","v":""},{"$f":"IF(ISERROR(VLOOKUP($A66,データ作成貼付２!$A$2:$M$280,データ完成!C$1,FALSE))=TRUE,\"\",VLOOKUP($A66,データ作成貼付２!$A$2:$M$280,データ完成!C$1,FALSE))","v":""},{"$f":"IF(ISERROR(VLOOKUP($A66,データ作成貼付２!$A$2:$M$280,データ完成!D$1,FALSE))=TRUE,\"\",VLOOKUP($A66,データ作成貼付２!$A$2:$M$280,データ完成!D$1,FALSE))","v":""},{"$f":"IF(ISERROR(VLOOKUP($A66,データ作成貼付２!$A$2:$M$280,データ完成!E$1,FALSE))=TRUE,\"\",VLOOKUP($A66,データ作成貼付２!$A$2:$M$280,データ完成!E$1,FALSE))","v":""},{"$f":"IF(ISERROR(VLOOKUP($A66,データ作成貼付２!$A$2:$M$280,データ完成!F$1,FALSE))=TRUE,\"\",VLOOKUP($A66,データ作成貼付２!$A$2:$M$280,データ完成!F$1,FALSE))","v":""},{"$f":"IF(ISERROR(VLOOKUP($A66,データ作成貼付２!$A$2:$M$280,データ完成!G$1,FALSE))=TRUE,\"\",VLOOKUP($A66,データ作成貼付２!$A$2:$M$280,データ完成!G$1,FALSE))","v":""},{"$f":"IF(ISERROR(VLOOKUP($A66,データ作成貼付２!$A$2:$M$280,データ完成!H$1,FALSE))=TRUE,\"\",VLOOKUP($A66,データ作成貼付２!$A$2:$M$280,データ完成!H$1,FALSE))","v":""},{"$f":"IF(ISERROR(VLOOKUP($A66*10+1,データ作成貼付２!$B$2:$M$280,データ完成!I$1,FALSE))=TRUE,\"\",VLOOKUP($A66*10+1,データ作成貼付２!$B$2:$M$280,データ完成!I$1,FALSE))","v":""},{"$f":"IF(ISERROR(VLOOKUP($A66*10+2,データ作成貼付２!$B$2:$M$280,データ完成!J$1,FALSE))=TRUE,\"\",VLOOKUP($A66*10+2,データ作成貼付２!$B$2:$M$280,データ完成!J$1,FALSE))","v":""},{"$f":"IF(ISERROR(VLOOKUP($A66*10+3,データ作成貼付２!$B$2:$M$280,データ完成!K$1,FALSE))=TRUE,\"\",VLOOKUP($A66*10+3,データ作成貼付２!$B$2:$M$280,データ完成!K$1,FALSE))","v":""},{"$f":"IF(ISERROR(VLOOKUP($A66*10+4,データ作成貼付２!$B$2:$M$280,データ完成!L$1,FALSE))=TRUE,\"\",\"○\")","v":""},{"$f":"IF(L66=\"\",\"\",VLOOKUP($H66,記録入力1!$E$161:$O$190,11,FALSE))","v":""},{"$f":"IF(ISERROR(VLOOKUP($A66*10+5,データ作成貼付２!$B$2:$M$280,データ完成!N$1,FALSE))=TRUE,\"\",\"○\")","v":""},{"$f":"IF(N66=\"\",\"\",VLOOKUP($H66,記録入力1!$E$191:$O$290,11,FALSE))","v":""},{"$f":"IF(I66=\"\",\"\",VLOOKUP(LEFT(I66,5),初期設定1!$E$18:$F$59,2,FALSE))","v":""},"",{"$f":"VLOOKUP($Q66,記録入力1!$B$4:$I$287,8,FALSE)","v":{"$error":"#N/A"}},{"$f":"IF(J66=\"\",\"\",VLOOKUP(LEFT(J66,5),初期設定1!$E$18:$F$59,2,FALSE))","v":""},"",{"$f":"VLOOKUP($T66,記録入力1!$B$4:$I$287,8,FALSE)","v":{"$error":"#N/A"}},{"$f":"IF(K66=\"\",\"\",VLOOKUP(LEFT(K66,5),初期設定1!$E$18:$F$59,2,FALSE))","v":""},"",{"$f":"VLOOKUP($W66,記録入力1!$B$4:$I$287,8,FALSE)","v":{"$error":"#N/A"}},{"$f":"IF(G66=\"\",\"\",VLOOKUP(VALUE(RIGHT(G66,6)),学校番号!$A$2:$B$51,2))","v":""}]
[65,{"$f":"IF(ISERROR(VLOOKUP($A67,データ作成貼付２!$A$2:$M$280,データ完成!B$1,FALSE))=TRUE,\"\",VLOOKUP($A67,データ作成貼付２!$A$2:$M$280,データ完成!B$1,FALSE))","v":""},{"$f":"IF(ISERROR(VLOOKUP($A67,データ作成貼付２!$A$2:$M$280,データ完成!C$1,FALSE))=TRUE,\"\",VLOOKUP($A67,データ作成貼付２!$A$2:$M$280,データ完成!C$1,FALSE))","v":""},{"$f":"IF(ISERROR(VLOOKUP($A67,データ作成貼付２!$A$2:$M$280,データ完成!D$1,FALSE))=TRUE,\"\",VLOOKUP($A67,データ作成貼付２!$A$2:$M$280,データ完成!D$1,FALSE))","v":""},{"$f":"IF(ISERROR(VLOOKUP($A67,データ作成貼付２!$A$2:$M$280,データ完成!E$1,FALSE))=TRUE,\"\",VLOOKUP($A67,データ作成貼付２!$A$2:$M$280,データ完成!E$1,FALSE))","v":""},{"$f":"IF(ISERROR(VLOOKUP($A67,データ作成貼付２!$A$2:$M$280,データ完成!F$1,FALSE))=TRUE,\"\",VLOOKUP($A67,データ作成貼付２!$A$2:$M$280,データ完成!F$1,FALSE))","v":""},{"$f":"IF(ISERROR(VLOOKUP($A67,データ作成貼付２!$A$2:$M$280,データ完成!G$1,FALSE))=TRUE,\"\",VLOOKUP($A67,データ作成貼付２!$A$2:$M$280,データ完成!G$1,FALSE))","v":""},{"$f":"IF(ISERROR(VLOOKUP($A67,データ作成貼付２!$A$2:$M$280,データ完成!H$1,FALSE))=TRUE,\"\",VLOOKUP($A67,データ作成貼付２!$A$2:$M$280,データ完成!H$1,FALSE))","v":""},{"$f":"IF(ISERROR(VLOOKUP($A67*10+1,データ作成貼付２!$B$2:$M$280,データ完成!I$1,FALSE))=TRUE,\"\",VLOOKUP($A67*10+1,データ作成貼付２!$B$2:$M$280,データ完成!I$1,FALSE))","v":""},{"$f":"IF(ISERROR(VLOOKUP($A67*10+2,データ作成貼付２!$B$2:$M$280,データ完成!J$1,FALSE))=TRUE,\"\",VLOOKUP($A67*10+2,データ作成貼付２!$B$2:$M$280,データ完成!J$1,FALSE))","v":""},{"$f":"IF(ISERROR(VLOOKUP($A67*10+3,データ作成貼付２!$B$2:$M$280,データ完成!K$1,FALSE))=TRUE,\"\",VLOOKUP($A67*10+3,データ作成貼付２!$B$2:$M$280,データ完成!K$1,FALSE))","v":""},{"$f":"IF(ISERROR(VLOOKUP($A67*10+4,データ作成貼付２!$B$2:$M$280,データ完成!L$1,FALSE))=TRUE,\"\",\"○\")","v":""},{"$f":"IF(L67=\"\",\"\",VLOOKUP($H67,記録入力1!$E$161:$O$190,11,FALSE))","v":""},{"$f":"IF(ISERROR(VLOOKUP($A67*10+5,データ作成貼付２!$B$2:$M$280,データ完成!N$1,FALSE))=TRUE,\"\",\"○\")","v":""},{"$f":"IF(N67=\"\",\"\",VLOOKUP($H67,記録入力1!$E$191:$O$290,11,FALSE))","v":""},{"$f":"IF(I67=\"\",\"\",VLOOKUP(LEFT(I67,5),初期設定1!$E$18:$F$59,2,FALSE))","v":""},"",{"$f":"VLOOKUP($Q67,記録入力1!$B$4:$I$287,8,FALSE)","v":{"$error":"#N/A"}},{"$f":"IF(J67=\"\",\"\",VLOOKUP(LEFT(J67,5),初期設定1!$E$18:$F$59,2,FALSE))","v":""},"",{"$f":"VLOOKUP($T67,記録入力1!$B$4:$I$287,8,FALSE)","v":{"$error":"#N/A"}},{"$f":"IF(K67=\"\",\"\",VLOOKUP(LEFT(K67,5),初期設定1!$E$18:$F$59,2,FALSE))","v":""},"",{"$f":"VLOOKUP($W67,記録入力1!$B$4:$I$287,8,FALSE)","v":{"$error":"#N/A"}},{"$f":"IF(G67=\"\",\"\",VLOOKUP(VALUE(RIGHT(G67,6)),学校番号!$A$2:$B$51,2))","v":""}]
[66,{"$f":"IF(ISERROR(VLOOKUP($A68,データ作成貼付２!$A$2:$M$280,データ完成!B$1,FALSE))=TRUE,\"\",VLOOKUP($A68,データ作成貼付２!$A$2:$M$280,データ完成!B$1,FALSE))","v":""},{"$f":"IF(ISERROR(VLOOKUP($A68,データ作成貼付２!$A$2:$M$280,データ完成!C$1,FALSE))=TRUE,\"\",VLOOKUP($A68,データ作成貼付２!$A$2:$M$280,データ完成!C$1,FALSE))","v":""},{"$f":"IF(ISERROR(VLOOKUP($A68,データ作成貼付２!$A$2:$M$280,データ完成!D$1,FALSE))=TRUE,\"\",VLOOKUP($A68,データ作成貼付２!$A$2:$M$280,データ完成!D$1,FALSE))","v":""},{"$f":"IF(ISERROR(VLOOKUP($A68,データ作成貼付２!$A$2:$M$280,データ完成!E$1,FALSE))=TRUE,\"\",VLOOKUP($A68,データ作成貼付２!$A$2:$M$280,データ完成!E$1,FALSE))","v":""},{"$f":"IF(ISERROR(VLOOKUP($A68,データ作成貼付２!$A$2:$M$280,データ完成!F$1,FALSE))=TRUE,\"\",VLOOKUP($A68,データ作成貼付２!$A$2:$M$280,データ完成!F$1,FALSE))","v":""},{"$f":"IF(ISERROR(VLOOKUP($A68,データ作成貼付２!$A$2:$M$280,データ完成!G$1,FALSE))=TRUE,\"\",VLOOKUP($A68,データ作成貼付２!$A$2:$M$280,データ完成!G$1,FALSE))","v":""},{"$f":"IF(ISERROR(VLOOKUP($A68,データ作成貼付２!$A$2:$M$280,データ完成!H$1,FALSE))=TRUE,\"\",VLOOKUP($A68,データ作成貼付２!$A$2:$M$280,データ完成!H$1,FALSE))","v":""},{"$f":"IF(ISERROR(VLOOKUP($A68*10+1,データ作成貼付２!$B$2:$M$280,データ完成!I$1,FALSE))=TRUE,\"\",VLOOKUP($A68*10+1,データ作成貼付２!$B$2:$M$280,データ完成!I$1,FALSE))","v":""},{"$f":"IF(ISERROR(VLOOKUP($A68*10+2,データ作成貼付２!$B$2:$M$280,データ完成!J$1,FALSE))=TRUE,\"\",VLOOKUP($A68*10+2,データ作成貼付２!$B$2:$M$280,データ完成!J$1,FALSE))","v":""},{"$f":"IF(ISERROR(VLOOKUP($A68*10+3,データ作成貼付２!$B$2:$M$280,データ完成!K$1,FALSE))=TRUE,\"\",VLOOKUP($A68*10+3,データ作成貼付２!$B$2:$M$280,データ完成!K$1,FALSE))","v":""},{"$f":"IF(ISERROR(VLOOKUP($A68*10+4,データ作成貼付２!$B$2:$M$280,データ完成!L$1,FALSE))=TRUE,\"\",\"○\")","v":""},{"$f":"IF(L68=\"\",\"\",VLOOKUP($H68,記録入力1!$E$161:$O$190,11,FALSE))","v":""},{"$f":"IF(ISERROR(VLOOKUP($A68*10+5,データ作成貼付２!$B$2:$M$280,データ完成!N$1,FALSE))=TRUE,\"\",\"○\")","v":""},{"$f":"IF(N68=\"\",\"\",VLOOKUP($H68,記録入力1!$E$191:$O$290,11,FALSE))","v":""},{"$f":"IF(I68=\"\",\"\",VLOOKUP(LEFT(I68,5),初期設定1!$E$18:$F$59,2,FALSE))","v":""},{"$f":"LEFT($I68,5)&$H68","v":""},{"$f":"VLOOKUP($Q68,記録入力1!$B$4:$I$287,8,FALSE)","v":{"$error":"#N/A"}},{"$f":"IF(J68=\"\",\"\",VLOOKUP(LEFT(J68,5),初期設定1!$E$18:$F$59,2,FALSE))","v":""},{"$f":"LEFT($J68,5)&$H68","v":""},{"$f":"VLOOKUP($T68,記録入力1!$B$4:$I$287,8,FALSE)","v":{"$error":"#N/A"}},{"$f":"IF(K68=\"\",\"\",VLOOKUP(LEFT(K68,5),初期設定1!$E$18:$F$59,2,FALSE))","v":""},{"$f":"LEFT($K68,5)&$H68","v":""},{"$f":"VLOOKUP($W68,記録入力1!$B$4:$I$287,8,FALSE)","v":{"$error":"#N/A"}},{"$f":"IF(G68=\"\",\"\",VLOOKUP(VALUE(RIGHT(G68,6)),学校番号!$A$2:$B$51,2))","v":""}]
[67,{"$f":"IF(ISERROR(VLOOKUP($A69,データ作成貼付２!$A$2:$M$280,データ完成!B$1,FALSE))=TRUE,\"\",VLOOKUP($A69,データ作成貼付２!$A$2:$M$280,データ完成!B$1,FALSE))","v":""},{"$f":"IF(ISERROR(VLOOKUP($A69,データ作成貼付２!$A$2:$M$280,データ完成!C$1,FALSE))=TRUE,\"\",VLOOKUP($A69,データ作成貼付２!$A$2:$M$280,データ完成!C$1,FALSE))","v":""},{"$f":"IF(ISERROR(VLOOKUP($A69,データ作成貼付２!$A$2:$M$280,データ完成!D$1,FALSE))=TRUE,\"\",VLOOKUP($A69,データ作成貼付２!$A$2:$M$280,データ完成!D$1,FALSE))","v":""},{"$f":"IF(ISERROR(VLOOKUP($A69,データ作成貼付２!$A$2:$M$280,データ完成!E$1,FALSE))=TRUE,\"\",VLOOKUP($A69,データ作成貼付２!$A$2:$M$280,データ完成!E$1,FALSE))","v":""},{"$f":"IF(ISERROR(VLOOKUP($A69,データ作成貼付２!$A$2:$M$280,データ完成!F$1,FALSE))=TRUE,\"\",VLOOKUP($A69,データ作成貼付２!$A$2:$M$280,データ完成!F$1,FALSE))","v":""},{"$f":"IF(ISERROR(VLOOKUP($A69,データ作成貼付２!$A$2:$M$280,データ完成!G$1,FALSE))=TRUE,\"\",VLOOKUP($A69,データ作成貼付２!$A$2:$M$280,データ完成!G$1,FALSE))","v":""},{"$f":"IF(ISERROR(VLOOKUP($A69,データ作成貼付２!$A$2:$M$280,データ完成!H$1,FALSE))=TRUE,\"\",VLOOKUP($A69,データ作成貼付２!$A$2:$M$280,データ完成!H$1,FALSE))","v":""},{"$f":"IF(ISERROR(VLOOKUP($A69*10+1,データ作成貼付２!$B$2:$M$280,データ完成!I$1,FALSE))=TRUE,\"\",VLOOKUP($A69*10+1,データ作成貼付２!$B$2:$M$280,データ完成!I$1,FALSE))","v":""},{"$f":"IF(ISERROR(VLOOKUP($A69*10+2,データ作成貼付２!$B$2:$M$280,データ完成!J$1,FALSE))=TRUE,\"\",VLOOKUP($A69*10+2,データ作成貼付２!$B$2:$M$280,データ完成!J$1,FALSE))","v":""},{"$f":"IF(ISERROR(VLOOKUP($A69*10+3,データ作成貼付２!$B$2:$M$280,データ完成!K$1,FALSE))=TRUE,\"\",VLOOKUP($A69*10+3,データ作成貼付２!$B$2:$M$280,データ完成!K$1,FALSE))","v":""},{"$f":"IF(ISERROR(VLOOKUP($A69*10+4,データ作成貼付２!$B$2:$M$280,データ完成!L$1,FALSE))=TRUE,\"\",\"○\")","v":""},{"$f":"IF(L69=\"\",\"\",VLOOKUP($H69,記録入力1!$E$161:$O$190,11,FALSE))","v":""},{"$f":"IF(ISERROR(VLOOKUP($A69*10+5,データ作成貼付２!$B$2:$M$280,データ完成!N$1,FALSE))=TRUE,\"\",\"○\")","v":""},{"$f":"IF(N69=\"\",\"\",VLOOKUP($H69,記録入力1!$E$191:$O$290,11,FALSE))","v":""},{"$f":"IF(I69=\"\",\"\",VLOOKUP(LEFT(I69,5),初期設定1!$E$18:$F$59,2,FALSE))","v":""},"",{"$f":"VLOOKUP($Q69,記録入力1!$B$4:$I$287,8,FALSE)","v":{"$error":"#N/A"}},{"$f":"IF(J69=\"\",\"\",VLOOKUP(LEFT(J69,5),初期設定1!$E$18:$F$59,2,FALSE))","v":""},"",{"$f":"VLOOKUP($T69,記録入力1!$B$4:$I$287,8,FALSE)","v":{"$error":"#N/A"}},{"$f":"IF(K69=\"\",\"\",VLOOKUP(LEFT(K69,5),初期設定1!$E$18:$F$59,2,FALSE))","v":""},"",{"$f":"VLOOKUP($W69,記録入力1!$B$4:$I$287,8,FALSE)","v":{"$error":"#N/A"}},{"$f":"IF(G69=\"\",\"\",VLOOKUP(VALUE(RIGHT(G69,6)),学校番号!$A$2:$B$51,2))","v":""}]
[68,{"$f":"IF(ISERROR(VLOOKUP($A70,データ作成貼付２!$A$2:$M$280,データ完成!B$1,FALSE))=TRUE,\"\",VLOOKUP($A70,データ作成貼付２!$A$2:$M$280,データ完成!B$1,FALSE))","v":""},{"$f":"IF(ISERROR(VLOOKUP($A70,データ作成貼付２!$A$2:$M$280,データ完成!C$1,FALSE))=TRUE,\"\",VLOOKUP($A70,データ作成貼付２!$A$2:$M$280,データ完成!C$1,FALSE))","v":""},{"$f":"IF(ISERROR(VLOOKUP($A70,データ作成貼付２!$A$2:$M$280,データ完成!D$1,FALSE))=TRUE,\"\",VLOOKUP($A70,データ作成貼付２!$A$2:$M$280,データ完成!D$1,FALSE))","v":""},{"$f":"IF(ISERROR(VLOOKUP($A70,データ作成貼付２!$A$2:$M$280,データ完成!E$1,FALSE))=TRUE,\"\",VLOOKUP($A70,データ作成貼付２!$A$2:$M$280,データ完成!E$1,FALSE))","v":""},{"$f":"IF(ISERROR(VLOOKUP($A70,データ作成貼付２!$A$2:$M$280,データ完成!F$1,FALSE))=TRUE,\"\",VLOOKUP($A70,データ作成貼付２!$A$2:$M$280,データ完成!F$1,FALSE))","v":""},{"$f":"IF(ISERROR(VLOOKUP($A70,データ作成貼付２!$A$2:$M$280,データ完成!G$1,FALSE))=TRUE,\"\",VLOOKUP($A70,データ作成貼付２!$A$2:$M$280,データ完成!G$1,FALSE))","v":""},{"$f":"IF(ISERROR(VLOOKUP($A70,データ作成貼付２!$A$2:$M$280,データ完成!H$1,FALSE))=TRUE,\"\",VLOOKUP($A70,データ作成貼付２!$A$2:$M$280,データ完成!H$1,FALSE))","v":""},{"$f":"IF(ISERROR(VLOOKUP($A70*10+1,データ作成貼付２!$B$2:$M$280,データ完成!I$1,FALSE))=TRUE,\"\",VLOOKUP($A70*10+1,データ作成貼付２!$B$2:$M$280,データ完成!I$1,FALSE))","v":""},{"$f":"IF(ISERROR(VLOOKUP($A70*10+2,データ作成貼付２!$B$2:$M$280,データ完成!J$1,FALSE))=TRUE,\"\",VLOOKUP($A70*10+2,データ作成貼付２!$B$2:$M$280,データ完成!J$1,FALSE))","v":""},{"$f":"IF(ISERROR(VLOOKUP($A70*10+3,データ作成貼付２!$B$2:$M$280,データ完成!K$1,FALSE))=TRUE,\"\",VLOOKUP($A70*10+3,データ作成貼付２!$B$2:$M$280,データ完成!K$1,FALSE))","v":""},{"$f":"IF(ISERROR(VLOOKUP($A70*10+4,データ作成貼付２!$B$2:$M$280,データ完成!L$1,FALSE))=TRUE,\"\",\"○\")","v":""},{"$f":"IF(L70=\"\",\"\",VLOOKUP($H70,記録入力1!$E$161:$O$190,11,FALSE))","v":""},{"$f":"IF(ISERROR(VLOOKUP($A70*10+5,データ作成貼付２!$B$2:$M$280,データ完成!N$1,FALSE))=TRUE,\"\",\"○\")","v":""},{"$f":"IF(N70=\"\",\"\",VLOOKUP($H70,記録入力1!$E$191:$O$290,11,FALSE))","v":""},{"$f":"IF(I70=\"\",\"\",VLOOKUP(LEFT(I70,5),初期設定1!$E$18:$F$59,2,FALSE))","v":""},"",{"$f":"VLOOKUP($Q70,記録入力1!$B$4:$I$287,8,FALSE)","v":{"$error":"#N/A"}},{"$f":"IF(J70=\"\",\"\",VLOOKUP(LEFT(J70,5),初期設定1!$E$18:$F$59,2,FALSE))","v":""},"",{"$f":"VLOOKUP($T70,記録入力1!$B$4:$I$287,8,FALSE)","v":{"$error":"#N/A"}},{"$f":"IF(K70=\"\",\"\",VLOOKUP(LEFT(K70,5),初期設定1!$E$18:$F$59,2,FALSE))","v":""},"",{"$f":"VLOOKUP($W70,記録入力1!$B$4:$I$287,8,FALSE)","v":{"$error":"#N/A"}},{"$f":"IF(G70=\"\",\"\",VLOOKUP(VALUE(RIGHT(G70,6)),学校番号!$A$2:$B$51,2))","v":""}]
[69,{"$f":"IF(ISERROR(VLOOKUP($A71,データ作成貼付２!$A$2:$M$280,データ完成!B$1,FALSE))=TRUE,\"\",VLOOKUP($A71,データ作成貼付２!$A$2:$M$280,データ完成!B$1,FALSE))","v":""},{"$f":"IF(ISERROR(VLOOKUP($A71,データ作成貼付２!$A$2:$M$280,データ完成!C$1,FALSE))=TRUE,\"\",VLOOKUP($A71,データ作成貼付２!$A$2:$M$280,データ完成!C$1,FALSE))","v":""},{"$f":"IF(ISERROR(VLOOKUP($A71,データ作成貼付２!$A$2:$M$280,データ完成!D$1,FALSE))=TRUE,\"\",VLOOKUP($A71,データ作成貼付２!$A$2:$M$280,データ完成!D$1,FALSE))","v":""},{"$f":"IF(ISERROR(VLOOKUP($A71,データ作成貼付２!$A$2:$M$280,データ完成!E$1,FALSE))=TRUE,\"\",VLOOKUP($A71,データ作成貼付２!$A$2:$M$280,データ完成!E$1,FALSE))","v":""},{"$f":"IF(ISERROR(VLOOKUP($A71,データ作成貼付２!$A$2:$M$280,データ完成!F$1,FALSE))=TRUE,\"\",VLOOKUP($A71,データ作成貼付２!$A$2:$M$280,データ完成!F$1,FALSE))","v":""},{"$f":"IF(ISERROR(VLOOKUP($A71,データ作成貼付２!$A$2:$M$280,データ完成!G$1,FALSE))=TRUE,\"\",VLOOKUP($A71,データ作成貼付２!$A$2:$M$280,データ完成!G$1,FALSE))","v":""},{"$f":"IF(ISERROR(VLOOKUP($A71,データ作成貼付２!$A$2:$M$280,データ完成!H$1,FALSE))=TRUE,\"\",VLOOKUP($A71,データ作成貼付２!$A$2:$M$280,データ完成!H$1,FALSE))","v":""},{"$f":"IF(ISERROR(VLOOKUP($A71*10+1,データ作成貼付２!$B$2:$M$280,データ完成!I$1,FALSE))=TRUE,\"\",VLOOKUP($A71*10+1,データ作成貼付２!$B$2:$M$280,データ完成!I$1,FALSE))","v":""},{"$f":"IF(ISERROR(VLOOKUP($A71*10+2,データ作成貼付２!$B$2:$M$280,データ完成!J$1,FALSE))=TRUE,\"\",VLOOKUP($A71*10+2,データ作成貼付２!$B$2:$M$280,データ完成!J$1,FALSE))","v":""},{"$f":"IF(ISERROR(VLOOKUP($A71*10+3,データ作成貼付２!$B$2:$M$280,データ完成!K$1,FALSE))=TRUE,\"\",VLOOKUP($A71*10+3,データ作成貼付２!$B$2:$M$280,データ完成!K$1,FALSE))","v":""},{"$f":"IF(ISERROR(VLOOKUP($A71*10+4,データ作成貼付２!$B$2:$M$280,データ完成!L$1,FALSE))=TRUE,\"\",\"○\")","v":""},{"$f":"IF(L71=\"\",\"\",VLOOKUP($H71,記録入力1!$E$161:$O$190,11,FALSE))","v":""},{"$f":"IF(ISERROR(VLOOKUP($A71*10+5,データ作成貼付２!$B$2:$M$280,データ完成!N$1,FALSE))=TRUE,\"\",\"○\")","v":""},{"$f":"IF(N71=\"\",\"\",VLOOKUP($H71,記録入力1!$E$191:$O$290,11,FALSE))","v":""},{"$f":"IF(I71=\"\",\"\",VLOOKUP(LEFT(I71,5),初期設定1!$E$18:$F$59,2,FALSE))","v":""},"",{"$f":"VLOOKUP($Q71,記録入力1!$B$4:$I$287,8,FALSE)","v":{"$error":"#N/A"}},{"$f":"IF(J71=\"\",\"\",VLOOKUP(LEFT(J71,5),初期設定1!$E$18:$F$59,2,FALSE))","v":""},"",{"$f":"VLOOKUP($T71,記録入力1!$B$4:$I$287,8,FALSE)","v":{"$error":"#N/A"}},{"$f":"IF(K71=\"\",\"\",VLOOKUP(LEFT(K71,5),初期設定1!$E$18:$F$59,2,FALSE))","v":""},"",{"$f":"VLOOKUP($W71,記録入力1!$B$4:$I$287,8,FALSE)","v":{"$error":"#N/A"}},{"$f":"IF(G71=\"\",\"\",VLOOKUP(VALUE(RIGHT(G71,6)),学校番号!$A$2:$B$51,2))","v":""}]
[70,{"$f":"IF(ISERROR(VLOOKUP($A72,データ作成貼付２!$A$2:$M$280,データ完成!B$1,FALSE))=TRUE,\"\",VLOOKUP($A72,データ作成貼付２!$A$2:$M$280,データ完成!B$1,FALSE))","v":""},{"$f":"IF(ISERROR(VLOOKUP($A72,データ作成貼付２!$A$2:$M$280,データ完成!C$1,FALSE))=TRUE,\"\",VLOOKUP($A72,データ作成貼付２!$A$2:$M$280,データ完成!C$1,FALSE))","v":""},{"$f":"IF(ISERROR(VLOOKUP($A72,データ作成貼付２!$A$2:$M$280,データ完成!D$1,FALSE))=TRUE,\"\",VLOOKUP($A72,データ作成貼付２!$A$2:$M$280,データ完成!D$1,FALSE))","v":""},{"$f":"IF(ISERROR(VLOOKUP($A72,データ作成貼付２!$A$2:$M$280,データ完成!E$1,FALSE))=TRUE,\"\",VLOOKUP($A72,データ作成貼付２!$A$2:$M$280,データ完成!E$1,FALSE))","v":""},{"$f":"IF(ISERROR(VLOOKUP($A72,データ作成貼付２!$A$2:$M$280,データ完成!F$1,FALSE))=TRUE,\"\",VLOOKUP($A72,データ作成貼付２!$A$2:$M$280,データ完成!F$1,FALSE))","v":""},{"$f":"IF(ISERROR(VLOOKUP($A72,データ作成貼付２!$A$2:$M$280,データ完成!G$1,FALSE))=TRUE,\"\",VLOOKUP($A72,データ作成貼付２!$A$2:$M$280,データ完成!G$1,FALSE))","v":""},{"$f":"IF(ISERROR(VLOOKUP($A72,データ作成貼付２!$A$2:$M$280,データ完成!H$1,FALSE))=TRUE,\"\",VLOOKUP($A72,データ作成貼付２!$A$2:$M$280,データ完成!H$1,FALSE))","v":""},{"$f":"IF(ISERROR(VLOOKUP($A72*10+1,データ作成貼付２!$B$2:$M$280,データ完成!I$1,FALSE))=TRUE,\"\",VLOOKUP($A72*10+1,データ作成貼付２!$B$2:$M$280,データ完成!I$1,FALSE))","v":""},{"$f":"IF(ISERROR(VLOOKUP($A72*10+2,データ作成貼付２!$B$2:$M$280,データ完成!J$1,FALSE))=TRUE,\"\",VLOOKUP($A72*10+2,データ作成貼付２!$B$2:$M$280,データ完成!J$1,FALSE))","v":""},{"$f":"IF(ISERROR(VLOOKUP($A72*10+3,データ作成貼付２!$B$2:$M$280,データ完成!K$1,FALSE))=TRUE,\"\",VLOOKUP($A72*10+3,データ作成貼付２!$B$2:$M$280,データ完成!K$1,FALSE))","v":""},{"$f":"IF(ISERROR(VLOOKUP($A72*10+4,データ作成貼付２!$B$2:$M$280,データ完成!L$1,FALSE))=TRUE,\"\",\"○\")","v":""},{"$f":"IF(L72=\"\",\"\",VLOOKUP($H72,記録入力1!$E$161:$O$190,11,FALSE))","v":""},{"$f":"IF(ISERROR(VLOOKUP($A72*10+5,データ作成貼付２!$B$2:$M$280,データ完成!N$1,FALSE))=TRUE,\"\",\"○\")","v":""},{"$f":"IF(N72=\"\",\"\",VLOOKUP($H72,記録入力1!$E$191:$O$290,11,FALSE))","v":""},{"$f":"IF(I72=\"\",\"\",VLOOKUP(LEFT(I72,5),初期設定1!$E$18:$F$59,2,FALSE))","v":""},"",{"$f":"VLOOKUP($Q72,記録入力1!$B$4:$I$287,8,FALSE)","v":{"$error":"#N/A"}},{"$f":"IF(J72=\"\",\"\",VLOOKUP(LEFT(J72,5),初期設定1!$E$18:$F$59,2,FALSE))","v":""},"",{"$f":"VLOOKUP($T72,記録入力1!$B$4:$I$287,8,FALSE)","v":{"$error":"#N/A"}},{"$f":"IF(K72=\"\",\"\",VLOOKUP(LEFT(K72,5),初期設定1!$E$18:$F$59,2,FALSE))","v":""},"",{"$f":"VLOOKUP($W72,記録入力1!$B$4:$I$287,8,FALSE)","v":{"$error":"#N/A"}},{"$f":"IF(G72=\"\",\"\",VLOOKUP(VALUE(RIGHT(G72,6)),学校番号!$A$2:$B$51,2))","v":""}]
[71,{"$f":"IF(ISERROR(VLOOKUP($A73,データ作成貼付２!$A$2:$M$280,データ完成!B$1,FALSE))=TRUE,\"\",VLOOKUP($A73,データ作成貼付２!$A$2:$M$280,データ完成!B$1,FALSE))","v":""},{"$f":"IF(ISERROR(VLOOKUP($A73,データ作成貼付２!$A$2:$M$280,データ完成!C$1,FALSE))=TRUE,\"\",VLOOKUP($A73,データ作成貼付２!$A$2:$M$280,データ完成!C$1,FALSE))","v":""},{"$f":"IF(ISERROR(VLOOKUP($A73,データ作成貼付２!$A$2:$M$280,データ完成!D$1,FALSE))=TRUE,\"\",VLOOKUP($A73,データ作成貼付２!$A$2:$M$280,データ完成!D$1,FALSE))","v":""},{"$f":"IF(ISERROR(VLOOKUP($A73,データ作成貼付２!$A$2:$M$280,データ完成!E$1,FALSE))=TRUE,\"\",VLOOKUP($A73,データ作成貼付２!$A$2:$M$280,データ完成!E$1,FALSE))","v":""},{"$f":"IF(ISERROR(VLOOKUP($A73,データ作成貼付２!$A$2:$M$280,データ完成!F$1,FALSE))=TRUE,\"\",VLOOKUP($A73,データ作成貼付２!$A$2:$M$280,データ完成!F$1,FALSE))","v":""},{"$f":"IF(ISERROR(VLOOKUP($A73,データ作成貼付２!$A$2:$M$280,データ完成!G$1,FALSE))=TRUE,\"\",VLOOKUP($A73,データ作成貼付２!$A$2:$M$280,データ完成!G$1,FALSE))","v":""},{"$f":"IF(ISERROR(VLOOKUP($A73,データ作成貼付２!$A$2:$M$280,データ完成!H$1,FALSE))=TRUE,\"\",VLOOKUP($A73,データ作成貼付２!$A$2:$M$280,データ完成!H$1,FALSE))","v":""},{"$f":"IF(ISERROR(VLOOKUP($A73*10+1,データ作成貼付２!$B$2:$M$280,データ完成!I$1,FALSE))=TRUE,\"\",VLOOKUP($A73*10+1,データ作成貼付２!$B$2:$M$280,データ完成!I$1,FALSE))","v":""},{"$f":"IF(ISERROR(VLOOKUP($A73*10+2,データ作成貼付２!$B$2:$M$280,データ完成!J$1,FALSE))=TRUE,\"\",VLOOKUP($A73*10+2,データ作成貼付２!$B$2:$M$280,データ完成!J$1,FALSE))","v":""},{"$f":"IF(ISERROR(VLOOKUP($A73*10+3,データ作成貼付２!$B$2:$M$280,データ完成!K$1,FALSE))=TRUE,\"\",VLOOKUP($A73*10+3,データ作成貼付２!$B$2:$M$280,データ完成!K$1,FALSE))","v":""},{"$f":"IF(ISERROR(VLOOKUP($A73*10+4,データ作成貼付２!$B$2:$M$280,データ完成!L$1,FALSE))=TRUE,\"\",\"○\")","v":""},{"$f":"IF(L73=\"\",\"\",VLOOKUP($H73,記録入力1!$E$161:$O$190,11,FALSE))","v":""},{"$f":"IF(ISERROR(VLOOKUP($A73*10+5,データ作成貼付２!$B$2:$M$280,データ完成!N$1,FALSE))=TRUE,\"\",\"○\")","v":""},{"$f":"IF(N73=\"\",\"\",VLOOKUP($H73,記録入力1!$E$191:$O$290,11,FALSE))","v":""},{"$f":"IF(I73=\"\",\"\",VLOOKUP(LEFT(I73,5),初期設定1!$E$18:$F$59,2,FALSE))","v":""},"",{"$f":"VLOOKUP($Q73,記録入力1!$B$4:$I$287,8,FALSE)","v":{"$error":"#N/A"}},{"$f":"IF(J73=\"\",\"\",VLOOKUP(LEFT(J73,5),初期設定1!$E$18:$F$59,2,FALSE))","v":""},"",{"$f":"VLOOKUP($T73,記録入力1!$B$4:$I$287,8,FALSE)","v":{"$error":"#N/A"}},{"$f":"IF(K73=\"\",\"\",VLOOKUP(LEFT(K73,5),初期設定1!$E$18:$F$59,2,FALSE))","v":""},"",{"$f":"VLOOKUP($W73,記録入力1!$B$4:$I$287,8,FALSE)","v":{"$error":"#N/A"}},{"$f":"IF(G73=\"\",\"\",VLOOKUP(VALUE(RIGHT(G73,6)),学校番号!$A$2:$B$51,2))","v":""}]
[72,{"$f":"IF(ISERROR(VLOOKUP($A74,データ作成貼付２!$A$2:$M$280,データ完成!B$1,FALSE))=TRUE,\"\",VLOOKUP($A74,データ作成貼付２!$A$2:$M$280,データ完成!B$1,FALSE))","v":""},{"$f":"IF(ISERROR(VLOOKUP($A74,データ作成貼付２!$A$2:$M$280,データ完成!C$1,FALSE))=TRUE,\"\",VLOOKUP($A74,データ作成貼付２!$A$2:$M$280,データ完成!C$1,FALSE))","v":""},{"$f":"IF(ISERROR(VLOOKUP($A74,データ作成貼付２!$A$2:$M$280,データ完成!D$1,FALSE))=TRUE,\"\",VLOOKUP($A74,データ作成貼付２!$A$2:$M$280,データ完成!D$1,FALSE))","v":""},{"$f":"IF(ISERROR(VLOOKUP($A74,データ作成貼付２!$A$2:$M$280,データ完成!E$1,FALSE))=TRUE,\"\",VLOOKUP($A74,データ作成貼付２!$A$2:$M$280,データ完成!E$1,FALSE))","v":""},{"$f":"IF(ISERROR(VLOOKUP($A74,データ作成貼付２!$A$2:$M$280,データ完成!F$1,FALSE))=TRUE,\"\",VLOOKUP($A74,データ作成貼付２!$A$2:$M$280,データ完成!F$1,FALSE))","v":""},{"$f":"IF(ISERROR(VLOOKUP($A74,データ作成貼付２!$A$2:$M$280,データ完成!G$1,FALSE))=TRUE,\"\",VLOOKUP($A74,データ作成貼付２!$A$2:$M$280,データ完成!G$1,FALSE))","v":""},{"$f":"IF(ISERROR(VLOOKUP($A74,データ作成貼付２!$A$2:$M$280,データ完成!H$1,FALSE))=TRUE,\"\",VLOOKUP($A74,データ作成貼付２!$A$2:$M$280,データ完成!H$1,FALSE))","v":""},{"$f":"IF(ISERROR(VLOOKUP($A74*10+1,データ作成貼付２!$B$2:$M$280,データ完成!I$1,FALSE))=TRUE,\"\",VLOOKUP($A74*10+1,データ作成貼付２!$B$2:$M$280,データ完成!I$1,FALSE))","v":""},{"$f":"IF(ISERROR(VLOOKUP($A74*10+2,データ作成貼付２!$B$2:$M$280,データ完成!J$1,FALSE))=TRUE,\"\",VLOOKUP($A74*10+2,データ作成貼付２!$B$2:$M$280,データ完成!J$1,FALSE))","v":""},{"$f":"IF(ISERROR(VLOOKUP($A74*10+3,データ作成貼付２!$B$2:$M$280,データ完成!K$1,FALSE))=TRUE,\"\",VLOOKUP($A74*10+3,データ作成貼付２!$B$2:$M$280,データ完成!K$1,FALSE))","v":""},{"$f":"IF(ISERROR(VLOOKUP($A74*10+4,データ作成貼付２!$B$2:$M$280,データ完成!L$1,FALSE))=TRUE,\"\",\"○\")","v":""},{"$f":"IF(L74=\"\",\"\",VLOOKUP($H74,記録入力1!$E$161:$O$190,11,FALSE))","v":""},{"$f":"IF(ISERROR(VLOOKUP($A74*10+5,データ作成貼付２!$B$2:$M$280,データ完成!N$1,FALSE))=TRUE,\"\",\"○\")","v":""},{"$f":"IF(N74=\"\",\"\",VLOOKUP($H74,記録入力1!$E$191:$O$290,11,FALSE))","v":""},{"$f":"IF(I74=\"\",\"\",VLOOKUP(LEFT(I74,5),初期設定1!$E$18:$F$59,2,FALSE))","v":""},"",{"$f":"VLOOKUP($Q74,記録入力1!$B$4:$I$287,8,FALSE)","v":{"$error":"#N/A"}},{"$f":"IF(J74=\"\",\"\",VLOOKUP(LEFT(J74,5),初期設定1!$E$18:$F$59,2,FALSE))","v":""},"",{"$f":"VLOOKUP($T74,記録入力1!$B$4:$I$287,8,FALSE)","v":{"$error":"#N/A"}},{"$f":"IF(K74=\"\",\"\",VLOOKUP(LEFT(K74,5),初期設定1!$E$18:$F$59,2,FALSE))","v":""},"",{"$f":"VLOOKUP($W74,記録入力1!$B$4:$I$287,8,FALSE)","v":{"$error":"#N/A"}},{"$f":"IF(G74=\"\",\"\",VLOOKUP(VALUE(RIGHT(G74,6)),学校番号!$A$2:$B$51,2))","v":""}]
[73,{"$f":"IF(ISERROR(VLOOKUP($A75,データ作成貼付２!$A$2:$M$280,データ完成!B$1,FALSE))=TRUE,\"\",VLOOKUP($A75,データ作成貼付２!$A$2:$M$280,データ完成!B$1,FALSE))","v":""},{"$f":"IF(ISERROR(VLOOKUP($A75,データ作成貼付２!$A$2:$M$280,データ完成!C$1,FALSE))=TRUE,\"\",VLOOKUP($A75,データ作成貼付２!$A$2:$M$280,データ完成!C$1,FALSE))","v":""},{"$f":"IF(ISERROR(VLOOKUP($A75,データ作成貼付２!$A$2:$M$280,データ完成!D$1,FALSE))=TRUE,\"\",VLOOKUP($A75,データ作成貼付２!$A$2:$M$280,データ完成!D$1,FALSE))","v":""},{"$f":"IF(ISERROR(VLOOKUP($A75,データ作成貼付２!$A$2:$M$280,データ完成!E$1,FALSE))=TRUE,\"\",VLOOKUP($A75,データ作成貼付２!$A$2:$M$280,データ完成!E$1,FALSE))","v":""},{"$f":"IF(ISERROR(VLOOKUP($A75,データ作成貼付２!$A$2:$M$280,データ完成!F$1,FALSE))=TRUE,\"\",VLOOKUP($A75,データ作成貼付２!$A$2:$M$280,データ完成!F$1,FALSE))","v":""},{"$f":"IF(ISERROR(VLOOKUP($A75,データ作成貼付２!$A$2:$M$280,データ完成!G$1,FALSE))=TRUE,\"\",VLOOKUP($A75,データ作成貼付２!$A$2:$M$280,データ完成!G$1,FALSE))","v":""},{"$f":"IF(ISERROR(VLOOKUP($A75,データ作成貼付２!$A$2:$M$280,データ完成!H$1,FALSE))=TRUE,\"\",VLOOKUP($A75,データ作成貼付２!$A$2:$M$280,データ完成!H$1,FALSE))","v":""},{"$f":"IF(ISERROR(VLOOKUP($A75*10+1,データ作成貼付２!$B$2:$M$280,データ完成!I$1,FALSE))=TRUE,\"\",VLOOKUP($A75*10+1,データ作成貼付２!$B$2:$M$280,データ完成!I$1,FALSE))","v":""},{"$f":"IF(ISERROR(VLOOKUP($A75*10+2,データ作成貼付２!$B$2:$M$280,データ完成!J$1,FALSE))=TRUE,\"\",VLOOKUP($A75*10+2,データ作成貼付２!$B$2:$M$280,データ完成!J$1,FALSE))","v":""},{"$f":"IF(ISERROR(VLOOKUP($A75*10+3,データ作成貼付２!$B$2:$M$280,データ完成!K$1,FALSE))=TRUE,\"\",VLOOKUP($A75*10+3,データ作成貼付２!$B$2:$M$280,データ完成!K$1,FALSE))","v":""},{"$f":"IF(ISERROR(VLOOKUP($A75*10+4,データ作成貼付２!$B$2:$M$280,データ完成!L$1,FALSE))=TRUE,\"\",\"○\")","v":""},{"$f":"IF(L75=\"\",\"\",VLOOKUP($H75,記録入力1!$E$161:$O$190,11,FALSE))","v":""},{"$f":"IF(ISERROR(VLOOKUP($A75*10+5,データ作成貼付２!$B$2:$M$280,データ完成!N$1,FALSE))=TRUE,\"\",\"○\")","v":""},{"$f":"IF(N75=\"\",\"\",VLOOKUP($H75,記録入力1!$E$191:$O$290,11,FALSE))","v":""},{"$f":"IF(I75=\"\",\"\",VLOOKUP(LEFT(I75,5),初期設定1!$E$18:$F$59,2,FALSE))","v":""},"",{"$f":"VLOOKUP($Q75,記録入力1!$B$4:$I$287,8,FALSE)","v":{"$error":"#N/A"}},{"$f":"IF(J75=\"\",\"\",VLOOKUP(LEFT(J75,5),初期設定1!$E$18:$F$59,2,FALSE))","v":""},"",{"$f":"VLOOKUP($T75,記録入力1!$B$4:$I$287,8,FALSE)","v":{"$error":"#N/A"}},{"$f":"IF(K75=\"\",\"\",VLOOKUP(LEFT(K75,5),初期設定1!$E$18:$F$59,2,FALSE))","v":""},"",{"$f":"VLOOKUP($W75,記録入力1!$B$4:$I$287,8,FALSE)","v":{"$error":"#N/A"}},{"$f":"IF(G75=\"\",\"\",VLOOKUP(VALUE(RIGHT(G75,6)),学校番号!$A$2:$B$51,2))","v":""}]
[74,{"$f":"IF(ISERROR(VLOOKUP($A76,データ作成貼付２!$A$2:$M$280,データ完成!B$1,FALSE))=TRUE,\"\",VLOOKUP($A76,データ作成貼付２!$A$2:$M$280,データ完成!B$1,FALSE))","v":""},{"$f":"IF(ISERROR(VLOOKUP($A76,データ作成貼付２!$A$2:$M$280,データ完成!C$1,FALSE))=TRUE,\"\",VLOOKUP($A76,データ作成貼付２!$A$2:$M$280,データ完成!C$1,FALSE))","v":""},{"$f":"IF(ISERROR(VLOOKUP($A76,データ作成貼付２!$A$2:$M$280,データ完成!D$1,FALSE))=TRUE,\"\",VLOOKUP($A76,データ作成貼付２!$A$2:$M$280,データ完成!D$1,FALSE))","v":""},{"$f":"IF(ISERROR(VLOOKUP($A76,データ作成貼付２!$A$2:$M$280,データ完成!E$1,FALSE))=TRUE,\"\",VLOOKUP($A76,データ作成貼付２!$A$2:$M$280,データ完成!E$1,FALSE))","v":""},{"$f":"IF(ISERROR(VLOOKUP($A76,データ作成貼付２!$A$2:$M$280,データ完成!F$1,FALSE))=TRUE,\"\",VLOOKUP($A76,データ作成貼付２!$A$2:$M$280,データ完成!F$1,FALSE))","v":""},{"$f":"IF(ISERROR(VLOOKUP($A76,データ作成貼付２!$A$2:$M$280,データ完成!G$1,FALSE))=TRUE,\"\",VLOOKUP($A76,データ作成貼付２!$A$2:$M$280,データ完成!G$1,FALSE))","v":""},{"$f":"IF(ISERROR(VLOOKUP($A76,データ作成貼付２!$A$2:$M$280,データ完成!H$1,FALSE))=TRUE,\"\",VLOOKUP($A76,データ作成貼付２!$A$2:$M$280,データ完成!H$1,FALSE))","v":""},{"$f":"IF(ISERROR(VLOOKUP($A76*10+1,データ作成貼付２!$B$2:$M$280,データ完成!I$1,FALSE))=TRUE,\"\",VLOOKUP($A76*10+1,データ作成貼付２!$B$2:$M$280,データ完成!I$1,FALSE))","v":""},{"$f":"IF(ISERROR(VLOOKUP($A76*10+2,データ作成貼付２!$B$2:$M$280,データ完成!J$1,FALSE))=TRUE,\"\",VLOOKUP($A76*10+2,データ作成貼付２!$B$2:$M$280,データ完成!J$1,FALSE))","v":""},{"$f":"IF(ISERROR(VLOOKUP($A76*10+3,データ作成貼付２!$B$2:$M$280,データ完成!K$1,FALSE))=TRUE,\"\",VLOOKUP($A76*10+3,データ作成貼付２!$B$2:$M$280,データ完成!K$1,FALSE))","v":""},{"$f":"IF(ISERROR(VLOOKUP($A76*10+4,データ作成貼付２!$B$2:$M$280,データ完成!L$1,FALSE))=TRUE,\"\",\"○\")","v":""},{"$f":"IF(L76=\"\",\"\",VLOOKUP($H76,記録入力1!$E$161:$O$190,11,FALSE))","v":""},{"$f":"IF(ISERROR(VLOOKUP($A76*10+5,データ作成貼付２!$B$2:$M$280,データ完成!N$1,FALSE))=TRUE,\"\",\"○\")","v":""},{"$f":"IF(N76=\"\",\"\",VLOOKUP($H76,記録入力1!$E$191:$O$290,11,FALSE))","v":""},{"$f":"IF(I76=\"\",\"\",VLOOKUP(LEFT(I76,5),初期設定1!$E$18:$F$59,2,FALSE))","v":""},"",{"$f":"VLOOKUP($Q76,記録入力1!$B$4:$I$287,8,FALSE)","v":{"$error":"#N/A"}},{"$f":"IF(J76=\"\",\"\",VLOOKUP(LEFT(J76,5),初期設定1!$E$18:$F$59,2,FALSE))","v":""},"",{"$f":"VLOOKUP($T76,記録入力1!$B$4:$I$287,8,FALSE)","v":{"$error":"#N/A"}},{"$f":"IF(K76=\"\",\"\",VLOOKUP(LEFT(K76,5),初期設定1!$E$18:$F$59,2,FALSE))","v":""},"",{"$f":"VLOOKUP($W76,記録入力1!$B$4:$I$287,8,FALSE)","v":{"$error":"#N/A"}},{"$f":"IF(G76=\"\",\"\",VLOOKUP(VALUE(RIGHT(G76,6)),学校番号!$A$2:$B$51,2))","v":""}]
[75,{"$f":"IF(ISERROR(VLOOKUP($A77,データ作成貼付２!$A$2:$M$280,データ完成!B$1,FALSE))=TRUE,\"\",VLOOKUP($A77,データ作成貼付２!$A$2:$M$280,データ完成!B$1,FALSE))","v":""},{"$f":"IF(ISERROR(VLOOKUP($A77,データ作成貼付２!$A$2:$M$280,データ完成!C$1,FALSE))=TRUE,\"\",VLOOKUP($A77,データ作成貼付２!$A$2:$M$280,データ完成!C$1,FALSE))","v":""},{"$f":"IF(ISERROR(VLOOKUP($A77,データ作成貼付２!$A$2:$M$280,データ完成!D$1,FALSE))=TRUE,\"\",VLOOKUP($A77,データ作成貼付２!$A$2:$M$280,データ完成!D$1,FALSE))","v":""},{"$f":"IF(ISERROR(VLOOKUP($A77,データ作成貼付２!$A$2:$M$280,データ完成!E$1,FALSE))=TRUE,\"\",VLOOKUP($A77,データ作成貼付２!$A$2:$M$280,データ完成!E$1,FALSE))","v":""},{"$f":"IF(ISERROR(VLOOKUP($A77,データ作成貼付２!$A$2:$M$280,データ完成!F$1,FALSE))=TRUE,\"\",VLOOKUP($A77,データ作成貼付２!$A$2:$M$280,データ完成!F$1,FALSE))","v":""},{"$f":"IF(ISERROR(VLOOKUP($A77,データ作成貼付２!$A$2:$M$280,データ完成!G$1,FALSE))=TRUE,\"\",VLOOKUP($A77,データ作成貼付２!$A$2:$M$280,データ完成!G$1,FALSE))","v":""},{"$f":"IF(ISERROR(VLOOKUP($A77,データ作成貼付２!$A$2:$M$280,データ完成!H$1,FALSE))=TRUE,\"\",VLOOKUP($A77,データ作成貼付２!$A$2:$M$280,データ完成!H$1,FALSE))","v":""},{"$f":"IF(ISERROR(VLOOKUP($A77*10+1,データ作成貼付２!$B$2:$M$280,データ完成!I$1,FALSE))=TRUE,\"\",VLOOKUP($A77*10+1,データ作成貼付２!$B$2:$M$280,データ完成!I$1,FALSE))","v":""},{"$f":"IF(ISERROR(VLOOKUP($A77*10+2,データ作成貼付２!$B$2:$M$280,データ完成!J$1,FALSE))=TRUE,\"\",VLOOKUP($A77*10+2,データ作成貼付２!$B$2:$M$280,データ完成!J$1,FALSE))","v":""},{"$f":"IF(ISERROR(VLOOKUP($A77*10+3,データ作成貼付２!$B$2:$M$280,データ完成!K$1,FALSE))=TRUE,\"\",VLOOKUP($A77*10+3,データ作成貼付２!$B$2:$M$280,データ完成!K$1,FALSE))","v":""},{"$f":"IF(ISERROR(VLOOKUP($A77*10+4,データ作成貼付２!$B$2:$M$280,データ完成!L$1,FALSE))=TRUE,\"\",\"○\")","v":""},{"$f":"IF(L77=\"\",\"\",VLOOKUP($H77,記録入力1!$E$161:$O$190,11,FALSE))","v":""},{"$f":"IF(ISERROR(VLOOKUP($A77*10+5,データ作成貼付２!$B$2:$M$280,データ完成!N$1,FALSE))=TRUE,\"\",\"○\")","v":""},{"$f":"IF(N77=\"\",\"\",VLOOKUP($H77,記録入力1!$E$191:$O$290,11,FALSE))","v":""},{"$f":"IF(I77=\"\",\"\",VLOOKUP(LEFT(I77,5),初期設定1!$E$18:$F$59,2,FALSE))","v":""},"",{"$f":"VLOOKUP($Q77,記録入力1!$B$4:$I$287,8,FALSE)","v":{"$error":"#N/A"}},{"$f":"IF(J77=\"\",\"\",VLOOKUP(LEFT(J77,5),初期設定1!$E$18:$F$59,2,FALSE))","v":""},"",{"$f":"VLOOKUP($T77,記録入力1!$B$4:$I$287,8,FALSE)","v":{"$error":"#N/A"}},{"$f":"IF(K77=\"\",\"\",VLOOKUP(LEFT(K77,5),初期設定1!$E$18:$F$59,2,FALSE))","v":""},"",{"$f":"VLOOKUP($W77,記録入力1!$B$4:$I$287,8,FALSE)","v":{"$error":"#N/A"}},{"$f":"IF(G77=\"\",\"\",VLOOKUP(VALUE(RIGHT(G77,6)),学校番号!$A$2:$B$51,2))","v":""}]
[76,{"$f":"IF(ISERROR(VLOOKUP($A78,データ作成貼付２!$A$2:$M$280,データ完成!B$1,FALSE))=TRUE,\"\",VLOOKUP($A78,データ作成貼付２!$A$2:$M$280,データ完成!B$1,FALSE))","v":""},{"$f":"IF(ISERROR(VLOOKUP($A78,データ作成貼付２!$A$2:$M$280,データ完成!C$1,FALSE))=TRUE,\"\",VLOOKUP($A78,データ作成貼付２!$A$2:$M$280,データ完成!C$1,FALSE))","v":""},{"$f":"IF(ISERROR(VLOOKUP($A78,データ作成貼付２!$A$2:$M$280,データ完成!D$1,FALSE))=TRUE,\"\",VLOOKUP($A78,データ作成貼付２!$A$2:$M$280,データ完成!D$1,FALSE))","v":""},{"$f":"IF(ISERROR(VLOOKUP($A78,データ作成貼付２!$A$2:$M$280,データ完成!E$1,FALSE))=TRUE,\"\",VLOOKUP($A78,データ作成貼付２!$A$2:$M$280,データ完成!E$1,FALSE))","v":""},{"$f":"IF(ISERROR(VLOOKUP($A78,データ作成貼付２!$A$2:$M$280,データ完成!F$1,FALSE))=TRUE,\"\",VLOOKUP($A78,データ作成貼付２!$A$2:$M$280,データ完成!F$1,FALSE))","v":""},{"$f":"IF(ISERROR(VLOOKUP($A78,データ作成貼付２!$A$2:$M$280,データ完成!G$1,FALSE))=TRUE,\"\",VLOOKUP($A78,データ作成貼付２!$A$2:$M$280,データ完成!G$1,FALSE))","v":""},{"$f":"IF(ISERROR(VLOOKUP($A78,データ作成貼付２!$A$2:$M$280,データ完成!H$1,FALSE))=TRUE,\"\",VLOOKUP($A78,データ作成貼付２!$A$2:$M$280,データ完成!H$1,FALSE))","v":""},{"$f":"IF(ISERROR(VLOOKUP($A78*10+1,データ作成貼付２!$B$2:$M$280,データ完成!I$1,FALSE))=TRUE,\"\",VLOOKUP($A78*10+1,データ作成貼付２!$B$2:$M$280,データ完成!I$1,FALSE))","v":""},{"$f":"IF(ISERROR(VLOOKUP($A78*10+2,データ作成貼付２!$B$2:$M$280,データ完成!J$1,FALSE))=TRUE,\"\",VLOOKUP($A78*10+2,データ作成貼付２!$B$2:$M$280,データ完成!J$1,FALSE))","v":""},{"$f":"IF(ISERROR(VLOOKUP($A78*10+3,データ作成貼付２!$B$2:$M$280,データ完成!K$1,FALSE))=TRUE,\"\",VLOOKUP($A78*10+3,データ作成貼付２!$B$2:$M$280,データ完成!K$1,FALSE))","v":""},{"$f":"IF(ISERROR(VLOOKUP($A78*10+4,データ作成貼付２!$B$2:$M$280,データ完成!L$1,FALSE))=TRUE,\"\",\"○\")","v":""},{"$f":"IF(L78=\"\",\"\",VLOOKUP($H78,記録入力1!$E$161:$O$190,11,FALSE))","v":""},{"$f":"IF(ISERROR(VLOOKUP($A78*10+5,データ作成貼付２!$B$2:$M$280,データ完成!N$1,FALSE))=TRUE,\"\",\"○\")","v":""},{"$f":"IF(N78=\"\",\"\",VLOOKUP($H78,記録入力1!$E$191:$O$290,11,FALSE))","v":""},{"$f":"IF(I78=\"\",\"\",VLOOKUP(LEFT(I78,5),初期設定1!$E$18:$F$59,2,FALSE))","v":""},"",{"$f":"VLOOKUP($Q78,記録入力1!$B$4:$I$287,8,FALSE)","v":{"$error":"#N/A"}},{"$f":"IF(J78=\"\",\"\",VLOOKUP(LEFT(J78,5),初期設定1!$E$18:$F$59,2,FALSE))","v":""},"",{"$f":"VLOOKUP($T78,記録入力1!$B$4:$I$287,8,FALSE)","v":{"$error":"#N/A"}},{"$f":"IF(K78=\"\",\"\",VLOOKUP(LEFT(K78,5),初期設定1!$E$18:$F$59,2,FALSE))","v":""},"",{"$f":"VLOOKUP($W78,記録入力1!$B$4:$I$287,8,FALSE)","v":{"$error":"#N/A"}},{"$f":"IF(G78=\"\",\"\",VLOOKUP(VALUE(RIGHT(G78,6)),学校番号!$A$2:$B$51,2))","v":""}]
[77,{"$f":"IF(ISERROR(VLOOKUP($A79,データ作成貼付２!$A$2:$M$280,データ完成!B$1,FALSE))=TRUE,\"\",VLOOKUP($A79,データ作成貼付２!$A$2:$M$280,データ完成!B$1,FALSE))","v":""},{"$f":"IF(ISERROR(VLOOKUP($A79,データ作成貼付２!$A$2:$M$280,データ完成!C$1,FALSE))=TRUE,\"\",VLOOKUP($A79,データ作成貼付２!$A$2:$M$280,データ完成!C$1,FALSE))","v":""},{"$f":"IF(ISERROR(VLOOKUP($A79,データ作成貼付２!$A$2:$M$280,データ完成!D$1,FALSE))=TRUE,\"\",VLOOKUP($A79,データ作成貼付２!$A$2:$M$280,データ完成!D$1,FALSE))","v":""},{"$f":"IF(ISERROR(VLOOKUP($A79,データ作成貼付２!$A$2:$M$280,データ完成!E$1,FALSE))=TRUE,\"\",VLOOKUP($A79,データ作成貼付２!$A$2:$M$280,データ完成!E$1,FALSE))","v":""},{"$f":"IF(ISERROR(VLOOKUP($A79,データ作成貼付２!$A$2:$M$280,データ完成!F$1,FALSE))=TRUE,\"\",VLOOKUP($A79,データ作成貼付２!$A$2:$M$280,データ完成!F$1,FALSE))","v":""},{"$f":"IF(ISERROR(VLOOKUP($A79,データ作成貼付２!$A$2:$M$280,データ完成!G$1,FALSE))=TRUE,\"\",VLOOKUP($A79,データ作成貼付２!$A$2:$M$280,データ完成!G$1,FALSE))","v":""},{"$f":"IF(ISERROR(VLOOKUP($A79,データ作成貼付２!$A$2:$M$280,データ完成!H$1,FALSE))=TRUE,\"\",VLOOKUP($A79,データ作成貼付２!$A$2:$M$280,データ完成!H$1,FALSE))","v":""},{"$f":"IF(ISERROR(VLOOKUP($A79*10+1,データ作成貼付２!$B$2:$M$280,データ完成!I$1,FALSE))=TRUE,\"\",VLOOKUP($A79*10+1,データ作成貼付２!$B$2:$M$280,データ完成!I$1,FALSE))","v":""},{"$f":"IF(ISERROR(VLOOKUP($A79*10+2,データ作成貼付２!$B$2:$M$280,データ完成!J$1,FALSE))=TRUE,\"\",VLOOKUP($A79*10+2,データ作成貼付２!$B$2:$M$280,データ完成!J$1,FALSE))","v":""},{"$f":"IF(ISERROR(VLOOKUP($A79*10+3,データ作成貼付２!$B$2:$M$280,データ完成!K$1,FALSE))=TRUE,\"\",VLOOKUP($A79*10+3,データ作成貼付２!$B$2:$M$280,データ完成!K$1,FALSE))","v":""},{"$f":"IF(ISERROR(VLOOKUP($A79*10+4,データ作成貼付２!$B$2:$M$280,データ完成!L$1,FALSE))=TRUE,\"\",\"○\")","v":""},{"$f":"IF(L79=\"\",\"\",VLOOKUP($H79,記録入力1!$E$161:$O$190,11,FALSE))","v":""},{"$f":"IF(ISERROR(VLOOKUP($A79*10+5,データ作成貼付２!$B$2:$M$280,データ完成!N$1,FALSE))=TRUE,\"\",\"○\")","v":""},{"$f":"IF(N79=\"\",\"\",VLOOKUP($H79,記録入力1!$E$191:$O$290,11,FALSE))","v":""},{"$f":"IF(I79=\"\",\"\",VLOOKUP(LEFT(I79,5),初期設定1!$E$18:$F$59,2,FALSE))","v":""},"",{"$f":"VLOOKUP($Q79,記録入力1!$B$4:$I$287,8,FALSE)","v":{"$error":"#N/A"}},{"$f":"IF(J79=\"\",\"\",VLOOKUP(LEFT(J79,5),初期設定1!$E$18:$F$59,2,FALSE))","v":""},"",{"$f":"VLOOKUP($T79,記録入力1!$B$4:$I$287,8,FALSE)","v":{"$error":"#N/A"}},{"$f":"IF(K79=\"\",\"\",VLOOKUP(LEFT(K79,5),初期設定1!$E$18:$F$59,2,FALSE))","v":""},"",{"$f":"VLOOKUP($W79,記録入力1!$B$4:$I$287,8,FALSE)","v":{"$error":"#N/A"}},{"$f":"IF(G79=\"\",\"\",VLOOKUP(VALUE(RIGHT(G79,6)),学校番号!$A$2:$B$51,2))","v":""}]
[78,{"$f":"IF(ISERROR(VLOOKUP($A80,データ作成貼付２!$A$2:$M$280,データ完成!B$1,FALSE))=TRUE,\"\",VLOOKUP($A80,データ作成貼付２!$A$2:$M$280,データ完成!B$1,FALSE))","v":""},{"$f":"IF(ISERROR(VLOOKUP($A80,データ作成貼付２!$A$2:$M$280,データ完成!C$1,FALSE))=TRUE,\"\",VLOOKUP($A80,データ作成貼付２!$A$2:$M$280,データ完成!C$1,FALSE))","v":""},{"$f":"IF(ISERROR(VLOOKUP($A80,データ作成貼付２!$A$2:$M$280,データ完成!D$1,FALSE))=TRUE,\"\",VLOOKUP($A80,データ作成貼付２!$A$2:$M$280,データ完成!D$1,FALSE))","v":""},{"$f":"IF(ISERROR(VLOOKUP($A80,データ作成貼付２!$A$2:$M$280,データ完成!E$1,FALSE))=TRUE,\"\",VLOOKUP($A80,データ作成貼付２!$A$2:$M$280,データ完成!E$1,FALSE))","v":""},{"$f":"IF(ISERROR(VLOOKUP($A80,データ作成貼付２!$A$2:$M$280,データ完成!F$1,FALSE))=TRUE,\"\",VLOOKUP($A80,データ作成貼付２!$A$2:$M$280,データ完成!F$1,FALSE))","v":""},{"$f":"IF(ISERROR(VLOOKUP($A80,データ作成貼付２!$A$2:$M$280,データ完成!G$1,FALSE))=TRUE,\"\",VLOOKUP($A80,データ作成貼付２!$A$2:$M$280,データ完成!G$1,FALSE))","v":""},{"$f":"IF(ISERROR(VLOOKUP($A80,データ作成貼付２!$A$2:$M$280,データ完成!H$1,FALSE))=TRUE,\"\",VLOOKUP($A80,データ作成貼付２!$A$2:$M$280,データ完成!H$1,FALSE))","v":""},{"$f":"IF(ISERROR(VLOOKUP($A80*10+1,データ作成貼付２!$B$2:$M$280,データ完成!I$1,FALSE))=TRUE,\"\",VLOOKUP($A80*10+1,データ作成貼付２!$B$2:$M$280,データ完成!I$1,FALSE))","v":""},{"$f":"IF(ISERROR(VLOOKUP($A80*10+2,データ作成貼付２!$B$2:$M$280,データ完成!J$1,FALSE))=TRUE,\"\",VLOOKUP($A80*10+2,データ作成貼付２!$B$2:$M$280,データ完成!J$1,FALSE))","v":""},{"$f":"IF(ISERROR(VLOOKUP($A80*10+3,データ作成貼付２!$B$2:$M$280,データ完成!K$1,FALSE))=TRUE,\"\",VLOOKUP($A80*10+3,データ作成貼付２!$B$2:$M$280,データ完成!K$1,FALSE))","v":""},{"$f":"IF(ISERROR(VLOOKUP($A80*10+4,データ作成貼付２!$B$2:$M$280,データ完成!L$1,FALSE))=TRUE,\"\",\"○\")","v":""},{"$f":"IF(L80=\"\",\"\",VLOOKUP($H80,記録入力1!$E$161:$O$190,11,FALSE))","v":""},{"$f":"IF(ISERROR(VLOOKUP($A80*10+5,データ作成貼付２!$B$2:$M$280,データ完成!N$1,FALSE))=TRUE,\"\",\"○\")","v":""},{"$f":"IF(N80=\"\",\"\",VLOOKUP($H80,記録入力1!$E$191:$O$290,11,FALSE))","v":""},{"$f":"IF(I80=\"\",\"\",VLOOKUP(LEFT(I80,5),初期設定1!$E$18:$F$59,2,FALSE))","v":""},"",{"$f":"VLOOKUP($Q80,記録入力1!$B$4:$I$287,8,FALSE)","v":{"$error":"#N/A"}},{"$f":"IF(J80=\"\",\"\",VLOOKUP(LEFT(J80,5),初期設定1!$E$18:$F$59,2,FALSE))","v":""},"",{"$f":"VLOOKUP($T80,記録入力1!$B$4:$I$287,8,FALSE)","v":{"$error":"#N/A"}},{"$f":"IF(K80=\"\",\"\",VLOOKUP(LEFT(K80,5),初期設定1!$E$18:$F$59,2,FALSE))","v":""},"",{"$f":"VLOOKUP($W80,記録入力1!$B$4:$I$287,8,FALSE)","v":{"$error":"#N/A"}},{"$f":"IF(G80=\"\",\"\",VLOOKUP(VALUE(RIGHT(G80,6)),学校番号!$A$2:$B$51,2))","v":""}]
[79,{"$f":"IF(ISERROR(VLOOKUP($A81,データ作成貼付２!$A$2:$M$280,データ完成!B$1,FALSE))=TRUE,\"\",VLOOKUP($A81,データ作成貼付２!$A$2:$M$280,データ完成!B$1,FALSE))","v":""},{"$f":"IF(ISERROR(VLOOKUP($A81,データ作成貼付２!$A$2:$M$280,データ完成!C$1,FALSE))=TRUE,\"\",VLOOKUP($A81,データ作成貼付２!$A$2:$M$280,データ完成!C$1,FALSE))","v":""},{"$f":"IF(ISERROR(VLOOKUP($A81,データ作成貼付２!$A$2:$M$280,データ完成!D$1,FALSE))=TRUE,\"\",VLOOKUP($A81,データ作成貼付２!$A$2:$M$280,データ完成!D$1,FALSE))","v":""},{"$f":"IF(ISERROR(VLOOKUP($A81,データ作成貼付２!$A$2:$M$280,データ完成!E$1,FALSE))=TRUE,\"\",VLOOKUP($A81,データ作成貼付２!$A$2:$M$280,データ完成!E$1,FALSE))","v":""},{"$f":"IF(ISERROR(VLOOKUP($A81,データ作成貼付２!$A$2:$M$280,データ完成!F$1,FALSE))=TRUE,\"\",VLOOKUP($A81,データ作成貼付２!$A$2:$M$280,データ完成!F$1,FALSE))","v":""},{"$f":"IF(ISERROR(VLOOKUP($A81,データ作成貼付２!$A$2:$M$280,データ完成!G$1,FALSE))=TRUE,\"\",VLOOKUP($A81,データ作成貼付２!$A$2:$M$280,データ完成!G$1,FALSE))","v":""},{"$f":"IF(ISERROR(VLOOKUP($A81,データ作成貼付２!$A$2:$M$280,データ完成!H$1,FALSE))=TRUE,\"\",VLOOKUP($A81,データ作成貼付２!$A$2:$M$280,データ完成!H$1,FALSE))","v":""},{"$f":"IF(ISERROR(VLOOKUP($A81*10+1,データ作成貼付２!$B$2:$M$280,データ完成!I$1,FALSE))=TRUE,\"\",VLOOKUP($A81*10+1,データ作成貼付２!$B$2:$M$280,データ完成!I$1,FALSE))","v":""},{"$f":"IF(ISERROR(VLOOKUP($A81*10+2,データ作成貼付２!$B$2:$M$280,データ完成!J$1,FALSE))=TRUE,\"\",VLOOKUP($A81*10+2,データ作成貼付２!$B$2:$M$280,データ完成!J$1,FALSE))","v":""},{"$f":"IF(ISERROR(VLOOKUP($A81*10+3,データ作成貼付２!$B$2:$M$280,データ完成!K$1,FALSE))=TRUE,\"\",VLOOKUP($A81*10+3,データ作成貼付２!$B$2:$M$280,データ完成!K$1,FALSE))","v":""},{"$f":"IF(ISERROR(VLOOKUP($A81*10+4,データ作成貼付２!$B$2:$M$280,データ完成!L$1,FALSE))=TRUE,\"\",\"○\")","v":""},{"$f":"IF(L81=\"\",\"\",VLOOKUP($H81,記録入力1!$E$161:$O$190,11,FALSE))","v":""},{"$f":"IF(ISERROR(VLOOKUP($A81*10+5,データ作成貼付２!$B$2:$M$280,データ完成!N$1,FALSE))=TRUE,\"\",\"○\")","v":""},{"$f":"IF(N81=\"\",\"\",VLOOKUP($H81,記録入力1!$E$191:$O$290,11,FALSE))","v":""},{"$f":"IF(I81=\"\",\"\",VLOOKUP(LEFT(I81,5),初期設定1!$E$18:$F$59,2,FALSE))","v":""},"",{"$f":"VLOOKUP($Q81,記録入力1!$B$4:$I$287,8,FALSE)","v":{"$error":"#N/A"}},{"$f":"IF(J81=\"\",\"\",VLOOKUP(LEFT(J81,5),初期設定1!$E$18:$F$59,2,FALSE))","v":""},"",{"$f":"VLOOKUP($T81,記録入力1!$B$4:$I$287,8,FALSE)","v":{"$error":"#N/A"}},{"$f":"IF(K81=\"\",\"\",VLOOKUP(LEFT(K81,5),初期設定1!$E$18:$F$59,2,FALSE))","v":""},"",{"$f":"VLOOKUP($W81,記録入力1!$B$4:$I$287,8,FALSE)","v":{"$error":"#N/A"}},{"$f":"IF(G81=\"\",\"\",VLOOKUP(VALUE(RIGHT(G81,6)),学校番号!$A$2:$B$51,2))","v":""}]
[80,{"$f":"IF(ISERROR(VLOOKUP($A82,データ作成貼付２!$A$2:$M$280,データ完成!B$1,FALSE))=TRUE,\"\",VLOOKUP($A82,データ作成貼付２!$A$2:$M$280,データ完成!B$1,FALSE))","v":""},{"$f":"IF(ISERROR(VLOOKUP($A82,データ作成貼付２!$A$2:$M$280,データ完成!C$1,FALSE))=TRUE,\"\",VLOOKUP($A82,データ作成貼付２!$A$2:$M$280,データ完成!C$1,FALSE))","v":""},{"$f":"IF(ISERROR(VLOOKUP($A82,データ作成貼付２!$A$2:$M$280,データ完成!D$1,FALSE))=TRUE,\"\",VLOOKUP($A82,データ作成貼付２!$A$2:$M$280,データ完成!D$1,FALSE))","v":""},{"$f":"IF(ISERROR(VLOOKUP($A82,データ作成貼付２!$A$2:$M$280,データ完成!E$1,FALSE))=TRUE,\"\",VLOOKUP($A82,データ作成貼付２!$A$2:$M$280,データ完成!E$1,FALSE))","v":""},{"$f":"IF(ISERROR(VLOOKUP($A82,データ作成貼付２!$A$2:$M$280,データ完成!F$1,FALSE))=TRUE,\"\",VLOOKUP($A82,データ作成貼付２!$A$2:$M$280,データ完成!F$1,FALSE))","v":""},{"$f":"IF(ISERROR(VLOOKUP($A82,データ作成貼付２!$A$2:$M$280,データ完成!G$1,FALSE))=TRUE,\"\",VLOOKUP($A82,データ作成貼付２!$A$2:$M$280,データ完成!G$1,FALSE))","v":""},{"$f":"IF(ISERROR(VLOOKUP($A82,データ作成貼付２!$A$2:$M$280,データ完成!H$1,FALSE))=TRUE,\"\",VLOOKUP($A82,データ作成貼付２!$A$2:$M$280,データ完成!H$1,FALSE))","v":""},{"$f":"IF(ISERROR(VLOOKUP($A82*10+1,データ作成貼付２!$B$2:$M$280,データ完成!I$1,FALSE))=TRUE,\"\",VLOOKUP($A82*10+1,データ作成貼付２!$B$2:$M$280,データ完成!I$1,FALSE))","v":""},{"$f":"IF(ISERROR(VLOOKUP($A82*10+2,データ作成貼付２!$B$2:$M$280,データ完成!J$1,FALSE))=TRUE,\"\",VLOOKUP($A82*10+2,データ作成貼付２!$B$2:$M$280,データ完成!J$1,FALSE))","v":""},{"$f":"IF(ISERROR(VLOOKUP($A82*10+3,データ作成貼付２!$B$2:$M$280,データ完成!K$1,FALSE))=TRUE,\"\",VLOOKUP($A82*10+3,データ作成貼付２!$B$2:$M$280,データ完成!K$1,FALSE))","v":""},{"$f":"IF(ISERROR(VLOOKUP($A82*10+4,データ作成貼付２!$B$2:$M$280,データ完成!L$1,FALSE))=TRUE,\"\",\"○\")","v":""},{"$f":"IF(L82=\"\",\"\",VLOOKUP($H82,記録入力1!$E$161:$O$190,11,FALSE))","v":""},{"$f":"IF(ISERROR(VLOOKUP($A82*10+5,データ作成貼付２!$B$2:$M$280,データ完成!N$1,FALSE))=TRUE,\"\",\"○\")","v":""},{"$f":"IF(N82=\"\",\"\",VLOOKUP($H82,記録入力1!$E$191:$O$290,11,FALSE))","v":""},{"$f":"IF(I82=\"\",\"\",VLOOKUP(LEFT(I82,5),初期設定1!$E$18:$F$59,2,FALSE))","v":""},"",{"$f":"VLOOKUP($Q82,記録入力1!$B$4:$I$287,8,FALSE)","v":{"$error":"#N/A"}},{"$f":"IF(J82=\"\",\"\",VLOOKUP(LEFT(J82,5),初期設定1!$E$18:$F$59,2,FALSE))","v":""},"",{"$f":"VLOOKUP($T82,記録入力1!$B$4:$I$287,8,FALSE)","v":{"$error":"#N/A"}},{"$f":"IF(K82=\"\",\"\",VLOOKUP(LEFT(K82,5),初期設定1!$E$18:$F$59,2,FALSE))","v":""},"",{"$f":"VLOOKUP($W82,記録入力1!$B$4:$I$287,8,FALSE)","v":{"$error":"#N/A"}},{"$f":"IF(G82=\"\",\"\",VLOOKUP(VALUE(RIGHT(G82,6)),学校番号!$A$2:$B$51,2))","v":""}]
[81,{"$f":"IF(ISERROR(VLOOKUP($A83,データ作成貼付２!$A$2:$M$280,データ完成!B$1,FALSE))=TRUE,\"\",VLOOKUP($A83,データ作成貼付２!$A$2:$M$280,データ完成!B$1,FALSE))","v":""},{"$f":"IF(ISERROR(VLOOKUP($A83,データ作成貼付２!$A$2:$M$280,データ完成!C$1,FALSE))=TRUE,\"\",VLOOKUP($A83,データ作成貼付２!$A$2:$M$280,データ完成!C$1,FALSE))","v":""},{"$f":"IF(ISERROR(VLOOKUP($A83,データ作成貼付２!$A$2:$M$280,データ完成!D$1,FALSE))=TRUE,\"\",VLOOKUP($A83,データ作成貼付２!$A$2:$M$280,データ完成!D$1,FALSE))","v":""},{"$f":"IF(ISERROR(VLOOKUP($A83,データ作成貼付２!$A$2:$M$280,データ完成!E$1,FALSE))=TRUE,\"\",VLOOKUP($A83,データ作成貼付２!$A$2:$M$280,データ完成!E$1,FALSE))","v":""},{"$f":"IF(ISERROR(VLOOKUP($A83,データ作成貼付２!$A$2:$M$280,データ完成!F$1,FALSE))=TRUE,\"\",VLOOKUP($A83,データ作成貼付２!$A$2:$M$280,データ完成!F$1,FALSE))","v":""},{"$f":"IF(ISERROR(VLOOKUP($A83,データ作成貼付２!$A$2:$M$280,データ完成!G$1,FALSE))=TRUE,\"\",VLOOKUP($A83,データ作成貼付２!$A$2:$M$280,データ完成!G$1,FALSE))","v":""},{"$f":"IF(ISERROR(VLOOKUP($A83,データ作成貼付２!$A$2:$M$280,データ完成!H$1,FALSE))=TRUE,\"\",VLOOKUP($A83,データ作成貼付２!$A$2:$M$280,データ完成!H$1,FALSE))","v":""},{"$f":"IF(ISERROR(VLOOKUP($A83*10+1,データ作成貼付２!$B$2:$M$280,データ完成!I$1,FALSE))=TRUE,\"\",VLOOKUP($A83*10+1,データ作成貼付２!$B$2:$M$280,データ完成!I$1,FALSE))","v":""},{"$f":"IF(ISERROR(VLOOKUP($A83*10+2,データ作成貼付２!$B$2:$M$280,データ完成!J$1,FALSE))=TRUE,\"\",VLOOKUP($A83*10+2,データ作成貼付２!$B$2:$M$280,データ完成!J$1,FALSE))","v":""},{"$f":"IF(ISERROR(VLOOKUP($A83*10+3,データ作成貼付２!$B$2:$M$280,データ完成!K$1,FALSE))=TRUE,\"\",VLOOKUP($A83*10+3,データ作成貼付２!$B$2:$M$280,データ完成!K$1,FALSE))","v":""},{"$f":"IF(ISERROR(VLOOKUP($A83*10+4,データ作成貼付２!$B$2:$M$280,データ完成!L$1,FALSE))=TRUE,\"\",\"○\")","v":""},{"$f":"IF(L83=\"\",\"\",VLOOKUP($H83,記録入力1!$E$161:$O$190,11,FALSE))","v":""},{"$f":"IF(ISERROR(VLOOKUP($A83*10+5,データ作成貼付２!$B$2:$M$280,データ完成!N$1,FALSE))=TRUE,\"\",\"○\")","v":""},{"$f":"IF(N83=\"\",\"\",VLOOKUP($H83,記録入力1!$E$191:$O$290,11,FALSE))","v":""},{"$f":"IF(I83=\"\",\"\",VLOOKUP(LEFT(I83,5),初期設定1!$E$18:$F$59,2,FALSE))","v":""},"",{"$f":"VLOOKUP($Q83,記録入力1!$B$4:$I$287,8,FALSE)","v":{"$error":"#N/A"}},{"$f":"IF(J83=\"\",\"\",VLOOKUP(LEFT(J83,5),初期設定1!$E$18:$F$59,2,FALSE))","v":""},"",{"$f":"VLOOKUP($T83,記録入力1!$B$4:$I$287,8,FALSE)","v":{"$error":"#N/A"}},{"$f":"IF(K83=\"\",\"\",VLOOKUP(LEFT(K83,5),初期設定1!$E$18:$F$59,2,FALSE))","v":""},"",{"$f":"VLOOKUP($W83,記録入力1!$B$4:$I$287,8,FALSE)","v":{"$error":"#N/A"}},{"$f":"IF(G83=\"\",\"\",VLOOKUP(VALUE(RIGHT(G83,6)),学校番号!$A$2:$B$51,2))","v":""}]
[82,{"$f":"IF(ISERROR(VLOOKUP($A84,データ作成貼付２!$A$2:$M$280,データ完成!B$1,FALSE))=TRUE,\"\",VLOOKUP($A84,データ作成貼付２!$A$2:$M$280,データ完成!B$1,FALSE))","v":""},{"$f":"IF(ISERROR(VLOOKUP($A84,データ作成貼付２!$A$2:$M$280,データ完成!C$1,FALSE))=TRUE,\"\",VLOOKUP($A84,データ作成貼付２!$A$2:$M$280,データ完成!C$1,FALSE))","v":""},{"$f":"IF(ISERROR(VLOOKUP($A84,データ作成貼付２!$A$2:$M$280,データ完成!D$1,FALSE))=TRUE,\"\",VLOOKUP($A84,データ作成貼付２!$A$2:$M$280,データ完成!D$1,FALSE))","v":""},{"$f":"IF(ISERROR(VLOOKUP($A84,データ作成貼付２!$A$2:$M$280,データ完成!E$1,FALSE))=TRUE,\"\",VLOOKUP($A84,データ作成貼付２!$A$2:$M$280,データ完成!E$1,FALSE))","v":""},{"$f":"IF(ISERROR(VLOOKUP($A84,データ作成貼付２!$A$2:$M$280,データ完成!F$1,FALSE))=TRUE,\"\",VLOOKUP($A84,データ作成貼付２!$A$2:$M$280,データ完成!F$1,FALSE))","v":""},{"$f":"IF(ISERROR(VLOOKUP($A84,データ作成貼付２!$A$2:$M$280,データ完成!G$1,FALSE))=TRUE,\"\",VLOOKUP($A84,データ作成貼付２!$A$2:$M$280,データ完成!G$1,FALSE))","v":""},{"$f":"IF(ISERROR(VLOOKUP($A84,データ作成貼付２!$A$2:$M$280,データ完成!H$1,FALSE))=TRUE,\"\",VLOOKUP($A84,データ作成貼付２!$A$2:$M$280,データ完成!H$1,FALSE))","v":""},{"$f":"IF(ISERROR(VLOOKUP($A84*10+1,データ作成貼付２!$B$2:$M$280,データ完成!I$1,FALSE))=TRUE,\"\",VLOOKUP($A84*10+1,データ作成貼付２!$B$2:$M$280,データ完成!I$1,FALSE))","v":""},{"$f":"IF(ISERROR(VLOOKUP($A84*10+2,データ作成貼付２!$B$2:$M$280,データ完成!J$1,FALSE))=TRUE,\"\",VLOOKUP($A84*10+2,データ作成貼付２!$B$2:$M$280,データ完成!J$1,FALSE))","v":""},{"$f":"IF(ISERROR(VLOOKUP($A84*10+3,データ作成貼付２!$B$2:$M$280,データ完成!K$1,FALSE))=TRUE,\"\",VLOOKUP($A84*10+3,データ作成貼付２!$B$2:$M$280,データ完成!K$1,FALSE))","v":""},{"$f":"IF(ISERROR(VLOOKUP($A84*10+4,データ作成貼付２!$B$2:$M$280,データ完成!L$1,FALSE))=TRUE,\"\",\"○\")","v":""},{"$f":"IF(L84=\"\",\"\",VLOOKUP($H84,記録入力1!$E$161:$O$190,11,FALSE))","v":""},{"$f":"IF(ISERROR(VLOOKUP($A84*10+5,データ作成貼付２!$B$2:$M$280,データ完成!N$1,FALSE))=TRUE,\"\",\"○\")","v":""},{"$f":"IF(N84=\"\",\"\",VLOOKUP($H84,記録入力1!$E$191:$O$290,11,FALSE))","v":""},{"$f":"IF(I84=\"\",\"\",VLOOKUP(LEFT(I84,5),初期設定1!$E$18:$F$59,2,FALSE))","v":""},"",{"$f":"VLOOKUP($Q84,記録入力1!$B$4:$I$287,8,FALSE)","v":{"$error":"#N/A"}},{"$f":"IF(J84=\"\",\"\",VLOOKUP(LEFT(J84,5),初期設定1!$E$18:$F$59,2,FALSE))","v":""},"",{"$f":"VLOOKUP($T84,記録入力1!$B$4:$I$287,8,FALSE)","v":{"$error":"#N/A"}},{"$f":"IF(K84=\"\",\"\",VLOOKUP(LEFT(K84,5),初期設定1!$E$18:$F$59,2,FALSE))","v":""},"",{"$f":"VLOOKUP($W84,記録入力1!$B$4:$I$287,8,FALSE)","v":{"$error":"#N/A"}},{"$f":"IF(G84=\"\",\"\",VLOOKUP(VALUE(RIGHT(G84,6)),学校番号!$A$2:$B$51,2))","v":""}]
[83,{"$f":"IF(ISERROR(VLOOKUP($A85,データ作成貼付２!$A$2:$M$280,データ完成!B$1,FALSE))=TRUE,\"\",VLOOKUP($A85,データ作成貼付２!$A$2:$M$280,データ完成!B$1,FALSE))","v":""},{"$f":"IF(ISERROR(VLOOKUP($A85,データ作成貼付２!$A$2:$M$280,データ完成!C$1,FALSE))=TRUE,\"\",VLOOKUP($A85,データ作成貼付２!$A$2:$M$280,データ完成!C$1,FALSE))","v":""},{"$f":"IF(ISERROR(VLOOKUP($A85,データ作成貼付２!$A$2:$M$280,データ完成!D$1,FALSE))=TRUE,\"\",VLOOKUP($A85,データ作成貼付２!$A$2:$M$280,データ完成!D$1,FALSE))","v":""},{"$f":"IF(ISERROR(VLOOKUP($A85,データ作成貼付２!$A$2:$M$280,データ完成!E$1,FALSE))=TRUE,\"\",VLOOKUP($A85,データ作成貼付２!$A$2:$M$280,データ完成!E$1,FALSE))","v":""},{"$f":"IF(ISERROR(VLOOKUP($A85,データ作成貼付２!$A$2:$M$280,データ完成!F$1,FALSE))=TRUE,\"\",VLOOKUP($A85,データ作成貼付２!$A$2:$M$280,データ完成!F$1,FALSE))","v":""},{"$f":"IF(ISERROR(VLOOKUP($A85,データ作成貼付２!$A$2:$M$280,データ完成!G$1,FALSE))=TRUE,\"\",VLOOKUP($A85,データ作成貼付２!$A$2:$M$280,データ完成!G$1,FALSE))","v":""},{"$f":"IF(ISERROR(VLOOKUP($A85,データ作成貼付２!$A$2:$M$280,データ完成!H$1,FALSE))=TRUE,\"\",VLOOKUP($A85,データ作成貼付２!$A$2:$M$280,データ完成!H$1,FALSE))","v":""},{"$f":"IF(ISERROR(VLOOKUP($A85*10+1,データ作成貼付２!$B$2:$M$280,データ完成!I$1,FALSE))=TRUE,\"\",VLOOKUP($A85*10+1,データ作成貼付２!$B$2:$M$280,データ完成!I$1,FALSE))","v":""},{"$f":"IF(ISERROR(VLOOKUP($A85*10+2,データ作成貼付２!$B$2:$M$280,データ完成!J$1,FALSE))=TRUE,\"\",VLOOKUP($A85*10+2,データ作成貼付２!$B$2:$M$280,データ完成!J$1,FALSE))","v":""},{"$f":"IF(ISERROR(VLOOKUP($A85*10+3,データ作成貼付２!$B$2:$M$280,データ完成!K$1,FALSE))=TRUE,\"\",VLOOKUP($A85*10+3,データ作成貼付２!$B$2:$M$280,データ完成!K$1,FALSE))","v":""},{"$f":"IF(ISERROR(VLOOKUP($A85*10+4,データ作成貼付２!$B$2:$M$280,データ完成!L$1,FALSE))=TRUE,\"\",\"○\")","v":""},{"$f":"IF(L85=\"\",\"\",VLOOKUP($H85,記録入力1!$E$161:$O$190,11,FALSE))","v":""},{"$f":"IF(ISERROR(VLOOKUP($A85*10+5,データ作成貼付２!$B$2:$M$280,データ完成!N$1,FALSE))=TRUE,\"\",\"○\")","v":""},{"$f":"IF(N85=\"\",\"\",VLOOKUP($H85,記録入力1!$E$191:$O$290,11,FALSE))","v":""},{"$f":"IF(I85=\"\",\"\",VLOOKUP(LEFT(I85,5),初期設定1!$E$18:$F$59,2,FALSE))","v":""},"",{"$f":"VLOOKUP($Q85,記録入力1!$B$4:$I$287,8,FALSE)","v":{"$error":"#N/A"}},{"$f":"IF(J85=\"\",\"\",VLOOKUP(LEFT(J85,5),初期設定1!$E$18:$F$59,2,FALSE))","v":""},"",{"$f":"VLOOKUP($T85,記録入力1!$B$4:$I$287,8,FALSE)","v":{"$error":"#N/A"}},{"$f":"IF(K85=\"\",\"\",VLOOKUP(LEFT(K85,5),初期設定1!$E$18:$F$59,2,FALSE))","v":""},"",{"$f":"VLOOKUP($W85,記録入力1!$B$4:$I$287,8,FALSE)","v":{"$error":"#N/A"}},{"$f":"IF(G85=\"\",\"\",VLOOKUP(VALUE(RIGHT(G85,6)),学校番号!$A$2:$B$51,2))","v":""}]
[84,{"$f":"IF(ISERROR(VLOOKUP($A86,データ作成貼付２!$A$2:$M$280,データ完成!B$1,FALSE))=TRUE,\"\",VLOOKUP($A86,データ作成貼付２!$A$2:$M$280,データ完成!B$1,FALSE))","v":""},{"$f":"IF(ISERROR(VLOOKUP($A86,データ作成貼付２!$A$2:$M$280,データ完成!C$1,FALSE))=TRUE,\"\",VLOOKUP($A86,データ作成貼付２!$A$2:$M$280,データ完成!C$1,FALSE))","v":""},{"$f":"IF(ISERROR(VLOOKUP($A86,データ作成貼付２!$A$2:$M$280,データ完成!D$1,FALSE))=TRUE,\"\",VLOOKUP($A86,データ作成貼付２!$A$2:$M$280,データ完成!D$1,FALSE))","v":""},{"$f":"IF(ISERROR(VLOOKUP($A86,データ作成貼付２!$A$2:$M$280,データ完成!E$1,FALSE))=TRUE,\"\",VLOOKUP($A86,データ作成貼付２!$A$2:$M$280,データ完成!E$1,FALSE))","v":""},{"$f":"IF(ISERROR(VLOOKUP($A86,データ作成貼付２!$A$2:$M$280,データ完成!F$1,FALSE))=TRUE,\"\",VLOOKUP($A86,データ作成貼付２!$A$2:$M$280,データ完成!F$1,FALSE))","v":""},{"$f":"IF(ISERROR(VLOOKUP($A86,データ作成貼付２!$A$2:$M$280,データ完成!G$1,FALSE))=TRUE,\"\",VLOOKUP($A86,データ作成貼付２!$A$2:$M$280,データ完成!G$1,FALSE))","v":""},{"$f":"IF(ISERROR(VLOOKUP($A86,データ作成貼付２!$A$2:$M$280,データ完成!H$1,FALSE))=TRUE,\"\",VLOOKUP($A86,データ作成貼付２!$A$2:$M$280,データ完成!H$1,FALSE))","v":""},{"$f":"IF(ISERROR(VLOOKUP($A86*10+1,データ作成貼付２!$B$2:$M$280,データ完成!I$1,FALSE))=TRUE,\"\",VLOOKUP($A86*10+1,データ作成貼付２!$B$2:$M$280,データ完成!I$1,FALSE))","v":""},{"$f":"IF(ISERROR(VLOOKUP($A86*10+2,データ作成貼付２!$B$2:$M$280,データ完成!J$1,FALSE))=TRUE,\"\",VLOOKUP($A86*10+2,データ作成貼付２!$B$2:$M$280,データ完成!J$1,FALSE))","v":""},{"$f":"IF(ISERROR(VLOOKUP($A86*10+3,データ作成貼付２!$B$2:$M$280,データ完成!K$1,FALSE))=TRUE,\"\",VLOOKUP($A86*10+3,データ作成貼付２!$B$2:$M$280,データ完成!K$1,FALSE))","v":""},{"$f":"IF(ISERROR(VLOOKUP($A86*10+4,データ作成貼付２!$B$2:$M$280,データ完成!L$1,FALSE))=TRUE,\"\",\"○\")","v":""},{"$f":"IF(L86=\"\",\"\",VLOOKUP($H86,記録入力1!$E$161:$O$190,11,FALSE))","v":""},{"$f":"IF(ISERROR(VLOOKUP($A86*10+5,データ作成貼付２!$B$2:$M$280,データ完成!N$1,FALSE))=TRUE,\"\",\"○\")","v":""},{"$f":"IF(N86=\"\",\"\",VLOOKUP($H86,記録入力1!$E$191:$O$290,11,FALSE))","v":""},{"$f":"IF(I86=\"\",\"\",VLOOKUP(LEFT(I86,5),初期設定1!$E$18:$F$59,2,FALSE))","v":""},"",{"$f":"VLOOKUP($Q86,記録入力1!$B$4:$I$287,8,FALSE)","v":{"$error":"#N/A"}},{"$f":"IF(J86=\"\",\"\",VLOOKUP(LEFT(J86,5),初期設定1!$E$18:$F$59,2,FALSE))","v":""},"",{"$f":"VLOOKUP($T86,記録入力1!$B$4:$I$287,8,FALSE)","v":{"$error":"#N/A"}},{"$f":"IF(K86=\"\",\"\",VLOOKUP(LEFT(K86,5),初期設定1!$E$18:$F$59,2,FALSE))","v":""},"",{"$f":"VLOOKUP($W86,記録入力1!$B$4:$I$287,8,FALSE)","v":{"$error":"#N/A"}},{"$f":"IF(G86=\"\",\"\",VLOOKUP(VALUE(RIGHT(G86,6)),学校番号!$A$2:$B$51,2))","v":""}]
[85,{"$f":"IF(ISERROR(VLOOKUP($A87,データ作成貼付２!$A$2:$M$280,データ完成!B$1,FALSE))=TRUE,\"\",VLOOKUP($A87,データ作成貼付２!$A$2:$M$280,データ完成!B$1,FALSE))","v":""},{"$f":"IF(ISERROR(VLOOKUP($A87,データ作成貼付２!$A$2:$M$280,データ完成!C$1,FALSE))=TRUE,\"\",VLOOKUP($A87,データ作成貼付２!$A$2:$M$280,データ完成!C$1,FALSE))","v":""},{"$f":"IF(ISERROR(VLOOKUP($A87,データ作成貼付２!$A$2:$M$280,データ完成!D$1,FALSE))=TRUE,\"\",VLOOKUP($A87,データ作成貼付２!$A$2:$M$280,データ完成!D$1,FALSE))","v":""},{"$f":"IF(ISERROR(VLOOKUP($A87,データ作成貼付２!$A$2:$M$280,データ完成!E$1,FALSE))=TRUE,\"\",VLOOKUP($A87,データ作成貼付２!$A$2:$M$280,データ完成!E$1,FALSE))","v":""},{"$f":"IF(ISERROR(VLOOKUP($A87,データ作成貼付２!$A$2:$M$280,データ完成!F$1,FALSE))=TRUE,\"\",VLOOKUP($A87,データ作成貼付２!$A$2:$M$280,データ完成!F$1,FALSE))","v":""},{"$f":"IF(ISERROR(VLOOKUP($A87,データ作成貼付２!$A$2:$M$280,データ完成!G$1,FALSE))=TRUE,\"\",VLOOKUP($A87,データ作成貼付２!$A$2:$M$280,データ完成!G$1,FALSE))","v":""},{"$f":"IF(ISERROR(VLOOKUP($A87,データ作成貼付２!$A$2:$M$280,データ完成!H$1,FALSE))=TRUE,\"\",VLOOKUP($A87,データ作成貼付２!$A$2:$M$280,データ完成!H$1,FALSE))","v":""},{"$f":"IF(ISERROR(VLOOKUP($A87*10+1,データ作成貼付２!$B$2:$M$280,データ完成!I$1,FALSE))=TRUE,\"\",VLOOKUP($A87*10+1,データ作成貼付２!$B$2:$M$280,データ完成!I$1,FALSE))","v":""},{"$f":"IF(ISERROR(VLOOKUP($A87*10+2,データ作成貼付２!$B$2:$M$280,データ完成!J$1,FALSE))=TRUE,\"\",VLOOKUP($A87*10+2,データ作成貼付２!$B$2:$M$280,データ完成!J$1,FALSE))","v":""},{"$f":"IF(ISERROR(VLOOKUP($A87*10+3,データ作成貼付２!$B$2:$M$280,データ完成!K$1,FALSE))=TRUE,\"\",VLOOKUP($A87*10+3,データ作成貼付２!$B$2:$M$280,データ完成!K$1,FALSE))","v":""},{"$f":"IF(ISERROR(VLOOKUP($A87*10+4,データ作成貼付２!$B$2:$M$280,データ完成!L$1,FALSE))=TRUE,\"\",\"○\")","v":""},{"$f":"IF(L87=\"\",\"\",VLOOKUP($H87,記録入力1!$E$161:$O$190,11,FALSE))","v":""},{"$f":"IF(ISERROR(VLOOKUP($A87*10+5,データ作成貼付２!$B$2:$M$280,データ完成!N$1,FALSE))=TRUE,\"\",\"○\")","v":""},{"$f":"IF(N87=\"\",\"\",VLOOKUP($H87,記録入力1!$E$191:$O$290,11,FALSE))","v":""},{"$f":"IF(I87=\"\",\"\",VLOOKUP(LEFT(I87,5),初期設定1!$E$18:$F$59,2,FALSE))","v":""},"",{"$f":"VLOOKUP($Q87,記録入力1!$B$4:$I$287,8,FALSE)","v":{"$error":"#N/A"}},{"$f":"IF(J87=\"\",\"\",VLOOKUP(LEFT(J87,5),初期設定1!$E$18:$F$59,2,FALSE))","v":""},"",{"$f":"VLOOKUP($T87,記録入力1!$B$4:$I$287,8,FALSE)","v":{"$error":"#N/A"}},{"$f":"IF(K87=\"\",\"\",VLOOKUP(LEFT(K87,5),初期設定1!$E$18:$F$59,2,FALSE))","v":""},"",{"$f":"VLOOKUP($W87,記録入力1!$B$4:$I$287,8,FALSE)","v":{"$error":"#N/A"}},{"$f":"IF(G87=\"\",\"\",VLOOKUP(VALUE(RIGHT(G87,6)),学校番号!$A$2:$B$51,2))","v":""}]
[86,{"$f":"IF(ISERROR(VLOOKUP($A88,データ作成貼付２!$A$2:$M$280,データ完成!B$1,FALSE))=TRUE,\"\",VLOOKUP($A88,データ作成貼付２!$A$2:$M$280,データ完成!B$1,FALSE))","v":""},{"$f":"IF(ISERROR(VLOOKUP($A88,データ作成貼付２!$A$2:$M$280,データ完成!C$1,FALSE))=TRUE,\"\",VLOOKUP($A88,データ作成貼付２!$A$2:$M$280,データ完成!C$1,FALSE))","v":""},{"$f":"IF(ISERROR(VLOOKUP($A88,データ作成貼付２!$A$2:$M$280,データ完成!D$1,FALSE))=TRUE,\"\",VLOOKUP($A88,データ作成貼付２!$A$2:$M$280,データ完成!D$1,FALSE))","v":""},{"$f":"IF(ISERROR(VLOOKUP($A88,データ作成貼付２!$A$2:$M$280,データ完成!E$1,FALSE))=TRUE,\"\",VLOOKUP($A88,データ作成貼付２!$A$2:$M$280,データ完成!E$1,FALSE))","v":""},{"$f":"IF(ISERROR(VLOOKUP($A88,データ作成貼付２!$A$2:$M$280,データ完成!F$1,FALSE))=TRUE,\"\",VLOOKUP($A88,データ作成貼付２!$A$2:$M$280,データ完成!F$1,FALSE))","v":""},{"$f":"IF(ISERROR(VLOOKUP($A88,データ作成貼付２!$A$2:$M$280,データ完成!G$1,FALSE))=TRUE,\"\",VLOOKUP($A88,データ作成貼付２!$A$2:$M$280,データ完成!G$1,FALSE))","v":""},{"$f":"IF(ISERROR(VLOOKUP($A88,データ作成貼付２!$A$2:$M$280,データ完成!H$1,FALSE))=TRUE,\"\",VLOOKUP($A88,データ作成貼付２!$A$2:$M$280,データ完成!H$1,FALSE))","v":""},{"$f":"IF(ISERROR(VLOOKUP($A88*10+1,データ作成貼付２!$B$2:$M$280,データ完成!I$1,FALSE))=TRUE,\"\",VLOOKUP($A88*10+1,データ作成貼付２!$B$2:$M$280,データ完成!I$1,FALSE))","v":""},{"$f":"IF(ISERROR(VLOOKUP($A88*10+2,データ作成貼付２!$B$2:$M$280,データ完成!J$1,FALSE))=TRUE,\"\",VLOOKUP($A88*10+2,データ作成貼付２!$B$2:$M$280,データ完成!J$1,FALSE))","v":""},{"$f":"IF(ISERROR(VLOOKUP($A88*10+3,データ作成貼付２!$B$2:$M$280,データ完成!K$1,FALSE))=TRUE,\"\",VLOOKUP($A88*10+3,データ作成貼付２!$B$2:$M$280,データ完成!K$1,FALSE))","v":""},{"$f":"IF(ISERROR(VLOOKUP($A88*10+4,データ作成貼付２!$B$2:$M$280,データ完成!L$1,FALSE))=TRUE,\"\",\"○\")","v":""},{"$f":"IF(L88=\"\",\"\",VLOOKUP($H88,記録入力1!$E$161:$O$190,11,FALSE))","v":""},{"$f":"IF(ISERROR(VLOOKUP($A88*10+5,データ作成貼付２!$B$2:$M$280,データ完成!N$1,FALSE))=TRUE,\"\",\"○\")","v":""},{"$f":"IF(N88=\"\",\"\",VLOOKUP($H88,記録入力1!$E$191:$O$290,11,FALSE))","v":""},{"$f":"IF(I88=\"\",\"\",VLOOKUP(LEFT(I88,5),初期設定1!$E$18:$F$59,2,FALSE))","v":""},"",{"$f":"VLOOKUP($Q88,記録入力1!$B$4:$I$287,8,FALSE)","v":{"$error":"#N/A"}},{"$f":"IF(J88=\"\",\"\",VLOOKUP(LEFT(J88,5),初期設定1!$E$18:$F$59,2,FALSE))","v":""},"",{"$f":"VLOOKUP($T88,記録入力1!$B$4:$I$287,8,FALSE)","v":{"$error":"#N/A"}},{"$f":"IF(K88=\"\",\"\",VLOOKUP(LEFT(K88,5),初期設定1!$E$18:$F$59,2,FALSE))","v":""},"",{"$f":"VLOOKUP($W88,記録入力1!$B$4:$I$287,8,FALSE)","v":{"$error":"#N/A"}},{"$f":"IF(G88=\"\",\"\",VLOOKUP(VALUE(RIGHT(G88,6)),学校番号!$A$2:$B$51,2))","v":""}]
[87,{"$f":"IF(ISERROR(VLOOKUP($A89,データ作成貼付２!$A$2:$M$280,データ完成!B$1,FALSE))=TRUE,\"\",VLOOKUP($A89,データ作成貼付２!$A$2:$M$280,データ完成!B$1,FALSE))","v":""},{"$f":"IF(ISERROR(VLOOKUP($A89,データ作成貼付２!$A$2:$M$280,データ完成!C$1,FALSE))=TRUE,\"\",VLOOKUP($A89,データ作成貼付２!$A$2:$M$280,データ完成!C$1,FALSE))","v":""},{"$f":"IF(ISERROR(VLOOKUP($A89,データ作成貼付２!$A$2:$M$280,データ完成!D$1,FALSE))=TRUE,\"\",VLOOKUP($A89,データ作成貼付２!$A$2:$M$280,データ完成!D$1,FALSE))","v":""},{"$f":"IF(ISERROR(VLOOKUP($A89,データ作成貼付２!$A$2:$M$280,データ完成!E$1,FALSE))=TRUE,\"\",VLOOKUP($A89,データ作成貼付２!$A$2:$M$280,データ完成!E$1,FALSE))","v":""},{"$f":"IF(ISERROR(VLOOKUP($A89,データ作成貼付２!$A$2:$M$280,データ完成!F$1,FALSE))=TRUE,\"\",VLOOKUP($A89,データ作成貼付２!$A$2:$M$280,データ完成!F$1,FALSE))","v":""},{"$f":"IF(ISERROR(VLOOKUP($A89,データ作成貼付２!$A$2:$M$280,データ完成!G$1,FALSE))=TRUE,\"\",VLOOKUP($A89,データ作成貼付２!$A$2:$M$280,データ完成!G$1,FALSE))","v":""},{"$f":"IF(ISERROR(VLOOKUP($A89,データ作成貼付２!$A$2:$M$280,データ完成!H$1,FALSE))=TRUE,\"\",VLOOKUP($A89,データ作成貼付２!$A$2:$M$280,データ完成!H$1,FALSE))","v":""},{"$f":"IF(ISERROR(VLOOKUP($A89*10+1,データ作成貼付２!$B$2:$M$280,データ完成!I$1,FALSE))=TRUE,\"\",VLOOKUP($A89*10+1,データ作成貼付２!$B$2:$M$280,データ完成!I$1,FALSE))","v":""},{"$f":"IF(ISERROR(VLOOKUP($A89*10+2,データ作成貼付２!$B$2:$M$280,データ完成!J$1,FALSE))=TRUE,\"\",VLOOKUP($A89*10+2,データ作成貼付２!$B$2:$M$280,データ完成!J$1,FALSE))","v":""},{"$f":"IF(ISERROR(VLOOKUP($A89*10+3,データ作成貼付２!$B$2:$M$280,データ完成!K$1,FALSE))=TRUE,\"\",VLOOKUP($A89*10+3,データ作成貼付２!$B$2:$M$280,データ完成!K$1,FALSE))","v":""},{"$f":"IF(ISERROR(VLOOKUP($A89*10+4,データ作成貼付２!$B$2:$M$280,データ完成!L$1,FALSE))=TRUE,\"\",\"○\")","v":""},{"$f":"IF(L89=\"\",\"\",VLOOKUP($H89,記録入力1!$E$161:$O$190,11,FALSE))","v":""},{"$f":"IF(ISERROR(VLOOKUP($A89*10+5,データ作成貼付２!$B$2:$M$280,データ完成!N$1,FALSE))=TRUE,\"\",\"○\")","v":""},{"$f":"IF(N89=\"\",\"\",VLOOKUP($H89,記録入力1!$E$191:$O$290,11,FALSE))","v":""},{"$f":"IF(I89=\"\",\"\",VLOOKUP(LEFT(I89,5),初期設定1!$E$18:$F$59,2,FALSE))","v":""},"",{"$f":"VLOOKUP($Q89,記録入力1!$B$4:$I$287,8,FALSE)","v":{"$error":"#N/A"}},{"$f":"IF(J89=\"\",\"\",VLOOKUP(LEFT(J89,5),初期設定1!$E$18:$F$59,2,FALSE))","v":""},"",{"$f":"VLOOKUP($T89,記録入力1!$B$4:$I$287,8,FALSE)","v":{"$error":"#N/A"}},{"$f":"IF(K89=\"\",\"\",VLOOKUP(LEFT(K89,5),初期設定1!$E$18:$F$59,2,FALSE))","v":""},"",{"$f":"VLOOKUP($W89,記録入力1!$B$4:$I$287,8,FALSE)","v":{"$error":"#N/A"}},{"$f":"IF(G89=\"\",\"\",VLOOKUP(VALUE(RIGHT(G89,6)),学校番号!$A$2:$B$51,2))","v":""}]
[88,{"$f":"IF(ISERROR(VLOOKUP($A90,データ作成貼付２!$A$2:$M$280,データ完成!B$1,FALSE))=TRUE,\"\",VLOOKUP($A90,データ作成貼付２!$A$2:$M$280,データ完成!B$1,FALSE))","v":""},{"$f":"IF(ISERROR(VLOOKUP($A90,データ作成貼付２!$A$2:$M$280,データ完成!C$1,FALSE))=TRUE,\"\",VLOOKUP($A90,データ作成貼付２!$A$2:$M$280,データ完成!C$1,FALSE))","v":""},{"$f":"IF(ISERROR(VLOOKUP($A90,データ作成貼付２!$A$2:$M$280,データ完成!D$1,FALSE))=TRUE,\"\",VLOOKUP($A90,データ作成貼付２!$A$2:$M$280,データ完成!D$1,FALSE))","v":""},{"$f":"IF(ISERROR(VLOOKUP($A90,データ作成貼付２!$A$2:$M$280,データ完成!E$1,FALSE))=TRUE,\"\",VLOOKUP($A90,データ作成貼付２!$A$2:$M$280,データ完成!E$1,FALSE))","v":""},{"$f":"IF(ISERROR(VLOOKUP($A90,データ作成貼付２!$A$2:$M$280,データ完成!F$1,FALSE))=TRUE,\"\",VLOOKUP($A90,データ作成貼付２!$A$2:$M$280,データ完成!F$1,FALSE))","v":""},{"$f":"IF(ISERROR(VLOOKUP($A90,データ作成貼付２!$A$2:$M$280,データ完成!G$1,FALSE))=TRUE,\"\",VLOOKUP($A90,データ作成貼付２!$A$2:$M$280,データ完成!G$1,FALSE))","v":""},{"$f":"IF(ISERROR(VLOOKUP($A90,データ作成貼付２!$A$2:$M$280,データ完成!H$1,FALSE))=TRUE,\"\",VLOOKUP($A90,データ作成貼付２!$A$2:$M$280,データ完成!H$1,FALSE))","v":""},{"$f":"IF(ISERROR(VLOOKUP($A90*10+1,データ作成貼付２!$B$2:$M$280,データ完成!I$1,FALSE))=TRUE,\"\",VLOOKUP($A90*10+1,データ作成貼付２!$B$2:$M$280,データ完成!I$1,FALSE))","v":""},{"$f":"IF(ISERROR(VLOOKUP($A90*10+2,データ作成貼付２!$B$2:$M$280,データ完成!J$1,FALSE))=TRUE,\"\",VLOOKUP($A90*10+2,データ作成貼付２!$B$2:$M$280,データ完成!J$1,FALSE))","v":""},{"$f":"IF(ISERROR(VLOOKUP($A90*10+3,データ作成貼付２!$B$2:$M$280,データ完成!K$1,FALSE))=TRUE,\"\",VLOOKUP($A90*10+3,データ作成貼付２!$B$2:$M$280,データ完成!K$1,FALSE))","v":""},{"$f":"IF(ISERROR(VLOOKUP($A90*10+4,データ作成貼付２!$B$2:$M$280,データ完成!L$1,FALSE))=TRUE,\"\",\"○\")","v":""},{"$f":"IF(L90=\"\",\"\",VLOOKUP($H90,記録入力1!$E$161:$O$190,11,FALSE))","v":""},{"$f":"IF(ISERROR(VLOOKUP($A90*10+5,データ作成貼付２!$B$2:$M$280,データ完成!N$1,FALSE))=TRUE,\"\",\"○\")","v":""},{"$f":"IF(N90=\"\",\"\",VLOOKUP($H90,記録入力1!$E$191:$O$290,11,FALSE))","v":""},{"$f":"IF(I90=\"\",\"\",VLOOKUP(LEFT(I90,5),初期設定1!$E$18:$F$59,2,FALSE))","v":""},"",{"$f":"VLOOKUP($Q90,記録入力1!$B$4:$I$287,8,FALSE)","v":{"$error":"#N/A"}},{"$f":"IF(J90=\"\",\"\",VLOOKUP(LEFT(J90,5),初期設定1!$E$18:$F$59,2,FALSE))","v":""},"",{"$f":"VLOOKUP($T90,記録入力1!$B$4:$I$287,8,FALSE)","v":{"$error":"#N/A"}},{"$f":"IF(K90=\"\",\"\",VLOOKUP(LEFT(K90,5),初期設定1!$E$18:$F$59,2,FALSE))","v":""},"",{"$f":"VLOOKUP($W90,記録入力1!$B$4:$I$287,8,FALSE)","v":{"$error":"#N/A"}},{"$f":"IF(G90=\"\",\"\",VLOOKUP(VALUE(RIGHT(G90,6)),学校番号!$A$2:$B$51,2))","v":""}]
[89,{"$f":"IF(ISERROR(VLOOKUP($A91,データ作成貼付２!$A$2:$M$280,データ完成!B$1,FALSE))=TRUE,\"\",VLOOKUP($A91,データ作成貼付２!$A$2:$M$280,データ完成!B$1,FALSE))","v":""},{"$f":"IF(ISERROR(VLOOKUP($A91,データ作成貼付２!$A$2:$M$280,データ完成!C$1,FALSE))=TRUE,\"\",VLOOKUP($A91,データ作成貼付２!$A$2:$M$280,データ完成!C$1,FALSE))","v":""},{"$f":"IF(ISERROR(VLOOKUP($A91,データ作成貼付２!$A$2:$M$280,データ完成!D$1,FALSE))=TRUE,\"\",VLOOKUP($A91,データ作成貼付２!$A$2:$M$280,データ完成!D$1,FALSE))","v":""},{"$f":"IF(ISERROR(VLOOKUP($A91,データ作成貼付２!$A$2:$M$280,データ完成!E$1,FALSE))=TRUE,\"\",VLOOKUP($A91,データ作成貼付２!$A$2:$M$280,データ完成!E$1,FALSE))","v":""},{"$f":"IF(ISERROR(VLOOKUP($A91,データ作成貼付２!$A$2:$M$280,データ完成!F$1,FALSE))=TRUE,\"\",VLOOKUP($A91,データ作成貼付２!$A$2:$M$280,データ完成!F$1,FALSE))","v":""},{"$f":"IF(ISERROR(VLOOKUP($A91,データ作成貼付２!$A$2:$M$280,データ完成!G$1,FALSE))=TRUE,\"\",VLOOKUP($A91,データ作成貼付２!$A$2:$M$280,データ完成!G$1,FALSE))","v":""},{"$f":"IF(ISERROR(VLOOKUP($A91,データ作成貼付２!$A$2:$M$280,データ完成!H$1,FALSE))=TRUE,\"\",VLOOKUP($A91,データ作成貼付２!$A$2:$M$280,データ完成!H$1,FALSE))","v":""},{"$f":"IF(ISERROR(VLOOKUP($A91*10+1,データ作成貼付２!$B$2:$M$280,データ完成!I$1,FALSE))=TRUE,\"\",VLOOKUP($A91*10+1,データ作成貼付２!$B$2:$M$280,データ完成!I$1,FALSE))","v":""},{"$f":"IF(ISERROR(VLOOKUP($A91*10+2,データ作成貼付２!$B$2:$M$280,データ完成!J$1,FALSE))=TRUE,\"\",VLOOKUP($A91*10+2,データ作成貼付２!$B$2:$M$280,データ完成!J$1,FALSE))","v":""},{"$f":"IF(ISERROR(VLOOKUP($A91*10+3,データ作成貼付２!$B$2:$M$280,データ完成!K$1,FALSE))=TRUE,\"\",VLOOKUP($A91*10+3,データ作成貼付２!$B$2:$M$280,データ完成!K$1,FALSE))","v":""},{"$f":"IF(ISERROR(VLOOKUP($A91*10+4,データ作成貼付２!$B$2:$M$280,データ完成!L$1,FALSE))=TRUE,\"\",\"○\")","v":""},{"$f":"IF(L91=\"\",\"\",VLOOKUP($H91,記録入力1!$E$161:$O$190,11,FALSE))","v":""},{"$f":"IF(ISERROR(VLOOKUP($A91*10+5,データ作成貼付２!$B$2:$M$280,データ完成!N$1,FALSE))=TRUE,\"\",\"○\")","v":""},{"$f":"IF(N91=\"\",\"\",VLOOKUP($H91,記録入力1!$E$191:$O$290,11,FALSE))","v":""},{"$f":"IF(I91=\"\",\"\",VLOOKUP(LEFT(I91,5),初期設定1!$E$18:$F$59,2,FALSE))","v":""},"",{"$f":"VLOOKUP($Q91,記録入力1!$B$4:$I$287,8,FALSE)","v":{"$error":"#N/A"}},{"$f":"IF(J91=\"\",\"\",VLOOKUP(LEFT(J91,5),初期設定1!$E$18:$F$59,2,FALSE))","v":""},"",{"$f":"VLOOKUP($T91,記録入力1!$B$4:$I$287,8,FALSE)","v":{"$error":"#N/A"}},{"$f":"IF(K91=\"\",\"\",VLOOKUP(LEFT(K91,5),初期設定1!$E$18:$F$59,2,FALSE))","v":""},"",{"$f":"VLOOKUP($W91,記録入力1!$B$4:$I$287,8,FALSE)","v":{"$error":"#N/A"}},{"$f":"IF(G91=\"\",\"\",VLOOKUP(VALUE(RIGHT(G91,6)),学校番号!$A$2:$B$51,2))","v":""}]
[90,{"$f":"IF(ISERROR(VLOOKUP($A92,データ作成貼付２!$A$2:$M$280,データ完成!B$1,FALSE))=TRUE,\"\",VLOOKUP($A92,データ作成貼付２!$A$2:$M$280,データ完成!B$1,FALSE))","v":""},{"$f":"IF(ISERROR(VLOOKUP($A92,データ作成貼付２!$A$2:$M$280,データ完成!C$1,FALSE))=TRUE,\"\",VLOOKUP($A92,データ作成貼付２!$A$2:$M$280,データ完成!C$1,FALSE))","v":""},{"$f":"IF(ISERROR(VLOOKUP($A92,データ作成貼付２!$A$2:$M$280,データ完成!D$1,FALSE))=TRUE,\"\",VLOOKUP($A92,データ作成貼付２!$A$2:$M$280,データ完成!D$1,FALSE))","v":""},{"$f":"IF(ISERROR(VLOOKUP($A92,データ作成貼付２!$A$2:$M$280,データ完成!E$1,FALSE))=TRUE,\"\",VLOOKUP($A92,データ作成貼付２!$A$2:$M$280,データ完成!E$1,FALSE))","v":""},{"$f":"IF(ISERROR(VLOOKUP($A92,データ作成貼付２!$A$2:$M$280,データ完成!F$1,FALSE))=TRUE,\"\",VLOOKUP($A92,データ作成貼付２!$A$2:$M$280,データ完成!F$1,FALSE))","v":""},{"$f":"IF(ISERROR(VLOOKUP($A92,データ作成貼付２!$A$2:$M$280,データ完成!G$1,FALSE))=TRUE,\"\",VLOOKUP($A92,データ作成貼付２!$A$2:$M$280,データ完成!G$1,FALSE))","v":""},{"$f":"IF(ISERROR(VLOOKUP($A92,データ作成貼付２!$A$2:$M$280,データ完成!H$1,FALSE))=TRUE,\"\",VLOOKUP($A92,データ作成貼付２!$A$2:$M$280,データ完成!H$1,FALSE))","v":""},{"$f":"IF(ISERROR(VLOOKUP($A92*10+1,データ作成貼付２!$B$2:$M$280,データ完成!I$1,FALSE))=TRUE,\"\",VLOOKUP($A92*10+1,データ作成貼付２!$B$2:$M$280,データ完成!I$1,FALSE))","v":""},{"$f":"IF(ISERROR(VLOOKUP($A92*10+2,データ作成貼付２!$B$2:$M$280,データ完成!J$1,FALSE))=TRUE,\"\",VLOOKUP($A92*10+2,データ作成貼付２!$B$2:$M$280,データ完成!J$1,FALSE))","v":""},{"$f":"IF(ISERROR(VLOOKUP($A92*10+3,データ作成貼付２!$B$2:$M$280,データ完成!K$1,FALSE))=TRUE,\"\",VLOOKUP($A92*10+3,データ作成貼付２!$B$2:$M$280,データ完成!K$1,FALSE))","v":""},{"$f":"IF(ISERROR(VLOOKUP($A92*10+4,データ作成貼付２!$B$2:$M$280,データ完成!L$1,FALSE))=TRUE,\"\",\"○\")","v":""},{"$f":"IF(L92=\"\",\"\",VLOOKUP($H92,記録入力1!$E$161:$O$190,11,FALSE))","v":""},{"$f":"IF(ISERROR(VLOOKUP($A92*10+5,データ作成貼付２!$B$2:$M$280,データ完成!N$1,FALSE))=TRUE,\"\",\"○\")","v":""},{"$f":"IF(N92=\"\",\"\",VLOOKUP($H92,記録入力1!$E$191:$O$290,11,FALSE))","v":""},{"$f":"IF(I92=\"\",\"\",VLOOKUP(LEFT(I92,5),初期設定1!$E$18:$F$59,2,FALSE))","v":""},"",{"$f":"VLOOKUP($Q92,記録入力1!$B$4:$I$287,8,FALSE)","v":{"$error":"#N/A"}},{"$f":"IF(J92=\"\",\"\",VLOOKUP(LEFT(J92,5),初期設定1!$E$18:$F$59,2,FALSE))","v":""},"",{"$f":"VLOOKUP($T92,記録入力1!$B$4:$I$287,8,FALSE)","v":{"$error":"#N/A"}},{"$f":"IF(K92=\"\",\"\",VLOOKUP(LEFT(K92,5),初期設定1!$E$18:$F$59,2,FALSE))","v":""},"",{"$f":"VLOOKUP($W92,記録入力1!$B$4:$I$287,8,FALSE)","v":{"$error":"#N/A"}},{"$f":"IF(G92=\"\",\"\",VLOOKUP(VALUE(RIGHT(G92,6)),学校番号!$A$2:$B$51,2))","v":""}]
[91,{"$f":"IF(ISERROR(VLOOKUP($A93,データ作成貼付２!$A$2:$M$280,データ完成!B$1,FALSE))=TRUE,\"\",VLOOKUP($A93,データ作成貼付２!$A$2:$M$280,データ完成!B$1,FALSE))","v":""},{"$f":"IF(ISERROR(VLOOKUP($A93,データ作成貼付２!$A$2:$M$280,データ完成!C$1,FALSE))=TRUE,\"\",VLOOKUP($A93,データ作成貼付２!$A$2:$M$280,データ完成!C$1,FALSE))","v":""},{"$f":"IF(ISERROR(VLOOKUP($A93,データ作成貼付２!$A$2:$M$280,データ完成!D$1,FALSE))=TRUE,\"\",VLOOKUP($A93,データ作成貼付２!$A$2:$M$280,データ完成!D$1,FALSE))","v":""},{"$f":"IF(ISERROR(VLOOKUP($A93,データ作成貼付２!$A$2:$M$280,データ完成!E$1,FALSE))=TRUE,\"\",VLOOKUP($A93,データ作成貼付２!$A$2:$M$280,データ完成!E$1,FALSE))","v":""},{"$f":"IF(ISERROR(VLOOKUP($A93,データ作成貼付２!$A$2:$M$280,データ完成!F$1,FALSE))=TRUE,\"\",VLOOKUP($A93,データ作成貼付２!$A$2:$M$280,データ完成!F$1,FALSE))","v":""},{"$f":"IF(ISERROR(VLOOKUP($A93,データ作成貼付２!$A$2:$M$280,データ完成!G$1,FALSE))=TRUE,\"\",VLOOKUP($A93,データ作成貼付２!$A$2:$M$280,データ完成!G$1,FALSE))","v":""},{"$f":"IF(ISERROR(VLOOKUP($A93,データ作成貼付２!$A$2:$M$280,データ完成!H$1,FALSE))=TRUE,\"\",VLOOKUP($A93,データ作成貼付２!$A$2:$M$280,データ完成!H$1,FALSE))","v":""},{"$f":"IF(ISERROR(VLOOKUP($A93*10+1,データ作成貼付２!$B$2:$M$280,データ完成!I$1,FALSE))=TRUE,\"\",VLOOKUP($A93*10+1,データ作成貼付２!$B$2:$M$280,データ完成!I$1,FALSE))","v":""},{"$f":"IF(ISERROR(VLOOKUP($A93*10+2,データ作成貼付２!$B$2:$M$280,データ完成!J$1,FALSE))=TRUE,\"\",VLOOKUP($A93*10+2,データ作成貼付２!$B$2:$M$280,データ完成!J$1,FALSE))","v":""},{"$f":"IF(ISERROR(VLOOKUP($A93*10+3,データ作成貼付２!$B$2:$M$280,データ完成!K$1,FALSE))=TRUE,\"\",VLOOKUP($A93*10+3,データ作成貼付２!$B$2:$M$280,データ完成!K$1,FALSE))","v":""},{"$f":"IF(ISERROR(VLOOKUP($A93*10+4,データ作成貼付２!$B$2:$M$280,データ完成!L$1,FALSE))=TRUE,\"\",\"○\")","v":""},{"$f":"IF(L93=\"\",\"\",VLOOKUP($H93,記録入力1!$E$161:$O$190,11,FALSE))","v":""},{"$f":"IF(ISERROR(VLOOKUP($A93*10+5,データ作成貼付２!$B$2:$M$280,データ完成!N$1,FALSE))=TRUE,\"\",\"○\")","v":""},{"$f":"IF(N93=\"\",\"\",VLOOKUP($H93,記録入力1!$E$191:$O$290,11,FALSE))","v":""},{"$f":"IF(I93=\"\",\"\",VLOOKUP(LEFT(I93,5),初期設定1!$E$18:$F$59,2,FALSE))","v":""},"",{"$f":"VLOOKUP($Q93,記録入力1!$B$4:$I$287,8,FALSE)","v":{"$error":"#N/A"}},{"$f":"IF(J93=\"\",\"\",VLOOKUP(LEFT(J93,5),初期設定1!$E$18:$F$59,2,FALSE))","v":""},"",{"$f":"VLOOKUP($T93,記録入力1!$B$4:$I$287,8,FALSE)","v":{"$error":"#N/A"}},{"$f":"IF(K93=\"\",\"\",VLOOKUP(LEFT(K93,5),初期設定1!$E$18:$F$59,2,FALSE))","v":""},"",{"$f":"VLOOKUP($W93,記録入力1!$B$4:$I$287,8,FALSE)","v":{"$error":"#N/A"}},{"$f":"IF(G93=\"\",\"\",VLOOKUP(VALUE(RIGHT(G93,6)),学校番号!$A$2:$B$51,2))","v":""}]
[92,{"$f":"IF(ISERROR(VLOOKUP($A94,データ作成貼付２!$A$2:$M$280,データ完成!B$1,FALSE))=TRUE,\"\",VLOOKUP($A94,データ作成貼付２!$A$2:$M$280,データ完成!B$1,FALSE))","v":""},{"$f":"IF(ISERROR(VLOOKUP($A94,データ作成貼付２!$A$2:$M$280,データ完成!C$1,FALSE))=TRUE,\"\",VLOOKUP($A94,データ作成貼付２!$A$2:$M$280,データ完成!C$1,FALSE))","v":""},{"$f":"IF(ISERROR(VLOOKUP($A94,データ作成貼付２!$A$2:$M$280,データ完成!D$1,FALSE))=TRUE,\"\",VLOOKUP($A94,データ作成貼付２!$A$2:$M$280,データ完成!D$1,FALSE))","v":""},{"$f":"IF(ISERROR(VLOOKUP($A94,データ作成貼付２!$A$2:$M$280,データ完成!E$1,FALSE))=TRUE,\"\",VLOOKUP($A94,データ作成貼付２!$A$2:$M$280,データ完成!E$1,FALSE))","v":""},{"$f":"IF(ISERROR(VLOOKUP($A94,データ作成貼付２!$A$2:$M$280,データ完成!F$1,FALSE))=TRUE,\"\",VLOOKUP($A94,データ作成貼付２!$A$2:$M$280,データ完成!F$1,FALSE))","v":""},{"$f":"IF(ISERROR(VLOOKUP($A94,データ作成貼付２!$A$2:$M$280,データ完成!G$1,FALSE))=TRUE,\"\",VLOOKUP($A94,データ作成貼付２!$A$2:$M$280,データ完成!G$1,FALSE))","v":""},{"$f":"IF(ISERROR(VLOOKUP($A94,データ作成貼付２!$A$2:$M$280,データ完成!H$1,FALSE))=TRUE,\"\",VLOOKUP($A94,データ作成貼付２!$A$2:$M$280,データ完成!H$1,FALSE))","v":""},{"$f":"IF(ISERROR(VLOOKUP($A94*10+1,データ作成貼付２!$B$2:$M$280,データ完成!I$1,FALSE))=TRUE,\"\",VLOOKUP($A94*10+1,データ作成貼付２!$B$2:$M$280,データ完成!I$1,FALSE))","v":""},{"$f":"IF(ISERROR(VLOOKUP($A94*10+2,データ作成貼付２!$B$2:$M$280,データ完成!J$1,FALSE))=TRUE,\"\",VLOOKUP($A94*10+2,データ作成貼付２!$B$2:$M$280,データ完成!J$1,FALSE))","v":""},{"$f":"IF(ISERROR(VLOOKUP($A94*10+3,データ作成貼付２!$B$2:$M$280,データ完成!K$1,FALSE))=TRUE,\"\",VLOOKUP($A94*10+3,データ作成貼付２!$B$2:$M$280,データ完成!K$1,FALSE))","v":""},{"$f":"IF(ISERROR(VLOOKUP($A94*10+4,データ作成貼付２!$B$2:$M$280,データ完成!L$1,FALSE))=TRUE,\"\",\"○\")","v":""},{"$f":"IF(L94=\"\",\"\",VLOOKUP($H94,記録入力1!$E$161:$O$190,11,FALSE))","v":""},{"$f":"IF(ISERROR(VLOOKUP($A94*10+5,データ作成貼付２!$B$2:$M$280,データ完成!N$1,FALSE))=TRUE,\"\",\"○\")","v":""},{"$f":"IF(N94=\"\",\"\",VLOOKUP($H94,記録入力1!$E$191:$O$290,11,FALSE))","v":""},{"$f":"IF(I94=\"\",\"\",VLOOKUP(LEFT(I94,5),初期設定1!$E$18:$F$59,2,FALSE))","v":""},"",{"$f":"VLOOKUP($Q94,記録入力1!$B$4:$I$287,8,FALSE)","v":{"$error":"#N/A"}},{"$f":"IF(J94=\"\",\"\",VLOOKUP(LEFT(J94,5),初期設定1!$E$18:$F$59,2,FALSE))","v":""},"",{"$f":"VLOOKUP($T94,記録入力1!$B$4:$I$287,8,FALSE)","v":{"$error":"#N/A"}},{"$f":"IF(K94=\"\",\"\",VLOOKUP(LEFT(K94,5),初期設定1!$E$18:$F$59,2,FALSE))","v":""},"",{"$f":"VLOOKUP($W94,記録入力1!$B$4:$I$287,8,FALSE)","v":{"$error":"#N/A"}},{"$f":"IF(G94=\"\",\"\",VLOOKUP(VALUE(RIGHT(G94,6)),学校番号!$A$2:$B$51,2))","v":""}]
[93,{"$f":"IF(ISERROR(VLOOKUP($A95,データ作成貼付２!$A$2:$M$280,データ完成!B$1,FALSE))=TRUE,\"\",VLOOKUP($A95,データ作成貼付２!$A$2:$M$280,データ完成!B$1,FALSE))","v":""},{"$f":"IF(ISERROR(VLOOKUP($A95,データ作成貼付２!$A$2:$M$280,データ完成!C$1,FALSE))=TRUE,\"\",VLOOKUP($A95,データ作成貼付２!$A$2:$M$280,データ完成!C$1,FALSE))","v":""},{"$f":"IF(ISERROR(VLOOKUP($A95,データ作成貼付２!$A$2:$M$280,データ完成!D$1,FALSE))=TRUE,\"\",VLOOKUP($A95,データ作成貼付２!$A$2:$M$280,データ完成!D$1,FALSE))","v":""},{"$f":"IF(ISERROR(VLOOKUP($A95,データ作成貼付２!$A$2:$M$280,データ完成!E$1,FALSE))=TRUE,\"\",VLOOKUP($A95,データ作成貼付２!$A$2:$M$280,データ完成!E$1,FALSE))","v":""},{"$f":"IF(ISERROR(VLOOKUP($A95,データ作成貼付２!$A$2:$M$280,データ完成!F$1,FALSE))=TRUE,\"\",VLOOKUP($A95,データ作成貼付２!$A$2:$M$280,データ完成!F$1,FALSE))","v":""},{"$f":"IF(ISERROR(VLOOKUP($A95,データ作成貼付２!$A$2:$M$280,データ完成!G$1,FALSE))=TRUE,\"\",VLOOKUP($A95,データ作成貼付２!$A$2:$M$280,データ完成!G$1,FALSE))","v":""},{"$f":"IF(ISERROR(VLOOKUP($A95,データ作成貼付２!$A$2:$M$280,データ完成!H$1,FALSE))=TRUE,\"\",VLOOKUP($A95,データ作成貼付２!$A$2:$M$280,データ完成!H$1,FALSE))","v":""},{"$f":"IF(ISERROR(VLOOKUP($A95*10+1,データ作成貼付２!$B$2:$M$280,データ完成!I$1,FALSE))=TRUE,\"\",VLOOKUP($A95*10+1,データ作成貼付２!$B$2:$M$280,データ完成!I$1,FALSE))","v":""},{"$f":"IF(ISERROR(VLOOKUP($A95*10+2,データ作成貼付２!$B$2:$M$280,データ完成!J$1,FALSE))=TRUE,\"\",VLOOKUP($A95*10+2,データ作成貼付２!$B$2:$M$280,データ完成!J$1,FALSE))","v":""},{"$f":"IF(ISERROR(VLOOKUP($A95*10+3,データ作成貼付２!$B$2:$M$280,データ完成!K$1,FALSE))=TRUE,\"\",VLOOKUP($A95*10+3,データ作成貼付２!$B$2:$M$280,データ完成!K$1,FALSE))","v":""},{"$f":"IF(ISERROR(VLOOKUP($A95*10+4,データ作成貼付２!$B$2:$M$280,データ完成!L$1,FALSE))=TRUE,\"\",\"○\")","v":""},{"$f":"IF(L95=\"\",\"\",VLOOKUP($H95,記録入力1!$E$161:$O$190,11,FALSE))","v":""},{"$f":"IF(ISERROR(VLOOKUP($A95*10+5,データ作成貼付２!$B$2:$M$280,データ完成!N$1,FALSE))=TRUE,\"\",\"○\")","v":""},{"$f":"IF(N95=\"\",\"\",VLOOKUP($H95,記録入力1!$E$191:$O$290,11,FALSE))","v":""},{"$f":"IF(I95=\"\",\"\",VLOOKUP(LEFT(I95,5),初期設定1!$E$18:$F$59,2,FALSE))","v":""},"",{"$f":"VLOOKUP($Q95,記録入力1!$B$4:$I$287,8,FALSE)","v":{"$error":"#N/A"}},{"$f":"IF(J95=\"\",\"\",VLOOKUP(LEFT(J95,5),初期設定1!$E$18:$F$59,2,FALSE))","v":""},"",{"$f":"VLOOKUP($T95,記録入力1!$B$4:$I$287,8,FALSE)","v":{"$error":"#N/A"}},{"$f":"IF(K95=\"\",\"\",VLOOKUP(LEFT(K95,5),初期設定1!$E$18:$F$59,2,FALSE))","v":""},"",{"$f":"VLOOKUP($W95,記録入力1!$B$4:$I$287,8,FALSE)","v":{"$error":"#N/A"}},{"$f":"IF(G95=\"\",\"\",VLOOKUP(VALUE(RIGHT(G95,6)),学校番号!$A$2:$B$51,2))","v":""}]
[94,{"$f":"IF(ISERROR(VLOOKUP($A96,データ作成貼付２!$A$2:$M$280,データ完成!B$1,FALSE))=TRUE,\"\",VLOOKUP($A96,データ作成貼付２!$A$2:$M$280,データ完成!B$1,FALSE))","v":""},{"$f":"IF(ISERROR(VLOOKUP($A96,データ作成貼付２!$A$2:$M$280,データ完成!C$1,FALSE))=TRUE,\"\",VLOOKUP($A96,データ作成貼付２!$A$2:$M$280,データ完成!C$1,FALSE))","v":""},{"$f":"IF(ISERROR(VLOOKUP($A96,データ作成貼付２!$A$2:$M$280,データ完成!D$1,FALSE))=TRUE,\"\",VLOOKUP($A96,データ作成貼付２!$A$2:$M$280,データ完成!D$1,FALSE))","v":""},{"$f":"IF(ISERROR(VLOOKUP($A96,データ作成貼付２!$A$2:$M$280,データ完成!E$1,FALSE))=TRUE,\"\",VLOOKUP($A96,データ作成貼付２!$A$2:$M$280,データ完成!E$1,FALSE))","v":""},{"$f":"IF(ISERROR(VLOOKUP($A96,データ作成貼付２!$A$2:$M$280,データ完成!F$1,FALSE))=TRUE,\"\",VLOOKUP($A96,データ作成貼付２!$A$2:$M$280,データ完成!F$1,FALSE))","v":""},{"$f":"IF(ISERROR(VLOOKUP($A96,データ作成貼付２!$A$2:$M$280,データ完成!G$1,FALSE))=TRUE,\"\",VLOOKUP($A96,データ作成貼付２!$A$2:$M$280,データ完成!G$1,FALSE))","v":""},{"$f":"IF(ISERROR(VLOOKUP($A96,データ作成貼付２!$A$2:$M$280,データ完成!H$1,FALSE))=TRUE,\"\",VLOOKUP($A96,データ作成貼付２!$A$2:$M$280,データ完成!H$1,FALSE))","v":""},{"$f":"IF(ISERROR(VLOOKUP($A96*10+1,データ作成貼付２!$B$2:$M$280,データ完成!I$1,FALSE))=TRUE,\"\",VLOOKUP($A96*10+1,データ作成貼付２!$B$2:$M$280,データ完成!I$1,FALSE))","v":""},{"$f":"IF(ISERROR(VLOOKUP($A96*10+2,データ作成貼付２!$B$2:$M$280,データ完成!J$1,FALSE))=TRUE,\"\",VLOOKUP($A96*10+2,データ作成貼付２!$B$2:$M$280,データ完成!J$1,FALSE))","v":""},{"$f":"IF(ISERROR(VLOOKUP($A96*10+3,データ作成貼付２!$B$2:$M$280,データ完成!K$1,FALSE))=TRUE,\"\",VLOOKUP($A96*10+3,データ作成貼付２!$B$2:$M$280,データ完成!K$1,FALSE))","v":""},{"$f":"IF(ISERROR(VLOOKUP($A96*10+4,データ作成貼付２!$B$2:$M$280,データ完成!L$1,FALSE))=TRUE,\"\",\"○\")","v":""},{"$f":"IF(L96=\"\",\"\",VLOOKUP($H96,記録入力1!$E$161:$O$190,11,FALSE))","v":""},{"$f":"IF(ISERROR(VLOOKUP($A96*10+5,データ作成貼付２!$B$2:$M$280,データ完成!N$1,FALSE))=TRUE,\"\",\"○\")","v":""},{"$f":"IF(N96=\"\",\"\",VLOOKUP($H96,記録入力1!$E$191:$O$290,11,FALSE))","v":""},{"$f":"IF(I96=\"\",\"\",VLOOKUP(LEFT(I96,5),初期設定1!$E$18:$F$59,2,FALSE))","v":""},"",{"$f":"VLOOKUP($Q96,記録入力1!$B$4:$I$287,8,FALSE)","v":{"$error":"#N/A"}},{"$f":"IF(J96=\"\",\"\",VLOOKUP(LEFT(J96,5),初期設定1!$E$18:$F$59,2,FALSE))","v":""},"",{"$f":"VLOOKUP($T96,記録入力1!$B$4:$I$287,8,FALSE)","v":{"$error":"#N/A"}},{"$f":"IF(K96=\"\",\"\",VLOOKUP(LEFT(K96,5),初期設定1!$E$18:$F$59,2,FALSE))","v":""},"",{"$f":"VLOOKUP($W96,記録入力1!$B$4:$I$287,8,FALSE)","v":{"$error":"#N/A"}},{"$f":"IF(G96=\"\",\"\",VLOOKUP(VALUE(RIGHT(G96,6)),学校番号!$A$2:$B$51,2))","v":""}]
[95,{"$f":"IF(ISERROR(VLOOKUP($A97,データ作成貼付２!$A$2:$M$280,データ完成!B$1,FALSE))=TRUE,\"\",VLOOKUP($A97,データ作成貼付２!$A$2:$M$280,データ完成!B$1,FALSE))","v":""},{"$f":"IF(ISERROR(VLOOKUP($A97,データ作成貼付２!$A$2:$M$280,データ完成!C$1,FALSE))=TRUE,\"\",VLOOKUP($A97,データ作成貼付２!$A$2:$M$280,データ完成!C$1,FALSE))","v":""},{"$f":"IF(ISERROR(VLOOKUP($A97,データ作成貼付２!$A$2:$M$280,データ完成!D$1,FALSE))=TRUE,\"\",VLOOKUP($A97,データ作成貼付２!$A$2:$M$280,データ完成!D$1,FALSE))","v":""},{"$f":"IF(ISERROR(VLOOKUP($A97,データ作成貼付２!$A$2:$M$280,データ完成!E$1,FALSE))=TRUE,\"\",VLOOKUP($A97,データ作成貼付２!$A$2:$M$280,データ完成!E$1,FALSE))","v":""},{"$f":"IF(ISERROR(VLOOKUP($A97,データ作成貼付２!$A$2:$M$280,データ完成!F$1,FALSE))=TRUE,\"\",VLOOKUP($A97,データ作成貼付２!$A$2:$M$280,データ完成!F$1,FALSE))","v":""},{"$f":"IF(ISERROR(VLOOKUP($A97,データ作成貼付２!$A$2:$M$280,データ完成!G$1,FALSE))=TRUE,\"\",VLOOKUP($A97,データ作成貼付２!$A$2:$M$280,データ完成!G$1,FALSE))","v":""},{"$f":"IF(ISERROR(VLOOKUP($A97,データ作成貼付２!$A$2:$M$280,データ完成!H$1,FALSE))=TRUE,\"\",VLOOKUP($A97,データ作成貼付２!$A$2:$M$280,データ完成!H$1,FALSE))","v":""},{"$f":"IF(ISERROR(VLOOKUP($A97*10+1,データ作成貼付２!$B$2:$M$280,データ完成!I$1,FALSE))=TRUE,\"\",VLOOKUP($A97*10+1,データ作成貼付２!$B$2:$M$280,データ完成!I$1,FALSE))","v":""},{"$f":"IF(ISERROR(VLOOKUP($A97*10+2,データ作成貼付２!$B$2:$M$280,データ完成!J$1,FALSE))=TRUE,\"\",VLOOKUP($A97*10+2,データ作成貼付２!$B$2:$M$280,データ完成!J$1,FALSE))","v":""},{"$f":"IF(ISERROR(VLOOKUP($A97*10+3,データ作成貼付２!$B$2:$M$280,データ完成!K$1,FALSE))=TRUE,\"\",VLOOKUP($A97*10+3,データ作成貼付２!$B$2:$M$280,データ完成!K$1,FALSE))","v":""},{"$f":"IF(ISERROR(VLOOKUP($A97*10+4,データ作成貼付２!$B$2:$M$280,データ完成!L$1,FALSE))=TRUE,\"\",\"○\")","v":""},{"$f":"IF(L97=\"\",\"\",VLOOKUP($H97,記録入力1!$E$161:$O$190,11,FALSE))","v":""},{"$f":"IF(ISERROR(VLOOKUP($A97*10+5,データ作成貼付２!$B$2:$M$280,データ完成!N$1,FALSE))=TRUE,\"\",\"○\")","v":""},{"$f":"IF(N97=\"\",\"\",VLOOKUP($H97,記録入力1!$E$191:$O$290,11,FALSE))","v":""},{"$f":"IF(I97=\"\",\"\",VLOOKUP(LEFT(I97,5),初期設定1!$E$18:$F$59,2,FALSE))","v":""},"",{"$f":"VLOOKUP($Q97,記録入力1!$B$4:$I$287,8,FALSE)","v":{"$error":"#N/A"}},{"$f":"IF(J97=\"\",\"\",VLOOKUP(LEFT(J97,5),初期設定1!$E$18:$F$59,2,FALSE))","v":""},"",{"$f":"VLOOKUP($T97,記録入力1!$B$4:$I$287,8,FALSE)","v":{"$error":"#N/A"}},{"$f":"IF(K97=\"\",\"\",VLOOKUP(LEFT(K97,5),初期設定1!$E$18:$F$59,2,FALSE))","v":""},"",{"$f":"VLOOKUP($W97,記録入力1!$B$4:$I$287,8,FALSE)","v":{"$error":"#N/A"}},{"$f":"IF(G97=\"\",\"\",VLOOKUP(VALUE(RIGHT(G97,6)),学校番号!$A$2:$B$51,2))","v":""}]
[96,{"$f":"IF(ISERROR(VLOOKUP($A98,データ作成貼付２!$A$2:$M$280,データ完成!B$1,FALSE))=TRUE,\"\",VLOOKUP($A98,データ作成貼付２!$A$2:$M$280,データ完成!B$1,FALSE))","v":""},{"$f":"IF(ISERROR(VLOOKUP($A98,データ作成貼付２!$A$2:$M$280,データ完成!C$1,FALSE))=TRUE,\"\",VLOOKUP($A98,データ作成貼付２!$A$2:$M$280,データ完成!C$1,FALSE))","v":""},{"$f":"IF(ISERROR(VLOOKUP($A98,データ作成貼付２!$A$2:$M$280,データ完成!D$1,FALSE))=TRUE,\"\",VLOOKUP($A98,データ作成貼付２!$A$2:$M$280,データ完成!D$1,FALSE))","v":""},{"$f":"IF(ISERROR(VLOOKUP($A98,データ作成貼付２!$A$2:$M$280,データ完成!E$1,FALSE))=TRUE,\"\",VLOOKUP($A98,データ作成貼付２!$A$2:$M$280,データ完成!E$1,FALSE))","v":""},{"$f":"IF(ISERROR(VLOOKUP($A98,データ作成貼付２!$A$2:$M$280,データ完成!F$1,FALSE))=TRUE,\"\",VLOOKUP($A98,データ作成貼付２!$A$2:$M$280,データ完成!F$1,FALSE))","v":""},{"$f":"IF(ISERROR(VLOOKUP($A98,データ作成貼付２!$A$2:$M$280,データ完成!G$1,FALSE))=TRUE,\"\",VLOOKUP($A98,データ作成貼付２!$A$2:$M$280,データ完成!G$1,FALSE))","v":""},{"$f":"IF(ISERROR(VLOOKUP($A98,データ作成貼付２!$A$2:$M$280,データ完成!H$1,FALSE))=TRUE,\"\",VLOOKUP($A98,データ作成貼付２!$A$2:$M$280,データ完成!H$1,FALSE))","v":""},{"$f":"IF(ISERROR(VLOOKUP($A98*10+1,データ作成貼付２!$B$2:$M$280,データ完成!I$1,FALSE))=TRUE,\"\",VLOOKUP($A98*10+1,データ作成貼付２!$B$2:$M$280,データ完成!I$1,FALSE))","v":""},{"$f":"IF(ISERROR(VLOOKUP($A98*10+2,データ作成貼付２!$B$2:$M$280,データ完成!J$1,FALSE))=TRUE,\"\",VLOOKUP($A98*10+2,データ作成貼付２!$B$2:$M$280,データ完成!J$1,FALSE))","v":""},{"$f":"IF(ISERROR(VLOOKUP($A98*10+3,データ作成貼付２!$B$2:$M$280,データ完成!K$1,FALSE))=TRUE,\"\",VLOOKUP($A98*10+3,データ作成貼付２!$B$2:$M$280,データ完成!K$1,FALSE))","v":""},{"$f":"IF(ISERROR(VLOOKUP($A98*10+4,データ作成貼付２!$B$2:$M$280,データ完成!L$1,FALSE))=TRUE,\"\",\"○\")","v":""},{"$f":"IF(L98=\"\",\"\",VLOOKUP($H98,記録入力1!$E$161:$O$190,11,FALSE))","v":""},{"$f":"IF(ISERROR(VLOOKUP($A98*10+5,データ作成貼付２!$B$2:$M$280,データ完成!N$1,FALSE))=TRUE,\"\",\"○\")","v":""},{"$f":"IF(N98=\"\",\"\",VLOOKUP($H98,記録入力1!$E$191:$O$290,11,FALSE))","v":""},{"$f":"IF(I98=\"\",\"\",VLOOKUP(LEFT(I98,5),初期設定1!$E$18:$F$59,2,FALSE))","v":""},"",{"$f":"VLOOKUP($Q98,記録入力1!$B$4:$I$287,8,FALSE)","v":{"$error":"#N/A"}},{"$f":"IF(J98=\"\",\"\",VLOOKUP(LEFT(J98,5),初期設定1!$E$18:$F$59,2,FALSE))","v":""},"",{"$f":"VLOOKUP($T98,記録入力1!$B$4:$I$287,8,FALSE)","v":{"$error":"#N/A"}},{"$f":"IF(K98=\"\",\"\",VLOOKUP(LEFT(K98,5),初期設定1!$E$18:$F$59,2,FALSE))","v":""},"",{"$f":"VLOOKUP($W98,記録入力1!$B$4:$I$287,8,FALSE)","v":{"$error":"#N/A"}},{"$f":"IF(G98=\"\",\"\",VLOOKUP(VALUE(RIGHT(G98,6)),学校番号!$A$2:$B$51,2))","v":""}]
[97,{"$f":"IF(ISERROR(VLOOKUP($A99,データ作成貼付２!$A$2:$M$280,データ完成!B$1,FALSE))=TRUE,\"\",VLOOKUP($A99,データ作成貼付２!$A$2:$M$280,データ完成!B$1,FALSE))","v":""},{"$f":"IF(ISERROR(VLOOKUP($A99,データ作成貼付２!$A$2:$M$280,データ完成!C$1,FALSE))=TRUE,\"\",VLOOKUP($A99,データ作成貼付２!$A$2:$M$280,データ完成!C$1,FALSE))","v":""},{"$f":"IF(ISERROR(VLOOKUP($A99,データ作成貼付２!$A$2:$M$280,データ完成!D$1,FALSE))=TRUE,\"\",VLOOKUP($A99,データ作成貼付２!$A$2:$M$280,データ完成!D$1,FALSE))","v":""},{"$f":"IF(ISERROR(VLOOKUP($A99,データ作成貼付２!$A$2:$M$280,データ完成!E$1,FALSE))=TRUE,\"\",VLOOKUP($A99,データ作成貼付２!$A$2:$M$280,データ完成!E$1,FALSE))","v":""},{"$f":"IF(ISERROR(VLOOKUP($A99,データ作成貼付２!$A$2:$M$280,データ完成!F$1,FALSE))=TRUE,\"\",VLOOKUP($A99,データ作成貼付２!$A$2:$M$280,データ完成!F$1,FALSE))","v":""},{"$f":"IF(ISERROR(VLOOKUP($A99,データ作成貼付２!$A$2:$M$280,データ完成!G$1,FALSE))=TRUE,\"\",VLOOKUP($A99,データ作成貼付２!$A$2:$M$280,データ完成!G$1,FALSE))","v":""},{"$f":"IF(ISERROR(VLOOKUP($A99,データ作成貼付２!$A$2:$M$280,データ完成!H$1,FALSE))=TRUE,\"\",VLOOKUP($A99,データ作成貼付２!$A$2:$M$280,データ完成!H$1,FALSE))","v":""},{"$f":"IF(ISERROR(VLOOKUP($A99*10+1,データ作成貼付２!$B$2:$M$280,データ完成!I$1,FALSE))=TRUE,\"\",VLOOKUP($A99*10+1,データ作成貼付２!$B$2:$M$280,データ完成!I$1,FALSE))","v":""},{"$f":"IF(ISERROR(VLOOKUP($A99*10+2,データ作成貼付２!$B$2:$M$280,データ完成!J$1,FALSE))=TRUE,\"\",VLOOKUP($A99*10+2,データ作成貼付２!$B$2:$M$280,データ完成!J$1,FALSE))","v":""},{"$f":"IF(ISERROR(VLOOKUP($A99*10+3,データ作成貼付２!$B$2:$M$280,データ完成!K$1,FALSE))=TRUE,\"\",VLOOKUP($A99*10+3,データ作成貼付２!$B$2:$M$280,データ完成!K$1,FALSE))","v":""},{"$f":"IF(ISERROR(VLOOKUP($A99*10+4,データ作成貼付２!$B$2:$M$280,データ完成!L$1,FALSE))=TRUE,\"\",\"○\")","v":""},{"$f":"IF(L99=\"\",\"\",VLOOKUP($H99,記録入力1!$E$161:$O$190,11,FALSE))","v":""},{"$f":"IF(ISERROR(VLOOKUP($A99*10+5,データ作成貼付２!$B$2:$M$280,データ完成!N$1,FALSE))=TRUE,\"\",\"○\")","v":""},{"$f":"IF(N99=\"\",\"\",VLOOKUP($H99,記録入力1!$E$191:$O$290,11,FALSE))","v":""},{"$f":"IF(I99=\"\",\"\",VLOOKUP(LEFT(I99,5),初期設定1!$E$18:$F$59,2,FALSE))","v":""},"",{"$f":"VLOOKUP($Q99,記録入力1!$B$4:$I$287,8,FALSE)","v":{"$error":"#N/A"}},{"$f":"IF(J99=\"\",\"\",VLOOKUP(LEFT(J99,5),初期設定1!$E$18:$F$59,2,FALSE))","v":""},"",{"$f":"VLOOKUP($T99,記録入力1!$B$4:$I$287,8,FALSE)","v":{"$error":"#N/A"}},{"$f":"IF(K99=\"\",\"\",VLOOKUP(LEFT(K99,5),初期設定1!$E$18:$F$59,2,FALSE))","v":""},"",{"$f":"VLOOKUP($W99,記録入力1!$B$4:$I$287,8,FALSE)","v":{"$error":"#N/A"}},{"$f":"IF(G99=\"\",\"\",VLOOKUP(VALUE(RIGHT(G99,6)),学校番号!$A$2:$B$51,2))","v":""}]
[98,{"$f":"IF(ISERROR(VLOOKUP($A100,データ作成貼付２!$A$2:$M$280,データ完成!B$1,FALSE))=TRUE,\"\",VLOOKUP($A100,データ作成貼付２!$A$2:$M$280,データ完成!B$1,FALSE))","v":""},{"$f":"IF(ISERROR(VLOOKUP($A100,データ作成貼付２!$A$2:$M$280,データ完成!C$1,FALSE))=TRUE,\"\",VLOOKUP($A100,データ作成貼付２!$A$2:$M$280,データ完成!C$1,FALSE))","v":""},{"$f":"IF(ISERROR(VLOOKUP($A100,データ作成貼付２!$A$2:$M$280,データ完成!D$1,FALSE))=TRUE,\"\",VLOOKUP($A100,データ作成貼付２!$A$2:$M$280,データ完成!D$1,FALSE))","v":""},{"$f":"IF(ISERROR(VLOOKUP($A100,データ作成貼付２!$A$2:$M$280,データ完成!E$1,FALSE))=TRUE,\"\",VLOOKUP($A100,データ作成貼付２!$A$2:$M$280,データ完成!E$1,FALSE))","v":""},{"$f":"IF(ISERROR(VLOOKUP($A100,データ作成貼付２!$A$2:$M$280,データ完成!F$1,FALSE))=TRUE,\"\",VLOOKUP($A100,データ作成貼付２!$A$2:$M$280,データ完成!F$1,FALSE))","v":""},{"$f":"IF(ISERROR(VLOOKUP($A100,データ作成貼付２!$A$2:$M$280,データ完成!G$1,FALSE))=TRUE,\"\",VLOOKUP($A100,データ作成貼付２!$A$2:$M$280,データ完成!G$1,FALSE))","v":""},{"$f":"IF(ISERROR(VLOOKUP($A100,データ作成貼付２!$A$2:$M$280,データ完成!H$1,FALSE))=TRUE,\"\",VLOOKUP($A100,データ作成貼付２!$A$2:$M$280,データ完成!H$1,FALSE))","v":""},{"$f":"IF(ISERROR(VLOOKUP($A100*10+1,データ作成貼付２!$B$2:$M$280,データ完成!I$1,FALSE))=TRUE,\"\",VLOOKUP($A100*10+1,データ作成貼付２!$B$2:$M$280,データ完成!I$1,FALSE))","v":""},{"$f":"IF(ISERROR(VLOOKUP($A100*10+2,データ作成貼付２!$B$2:$M$280,データ完成!J$1,FALSE))=TRUE,\"\",VLOOKUP($A100*10+2,データ作成貼付２!$B$2:$M$280,データ完成!J$1,FALSE))","v":""},{"$f":"IF(ISERROR(VLOOKUP($A100*10+3,データ作成貼付２!$B$2:$M$280,データ完成!K$1,FALSE))=TRUE,\"\",VLOOKUP($A100*10+3,データ作成貼付２!$B$2:$M$280,データ完成!K$1,FALSE))","v":""},{"$f":"IF(ISERROR(VLOOKUP($A100*10+4,データ作成貼付２!$B$2:$M$280,データ完成!L$1,FALSE))=TRUE,\"\",\"○\")","v":""},{"$f":"IF(L100=\"\",\"\",VLOOKUP($H100,記録入力1!$E$161:$O$190,11,FALSE))","v":""},{"$f":"IF(ISERROR(VLOOKUP($A100*10+5,データ作成貼付２!$B$2:$M$280,データ完成!N$1,FALSE))=TRUE,\"\",\"○\")","v":""},{"$f":"IF(N100=\"\",\"\",VLOOKUP($H100,記録入力1!$E$191:$O$290,11,FALSE))","v":""},{"$f":"IF(I100=\"\",\"\",VLOOKUP(LEFT(I100,5),初期設定1!$E$18:$F$59,2,FALSE))","v":""},"",{"$f":"VLOOKUP($Q100,記録入力1!$B$4:$I$287,8,FALSE)","v":{"$error":"#N/A"}},{"$f":"IF(J100=\"\",\"\",VLOOKUP(LEFT(J100,5),初期設定1!$E$18:$F$59,2,FALSE))","v":""},"",{"$f":"VLOOKUP($T100,記録入力1!$B$4:$I$287,8,FALSE)","v":{"$error":"#N/A"}},{"$f":"IF(K100=\"\",\"\",VLOOKUP(LEFT(K100,5),初期設定1!$E$18:$F$59,2,FALSE))","v":""},"",{"$f":"VLOOKUP($W100,記録入力1!$B$4:$I$287,8,FALSE)","v":{"$error":"#N/A"}},{"$f":"IF(G100=\"\",\"\",VLOOKUP(VALUE(RIGHT(G100,6)),学校番号!$A$2:$B$51,2))","v":""}]
[99,{"$f":"IF(ISERROR(VLOOKUP($A101,データ作成貼付２!$A$2:$M$280,データ完成!B$1,FALSE))=TRUE,\"\",VLOOKUP($A101,データ作成貼付２!$A$2:$M$280,データ完成!B$1,FALSE))","v":""},{"$f":"IF(ISERROR(VLOOKUP($A101,データ作成貼付２!$A$2:$M$280,データ完成!C$1,FALSE))=TRUE,\"\",VLOOKUP($A101,データ作成貼付２!$A$2:$M$280,データ完成!C$1,FALSE))","v":""},{"$f":"IF(ISERROR(VLOOKUP($A101,データ作成貼付２!$A$2:$M$280,データ完成!D$1,FALSE))=TRUE,\"\",VLOOKUP($A101,データ作成貼付２!$A$2:$M$280,データ完成!D$1,FALSE))","v":""},{"$f":"IF(ISERROR(VLOOKUP($A101,データ作成貼付２!$A$2:$M$280,データ完成!E$1,FALSE))=TRUE,\"\",VLOOKUP($A101,データ作成貼付２!$A$2:$M$280,データ完成!E$1,FALSE))","v":""},{"$f":"IF(ISERROR(VLOOKUP($A101,データ作成貼付２!$A$2:$M$280,データ完成!F$1,FALSE))=TRUE,\"\",VLOOKUP($A101,データ作成貼付２!$A$2:$M$280,データ完成!F$1,FALSE))","v":""},{"$f":"IF(ISERROR(VLOOKUP($A101,データ作成貼付２!$A$2:$M$280,データ完成!G$1,FALSE))=TRUE,\"\",VLOOKUP($A101,データ作成貼付２!$A$2:$M$280,データ完成!G$1,FALSE))","v":""},{"$f":"IF(ISERROR(VLOOKUP($A101,データ作成貼付２!$A$2:$M$280,データ完成!H$1,FALSE))=TRUE,\"\",VLOOKUP($A101,データ作成貼付２!$A$2:$M$280,データ完成!H$1,FALSE))","v":""},{"$f":"IF(ISERROR(VLOOKUP($A101*10+1,データ作成貼付２!$B$2:$M$280,データ完成!I$1,FALSE))=TRUE,\"\",VLOOKUP($A101*10+1,データ作成貼付２!$B$2:$M$280,データ完成!I$1,FALSE))","v":""},{"$f":"IF(ISERROR(VLOOKUP($A101*10+2,データ作成貼付２!$B$2:$M$280,データ完成!J$1,FALSE))=TRUE,\"\",VLOOKUP($A101*10+2,データ作成貼付２!$B$2:$M$280,データ完成!J$1,FALSE))","v":""},{"$f":"IF(ISERROR(VLOOKUP($A101*10+3,データ作成貼付２!$B$2:$M$280,データ完成!K$1,FALSE))=TRUE,\"\",VLOOKUP($A101*10+3,データ作成貼付２!$B$2:$M$280,データ完成!K$1,FALSE))","v":""},{"$f":"IF(ISERROR(VLOOKUP($A101*10+4,データ作成貼付２!$B$2:$M$280,データ完成!L$1,FALSE))=TRUE,\"\",\"○\")","v":""},{"$f":"IF(L101=\"\",\"\",VLOOKUP($H101,記録入力1!$E$161:$O$190,11,FALSE))","v":""},{"$f":"IF(ISERROR(VLOOKUP($A101*10+5,データ作成貼付２!$B$2:$M$280,データ完成!N$1,FALSE))=TRUE,\"\",\"○\")","v":""},{"$f":"IF(N101=\"\",\"\",VLOOKUP($H101,記録入力1!$E$191:$O$290,11,FALSE))","v":""},{"$f":"IF(I101=\"\",\"\",VLOOKUP(LEFT(I101,5),初期設定1!$E$18:$F$59,2,FALSE))","v":""},"",{"$f":"VLOOKUP($Q101,記録入力1!$B$4:$I$287,8,FALSE)","v":{"$error":"#N/A"}},{"$f":"IF(J101=\"\",\"\",VLOOKUP(LEFT(J101,5),初期設定1!$E$18:$F$59,2,FALSE))","v":""},"",{"$f":"VLOOKUP($T101,記録入力1!$B$4:$I$287,8,FALSE)","v":{"$error":"#N/A"}},{"$f":"IF(K101=\"\",\"\",VLOOKUP(LEFT(K101,5),初期設定1!$E$18:$F$59,2,FALSE))","v":""},"",{"$f":"VLOOKUP($W101,記録入力1!$B$4:$I$287,8,FALSE)","v":{"$error":"#N/A"}},{"$f":"IF(G101=\"\",\"\",VLOOKUP(VALUE(RIGHT(G101,6)),学校番号!$A$2:$B$51,2))","v":""}]
[100,{"$f":"IF(ISERROR(VLOOKUP($A102,データ作成貼付２!$A$2:$M$280,データ完成!B$1,FALSE))=TRUE,\"\",VLOOKUP($A102,データ作成貼付２!$A$2:$M$280,データ完成!B$1,FALSE))","v":""},{"$f":"IF(ISERROR(VLOOKUP($A102,データ作成貼付２!$A$2:$M$280,データ完成!C$1,FALSE))=TRUE,\"\",VLOOKUP($A102,データ作成貼付２!$A$2:$M$280,データ完成!C$1,FALSE))","v":""},{"$f":"IF(ISERROR(VLOOKUP($A102,データ作成貼付２!$A$2:$M$280,データ完成!D$1,FALSE))=TRUE,\"\",VLOOKUP($A102,データ作成貼付２!$A$2:$M$280,データ完成!D$1,FALSE))","v":""},{"$f":"IF(ISERROR(VLOOKUP($A102,データ作成貼付２!$A$2:$M$280,データ完成!E$1,FALSE))=TRUE,\"\",VLOOKUP($A102,データ作成貼付２!$A$2:$M$280,データ完成!E$1,FALSE))","v":""},{"$f":"IF(ISERROR(VLOOKUP($A102,データ作成貼付２!$A$2:$M$280,データ完成!F$1,FALSE))=TRUE,\"\",VLOOKUP($A102,データ作成貼付２!$A$2:$M$280,データ完成!F$1,FALSE))","v":""},{"$f":"IF(ISERROR(VLOOKUP($A102,データ作成貼付２!$A$2:$M$280,データ完成!G$1,FALSE))=TRUE,\"\",VLOOKUP($A102,データ作成貼付２!$A$2:$M$280,データ完成!G$1,FALSE))","v":""},{"$f":"IF(ISERROR(VLOOKUP($A102,データ作成貼付２!$A$2:$M$280,データ完成!H$1,FALSE))=TRUE,\"\",VLOOKUP($A102,データ作成貼付２!$A$2:$M$280,データ完成!H$1,FALSE))","v":""},{"$f":"IF(ISERROR(VLOOKUP($A102*10+1,データ作成貼付２!$B$2:$M$280,データ完成!I$1,FALSE))=TRUE,\"\",VLOOKUP($A102*10+1,データ作成貼付２!$B$2:$M$280,データ完成!I$1,FALSE))","v":""},{"$f":"IF(ISERROR(VLOOKUP($A102*10+2,データ作成貼付２!$B$2:$M$280,データ完成!J$1,FALSE))=TRUE,\"\",VLOOKUP($A102*10+2,データ作成貼付２!$B$2:$M$280,データ完成!J$1,FALSE))","v":""},{"$f":"IF(ISERROR(VLOOKUP($A102*10+3,データ作成貼付２!$B$2:$M$280,データ完成!K$1,FALSE))=TRUE,\"\",VLOOKUP($A102*10+3,データ作成貼付２!$B$2:$M$280,データ完成!K$1,FALSE))","v":""},{"$f":"IF(ISERROR(VLOOKUP($A102*10+4,データ作成貼付２!$B$2:$M$280,データ完成!L$1,FALSE))=TRUE,\"\",\"○\")","v":""},{"$f":"IF(L102=\"\",\"\",VLOOKUP($H102,記録入力1!$E$161:$O$190,11,FALSE))","v":""},{"$f":"IF(ISERROR(VLOOKUP($A102*10+5,データ作成貼付２!$B$2:$M$280,データ完成!N$1,FALSE))=TRUE,\"\",\"○\")","v":""},{"$f":"IF(N102=\"\",\"\",VLOOKUP($H102,記録入力1!$E$191:$O$290,11,FALSE))","v":""},{"$f":"IF(I102=\"\",\"\",VLOOKUP(LEFT(I102,5),初期設定1!$E$18:$F$59,2,FALSE))","v":""},"",{"$f":"VLOOKUP($Q102,記録入力1!$B$4:$I$287,8,FALSE)","v":{"$error":"#N/A"}},{"$f":"IF(J102=\"\",\"\",VLOOKUP(LEFT(J102,5),初期設定1!$E$18:$F$59,2,FALSE))","v":""},"",{"$f":"VLOOKUP($T102,記録入力1!$B$4:$I$287,8,FALSE)","v":{"$error":"#N/A"}},{"$f":"IF(K102=\"\",\"\",VLOOKUP(LEFT(K102,5),初期設定1!$E$18:$F$59,2,FALSE))","v":""},"",{"$f":"VLOOKUP($W102,記録入力1!$B$4:$I$287,8,FALSE)","v":{"$error":"#N/A"}},{"$f":"IF(G102=\"\",\"\",VLOOKUP(VALUE(RIGHT(G102,6)),学校番号!$A$2:$B$51,2))","v":""}]

{"sheet":"学校番号","index":11,"n_rows":58,"n_cols":3,"rows_kept":58,"cut":false,"hidden":false,"merged":[]}
["学校番号","学校名"]
[284201,"東    灘","ﾋｶﾞｼﾅﾀﾞ"]
[284202,"甲 南 女","ｺｳﾅﾝｼﾞｮ"]
[284203,"　 灘","ﾅﾀﾞ"]
[284204,"六甲アイ","ﾛｯｺｳｱｲ"]
[284205,"神大附中等","ｼﾝﾀﾞｲﾌﾁｭｳﾄｳ"]
[284206,"神戸科技","ｺｳﾍﾞｶｷﾞ"]
[284207,"御    影","ﾐｶｹﾞ"]
[284208,"六    甲","ﾛｯｺｳ"]
[284209,"神    戸","ｺｳﾍﾞ"]
[284210,"海    星","ｶｲｾｲ"]
[284211,"松    蔭","ｼｮｳｲﾝ"]
[284212,"葺    合","ﾌｷｱｲ"]
[284213,"神戸龍谷","ｺｳﾍﾞﾘｭｳｺｸ"]
[284214,"神戸第一","ｺﾍﾞﾀﾞｲｲﾁ"]
[284215,"神港学園","ｼﾝｺｳｶﾞｸｴﾝ"]
[284216,"山    手","ﾔﾏﾃ"]
[284217,"親    和","ｼﾝﾜ"]
[284218,"神 戸 北","ｺｳﾍﾞｷﾀ"]
[284219,"神戸弘陵","ｺｳﾍﾞｺｳﾘｮｳ"]
[284220,"神戸甲北","ｺｳﾍﾞｺｳﾎｸ"]
[284221,"神戸鈴蘭台","ｺｳﾍﾞｽｽﾞﾗﾝﾀﾞｲ"]
[284222,"兵 庫 商","ﾋｮｳｺﾞｼｮｳ"]
[284223,"夙    川","ｼｭｸｶﾞﾜ"]
[284224,"神戸学院","ｺｳﾍﾞｶﾞｸｲﾝ"]
[284225,"兵 庫 工","ﾋｮｳｺﾞｺｳ"]
[284226,"神 港 橘","ｼﾝｺｳﾀﾁﾊﾞﾅ"]
[284227,"夢 野 台","ﾕﾒﾉﾀﾞｲ"]
[284228,"兵    庫","ﾋｮｳｺﾞ"]
[284229,"村 野 工","ﾑﾗﾉｺｳ"]
[284230,"長    田","ﾅｶﾞﾀ"]
[284231,"常    盤","ﾄｷﾜ"]
[284232,"神戸星城","ｺｳﾍﾞｾｲｼﾞｮｳ"]
[284233,"野    田","ﾉﾀﾞ"]
[284234,"育    英","ｲｸｴｲ"]
[284235,"滝    川","ﾀｷｶﾞﾜ"]
[284236,"須磨学園","ｽﾏｶﾞｸｴﾝ"]
[284237,"須磨翔風","ｽﾏｼｮｳﾌｳ"]
[284238,"須磨ノ浦","ｽﾏﾉｳﾗ"]
[284239,"須 磨 東","ｽﾏﾋｶﾞｼ"]
[284240,"啓    明","ｹｲﾒｲ"]
[284241,"須磨友が丘","ｽﾏﾄﾓｶﾞｵｶ"]
[284242,"北 須 磨","ｷﾀｽﾏ"]
[284243]
[284244,"県    盲","ｹﾝﾓｳ"]
[284245,"神戸聴覚","ｺｳﾍﾞﾁｮｳｶｸ"]
[284246,"神戸国際附","ｺｳﾍﾞｺｸｻｲﾌ"]
[284247,"舞    子","ﾏｲｺ"]
[284248,"星    陵","ｾｲﾘｮｳ"]
[284249,"神 戸 商","ｺｳﾍﾞｼｮｳ"]
[284250,"愛    徳","ｱｲﾄｸ"]
[284251,"神戸高専","ｺｳﾍﾞｺｳｾﾝ"]
[284252,"伊 川 谷","ｲｶﾜﾀﾞﾆ"]
[284253,"伊川谷北","ｲｶﾜﾀﾞﾆｷﾀ"]
[284254,"神戸高塚","ｺｳﾍﾞﾀｶﾂｶ"]
[284255,"滝川第二","ﾀｷｶﾞﾜﾀﾞｲﾆ"]
[284256,"西 神 戸","ﾆｼｺｳﾍﾞ"]
[284257,"神戸朝鮮","ｺｳﾍﾞﾁｮｳｾﾝ"]