{"text_format":"1","workbook":"xlsx","n_sheets":7,"sheets":["入力シート","学校データ","基礎データ","大会データ","補助データ","印刷シート","送信データ"],"not_rendered":{"charts":0,"images":0,"macros":1,"external_links":0,"defined_names":54,"comments":1,"pivot_tables":0},"unopened":[],"bounds":{"document_bytes":16777216,"sheet_cells":100000,"rows_first":2000,"rows_last":500,"rows_between":2000,"halvings":0,"cell_chars":16384,"cell_head_chars":4096},"cells_cut":0,"cells_raw":0,"read":"whole","date_system":"1900"}

{"sheet":"入力シート","index":0,"n_rows":13,"n_cols":24,"rows_kept":13,"cut":false,"hidden":false,"merged":[[5,7,5,9],[7,7,7,9],[9,7,9,9],[3,7,3,8],[1,1,1,3],[3,1,3,3],[7,1,7,3],[9,1,9,3],[5,1,5,3],[1,4,1,5],[3,4,3,5],[5,4,5,5],[9,4,9,5]]}
[]
[null,"区分",null,null,"小学生",null,null,null,null,null,null,null,null,{"$f":"LEFT(E2,1)","v":"小"}]
[]
[null,"学校名(選択)",null,null,null,null,"性別",null,null,null,null,null,null,{"$f":"Inp_Nen","v":0}]
[]
[null,"学年",null,null,null,null,"種目",null,null,null,null,null,null,{"$f":"H4","v":0},null,"転記元",{"$f":"VLOOKUP(R6,大会データ!$F$5:$I$102,4,FALSE)","v":{"$error":"#N/A"}},{"$f":"H6","v":0},{"$f":"IF(E8=\"\",\"\",E8)","v":""},{"$f":"F8","v":0},{"$f":"H8","v":0},{"$f":"E6","v":0},{"$f":"IF(E10=\"\",\"\",E10)","v":""},{"$f":"IF(H10=\"\",\"\",H10)","v":""}]
[null,null,null,null,"ﾅﾝﾊﾞｰｶｰﾄﾞ","氏名"]
[null,"選手",null,null,null,null,"フリガナ"]
[]
[null,"記録（あれば）",null,null,null,null,"記録を出した大会名"]
[]
[null,"番","種目番","種目","ﾅﾝﾊﾞｰｶｰﾄﾞ","選手名","フリガナ","学年","記録","大会名"]
[null,null,2]

{"sheet":"学校データ","index":1,"n_rows":69,"n_cols":6,"rows_kept":69,"cut":false,"hidden":false,"merged":[]}
[1,"砥堀小","砥堀1240番地3","079-264-0020","079-264-6430",{"$f":"A1&\"  \"&B1","v":"1  砥堀小"}]
[2,"水上小","西中島382番地","079-223-2074","079-285-2621",{"$f":"A2&\"  \"&B2","v":"2  水上小"}]
[3,"増位小","白国五丁目9番1号","079-284-0746","079-285-2676","3  増位小"]
[4,"広峰小","峰南町2番1号","079-281-3071","079-285-2648","4  広峰小"]
[5,"城北小","伊伝居600番地2","079-224-5457","079-285-2725","5  城北小"]
[6,"野里小","坊主町3番地1","079-224-5586","079-285-2816","6  野里小"]
[7,"城乾小","南八代町6番60号","079-294-1241","079-298-6137","7  城乾小"]
[8,"城西小","新在家二丁目4番1号","079-292-2101","079-298-6563","8  城西小"]
[9,"安室東小","田寺東二丁目5番1号","079-293-3231","079-298-6569","9  安室東小"]
[10,"安室小","田寺六丁目11番12号","079-297-5353","079-298-6624","10  安室小"]
[11,"高岡小","西今宿四丁目8番1号","079-297-5008","079-298-6637","11  高岡小"]
[12,"高岡西小","上手野1番地1","079-298-0078","079-298-6639","12  高岡西小"]
[13,"曽左小","書写634番地51","079-266-1073","079-266-9434","13  曽左小"]
[14,"峰相小","打越582番地1","079-266-8838","079-266-9823","14  峰相小"]
[15,"白鳥小","飾西341番地","079-266-0073","079-266-9759","15  白鳥小"]
[16,"青山小","青山北三丁目42番1号","079-267-0082","079-267-4732","16  青山小"]
[17,"太市小","西脇507番地","079-269-0310","079-269-1045","17  太市小"]
[18,"東　小","市之郷町二丁目34番地","079-282-0921","079-285-2825","18  東　小"]
[19,"城東小","城東町竹之門1番地","079-282-0924","079-285-2836","19  城東小"]
[20,"白鷺小","本町68番地52","079-222-2851","079-285-2853","20  白鷺小"]
[21,"船場小","東雲町一丁目29番地","079-293-0936","079-298-6644","21  船場小"]
[22,"城陽小","北条923番地1","079-222-1702","079-285-2860","22  城陽小"]
[23,"手柄小","延末148番地2","079-293-0227","079-298-6675","23  手柄小"]
[24,"荒川小","井ノ口49番地1","079-298-2754","079-298-6213","24  荒川小"]
[25,"八木小","八家24番地2","079-245-0849","079-245-0299","25  八木小"]
[26,"糸引小","東山114番地1","079-245-0941","079-245-0970","26  糸引小"]
[27,"白浜小","白浜町甲458番地","079-245-4521","079-245-1611","27  白浜小"]
[28,"妻鹿小","飾磨区妻鹿786番地3","079-245-1120","079-245-1671","28  妻鹿小"]
[29,"高浜小","飾磨区阿成鹿古250番地","079-235-1755","079-235-3758","29  高浜小"]
[30,"飾磨小","飾磨区恵美酒22番地","079-235-1635","079-235-3773","30  飾磨小"]
[31,"津田小","飾磨区今在家三丁目233番地","079-235-5783","079-235-3783","31  津田小"]
[32,"英賀保小","飾磨区英賀清水町二丁目76番地","079-236-1346","079-238-3396","32  英賀保小"]
[33,"八幡小","広畑区西蒲田1400番地24","079-236-4555","079-238-3410","33  八幡小"]
[34,"広畑小","広畑区清水町一丁目47番地","079-236-5555","079-238-3411","34  広畑小"]
[35,"広畑第二小","広畑区高浜町三丁目35番地","079-236-0865","079-238-3412","35  広畑第二小"]
[36,"大津小","大津区天満1001番地4","079-236-3751","079-238-3413","36  大津小"]
[37,"南大津小","大津区真砂町40番地2","079-236-2415","079-238-3414","37  南大津小"]
[38,"大津茂小","網干区田井22番地","079-273-8453","079-273-4566","38  大津茂小"]
[39,"網干小","網干区新在家897番地1","079-274-0401","079-273-4570","39  網干小"]
[40,"網干西小","網干区浜田24番地","079-273-6106","079-273-4520","40  網干西小"]
[41,"勝原小","勝原区丁735番地3","079-273-6655","079-273-4532","41  勝原小"]
[42,"旭陽小","網干区坂上425番地1","079-273-6688","079-273-4453","42  旭陽小"]
[43,"余部小","余部区上余部643番地1","079-274-1649","079-273-4572","43  余部小"]
[44,"船津小","船津町921番地2","079-232-0040","079-232-8963","44  船津小"]
[45,"山田小","山田町北山田108番地","079-263-2018","079-263-2846","45  山田小"]
[46,"豊富小","豊富町御蔭925番地","079-264-0021","079-264-6235","46  豊富小"]
[47,"谷内小","飾東町八重畑130番地1","079-262-0001","079-262-1361","47  谷内小"]
[48,"谷外小","飾東町豊国560番地","079-253-3400","079-253-4581","48  谷外小"]
[49,"花田小","花田町勅旨264番地2","079-253-8118","079-253-9391","49  花田小"]
[50,"御国野小","御国野町御着1049番地3","079-252-3696","079-252-5610","50  御国野小"]
[51,"四郷小","四郷町坂元227番地","079-252-3636","079-252-6955","51  四郷小"]
[52,"別所小","別所町別所673番地","079-252-0849","079-252-5436","52  別所小"]
[53,"的形小","的形町的形1619番地","079-254-0127","079-254-6216","53  的形小"]
[54,"大塩小","大塩町汐咲二丁目19番地","079-254-0547","079-254-6217","54  大塩小"]
[55,"林田小","林田町六九谷523番地","079-261-2005","079-261-4260","55  林田小"]
[56,"伊勢小","林田町上伊勢886番地1","079-261-2062","079-261-4262","56  伊勢小"]
[57,"家島小","家島町真浦2141番地","079-325-0059","079-325-2576","57  家島小"]
[58,"坊勢小","家島町坊勢415番地1","079-326-0015","079-327-1117","58  坊勢小"]
[59,"置塩小","夢前町宮置235番地","079-335-2252","079-335-3073","59  置塩小"]
[60,"古知小","夢前町古知之庄401番地1","079-336-0269","079-336-2572","60  古知小"]
[61,"前之庄小","夢前町前之庄2838番地1","079-336-0044","079-336-2577","61  前之庄小"]
[62,"莇野小","夢前町莇野299番地2","079-336-0604","079-336-2731","62  莇野小"]
[63,"上菅小","夢前町護持381番地2","079-335-0218","079-335-3074","63  上菅小"]
[64,"菅生小","夢前町菅生澗802番地1","079-335-0006","079-335-3090","64  菅生小"]
[65,"香呂小","香寺町香呂626番地","079-232-0124","079-232-8532","65  香呂小"]
[66,"中寺小","香寺町中寺231番地","079-232-0049","079-232-6634",{"$f":"A66&\"  \"&B66","v":"66  中寺小"}]
[67,"香呂南小","香寺町須加院173番地","079-264-3343","079-264-6626",{"$f":"A67&\"  \"&B67","v":"67  香呂南小"}]
[68,"安富南小","安富町安志869番地","0790-66-2023","0790-66-3849",{"$f":"A68&\"  \"&B68","v":"68  安富南小"}]
[69,"安富北小","安富町杤原664番地2","0790-66-2021","0790-66-4380",{"$f":"A69&\"  \"&B69","v":"69  安富北小"}]

{"sheet":"基礎データ","index":2,"n_rows":8,"n_cols":3,"rows_kept":8,"cut":false,"hidden":false,"merged":[]}
[]
["年度",2018,"年度"]
[]
["大会名","姫路市チャレンジ記録会"]
[]
["学校データ",{"$f":"TEXT(LEFT(入力シート!E4,FIND(\" \",入力シート!E4)),\"000\")","v":{"$error":"#VALUE!"}}]
[]
["参加人数",{"$f":"COUNT(入力シート!B13:B328)","v":0}]

{"sheet":"大会データ","index":3,"n_rows":104,"n_cols":10,"rows_kept":104,"cut":false,"hidden":false,"merged":[]}
["大会コード","大会名",null,null,null,null,"最大人数",{"$f":"MAX(H5:H104)","v":1},"印刷行数",{"$f":"SUM(J5:J104)","v":1}]
[4010001,"姫路市チャレンジ記録会",null,null,null,null,"連番Min",{"$f":"MIN(Syumokuban)","v":2}]
[null,null,null,null,null,null,"連番Max",{"$f":"MAX(Syumokuban)","v":2}]
["連番","大会コード","性別","学年","競技種目コード","競技名称","人数制限","出場人数","連番","印刷行数"]
[1,4010001,0,3,"001","小学１～３年生男子５０ｍ",100,{"$f":"COUNTIF(Syumokuban,A5)","v":0},{"$f":"A5","v":1},{"$f":"ROUNDUP(H5/4,0)","v":0}]
[2,4010001,0,4,"001","小学４年生男子１００ｍ",100,1,2,1]
[3,4010001,0,6,"001","小学５．６年生男子１００ｍ",100,0,3,0]
[4,4010001,0,6,"710","小学５．６年生男子三種競技",100,0,4,0]
[5,4010001,1,3,"001","小学１～３年生女子５０ｍ",100,{"$f":"COUNTIF(Syumokuban,A9)","v":0},5,0]
[6,4010001,1,4,"001","小学４年生女子１００ｍ",100,0,6,0]
[7,4010001,1,6,"001","小学５．６年生女子１００ｍ",100,0,7,0]
[8,4010001,1,6,"760","小学５．６年生女子三種競技",100,0,8,0]
[9,4010001,0,0,"001","中学男子１００ｍ",100,0,9,0]
[10,4010001,0,0,"015","中学男子１５００ｍ",100,0,10,0]
[11,4010001,0,0,"530","中学男子走幅跳",100,0,11,0]
[12,4010001,0,0,"562","中学男子砲丸投（5㎏）",100,0,12,0]
[13,4010001,0,0,"001","中学女子１００ｍ",100,0,13,0]
[14,4010001,1,0,"008","中学女子８００ｍ",100,0,14,0]
[15,4010001,1,0,"530","中学女子走幅跳",100,0,15,0]
[16,4010001,1,0,"560","中学女子砲丸投（2.7㎏）",100,0,16,0]
[17,4010001,0,7,"100","高校・一般男子１００ｍ",100,0,17,0]
[18,4010001,0,7,"015","高校・一般男子１５００ｍ",100,0,18,0]
[19,4010001,0,7,"530","高校・一般男子走幅跳",100,0,19,0]
[20,4010001,0,7,"562","高校・一般男子砲丸投(6㎏)",100,0,20,0]
[21,4010001,1,7,"001","高校・一般女子１００ｍ",100,0,21,0]
[22,4010001,1,7,"008","高校・一般女子８００ｍ",100,0,22,0]
[23,4010001,1,7,"530","高校・一般女子走幅跳",100,0,23,0]
[24,4010001,1,7,"563","高校・一般女子砲丸投(4㎏)",100,0,24,0]
[null,null,null,null,null,null,null,0,0,0]
[null,null,null,null,null,null,null,0,0,0]
[null,null,null,null,null,null,null,0,0,0]
[null,null,null,null,null,null,null,0,0,0]
[null,null,null,null,null,null,null,0,0,0]
[null,null,null,null,null,null,null,0,0,0]
[null,null,null,null,null,null,null,0,0,0]
[null,null,null,null,null,null,null,0,0,0]
[null,null,null,null,null,null,null,0,0,0]
[null,null,null,null,null,null,null,0,0,0]
[null,null,null,null,null,null,null,{"$f":"COUNTIF(Syumokuban,A39)","v":0},0,0]
[null,null,null,null,null,null,null,0,0,0]
[null,null,null,null,null,null,null,0,0,0]
[null,null,null,null,null,null,null,0,0,0]
[null,null,null,null,null,null,null,0,0,0]
[null,null,null,null,null,null,null,0,0,0]
[null,null,null,null,null,null,null,0,0,0]
[null,null,null,null,null,null,null,0,0,0]
[null,null,null,null,null,null,null,0,0,0]
[null,null,null,null,null,null,null,0,0,0]
[null,null,null,null,null,null,null,0,0,0]
[null,null,null,null,null,null,null,0,0,0]
[null,null,null,null,null,null,null,0,0,0]
[null,null,null,null,null,null,null,0,0,0]
[null,null,null,null,null,null,null,0,0,0]
[null,null,null,null,null,null,null,0,0,0]
[null,null,null,null,null,null,null,0,0,0]
[null,null,null,null,null,null,null,0,0,0]
[null,null,null,null,null,null,null,0,0,0]
[null,null,null,null,null,null,null,0,0,0]
[null,null,null,null,null,null,null,0,0,0]
[null,null,null,null,null,null,null,0,0,0]
[null,null,null,null,null,null,null,0,0,0]
[null,null,null,null,null,null,null,0,0,0]
[null,null,null,null,null,null,null,0,0,0]
[null,null,null,null,null,null,null,0,0,0]
[null,null,null,null,null,null,null,0,0,0]
[null,null,null,null,null,null,null,0,0,0]
[null,null,null,null,null,null,null,0,0,0]
[null,null,null,null,null,null,null,0,0,0]
[null,null,null,null,null,null,null,0,0,{"$f":"ROUNDUP(H69/4,0)","v":0}]
[null,null,null,null,null,null,null,0,0,0]
[null,null,null,null,null,null,null,{"$f":"COUNTIF(Syumokuban,A71)","v":0},{"$f":"A71","v":0},0]
[null,null,null,null,null,null,null,0,0,0]
[null,null,null,null,null,null,null,0,0,0]
[null,null,null,null,null,null,null,0,0,0]
[null,null,null,null,null,null,null,0,0,0]
[null,null,null,null,null,null,null,0,0,0]
[null,null,null,null,null,null,null,0,0,0]
[null,null,null,null,null,null,null,0,0,0]
[null,null,null,null,null,null,null,0,0,0]
[null,null,null,null,null,null,null,0,0,0]
[null,null,null,null,null,null,null,0,0,0]
[null,null,null,null,null,null,null,0,0,0]
[null,null,null,null,null,null,null,0,0,0]
[null,null,null,null,null,null,null,0,0,0]
[null,null,null,null,null,null,null,0,0,0]
[null,null,null,null,null,null,null,0,0,0]
[null,null,null,null,null,null,null,0,0,0]
[null,null,null,null,null,null,null,0,0,0]
[null,null,null,null,null,null,null,0,0,0]
[null,null,null,null,null,null,null,0,0,0]
[null,null,null,null,null,null,null,0,0,0]
[null,null,null,null,null,null,null,0,0,0]
[null,null,null,null,null,null,null,0,0,0]
[null,null,null,null,null,null,null,0,0,0]
[null,null,null,null,null,null,null,0,0,0]
[null,null,null,null,null,null,null,0,0,0]
[null,null,null,null,null,null,null,0,0,0]
[null,null,null,null,null,null,null,0,0,0]
[null,null,null,null,null,null,null,0,0,0]
[null,null,null,null,null,null,null,0,0,0]
[null,null,null,null,null,null,null,0,0,0]
[null,null,null,null,null,null,null,0,0,0]
[null,null,null,null,null,null,null,0,0,0]
[null,null,null,null,null,null,null,0,0,0]

{"sheet":"補助データ","index":4,"n_rows":85,"n_cols":7,"rows_kept":85,"cut":false,"hidden":false,"merged":[[1,1,1,2],[54,1,54,2],[58,1,58,2],[62,1,62,2],[82,1,82,2]]}
[]
[null,"入力補助データ"]
[]
[null,"出場種ID","出場種別"]
[null,0,"共通","<=3"]
[null,1,"１年",1]
[null,2,"２年",2]
[null,3,"３年",{"$f":"3","v":3}]
[null,4,"１．２年","<3"]
[null,5,"２．３年",">1"]
[null,6,"低学年","<3"]
[null,7,"その他","<=3"]
[]
[null,"種目コード","種目名","種目種別"]
[null,1,"１００ｍ",1]
[null,2,"２００ｍ",1]
[null,4,"４００ｍ",1]
[null,8,"８００ｍ",1]
[null,15,"１５００ｍ",1]
[null,30,"３０００ｍ",1]
[null,110,"１００ｍＨ",1]
[null,111,"１１０ｍＨ",1]
[null,410,"４×１００ｍＲ",1]
[null,420,"４×２００ｍＲ",1]
[null,510,"走高跳",2]
[null,520,"棒高跳び",2]
[null,530,"走幅跳",2]
[null,540,"三段跳",2]
[null,550,"円盤投",2]
[null,551,"円盤投(1.5㎏)",2]
[null,560,"砲丸投",2]
[null,561,"砲丸投(2.7㎏)",2]
[null,562,"砲丸投(5.0㎏)",2]
[null,563,"砲丸投(4.0㎏)",2]
[null,570,"ｼﾞｬﾍﾞﾘｯｸｽﾛｰ",2]
[null,710,"男子四種競技",3]
[null,760,"女子四種競技",3]
[]
[null,"種目種別ID","種目種別"]
[null,1,"トラック"]
[null,2,"フィールド"]
[null,3,"混成"]
[]
[null,"種目詳細","種目１","種目２","種目３","種目４"]
[null,"女子四種競技","１００ｍＨ","走高跳","砲丸投","２００ｍ"]
[null,"男子四種競技","１１０ｍＨ","砲丸投","走高跳","４００ｍ"]
[]
[null,"性別ID","性別"]
[null,0,"男"]
[null,1,"女"]
[]
[]
[]
[]
[null,"読み込みデータフォルダ指定"]
[null,"中体連データ","F:\\地区マスタ\\akasi01\\2014"]
[]
[]
[null,"読み込み試合データ"]
[null,"3010012","第２回明石市中学記録会"]
[]
[]
[null,"種目コード表",null,"男上","男下","女下","女上"]
[null,"001","１００ｍ",10,25,11,28]
[null,"002","２００ｍ",20.5,48,22,55]
[null,"004","４００ｍ",42,120,48,140]
[null,"008","８００ｍ",150,400,200,450]
[null,"015","１５００ｍ",340,800,400,900]
[null,"030","３０００ｍ",800,2000,900,2000]
[null,"110","１００ｍＨ",null,null,12,40]
[null,"111","１１０ｍＨ",12,40]
[null,"510","走高跳",1.2,2.4,1,1.9]
[null,"520","棒高跳",1,5.5]
[null,"530","走幅跳",2,8,2,7]
[null,"540","三段跳",4,16]
[null,"550","円盤投",null,null,1.5,60]
[null,"551","円盤投(1.5kg)",1.5,70]
[null,"560","砲丸投",null,null,2,18]
[null,"562","砲丸投(5kg)",2,20]
[null,"570","ｼﾞｬﾍﾞﾘｯｸｽﾛｰ",5,80,5,60]
[]
[]
[null,"計測区分"]
[null,0,"電気"]
[null,1,"手動"]

{"sheet":"印刷シート","index":5,"n_rows":9,"n_cols":15,"rows_kept":9,"cut":false,"hidden":false,"merged":[[9,12,10,12],[9,14,10,14],[9,8,10,8],[9,9,10,9],[9,11,10,11],[9,1,10,1],[9,2,10,2],[9,3,10,3],[9,5,10,5],[9,6,10,6],[7,1,8,1],[3,2,3,3],[4,2,4,3],[5,2,5,3],[3,4,3,5],[5,4,5,5],[7,2,8,2],[7,3,8,3],[7,5,8,5],[7,6,8,6],[1,28,2,28],[1,30,2,30],[1,17,2,17],[1,18,2,18],[1,19,2,19],[1,21,2,21],[1,22,2,22],[1,24,2,24],[1,25,2,25],[1,27,2,27],[7,12,8,12],[7,14,8,14],[7,8,8,8],[7,9,8,9],[7,11,8,11]]}
[]
[null,null,{"$f":"基礎データ!B2 &\"年度\"","v":"2018年度"},"姫路市チャレンジ記録会　参加申し込み書　（小学校用）"]
[]
[null,null,"学校名",null,{"$f":"学校名","v":0}]
[null,null,"責任者氏名",null,null,"印"]
[null,null,"連絡先(携帯)"]
[]
[null,"番号","種目","ﾅﾝﾊﾞｰ\nｶｰﾄﾞ","氏名","学年","ﾅﾝﾊﾞｰ\nｶｰﾄﾞ","氏名","学年","ﾅﾝﾊﾞｰ\nｶｰﾄﾞ","氏名","学年","ﾅﾝﾊﾞｰ\nｶｰﾄﾞ","氏名","学年"]
[null,null,null,null,"記録",null,null,"記録",null,null,"記録",null,null,"記録"]

{"sheet":"送信データ","index":6,"n_rows":320,"n_cols":33,"rows_kept":320,"cut":false,"hidden":false,"merged":[]}
[{"$f":"IF(入力シート!$B9=\"\",\"\",大会コード)","v":""},{"$f":"IF(入力シート!$B9=\"\",\"\",VLOOKUP(入力シート!$C9,大会データ!$A$5:$F$374,3,FALSE))","v":""},{"$f":"IF(入力シート!$B9=\"\",\"\",VLOOKUP(入力シート!$C9,大会データ!$A$5:$F$374,4,FALSE))","v":""},{"$f":"IF(入力シート!$B9=\"\",\"\",VLOOKUP(入力シート!$C9,大会データ!$A$5:$F$374,5,FALSE))","v":""},{"$f":"IF(入力シート!$B9=\"\",\"\",基礎データ!$B$6)","v":""},{"$f":"IF(入力シート!$B9=\"\",\"\",B1)","v":""},{"$f":"IF(入力シート!$B9=\"\",\"\",IF(入力シート!$E9=\"\",TEXT(入力シート!$B9,\"00\"),入力シート!$E9))","v":""},null,null,{"$f":"IF(入力シート!I9=\"\",\"\",入力シート!I9)","v":""},null,null,null,null,null,null,null,null,null,null,null,null,null,null,null,null,{"$f":"E1","v":""},{"$f":"B1","v":""},{"$f":"G1","v":""},{"$f":"IF($AC1=\"\",\"\",入力シート!F9)","v":""},{"$f":"IF($AC1=\"\",\"\",入力シート!G9)","v":""},{"$f":"IF($AC1=\"\",\"\",入力シート!H9)","v":""},{"$f":"IF($AC1=\"\",\"\",2016-AF1)","v":""}]
[]
[]
["大会コード","性別","学年","競技種目コード","学校コード","性別1","選手コード","組","レーン","エントリ記録","当日記録","順位","条件項目","計測区分","未記録区分","大会順位",null,null,null,null,null,null,null,null,null,null,"学校コード","性別","選手コード","選手名","フリガナ","学年","入学年"]
[{"$f":"IF(入力シート!$B13=\"\",\"\",大会コード)","v":""},{"$f":"IF(入力シート!$B13=\"\",\"\",VLOOKUP(入力シート!$C13,大会データ!$A$5:$F$374,3,FALSE))","v":""},{"$f":"IF(入力シート!$B13=\"\",\"\",VLOOKUP(入力シート!$C13,大会データ!$A$5:$F$374,4,FALSE))","v":""},{"$f":"IF(入力シート!$B13=\"\",\"\",VLOOKUP(入力シート!$C13,大会データ!$A$5:$F$374,5,FALSE))","v":""},{"$f":"IF(入力シート!$B13=\"\",\"\",基礎データ!$B$6)","v":""},{"$f":"IF(入力シート!$B13=\"\",\"\",B5)","v":""},{"$f":"IF(入力シート!$B13=\"\",\"\",IF(入力シート!$E13=\"\",TEXT(入力シート!$B13,\"00\"),入力シート!$E13))","v":""},null,null,{"$f":"IF(入力シート!I13=\"\",\"\",入力シート!I13)","v":""},null,null,null,null,null,null,null,null,null,null,null,null,null,null,null,null,{"$f":"E5","v":""},{"$f":"B5","v":""},{"$f":"G5","v":""},{"$f":"IF($AC5=\"\",\"\",入力シート!F13)","v":""},{"$f":"IF($AC5=\"\",\"\",入力シート!G13)","v":""},{"$f":"IF($AC5=\"\",\"\",入力シート!H13)","v":""},{"$f":"IF($AC5=\"\",\"\",2016-AF5)","v":""}]
[{"$f":"IF(入力シート!$B14=\"\",\"\",大会コード)","v":""},{"$f":"IF(入力シート!$B14=\"\",\"\",VLOOKUP(入力シート!$C14,大会データ!$A$5:$F$374,3,FALSE))","v":""},{"$f":"IF(入力シート!$B14=\"\",\"\",VLOOKUP(入力シート!$C14,大会データ!$A$5:$F$374,4,FALSE))","v":""},{"$f":"IF(入力シート!$B14=\"\",\"\",VLOOKUP(入力シート!$C14,大会データ!$A$5:$F$374,5,FALSE))","v":""},{"$f":"IF(入力シート!$B14=\"\",\"\",基礎データ!$B$6)","v":""},{"$f":"IF(入力シート!$B14=\"\",\"\",B6)","v":""},{"$f":"IF(入力シート!$B14=\"\",\"\",IF(入力シート!$E14=\"\",TEXT(入力シート!$B14,\"00\"),入力シート!$E14))","v":""},null,null,{"$f":"IF(入力シート!I14=\"\",\"\",入力シート!I14)","v":""},null,null,null,null,null,null,null,null,null,null,null,null,null,null,null,null,"","","",{"$f":"IF($AC6=\"\",\"\",入力シート!F14)","v":""},{"$f":"IF($AC6=\"\",\"\",入力シート!G14)","v":""},{"$f":"IF($AC6=\"\",\"\",入力シート!H14)","v":""},""]
[{"$f":"IF(入力シート!$B15=\"\",\"\",大会コード)","v":""},{"$f":"IF(入力シート!$B15=\"\",\"\",VLOOKUP(入力シート!$C15,大会データ!$A$5:$F$374,3,FALSE))","v":""},{"$f":"IF(入力シート!$B15=\"\",\"\",VLOOKUP(入力シート!$C15,大会データ!$A$5:$F$374,4,FALSE))","v":""},{"$f":"IF(入力シート!$B15=\"\",\"\",VLOOKUP(入力シート!$C15,大会データ!$A$5:$F$374,5,FALSE))","v":""},{"$f":"IF(入力シート!$B15=\"\",\"\",基礎データ!$B$6)","v":""},{"$f":"IF(入力シート!$B15=\"\",\"\",B7)","v":""},{"$f":"IF(入力シート!$B15=\"\",\"\",IF(入力シート!$E15=\"\",TEXT(入力シート!$B15,\"00\"),入力シート!$E15))","v":""},null,null,{"$f":"IF(入力シート!I15=\"\",\"\",入力シート!I15)","v":""},null,null,null,null,null,null,null,null,null,null,null,null,null,null,null,null,"","","",{"$f":"IF($AC7=\"\",\"\",入力シート!F15)","v":""},{"$f":"IF($AC7=\"\",\"\",入力シート!G15)","v":""},{"$f":"IF($AC7=\"\",\"\",入力シート!H15)","v":""},""]
[{"$f":"IF(入力シート!$B16=\"\",\"\",大会コード)","v":""},{"$f":"IF(入力シート!$B16=\"\",\"\",VLOOKUP(入力シート!$C16,大会データ!$A$5:$F$374,3,FALSE))","v":""},{"$f":"IF(入力シート!$B16=\"\",\"\",VLOOKUP(入力シート!$C16,大会データ!$A$5:$F$374,4,FALSE))","v":""},{"$f":"IF(入力シート!$B16=\"\",\"\",VLOOKUP(入力シート!$C16,大会データ!$A$5:$F$374,5,FALSE))","v":""},{"$f":"IF(入力シート!$B16=\"\",\"\",基礎データ!$B$6)","v":""},{"$f":"IF(入力シート!$B16=\"\",\"\",B8)","v":""},{"$f":"IF(入力シート!$B16=\"\",\"\",IF(入力シート!$E16=\"\",TEXT(入力シート!$B16,\"00\"),入力シート!$E16))","v":""},null,null,{"$f":"IF(入力シート!I16=\"\",\"\",入力シート!I16)","v":""},null,null,null,null,null,null,null,null,null,null,null,null,null,null,null,null,"","","",{"$f":"IF($AC8=\"\",\"\",入力シート!F16)","v":""},{"$f":"IF($AC8=\"\",\"\",入力シート!G16)","v":""},{"$f":"IF($AC8=\"\",\"\",入力シート!H16)","v":""},""]
[{"$f":"IF(入力シート!$B17=\"\",\"\",大会コード)","v":""},{"$f":"IF(入力シート!$B17=\"\",\"\",VLOOKUP(入力シート!$C17,大会データ!$A$5:$F$374,3,FALSE))","v":""},{"$f":"IF(入力シート!$B17=\"\",\"\",VLOOKUP(入力シート!$C17,大会データ!$A$5:$F$374,4,FALSE))","v":""},{"$f":"IF(入力シート!$B17=\"\",\"\",VLOOKUP(入力シート!$C17,大会データ!$A$5:$F$374,5,FALSE))","v":""},{"$f":"IF(入力シート!$B17=\"\",\"\",基礎データ!$B$6)","v":""},{"$f":"IF(入力シート!$B17=\"\",\"\",B9)","v":""},{"$f":"IF(入力シート!$B17=\"\",\"\",IF(入力シート!$E17=\"\",TEXT(入力シート!$B17,\"00\"),入力シート!$E17))","v":""},null,null,{"$f":"IF(入力シート!I17=\"\",\"\",入力シート!I17)","v":""},null,null,null,null,null,null,null,null,null,null,null,null,null,null,null,null,"","","",{"$f":"IF($AC9=\"\",\"\",入力シート!F17)","v":""},{"$f":"IF($AC9=\"\",\"\",入力シート!G17)","v":""},{"$f":"IF($AC9=\"\",\"\",入力シート!H17)","v":""},""]
[{"$f":"IF(入力シート!$B18=\"\",\"\",大会コード)","v":""},{"$f":"IF(入力シート!$B18=\"\",\"\",VLOOKUP(入力シート!$C18,大会データ!$A$5:$F$374,3,FALSE))","v":""},{"$f":"IF(入力シート!$B18=\"\",\"\",VLOOKUP(入力シート!$C18,大会データ!$A$5:$F$374,4,FALSE))","v":""},{"$f":"IF(入力シート!$B18=\"\",\"\",VLOOKUP(入力シート!$C18,大会データ!$A$5:$F$374,5,FALSE))","v":""},{"$f":"IF(入力シート!$B18=\"\",\"\",基礎データ!$B$6)","v":""},{"$f":"IF(入力シート!$B18=\"\",\"\",B10)","v":""},{"$f":"IF(入力シート!$B18=\"\",\"\",IF(入力シート!$E18=\"\",TEXT(入力シート!$B18,\"00\"),入力シート!$E18))","v":""},null,null,{"$f":"IF(入力シート!I18=\"\",\"\",入力シート!I18)","v":""},null,null,null,null,null,null,null,null,null,null,null,null,null,null,null,null,"","","",{"$f":"IF($AC10=\"\",\"\",入力シート!F18)","v":""},{"$f":"IF($AC10=\"\",\"\",入力シート!G18)","v":""},{"$f":"IF($AC10=\"\",\"\",入力シート!H18)","v":""},""]
[{"$f":"IF(入力シート!$B19=\"\",\"\",大会コード)","v":""},{"$f":"IF(入力シート!$B19=\"\",\"\",VLOOKUP(入力シート!$C19,大会データ!$A$5:$F$374,3,FALSE))","v":""},{"$f":"IF(入力シート!$B19=\"\",\"\",VLOOKUP(入力シート!$C19,大会データ!$A$5:$F$374,4,FALSE))","v":""},{"$f":"IF(入力シート!$B19=\"\",\"\",VLOOKUP(入力シート!$C19,大会データ!$A$5:$F$374,5,FALSE))","v":""},{"$f":"IF(入力シート!$B19=\"\",\"\",基礎データ!$B$6)","v":""},{"$f":"IF(入力シート!$B19=\"\",\"\",B11)","v":""},{"$f":"IF(入力シート!$B19=\"\",\"\",IF(入力シート!$E19=\"\",TEXT(入力シート!$B19,\"00\"),入力シート!$E19))","v":""},null,null,{"$f":"IF(入力シート!I19=\"\",\"\",入力シート!I19)","v":""},null,null,null,null,null,null,null,null,null,null,null,null,null,null,null,null,"","","",{"$f":"IF($AC11=\"\",\"\",入力シート!F19)","v":""},{"$f":"IF($AC11=\"\",\"\",入力シート!G19)","v":""},{"$f":"IF($AC11=\"\",\"\",入力シート!H19)","v":""},""]
[{"$f":"IF(入力シート!$B20=\"\",\"\",大会コード)","v":""},{"$f":"IF(入力シート!$B20=\"\",\"\",VLOOKUP(入力シート!$C20,大会データ!$A$5:$F$374,3,FALSE))","v":""},{"$f":"IF(入力シート!$B20=\"\",\"\",VLOOKUP(入力シート!$C20,大会データ!$A$5:$F$374,4,FALSE))","v":""},{"$f":"IF(入力シート!$B20=\"\",\"\",VLOOKUP(入力シート!$C20,大会データ!$A$5:$F$374,5,FALSE))","v":""},{"$f":"IF(入力シート!$B20=\"\",\"\",基礎データ!$B$6)","v":""},{"$f":"IF(入力シート!$B20=\"\",\"\",B12)","v":""},{"$f":"IF(入力シート!$B20=\"\",\"\",IF(入力シート!$E20=\"\",TEXT(入力シート!$B20,\"00\"),入力シート!$E20))","v":""},null,null,{"$f":"IF(入力シート!I20=\"\",\"\",入力シート!I20)","v":""},null,null,null,null,null,null,null,null,null,null,null,null,null,null,null,null,"","","",{"$f":"IF($AC12=\"\",\"\",入力シート!F20)","v":""},{"$f":"IF($AC12=\"\",\"\",入力シート!G20)","v":""},{"$f":"IF($AC12=\"\",\"\",入力シート!H20)","v":""},""]
[{"$f":"IF(入力シート!$B21=\"\",\"\",大会コード)","v":""},{"$f":"IF(入力シート!$B21=\"\",\"\",VLOOKUP(入力シート!$C21,大会データ!$A$5:$F$374,3,FALSE))","v":""},{"$f":"IF(入力シート!$B21=\"\",\"\",VLOOKUP(入力シート!$C21,大会データ!$A$5:$F$374,4,FALSE))","v":""},{"$f":"IF(入力シート!$B21=\"\",\"\",VLOOKUP(入力シート!$C21,大会データ!$A$5:$F$374,5,FALSE))","v":""},{"$f":"IF(入力シート!$B21=\"\",\"\",基礎データ!$B$6)","v":""},{"$f":"IF(入力シート!$B21=\"\",\"\",B13)","v":""},{"$f":"IF(入力シート!$B21=\"\",\"\",IF(入力シート!$E21=\"\",TEXT(入力シート!$B21,\"00\"),入力シート!$E21))","v":""},null,null,{"$f":"IF(入力シート!I21=\"\",\"\",入力シート!I21)","v":""},null,null,null,null,null,null,null,null,null,null,null,null,null,null,null,null,"","","",{"$f":"IF($AC13=\"\",\"\",入力シート!F21)","v":""},{"$f":"IF($AC13=\"\",\"\",入力シート!G21)","v":""},{"$f":"IF($AC13=\"\",\"\",入力シート!H21)","v":""},""]
[{"$f":"IF(入力シート!$B22=\"\",\"\",大会コード)","v":""},{"$f":"IF(入力シート!$B22=\"\",\"\",VLOOKUP(入力シート!$C22,大会データ!$A$5:$F$374,3,FALSE))","v":""},{"$f":"IF(入力シート!$B22=\"\",\"\",VLOOKUP(入力シート!$C22,大会データ!$A$5:$F$374,4,FALSE))","v":""},{"$f":"IF(入力シート!$B22=\"\",\"\",VLOOKUP(入力シート!$C22,大会データ!$A$5:$F$374,5,FALSE))","v":""},{"$f":"IF(入力シート!$B22=\"\",\"\",基礎データ!$B$6)","v":""},{"$f":"IF(入力シート!$B22=\"\",\"\",B14)","v":""},{"$f":"IF(入力シート!$B22=\"\",\"\",IF(入力シート!$E22=\"\",TEXT(入力シート!$B22,\"00\"),入力シート!$E22))","v":""},null,null,{"$f":"IF(入力シート!I22=\"\",\"\",入力シート!I22)","v":""},null,null,null,null,null,null,null,null,null,null,null,null,null,null,null,null,"","","",{"$f":"IF($AC14=\"\",\"\",入力シート!F22)","v":""},{"$f":"IF($AC14=\"\",\"\",入力シート!G22)","v":""},{"$f":"IF($AC14=\"\",\"\",入力シート!H22)","v":""},""]
[{"$f":"IF(入力シート!$B23=\"\",\"\",大会コード)","v":""},{"$f":"IF(入力シート!$B23=\"\",\"\",VLOOKUP(入力シート!$C23,大会データ!$A$5:$F$374,3,FALSE))","v":""},{"$f":"IF(入力シート!$B23=\"\",\"\",VLOOKUP(入力シート!$C23,大会データ!$A$5:$F$374,4,FALSE))","v":""},{"$f":"IF(入力シート!$B23=\"\",\"\",VLOOKUP(入力シート!$C23,大会データ!$A$5:$F$374,5,FALSE))","v":""},{"$f":"IF(入力シート!$B23=\"\",\"\",基礎データ!$B$6)","v":""},{"$f":"IF(入力シート!$B23=\"\",\"\",B15)","v":""},{"$f":"IF(入力シート!$B23=\"\",\"\",IF(入力シート!$E23=\"\",TEXT(入力シート!$B23,\"00\"),入力シート!$E23))","v":""},null,null,{"$f":"IF(入力シート!I23=\"\",\"\",入力シート!I23)","v":""},null,null,null,null,null,null,null,null,null,null,null,null,null,null,null,null,"","","",{"$f":"IF($AC15=\"\",\"\",入力シート!F23)","v":""},{"$f":"IF($AC15=\"\",\"\",入力シート!G23)","v":""},{"$f":"IF($AC15=\"\",\"\",入力シート!H23)","v":""},""]
[{"$f":"IF(入力シート!$B24=\"\",\"\",大会コード)","v":""},{"$f":"IF(入力シート!$B24=\"\",\"\",VLOOKUP(入力シート!$C24,大会データ!$A$5:$F$374,3,FALSE))","v":""},{"$f":"IF(入力シート!$B24=\"\",\"\",VLOOKUP(入力シート!$C24,大会データ!$A$5:$F$374,4,FALSE))","v":""},{"$f":"IF(入力シート!$B24=\"\",\"\",VLOOKUP(入力シート!$C24,大会データ!$A$5:$F$374,5,FALSE))","v":""},{"$f":"IF(入力シート!$B24=\"\",\"\",基礎データ!$B$6)","v":""},{"$f":"IF(入力シート!$B24=\"\",\"\",B16)","v":""},{"$f":"IF(入力シート!$B24=\"\",\"\",IF(入力シート!$E24=\"\",TEXT(入力シート!$B24,\"00\"),入力シート!$E24))","v":""},null,null,{"$f":"IF(入力シート!I24=\"\",\"\",入力シート!I24)","v":""},null,null,null,null,null,null,null,null,null,null,null,null,null,null,null,null,"","","",{"$f":"IF($AC16=\"\",\"\",入力シート!F24)","v":""},{"$f":"IF($AC16=\"\",\"\",入力シート!G24)","v":""},{"$f":"IF($AC16=\"\",\"\",入力シート!H24)","v":""},""]
[{"$f":"IF(入力シート!$B25=\"\",\"\",大会コード)","v":""},{"$f":"IF(入力シート!$B25=\"\",\"\",VLOOKUP(入力シート!$C25,大会データ!$A$5:$F$374,3,FALSE))","v":""},{"$f":"IF(入力シート!$B25=\"\",\"\",VLOOKUP(入力シート!$C25,大会データ!$A$5:$F$374,4,FALSE))","v":""},{"$f":"IF(入力シート!$B25=\"\",\"\",VLOOKUP(入力シート!$C25,大会データ!$A$5:$F$374,5,FALSE))","v":""},{"$f":"IF(入力シート!$B25=\"\",\"\",基礎データ!$B$6)","v":""},{"$f":"IF(入力シート!$B25=\"\",\"\",B17)","v":""},{"$f":"IF(入力シート!$B25=\"\",\"\",IF(入力シート!$E25=\"\",TEXT(入力シート!$B25,\"00\"),入力シート!$E25))","v":""},null,null,{"$f":"IF(入力シート!I25=\"\",\"\",入力シート!I25)","v":""},null,null,null,null,null,null,null,null,null,null,null,null,null,null,null,null,"","","",{"$f":"IF($AC17=\"\",\"\",入力シート!F25)","v":""},{"$f":"IF($AC17=\"\",\"\",入力シート!G25)","v":""},{"$f":"IF($AC17=\"\",\"\",入力シート!H25)","v":""},""]
[{"$f":"IF(入力シート!$B26=\"\",\"\",大会コード)","v":""},{"$f":"IF(入力シート!$B26=\"\",\"\",VLOOKUP(入力シート!$C26,大会データ!$A$5:$F$374,3,FALSE))","v":""},{"$f":"IF(入力シート!$B26=\"\",\"\",VLOOKUP(入力シート!$C26,大会データ!$A$5:$F$374,4,FALSE))","v":""},{"$f":"IF(入力シート!$B26=\"\",\"\",VLOOKUP(入力シート!$C26,大会データ!$A$5:$F$374,5,FALSE))","v":""},{"$f":"IF(入力シート!$B26=\"\",\"\",基礎データ!$B$6)","v":""},{"$f":"IF(入力シート!$B26=\"\",\"\",B18)","v":""},{"$f":"IF(入力シート!$B26=\"\",\"\",IF(入力シート!$E26=\"\",TEXT(入力シート!$B26,\"00\"),入力シート!$E26))","v":""},null,null,{"$f":"IF(入力シート!I26=\"\",\"\",入力シート!I26)","v":""},null,null,null,null,null,null,null,null,null,null,null,null,null,null,null,null,"","","",{"$f":"IF($AC18=\"\",\"\",入力シート!F26)","v":""},{"$f":"IF($AC18=\"\",\"\",入力シート!G26)","v":""},{"$f":"IF($AC18=\"\",\"\",入力シート!H26)","v":""},""]
[{"$f":"IF(入力シート!$B27=\"\",\"\",大会コード)","v":""},{"$f":"IF(入力シート!$B27=\"\",\"\",VLOOKUP(入力シート!$C27,大会データ!$A$5:$F$374,3,FALSE))","v":""},{"$f":"IF(入力シート!$B27=\"\",\"\",VLOOKUP(入力シート!$C27,大会データ!$A$5:$F$374,4,FALSE))","v":""},{"$f":"IF(入力シート!$B27=\"\",\"\",VLOOKUP(入力シート!$C27,大会データ!$A$5:$F$374,5,FALSE))","v":""},{"$f":"IF(入力シート!$B27=\"\",\"\",基礎データ!$B$6)","v":""},{"$f":"IF(入力シート!$B27=\"\",\"\",B19)","v":""},{"$f":"IF(入力シート!$B27=\"\",\"\",IF(入力シート!$E27=\"\",TEXT(入力シート!$B27,\"00\"),入力シート!$E27))","v":""},null,null,{"$f":"IF(入力シート!I27=\"\",\"\",入力シート!I27)","v":""},null,null,null,null,null,null,null,null,null,null,null,null,null,null,null,null,"","","",{"$f":"IF($AC19=\"\",\"\",入力シート!F27)","v":""},{"$f":"IF($AC19=\"\",\"\",入力シート!G27)","v":""},{"$f":"IF($AC19=\"\",\"\",入力シート!H27)","v":""},""]
[{"$f":"IF(入力シート!$B28=\"\",\"\",大会コード)","v":""},{"$f":"IF(入力シート!$B28=\"\",\"\",VLOOKUP(入力シート!$C28,大会データ!$A$5:$F$374,3,FALSE))","v":""},{"$f":"IF(入力シート!$B28=\"\",\"\",VLOOKUP(入力シート!$C28,大会データ!$A$5:$F$374,4,FALSE))","v":""},{"$f":"IF(入力シート!$B28=\"\",\"\",VLOOKUP(入力シート!$C28,大会データ!$A$5:$F$374,5,FALSE))","v":""},{"$f":"IF(入力シート!$B28=\"\",\"\",基礎データ!$B$6)","v":""},{"$f":"IF(入力シート!$B28=\"\",\"\",B20)","v":""},{"$f":"IF(入力シート!$B28=\"\",\"\",IF(入力シート!$E28=\"\",TEXT(入力シート!$B28,\"00\"),入力シート!$E28))","v":""},null,null,{"$f":"IF(入力シート!I28=\"\",\"\",入力シート!I28)","v":""},null,null,null,null,null,null,null,null,null,null,null,null,null,null,null,null,"","","",{"$f":"IF($AC20=\"\",\"\",入力シート!F28)","v":""},{"$f":"IF($AC20=\"\",\"\",入力シート!G28)","v":""},{"$f":"IF($AC20=\"\",\"\",入力シート!H28)","v":""},""]
[{"$f":"IF(入力シート!$B29=\"\",\"\",大会コード)","v":""},{"$f":"IF(入力シート!$B29=\"\",\"\",VLOOKUP(入力シート!$C29,大会データ!$A$5:$F$374,3,FALSE))","v":""},{"$f":"IF(入力シート!$B29=\"\",\"\",VLOOKUP(入力シート!$C29,大会データ!$A$5:$F$374,4,FALSE))","v":""},{"$f":"IF(入力シート!$B29=\"\",\"\",VLOOKUP(入力シート!$C29,大会データ!$A$5:$F$374,5,FALSE))","v":""},{"$f":"IF(入力シート!$B29=\"\",\"\",基礎データ!$B$6)","v":""},{"$f":"IF(入力シート!$B29=\"\",\"\",B21)","v":""},{"$f":"IF(入力シート!$B29=\"\",\"\",IF(入力シート!$E29=\"\",TEXT(入力シート!$B29,\"00\"),入力シート!$E29))","v":""},null,null,{"$f":"IF(入力シート!I29=\"\",\"\",入力シート!I29)","v":""},null,null,null,null,null,null,null,null,null,null,null,null,null,null,null,null,"","","",{"$f":"IF($AC21=\"\",\"\",入力シート!F29)","v":""},{"$f":"IF($AC21=\"\",\"\",入力シート!G29)","v":""},{"$f":"IF($AC21=\"\",\"\",入力シート!H29)","v":""},""]
[{"$f":"IF(入力シート!$B30=\"\",\"\",大会コード)","v":""},{"$f":"IF(入力シート!$B30=\"\",\"\",VLOOKUP(入力シート!$C30,大会データ!$A$5:$F$374,3,FALSE))","v":""},{"$f":"IF(入力シート!$B30=\"\",\"\",VLOOKUP(入力シート!$C30,大会データ!$A$5:$F$374,4,FALSE))","v":""},{"$f":"IF(入力シート!$B30=\"\",\"\",VLOOKUP(入力シート!$C30,大会データ!$A$5:$F$374,5,FALSE))","v":""},{"$f":"IF(入力シート!$B30=\"\",\"\",基礎データ!$B$6)","v":""},{"$f":"IF(入力シート!$B30=\"\",\"\",B22)","v":""},{"$f":"IF(入力シート!$B30=\"\",\"\",IF(入力シート!$E30=\"\",TEXT(入力シート!$B30,\"00\"),入力シート!$E30))","v":""},null,null,{"$f":"IF(入力シート!I30=\"\",\"\",入力シート!I30)","v":""},null,null,null,null,null,null,null,null,null,null,null,null,null,null,null,null,"","","",{"$f":"IF($AC22=\"\",\"\",入力シート!F30)","v":""},{"$f":"IF($AC22=\"\",\"\",入力シート!G30)","v":""},{"$f":"IF($AC22=\"\",\"\",入力シート!H30)","v":""},""]
[{"$f":"IF(入力シート!$B31=\"\",\"\",大会コード)","v":""},{"$f":"IF(入力シート!$B31=\"\",\"\",VLOOKUP(入力シート!$C31,大会データ!$A$5:$F$374,3,FALSE))","v":""},{"$f":"IF(入力シート!$B31=\"\",\"\",VLOOKUP(入力シート!$C31,大会データ!$A$5:$F$374,4,FALSE))","v":""},{"$f":"IF(入力シート!$B31=\"\",\"\",VLOOKUP(入力シート!$C31,大会データ!$A$5:$F$374,5,FALSE))","v":""},{"$f":"IF(入力シート!$B31=\"\",\"\",基礎データ!$B$6)","v":""},{"$f":"IF(入力シート!$B31=\"\",\"\",B23)","v":""},{"$f":"IF(入力シート!$B31=\"\",\"\",IF(入力シート!$E31=\"\",TEXT(入力シート!$B31,\"00\"),入力シート!$E31))","v":""},null,null,{"$f":"IF(入力シート!I31=\"\",\"\",入力シート!I31)","v":""},null,null,null,null,null,null,null,null,null,null,null,null,null,null,null,null,"","","",{"$f":"IF($AC23=\"\",\"\",入力シート!F31)","v":""},{"$f":"IF($AC23=\"\",\"\",入力シート!G31)","v":""},{"$f":"IF($AC23=\"\",\"\",入力シート!H31)","v":""},""]
[{"$f":"IF(入力シート!$B32=\"\",\"\",大会コード)","v":""},{"$f":"IF(入力シート!$B32=\"\",\"\",VLOOKUP(入力シート!$C32,大会データ!$A$5:$F$374,3,FALSE))","v":""},{"$f":"IF(入力シート!$B32=\"\",\"\",VLOOKUP(入力シート!$C32,大会データ!$A$5:$F$374,4,FALSE))","v":""},{"$f":"IF(入力シート!$B32=\"\",\"\",VLOOKUP(入力シート!$C32,大会データ!$A$5:$F$374,5,FALSE))","v":""},{"$f":"IF(入力シート!$B32=\"\",\"\",基礎データ!$B$6)","v":""},{"$f":"IF(入力シート!$B32=\"\",\"\",B24)","v":""},{"$f":"IF(入力シート!$B32=\"\",\"\",IF(入力シート!$E32=\"\",TEXT(入力シート!$B32,\"00\"),入力シート!$E32))","v":""},null,null,{"$f":"IF(入力シート!I32=\"\",\"\",入力シート!I32)","v":""},null,null,null,null,null,null,null,null,null,null,null,null,null,null,null,null,"","","",{"$f":"IF($AC24=\"\",\"\",入力シート!F32)","v":""},{"$f":"IF($AC24=\"\",\"\",入力シート!G32)","v":""},{"$f":"IF($AC24=\"\",\"\",入力シート!H32)","v":""},""]
[{"$f":"IF(入力シート!$B33=\"\",\"\",大会コード)","v":""},{"$f":"IF(入力シート!$B33=\"\",\"\",VLOOKUP(入力シート!$C33,大会データ!$A$5:$F$374,3,FALSE))","v":""},{"$f":"IF(入力シート!$B33=\"\",\"\",VLOOKUP(入力シート!$C33,大会データ!$A$5:$F$374,4,FALSE))","v":""},{"$f":"IF(入力シート!$B33=\"\",\"\",VLOOKUP(入力シート!$C33,大会データ!$A$5:$F$374,5,FALSE))","v":""},{"$f":"IF(入力シート!$B33=\"\",\"\",基礎データ!$B$6)","v":""},{"$f":"IF(入力シート!$B33=\"\",\"\",B25)","v":""},{"$f":"IF(入力シート!$B33=\"\",\"\",IF(入力シート!$E33=\"\",TEXT(入力シート!$B33,\"00\"),入力シート!$E33))","v":""},null,null,{"$f":"IF(入力シート!I33=\"\",\"\",入力シート!I33)","v":""},null,null,null,null,null,null,null,null,null,null,null,null,null,null,null,null,"","","",{"$f":"IF($AC25=\"\",\"\",入力シート!F33)","v":""},{"$f":"IF($AC25=\"\",\"\",入力シート!G33)","v":""},{"$f":"IF($AC25=\"\",\"\",入力シート!H33)","v":""},""]
[{"$f":"IF(入力シート!$B34=\"\",\"\",大会コード)","v":""},{"$f":"IF(入力シート!$B34=\"\",\"\",VLOOKUP(入力シート!$C34,大会データ!$A$5:$F$374,3,FALSE))","v":""},{"$f":"IF(入力シート!$B34=\"\",\"\",VLOOKUP(入力シート!$C34,大会データ!$A$5:$F$374,4,FALSE))","v":""},{"$f":"IF(入力シート!$B34=\"\",\"\",VLOOKUP(入力シート!$C34,大会データ!$A$5:$F$374,5,FALSE))","v":""},{"$f":"IF(入力シート!$B34=\"\",\"\",基礎データ!$B$6)","v":""},{"$f":"IF(入力シート!$B34=\"\",\"\",B26)","v":""},{"$f":"IF(入力シート!$B34=\"\",\"\",IF(入力シート!$E34=\"\",TEXT(入力シート!$B34,\"00\"),入力シート!$E34))","v":""},null,null,{"$f":"IF(入力シート!I34=\"\",\"\",入力シート!I34)","v":""},null,null,null,null,null,null,null,null,null,null,null,null,null,null,null,null,"","","",{"$f":"IF($AC26=\"\",\"\",入力シート!F34)","v":""},{"$f":"IF($AC26=\"\",\"\",入力シート!G34)","v":""},{"$f":"IF($AC26=\"\",\"\",入力シート!H34)","v":""},""]
[{"$f":"IF(入力シート!$B35=\"\",\"\",大会コード)","v":""},{"$f":"IF(入力シート!$B35=\"\",\"\",VLOOKUP(入力シート!$C35,大会データ!$A$5:$F$374,3,FALSE))","v":""},{"$f":"IF(入力シート!$B35=\"\",\"\",VLOOKUP(入力シート!$C35,大会データ!$A$5:$F$374,4,FALSE))","v":""},{"$f":"IF(入力シート!$B35=\"\",\"\",VLOOKUP(入力シート!$C35,大会データ!$A$5:$F$374,5,FALSE))","v":""},{"$f":"IF(入力シート!$B35=\"\",\"\",基礎データ!$B$6)","v":""},{"$f":"IF(入力シート!$B35=\"\",\"\",B27)","v":""},{"$f":"IF(入力シート!$B35=\"\",\"\",IF(入力シート!$E35=\"\",TEXT(入力シート!$B35,\"00\"),入力シート!$E35))","v":""},null,null,{"$f":"IF(入力シート!I35=\"\",\"\",入力シート!I35)","v":""},null,null,null,null,null,null,null,null,null,null,null,null,null,null,null,null,"","","",{"$f":"IF($AC27=\"\",\"\",入力シート!F35)","v":""},{"$f":"IF($AC27=\"\",\"\",入力シート!G35)","v":""},{"$f":"IF($AC27=\"\",\"\",入力シート!H35)","v":""},""]
[{"$f":"IF(入力シート!$B36=\"\",\"\",大会コード)","v":""},{"$f":"IF(入力シート!$B36=\"\",\"\",VLOOKUP(入力シート!$C36,大会データ!$A$5:$F$374,3,FALSE))","v":""},{"$f":"IF(入力シート!$B36=\"\",\"\",VLOOKUP(入力シート!$C36,大会データ!$A$5:$F$374,4,FALSE))","v":""},{"$f":"IF(入力シート!$B36=\"\",\"\",VLOOKUP(入力シート!$C36,大会データ!$A$5:$F$374,5,FALSE))","v":""},{"$f":"IF(入力シート!$B36=\"\",\"\",基礎データ!$B$6)","v":""},{"$f":"IF(入力シート!$B36=\"\",\"\",B28)","v":""},{"$f":"IF(入力シート!$B36=\"\",\"\",IF(入力シート!$E36=\"\",TEXT(入力シート!$B36,\"00\"),入力シート!$E36))","v":""},null,null,{"$f":"IF(入力シート!I36=\"\",\"\",入力シート!I36)","v":""},null,null,null,null,null,null,null,null,null,null,null,null,null,null,null,null,"","","",{"$f":"IF($AC28=\"\",\"\",入力シート!F36)","v":""},{"$f":"IF($AC28=\"\",\"\",入力シート!G36)","v":""},{"$f":"IF($AC28=\"\",\"\",入力シート!H36)","v":""},""]
[{"$f":"IF(入力シート!$B37=\"\",\"\",大会コード)","v":""},{"$f":"IF(入力シート!$B37=\"\",\"\",VLOOKUP(入力シート!$C37,大会データ!$A$5:$F$374,3,FALSE))","v":""},{"$f":"IF(入力シート!$B37=\"\",\"\",VLOOKUP(入力シート!$C37,大会データ!$A$5:$F$374,4,FALSE))","v":""},{"$f":"IF(入力シート!$B37=\"\",\"\",VLOOKUP(入力シート!$C37,大会データ!$A$5:$F$374,5,FALSE))","v":""},{"$f":"IF(入力シート!$B37=\"\",\"\",基礎データ!$B$6)","v":""},{"$f":"IF(入力シート!$B37=\"\",\"\",B29)","v":""},{"$f":"IF(入力シート!$B37=\"\",\"\",IF(入力シート!$E37=\"\",TEXT(入力シート!$B37,\"00\"),入力シート!$E37))","v":""},null,null,{"$f":"IF(入力シート!I37=\"\",\"\",入力シート!I37)","v":""},null,null,null,null,null,null,null,null,null,null,null,null,null,null,null,null,"","","",{"$f":"IF($AC29=\"\",\"\",入力シート!F37)","v":""},{"$f":"IF($AC29=\"\",\"\",入力シート!G37)","v":""},{"$f":"IF($AC29=\"\",\"\",入力シート!H37)","v":""},""]
[{"$f":"IF(入力シート!$B38=\"\",\"\",大会コード)","v":""},{"$f":"IF(入力シート!$B38=\"\",\"\",VLOOKUP(入力シート!$C38,大会データ!$A$5:$F$374,3,FALSE))","v":""},{"$f":"IF(入力シート!$B38=\"\",\"\",VLOOKUP(入力シート!$C38,大会データ!$A$5:$F$374,4,FALSE))","v":""},{"$f":"IF(入力シート!$B38=\"\",\"\",VLOOKUP(入力シート!$C38,大会データ!$A$5:$F$374,5,FALSE))","v":""},{"$f":"IF(入力シート!$B38=\"\",\"\",基礎データ!$B$6)","v":""},{"$f":"IF(入力シート!$B38=\"\",\"\",B30)","v":""},{"$f":"IF(入力シート!$B38=\"\",\"\",IF(入力シート!$E38=\"\",TEXT(入力シート!$B38,\"00\"),入力シート!$E38))","v":""},null,null,{"$f":"IF(入力シート!I38=\"\",\"\",入力シート!I38)","v":""},null,null,null,null,null,null,null,null,null,null,null,null,null,null,null,null,"","","",{"$f":"IF($AC30=\"\",\"\",入力シート!F38)","v":""},{"$f":"IF($AC30=\"\",\"\",入力シート!G38)","v":""},{"$f":"IF($AC30=\"\",\"\",入力シート!H38)","v":""},""]
[{"$f":"IF(入力シート!$B39=\"\",\"\",大会コード)","v":""},{"$f":"IF(入力シート!$B39=\"\",\"\",VLOOKUP(入力シート!$C39,大会データ!$A$5:$F$374,3,FALSE))","v":""},{"$f":"IF(入力シート!$B39=\"\",\"\",VLOOKUP(入力シート!$C39,大会データ!$A$5:$F$374,4,FALSE))","v":""},{"$f":"IF(入力シート!$B39=\"\",\"\",VLOOKUP(入力シート!$C39,大会データ!$A$5:$F$374,5,FALSE))","v":""},{"$f":"IF(入力シート!$B39=\"\",\"\",基礎データ!$B$6)","v":""},{"$f":"IF(入力シート!$B39=\"\",\"\",B31)","v":""},{"$f":"IF(入力シート!$B39=\"\",\"\",IF(入力シート!$E39=\"\",TEXT(入力シート!$B39,\"00\"),入力シート!$E39))","v":""},null,null,{"$f":"IF(入力シート!I39=\"\",\"\",入力シート!I39)","v":""},null,null,null,null,null,null,null,null,null,null,null,null,null,null,null,null,"","","",{"$f":"IF($AC31=\"\",\"\",入力シート!F39)","v":""},{"$f":"IF($AC31=\"\",\"\",入力シート!G39)","v":""},{"$f":"IF($AC31=\"\",\"\",入力シート!H39)","v":""},""]
[{"$f":"IF(入力シート!$B40=\"\",\"\",大会コード)","v":""},{"$f":"IF(入力シート!$B40=\"\",\"\",VLOOKUP(入力シート!$C40,大会データ!$A$5:$F$374,3,FALSE))","v":""},{"$f":"IF(入力シート!$B40=\"\",\"\",VLOOKUP(入力シート!$C40,大会データ!$A$5:$F$374,4,FALSE))","v":""},{"$f":"IF(入力シート!$B40=\"\",\"\",VLOOKUP(入力シート!$C40,大会データ!$A$5:$F$374,5,FALSE))","v":""},{"$f":"IF(入力シート!$B40=\"\",\"\",基礎データ!$B$6)","v":""},{"$f":"IF(入力シート!$B40=\"\",\"\",B32)","v":""},{"$f":"IF(入力シート!$B40=\"\",\"\",IF(入力シート!$E40=\"\",TEXT(入力シート!$B40,\"00\"),入力シート!$E40))","v":""},null,null,{"$f":"IF(入力シート!I40=\"\",\"\",入力シート!I40)","v":""},null,null,null,null,null,null,null,null,null,null,null,null,null,null,null,null,"","","",{"$f":"IF($AC32=\"\",\"\",入力シート!F40)","v":""},{"$f":"IF($AC32=\"\",\"\",入力シート!G40)","v":""},{"$f":"IF($AC32=\"\",\"\",入力シート!H40)","v":""},""]
[{"$f":"IF(入力シート!$B41=\"\",\"\",大会コード)","v":""},{"$f":"IF(入力シート!$B41=\"\",\"\",VLOOKUP(入力シート!$C41,大会データ!$A$5:$F$374,3,FALSE))","v":""},{"$f":"IF(入力シート!$B41=\"\",\"\",VLOOKUP(入力シート!$C41,大会データ!$A$5:$F$374,4,FALSE))","v":""},{"$f":"IF(入力シート!$B41=\"\",\"\",VLOOKUP(入力シート!$C41,大会データ!$A$5:$F$374,5,FALSE))","v":""},{"$f":"IF(入力シート!$B41=\"\",\"\",基礎データ!$B$6)","v":""},{"$f":"IF(入力シート!$B41=\"\",\"\",B33)","v":""},{"$f":"IF(入力シート!$B41=\"\",\"\",IF(入力シート!$E41=\"\",TEXT(入力シート!$B41,\"00\"),入力シート!$E41))","v":""},null,null,{"$f":"IF(入力シート!I41=\"\",\"\",入力シート!I41)","v":""},null,null,null,null,null,null,null,null,null,null,null,null,null,null,null,null,"","","",{"$f":"IF($AC33=\"\",\"\",入力シート!F41)","v":""},{"$f":"IF($AC33=\"\",\"\",入力シート!G41)","v":""},{"$f":"IF($AC33=\"\",\"\",入力シート!H41)","v":""},""]
[{"$f":"IF(入力シート!$B42=\"\",\"\",大会コード)","v":""},{"$f":"IF(入力シート!$B42=\"\",\"\",VLOOKUP(入力シート!$C42,大会データ!$A$5:$F$374,3,FALSE))","v":""},{"$f":"IF(入力シート!$B42=\"\",\"\",VLOOKUP(入力シート!$C42,大会データ!$A$5:$F$374,4,FALSE))","v":""},{"$f":"IF(入力シート!$B42=\"\",\"\",VLOOKUP(入力シート!$C42,大会データ!$A$5:$F$374,5,FALSE))","v":""},{"$f":"IF(入力シート!$B42=\"\",\"\",基礎データ!$B$6)","v":""},{"$f":"IF(入力シート!$B42=\"\",\"\",B34)","v":""},{"$f":"IF(入力シート!$B42=\"\",\"\",IF(入力シート!$E42=\"\",TEXT(入力シート!$B42,\"00\"),入力シート!$E42))","v":""},null,null,{"$f":"IF(入力シート!I42=\"\",\"\",入力シート!I42)","v":""},null,null,null,null,null,null,null,null,null,null,null,null,null,null,null,null,"","","",{"$f":"IF($AC34=\"\",\"\",入力シート!F42)","v":""},{"$f":"IF($AC34=\"\",\"\",入力シート!G42)","v":""},{"$f":"IF($AC34=\"\",\"\",入力シート!H42)","v":""},""]
[{"$f":"IF(入力シート!$B43=\"\",\"\",大会コード)","v":""},{"$f":"IF(入力シート!$B43=\"\",\"\",VLOOKUP(入力シート!$C43,大会データ!$A$5:$F$374,3,FALSE))","v":""},{"$f":"IF(入力シート!$B43=\"\",\"\",VLOOKUP(入力シート!$C43,大会データ!$A$5:$F$374,4,FALSE))","v":""},{"$f":"IF(入力シート!$B43=\"\",\"\",VLOOKUP(入力シート!$C43,大会データ!$A$5:$F$374,5,FALSE))","v":""},{"$f":"IF(入力シート!$B43=\"\",\"\",基礎データ!$B$6)","v":""},{"$f":"IF(入力シート!$B43=\"\",\"\",B35)","v":""},{"$f":"IF(入力シート!$B43=\"\",\"\",IF(入力シート!$E43=\"\",TEXT(入力シート!$B43,\"00\"),入力シート!$E43))","v":""},null,null,{"$f":"IF(入力シート!I43=\"\",\"\",入力シート!I43)","v":""},null,null,null,null,null,null,null,null,null,null,null,null,null,null,null,null,"","","",{"$f":"IF($AC35=\"\",\"\",入力シート!F43)","v":""},{"$f":"IF($AC35=\"\",\"\",入力シート!G43)","v":""},{"$f":"IF($AC35=\"\",\"\",入力シート!H43)","v":""},""]
[{"$f":"IF(入力シート!$B44=\"\",\"\",大会コード)","v":""},{"$f":"IF(入力シート!$B44=\"\",\"\",VLOOKUP(入力シート!$C44,大会データ!$A$5:$F$374,3,FALSE))","v":""},{"$f":"IF(入力シート!$B44=\"\",\"\",VLOOKUP(入力シート!$C44,大会データ!$A$5:$F$374,4,FALSE))","v":""},{"$f":"IF(入力シート!$B44=\"\",\"\",VLOOKUP(入力シート!$C44,大会データ!$A$5:$F$374,5,FALSE))","v":""},{"$f":"IF(入力シート!$B44=\"\",\"\",基礎データ!$B$6)","v":""},{"$f":"IF(入力シート!$B44=\"\",\"\",B36)","v":""},{"$f":"IF(入力シート!$B44=\"\",\"\",IF(入力シート!$E44=\"\",TEXT(入力シート!$B44,\"00\"),入力シート!$E44))","v":""},null,null,{"$f":"IF(入力シート!I44=\"\",\"\",入力シート!I44)","v":""},null,null,null,null,null,null,null,null,null,null,null,null,null,null,null,null,"","","",{"$f":"IF($AC36=\"\",\"\",入力シート!F44)","v":""},{"$f":"IF($AC36=\"\",\"\",入力シート!G44)","v":""},{"$f":"IF($AC36=\"\",\"\",入力シート!H44)","v":""},""]
[{"$f":"IF(入力シート!$B45=\"\",\"\",大会コード)","v":""},{"$f":"IF(入力シート!$B45=\"\",\"\",VLOOKUP(入力シート!$C45,大会データ!$A$5:$F$374,3,FALSE))","v":""},{"$f":"IF(入力シート!$B45=\"\",\"\",VLOOKUP(入力シート!$C45,大会データ!$A$5:$F$374,4,FALSE))","v":""},{"$f":"IF(入力シート!$B45=\"\",\"\",VLOOKUP(入力シート!$C45,大会データ!$A$5:$F$374,5,FALSE))","v":""},{"$f":"IF(入力シート!$B45=\"\",\"\",基礎データ!$B$6)","v":""},{"$f":"IF(入力シート!$B45=\"\",\"\",B37)","v":""},{"$f":"IF(入力シート!$B45=\"\",\"\",IF(入力シート!$E45=\"\",TEXT(入力シート!$B45,\"00\"),入力シート!$E45))","v":""},null,null,{"$f":"IF(入力シート!I45=\"\",\"\",入力シート!I45)","v":""},null,null,null,null,null,null,null,null,null,null,null,null,null,null,null,null,"","","",{"$f":"IF($AC37=\"\",\"\",入力シート!F45)","v":""},{"$f":"IF($AC37=\"\",\"\",入力シート!G45)","v":""},{"$f":"IF($AC37=\"\",\"\",入力シート!H45)","v":""},""]
[{"$f":"IF(入力シート!$B46=\"\",\"\",大会コード)","v":""},{"$f":"IF(入力シート!$B46=\"\",\"\",VLOOKUP(入力シート!$C46,大会データ!$A$5:$F$374,3,FALSE))","v":""},{"$f":"IF(入力シート!$B46=\"\",\"\",VLOOKUP(入力シート!$C46,大会データ!$A$5:$F$374,4,FALSE))","v":""},{"$f":"IF(入力シート!$B46=\"\",\"\",VLOOKUP(入力シート!$C46,大会データ!$A$5:$F$374,5,FALSE))","v":""},{"$f":"IF(入力シート!$B46=\"\",\"\",基礎データ!$B$6)","v":""},{"$f":"IF(入力シート!$B46=\"\",\"\",B38)","v":""},{"$f":"IF(入力シート!$B46=\"\",\"\",IF(入力シート!$E46=\"\",TEXT(入力シート!$B46,\"00\"),入力シート!$E46))","v":""},null,null,{"$f":"IF(入力シート!I46=\"\",\"\",入力シート!I46)","v":""},null,null,null,null,null,null,null,null,null,null,null,null,null,null,null,null,"","","",{"$f":"IF($AC38=\"\",\"\",入力シート!F46)","v":""},{"$f":"IF($AC38=\"\",\"\",入力シート!G46)","v":""},{"$f":"IF($AC38=\"\",\"\",入力シート!H46)","v":""},""]
[{"$f":"IF(入力シート!$B47=\"\",\"\",大会コード)","v":""},{"$f":"IF(入力シート!$B47=\"\",\"\",VLOOKUP(入力シート!$C47,大会データ!$A$5:$F$374,3,FALSE))","v":""},{"$f":"IF(入力シート!$B47=\"\",\"\",VLOOKUP(入力シート!$C47,大会データ!$A$5:$F$374,4,FALSE))","v":""},{"$f":"IF(入力シート!$B47=\"\",\"\",VLOOKUP(入力シート!$C47,大会データ!$A$5:$F$374,5,FALSE))","v":""},{"$f":"IF(入力シート!$B47=\"\",\"\",基礎データ!$B$6)","v":""},{"$f":"IF(入力シート!$B47=\"\",\"\",B39)","v":""},{"$f":"IF(入力シート!$B47=\"\",\"\",IF(入力シート!$E47=\"\",TEXT(入力シート!$B47,\"00\"),入力シート!$E47))","v":""},null,null,{"$f":"IF(入力シート!I47=\"\",\"\",入力シート!I47)","v":""},null,null,null,null,null,null,null,null,null,null,null,null,null,null,null,null,"","","",{"$f":"IF($AC39=\"\",\"\",入力シート!F47)","v":""},{"$f":"IF($AC39=\"\",\"\",入力シート!G47)","v":""},{"$f":"IF($AC39=\"\",\"\",入力シート!H47)","v":""},""]
[{"$f":"IF(入力シート!$B48=\"\",\"\",大会コード)","v":""},{"$f":"IF(入力シート!$B48=\"\",\"\",VLOOKUP(入力シート!$C48,大会データ!$A$5:$F$374,3,FALSE))","v":""},{"$f":"IF(入力シート!$B48=\"\",\"\",VLOOKUP(入力シート!$C48,大会データ!$A$5:$F$374,4,FALSE))","v":""},{"$f":"IF(入力シート!$B48=\"\",\"\",VLOOKUP(入力シート!$C48,大会データ!$A$5:$F$374,5,FALSE))","v":""},{"$f":"IF(入力シート!$B48=\"\",\"\",基礎データ!$B$6)","v":""},{"$f":"IF(入力シート!$B48=\"\",\"\",B40)","v":""},{"$f":"IF(入力シート!$B48=\"\",\"\",IF(入力シート!$E48=\"\",TEXT(入力シート!$B48,\"00\"),入力シート!$E48))","v":""},null,null,{"$f":"IF(入力シート!I48=\"\",\"\",入力シート!I48)","v":""},null,null,null,null,null,null,null,null,null,null,null,null,null,null,null,null,"","","",{"$f":"IF($AC40=\"\",\"\",入力シート!F48)","v":""},{"$f":"IF($AC40=\"\",\"\",入力シート!G48)","v":""},{"$f":"IF($AC40=\"\",\"\",入力シート!H48)","v":""},""]
[{"$f":"IF(入力シート!$B49=\"\",\"\",大会コード)","v":""},{"$f":"IF(入力シート!$B49=\"\",\"\",VLOOKUP(入力シート!$C49,大会データ!$A$5:$F$374,3,FALSE))","v":""},{"$f":"IF(入力シート!$B49=\"\",\"\",VLOOKUP(入力シート!$C49,大会データ!$A$5:$F$374,4,FALSE))","v":""},{"$f":"IF(入力シート!$B49=\"\",\"\",VLOOKUP(入力シート!$C49,大会データ!$A$5:$F$374,5,FALSE))","v":""},{"$f":"IF(入力シート!$B49=\"\",\"\",基礎データ!$B$6)","v":""},{"$f":"IF(入力シート!$B49=\"\",\"\",B41)","v":""},{"$f":"IF(入力シート!$B49=\"\",\"\",IF(入力シート!$E49=\"\",TEXT(入力シート!$B49,\"00\"),入力シート!$E49))","v":""},null,null,{"$f":"IF(入力シート!I49=\"\",\"\",入力シート!I49)","v":""},null,null,null,null,null,null,null,null,null,null,null,null,null,null,null,null,"","","",{"$f":"IF($AC41=\"\",\"\",入力シート!F49)","v":""},{"$f":"IF($AC41=\"\",\"\",入力シート!G49)","v":""},{"$f":"IF($AC41=\"\",\"\",入力シート!H49)","v":""},""]
[{"$f":"IF(入力シート!$B50=\"\",\"\",大会コード)","v":""},{"$f":"IF(入力シート!$B50=\"\",\"\",VLOOKUP(入力シート!$C50,大会データ!$A$5:$F$374,3,FALSE))","v":""},{"$f":"IF(入力シート!$B50=\"\",\"\",VLOOKUP(入力シート!$C50,大会データ!$A$5:$F$374,4,FALSE))","v":""},{"$f":"IF(入力シート!$B50=\"\",\"\",VLOOKUP(入力シート!$C50,大会データ!$A$5:$F$374,5,FALSE))","v":""},{"$f":"IF(入力シート!$B50=\"\",\"\",基礎データ!$B$6)","v":""},{"$f":"IF(入力シート!$B50=\"\",\"\",B42)","v":""},{"$f":"IF(入力シート!$B50=\"\",\"\",IF(入力シート!$E50=\"\",TEXT(入力シート!$B50,\"00\"),入力シート!$E50))","v":""},null,null,{"$f":"IF(入力シート!I50=\"\",\"\",入力シート!I50)","v":""},null,null,null,null,null,null,null,null,null,null,null,null,null,null,null,null,"","","",{"$f":"IF($AC42=\"\",\"\",入力シート!F50)","v":""},{"$f":"IF($AC42=\"\",\"\",入力シート!G50)","v":""},{"$f":"IF($AC42=\"\",\"\",入力シート!H50)","v":""},""]
[{"$f":"IF(入力シート!$B51=\"\",\"\",大会コード)","v":""},{"$f":"IF(入力シート!$B51=\"\",\"\",VLOOKUP(入力シート!$C51,大会データ!$A$5:$F$374,3,FALSE))","v":""},{"$f":"IF(入力シート!$B51=\"\",\"\",VLOOKUP(入力シート!$C51,大会データ!$A$5:$F$374,4,FALSE))","v":""},{"$f":"IF(入力シート!$B51=\"\",\"\",VLOOKUP(入力シート!$C51,大会データ!$A$5:$F$374,5,FALSE))","v":""},{"$f":"IF(入力シート!$B51=\"\",\"\",基礎データ!$B$6)","v":""},{"$f":"IF(入力シート!$B51=\"\",\"\",B43)","v":""},{"$f":"IF(入力シート!$B51=\"\",\"\",IF(入力シート!$E51=\"\",TEXT(入力シート!$B51,\"00\"),入力シート!$E51))","v":""},null,null,{"$f":"IF(入力シート!I51=\"\",\"\",入力シート!I51)","v":""},null,null,null,null,null,null,null,null,null,null,null,null,null,null,null,null,"","","",{"$f":"IF($AC43=\"\",\"\",入力シート!F51)","v":""},{"$f":"IF($AC43=\"\",\"\",入力シート!G51)","v":""},{"$f":"IF($AC43=\"\",\"\",入力シート!H51)","v":""},""]
[{"$f":"IF(入力シート!$B52=\"\",\"\",大会コード)","v":""},{"$f":"IF(入力シート!$B52=\"\",\"\",VLOOKUP(入力シート!$C52,大会データ!$A$5:$F$374,3,FALSE))","v":""},{"$f":"IF(入力シート!$B52=\"\",\"\",VLOOKUP(入力シート!$C52,大会データ!$A$5:$F$374,4,FALSE))","v":""},{"$f":"IF(入力シート!$B52=\"\",\"\",VLOOKUP(入力シート!$C52,大会データ!$A$5:$F$374,5,FALSE))","v":""},{"$f":"IF(入力シート!$B52=\"\",\"\",基礎データ!$B$6)","v":""},{"$f":"IF(入力シート!$B52=\"\",\"\",B44)","v":""},{"$f":"IF(入力シート!$B52=\"\",\"\",IF(入力シート!$E52=\"\",TEXT(入力シート!$B52,\"00\"),入力シート!$E52))","v":""},null,null,{"$f":"IF(入力シート!I52=\"\",\"\",入力シート!I52)","v":""},null,null,null,null,null,null,null,null,null,null,null,null,null,null,null,null,"","","",{"$f":"IF($AC44=\"\",\"\",入力シート!F52)","v":""},{"$f":"IF($AC44=\"\",\"\",入力シート!G52)","v":""},{"$f":"IF($AC44=\"\",\"\",入力シート!H52)","v":""},""]
[{"$f":"IF(入力シート!$B53=\"\",\"\",大会コード)","v":""},{"$f":"IF(入力シート!$B53=\"\",\"\",VLOOKUP(入力シート!$C53,大会データ!$A$5:$F$374,3,FALSE))","v":""},{"$f":"IF(入力シート!$B53=\"\",\"\",VLOOKUP(入力シート!$C53,大会データ!$A$5:$F$374,4,FALSE))","v":""},{"$f":"IF(入力シート!$B53=\"\",\"\",VLOOKUP(入力シート!$C53,大会データ!$A$5:$F$374,5,FALSE))","v":""},{"$f":"IF(入力シート!$B53=\"\",\"\",基礎データ!$B$6)","v":""},{"$f":"IF(入力シート!$B53=\"\",\"\",B45)","v":""},{"$f":"IF(入力シート!$B53=\"\",\"\",IF(入力シート!$E53=\"\",TEXT(入力シート!$B53,\"00\"),入力シート!$E53))","v":""},null,null,{"$f":"IF(入力シート!I53=\"\",\"\",入力シート!I53)","v":""},null,null,null,null,null,null,null,null,null,null,null,null,null,null,null,null,"","","",{"$f":"IF($AC45=\"\",\"\",入力シート!F53)","v":""},{"$f":"IF($AC45=\"\",\"\",入力シート!G53)","v":""},{"$f":"IF($AC45=\"\",\"\",入力シート!H53)","v":""},""]
[{"$f":"IF(入力シート!$B54=\"\",\"\",大会コード)","v":""},{"$f":"IF(入力シート!$B54=\"\",\"\",VLOOKUP(入力シート!$C54,大会データ!$A$5:$F$374,3,FALSE))","v":""},{"$f":"IF(入力シート!$B54=\"\",\"\",VLOOKUP(入力シート!$C54,大会データ!$A$5:$F$374,4,FALSE))","v":""},{"$f":"IF(入力シート!$B54=\"\",\"\",VLOOKUP(入力シート!$C54,大会データ!$A$5:$F$374,5,FALSE))","v":""},{"$f":"IF(入力シート!$B54=\"\",\"\",基礎データ!$B$6)","v":""},{"$f":"IF(入力シート!$B54=\"\",\"\",B46)","v":""},{"$f":"IF(入力シート!$B54=\"\",\"\",IF(入力シート!$E54=\"\",TEXT(入力シート!$B54,\"00\"),入力シート!$E54))","v":""},null,null,{"$f":"IF(入力シート!I54=\"\",\"\",入力シート!I54)","v":""},null,null,null,null,null,null,null,null,null,null,null,null,null,null,null,null,"","","",{"$f":"IF($AC46=\"\",\"\",入力シート!F54)","v":""},{"$f":"IF($AC46=\"\",\"\",入力シート!G54)","v":""},{"$f":"IF($AC46=\"\",\"\",入力シート!H54)","v":""},""]
[{"$f":"IF(入力シート!$B55=\"\",\"\",大会コード)","v":""},{"$f":"IF(入力シート!$B55=\"\",\"\",VLOOKUP(入力シート!$C55,大会データ!$A$5:$F$374,3,FALSE))","v":""},{"$f":"IF(入力シート!$B55=\"\",\"\",VLOOKUP(入力シート!$C55,大会データ!$A$5:$F$374,4,FALSE))","v":""},{"$f":"IF(入力シート!$B55=\"\",\"\",VLOOKUP(入力シート!$C55,大会データ!$A$5:$F$374,5,FALSE))","v":""},{"$f":"IF(入力シート!$B55=\"\",\"\",基礎データ!$B$6)","v":""},{"$f":"IF(入力シート!$B55=\"\",\"\",B47)","v":""},{"$f":"IF(入力シート!$B55=\"\",\"\",IF(入力シート!$E55=\"\",TEXT(入力シート!$B55,\"00\"),入力シート!$E55))","v":""},null,null,{"$f":"IF(入力シート!I55=\"\",\"\",入力シート!I55)","v":""},null,null,null,null,null,null,null,null,null,null,null,null,null,null,null,null,"","","",{"$f":"IF($AC47=\"\",\"\",入力シート!F55)","v":""},{"$f":"IF($AC47=\"\",\"\",入力シート!G55)","v":""},{"$f":"IF($AC47=\"\",\"\",入力シート!H55)","v":""},""]
[{"$f":"IF(入力シート!$B56=\"\",\"\",大会コード)","v":""},{"$f":"IF(入力シート!$B56=\"\",\"\",VLOOKUP(入力シート!$C56,大会データ!$A$5:$F$374,3,FALSE))","v":""},{"$f":"IF(入力シート!$B56=\"\",\"\",VLOOKUP(入力シート!$C56,大会データ!$A$5:$F$374,4,FALSE))","v":""},{"$f":"IF(入力シート!$B56=\"\",\"\",VLOOKUP(入力シート!$C56,大会データ!$A$5:$F$374,5,FALSE))","v":""},{"$f":"IF(入力シート!$B56=\"\",\"\",基礎データ!$B$6)","v":""},{"$f":"IF(入力シート!$B56=\"\",\"\",B48)","v":""},{"$f":"IF(入力シート!$B56=\"\",\"\",IF(入力シート!$E56=\"\",TEXT(入力シート!$B56,\"00\"),入力シート!$E56))","v":""},null,null,{"$f":"IF(入力シート!I56=\"\",\"\",入力シート!I56)","v":""},null,null,null,null,null,null,null,null,null,null,null,null,null,null,null,null,"","","",{"$f":"IF($AC48=\"\",\"\",入力シート!F56)","v":""},{"$f":"IF($AC48=\"\",\"\",入力シート!G56)","v":""},{"$f":"IF($AC48=\"\",\"\",入力シート!H56)","v":""},""]
[{"$f":"IF(入力シート!$B57=\"\",\"\",大会コード)","v":""},{"$f":"IF(入力シート!$B57=\"\",\"\",VLOOKUP(入力シート!$C57,大会データ!$A$5:$F$374,3,FALSE))","v":""},{"$f":"IF(入力シート!$B57=\"\",\"\",VLOOKUP(入力シート!$C57,大会データ!$A$5:$F$374,4,FALSE))","v":""},{"$f":"IF(入力シート!$B57=\"\",\"\",VLOOKUP(入力シート!$C57,大会データ!$A$5:$F$374,5,FALSE))","v":""},{"$f":"IF(入力シート!$B57=\"\",\"\",基礎データ!$B$6)","v":""},{"$f":"IF(入力シート!$B57=\"\",\"\",B49)","v":""},{"$f":"IF(入力シート!$B57=\"\",\"\",IF(入力シート!$E57=\"\",TEXT(入力シート!$B57,\"00\"),入力シート!$E57))","v":""},null,null,{"$f":"IF(入力シート!I57=\"\",\"\",入力シート!I57)","v":""},null,null,null,null,null,null,null,null,null,null,null,null,null,null,null,null,"","","",{"$f":"IF($AC49=\"\",\"\",入力シート!F57)","v":""},{"$f":"IF($AC49=\"\",\"\",入力シート!G57)","v":""},{"$f":"IF($AC49=\"\",\"\",入力シート!H57)","v":""},""]
[{"$f":"IF(入力シート!$B58=\"\",\"\",大会コード)","v":""},{"$f":"IF(入力シート!$B58=\"\",\"\",VLOOKUP(入力シート!$C58,大会データ!$A$5:$F$374,3,FALSE))","v":""},{"$f":"IF(入力シート!$B58=\"\",\"\",VLOOKUP(入力シート!$C58,大会データ!$A$5:$F$374,4,FALSE))","v":""},{"$f":"IF(入力シート!$B58=\"\",\"\",VLOOKUP(入力シート!$C58,大会データ!$A$5:$F$374,5,FALSE))","v":""},{"$f":"IF(入力シート!$B58=\"\",\"\",基礎データ!$B$6)","v":""},{"$f":"IF(入力シート!$B58=\"\",\"\",B50)","v":""},{"$f":"IF(入力シート!$B58=\"\",\"\",IF(入力シート!$E58=\"\",TEXT(入力シート!$B58,\"00\"),入力シート!$E58))","v":""},null,null,{"$f":"IF(入力シート!I58=\"\",\"\",入力シート!I58)","v":""},null,null,null,null,null,null,null,null,null,null,null,null,null,null,null,null,"","","",{"$f":"IF($AC50=\"\",\"\",入力シート!F58)","v":""},{"$f":"IF($AC50=\"\",\"\",入力シート!G58)","v":""},{"$f":"IF($AC50=\"\",\"\",入力シート!H58)","v":""},""]
[{"$f":"IF(入力シート!$B59=\"\",\"\",大会コード)","v":""},{"$f":"IF(入力シート!$B59=\"\",\"\",VLOOKUP(入力シート!$C59,大会データ!$A$5:$F$374,3,FALSE))","v":""},{"$f":"IF(入力シート!$B59=\"\",\"\",VLOOKUP(入力シート!$C59,大会データ!$A$5:$F$374,4,FALSE))","v":""},{"$f":"IF(入力シート!$B59=\"\",\"\",VLOOKUP(入力シート!$C59,大会データ!$A$5:$F$374,5,FALSE))","v":""},{"$f":"IF(入力シート!$B59=\"\",\"\",基礎データ!$B$6)","v":""},{"$f":"IF(入力シート!$B59=\"\",\"\",B51)","v":""},{"$f":"IF(入力シート!$B59=\"\",\"\",IF(入力シート!$E59=\"\",TEXT(入力シート!$B59,\"00\"),入力シート!$E59))","v":""},null,null,{"$f":"IF(入力シート!I59=\"\",\"\",入力シート!I59)","v":""},null,null,null,null,null,null,null,null,null,null,null,null,null,null,null,null,"","","",{"$f":"IF($AC51=\"\",\"\",入力シート!F59)","v":""},{"$f":"IF($AC51=\"\",\"\",入力シート!G59)","v":""},{"$f":"IF($AC51=\"\",\"\",入力シート!H59)","v":""},""]
[{"$f":"IF(入力シート!$B60=\"\",\"\",大会コード)","v":""},{"$f":"IF(入力シート!$B60=\"\",\"\",VLOOKUP(入力シート!$C60,大会データ!$A$5:$F$374,3,FALSE))","v":""},{"$f":"IF(入力シート!$B60=\"\",\"\",VLOOKUP(入力シート!$C60,大会データ!$A$5:$F$374,4,FALSE))","v":""},{"$f":"IF(入力シート!$B60=\"\",\"\",VLOOKUP(入力シート!$C60,大会データ!$A$5:$F$374,5,FALSE))","v":""},{"$f":"IF(入力シート!$B60=\"\",\"\",基礎データ!$B$6)","v":""},{"$f":"IF(入力シート!$B60=\"\",\"\",B52)","v":""},{"$f":"IF(入力シート!$B60=\"\",\"\",IF(入力シート!$E60=\"\",TEXT(入力シート!$B60,\"00\"),入力シート!$E60))","v":""},null,null,{"$f":"IF(入力シート!I60=\"\",\"\",入力シート!I60)","v":""},null,null,null,null,null,null,null,null,null,null,null,null,null,null,null,null,"","","",{"$f":"IF($AC52=\"\",\"\",入力シート!F60)","v":""},{"$f":"IF($AC52=\"\",\"\",入力シート!G60)","v":""},{"$f":"IF($AC52=\"\",\"\",入力シート!H60)","v":""},""]
[{"$f":"IF(入力シート!$B61=\"\",\"\",大会コード)","v":""},{"$f":"IF(入力シート!$B61=\"\",\"\",VLOOKUP(入力シート!$C61,大会データ!$A$5:$F$374,3,FALSE))","v":""},{"$f":"IF(入力シート!$B61=\"\",\"\",VLOOKUP(入力シート!$C61,大会データ!$A$5:$F$374,4,FALSE))","v":""},{"$f":"IF(入力シート!$B61=\"\",\"\",VLOOKUP(入力シート!$C61,大会データ!$A$5:$F$374,5,FALSE))","v":""},{"$f":"IF(入力シート!$B61=\"\",\"\",基礎データ!$B$6)","v":""},{"$f":"IF(入力シート!$B61=\"\",\"\",B53)","v":""},{"$f":"IF(入力シート!$B61=\"\",\"\",IF(入力シート!$E61=\"\",TEXT(入力シート!$B61,\"00\"),入力シート!$E61))","v":""},null,null,{"$f":"IF(入力シート!I61=\"\",\"\",入力シート!I61)","v":""},null,null,null,null,null,null,null,null,null,null,null,null,null,null,null,null,"","","",{"$f":"IF($AC53=\"\",\"\",入力シート!F61)","v":""},{"$f":"IF($AC53=\"\",\"\",入力シート!G61)","v":""},{"$f":"IF($AC53=\"\",\"\",入力シート!H61)","v":""},""]
[{"$f":"IF(入力シート!$B62=\"\",\"\",大会コード)","v":""},{"$f":"IF(入力シート!$B62=\"\",\"\",VLOOKUP(入力シート!$C62,大会データ!$A$5:$F$374,3,FALSE))","v":""},{"$f":"IF(入力シート!$B62=\"\",\"\",VLOOKUP(入力シート!$C62,大会データ!$A$5:$F$374,4,FALSE))","v":""},{"$f":"IF(入力シート!$B62=\"\",\"\",VLOOKUP(入力シート!$C62,大会データ!$A$5:$F$374,5,FALSE))","v":""},{"$f":"IF(入力シート!$B62=\"\",\"\",基礎データ!$B$6)","v":""},{"$f":"IF(入力シート!$B62=\"\",\"\",B54)","v":""},{"$f":"IF(入力シート!$B62=\"\",\"\",IF(入力シート!$E62=\"\",TEXT(入力シート!$B62,\"00\"),入力シート!$E62))","v":""},null,null,{"$f":"IF(入力シート!I62=\"\",\"\",入力シート!I62)","v":""},null,null,null,null,null,null,null,null,null,null,null,null,null,null,null,null,"","","",{"$f":"IF($AC54=\"\",\"\",入力シート!F62)","v":""},{"$f":"IF($AC54=\"\",\"\",入力シート!G62)","v":""},{"$f":"IF($AC54=\"\",\"\",入力シート!H62)","v":""},""]
[{"$f":"IF(入力シート!$B63=\"\",\"\",大会コード)","v":""},{"$f":"IF(入力シート!$B63=\"\",\"\",VLOOKUP(入力シート!$C63,大会データ!$A$5:$F$374,3,FALSE))","v":""},{"$f":"IF(入力シート!$B63=\"\",\"\",VLOOKUP(入力シート!$C63,大会データ!$A$5:$F$374,4,FALSE))","v":""},{"$f":"IF(入力シート!$B63=\"\",\"\",VLOOKUP(入力シート!$C63,大会データ!$A$5:$F$374,5,FALSE))","v":""},{"$f":"IF(入力シート!$B63=\"\",\"\",基礎データ!$B$6)","v":""},{"$f":"IF(入力シート!$B63=\"\",\"\",B55)","v":""},{"$f":"IF(入力シート!$B63=\"\",\"\",IF(入力シート!$E63=\"\",TEXT(入力シート!$B63,\"00\"),入力シート!$E63))","v":""},null,null,{"$f":"IF(入力シート!I63=\"\",\"\",入力シート!I63)","v":""},null,null,null,null,null,null,null,null,null,null,null,null,null,null,null,null,"","","",{"$f":"IF($AC55=\"\",\"\",入力シート!F63)","v":""},{"$f":"IF($AC55=\"\",\"\",入力シート!G63)","v":""},{"$f":"IF($AC55=\"\",\"\",入力シート!H63)","v":""},""]
[{"$f":"IF(入力シート!$B64=\"\",\"\",大会コード)","v":""},{"$f":"IF(入力シート!$B64=\"\",\"\",VLOOKUP(入力シート!$C64,大会データ!$A$5:$F$374,3,FALSE))","v":""},{"$f":"IF(入力シート!$B64=\"\",\"\",VLOOKUP(入力シート!$C64,大会データ!$A$5:$F$374,4,FALSE))","v":""},{"$f":"IF(入力シート!$B64=\"\",\"\",VLOOKUP(入力シート!$C64,大会データ!$A$5:$F$374,5,FALSE))","v":""},{"$f":"IF(入力シート!$B64=\"\",\"\",基礎データ!$B$6)","v":""},{"$f":"IF(入力シート!$B64=\"\",\"\",B56)","v":""},{"$f":"IF(入力シート!$B64=\"\",\"\",IF(入力シート!$E64=\"\",TEXT(入力シート!$B64,\"00\"),入力シート!$E64))","v":""},null,null,{"$f":"IF(入力シート!I64=\"\",\"\",入力シート!I64)","v":""},null,null,null,null,null,null,null,null,null,null,null,null,null,null,null,null,"","","",{"$f":"IF($AC56=\"\",\"\",入力シート!F64)","v":""},{"$f":"IF($AC56=\"\",\"\",入力シート!G64)","v":""},{"$f":"IF($AC56=\"\",\"\",入力シート!H64)","v":""},""]
[{"$f":"IF(入力シート!$B65=\"\",\"\",大会コード)","v":""},{"$f":"IF(入力シート!$B65=\"\",\"\",VLOOKUP(入力シート!$C65,大会データ!$A$5:$F$374,3,FALSE))","v":""},{"$f":"IF(入力シート!$B65=\"\",\"\",VLOOKUP(入力シート!$C65,大会データ!$A$5:$F$374,4,FALSE))","v":""},{"$f":"IF(入力シート!$B65=\"\",\"\",VLOOKUP(入力シート!$C65,大会データ!$A$5:$F$374,5,FALSE))","v":""},{"$f":"IF(入力シート!$B65=\"\",\"\",基礎データ!$B$6)","v":""},{"$f":"IF(入力シート!$B65=\"\",\"\",B57)","v":""},{"$f":"IF(入力シート!$B65=\"\",\"\",IF(入力シート!$E65=\"\",TEXT(入力シート!$B65,\"00\"),入力シート!$E65))","v":""},null,null,{"$f":"IF(入力シート!I65=\"\",\"\",入力シート!I65)","v":""},null,null,null,null,null,null,null,null,null,null,null,null,null,null,null,null,"","","",{"$f":"IF($AC57=\"\",\"\",入力シート!F65)","v":""},{"$f":"IF($AC57=\"\",\"\",入力シート!G65)","v":""},{"$f":"IF($AC57=\"\",\"\",入力シート!H65)","v":""},""]
[{"$f":"IF(入力シート!$B66=\"\",\"\",大会コード)","v":""},{"$f":"IF(入力シート!$B66=\"\",\"\",VLOOKUP(入力シート!$C66,大会データ!$A$5:$F$374,3,FALSE))","v":""},{"$f":"IF(入力シート!$B66=\"\",\"\",VLOOKUP(入力シート!$C66,大会データ!$A$5:$F$374,4,FALSE))","v":""},{"$f":"IF(入力シート!$B66=\"\",\"\",VLOOKUP(入力シート!$C66,大会データ!$A$5:$F$374,5,FALSE))","v":""},{"$f":"IF(入力シート!$B66=\"\",\"\",基礎データ!$B$6)","v":""},{"$f":"IF(入力シート!$B66=\"\",\"\",B58)","v":""},{"$f":"IF(入力シート!$B66=\"\",\"\",IF(入力シート!$E66=\"\",TEXT(入力シート!$B66,\"00\"),入力シート!$E66))","v":""},null,null,{"$f":"IF(入力シート!I66=\"\",\"\",入力シート!I66)","v":""},null,null,null,null,null,null,null,null,null,null,null,null,null,null,null,null,"","","",{"$f":"IF($AC58=\"\",\"\",入力シート!F66)","v":""},{"$f":"IF($AC58=\"\",\"\",入力シート!G66)","v":""},{"$f":"IF($AC58=\"\",\"\",入力シート!H66)","v":""},""]
[{"$f":"IF(入力シート!$B67=\"\",\"\",大会コード)","v":""},{"$f":"IF(入力シート!$B67=\"\",\"\",VLOOKUP(入力シート!$C67,大会データ!$A$5:$F$374,3,FALSE))","v":""},{"$f":"IF(入力シート!$B67=\"\",\"\",VLOOKUP(入力シート!$C67,大会データ!$A$5:$F$374,4,FALSE))","v":""},{"$f":"IF(入力シート!$B67=\"\",\"\",VLOOKUP(入力シート!$C67,大会データ!$A$5:$F$374,5,FALSE))","v":""},{"$f":"IF(入力シート!$B67=\"\",\"\",基礎データ!$B$6)","v":""},{"$f":"IF(入力シート!$B67=\"\",\"\",B59)","v":""},{"$f":"IF(入力シート!$B67=\"\",\"\",IF(入力シート!$E67=\"\",TEXT(入力シート!$B67,\"00\"),入力シート!$E67))","v":""},null,null,{"$f":"IF(入力シート!I67=\"\",\"\",入力シート!I67)","v":""},null,null,null,null,null,null,null,null,null,null,null,null,null,null,null,null,"","","",{"$f":"IF($AC59=\"\",\"\",入力シート!F67)","v":""},{"$f":"IF($AC59=\"\",\"\",入力シート!G67)","v":""},{"$f":"IF($AC59=\"\",\"\",入力シート!H67)","v":""},""]
[{"$f":"IF(入力シート!$B68=\"\",\"\",大会コード)","v":""},{"$f":"IF(入力シート!$B68=\"\",\"\",VLOOKUP(入力シート!$C68,大会データ!$A$5:$F$374,3,FALSE))","v":""},{"$f":"IF(入力シート!$B68=\"\",\"\",VLOOKUP(入力シート!$C68,大会データ!$A$5:$F$374,4,FALSE))","v":""},{"$f":"IF(入力シート!$B68=\"\",\"\",VLOOKUP(入力シート!$C68,大会データ!$A$5:$F$374,5,FALSE))","v":""},{"$f":"IF(入力シート!$B68=\"\",\"\",基礎データ!$B$6)","v":""},{"$f":"IF(入力シート!$B68=\"\",\"\",B60)","v":""},{"$f":"IF(入力シート!$B68=\"\",\"\",IF(入力シート!$E68=\"\",TEXT(入力シート!$B68,\"00\"),入力シート!$E68))","v":""},null,null,{"$f":"IF(入力シート!I68=\"\",\"\",入力シート!I68)","v":""},null,null,null,null,null,null,null,null,null,null,null,null,null,null,null,null,"","","",{"$f":"IF($AC60=\"\",\"\",入力シート!F68)","v":""},{"$f":"IF($AC60=\"\",\"\",入力シート!G68)","v":""},{"$f":"IF($AC60=\"\",\"\",入力シート!H68)","v":""},""]
[{"$f":"IF(入力シート!$B69=\"\",\"\",大会コード)","v":""},{"$f":"IF(入力シート!$B69=\"\",\"\",VLOOKUP(入力シート!$C69,大会データ!$A$5:$F$374,3,FALSE))","v":""},{"$f":"IF(入力シート!$B69=\"\",\"\",VLOOKUP(入力シート!$C69,大会データ!$A$5:$F$374,4,FALSE))","v":""},{"$f":"IF(入力シート!$B69=\"\",\"\",VLOOKUP(入力シート!$C69,大会データ!$A$5:$F$374,5,FALSE))","v":""},{"$f":"IF(入力シート!$B69=\"\",\"\",基礎データ!$B$6)","v":""},{"$f":"IF(入力シート!$B69=\"\",\"\",B61)","v":""},{"$f":"IF(入力シート!$B69=\"\",\"\",IF(入力シート!$E69=\"\",TEXT(入力シート!$B69,\"00\"),入力シート!$E69))","v":""},null,null,{"$f":"IF(入力シート!I69=\"\",\"\",入力シート!I69)","v":""},null,null,null,null,null,null,null,null,null,null,null,null,null,null,null,null,"","","",{"$f":"IF($AC61=\"\",\"\",入力シート!F69)","v":""},{"$f":"IF($AC61=\"\",\"\",入力シート!G69)","v":""},{"$f":"IF($AC61=\"\",\"\",入力シート!H69)","v":""},""]
[{"$f":"IF(入力シート!$B70=\"\",\"\",大会コード)","v":""},{"$f":"IF(入力シート!$B70=\"\",\"\",VLOOKUP(入力シート!$C70,大会データ!$A$5:$F$374,3,FALSE))","v":""},{"$f":"IF(入力シート!$B70=\"\",\"\",VLOOKUP(入力シート!$C70,大会データ!$A$5:$F$374,4,FALSE))","v":""},{"$f":"IF(入力シート!$B70=\"\",\"\",VLOOKUP(入力シート!$C70,大会データ!$A$5:$F$374,5,FALSE))","v":""},{"$f":"IF(入力シート!$B70=\"\",\"\",基礎データ!$B$6)","v":""},{"$f":"IF(入力シート!$B70=\"\",\"\",B62)","v":""},{"$f":"IF(入力シート!$B70=\"\",\"\",IF(入力シート!$E70=\"\",TEXT(入力シート!$B70,\"00\"),入力シート!$E70))","v":""},null,null,{"$f":"IF(入力シート!I70=\"\",\"\",入力シート!I70)","v":""},null,null,null,null,null,null,null,null,null,null,null,null,null,null,null,null,"","","",{"$f":"IF($AC62=\"\",\"\",入力シート!F70)","v":""},{"$f":"IF($AC62=\"\",\"\",入力シート!G70)","v":""},{"$f":"IF($AC62=\"\",\"\",入力シート!H70)","v":""},""]
[{"$f":"IF(入力シート!$B71=\"\",\"\",大会コード)","v":""},{"$f":"IF(入力シート!$B71=\"\",\"\",VLOOKUP(入力シート!$C71,大会データ!$A$5:$F$374,3,FALSE))","v":""},{"$f":"IF(入力シート!$B71=\"\",\"\",VLOOKUP(入力シート!$C71,大会データ!$A$5:$F$374,4,FALSE))","v":""},{"$f":"IF(入力シート!$B71=\"\",\"\",VLOOKUP(入力シート!$C71,大会データ!$A$5:$F$374,5,FALSE))","v":""},{"$f":"IF(入力シート!$B71=\"\",\"\",基礎データ!$B$6)","v":""},{"$f":"IF(入力シート!$B71=\"\",\"\",B63)","v":""},{"$f":"IF(入力シート!$B71=\"\",\"\",IF(入力シート!$E71=\"\",TEXT(入力シート!$B71,\"00\"),入力シート!$E71))","v":""},null,null,{"$f":"IF(入力シート!I71=\"\",\"\",入力シート!I71)","v":""},null,null,null,null,null,null,null,null,null,null,null,null,null,null,null,null,"","","",{"$f":"IF($AC63=\"\",\"\",入力シート!F71)","v":""},{"$f":"IF($AC63=\"\",\"\",入力シート!G71)","v":""},{"$f":"IF($AC63=\"\",\"\",入力シート!H71)","v":""},""]
[{"$f":"IF(入力シート!$B72=\"\",\"\",大会コード)","v":""},{"$f":"IF(入力シート!$B72=\"\",\"\",VLOOKUP(入力シート!$C72,大会データ!$A$5:$F$374,3,FALSE))","v":""},{"$f":"IF(入力シート!$B72=\"\",\"\",VLOOKUP(入力シート!$C72,大会データ!$A$5:$F$374,4,FALSE))","v":""},{"$f":"IF(入力シート!$B72=\"\",\"\",VLOOKUP(入力シート!$C72,大会データ!$A$5:$F$374,5,FALSE))","v":""},{"$f":"IF(入力シート!$B72=\"\",\"\",基礎データ!$B$6)","v":""},{"$f":"IF(入力シート!$B72=\"\",\"\",B64)","v":""},{"$f":"IF(入力シート!$B72=\"\",\"\",IF(入力シート!$E72=\"\",TEXT(入力シート!$B72,\"00\"),入力シート!$E72))","v":""},null,null,{"$f":"IF(入力シート!I72=\"\",\"\",入力シート!I72)","v":""},null,null,null,null,null,null,null,null,null,null,null,null,null,null,null,null,"","","",{"$f":"IF($AC64=\"\",\"\",入力シート!F72)","v":""},{"$f":"IF($AC64=\"\",\"\",入力シート!G72)","v":""},{"$f":"IF($AC64=\"\",\"\",入力シート!H72)","v":""},""]
[{"$f":"IF(入力シート!$B73=\"\",\"\",大会コード)","v":""},{"$f":"IF(入力シート!$B73=\"\",\"\",VLOOKUP(入力シート!$C73,大会データ!$A$5:$F$374,3,FALSE))","v":""},{"$f":"IF(入力シート!$B73=\"\",\"\",VLOOKUP(入力シート!$C73,大会データ!$A$5:$F$374,4,FALSE))","v":""},{"$f":"IF(入力シート!$B73=\"\",\"\",VLOOKUP(入力シート!$C73,大会データ!$A$5:$F$374,5,FALSE))","v":""},{"$f":"IF(入力シート!$B73=\"\",\"\",基礎データ!$B$6)","v":""},{"$f":"IF(入力シート!$B73=\"\",\"\",B65)","v":""},{"$f":"IF(入力シート!$B73=\"\",\"\",IF(入力シート!$E73=\"\",TEXT(入力シート!$B73,\"00\"),入力シート!$E73))","v":""},null,null,{"$f":"IF(入力シート!I73=\"\",\"\",入力シート!I73)","v":""},null,null,null,null,null,null,null,null,null,null,null,null,null,null,null,null,"","","",{"$f":"IF($AC65=\"\",\"\",入力シート!F73)","v":""},{"$f":"IF($AC65=\"\",\"\",入力シート!G73)","v":""},{"$f":"IF($AC65=\"\",\"\",入力シート!H73)","v":""},""]
[{"$f":"IF(入力シート!$B74=\"\",\"\",大会コード)","v":""},{"$f":"IF(入力シート!$B74=\"\",\"\",VLOOKUP(入力シート!$C74,大会データ!$A$5:$F$374,3,FALSE))","v":""},{"$f":"IF(入力シート!$B74=\"\",\"\",VLOOKUP(入力シート!$C74,大会データ!$A$5:$F$374,4,FALSE))","v":""},{"$f":"IF(入力シート!$B74=\"\",\"\",VLOOKUP(入力シート!$C74,大会データ!$A$5:$F$374,5,FALSE))","v":""},{"$f":"IF(入力シート!$B74=\"\",\"\",基礎データ!$B$6)","v":""},{"$f":"IF(入力シート!$B74=\"\",\"\",B66)","v":""},{"$f":"IF(入力シート!$B74=\"\",\"\",IF(入力シート!$E74=\"\",TEXT(入力シート!$B74,\"00\"),入力シート!$E74))","v":""},null,null,{"$f":"IF(入力シート!I74=\"\",\"\",入力シート!I74)","v":""},null,null,null,null,null,null,null,null,null,null,null,null,null,null,null,null,"","","",{"$f":"IF($AC66=\"\",\"\",入力シート!F74)","v":""},{"$f":"IF($AC66=\"\",\"\",入力シート!G74)","v":""},{"$f":"IF($AC66=\"\",\"\",入力シート!H74)","v":""},""]
[{"$f":"IF(入力シート!$B75=\"\",\"\",大会コード)","v":""},{"$f":"IF(入力シート!$B75=\"\",\"\",VLOOKUP(入力シート!$C75,大会データ!$A$5:$F$374,3,FALSE))","v":""},{"$f":"IF(入力シート!$B75=\"\",\"\",VLOOKUP(入力シート!$C75,大会データ!$A$5:$F$374,4,FALSE))","v":""},{"$f":"IF(入力シート!$B75=\"\",\"\",VLOOKUP(入力シート!$C75,大会データ!$A$5:$F$374,5,FALSE))","v":""},{"$f":"IF(入力シート!$B75=\"\",\"\",基礎データ!$B$6)","v":""},{"$f":"IF(入力シート!$B75=\"\",\"\",B67)","v":""},{"$f":"IF(入力シート!$B75=\"\",\"\",IF(入力シート!$E75=\"\",TEXT(入力シート!$B75,\"00\"),入力シート!$E75))","v":""},null,null,{"$f":"IF(入力シート!I75=\"\",\"\",入力シート!I75)","v":""},null,null,null,null,null,null,null,null,null,null,null,null,null,null,null,null,"","","",{"$f":"IF($AC67=\"\",\"\",入力シート!F75)","v":""},{"$f":"IF($AC67=\"\",\"\",入力シート!G75)","v":""},{"$f":"IF($AC67=\"\",\"\",入力シート!H75)","v":""},""]
[{"$f":"IF(入力シート!$B76=\"\",\"\",大会コード)","v":""},{"$f":"IF(入力シート!$B76=\"\",\"\",VLOOKUP(入力シート!$C76,大会データ!$A$5:$F$374,3,FALSE))","v":""},{"$f":"IF(入力シート!$B76=\"\",\"\",VLOOKUP(入力シート!$C76,大会データ!$A$5:$F$374,4,FALSE))","v":""},{"$f":"IF(入力シート!$B76=\"\",\"\",VLOOKUP(入力シート!$C76,大会データ!$A$5:$F$374,5,FALSE))","v":""},{"$f":"IF(入力シート!$B76=\"\",\"\",基礎データ!$B$6)","v":""},{"$f":"IF(入力シート!$B76=\"\",\"\",B68)","v":""},{"$f":"IF(入力シート!$B76=\"\",\"\",IF(入力シート!$E76=\"\",TEXT(入力シート!$B76,\"00\"),入力シート!$E76))","v":""},null,null,{"$f":"IF(入力シート!I76=\"\",\"\",入力シート!I76)","v":""},null,null,null,null,null,null,null,null,null,null,null,null,null,null,null,null,"","","",{"$f":"IF($AC68=\"\",\"\",入力シート!F76)","v":""},{"$f":"IF($AC68=\"\",\"\",入力シート!G76)","v":""},{"$f":"IF($AC68=\"\",\"\",入力シート!H76)","v":""},""]
[{"$f":"IF(入力シート!$B77=\"\",\"\",大会コード)","v":""},{"$f":"IF(入力シート!$B77=\"\",\"\",VLOOKUP(入力シート!$C77,大会データ!$A$5:$F$374,3,FALSE))","v":""},{"$f":"IF(入力シート!$B77=\"\",\"\",VLOOKUP(入力シート!$C77,大会データ!$A$5:$F$374,4,FALSE))","v":""},{"$f":"IF(入力シート!$B77=\"\",\"\",VLOOKUP(入力シート!$C77,大会データ!$A$5:$F$374,5,FALSE))","v":""},{"$f":"IF(入力シート!$B77=\"\",\"\",基礎データ!$B$6)","v":""},{"$f":"IF(入力シート!$B77=\"\",\"\",B69)","v":""},{"$f":"IF(入力シート!$B77=\"\",\"\",IF(入力シート!$E77=\"\",TEXT(入力シート!$B77,\"00\"),入力シート!$E77))","v":""},null,null,{"$f":"IF(入力シート!I77=\"\",\"\",入力シート!I77)","v":""},null,null,null,null,null,null,null,null,null,null,null,null,null,null,null,null,{"$f":"E69","v":""},{"$f":"B69","v":""},{"$f":"G69","v":""},{"$f":"IF($AC69=\"\",\"\",入力シート!F77)","v":""},{"$f":"IF($AC69=\"\",\"\",入力シート!G77)","v":""},{"$f":"IF($AC69=\"\",\"\",入力シート!H77)","v":""},{"$f":"IF($AC69=\"\",\"\",2016-AF69)","v":""}]
[{"$f":"IF(入力シート!$B78=\"\",\"\",大会コード)","v":""},{"$f":"IF(入力シート!$B78=\"\",\"\",VLOOKUP(入力シート!$C78,大会データ!$A$5:$F$374,3,FALSE))","v":""},{"$f":"IF(入力シート!$B78=\"\",\"\",VLOOKUP(入力シート!$C78,大会データ!$A$5:$F$374,4,FALSE))","v":""},{"$f":"IF(入力シート!$B78=\"\",\"\",VLOOKUP(入力シート!$C78,大会データ!$A$5:$F$374,5,FALSE))","v":""},{"$f":"IF(入力シート!$B78=\"\",\"\",基礎データ!$B$6)","v":""},{"$f":"IF(入力シート!$B78=\"\",\"\",B70)","v":""},{"$f":"IF(入力シート!$B78=\"\",\"\",IF(入力シート!$E78=\"\",TEXT(入力シート!$B78,\"00\"),入力シート!$E78))","v":""},null,null,{"$f":"IF(入力シート!I78=\"\",\"\",入力シート!I78)","v":""},null,null,null,null,null,null,null,null,null,null,null,null,null,null,null,null,"","","",{"$f":"IF($AC70=\"\",\"\",入力シート!F78)","v":""},{"$f":"IF($AC70=\"\",\"\",入力シート!G78)","v":""},{"$f":"IF($AC70=\"\",\"\",入力シート!H78)","v":""},""]
[{"$f":"IF(入力シート!$B79=\"\",\"\",大会コード)","v":""},{"$f":"IF(入力シート!$B79=\"\",\"\",VLOOKUP(入力シート!$C79,大会データ!$A$5:$F$374,3,FALSE))","v":""},{"$f":"IF(入力シート!$B79=\"\",\"\",VLOOKUP(入力シート!$C79,大会データ!$A$5:$F$374,4,FALSE))","v":""},{"$f":"IF(入力シート!$B79=\"\",\"\",VLOOKUP(入力シート!$C79,大会データ!$A$5:$F$374,5,FALSE))","v":""},{"$f":"IF(入力シート!$B79=\"\",\"\",基礎データ!$B$6)","v":""},{"$f":"IF(入力シート!$B79=\"\",\"\",B71)","v":""},{"$f":"IF(入力シート!$B79=\"\",\"\",IF(入力シート!$E79=\"\",TEXT(入力シート!$B79,\"00\"),入力シート!$E79))","v":""},null,null,{"$f":"IF(入力シート!I79=\"\",\"\",入力シート!I79)","v":""},null,null,null,null,null,null,null,null,null,null,null,null,null,null,null,null,"","","",{"$f":"IF($AC71=\"\",\"\",入力シート!F79)","v":""},{"$f":"IF($AC71=\"\",\"\",入力シート!G79)","v":""},{"$f":"IF($AC71=\"\",\"\",入力シート!H79)","v":""},""]
[{"$f":"IF(入力シート!$B80=\"\",\"\",大会コード)","v":""},{"$f":"IF(入力シート!$B80=\"\",\"\",VLOOKUP(入力シート!$C80,大会データ!$A$5:$F$374,3,FALSE))","v":""},{"$f":"IF(入力シート!$B80=\"\",\"\",VLOOKUP(入力シート!$C80,大会データ!$A$5:$F$374,4,FALSE))","v":""},{"$f":"IF(入力シート!$B80=\"\",\"\",VLOOKUP(入力シート!$C80,大会データ!$A$5:$F$374,5,FALSE))","v":""},{"$f":"IF(入力シート!$B80=\"\",\"\",基礎データ!$B$6)","v":""},{"$f":"IF(入力シート!$B80=\"\",\"\",B72)","v":""},{"$f":"IF(入力シート!$B80=\"\",\"\",IF(入力シート!$E80=\"\",TEXT(入力シート!$B80,\"00\"),入力シート!$E80))","v":""},null,null,{"$f":"IF(入力シート!I80=\"\",\"\",入力シート!I80)","v":""},null,null,null,null,null,null,null,null,null,null,null,null,null,null,null,null,"","","",{"$f":"IF($AC72=\"\",\"\",入力シート!F80)","v":""},{"$f":"IF($AC72=\"\",\"\",入力シート!G80)","v":""},{"$f":"IF($AC72=\"\",\"\",入力シート!H80)","v":""},""]
[{"$f":"IF(入力シート!$B81=\"\",\"\",大会コード)","v":""},{"$f":"IF(入力シート!$B81=\"\",\"\",VLOOKUP(入力シート!$C81,大会データ!$A$5:$F$374,3,FALSE))","v":""},{"$f":"IF(入力シート!$B81=\"\",\"\",VLOOKUP(入力シート!$C81,大会データ!$A$5:$F$374,4,FALSE))","v":""},{"$f":"IF(入力シート!$B81=\"\",\"\",VLOOKUP(入力シート!$C81,大会データ!$A$5:$F$374,5,FALSE))","v":""},{"$f":"IF(入力シート!$B81=\"\",\"\",基礎データ!$B$6)","v":""},{"$f":"IF(入力シート!$B81=\"\",\"\",B73)","v":""},{"$f":"IF(入力シート!$B81=\"\",\"\",IF(入力シート!$E81=\"\",TEXT(入力シート!$B81,\"00\"),入力シート!$E81))","v":""},null,null,{"$f":"IF(入力シート!I81=\"\",\"\",入力シート!I81)","v":""},null,null,null,null,null,null,null,null,null,null,null,null,null,null,null,null,"","","",{"$f":"IF($AC73=\"\",\"\",入力シート!F81)","v":""},{"$f":"IF($AC73=\"\",\"\",入力シート!G81)","v":""},{"$f":"IF($AC73=\"\",\"\",入力シート!H81)","v":""},""]
[{"$f":"IF(入力シート!$B82=\"\",\"\",大会コード)","v":""},{"$f":"IF(入力シート!$B82=\"\",\"\",VLOOKUP(入力シート!$C82,大会データ!$A$5:$F$374,3,FALSE))","v":""},{"$f":"IF(入力シート!$B82=\"\",\"\",VLOOKUP(入力シート!$C82,大会データ!$A$5:$F$374,4,FALSE))","v":""},{"$f":"IF(入力シート!$B82=\"\",\"\",VLOOKUP(入力シート!$C82,大会データ!$A$5:$F$374,5,FALSE))","v":""},{"$f":"IF(入力シート!$B82=\"\",\"\",基礎データ!$B$6)","v":""},{"$f":"IF(入力シート!$B82=\"\",\"\",B74)","v":""},{"$f":"IF(入力シート!$B82=\"\",\"\",IF(入力シート!$E82=\"\",TEXT(入力シート!$B82,\"00\"),入力シート!$E82))","v":""},null,null,{"$f":"IF(入力シート!I82=\"\",\"\",入力シート!I82)","v":""},null,null,null,null,null,null,null,null,null,null,null,null,null,null,null,null,"","","",{"$f":"IF($AC74=\"\",\"\",入力シート!F82)","v":""},{"$f":"IF($AC74=\"\",\"\",入力シート!G82)","v":""},{"$f":"IF($AC74=\"\",\"\",入力シート!H82)","v":""},""]
[{"$f":"IF(入力シート!$B83=\"\",\"\",大会コード)","v":""},{"$f":"IF(入力シート!$B83=\"\",\"\",VLOOKUP(入力シート!$C83,大会データ!$A$5:$F$374,3,FALSE))","v":""},{"$f":"IF(入力シート!$B83=\"\",\"\",VLOOKUP(入力シート!$C83,大会データ!$A$5:$F$374,4,FALSE))","v":""},{"$f":"IF(入力シート!$B83=\"\",\"\",VLOOKUP(入力シート!$C83,大会データ!$A$5:$F$374,5,FALSE))","v":""},{"$f":"IF(入力シート!$B83=\"\",\"\",基礎データ!$B$6)","v":""},{"$f":"IF(入力シート!$B83=\"\",\"\",B75)","v":""},{"$f":"IF(入力シート!$B83=\"\",\"\",IF(入力シート!$E83=\"\",TEXT(入力シート!$B83,\"00\"),入力シート!$E83))","v":""},null,null,{"$f":"IF(入力シート!I83=\"\",\"\",入力シート!I83)","v":""},null,null,null,null,null,null,null,null,null,null,null,null,null,null,null,null,"","","",{"$f":"IF($AC75=\"\",\"\",入力シート!F83)","v":""},{"$f":"IF($AC75=\"\",\"\",入力シート!G83)","v":""},{"$f":"IF($AC75=\"\",\"\",入力シート!H83)","v":""},""]
[{"$f":"IF(入力シート!$B84=\"\",\"\",大会コード)","v":""},{"$f":"IF(入力シート!$B84=\"\",\"\",VLOOKUP(入力シート!$C84,大会データ!$A$5:$F$374,3,FALSE))","v":""},{"$f":"IF(入力シート!$B84=\"\",\"\",VLOOKUP(入力シート!$C84,大会データ!$A$5:$F$374,4,FALSE))","v":""},{"$f":"IF(入力シート!$B84=\"\",\"\",VLOOKUP(入力シート!$C84,大会データ!$A$5:$F$374,5,FALSE))","v":""},{"$f":"IF(入力シート!$B84=\"\",\"\",基礎データ!$B$6)","v":""},{"$f":"IF(入力シート!$B84=\"\",\"\",B76)","v":""},{"$f":"IF(入力シート!$B84=\"\",\"\",IF(入力シート!$E84=\"\",TEXT(入力シート!$B84,\"00\"),入力シート!$E84))","v":""},null,null,{"$f":"IF(入力シート!I84=\"\",\"\",入力シート!I84)","v":""},null,null,null,null,null,null,null,null,null,null,null,null,null,null,null,null,"","","",{"$f":"IF($AC76=\"\",\"\",入力シート!F84)","v":""},{"$f":"IF($AC76=\"\",\"\",入力シート!G84)","v":""},{"$f":"IF($AC76=\"\",\"\",入力シート!H84)","v":""},""]
[{"$f":"IF(入力シート!$B85=\"\",\"\",大会コード)","v":""},{"$f":"IF(入力シート!$B85=\"\",\"\",VLOOKUP(入力シート!$C85,大会データ!$A$5:$F$374,3,FALSE))","v":""},{"$f":"IF(入力シート!$B85=\"\",\"\",VLOOKUP(入力シート!$C85,大会データ!$A$5:$F$374,4,FALSE))","v":""},{"$f":"IF(入力シート!$B85=\"\",\"\",VLOOKUP(入力シート!$C85,大会データ!$A$5:$F$374,5,FALSE))","v":""},{"$f":"IF(入力シート!$B85=\"\",\"\",基礎データ!$B$6)","v":""},{"$f":"IF(入力シート!$B85=\"\",\"\",B77)","v":""},{"$f":"IF(入力シート!$B85=\"\",\"\",IF(入力シート!$E85=\"\",TEXT(入力シート!$B85,\"00\"),入力シート!$E85))","v":""},null,null,{"$f":"IF(入力シート!I85=\"\",\"\",入力シート!I85)","v":""},null,null,null,null,null,null,null,null,null,null,null,null,null,null,null,null,"","","",{"$f":"IF($AC77=\"\",\"\",入力シート!F85)","v":""},{"$f":"IF($AC77=\"\",\"\",入力シート!G85)","v":""},{"$f":"IF($AC77=\"\",\"\",入力シート!H85)","v":""},""]
[{"$f":"IF(入力シート!$B86=\"\",\"\",大会コード)","v":""},{"$f":"IF(入力シート!$B86=\"\",\"\",VLOOKUP(入力シート!$C86,大会データ!$A$5:$F$374,3,FALSE))","v":""},{"$f":"IF(入力シート!$B86=\"\",\"\",VLOOKUP(入力シート!$C86,大会データ!$A$5:$F$374,4,FALSE))","v":""},{"$f":"IF(入力シート!$B86=\"\",\"\",VLOOKUP(入力シート!$C86,大会データ!$A$5:$F$374,5,FALSE))","v":""},{"$f":"IF(入力シート!$B86=\"\",\"\",基礎データ!$B$6)","v":""},{"$f":"IF(入力シート!$B86=\"\",\"\",B78)","v":""},{"$f":"IF(入力シート!$B86=\"\",\"\",IF(入力シート!$E86=\"\",TEXT(入力シート!$B86,\"00\"),入力シート!$E86))","v":""},null,null,{"$f":"IF(入力シート!I86=\"\",\"\",入力シート!I86)","v":""},null,null,null,null,null,null,null,null,null,null,null,null,null,null,null,null,"","","",{"$f":"IF($AC78=\"\",\"\",入力シート!F86)","v":""},{"$f":"IF($AC78=\"\",\"\",入力シート!G86)","v":""},{"$f":"IF($AC78=\"\",\"\",入力シート!H86)","v":""},""]
[{"$f":"IF(入力シート!$B87=\"\",\"\",大会コード)","v":""},{"$f":"IF(入力シート!$B87=\"\",\"\",VLOOKUP(入力シート!$C87,大会データ!$A$5:$F$374,3,FALSE))","v":""},{"$f":"IF(入力シート!$B87=\"\",\"\",VLOOKUP(入力シート!$C87,大会データ!$A$5:$F$374,4,FALSE))","v":""},{"$f":"IF(入力シート!$B87=\"\",\"\",VLOOKUP(入力シート!$C87,大会データ!$A$5:$F$374,5,FALSE))","v":""},{"$f":"IF(入力シート!$B87=\"\",\"\",基礎データ!$B$6)","v":""},{"$f":"IF(入力シート!$B87=\"\",\"\",B79)","v":""},{"$f":"IF(入力シート!$B87=\"\",\"\",IF(入力シート!$E87=\"\",TEXT(入力シート!$B87,\"00\"),入力シート!$E87))","v":""},null,null,{"$f":"IF(入力シート!I87=\"\",\"\",入力シート!I87)","v":""},null,null,null,null,null,null,null,null,null,null,null,null,null,null,null,null,"","","",{"$f":"IF($AC79=\"\",\"\",入力シート!F87)","v":""},{"$f":"IF($AC79=\"\",\"\",入力シート!G87)","v":""},{"$f":"IF($AC79=\"\",\"\",入力シート!H87)","v":""},""]
[{"$f":"IF(入力シート!$B88=\"\",\"\",大会コード)","v":""},{"$f":"IF(入力シート!$B88=\"\",\"\",VLOOKUP(入力シート!$C88,大会データ!$A$5:$F$374,3,FALSE))","v":""},{"$f":"IF(入力シート!$B88=\"\",\"\",VLOOKUP(入力シート!$C88,大会データ!$A$5:$F$374,4,FALSE))","v":""},{"$f":"IF(入力シート!$B88=\"\",\"\",VLOOKUP(入力シート!$C88,大会データ!$A$5:$F$374,5,FALSE))","v":""},{"$f":"IF(入力シート!$B88=\"\",\"\",基礎データ!$B$6)","v":""},{"$f":"IF(入力シート!$B88=\"\",\"\",B80)","v":""},{"$f":"IF(入力シート!$B88=\"\",\"\",IF(入力シート!$E88=\"\",TEXT(入力シート!$B88,\"00\"),入力シート!$E88))","v":""},null,null,{"$f":"IF(入力シート!I88=\"\",\"\",入力シート!I88)","v":""},null,null,null,null,null,null,null,null,null,null,null,null,null,null,null,null,"","","",{"$f":"IF($AC80=\"\",\"\",入力シート!F88)","v":""},{"$f":"IF($AC80=\"\",\"\",入力シート!G88)","v":""},{"$f":"IF($AC80=\"\",\"\",入力シート!H88)","v":""},""]
[{"$f":"IF(入力シート!$B89=\"\",\"\",大会コード)","v":""},{"$f":"IF(入力シート!$B89=\"\",\"\",VLOOKUP(入力シート!$C89,大会データ!$A$5:$F$374,3,FALSE))","v":""},{"$f":"IF(入力シート!$B89=\"\",\"\",VLOOKUP(入力シート!$C89,大会データ!$A$5:$F$374,4,FALSE))","v":""},{"$f":"IF(入力シート!$B89=\"\",\"\",VLOOKUP(入力シート!$C89,大会データ!$A$5:$F$374,5,FALSE))","v":""},{"$f":"IF(入力シート!$B89=\"\",\"\",基礎データ!$B$6)","v":""},{"$f":"IF(入力シート!$B89=\"\",\"\",B81)","v":""},{"$f":"IF(入力シート!$B89=\"\",\"\",IF(入力シート!$E89=\"\",TEXT(入力シート!$B89,\"00\"),入力シート!$E89))","v":""},null,null,{"$f":"IF(入力シート!I89=\"\",\"\",入力シート!I89)","v":""},null,null,null,null,null,null,null,null,null,null,null,null,null,null,null,null,"","","",{"$f":"IF($AC81=\"\",\"\",入力シート!F89)","v":""},{"$f":"IF($AC81=\"\",\"\",入力シート!G89)","v":""},{"$f":"IF($AC81=\"\",\"\",入力シート!H89)","v":""},""]
[{"$f":"IF(入力シート!$B90=\"\",\"\",大会コード)","v":""},{"$f":"IF(入力シート!$B90=\"\",\"\",VLOOKUP(入力シート!$C90,大会データ!$A$5:$F$374,3,FALSE))","v":""},{"$f":"IF(入力シート!$B90=\"\",\"\",VLOOKUP(入力シート!$C90,大会データ!$A$5:$F$374,4,FALSE))","v":""},{"$f":"IF(入力シート!$B90=\"\",\"\",VLOOKUP(入力シート!$C90,大会データ!$A$5:$F$374,5,FALSE))","v":""},{"$f":"IF(入力シート!$B90=\"\",\"\",基礎データ!$B$6)","v":""},{"$f":"IF(入力シート!$B90=\"\",\"\",B82)","v":""},{"$f":"IF(入力シート!$B90=\"\",\"\",IF(入力シート!$E90=\"\",TEXT(入力シート!$B90,\"00\"),入力シート!$E90))","v":""},null,null,{"$f":"IF(入力シート!I90=\"\",\"\",入力シート!I90)","v":""},null,null,null,null,null,null,null,null,null,null,null,null,null,null,null,null,"","","",{"$f":"IF($AC82=\"\",\"\",入力シート!F90)","v":""},{"$f":"IF($AC82=\"\",\"\",入力シート!G90)","v":""},{"$f":"IF($AC82=\"\",\"\",入力シート!H90)","v":""},""]
[{"$f":"IF(入力シート!$B91=\"\",\"\",大会コード)","v":""},{"$f":"IF(入力シート!$B91=\"\",\"\",VLOOKUP(入力シート!$C91,大会データ!$A$5:$F$374,3,FALSE))","v":""},{"$f":"IF(入力シート!$B91=\"\",\"\",VLOOKUP(入力シート!$C91,大会データ!$A$5:$F$374,4,FALSE))","v":""},{"$f":"IF(入力シート!$B91=\"\",\"\",VLOOKUP(入力シート!$C91,大会データ!$A$5:$F$374,5,FALSE))","v":""},{"$f":"IF(入力シート!$B91=\"\",\"\",基礎データ!$B$6)","v":""},{"$f":"IF(入力シート!$B91=\"\",\"\",B83)","v":""},{"$f":"IF(入力シート!$B91=\"\",\"\",IF(入力シート!$E91=\"\",TEXT(入力シート!$B91,\"00\"),入力シート!$E91))","v":""},null,null,{"$f":"IF(入力シート!I91=\"\",\"\",入力シート!I91)","v":""},null,null,null,null,null,null,null,null,null,null,null,null,null,null,null,null,"","","",{"$f":"IF($AC83=\"\",\"\",入力シート!F91)","v":""},{"$f":"IF($AC83=\"\",\"\",入力シート!G91)","v":""},{"$f":"IF($AC83=\"\",\"\",入力シート!H91)","v":""},""]
[{"$f":"IF(入力シート!$B92=\"\",\"\",大会コード)","v":""},{"$f":"IF(入力シート!$B92=\"\",\"\",VLOOKUP(入力シート!$C92,大会データ!$A$5:$F$374,3,FALSE))","v":""},{"$f":"IF(入力シート!$B92=\"\",\"\",VLOOKUP(入力シート!$C92,大会データ!$A$5:$F$374,4,FALSE))","v":""},{"$f":"IF(入力シート!$B92=\"\",\"\",VLOOKUP(入力シート!$C92,大会データ!$A$5:$F$374,5,FALSE))","v":""},{"$f":"IF(入力シート!$B92=\"\",\"\",基礎データ!$B$6)","v":""},{"$f":"IF(入力シート!$B92=\"\",\"\",B84)","v":""},{"$f":"IF(入力シート!$B92=\"\",\"\",IF(入力シート!$E92=\"\",TEXT(入力シート!$B92,\"00\"),入力シート!$E92))","v":""},null,null,{"$f":"IF(入力シート!I92=\"\",\"\",入力シート!I92)","v":""},null,null,null,null,null,null,null,null,null,null,null,null,null,null,null,null,"","","",{"$f":"IF($AC84=\"\",\"\",入力シート!F92)","v":""},{"$f":"IF($AC84=\"\",\"\",入力シート!G92)","v":""},{"$f":"IF($AC84=\"\",\"\",入力シート!H92)","v":""},""]
[{"$f":"IF(入力シート!$B93=\"\",\"\",大会コード)","v":""},{"$f":"IF(入力シート!$B93=\"\",\"\",VLOOKUP(入力シート!$C93,大会データ!$A$5:$F$374,3,FALSE))","v":""},{"$f":"IF(入力シート!$B93=\"\",\"\",VLOOKUP(入力シート!$C93,大会データ!$A$5:$F$374,4,FALSE))","v":""},{"$f":"IF(入力シート!$B93=\"\",\"\",VLOOKUP(入力シート!$C93,大会データ!$A$5:$F$374,5,FALSE))","v":""},{"$f":"IF(入力シート!$B93=\"\",\"\",基礎データ!$B$6)","v":""},{"$f":"IF(入力シート!$B93=\"\",\"\",B85)","v":""},{"$f":"IF(入力シート!$B93=\"\",\"\",IF(入力シート!$E93=\"\",TEXT(入力シート!$B93,\"00\"),入力シート!$E93))","v":""},null,null,{"$f":"IF(入力シート!I93=\"\",\"\",入力シート!I93)","v":""},null,null,null,null,null,null,null,null,null,null,null,null,null,null,null,null,"","","",{"$f":"IF($AC85=\"\",\"\",入力シート!F93)","v":""},{"$f":"IF($AC85=\"\",\"\",入力シート!G93)","v":""},{"$f":"IF($AC85=\"\",\"\",入力シート!H93)","v":""},""]
[{"$f":"IF(入力シート!$B94=\"\",\"\",大会コード)","v":""},{"$f":"IF(入力シート!$B94=\"\",\"\",VLOOKUP(入力シート!$C94,大会データ!$A$5:$F$374,3,FALSE))","v":""},{"$f":"IF(入力シート!$B94=\"\",\"\",VLOOKUP(入力シート!$C94,大会データ!$A$5:$F$374,4,FALSE))","v":""},{"$f":"IF(入力シート!$B94=\"\",\"\",VLOOKUP(入力シート!$C94,大会データ!$A$5:$F$374,5,FALSE))","v":""},{"$f":"IF(入力シート!$B94=\"\",\"\",基礎データ!$B$6)","v":""},{"$f":"IF(入力シート!$B94=\"\",\"\",B86)","v":""},{"$f":"IF(入力シート!$B94=\"\",\"\",IF(入力シート!$E94=\"\",TEXT(入力シート!$B94,\"00\"),入力シート!$E94))","v":""},null,null,{"$f":"IF(入力シート!I94=\"\",\"\",入力シート!I94)","v":""},null,null,null,null,null,null,null,null,null,null,null,null,null,null,null,null,"","","",{"$f":"IF($AC86=\"\",\"\",入力シート!F94)","v":""},{"$f":"IF($AC86=\"\",\"\",入力シート!G94)","v":""},{"$f":"IF($AC86=\"\",\"\",入力シート!H94)","v":""},""]
[{"$f":"IF(入力シート!$B95=\"\",\"\",大会コード)","v":""},{"$f":"IF(入力シート!$B95=\"\",\"\",VLOOKUP(入力シート!$C95,大会データ!$A$5:$F$374,3,FALSE))","v":""},{"$f":"IF(入力シート!$B95=\"\",\"\",VLOOKUP(入力シート!$C95,大会データ!$A$5:$F$374,4,FALSE))","v":""},{"$f":"IF(入力シート!$B95=\"\",\"\",VLOOKUP(入力シート!$C95,大会データ!$A$5:$F$374,5,FALSE))","v":""},{"$f":"IF(入力シート!$B95=\"\",\"\",基礎データ!$B$6)","v":""},{"$f":"IF(入力シート!$B95=\"\",\"\",B87)","v":""},{"$f":"IF(入力シート!$B95=\"\",\"\",IF(入力シート!$E95=\"\",TEXT(入力シート!$B95,\"00\"),入力シート!$E95))","v":""},null,null,{"$f":"IF(入力シート!I95=\"\",\"\",入力シート!I95)","v":""},null,null,null,null,null,null,null,null,null,null,null,null,null,null,null,null,"","","",{"$f":"IF($AC87=\"\",\"\",入力シート!F95)","v":""},{"$f":"IF($AC87=\"\",\"\",入力シート!G95)","v":""},{"$f":"IF($AC87=\"\",\"\",入力シート!H95)","v":""},""]
[{"$f":"IF(入力シート!$B96=\"\",\"\",大会コード)","v":""},{"$f":"IF(入力シート!$B96=\"\",\"\",VLOOKUP(入力シート!$C96,大会データ!$A$5:$F$374,3,FALSE))","v":""},{"$f":"IF(入力シート!$B96=\"\",\"\",VLOOKUP(入力シート!$C96,大会データ!$A$5:$F$374,4,FALSE))","v":""},{"$f":"IF(入力シート!$B96=\"\",\"\",VLOOKUP(入力シート!$C96,大会データ!$A$5:$F$374,5,FALSE))","v":""},{"$f":"IF(入力シート!$B96=\"\",\"\",基礎データ!$B$6)","v":""},{"$f":"IF(入力シート!$B96=\"\",\"\",B88)","v":""},{"$f":"IF(入力シート!$B96=\"\",\"\",IF(入力シート!$E96=\"\",TEXT(入力シート!$B96,\"00\"),入力シート!$E96))","v":""},null,null,{"$f":"IF(入力シート!I96=\"\",\"\",入力シート!I96)","v":""},null,null,null,null,null,null,null,null,null,null,null,null,null,null,null,null,"","","",{"$f":"IF($AC88=\"\",\"\",入力シート!F96)","v":""},{"$f":"IF($AC88=\"\",\"\",入力シート!G96)","v":""},{"$f":"IF($AC88=\"\",\"\",入力シート!H96)","v":""},""]
[{"$f":"IF(入力シート!$B97=\"\",\"\",大会コード)","v":""},{"$f":"IF(入力シート!$B97=\"\",\"\",VLOOKUP(入力シート!$C97,大会データ!$A$5:$F$374,3,FALSE))","v":""},{"$f":"IF(入力シート!$B97=\"\",\"\",VLOOKUP(入力シート!$C97,大会データ!$A$5:$F$374,4,FALSE))","v":""},{"$f":"IF(入力シート!$B97=\"\",\"\",VLOOKUP(入力シート!$C97,大会データ!$A$5:$F$374,5,FALSE))","v":""},{"$f":"IF(入力シート!$B97=\"\",\"\",基礎データ!$B$6)","v":""},{"$f":"IF(入力シート!$B97=\"\",\"\",B89)","v":""},{"$f":"IF(入力シート!$B97=\"\",\"\",IF(入力シート!$E97=\"\",TEXT(入力シート!$B97,\"00\"),入力シート!$E97))","v":""},null,null,{"$f":"IF(入力シート!I97=\"\",\"\",入力シート!I97)","v":""},null,null,null,null,null,null,null,null,null,null,null,null,null,null,null,null,"","","",{"$f":"IF($AC89=\"\",\"\",入力シート!F97)","v":""},{"$f":"IF($AC89=\"\",\"\",入力シート!G97)","v":""},{"$f":"IF($AC89=\"\",\"\",入力シート!H97)","v":""},""]
[{"$f":"IF(入力シート!$B98=\"\",\"\",大会コード)","v":""},{"$f":"IF(入力シート!$B98=\"\",\"\",VLOOKUP(入力シート!$C98,大会データ!$A$5:$F$374,3,FALSE))","v":""},{"$f":"IF(入力シート!$B98=\"\",\"\",VLOOKUP(入力シート!$C98,大会データ!$A$5:$F$374,4,FALSE))","v":""},{"$f":"IF(入力シート!$B98=\"\",\"\",VLOOKUP(入力シート!$C98,大会データ!$A$5:$F$374,5,FALSE))","v":""},{"$f":"IF(入力シート!$B98=\"\",\"\",基礎データ!$B$6)","v":""},{"$f":"IF(入力シート!$B98=\"\",\"\",B90)","v":""},{"$f":"IF(入力シート!$B98=\"\",\"\",IF(入力シート!$E98=\"\",TEXT(入力シート!$B98,\"00\"),入力シート!$E98))","v":""},null,null,{"$f":"IF(入力シート!I98=\"\",\"\",入力シート!I98)","v":""},null,null,null,null,null,null,null,null,null,null,null,null,null,null,null,null,"","","",{"$f":"IF($AC90=\"\",\"\",入力シート!F98)","v":""},{"$f":"IF($AC90=\"\",\"\",入力シート!G98)","v":""},{"$f":"IF($AC90=\"\",\"\",入力シート!H98)","v":""},""]
[{"$f":"IF(入力シート!$B99=\"\",\"\",大会コード)","v":""},{"$f":"IF(入力シート!$B99=\"\",\"\",VLOOKUP(入力シート!$C99,大会データ!$A$5:$F$374,3,FALSE))","v":""},{"$f":"IF(入力シート!$B99=\"\",\"\",VLOOKUP(入力シート!$C99,大会データ!$A$5:$F$374,4,FALSE))","v":""},{"$f":"IF(入力シート!$B99=\"\",\"\",VLOOKUP(入力シート!$C99,大会データ!$A$5:$F$374,5,FALSE))","v":""},{"$f":"IF(入力シート!$B99=\"\",\"\",基礎データ!$B$6)","v":""},{"$f":"IF(入力シート!$B99=\"\",\"\",B91)","v":""},{"$f":"IF(入力シート!$B99=\"\",\"\",IF(入力シート!$E99=\"\",TEXT(入力シート!$B99,\"00\"),入力シート!$E99))","v":""},null,null,{"$f":"IF(入力シート!I99=\"\",\"\",入力シート!I99)","v":""},null,null,null,null,null,null,null,null,null,null,null,null,null,null,null,null,"","","",{"$f":"IF($AC91=\"\",\"\",入力シート!F99)","v":""},{"$f":"IF($AC91=\"\",\"\",入力シート!G99)","v":""},{"$f":"IF($AC91=\"\",\"\",入力シート!H99)","v":""},""]
[{"$f":"IF(入力シート!$B100=\"\",\"\",大会コード)","v":""},{"$f":"IF(入力シート!$B100=\"\",\"\",VLOOKUP(入力シート!$C100,大会データ!$A$5:$F$374,3,FALSE))","v":""},{"$f":"IF(入力シート!$B100=\"\",\"\",VLOOKUP(入力シート!$C100,大会データ!$A$5:$F$374,4,FALSE))","v":""},{"$f":"IF(入力シート!$B100=\"\",\"\",VLOOKUP(入力シート!$C100,大会データ!$A$5:$F$374,5,FALSE))","v":""},{"$f":"IF(入力シート!$B100=\"\",\"\",基礎データ!$B$6)","v":""},{"$f":"IF(入力シート!$B100=\"\",\"\",B92)","v":""},{"$f":"IF(入力シート!$B100=\"\",\"\",IF(入力シート!$E100=\"\",TEXT(入力シート!$B100,\"00\"),入力シート!$E100))","v":""},null,null,{"$f":"IF(入力シート!I100=\"\",\"\",入力シート!I100)","v":""},null,null,null,null,null,null,null,null,null,null,null,null,null,null,null,null,"","","",{"$f":"IF($AC92=\"\",\"\",入力シート!F100)","v":""},{"$f":"IF($AC92=\"\",\"\",入力シート!G100)","v":""},{"$f":"IF($AC92=\"\",\"\",入力シート!H100)","v":""},""]
[{"$f":"IF(入力シート!$B101=\"\",\"\",大会コード)","v":""},{"$f":"IF(入力シート!$B101=\"\",\"\",VLOOKUP(入力シート!$C101,大会データ!$A$5:$F$374,3,FALSE))","v":""},{"$f":"IF(入力シート!$B101=\"\",\"\",VLOOKUP(入力シート!$C101,大会データ!$A$5:$F$374,4,FALSE))","v":""},{"$f":"IF(入力シート!$B101=\"\",\"\",VLOOKUP(入力シート!$C101,大会データ!$A$5:$F$374,5,FALSE))","v":""},{"$f":"IF(入力シート!$B101=\"\",\"\",基礎データ!$B$6)","v":""},{"$f":"IF(入力シート!$B101=\"\",\"\",B93)","v":""},{"$f":"IF(入力シート!$B101=\"\",\"\",IF(入力シート!$E101=\"\",TEXT(入力シート!$B101,\"00\"),入力シート!$E101))","v":""},null,null,{"$f":"IF(入力シート!I101=\"\",\"\",入力シート!I101)","v":""},null,null,null,null,null,null,null,null,null,null,null,null,null,null,null,null,"","","",{"$f":"IF($AC93=\"\",\"\",入力シート!F101)","v":""},{"$f":"IF($AC93=\"\",\"\",入力シート!G101)","v":""},{"$f":"IF($AC93=\"\",\"\",入力シート!H101)","v":""},""]
[{"$f":"IF(入力シート!$B102=\"\",\"\",大会コード)","v":""},{"$f":"IF(入力シート!$B102=\"\",\"\",VLOOKUP(入力シート!$C102,大会データ!$A$5:$F$374,3,FALSE))","v":""},{"$f":"IF(入力シート!$B102=\"\",\"\",VLOOKUP(入力シート!$C102,大会データ!$A$5:$F$374,4,FALSE))","v":""},{"$f":"IF(入力シート!$B102=\"\",\"\",VLOOKUP(入力シート!$C102,大会データ!$A$5:$F$374,5,FALSE))","v":""},{"$f":"IF(入力シート!$B102=\"\",\"\",基礎データ!$B$6)","v":""},{"$f":"IF(入力シート!$B102=\"\",\"\",B94)","v":""},{"$f":"IF(入力シート!$B102=\"\",\"\",IF(入力シート!$E102=\"\",TEXT(入力シート!$B102,\"00\"),入力シート!$E102))","v":""},null,null,{"$f":"IF(入力シート!I102=\"\",\"\",入力シート!I102)","v":""},null,null,null,null,null,null,null,null,null,null,null,null,null,null,null,null,"","","",{"$f":"IF($AC94=\"\",\"\",入力シート!F102)","v":""},{"$f":"IF($AC94=\"\",\"\",入力シート!G102)","v":""},{"$f":"IF($AC94=\"\",\"\",入力シート!H102)","v":""},""]
[{"$f":"IF(入力シート!$B103=\"\",\"\",大会コード)","v":""},{"$f":"IF(入力シート!$B103=\"\",\"\",VLOOKUP(入力シート!$C103,大会データ!$A$5:$F$374,3,FALSE))","v":""},{"$f":"IF(入力シート!$B103=\"\",\"\",VLOOKUP(入力シート!$C103,大会データ!$A$5:$F$374,4,FALSE))","v":""},{"$f":"IF(入力シート!$B103=\"\",\"\",VLOOKUP(入力シート!$C103,大会データ!$A$5:$F$374,5,FALSE))","v":""},{"$f":"IF(入力シート!$B103=\"\",\"\",基礎データ!$B$6)","v":""},{"$f":"IF(入力シート!$B103=\"\",\"\",B95)","v":""},{"$f":"IF(入力シート!$B103=\"\",\"\",IF(入力シート!$E103=\"\",TEXT(入力シート!$B103,\"00\"),入力シート!$E103))","v":""},null,null,{"$f":"IF(入力シート!I103=\"\",\"\",入力シート!I103)","v":""},null,null,null,null,null,null,null,null,null,null,null,null,null,null,null,null,"","","",{"$f":"IF($AC95=\"\",\"\",入力シート!F103)","v":""},{"$f":"IF($AC95=\"\",\"\",入力シート!G103)","v":""},{"$f":"IF($AC95=\"\",\"\",入力シート!H103)","v":""},""]
[{"$f":"IF(入力シート!$B104=\"\",\"\",大会コード)","v":""},{"$f":"IF(入力シート!$B104=\"\",\"\",VLOOKUP(入力シート!$C104,大会データ!$A$5:$F$374,3,FALSE))","v":""},{"$f":"IF(入力シート!$B104=\"\",\"\",VLOOKUP(入力シート!$C104,大会データ!$A$5:$F$374,4,FALSE))","v":""},{"$f":"IF(入力シート!$B104=\"\",\"\",VLOOKUP(入力シート!$C104,大会データ!$A$5:$F$374,5,FALSE))","v":""},{"$f":"IF(入力シート!$B104=\"\",\"\",基礎データ!$B$6)","v":""},{"$f":"IF(入力シート!$B104=\"\",\"\",B96)","v":""},{"$f":"IF(入力シート!$B104=\"\",\"\",IF(入力シート!$E104=\"\",TEXT(入力シート!$B104,\"00\"),入力シート!$E104))","v":""},null,null,{"$f":"IF(入力シート!I104=\"\",\"\",入力シート!I104)","v":""},null,null,null,null,null,null,null,null,null,null,null,null,null,null,null,null,"","","",{"$f":"IF($AC96=\"\",\"\",入力シート!F104)","v":""},{"$f":"IF($AC96=\"\",\"\",入力シート!G104)","v":""},{"$f":"IF($AC96=\"\",\"\",入力シート!H104)","v":""},""]
[{"$f":"IF(入力シート!$B105=\"\",\"\",大会コード)","v":""},{"$f":"IF(入力シート!$B105=\"\",\"\",VLOOKUP(入力シート!$C105,大会データ!$A$5:$F$374,3,FALSE))","v":""},{"$f":"IF(入力シート!$B105=\"\",\"\",VLOOKUP(入力シート!$C105,大会データ!$A$5:$F$374,4,FALSE))","v":""},{"$f":"IF(入力シート!$B105=\"\",\"\",VLOOKUP(入力シート!$C105,大会データ!$A$5:$F$374,5,FALSE))","v":""},{"$f":"IF(入力シート!$B105=\"\",\"\",基礎データ!$B$6)","v":""},{"$f":"IF(入力シート!$B105=\"\",\"\",B97)","v":""},{"$f":"IF(入力シート!$B105=\"\",\"\",IF(入力シート!$E105=\"\",TEXT(入力シート!$B105,\"00\"),入力シート!$E105))","v":""},null,null,{"$f":"IF(入力シート!I105=\"\",\"\",入力シート!I105)","v":""},null,null,null,null,null,null,null,null,null,null,null,null,null,null,null,null,"","","",{"$f":"IF($AC97=\"\",\"\",入力シート!F105)","v":""},{"$f":"IF($AC97=\"\",\"\",入力シート!G105)","v":""},{"$f":"IF($AC97=\"\",\"\",入力シート!H105)","v":""},""]
[{"$f":"IF(入力シート!$B106=\"\",\"\",大会コード)","v":""},{"$f":"IF(入力シート!$B106=\"\",\"\",VLOOKUP(入力シート!$C106,大会データ!$A$5:$F$374,3,FALSE))","v":""},{"$f":"IF(入力シート!$B106=\"\",\"\",VLOOKUP(入力シート!$C106,大会データ!$A$5:$F$374,4,FALSE))","v":""},{"$f":"IF(入力シート!$B106=\"\",\"\",VLOOKUP(入力シート!$C106,大会データ!$A$5:$F$374,5,FALSE))","v":""},{"$f":"IF(入力シート!$B106=\"\",\"\",基礎データ!$B$6)","v":""},{"$f":"IF(入力シート!$B106=\"\",\"\",B98)","v":""},{"$f":"IF(入力シート!$B106=\"\",\"\",IF(入力シート!$E106=\"\",TEXT(入力シート!$B106,\"00\"),入力シート!$E106))","v":""},null,null,{"$f":"IF(入力シート!I106=\"\",\"\",入力シート!I106)","v":""},null,null,null,null,null,null,null,null,null,null,null,null,null,null,null,null,"","","",{"$f":"IF($AC98=\"\",\"\",入力シート!F106)","v":""},{"$f":"IF($AC98=\"\",\"\",入力シート!G106)","v":""},{"$f":"IF($AC98=\"\",\"\",入力シート!H106)","v":""},""]
[{"$f":"IF(入力シート!$B107=\"\",\"\",大会コード)","v":""},{"$f":"IF(入力シート!$B107=\"\",\"\",VLOOKUP(入力シート!$C107,大会データ!$A$5:$F$374,3,FALSE))","v":""},{"$f":"IF(入力シート!$B107=\"\",\"\",VLOOKUP(入力シート!$C107,大会データ!$A$5:$F$374,4,FALSE))","v":""},{"$f":"IF(入力シート!$B107=\"\",\"\",VLOOKUP(入力シート!$C107,大会データ!$A$5:$F$374,5,FALSE))","v":""},{"$f":"IF(入力シート!$B107=\"\",\"\",基礎データ!$B$6)","v":""},{"$f":"IF(入力シート!$B107=\"\",\"\",B99)","v":""},{"$f":"IF(入力シート!$B107=\"\",\"\",IF(入力シート!$E107=\"\",TEXT(入力シート!$B107,\"00\"),入力シート!$E107))","v":""},null,null,{"$f":"IF(入力シート!I107=\"\",\"\",入力シート!I107)","v":""},null,null,null,null,null,null,null,null,null,null,null,null,null,null,null,null,"","","",{"$f":"IF($AC99=\"\",\"\",入力シート!F107)","v":""},{"$f":"IF($AC99=\"\",\"\",入力シート!G107)","v":""},{"$f":"IF($AC99=\"\",\"\",入力シート!H107)","v":""},""]
[{"$f":"IF(入力シート!$B108=\"\",\"\",大会コード)","v":""},{"$f":"IF(入力シート!$B108=\"\",\"\",VLOOKUP(入力シート!$C108,大会データ!$A$5:$F$374,3,FALSE))","v":""},{"$f":"IF(入力シート!$B108=\"\",\"\",VLOOKUP(入力シート!$C108,大会データ!$A$5:$F$374,4,FALSE))","v":""},{"$f":"IF(入力シート!$B108=\"\",\"\",VLOOKUP(入力シート!$C108,大会データ!$A$5:$F$374,5,FALSE))","v":""},{"$f":"IF(入力シート!$B108=\"\",\"\",基礎データ!$B$6)","v":""},{"$f":"IF(入力シート!$B108=\"\",\"\",B100)","v":""},{"$f":"IF(入力シート!$B108=\"\",\"\",IF(入力シート!$E108=\"\",TEXT(入力シート!$B108,\"00\"),入力シート!$E108))","v":""},null,null,{"$f":"IF(入力シート!I108=\"\",\"\",入力シート!I108)","v":""},null,null,null,null,null,null,null,null,null,null,null,null,null,null,null,null,"","","",{"$f":"IF($AC100=\"\",\"\",入力シート!F108)","v":""},{"$f":"IF($AC100=\"\",\"\",入力シート!G108)","v":""},{"$f":"IF($AC100=\"\",\"\",入力シート!H108)","v":""},""]
[{"$f":"IF(入力シート!$B109=\"\",\"\",大会コード)","v":""},{"$f":"IF(入力シート!$B109=\"\",\"\",VLOOKUP(入力シート!$C109,大会データ!$A$5:$F$374,3,FALSE))","v":""},{"$f":"IF(入力シート!$B109=\"\",\"\",VLOOKUP(入力シート!$C109,大会データ!$A$5:$F$374,4,FALSE))","v":""},{"$f":"IF(入力シート!$B109=\"\",\"\",VLOOKUP(入力シート!$C109,大会データ!$A$5:$F$374,5,FALSE))","v":""},{"$f":"IF(入力シート!$B109=\"\",\"\",基礎データ!$B$6)","v":""},{"$f":"IF(入力シート!$B109=\"\",\"\",B101)","v":""},{"$f":"IF(入力シート!$B109=\"\",\"\",IF(入力シート!$E109=\"\",TEXT(入力シート!$B109,\"00\"),入力シート!$E109))","v":""},null,null,{"$f":"IF(入力シート!I109=\"\",\"\",入力シート!I109)","v":""},null,null,null,null,null,null,null,null,null,null,null,null,null,null,null,null,"","","",{"$f":"IF($AC101=\"\",\"\",入力シート!F109)","v":""},{"$f":"IF($AC101=\"\",\"\",入力シート!G109)","v":""},{"$f":"IF($AC101=\"\",\"\",入力シート!H109)","v":""},""]
[{"$f":"IF(入力シート!$B110=\"\",\"\",大会コード)","v":""},{"$f":"IF(入力シート!$B110=\"\",\"\",VLOOKUP(入力シート!$C110,大会データ!$A$5:$F$374,3,FALSE))","v":""},{"$f":"IF(入力シート!$B110=\"\",\"\",VLOOKUP(入力シート!$C110,大会データ!$A$5:$F$374,4,FALSE))","v":""},{"$f":"IF(入力シート!$B110=\"\",\"\",VLOOKUP(入力シート!$C110,大会データ!$A$5:$F$374,5,FALSE))","v":""},{"$f":"IF(入力シート!$B110=\"\",\"\",基礎データ!$B$6)","v":""},{"$f":"IF(入力シート!$B110=\"\",\"\",B102)","v":""},{"$f":"IF(入力シート!$B110=\"\",\"\",IF(入力シート!$E110=\"\",TEXT(入力シート!$B110,\"00\"),入力シート!$E110))","v":""},null,null,{"$f":"IF(入力シート!I110=\"\",\"\",入力シート!I110)","v":""},null,null,null,null,null,null,null,null,null,null,null,null,null,null,null,null,"","","",{"$f":"IF($AC102=\"\",\"\",入力シート!F110)","v":""},{"$f":"IF($AC102=\"\",\"\",入力シート!G110)","v":""},{"$f":"IF($AC102=\"\",\"\",入力シート!H110)","v":""},""]
[{"$f":"IF(入力シート!$B111=\"\",\"\",大会コード)","v":""},{"$f":"IF(入力シート!$B111=\"\",\"\",VLOOKUP(入力シート!$C111,大会データ!$A$5:$F$374,3,FALSE))","v":""},{"$f":"IF(入力シート!$B111=\"\",\"\",VLOOKUP(入力シート!$C111,大会データ!$A$5:$F$374,4,FALSE))","v":""},{"$f":"IF(入力シート!$B111=\"\",\"\",VLOOKUP(入力シート!$C111,大会データ!$A$5:$F$374,5,FALSE))","v":""},{"$f":"IF(入力シート!$B111=\"\",\"\",基礎データ!$B$6)","v":""},{"$f":"IF(入力シート!$B111=\"\",\"\",B103)","v":""},{"$f":"IF(入力シート!$B111=\"\",\"\",IF(入力シート!$E111=\"\",TEXT(入力シート!$B111,\"00\"),入力シート!$E111))","v":""},null,null,{"$f":"IF(入力シート!I111=\"\",\"\",入力シート!I111)","v":""},null,null,null,null,null,null,null,null,null,null,null,null,null,null,null,null,"","","",{"$f":"IF($AC103=\"\",\"\",入力シート!F111)","v":""},{"$f":"IF($AC103=\"\",\"\",入力シート!G111)","v":""},{"$f":"IF($AC103=\"\",\"\",入力シート!H111)","v":""},""]
[{"$f":"IF(入力シート!$B112=\"\",\"\",大会コード)","v":""},{"$f":"IF(入力シート!$B112=\"\",\"\",VLOOKUP(入力シート!$C112,大会データ!$A$5:$F$374,3,FALSE))","v":""},{"$f":"IF(入力シート!$B112=\"\",\"\",VLOOKUP(入力シート!$C112,大会データ!$A$5:$F$374,4,FALSE))","v":""},{"$f":"IF(入力シート!$B112=\"\",\"\",VLOOKUP(入力シート!$C112,大会データ!$A$5:$F$374,5,FALSE))","v":""},{"$f":"IF(入力シート!$B112=\"\",\"\",基礎データ!$B$6)","v":""},{"$f":"IF(入力シート!$B112=\"\",\"\",B104)","v":""},{"$f":"IF(入力シート!$B112=\"\",\"\",IF(入力シート!$E112=\"\",TEXT(入力シート!$B112,\"00\"),入力シート!$E112))","v":""},null,null,{"$f":"IF(入力シート!I112=\"\",\"\",入力シート!I112)","v":""},null,null,null,null,null,null,null,null,null,null,null,null,null,null,null,null,"","","",{"$f":"IF($AC104=\"\",\"\",入力シート!F112)","v":""},{"$f":"IF($AC104=\"\",\"\",入力シート!G112)","v":""},{"$f":"IF($AC104=\"\",\"\",入力シート!H112)","v":""},""]
[{"$f":"IF(入力シート!$B113=\"\",\"\",大会コード)","v":""},{"$f":"IF(入力シート!$B113=\"\",\"\",VLOOKUP(入力シート!$C113,大会データ!$A$5:$F$374,3,FALSE))","v":""},{"$f":"IF(入力シート!$B113=\"\",\"\",VLOOKUP(入力シート!$C113,大会データ!$A$5:$F$374,4,FALSE))","v":""},{"$f":"IF(入力シート!$B113=\"\",\"\",VLOOKUP(入力シート!$C113,大会データ!$A$5:$F$374,5,FALSE))","v":""},{"$f":"IF(入力シート!$B113=\"\",\"\",基礎データ!$B$6)","v":""},{"$f":"IF(入力シート!$B113=\"\",\"\",B105)","v":""},{"$f":"IF(入力シート!$B113=\"\",\"\",IF(入力シート!$E113=\"\",TEXT(入力シート!$B113,\"00\"),入力シート!$E113))","v":""},null,null,{"$f":"IF(入力シート!I113=\"\",\"\",入力シート!I113)","v":""},null,null,null,null,null,null,null,null,null,null,null,null,null,null,null,null,"","","",{"$f":"IF($AC105=\"\",\"\",入力シート!F113)","v":""},{"$f":"IF($AC105=\"\",\"\",入力シート!G113)","v":""},{"$f":"IF($AC105=\"\",\"\",入力シート!H113)","v":""},""]
[{"$f":"IF(入力シート!$B114=\"\",\"\",大会コード)","v":""},{"$f":"IF(入力シート!$B114=\"\",\"\",VLOOKUP(入力シート!$C114,大会データ!$A$5:$F$374,3,FALSE))","v":""},{"$f":"IF(入力シート!$B114=\"\",\"\",VLOOKUP(入力シート!$C114,大会データ!$A$5:$F$374,4,FALSE))","v":""},{"$f":"IF(入力シート!$B114=\"\",\"\",VLOOKUP(入力シート!$C114,大会データ!$A$5:$F$374,5,FALSE))","v":""},{"$f":"IF(入力シート!$B114=\"\",\"\",基礎データ!$B$6)","v":""},{"$f":"IF(入力シート!$B114=\"\",\"\",B106)","v":""},{"$f":"IF(入力シート!$B114=\"\",\"\",IF(入力シート!$E114=\"\",TEXT(入力シート!$B114,\"00\"),入力シート!$E114))","v":""},null,null,{"$f":"IF(入力シート!I114=\"\",\"\",入力シート!I114)","v":""},null,null,null,null,null,null,null,null,null,null,null,null,null,null,null,null,"","","",{"$f":"IF($AC106=\"\",\"\",入力シート!F114)","v":""},{"$f":"IF($AC106=\"\",\"\",入力シート!G114)","v":""},{"$f":"IF($AC106=\"\",\"\",入力シート!H114)","v":""},""]
[{"$f":"IF(入力シート!$B115=\"\",\"\",大会コード)","v":""},{"$f":"IF(入力シート!$B115=\"\",\"\",VLOOKUP(入力シート!$C115,大会データ!$A$5:$F$374,3,FALSE))","v":""},{"$f":"IF(入力シート!$B115=\"\",\"\",VLOOKUP(入力シート!$C115,大会データ!$A$5:$F$374,4,FALSE))","v":""},{"$f":"IF(入力シート!$B115=\"\",\"\",VLOOKUP(入力シート!$C115,大会データ!$A$5:$F$374,5,FALSE))","v":""},{"$f":"IF(入力シート!$B115=\"\",\"\",基礎データ!$B$6)","v":""},{"$f":"IF(入力シート!$B115=\"\",\"\",B107)","v":""},{"$f":"IF(入力シート!$B115=\"\",\"\",IF(入力シート!$E115=\"\",TEXT(入力シート!$B115,\"00\"),入力シート!$E115))","v":""},null,null,{"$f":"IF(入力シート!I115=\"\",\"\",入力シート!I115)","v":""},null,null,null,null,null,null,null,null,null,null,null,null,null,null,null,null,"","","",{"$f":"IF($AC107=\"\",\"\",入力シート!F115)","v":""},{"$f":"IF($AC107=\"\",\"\",入力シート!G115)","v":""},{"$f":"IF($AC107=\"\",\"\",入力シート!H115)","v":""},""]
[{"$f":"IF(入力シート!$B116=\"\",\"\",大会コード)","v":""},{"$f":"IF(入力シート!$B116=\"\",\"\",VLOOKUP(入力シート!$C116,大会データ!$A$5:$F$374,3,FALSE))","v":""},{"$f":"IF(入力シート!$B116=\"\",\"\",VLOOKUP(入力シート!$C116,大会データ!$A$5:$F$374,4,FALSE))","v":""},{"$f":"IF(入力シート!$B116=\"\",\"\",VLOOKUP(入力シート!$C116,大会データ!$A$5:$F$374,5,FALSE))","v":""},{"$f":"IF(入力シート!$B116=\"\",\"\",基礎データ!$B$6)","v":""},{"$f":"IF(入力シート!$B116=\"\",\"\",B108)","v":""},{"$f":"IF(入力シート!$B116=\"\",\"\",IF(入力シート!$E116=\"\",TEXT(入力シート!$B116,\"00\"),入力シート!$E116))","v":""},null,null,{"$f":"IF(入力シート!I116=\"\",\"\",入力シート!I116)","v":""},null,null,null,null,null,null,null,null,null,null,null,null,null,null,null,null,"","","",{"$f":"IF($AC108=\"\",\"\",入力シート!F116)","v":""},{"$f":"IF($AC108=\"\",\"\",入力シート!G116)","v":""},{"$f":"IF($AC108=\"\",\"\",入力シート!H116)","v":""},""]
[{"$f":"IF(入力シート!$B117=\"\",\"\",大会コード)","v":""},{"$f":"IF(入力シート!$B117=\"\",\"\",VLOOKUP(入力シート!$C117,大会データ!$A$5:$F$374,3,FALSE))","v":""},{"$f":"IF(入力シート!$B117=\"\",\"\",VLOOKUP(入力シート!$C117,大会データ!$A$5:$F$374,4,FALSE))","v":""},{"$f":"IF(入力シート!$B117=\"\",\"\",VLOOKUP(入力シート!$C117,大会データ!$A$5:$F$374,5,FALSE))","v":""},{"$f":"IF(入力シート!$B117=\"\",\"\",基礎データ!$B$6)","v":""},{"$f":"IF(入力シート!$B117=\"\",\"\",B109)","v":""},{"$f":"IF(入力シート!$B117=\"\",\"\",IF(入力シート!$E117=\"\",TEXT(入力シート!$B117,\"00\"),入力シート!$E117))","v":""},null,null,{"$f":"IF(入力シート!I117=\"\",\"\",入力シート!I117)","v":""},null,null,null,null,null,null,null,null,null,null,null,null,null,null,null,null,"","","",{"$f":"IF($AC109=\"\",\"\",入力シート!F117)","v":""},{"$f":"IF($AC109=\"\",\"\",入力シート!G117)","v":""},{"$f":"IF($AC109=\"\",\"\",入力シート!H117)","v":""},""]
[{"$f":"IF(入力シート!$B118=\"\",\"\",大会コード)","v":""},{"$f":"IF(入力シート!$B118=\"\",\"\",VLOOKUP(入力シート!$C118,大会データ!$A$5:$F$374,3,FALSE))","v":""},{"$f":"IF(入力シート!$B118=\"\",\"\",VLOOKUP(入力シート!$C118,大会データ!$A$5:$F$374,4,FALSE))","v":""},{"$f":"IF(入力シート!$B118=\"\",\"\",VLOOKUP(入力シート!$C118,大会データ!$A$5:$F$374,5,FALSE))","v":""},{"$f":"IF(入力シート!$B118=\"\",\"\",基礎データ!$B$6)","v":""},{"$f":"IF(入力シート!$B118=\"\",\"\",B110)","v":""},{"$f":"IF(入力シート!$B118=\"\",\"\",IF(入力シート!$E118=\"\",TEXT(入力シート!$B118,\"00\"),入力シート!$E118))","v":""},null,null,{"$f":"IF(入力シート!I118=\"\",\"\",入力シート!I118)","v":""},null,null,null,null,null,null,null,null,null,null,null,null,null,null,null,null,"","","",{"$f":"IF($AC110=\"\",\"\",入力シート!F118)","v":""},{"$f":"IF($AC110=\"\",\"\",入力シート!G118)","v":""},{"$f":"IF($AC110=\"\",\"\",入力シート!H118)","v":""},""]
[{"$f":"IF(入力シート!$B119=\"\",\"\",大会コード)","v":""},{"$f":"IF(入力シート!$B119=\"\",\"\",VLOOKUP(入力シート!$C119,大会データ!$A$5:$F$374,3,FALSE))","v":""},{"$f":"IF(入力シート!$B119=\"\",\"\",VLOOKUP(入力シート!$C119,大会データ!$A$5:$F$374,4,FALSE))","v":""},{"$f":"IF(入力シート!$B119=\"\",\"\",VLOOKUP(入力シート!$C119,大会データ!$A$5:$F$374,5,FALSE))","v":""},{"$f":"IF(入力シート!$B119=\"\",\"\",基礎データ!$B$6)","v":""},{"$f":"IF(入力シート!$B119=\"\",\"\",B111)","v":""},{"$f":"IF(入力シート!$B119=\"\",\"\",IF(入力シート!$E119=\"\",TEXT(入力シート!$B119,\"00\"),入力シート!$E119))","v":""},null,null,{"$f":"IF(入力シート!I119=\"\",\"\",入力シート!I119)","v":""},null,null,null,null,null,null,null,null,null,null,null,null,null,null,null,null,"","","",{"$f":"IF($AC111=\"\",\"\",入力シート!F119)","v":""},{"$f":"IF($AC111=\"\",\"\",入力シート!G119)","v":""},{"$f":"IF($AC111=\"\",\"\",入力シート!H119)","v":""},""]
[{"$f":"IF(入力シート!$B120=\"\",\"\",大会コード)","v":""},{"$f":"IF(入力シート!$B120=\"\",\"\",VLOOKUP(入力シート!$C120,大会データ!$A$5:$F$374,3,FALSE))","v":""},{"$f":"IF(入力シート!$B120=\"\",\"\",VLOOKUP(入力シート!$C120,大会データ!$A$5:$F$374,4,FALSE))","v":""},{"$f":"IF(入力シート!$B120=\"\",\"\",VLOOKUP(入力シート!$C120,大会データ!$A$5:$F$374,5,FALSE))","v":""},{"$f":"IF(入力シート!$B120=\"\",\"\",基礎データ!$B$6)","v":""},{"$f":"IF(入力シート!$B120=\"\",\"\",B112)","v":""},{"$f":"IF(入力シート!$B120=\"\",\"\",IF(入力シート!$E120=\"\",TEXT(入力シート!$B120,\"00\"),入力シート!$E120))","v":""},null,null,{"$f":"IF(入力シート!I120=\"\",\"\",入力シート!I120)","v":""},null,null,null,null,null,null,null,null,null,null,null,null,null,null,null,null,"","","",{"$f":"IF($AC112=\"\",\"\",入力シート!F120)","v":""},{"$f":"IF($AC112=\"\",\"\",入力シート!G120)","v":""},{"$f":"IF($AC112=\"\",\"\",入力シート!H120)","v":""},""]
[{"$f":"IF(入力シート!$B121=\"\",\"\",大会コード)","v":""},{"$f":"IF(入力シート!$B121=\"\",\"\",VLOOKUP(入力シート!$C121,大会データ!$A$5:$F$374,3,FALSE))","v":""},{"$f":"IF(入力シート!$B121=\"\",\"\",VLOOKUP(入力シート!$C121,大会データ!$A$5:$F$374,4,FALSE))","v":""},{"$f":"IF(入力シート!$B121=\"\",\"\",VLOOKUP(入力シート!$C121,大会データ!$A$5:$F$374,5,FALSE))","v":""},{"$f":"IF(入力シート!$B121=\"\",\"\",基礎データ!$B$6)","v":""},{"$f":"IF(入力シート!$B121=\"\",\"\",B113)","v":""},{"$f":"IF(入力シート!$B121=\"\",\"\",IF(入力シート!$E121=\"\",TEXT(入力シート!$B121,\"00\"),入力シート!$E121))","v":""},null,null,{"$f":"IF(入力シート!I121=\"\",\"\",入力シート!I121)","v":""},null,null,null,null,null,null,null,null,null,null,null,null,null,null,null,null,"","","",{"$f":"IF($AC113=\"\",\"\",入力シート!F121)","v":""},{"$f":"IF($AC113=\"\",\"\",入力シート!G121)","v":""},{"$f":"IF($AC113=\"\",\"\",入力シート!H121)","v":""},""]
[{"$f":"IF(入力シート!$B122=\"\",\"\",大会コード)","v":""},{"$f":"IF(入力シート!$B122=\"\",\"\",VLOOKUP(入力シート!$C122,大会データ!$A$5:$F$374,3,FALSE))","v":""},{"$f":"IF(入力シート!$B122=\"\",\"\",VLOOKUP(入力シート!$C122,大会データ!$A$5:$F$374,4,FALSE))","v":""},{"$f":"IF(入力シート!$B122=\"\",\"\",VLOOKUP(入力シート!$C122,大会データ!$A$5:$F$374,5,FALSE))","v":""},{"$f":"IF(入力シート!$B122=\"\",\"\",基礎データ!$B$6)","v":""},{"$f":"IF(入力シート!$B122=\"\",\"\",B114)","v":""},{"$f":"IF(入力シート!$B122=\"\",\"\",IF(入力シート!$E122=\"\",TEXT(入力シート!$B122,\"00\"),入力シート!$E122))","v":""},null,null,{"$f":"IF(入力シート!I122=\"\",\"\",入力シート!I122)","v":""},null,null,null,null,null,null,null,null,null,null,null,null,null,null,null,null,"","","",{"$f":"IF($AC114=\"\",\"\",入力シート!F122)","v":""},{"$f":"IF($AC114=\"\",\"\",入力シート!G122)","v":""},{"$f":"IF($AC114=\"\",\"\",入力シート!H122)","v":""},""]
[{"$f":"IF(入力シート!$B123=\"\",\"\",大会コード)","v":""},{"$f":"IF(入力シート!$B123=\"\",\"\",VLOOKUP(入力シート!$C123,大会データ!$A$5:$F$374,3,FALSE))","v":""},{"$f":"IF(入力シート!$B123=\"\",\"\",VLOOKUP(入力シート!$C123,大会データ!$A$5:$F$374,4,FALSE))","v":""},{"$f":"IF(入力シート!$B123=\"\",\"\",VLOOKUP(入力シート!$C123,大会データ!$A$5:$F$374,5,FALSE))","v":""},{"$f":"IF(入力シート!$B123=\"\",\"\",基礎データ!$B$6)","v":""},{"$f":"IF(入力シート!$B123=\"\",\"\",B115)","v":""},{"$f":"IF(入力シート!$B123=\"\",\"\",IF(入力シート!$E123=\"\",TEXT(入力シート!$B123,\"00\"),入力シート!$E123))","v":""},null,null,{"$f":"IF(入力シート!I123=\"\",\"\",入力シート!I123)","v":""},null,null,null,null,null,null,null,null,null,null,null,null,null,null,null,null,"","","",{"$f":"IF($AC115=\"\",\"\",入力シート!F123)","v":""},{"$f":"IF($AC115=\"\",\"\",入力シート!G123)","v":""},{"$f":"IF($AC115=\"\",\"\",入力シート!H123)","v":""},""]
[{"$f":"IF(入力シート!$B124=\"\",\"\",大会コード)","v":""},{"$f":"IF(入力シート!$B124=\"\",\"\",VLOOKUP(入力シート!$C124,大会データ!$A$5:$F$374,3,FALSE))","v":""},{"$f":"IF(入力シート!$B124=\"\",\"\",VLOOKUP(入力シート!$C124,大会データ!$A$5:$F$374,4,FALSE))","v":""},{"$f":"IF(入力シート!$B124=\"\",\"\",VLOOKUP(入力シート!$C124,大会データ!$A$5:$F$374,5,FALSE))","v":""},{"$f":"IF(入力シート!$B124=\"\",\"\",基礎データ!$B$6)","v":""},{"$f":"IF(入力シート!$B124=\"\",\"\",B116)","v":""},{"$f":"IF(入力シート!$B124=\"\",\"\",IF(入力シート!$E124=\"\",TEXT(入力シート!$B124,\"00\"),入力シート!$E124))","v":""},null,null,{"$f":"IF(入力シート!I124=\"\",\"\",入力シート!I124)","v":""},null,null,null,null,null,null,null,null,null,null,null,null,null,null,null,null,"","","",{"$f":"IF($AC116=\"\",\"\",入力シート!F124)","v":""},{"$f":"IF($AC116=\"\",\"\",入力シート!G124)","v":""},{"$f":"IF($AC116=\"\",\"\",入力シート!H124)","v":""},""]
[{"$f":"IF(入力シート!$B125=\"\",\"\",大会コード)","v":""},{"$f":"IF(入力シート!$B125=\"\",\"\",VLOOKUP(入力シート!$C125,大会データ!$A$5:$F$374,3,FALSE))","v":""},{"$f":"IF(入力シート!$B125=\"\",\"\",VLOOKUP(入力シート!$C125,大会データ!$A$5:$F$374,4,FALSE))","v":""},{"$f":"IF(入力シート!$B125=\"\",\"\",VLOOKUP(入力シート!$C125,大会データ!$A$5:$F$374,5,FALSE))","v":""},{"$f":"IF(入力シート!$B125=\"\",\"\",基礎データ!$B$6)","v":""},{"$f":"IF(入力シート!$B125=\"\",\"\",B117)","v":""},{"$f":"IF(入力シート!$B125=\"\",\"\",IF(入力シート!$E125=\"\",TEXT(入力シート!$B125,\"00\"),入力シート!$E125))","v":""},null,null,{"$f":"IF(入力シート!I125=\"\",\"\",入力シート!I125)","v":""},null,null,null,null,null,null,null,null,null,null,null,null,null,null,null,null,"","","",{"$f":"IF($AC117=\"\",\"\",入力シート!F125)","v":""},{"$f":"IF($AC117=\"\",\"\",入力シート!G125)","v":""},{"$f":"IF($AC117=\"\",\"\",入力シート!H125)","v":""},""]
[{"$f":"IF(入力シート!$B126=\"\",\"\",大会コード)","v":""},{"$f":"IF(入力シート!$B126=\"\",\"\",VLOOKUP(入力シート!$C126,大会データ!$A$5:$F$374,3,FALSE))","v":""},{"$f":"IF(入力シート!$B126=\"\",\"\",VLOOKUP(入力シート!$C126,大会データ!$A$5:$F$374,4,FALSE))","v":""},{"$f":"IF(入力シート!$B126=\"\",\"\",VLOOKUP(入力シート!$C126,大会データ!$A$5:$F$374,5,FALSE))","v":""},{"$f":"IF(入力シート!$B126=\"\",\"\",基礎データ!$B$6)","v":""},{"$f":"IF(入力シート!$B126=\"\",\"\",B118)","v":""},{"$f":"IF(入力シート!$B126=\"\",\"\",IF(入力シート!$E126=\"\",TEXT(入力シート!$B126,\"00\"),入力シート!$E126))","v":""},null,null,{"$f":"IF(入力シート!I126=\"\",\"\",入力シート!I126)","v":""},null,null,null,null,null,null,null,null,null,null,null,null,null,null,null,null,"","","",{"$f":"IF($AC118=\"\",\"\",入力シート!F126)","v":""},{"$f":"IF($AC118=\"\",\"\",入力シート!G126)","v":""},{"$f":"IF($AC118=\"\",\"\",入力シート!H126)","v":""},""]
[{"$f":"IF(入力シート!$B127=\"\",\"\",大会コード)","v":""},{"$f":"IF(入力シート!$B127=\"\",\"\",VLOOKUP(入力シート!$C127,大会データ!$A$5:$F$374,3,FALSE))","v":""},{"$f":"IF(入力シート!$B127=\"\",\"\",VLOOKUP(入力シート!$C127,大会データ!$A$5:$F$374,4,FALSE))","v":""},{"$f":"IF(入力シート!$B127=\"\",\"\",VLOOKUP(入力シート!$C127,大会データ!$A$5:$F$374,5,FALSE))","v":""},{"$f":"IF(入力シート!$B127=\"\",\"\",基礎データ!$B$6)","v":""},{"$f":"IF(入力シート!$B127=\"\",\"\",B119)","v":""},{"$f":"IF(入力シート!$B127=\"\",\"\",IF(入力シート!$E127=\"\",TEXT(入力シート!$B127,\"00\"),入力シート!$E127))","v":""},null,null,{"$f":"IF(入力シート!I127=\"\",\"\",入力シート!I127)","v":""},null,null,null,null,null,null,null,null,null,null,null,null,null,null,null,null,"","","",{"$f":"IF($AC119=\"\",\"\",入力シート!F127)","v":""},{"$f":"IF($AC119=\"\",\"\",入力シート!G127)","v":""},{"$f":"IF($AC119=\"\",\"\",入力シート!H127)","v":""},""]
[{"$f":"IF(入力シート!$B128=\"\",\"\",大会コード)","v":""},{"$f":"IF(入力シート!$B128=\"\",\"\",VLOOKUP(入力シート!$C128,大会データ!$A$5:$F$374,3,FALSE))","v":""},{"$f":"IF(入力シート!$B128=\"\",\"\",VLOOKUP(入力シート!$C128,大会データ!$A$5:$F$374,4,FALSE))","v":""},{"$f":"IF(入力シート!$B128=\"\",\"\",VLOOKUP(入力シート!$C128,大会データ!$A$5:$F$374,5,FALSE))","v":""},{"$f":"IF(入力シート!$B128=\"\",\"\",基礎データ!$B$6)","v":""},{"$f":"IF(入力シート!$B128=\"\",\"\",B120)","v":""},{"$f":"IF(入力シート!$B128=\"\",\"\",IF(入力シート!$E128=\"\",TEXT(入力シート!$B128,\"00\"),入力シート!$E128))","v":""},null,null,{"$f":"IF(入力シート!I128=\"\",\"\",入力シート!I128)","v":""},null,null,null,null,null,null,null,null,null,null,null,null,null,null,null,null,"","","",{"$f":"IF($AC120=\"\",\"\",入力シート!F128)","v":""},{"$f":"IF($AC120=\"\",\"\",入力シート!G128)","v":""},{"$f":"IF($AC120=\"\",\"\",入力シート!H128)","v":""},""]
[{"$f":"IF(入力シート!$B129=\"\",\"\",大会コード)","v":""},{"$f":"IF(入力シート!$B129=\"\",\"\",VLOOKUP(入力シート!$C129,大会データ!$A$5:$F$374,3,FALSE))","v":""},{"$f":"IF(入力シート!$B129=\"\",\"\",VLOOKUP(入力シート!$C129,大会データ!$A$5:$F$374,4,FALSE))","v":""},{"$f":"IF(入力シート!$B129=\"\",\"\",VLOOKUP(入力シート!$C129,大会データ!$A$5:$F$374,5,FALSE))","v":""},{"$f":"IF(入力シート!$B129=\"\",\"\",基礎データ!$B$6)","v":""},{"$f":"IF(入力シート!$B129=\"\",\"\",B121)","v":""},{"$f":"IF(入力シート!$B129=\"\",\"\",IF(入力シート!$E129=\"\",TEXT(入力シート!$B129,\"00\"),入力シート!$E129))","v":""},null,null,{"$f":"IF(入力シート!I129=\"\",\"\",入力シート!I129)","v":""},null,null,null,null,null,null,null,null,null,null,null,null,null,null,null,null,"","","",{"$f":"IF($AC121=\"\",\"\",入力シート!F129)","v":""},{"$f":"IF($AC121=\"\",\"\",入力シート!G129)","v":""},{"$f":"IF($AC121=\"\",\"\",入力シート!H129)","v":""},""]
[{"$f":"IF(入力シート!$B130=\"\",\"\",大会コード)","v":""},{"$f":"IF(入力シート!$B130=\"\",\"\",VLOOKUP(入力シート!$C130,大会データ!$A$5:$F$374,3,FALSE))","v":""},{"$f":"IF(入力シート!$B130=\"\",\"\",VLOOKUP(入力シート!$C130,大会データ!$A$5:$F$374,4,FALSE))","v":""},{"$f":"IF(入力シート!$B130=\"\",\"\",VLOOKUP(入力シート!$C130,大会データ!$A$5:$F$374,5,FALSE))","v":""},{"$f":"IF(入力シート!$B130=\"\",\"\",基礎データ!$B$6)","v":""},{"$f":"IF(入力シート!$B130=\"\",\"\",B122)","v":""},{"$f":"IF(入力シート!$B130=\"\",\"\",IF(入力シート!$E130=\"\",TEXT(入力シート!$B130,\"00\"),入力シート!$E130))","v":""},null,null,{"$f":"IF(入力シート!I130=\"\",\"\",入力シート!I130)","v":""},null,null,null,null,null,null,null,null,null,null,null,null,null,null,null,null,"","","",{"$f":"IF($AC122=\"\",\"\",入力シート!F130)","v":""},{"$f":"IF($AC122=\"\",\"\",入力シート!G130)","v":""},{"$f":"IF($AC122=\"\",\"\",入力シート!H130)","v":""},""]
[{"$f":"IF(入力シート!$B131=\"\",\"\",大会コード)","v":""},{"$f":"IF(入力シート!$B131=\"\",\"\",VLOOKUP(入力シート!$C131,大会データ!$A$5:$F$374,3,FALSE))","v":""},{"$f":"IF(入力シート!$B131=\"\",\"\",VLOOKUP(入力シート!$C131,大会データ!$A$5:$F$374,4,FALSE))","v":""},{"$f":"IF(入力シート!$B131=\"\",\"\",VLOOKUP(入力シート!$C131,大会データ!$A$5:$F$374,5,FALSE))","v":""},{"$f":"IF(入力シート!$B131=\"\",\"\",基礎データ!$B$6)","v":""},{"$f":"IF(入力シート!$B131=\"\",\"\",B123)","v":""},{"$f":"IF(入力シート!$B131=\"\",\"\",IF(入力シート!$E131=\"\",TEXT(入力シート!$B131,\"00\"),入力シート!$E131))","v":""},null,null,{"$f":"IF(入力シート!I131=\"\",\"\",入力シート!I131)","v":""},null,null,null,null,null,null,null,null,null,null,null,null,null,null,null,null,"","","",{"$f":"IF($AC123=\"\",\"\",入力シート!F131)","v":""},{"$f":"IF($AC123=\"\",\"\",入力シート!G131)","v":""},{"$f":"IF($AC123=\"\",\"\",入力シート!H131)","v":""},""]
[{"$f":"IF(入力シート!$B132=\"\",\"\",大会コード)","v":""},{"$f":"IF(入力シート!$B132=\"\",\"\",VLOOKUP(入力シート!$C132,大会データ!$A$5:$F$374,3,FALSE))","v":""},{"$f":"IF(入力シート!$B132=\"\",\"\",VLOOKUP(入力シート!$C132,大会データ!$A$5:$F$374,4,FALSE))","v":""},{"$f":"IF(入力シート!$B132=\"\",\"\",VLOOKUP(入力シート!$C132,大会データ!$A$5:$F$374,5,FALSE))","v":""},{"$f":"IF(入力シート!$B132=\"\",\"\",基礎データ!$B$6)","v":""},{"$f":"IF(入力シート!$B132=\"\",\"\",B124)","v":""},{"$f":"IF(入力シート!$B132=\"\",\"\",IF(入力シート!$E132=\"\",TEXT(入力シート!$B132,\"00\"),入力シート!$E132))","v":""},null,null,{"$f":"IF(入力シート!I132=\"\",\"\",入力シート!I132)","v":""},null,null,null,null,null,null,null,null,null,null,null,null,null,null,null,null,"","","",{"$f":"IF($AC124=\"\",\"\",入力シート!F132)","v":""},{"$f":"IF($AC124=\"\",\"\",入力シート!G132)","v":""},{"$f":"IF($AC124=\"\",\"\",入力シート!H132)","v":""},""]
[{"$f":"IF(入力シート!$B133=\"\",\"\",大会コード)","v":""},{"$f":"IF(入力シート!$B133=\"\",\"\",VLOOKUP(入力シート!$C133,大会データ!$A$5:$F$374,3,FALSE))","v":""},{"$f":"IF(入力シート!$B133=\"\",\"\",VLOOKUP(入力シート!$C133,大会データ!$A$5:$F$374,4,FALSE))","v":""},{"$f":"IF(入力シート!$B133=\"\",\"\",VLOOKUP(入力シート!$C133,大会データ!$A$5:$F$374,5,FALSE))","v":""},{"$f":"IF(入力シート!$B133=\"\",\"\",基礎データ!$B$6)","v":""},{"$f":"IF(入力シート!$B133=\"\",\"\",B125)","v":""},{"$f":"IF(入力シート!$B133=\"\",\"\",IF(入力シート!$E133=\"\",TEXT(入力シート!$B133,\"00\"),入力シート!$E133))","v":""},null,null,{"$f":"IF(入力シート!I133=\"\",\"\",入力シート!I133)","v":""},null,null,null,null,null,null,null,null,null,null,null,null,null,null,null,null,"","","",{"$f":"IF($AC125=\"\",\"\",入力シート!F133)","v":""},{"$f":"IF($AC125=\"\",\"\",入力シート!G133)","v":""},{"$f":"IF($AC125=\"\",\"\",入力シート!H133)","v":""},""]
[{"$f":"IF(入力シート!$B134=\"\",\"\",大会コード)","v":""},{"$f":"IF(入力シート!$B134=\"\",\"\",VLOOKUP(入力シート!$C134,大会データ!$A$5:$F$374,3,FALSE))","v":""},{"$f":"IF(入力シート!$B134=\"\",\"\",VLOOKUP(入力シート!$C134,大会データ!$A$5:$F$374,4,FALSE))","v":""},{"$f":"IF(入力シート!$B134=\"\",\"\",VLOOKUP(入力シート!$C134,大会データ!$A$5:$F$374,5,FALSE))","v":""},{"$f":"IF(入力シート!$B134=\"\",\"\",基礎データ!$B$6)","v":""},{"$f":"IF(入力シート!$B134=\"\",\"\",B126)","v":""},{"$f":"IF(入力シート!$B134=\"\",\"\",IF(入力シート!$E134=\"\",TEXT(入力シート!$B134,\"00\"),入力シート!$E134))","v":""},null,null,{"$f":"IF(入力シート!I134=\"\",\"\",入力シート!I134)","v":""},null,null,null,null,null,null,null,null,null,null,null,null,null,null,null,null,"","","",{"$f":"IF($AC126=\"\",\"\",入力シート!F134)","v":""},{"$f":"IF($AC126=\"\",\"\",入力シート!G134)","v":""},{"$f":"IF($AC126=\"\",\"\",入力シート!H134)","v":""},""]
[{"$f":"IF(入力シート!$B135=\"\",\"\",大会コード)","v":""},{"$f":"IF(入力シート!$B135=\"\",\"\",VLOOKUP(入力シート!$C135,大会データ!$A$5:$F$374,3,FALSE))","v":""},{"$f":"IF(入力シート!$B135=\"\",\"\",VLOOKUP(入力シート!$C135,大会データ!$A$5:$F$374,4,FALSE))","v":""},{"$f":"IF(入力シート!$B135=\"\",\"\",VLOOKUP(入力シート!$C135,大会データ!$A$5:$F$374,5,FALSE))","v":""},{"$f":"IF(入力シート!$B135=\"\",\"\",基礎データ!$B$6)","v":""},{"$f":"IF(入力シート!$B135=\"\",\"\",B127)","v":""},{"$f":"IF(入力シート!$B135=\"\",\"\",IF(入力シート!$E135=\"\",TEXT(入力シート!$B135,\"00\"),入力シート!$E135))","v":""},null,null,{"$f":"IF(入力シート!I135=\"\",\"\",入力シート!I135)","v":""},null,null,null,null,null,null,null,null,null,null,null,null,null,null,null,null,"","","",{"$f":"IF($AC127=\"\",\"\",入力シート!F135)","v":""},{"$f":"IF($AC127=\"\",\"\",入力シート!G135)","v":""},{"$f":"IF($AC127=\"\",\"\",入力シート!H135)","v":""},""]
[{"$f":"IF(入力シート!$B136=\"\",\"\",大会コード)","v":""},{"$f":"IF(入力シート!$B136=\"\",\"\",VLOOKUP(入力シート!$C136,大会データ!$A$5:$F$374,3,FALSE))","v":""},{"$f":"IF(入力シート!$B136=\"\",\"\",VLOOKUP(入力シート!$C136,大会データ!$A$5:$F$374,4,FALSE))","v":""},{"$f":"IF(入力シート!$B136=\"\",\"\",VLOOKUP(入力シート!$C136,大会データ!$A$5:$F$374,5,FALSE))","v":""},{"$f":"IF(入力シート!$B136=\"\",\"\",基礎データ!$B$6)","v":""},{"$f":"IF(入力シート!$B136=\"\",\"\",B128)","v":""},{"$f":"IF(入力シート!$B136=\"\",\"\",IF(入力シート!$E136=\"\",TEXT(入力シート!$B136,\"00\"),入力シート!$E136))","v":""},null,null,{"$f":"IF(入力シート!I136=\"\",\"\",入力シート!I136)","v":""},null,null,null,null,null,null,null,null,null,null,null,null,null,null,null,null,"","","",{"$f":"IF($AC128=\"\",\"\",入力シート!F136)","v":""},{"$f":"IF($AC128=\"\",\"\",入力シート!G136)","v":""},{"$f":"IF($AC128=\"\",\"\",入力シート!H136)","v":""},""]
[{"$f":"IF(入力シート!$B137=\"\",\"\",大会コード)","v":""},{"$f":"IF(入力シート!$B137=\"\",\"\",VLOOKUP(入力シート!$C137,大会データ!$A$5:$F$374,3,FALSE))","v":""},{"$f":"IF(入力シート!$B137=\"\",\"\",VLOOKUP(入力シート!$C137,大会データ!$A$5:$F$374,4,FALSE))","v":""},{"$f":"IF(入力シート!$B137=\"\",\"\",VLOOKUP(入力シート!$C137,大会データ!$A$5:$F$374,5,FALSE))","v":""},{"$f":"IF(入力シート!$B137=\"\",\"\",基礎データ!$B$6)","v":""},{"$f":"IF(入力シート!$B137=\"\",\"\",B129)","v":""},{"$f":"IF(入力シート!$B137=\"\",\"\",IF(入力シート!$E137=\"\",TEXT(入力シート!$B137,\"00\"),入力シート!$E137))","v":""},null,null,{"$f":"IF(入力シート!I137=\"\",\"\",入力シート!I137)","v":""},null,null,null,null,null,null,null,null,null,null,null,null,null,null,null,null,"","","",{"$f":"IF($AC129=\"\",\"\",入力シート!F137)","v":""},{"$f":"IF($AC129=\"\",\"\",入力シート!G137)","v":""},{"$f":"IF($AC129=\"\",\"\",入力シート!H137)","v":""},""]
[{"$f":"IF(入力シート!$B138=\"\",\"\",大会コード)","v":""},{"$f":"IF(入力シート!$B138=\"\",\"\",VLOOKUP(入力シート!$C138,大会データ!$A$5:$F$374,3,FALSE))","v":""},{"$f":"IF(入力シート!$B138=\"\",\"\",VLOOKUP(入力シート!$C138,大会データ!$A$5:$F$374,4,FALSE))","v":""},{"$f":"IF(入力シート!$B138=\"\",\"\",VLOOKUP(入力シート!$C138,大会データ!$A$5:$F$374,5,FALSE))","v":""},{"$f":"IF(入力シート!$B138=\"\",\"\",基礎データ!$B$6)","v":""},{"$f":"IF(入力シート!$B138=\"\",\"\",B130)","v":""},{"$f":"IF(入力シート!$B138=\"\",\"\",IF(入力シート!$E138=\"\",TEXT(入力シート!$B138,\"00\"),入力シート!$E138))","v":""},null,null,{"$f":"IF(入力シート!I138=\"\",\"\",入力シート!I138)","v":""},null,null,null,null,null,null,null,null,null,null,null,null,null,null,null,null,"","","",{"$f":"IF($AC130=\"\",\"\",入力シート!F138)","v":""},{"$f":"IF($AC130=\"\",\"\",入力シート!G138)","v":""},{"$f":"IF($AC130=\"\",\"\",入力シート!H138)","v":""},""]
[{"$f":"IF(入力シート!$B139=\"\",\"\",大会コード)","v":""},{"$f":"IF(入力シート!$B139=\"\",\"\",VLOOKUP(入力シート!$C139,大会データ!$A$5:$F$374,3,FALSE))","v":""},{"$f":"IF(入力シート!$B139=\"\",\"\",VLOOKUP(入力シート!$C139,大会データ!$A$5:$F$374,4,FALSE))","v":""},{"$f":"IF(入力シート!$B139=\"\",\"\",VLOOKUP(入力シート!$C139,大会データ!$A$5:$F$374,5,FALSE))","v":""},{"$f":"IF(入力シート!$B139=\"\",\"\",基礎データ!$B$6)","v":""},{"$f":"IF(入力シート!$B139=\"\",\"\",B131)","v":""},{"$f":"IF(入力シート!$B139=\"\",\"\",IF(入力シート!$E139=\"\",TEXT(入力シート!$B139,\"00\"),入力シート!$E139))","v":""},null,null,{"$f":"IF(入力シート!I139=\"\",\"\",入力シート!I139)","v":""},null,null,null,null,null,null,null,null,null,null,null,null,null,null,null,null,"","","",{"$f":"IF($AC131=\"\",\"\",入力シート!F139)","v":""},{"$f":"IF($AC131=\"\",\"\",入力シート!G139)","v":""},{"$f":"IF($AC131=\"\",\"\",入力シート!H139)","v":""},""]
[{"$f":"IF(入力シート!$B140=\"\",\"\",大会コード)","v":""},{"$f":"IF(入力シート!$B140=\"\",\"\",VLOOKUP(入力シート!$C140,大会データ!$A$5:$F$374,3,FALSE))","v":""},{"$f":"IF(入力シート!$B140=\"\",\"\",VLOOKUP(入力シート!$C140,大会データ!$A$5:$F$374,4,FALSE))","v":""},{"$f":"IF(入力シート!$B140=\"\",\"\",VLOOKUP(入力シート!$C140,大会データ!$A$5:$F$374,5,FALSE))","v":""},{"$f":"IF(入力シート!$B140=\"\",\"\",基礎データ!$B$6)","v":""},{"$f":"IF(入力シート!$B140=\"\",\"\",B132)","v":""},{"$f":"IF(入力シート!$B140=\"\",\"\",IF(入力シート!$E140=\"\",TEXT(入力シート!$B140,\"00\"),入力シート!$E140))","v":""},null,null,{"$f":"IF(入力シート!I140=\"\",\"\",入力シート!I140)","v":""},null,null,null,null,null,null,null,null,null,null,null,null,null,null,null,null,"","","",{"$f":"IF($AC132=\"\",\"\",入力シート!F140)","v":""},{"$f":"IF($AC132=\"\",\"\",入力シート!G140)","v":""},{"$f":"IF($AC132=\"\",\"\",入力シート!H140)","v":""},""]
[{"$f":"IF(入力シート!$B141=\"\",\"\",大会コード)","v":""},{"$f":"IF(入力シート!$B141=\"\",\"\",VLOOKUP(入力シート!$C141,大会データ!$A$5:$F$374,3,FALSE))","v":""},{"$f":"IF(入力シート!$B141=\"\",\"\",VLOOKUP(入力シート!$C141,大会データ!$A$5:$F$374,4,FALSE))","v":""},{"$f":"IF(入力シート!$B141=\"\",\"\",VLOOKUP(入力シート!$C141,大会データ!$A$5:$F$374,5,FALSE))","v":""},{"$f":"IF(入力シート!$B141=\"\",\"\",基礎データ!$B$6)","v":""},{"$f":"IF(入力シート!$B141=\"\",\"\",B133)","v":""},{"$f":"IF(入力シート!$B141=\"\",\"\",IF(入力シート!$E141=\"\",TEXT(入力シート!$B141,\"00\"),入力シート!$E141))","v":""},null,null,{"$f":"IF(入力シート!I141=\"\",\"\",入力シート!I141)","v":""},null,null,null,null,null,null,null,null,null,null,null,null,null,null,null,null,{"$f":"E133","v":""},{"$f":"B133","v":""},{"$f":"G133","v":""},{"$f":"IF($AC133=\"\",\"\",入力シート!F141)","v":""},{"$f":"IF($AC133=\"\",\"\",入力シート!G141)","v":""},{"$f":"IF($AC133=\"\",\"\",入力シート!H141)","v":""},{"$f":"IF($AC133=\"\",\"\",2016-AF133)","v":""}]
[{"$f":"IF(入力シート!$B142=\"\",\"\",大会コード)","v":""},{"$f":"IF(入力シート!$B142=\"\",\"\",VLOOKUP(入力シート!$C142,大会データ!$A$5:$F$374,3,FALSE))","v":""},{"$f":"IF(入力シート!$B142=\"\",\"\",VLOOKUP(入力シート!$C142,大会データ!$A$5:$F$374,4,FALSE))","v":""},{"$f":"IF(入力シート!$B142=\"\",\"\",VLOOKUP(入力シート!$C142,大会データ!$A$5:$F$374,5,FALSE))","v":""},{"$f":"IF(入力シート!$B142=\"\",\"\",基礎データ!$B$6)","v":""},{"$f":"IF(入力シート!$B142=\"\",\"\",B134)","v":""},{"$f":"IF(入力シート!$B142=\"\",\"\",IF(入力シート!$E142=\"\",TEXT(入力シート!$B142,\"00\"),入力シート!$E142))","v":""},null,null,{"$f":"IF(入力シート!I142=\"\",\"\",入力シート!I142)","v":""},null,null,null,null,null,null,null,null,null,null,null,null,null,null,null,null,"","","",{"$f":"IF($AC134=\"\",\"\",入力シート!F142)","v":""},{"$f":"IF($AC134=\"\",\"\",入力シート!G142)","v":""},{"$f":"IF($AC134=\"\",\"\",入力シート!H142)","v":""},""]
[{"$f":"IF(入力シート!$B143=\"\",\"\",大会コード)","v":""},{"$f":"IF(入力シート!$B143=\"\",\"\",VLOOKUP(入力シート!$C143,大会データ!$A$5:$F$374,3,FALSE))","v":""},{"$f":"IF(入力シート!$B143=\"\",\"\",VLOOKUP(入力シート!$C143,大会データ!$A$5:$F$374,4,FALSE))","v":""},{"$f":"IF(入力シート!$B143=\"\",\"\",VLOOKUP(入力シート!$C143,大会データ!$A$5:$F$374,5,FALSE))","v":""},{"$f":"IF(入力シート!$B143=\"\",\"\",基礎データ!$B$6)","v":""},{"$f":"IF(入力シート!$B143=\"\",\"\",B135)","v":""},{"$f":"IF(入力シート!$B143=\"\",\"\",IF(入力シート!$E143=\"\",TEXT(入力シート!$B143,\"00\"),入力シート!$E143))","v":""},null,null,{"$f":"IF(入力シート!I143=\"\",\"\",入力シート!I143)","v":""},null,null,null,null,null,null,null,null,null,null,null,null,null,null,null,null,"","","",{"$f":"IF($AC135=\"\",\"\",入力シート!F143)","v":""},{"$f":"IF($AC135=\"\",\"\",入力シート!G143)","v":""},{"$f":"IF($AC135=\"\",\"\",入力シート!H143)","v":""},""]
[{"$f":"IF(入力シート!$B144=\"\",\"\",大会コード)","v":""},{"$f":"IF(入力シート!$B144=\"\",\"\",VLOOKUP(入力シート!$C144,大会データ!$A$5:$F$374,3,FALSE))","v":""},{"$f":"IF(入力シート!$B144=\"\",\"\",VLOOKUP(入力シート!$C144,大会データ!$A$5:$F$374,4,FALSE))","v":""},{"$f":"IF(入力シート!$B144=\"\",\"\",VLOOKUP(入力シート!$C144,大会データ!$A$5:$F$374,5,FALSE))","v":""},{"$f":"IF(入力シート!$B144=\"\",\"\",基礎データ!$B$6)","v":""},{"$f":"IF(入力シート!$B144=\"\",\"\",B136)","v":""},{"$f":"IF(入力シート!$B144=\"\",\"\",IF(入力シート!$E144=\"\",TEXT(入力シート!$B144,\"00\"),入力シート!$E144))","v":""},null,null,{"$f":"IF(入力シート!I144=\"\",\"\",入力シート!I144)","v":""},null,null,null,null,null,null,null,null,null,null,null,null,null,null,null,null,"","","",{"$f":"IF($AC136=\"\",\"\",入力シート!F144)","v":""},{"$f":"IF($AC136=\"\",\"\",入力シート!G144)","v":""},{"$f":"IF($AC136=\"\",\"\",入力シート!H144)","v":""},""]
[{"$f":"IF(入力シート!$B145=\"\",\"\",大会コード)","v":""},{"$f":"IF(入力シート!$B145=\"\",\"\",VLOOKUP(入力シート!$C145,大会データ!$A$5:$F$374,3,FALSE))","v":""},{"$f":"IF(入力シート!$B145=\"\",\"\",VLOOKUP(入力シート!$C145,大会データ!$A$5:$F$374,4,FALSE))","v":""},{"$f":"IF(入力シート!$B145=\"\",\"\",VLOOKUP(入力シート!$C145,大会データ!$A$5:$F$374,5,FALSE))","v":""},{"$f":"IF(入力シート!$B145=\"\",\"\",基礎データ!$B$6)","v":""},{"$f":"IF(入力シート!$B145=\"\",\"\",B137)","v":""},{"$f":"IF(入力シート!$B145=\"\",\"\",IF(入力シート!$E145=\"\",TEXT(入力シート!$B145,\"00\"),入力シート!$E145))","v":""},null,null,{"$f":"IF(入力シート!I145=\"\",\"\",入力シート!I145)","v":""},null,null,null,null,null,null,null,null,null,null,null,null,null,null,null,null,"","","",{"$f":"IF($AC137=\"\",\"\",入力シート!F145)","v":""},{"$f":"IF($AC137=\"\",\"\",入力シート!G145)","v":""},{"$f":"IF($AC137=\"\",\"\",入力シート!H145)","v":""},""]
[{"$f":"IF(入力シート!$B146=\"\",\"\",大会コード)","v":""},{"$f":"IF(入力シート!$B146=\"\",\"\",VLOOKUP(入力シート!$C146,大会データ!$A$5:$F$374,3,FALSE))","v":""},{"$f":"IF(入力シート!$B146=\"\",\"\",VLOOKUP(入力シート!$C146,大会データ!$A$5:$F$374,4,FALSE))","v":""},{"$f":"IF(入力シート!$B146=\"\",\"\",VLOOKUP(入力シート!$C146,大会データ!$A$5:$F$374,5,FALSE))","v":""},{"$f":"IF(入力シート!$B146=\"\",\"\",基礎データ!$B$6)","v":""},{"$f":"IF(入力シート!$B146=\"\",\"\",B138)","v":""},{"$f":"IF(入力シート!$B146=\"\",\"\",IF(入力シート!$E146=\"\",TEXT(入力シート!$B146,\"00\"),入力シート!$E146))","v":""},null,null,{"$f":"IF(入力シート!I146=\"\",\"\",入力シート!I146)","v":""},null,null,null,null,null,null,null,null,null,null,null,null,null,null,null,null,"","","",{"$f":"IF($AC138=\"\",\"\",入力シート!F146)","v":""},{"$f":"IF($AC138=\"\",\"\",入力シート!G146)","v":""},{"$f":"IF($AC138=\"\",\"\",入力シート!H146)","v":""},""]
[{"$f":"IF(入力シート!$B147=\"\",\"\",大会コード)","v":""},{"$f":"IF(入力シート!$B147=\"\",\"\",VLOOKUP(入力シート!$C147,大会データ!$A$5:$F$374,3,FALSE))","v":""},{"$f":"IF(入力シート!$B147=\"\",\"\",VLOOKUP(入力シート!$C147,大会データ!$A$5:$F$374,4,FALSE))","v":""},{"$f":"IF(入力シート!$B147=\"\",\"\",VLOOKUP(入力シート!$C147,大会データ!$A$5:$F$374,5,FALSE))","v":""},{"$f":"IF(入力シート!$B147=\"\",\"\",基礎データ!$B$6)","v":""},{"$f":"IF(入力シート!$B147=\"\",\"\",B139)","v":""},{"$f":"IF(入力シート!$B147=\"\",\"\",IF(入力シート!$E147=\"\",TEXT(入力シート!$B147,\"00\"),入力シート!$E147))","v":""},null,null,{"$f":"IF(入力シート!I147=\"\",\"\",入力シート!I147)","v":""},null,null,null,null,null,null,null,null,null,null,null,null,null,null,null,null,"","","",{"$f":"IF($AC139=\"\",\"\",入力シート!F147)","v":""},{"$f":"IF($AC139=\"\",\"\",入力シート!G147)","v":""},{"$f":"IF($AC139=\"\",\"\",入力シート!H147)","v":""},""]
[{"$f":"IF(入力シート!$B148=\"\",\"\",大会コード)","v":""},{"$f":"IF(入力シート!$B148=\"\",\"\",VLOOKUP(入力シート!$C148,大会データ!$A$5:$F$374,3,FALSE))","v":""},{"$f":"IF(入力シート!$B148=\"\",\"\",VLOOKUP(入力シート!$C148,大会データ!$A$5:$F$374,4,FALSE))","v":""},{"$f":"IF(入力シート!$B148=\"\",\"\",VLOOKUP(入力シート!$C148,大会データ!$A$5:$F$374,5,FALSE))","v":""},{"$f":"IF(入力シート!$B148=\"\",\"\",基礎データ!$B$6)","v":""},{"$f":"IF(入力シート!$B148=\"\",\"\",B140)","v":""},{"$f":"IF(入力シート!$B148=\"\",\"\",IF(入力シート!$E148=\"\",TEXT(入力シート!$B148,\"00\"),入力シート!$E148))","v":""},null,null,{"$f":"IF(入力シート!I148=\"\",\"\",入力シート!I148)","v":""},null,null,null,null,null,null,null,null,null,null,null,null,null,null,null,null,"","","",{"$f":"IF($AC140=\"\",\"\",入力シート!F148)","v":""},{"$f":"IF($AC140=\"\",\"\",入力シート!G148)","v":""},{"$f":"IF($AC140=\"\",\"\",入力シート!H148)","v":""},""]
[{"$f":"IF(入力シート!$B149=\"\",\"\",大会コード)","v":""},{"$f":"IF(入力シート!$B149=\"\",\"\",VLOOKUP(入力シート!$C149,大会データ!$A$5:$F$374,3,FALSE))","v":""},{"$f":"IF(入力シート!$B149=\"\",\"\",VLOOKUP(入力シート!$C149,大会データ!$A$5:$F$374,4,FALSE))","v":""},{"$f":"IF(入力シート!$B149=\"\",\"\",VLOOKUP(入力シート!$C149,大会データ!$A$5:$F$374,5,FALSE))","v":""},{"$f":"IF(入力シート!$B149=\"\",\"\",基礎データ!$B$6)","v":""},{"$f":"IF(入力シート!$B149=\"\",\"\",B141)","v":""},{"$f":"IF(入力シート!$B149=\"\",\"\",IF(入力シート!$E149=\"\",TEXT(入力シート!$B149,\"00\"),入力シート!$E149))","v":""},null,null,{"$f":"IF(入力シート!I149=\"\",\"\",入力シート!I149)","v":""},null,null,null,null,null,null,null,null,null,null,null,null,null,null,null,null,"","","",{"$f":"IF($AC141=\"\",\"\",入力シート!F149)","v":""},{"$f":"IF($AC141=\"\",\"\",入力シート!G149)","v":""},{"$f":"IF($AC141=\"\",\"\",入力シート!H149)","v":""},""]
[{"$f":"IF(入力シート!$B150=\"\",\"\",大会コード)","v":""},{"$f":"IF(入力シート!$B150=\"\",\"\",VLOOKUP(入力シート!$C150,大会データ!$A$5:$F$374,3,FALSE))","v":""},{"$f":"IF(入力シート!$B150=\"\",\"\",VLOOKUP(入力シート!$C150,大会データ!$A$5:$F$374,4,FALSE))","v":""},{"$f":"IF(入力シート!$B150=\"\",\"\",VLOOKUP(入力シート!$C150,大会データ!$A$5:$F$374,5,FALSE))","v":""},{"$f":"IF(入力シート!$B150=\"\",\"\",基礎データ!$B$6)","v":""},{"$f":"IF(入力シート!$B150=\"\",\"\",B142)","v":""},{"$f":"IF(入力シート!$B150=\"\",\"\",IF(入力シート!$E150=\"\",TEXT(入力シート!$B150,\"00\"),入力シート!$E150))","v":""},null,null,{"$f":"IF(入力シート!I150=\"\",\"\",入力シート!I150)","v":""},null,null,null,null,null,null,null,null,null,null,null,null,null,null,null,null,"","","",{"$f":"IF($AC142=\"\",\"\",入力シート!F150)","v":""},{"$f":"IF($AC142=\"\",\"\",入力シート!G150)","v":""},{"$f":"IF($AC142=\"\",\"\",入力シート!H150)","v":""},""]
[{"$f":"IF(入力シート!$B151=\"\",\"\",大会コード)","v":""},{"$f":"IF(入力シート!$B151=\"\",\"\",VLOOKUP(入力シート!$C151,大会データ!$A$5:$F$374,3,FALSE))","v":""},{"$f":"IF(入力シート!$B151=\"\",\"\",VLOOKUP(入力シート!$C151,大会データ!$A$5:$F$374,4,FALSE))","v":""},{"$f":"IF(入力シート!$B151=\"\",\"\",VLOOKUP(入力シート!$C151,大会データ!$A$5:$F$374,5,FALSE))","v":""},{"$f":"IF(入力シート!$B151=\"\",\"\",基礎データ!$B$6)","v":""},{"$f":"IF(入力シート!$B151=\"\",\"\",B143)","v":""},{"$f":"IF(入力シート!$B151=\"\",\"\",IF(入力シート!$E151=\"\",TEXT(入力シート!$B151,\"00\"),入力シート!$E151))","v":""},null,null,{"$f":"IF(入力シート!I151=\"\",\"\",入力シート!I151)","v":""},null,null,null,null,null,null,null,null,null,null,null,null,null,null,null,null,"","","",{"$f":"IF($AC143=\"\",\"\",入力シート!F151)","v":""},{"$f":"IF($AC143=\"\",\"\",入力シート!G151)","v":""},{"$f":"IF($AC143=\"\",\"\",入力シート!H151)","v":""},""]
[{"$f":"IF(入力シート!$B152=\"\",\"\",大会コード)","v":""},{"$f":"IF(入力シート!$B152=\"\",\"\",VLOOKUP(入力シート!$C152,大会データ!$A$5:$F$374,3,FALSE))","v":""},{"$f":"IF(入力シート!$B152=\"\",\"\",VLOOKUP(入力シート!$C152,大会データ!$A$5:$F$374,4,FALSE))","v":""},{"$f":"IF(入力シート!$B152=\"\",\"\",VLOOKUP(入力シート!$C152,大会データ!$A$5:$F$374,5,FALSE))","v":""},{"$f":"IF(入力シート!$B152=\"\",\"\",基礎データ!$B$6)","v":""},{"$f":"IF(入力シート!$B152=\"\",\"\",B144)","v":""},{"$f":"IF(入力シート!$B152=\"\",\"\",IF(入力シート!$E152=\"\",TEXT(入力シート!$B152,\"00\"),入力シート!$E152))","v":""},null,null,{"$f":"IF(入力シート!I152=\"\",\"\",入力シート!I152)","v":""},null,null,null,null,null,null,null,null,null,null,null,null,null,null,null,null,"","","",{"$f":"IF($AC144=\"\",\"\",入力シート!F152)","v":""},{"$f":"IF($AC144=\"\",\"\",入力シート!G152)","v":""},{"$f":"IF($AC144=\"\",\"\",入力シート!H152)","v":""},""]
[{"$f":"IF(入力シート!$B153=\"\",\"\",大会コード)","v":""},{"$f":"IF(入力シート!$B153=\"\",\"\",VLOOKUP(入力シート!$C153,大会データ!$A$5:$F$374,3,FALSE))","v":""},{"$f":"IF(入力シート!$B153=\"\",\"\",VLOOKUP(入力シート!$C153,大会データ!$A$5:$F$374,4,FALSE))","v":""},{"$f":"IF(入力シート!$B153=\"\",\"\",VLOOKUP(入力シート!$C153,大会データ!$A$5:$F$374,5,FALSE))","v":""},{"$f":"IF(入力シート!$B153=\"\",\"\",基礎データ!$B$6)","v":""},{"$f":"IF(入力シート!$B153=\"\",\"\",B145)","v":""},{"$f":"IF(入力シート!$B153=\"\",\"\",IF(入力シート!$E153=\"\",TEXT(入力シート!$B153,\"00\"),入力シート!$E153))","v":""},null,null,{"$f":"IF(入力シート!I153=\"\",\"\",入力シート!I153)","v":""},null,null,null,null,null,null,null,null,null,null,null,null,null,null,null,null,"","","",{"$f":"IF($AC145=\"\",\"\",入力シート!F153)","v":""},{"$f":"IF($AC145=\"\",\"\",入力シート!G153)","v":""},{"$f":"IF($AC145=\"\",\"\",入力シート!H153)","v":""},""]
[{"$f":"IF(入力シート!$B154=\"\",\"\",大会コード)","v":""},{"$f":"IF(入力シート!$B154=\"\",\"\",VLOOKUP(入力シート!$C154,大会データ!$A$5:$F$374,3,FALSE))","v":""},{"$f":"IF(入力シート!$B154=\"\",\"\",VLOOKUP(入力シート!$C154,大会データ!$A$5:$F$374,4,FALSE))","v":""},{"$f":"IF(入力シート!$B154=\"\",\"\",VLOOKUP(入力シート!$C154,大会データ!$A$5:$F$374,5,FALSE))","v":""},{"$f":"IF(入力シート!$B154=\"\",\"\",基礎データ!$B$6)","v":""},{"$f":"IF(入力シート!$B154=\"\",\"\",B146)","v":""},{"$f":"IF(入力シート!$B154=\"\",\"\",IF(入力シート!$E154=\"\",TEXT(入力シート!$B154,\"00\"),入力シート!$E154))","v":""},null,null,{"$f":"IF(入力シート!I154=\"\",\"\",入力シート!I154)","v":""},null,null,null,null,null,null,null,null,null,null,null,null,null,null,null,null,"","","",{"$f":"IF($AC146=\"\",\"\",入力シート!F154)","v":""},{"$f":"IF($AC146=\"\",\"\",入力シート!G154)","v":""},{"$f":"IF($AC146=\"\",\"\",入力シート!H154)","v":""},""]
[{"$f":"IF(入力シート!$B155=\"\",\"\",大会コード)","v":""},{"$f":"IF(入力シート!$B155=\"\",\"\",VLOOKUP(入力シート!$C155,大会データ!$A$5:$F$374,3,FALSE))","v":""},{"$f":"IF(入力シート!$B155=\"\",\"\",VLOOKUP(入力シート!$C155,大会データ!$A$5:$F$374,4,FALSE))","v":""},{"$f":"IF(入力シート!$B155=\"\",\"\",VLOOKUP(入力シート!$C155,大会データ!$A$5:$F$374,5,FALSE))","v":""},{"$f":"IF(入力シート!$B155=\"\",\"\",基礎データ!$B$6)","v":""},{"$f":"IF(入力シート!$B155=\"\",\"\",B147)","v":""},{"$f":"IF(入力シート!$B155=\"\",\"\",IF(入力シート!$E155=\"\",TEXT(入力シート!$B155,\"00\"),入力シート!$E155))","v":""},null,null,{"$f":"IF(入力シート!I155=\"\",\"\",入力シート!I155)","v":""},null,null,null,null,null,null,null,null,null,null,null,null,null,null,null,null,"","","",{"$f":"IF($AC147=\"\",\"\",入力シート!F155)","v":""},{"$f":"IF($AC147=\"\",\"\",入力シート!G155)","v":""},{"$f":"IF($AC147=\"\",\"\",入力シート!H155)","v":""},""]
[{"$f":"IF(入力シート!$B156=\"\",\"\",大会コード)","v":""},{"$f":"IF(入力シート!$B156=\"\",\"\",VLOOKUP(入力シート!$C156,大会データ!$A$5:$F$374,3,FALSE))","v":""},{"$f":"IF(入力シート!$B156=\"\",\"\",VLOOKUP(入力シート!$C156,大会データ!$A$5:$F$374,4,FALSE))","v":""},{"$f":"IF(入力シート!$B156=\"\",\"\",VLOOKUP(入力シート!$C156,大会データ!$A$5:$F$374,5,FALSE))","v":""},{"$f":"IF(入力シート!$B156=\"\",\"\",基礎データ!$B$6)","v":""},{"$f":"IF(入力シート!$B156=\"\",\"\",B148)","v":""},{"$f":"IF(入力シート!$B156=\"\",\"\",IF(入力シート!$E156=\"\",TEXT(入力シート!$B156,\"00\"),入力シート!$E156))","v":""},null,null,{"$f":"IF(入力シート!I156=\"\",\"\",入力シート!I156)","v":""},null,null,null,null,null,null,null,null,null,null,null,null,null,null,null,null,"","","",{"$f":"IF($AC148=\"\",\"\",入力シート!F156)","v":""},{"$f":"IF($AC148=\"\",\"\",入力シート!G156)","v":""},{"$f":"IF($AC148=\"\",\"\",入力シート!H156)","v":""},""]
[{"$f":"IF(入力シート!$B157=\"\",\"\",大会コード)","v":""},{"$f":"IF(入力シート!$B157=\"\",\"\",VLOOKUP(入力シート!$C157,大会データ!$A$5:$F$374,3,FALSE))","v":""},{"$f":"IF(入力シート!$B157=\"\",\"\",VLOOKUP(入力シート!$C157,大会データ!$A$5:$F$374,4,FALSE))","v":""},{"$f":"IF(入力シート!$B157=\"\",\"\",VLOOKUP(入力シート!$C157,大会データ!$A$5:$F$374,5,FALSE))","v":""},{"$f":"IF(入力シート!$B157=\"\",\"\",基礎データ!$B$6)","v":""},{"$f":"IF(入力シート!$B157=\"\",\"\",B149)","v":""},{"$f":"IF(入力シート!$B157=\"\",\"\",IF(入力シート!$E157=\"\",TEXT(入力シート!$B157,\"00\"),入力シート!$E157))","v":""},null,null,{"$f":"IF(入力シート!I157=\"\",\"\",入力シート!I157)","v":""},null,null,null,null,null,null,null,null,null,null,null,null,null,null,null,null,"","","",{"$f":"IF($AC149=\"\",\"\",入力シート!F157)","v":""},{"$f":"IF($AC149=\"\",\"\",入力シート!G157)","v":""},{"$f":"IF($AC149=\"\",\"\",入力シート!H157)","v":""},""]
[{"$f":"IF(入力シート!$B158=\"\",\"\",大会コード)","v":""},{"$f":"IF(入力シート!$B158=\"\",\"\",VLOOKUP(入力シート!$C158,大会データ!$A$5:$F$374,3,FALSE))","v":""},{"$f":"IF(入力シート!$B158=\"\",\"\",VLOOKUP(入力シート!$C158,大会データ!$A$5:$F$374,4,FALSE))","v":""},{"$f":"IF(入力シート!$B158=\"\",\"\",VLOOKUP(入力シート!$C158,大会データ!$A$5:$F$374,5,FALSE))","v":""},{"$f":"IF(入力シート!$B158=\"\",\"\",基礎データ!$B$6)","v":""},{"$f":"IF(入力シート!$B158=\"\",\"\",B150)","v":""},{"$f":"IF(入力シート!$B158=\"\",\"\",IF(入力シート!$E158=\"\",TEXT(入力シート!$B158,\"00\"),入力シート!$E158))","v":""},null,null,{"$f":"IF(入力シート!I158=\"\",\"\",入力シート!I158)","v":""},null,null,null,null,null,null,null,null,null,null,null,null,null,null,null,null,"","","",{"$f":"IF($AC150=\"\",\"\",入力シート!F158)","v":""},{"$f":"IF($AC150=\"\",\"\",入力シート!G158)","v":""},{"$f":"IF($AC150=\"\",\"\",入力シート!H158)","v":""},""]
[{"$f":"IF(入力シート!$B159=\"\",\"\",大会コード)","v":""},{"$f":"IF(入力シート!$B159=\"\",\"\",VLOOKUP(入力シート!$C159,大会データ!$A$5:$F$374,3,FALSE))","v":""},{"$f":"IF(入力シート!$B159=\"\",\"\",VLOOKUP(入力シート!$C159,大会データ!$A$5:$F$374,4,FALSE))","v":""},{"$f":"IF(入力シート!$B159=\"\",\"\",VLOOKUP(入力シート!$C159,大会データ!$A$5:$F$374,5,FALSE))","v":""},{"$f":"IF(入力シート!$B159=\"\",\"\",基礎データ!$B$6)","v":""},{"$f":"IF(入力シート!$B159=\"\",\"\",B151)","v":""},{"$f":"IF(入力シート!$B159=\"\",\"\",IF(入力シート!$E159=\"\",TEXT(入力シート!$B159,\"00\"),入力シート!$E159))","v":""},null,null,{"$f":"IF(入力シート!I159=\"\",\"\",入力シート!I159)","v":""},null,null,null,null,null,null,null,null,null,null,null,null,null,null,null,null,"","","",{"$f":"IF($AC151=\"\",\"\",入力シート!F159)","v":""},{"$f":"IF($AC151=\"\",\"\",入力シート!G159)","v":""},{"$f":"IF($AC151=\"\",\"\",入力シート!H159)","v":""},""]
[{"$f":"IF(入力シート!$B160=\"\",\"\",大会コード)","v":""},{"$f":"IF(入力シート!$B160=\"\",\"\",VLOOKUP(入力シート!$C160,大会データ!$A$5:$F$374,3,FALSE))","v":""},{"$f":"IF(入力シート!$B160=\"\",\"\",VLOOKUP(入力シート!$C160,大会データ!$A$5:$F$374,4,FALSE))","v":""},{"$f":"IF(入力シート!$B160=\"\",\"\",VLOOKUP(入力シート!$C160,大会データ!$A$5:$F$374,5,FALSE))","v":""},{"$f":"IF(入力シート!$B160=\"\",\"\",基礎データ!$B$6)","v":""},{"$f":"IF(入力シート!$B160=\"\",\"\",B152)","v":""},{"$f":"IF(入力シート!$B160=\"\",\"\",IF(入力シート!$E160=\"\",TEXT(入力シート!$B160,\"00\"),入力シート!$E160))","v":""},null,null,{"$f":"IF(入力シート!I160=\"\",\"\",入力シート!I160)","v":""},null,null,null,null,null,null,null,null,null,null,null,null,null,null,null,null,"","","",{"$f":"IF($AC152=\"\",\"\",入力シート!F160)","v":""},{"$f":"IF($AC152=\"\",\"\",入力シート!G160)","v":""},{"$f":"IF($AC152=\"\",\"\",入力シート!H160)","v":""},""]
[{"$f":"IF(入力シート!$B161=\"\",\"\",大会コード)","v":""},{"$f":"IF(入力シート!$B161=\"\",\"\",VLOOKUP(入力シート!$C161,大会データ!$A$5:$F$374,3,FALSE))","v":""},{"$f":"IF(入力シート!$B161=\"\",\"\",VLOOKUP(入力シート!$C161,大会データ!$A$5:$F$374,4,FALSE))","v":""},{"$f":"IF(入力シート!$B161=\"\",\"\",VLOOKUP(入力シート!$C161,大会データ!$A$5:$F$374,5,FALSE))","v":""},{"$f":"IF(入力シート!$B161=\"\",\"\",基礎データ!$B$6)","v":""},{"$f":"IF(入力シート!$B161=\"\",\"\",B153)","v":""},{"$f":"IF(入力シート!$B161=\"\",\"\",IF(入力シート!$E161=\"\",TEXT(入力シート!$B161,\"00\"),入力シート!$E161))","v":""},null,null,{"$f":"IF(入力シート!I161=\"\",\"\",入力シート!I161)","v":""},null,null,null,null,null,null,null,null,null,null,null,null,null,null,null,null,"","","",{"$f":"IF($AC153=\"\",\"\",入力シート!F161)","v":""},{"$f":"IF($AC153=\"\",\"\",入力シート!G161)","v":""},{"$f":"IF($AC153=\"\",\"\",入力シート!H161)","v":""},""]
[{"$f":"IF(入力シート!$B162=\"\",\"\",大会コード)","v":""},{"$f":"IF(入力シート!$B162=\"\",\"\",VLOOKUP(入力シート!$C162,大会データ!$A$5:$F$374,3,FALSE))","v":""},{"$f":"IF(入力シート!$B162=\"\",\"\",VLOOKUP(入力シート!$C162,大会データ!$A$5:$F$374,4,FALSE))","v":""},{"$f":"IF(入力シート!$B162=\"\",\"\",VLOOKUP(入力シート!$C162,大会データ!$A$5:$F$374,5,FALSE))","v":""},{"$f":"IF(入力シート!$B162=\"\",\"\",基礎データ!$B$6)","v":""},{"$f":"IF(入力シート!$B162=\"\",\"\",B154)","v":""},{"$f":"IF(入力シート!$B162=\"\",\"\",IF(入力シート!$E162=\"\",TEXT(入力シート!$B162,\"00\"),入力シート!$E162))","v":""},null,null,{"$f":"IF(入力シート!I162=\"\",\"\",入力シート!I162)","v":""},null,null,null,null,null,null,null,null,null,null,null,null,null,null,null,null,"","","",{"$f":"IF($AC154=\"\",\"\",入力シート!F162)","v":""},{"$f":"IF($AC154=\"\",\"\",入力シート!G162)","v":""},{"$f":"IF($AC154=\"\",\"\",入力シート!H162)","v":""},""]
[{"$f":"IF(入力シート!$B163=\"\",\"\",大会コード)","v":""},{"$f":"IF(入力シート!$B163=\"\",\"\",VLOOKUP(入力シート!$C163,大会データ!$A$5:$F$374,3,FALSE))","v":""},{"$f":"IF(入力シート!$B163=\"\",\"\",VLOOKUP(入力シート!$C163,大会データ!$A$5:$F$374,4,FALSE))","v":""},{"$f":"IF(入力シート!$B163=\"\",\"\",VLOOKUP(入力シート!$C163,大会データ!$A$5:$F$374,5,FALSE))","v":""},{"$f":"IF(入力シート!$B163=\"\",\"\",基礎データ!$B$6)","v":""},{"$f":"IF(入力シート!$B163=\"\",\"\",B155)","v":""},{"$f":"IF(入力シート!$B163=\"\",\"\",IF(入力シート!$E163=\"\",TEXT(入力シート!$B163,\"00\"),入力シート!$E163))","v":""},null,null,{"$f":"IF(入力シート!I163=\"\",\"\",入力シート!I163)","v":""},null,null,null,null,null,null,null,null,null,null,null,null,null,null,null,null,"","","",{"$f":"IF($AC155=\"\",\"\",入力シート!F163)","v":""},{"$f":"IF($AC155=\"\",\"\",入力シート!G163)","v":""},{"$f":"IF($AC155=\"\",\"\",入力シート!H163)","v":""},""]
[{"$f":"IF(入力シート!$B164=\"\",\"\",大会コード)","v":""},{"$f":"IF(入力シート!$B164=\"\",\"\",VLOOKUP(入力シート!$C164,大会データ!$A$5:$F$374,3,FALSE))","v":""},{"$f":"IF(入力シート!$B164=\"\",\"\",VLOOKUP(入力シート!$C164,大会データ!$A$5:$F$374,4,FALSE))","v":""},{"$f":"IF(入力シート!$B164=\"\",\"\",VLOOKUP(入力シート!$C164,大会データ!$A$5:$F$374,5,FALSE))","v":""},{"$f":"IF(入力シート!$B164=\"\",\"\",基礎データ!$B$6)","v":""},{"$f":"IF(入力シート!$B164=\"\",\"\",B156)","v":""},{"$f":"IF(入力シート!$B164=\"\",\"\",IF(入力シート!$E164=\"\",TEXT(入力シート!$B164,\"00\"),入力シート!$E164))","v":""},null,null,{"$f":"IF(入力シート!I164=\"\",\"\",入力シート!I164)","v":""},null,null,null,null,null,null,null,null,null,null,null,null,null,null,null,null,"","","",{"$f":"IF($AC156=\"\",\"\",入力シート!F164)","v":""},{"$f":"IF($AC156=\"\",\"\",入力シート!G164)","v":""},{"$f":"IF($AC156=\"\",\"\",入力シート!H164)","v":""},""]
[{"$f":"IF(入力シート!$B165=\"\",\"\",大会コード)","v":""},{"$f":"IF(入力シート!$B165=\"\",\"\",VLOOKUP(入力シート!$C165,大会データ!$A$5:$F$374,3,FALSE))","v":""},{"$f":"IF(入力シート!$B165=\"\",\"\",VLOOKUP(入力シート!$C165,大会データ!$A$5:$F$374,4,FALSE))","v":""},{"$f":"IF(入力シート!$B165=\"\",\"\",VLOOKUP(入力シート!$C165,大会データ!$A$5:$F$374,5,FALSE))","v":""},{"$f":"IF(入力シート!$B165=\"\",\"\",基礎データ!$B$6)","v":""},{"$f":"IF(入力シート!$B165=\"\",\"\",B157)","v":""},{"$f":"IF(入力シート!$B165=\"\",\"\",IF(入力シート!$E165=\"\",TEXT(入力シート!$B165,\"00\"),入力シート!$E165))","v":""},null,null,{"$f":"IF(入力シート!I165=\"\",\"\",入力シート!I165)","v":""},null,null,null,null,null,null,null,null,null,null,null,null,null,null,null,null,"","","",{"$f":"IF($AC157=\"\",\"\",入力シート!F165)","v":""},{"$f":"IF($AC157=\"\",\"\",入力シート!G165)","v":""},{"$f":"IF($AC157=\"\",\"\",入力シート!H165)","v":""},""]
[{"$f":"IF(入力シート!$B166=\"\",\"\",大会コード)","v":""},{"$f":"IF(入力シート!$B166=\"\",\"\",VLOOKUP(入力シート!$C166,大会データ!$A$5:$F$374,3,FALSE))","v":""},{"$f":"IF(入力シート!$B166=\"\",\"\",VLOOKUP(入力シート!$C166,大会データ!$A$5:$F$374,4,FALSE))","v":""},{"$f":"IF(入力シート!$B166=\"\",\"\",VLOOKUP(入力シート!$C166,大会データ!$A$5:$F$374,5,FALSE))","v":""},{"$f":"IF(入力シート!$B166=\"\",\"\",基礎データ!$B$6)","v":""},{"$f":"IF(入力シート!$B166=\"\",\"\",B158)","v":""},{"$f":"IF(入力シート!$B166=\"\",\"\",IF(入力シート!$E166=\"\",TEXT(入力シート!$B166,\"00\"),入力シート!$E166))","v":""},null,null,{"$f":"IF(入力シート!I166=\"\",\"\",入力シート!I166)","v":""},null,null,null,null,null,null,null,null,null,null,null,null,null,null,null,null,"","","",{"$f":"IF($AC158=\"\",\"\",入力シート!F166)","v":""},{"$f":"IF($AC158=\"\",\"\",入力シート!G166)","v":""},{"$f":"IF($AC158=\"\",\"\",入力シート!H166)","v":""},""]
[{"$f":"IF(入力シート!$B167=\"\",\"\",大会コード)","v":""},{"$f":"IF(入力シート!$B167=\"\",\"\",VLOOKUP(入力シート!$C167,大会データ!$A$5:$F$374,3,FALSE))","v":""},{"$f":"IF(入力シート!$B167=\"\",\"\",VLOOKUP(入力シート!$C167,大会データ!$A$5:$F$374,4,FALSE))","v":""},{"$f":"IF(入力シート!$B167=\"\",\"\",VLOOKUP(入力シート!$C167,大会データ!$A$5:$F$374,5,FALSE))","v":""},{"$f":"IF(入力シート!$B167=\"\",\"\",基礎データ!$B$6)","v":""},{"$f":"IF(入力シート!$B167=\"\",\"\",B159)","v":""},{"$f":"IF(入力シート!$B167=\"\",\"\",IF(入力シート!$E167=\"\",TEXT(入力シート!$B167,\"00\"),入力シート!$E167))","v":""},null,null,{"$f":"IF(入力シート!I167=\"\",\"\",入力シート!I167)","v":""},null,null,null,null,null,null,null,null,null,null,null,null,null,null,null,null,"","","",{"$f":"IF($AC159=\"\",\"\",入力シート!F167)","v":""},{"$f":"IF($AC159=\"\",\"\",入力シート!G167)","v":""},{"$f":"IF($AC159=\"\",\"\",入力シート!H167)","v":""},""]
[{"$f":"IF(入力シート!$B168=\"\",\"\",大会コード)","v":""},{"$f":"IF(入力シート!$B168=\"\",\"\",VLOOKUP(入力シート!$C168,大会データ!$A$5:$F$374,3,FALSE))","v":""},{"$f":"IF(入力シート!$B168=\"\",\"\",VLOOKUP(入力シート!$C168,大会データ!$A$5:$F$374,4,FALSE))","v":""},{"$f":"IF(入力シート!$B168=\"\",\"\",VLOOKUP(入力シート!$C168,大会データ!$A$5:$F$374,5,FALSE))","v":""},{"$f":"IF(入力シート!$B168=\"\",\"\",基礎データ!$B$6)","v":""},{"$f":"IF(入力シート!$B168=\"\",\"\",B160)","v":""},{"$f":"IF(入力シート!$B168=\"\",\"\",IF(入力シート!$E168=\"\",TEXT(入力シート!$B168,\"00\"),入力シート!$E168))","v":""},null,null,{"$f":"IF(入力シート!I168=\"\",\"\",入力シート!I168)","v":""},null,null,null,null,null,null,null,null,null,null,null,null,null,null,null,null,"","","",{"$f":"IF($AC160=\"\",\"\",入力シート!F168)","v":""},{"$f":"IF($AC160=\"\",\"\",入力シート!G168)","v":""},{"$f":"IF($AC160=\"\",\"\",入力シート!H168)","v":""},""]
[{"$f":"IF(入力シート!$B169=\"\",\"\",大会コード)","v":""},{"$f":"IF(入力シート!$B169=\"\",\"\",VLOOKUP(入力シート!$C169,大会データ!$A$5:$F$374,3,FALSE))","v":""},{"$f":"IF(入力シート!$B169=\"\",\"\",VLOOKUP(入力シート!$C169,大会データ!$A$5:$F$374,4,FALSE))","v":""},{"$f":"IF(入力シート!$B169=\"\",\"\",VLOOKUP(入力シート!$C169,大会データ!$A$5:$F$374,5,FALSE))","v":""},{"$f":"IF(入力シート!$B169=\"\",\"\",基礎データ!$B$6)","v":""},{"$f":"IF(入力シート!$B169=\"\",\"\",B161)","v":""},{"$f":"IF(入力シート!$B169=\"\",\"\",IF(入力シート!$E169=\"\",TEXT(入力シート!$B169,\"00\"),入力シート!$E169))","v":""},null,null,{"$f":"IF(入力シート!I169=\"\",\"\",入力シート!I169)","v":""},null,null,null,null,null,null,null,null,null,null,null,null,null,null,null,null,"","","",{"$f":"IF($AC161=\"\",\"\",入力シート!F169)","v":""},{"$f":"IF($AC161=\"\",\"\",入力シート!G169)","v":""},{"$f":"IF($AC161=\"\",\"\",入力シート!H169)","v":""},""]
[{"$f":"IF(入力シート!$B170=\"\",\"\",大会コード)","v":""},{"$f":"IF(入力シート!$B170=\"\",\"\",VLOOKUP(入力シート!$C170,大会データ!$A$5:$F$374,3,FALSE))","v":""},{"$f":"IF(入力シート!$B170=\"\",\"\",VLOOKUP(入力シート!$C170,大会データ!$A$5:$F$374,4,FALSE))","v":""},{"$f":"IF(入力シート!$B170=\"\",\"\",VLOOKUP(入力シート!$C170,大会データ!$A$5:$F$374,5,FALSE))","v":""},{"$f":"IF(入力シート!$B170=\"\",\"\",基礎データ!$B$6)","v":""},{"$f":"IF(入力シート!$B170=\"\",\"\",B162)","v":""},{"$f":"IF(入力シート!$B170=\"\",\"\",IF(入力シート!$E170=\"\",TEXT(入力シート!$B170,\"00\"),入力シート!$E170))","v":""},null,null,{"$f":"IF(入力シート!I170=\"\",\"\",入力シート!I170)","v":""},null,null,null,null,null,null,null,null,null,null,null,null,null,null,null,null,"","","",{"$f":"IF($AC162=\"\",\"\",入力シート!F170)","v":""},{"$f":"IF($AC162=\"\",\"\",入力シート!G170)","v":""},{"$f":"IF($AC162=\"\",\"\",入力シート!H170)","v":""},""]
[{"$f":"IF(入力シート!$B171=\"\",\"\",大会コード)","v":""},{"$f":"IF(入力シート!$B171=\"\",\"\",VLOOKUP(入力シート!$C171,大会データ!$A$5:$F$374,3,FALSE))","v":""},{"$f":"IF(入力シート!$B171=\"\",\"\",VLOOKUP(入力シート!$C171,大会データ!$A$5:$F$374,4,FALSE))","v":""},{"$f":"IF(入力シート!$B171=\"\",\"\",VLOOKUP(入力シート!$C171,大会データ!$A$5:$F$374,5,FALSE))","v":""},{"$f":"IF(入力シート!$B171=\"\",\"\",基礎データ!$B$6)","v":""},{"$f":"IF(入力シート!$B171=\"\",\"\",B163)","v":""},{"$f":"IF(入力シート!$B171=\"\",\"\",IF(入力シート!$E171=\"\",TEXT(入力シート!$B171,\"00\"),入力シート!$E171))","v":""},null,null,{"$f":"IF(入力シート!I171=\"\",\"\",入力シート!I171)","v":""},null,null,null,null,null,null,null,null,null,null,null,null,null,null,null,null,"","","",{"$f":"IF($AC163=\"\",\"\",入力シート!F171)","v":""},{"$f":"IF($AC163=\"\",\"\",入力シート!G171)","v":""},{"$f":"IF($AC163=\"\",\"\",入力シート!H171)","v":""},""]
[{"$f":"IF(入力シート!$B172=\"\",\"\",大会コード)","v":""},{"$f":"IF(入力シート!$B172=\"\",\"\",VLOOKUP(入力シート!$C172,大会データ!$A$5:$F$374,3,FALSE))","v":""},{"$f":"IF(入力シート!$B172=\"\",\"\",VLOOKUP(入力シート!$C172,大会データ!$A$5:$F$374,4,FALSE))","v":""},{"$f":"IF(入力シート!$B172=\"\",\"\",VLOOKUP(入力シート!$C172,大会データ!$A$5:$F$374,5,FALSE))","v":""},{"$f":"IF(入力シート!$B172=\"\",\"\",基礎データ!$B$6)","v":""},{"$f":"IF(入力シート!$B172=\"\",\"\",B164)","v":""},{"$f":"IF(入力シート!$B172=\"\",\"\",IF(入力シート!$E172=\"\",TEXT(入力シート!$B172,\"00\"),入力シート!$E172))","v":""},null,null,{"$f":"IF(入力シート!I172=\"\",\"\",入力シート!I172)","v":""},null,null,null,null,null,null,null,null,null,null,null,null,null,null,null,null,"","","",{"$f":"IF($AC164=\"\",\"\",入力シート!F172)","v":""},{"$f":"IF($AC164=\"\",\"\",入力シート!G172)","v":""},{"$f":"IF($AC164=\"\",\"\",入力シート!H172)","v":""},""]
[{"$f":"IF(入力シート!$B173=\"\",\"\",大会コード)","v":""},{"$f":"IF(入力シート!$B173=\"\",\"\",VLOOKUP(入力シート!$C173,大会データ!$A$5:$F$374,3,FALSE))","v":""},{"$f":"IF(入力シート!$B173=\"\",\"\",VLOOKUP(入力シート!$C173,大会データ!$A$5:$F$374,4,FALSE))","v":""},{"$f":"IF(入力シート!$B173=\"\",\"\",VLOOKUP(入力シート!$C173,大会データ!$A$5:$F$374,5,FALSE))","v":""},{"$f":"IF(入力シート!$B173=\"\",\"\",基礎データ!$B$6)","v":""},{"$f":"IF(入力シート!$B173=\"\",\"\",B165)","v":""},{"$f":"IF(入力シート!$B173=\"\",\"\",IF(入力シート!$E173=\"\",TEXT(入力シート!$B173,\"00\"),入力シート!$E173))","v":""},null,null,{"$f":"IF(入力シート!I173=\"\",\"\",入力シート!I173)","v":""},null,null,null,null,null,null,null,null,null,null,null,null,null,null,null,null,"","","",{"$f":"IF($AC165=\"\",\"\",入力シート!F173)","v":""},{"$f":"IF($AC165=\"\",\"\",入力シート!G173)","v":""},{"$f":"IF($AC165=\"\",\"\",入力シート!H173)","v":""},""]
[{"$f":"IF(入力シート!$B174=\"\",\"\",大会コード)","v":""},{"$f":"IF(入力シート!$B174=\"\",\"\",VLOOKUP(入力シート!$C174,大会データ!$A$5:$F$374,3,FALSE))","v":""},{"$f":"IF(入力シート!$B174=\"\",\"\",VLOOKUP(入力シート!$C174,大会データ!$A$5:$F$374,4,FALSE))","v":""},{"$f":"IF(入力シート!$B174=\"\",\"\",VLOOKUP(入力シート!$C174,大会データ!$A$5:$F$374,5,FALSE))","v":""},{"$f":"IF(入力シート!$B174=\"\",\"\",基礎データ!$B$6)","v":""},{"$f":"IF(入力シート!$B174=\"\",\"\",B166)","v":""},{"$f":"IF(入力シート!$B174=\"\",\"\",IF(入力シート!$E174=\"\",TEXT(入力シート!$B174,\"00\"),入力シート!$E174))","v":""},null,null,{"$f":"IF(入力シート!I174=\"\",\"\",入力シート!I174)","v":""},null,null,null,null,null,null,null,null,null,null,null,null,null,null,null,null,"","","",{"$f":"IF($AC166=\"\",\"\",入力シート!F174)","v":""},{"$f":"IF($AC166=\"\",\"\",入力シート!G174)","v":""},{"$f":"IF($AC166=\"\",\"\",入力シート!H174)","v":""},""]
[{"$f":"IF(入力シート!$B175=\"\",\"\",大会コード)","v":""},{"$f":"IF(入力シート!$B175=\"\",\"\",VLOOKUP(入力シート!$C175,大会データ!$A$5:$F$374,3,FALSE))","v":""},{"$f":"IF(入力シート!$B175=\"\",\"\",VLOOKUP(入力シート!$C175,大会データ!$A$5:$F$374,4,FALSE))","v":""},{"$f":"IF(入力シート!$B175=\"\",\"\",VLOOKUP(入力シート!$C175,大会データ!$A$5:$F$374,5,FALSE))","v":""},{"$f":"IF(入力シート!$B175=\"\",\"\",基礎データ!$B$6)","v":""},{"$f":"IF(入力シート!$B175=\"\",\"\",B167)","v":""},{"$f":"IF(入力シート!$B175=\"\",\"\",IF(入力シート!$E175=\"\",TEXT(入力シート!$B175,\"00\"),入力シート!$E175))","v":""},null,null,{"$f":"IF(入力シート!I175=\"\",\"\",入力シート!I175)","v":""},null,null,null,null,null,null,null,null,null,null,null,null,null,null,null,null,"","","",{"$f":"IF($AC167=\"\",\"\",入力シート!F175)","v":""},{"$f":"IF($AC167=\"\",\"\",入力シート!G175)","v":""},{"$f":"IF($AC167=\"\",\"\",入力シート!H175)","v":""},""]
[{"$f":"IF(入力シート!$B176=\"\",\"\",大会コード)","v":""},{"$f":"IF(入力シート!$B176=\"\",\"\",VLOOKUP(入力シート!$C176,大会データ!$A$5:$F$374,3,FALSE))","v":""},{"$f":"IF(入力シート!$B176=\"\",\"\",VLOOKUP(入力シート!$C176,大会データ!$A$5:$F$374,4,FALSE))","v":""},{"$f":"IF(入力シート!$B176=\"\",\"\",VLOOKUP(入力シート!$C176,大会データ!$A$5:$F$374,5,FALSE))","v":""},{"$f":"IF(入力シート!$B176=\"\",\"\",基礎データ!$B$6)","v":""},{"$f":"IF(入力シート!$B176=\"\",\"\",B168)","v":""},{"$f":"IF(入力シート!$B176=\"\",\"\",IF(入力シート!$E176=\"\",TEXT(入力シート!$B176,\"00\"),入力シート!$E176))","v":""},null,null,{"$f":"IF(入力シート!I176=\"\",\"\",入力シート!I176)","v":""},null,null,null,null,null,null,null,null,null,null,null,null,null,null,null,null,"","","",{"$f":"IF($AC168=\"\",\"\",入力シート!F176)","v":""},{"$f":"IF($AC168=\"\",\"\",入力シート!G176)","v":""},{"$f":"IF($AC168=\"\",\"\",入力シート!H176)","v":""},""]
[{"$f":"IF(入力シート!$B177=\"\",\"\",大会コード)","v":""},{"$f":"IF(入力シート!$B177=\"\",\"\",VLOOKUP(入力シート!$C177,大会データ!$A$5:$F$374,3,FALSE))","v":""},{"$f":"IF(入力シート!$B177=\"\",\"\",VLOOKUP(入力シート!$C177,大会データ!$A$5:$F$374,4,FALSE))","v":""},{"$f":"IF(入力シート!$B177=\"\",\"\",VLOOKUP(入力シート!$C177,大会データ!$A$5:$F$374,5,FALSE))","v":""},{"$f":"IF(入力シート!$B177=\"\",\"\",基礎データ!$B$6)","v":""},{"$f":"IF(入力シート!$B177=\"\",\"\",B169)","v":""},{"$f":"IF(入力シート!$B177=\"\",\"\",IF(入力シート!$E177=\"\",TEXT(入力シート!$B177,\"00\"),入力シート!$E177))","v":""},null,null,{"$f":"IF(入力シート!I177=\"\",\"\",入力シート!I177)","v":""},null,null,null,null,null,null,null,null,null,null,null,null,null,null,null,null,"","","",{"$f":"IF($AC169=\"\",\"\",入力シート!F177)","v":""},{"$f":"IF($AC169=\"\",\"\",入力シート!G177)","v":""},{"$f":"IF($AC169=\"\",\"\",入力シート!H177)","v":""},""]
[{"$f":"IF(入力シート!$B178=\"\",\"\",大会コード)","v":""},{"$f":"IF(入力シート!$B178=\"\",\"\",VLOOKUP(入力シート!$C178,大会データ!$A$5:$F$374,3,FALSE))","v":""},{"$f":"IF(入力シート!$B178=\"\",\"\",VLOOKUP(入力シート!$C178,大会データ!$A$5:$F$374,4,FALSE))","v":""},{"$f":"IF(入力シート!$B178=\"\",\"\",VLOOKUP(入力シート!$C178,大会データ!$A$5:$F$374,5,FALSE))","v":""},{"$f":"IF(入力シート!$B178=\"\",\"\",基礎データ!$B$6)","v":""},{"$f":"IF(入力シート!$B178=\"\",\"\",B170)","v":""},{"$f":"IF(入力シート!$B178=\"\",\"\",IF(入力シート!$E178=\"\",TEXT(入力シート!$B178,\"00\"),入力シート!$E178))","v":""},null,null,{"$f":"IF(入力シート!I178=\"\",\"\",入力シート!I178)","v":""},null,null,null,null,null,null,null,null,null,null,null,null,null,null,null,null,"","","",{"$f":"IF($AC170=\"\",\"\",入力シート!F178)","v":""},{"$f":"IF($AC170=\"\",\"\",入力シート!G178)","v":""},{"$f":"IF($AC170=\"\",\"\",入力シート!H178)","v":""},""]
[{"$f":"IF(入力シート!$B179=\"\",\"\",大会コード)","v":""},{"$f":"IF(入力シート!$B179=\"\",\"\",VLOOKUP(入力シート!$C179,大会データ!$A$5:$F$374,3,FALSE))","v":""},{"$f":"IF(入力シート!$B179=\"\",\"\",VLOOKUP(入力シート!$C179,大会データ!$A$5:$F$374,4,FALSE))","v":""},{"$f":"IF(入力シート!$B179=\"\",\"\",VLOOKUP(入力シート!$C179,大会データ!$A$5:$F$374,5,FALSE))","v":""},{"$f":"IF(入力シート!$B179=\"\",\"\",基礎データ!$B$6)","v":""},{"$f":"IF(入力シート!$B179=\"\",\"\",B171)","v":""},{"$f":"IF(入力シート!$B179=\"\",\"\",IF(入力シート!$E179=\"\",TEXT(入力シート!$B179,\"00\"),入力シート!$E179))","v":""},null,null,{"$f":"IF(入力シート!I179=\"\",\"\",入力シート!I179)","v":""},null,null,null,null,null,null,null,null,null,null,null,null,null,null,null,null,"","","",{"$f":"IF($AC171=\"\",\"\",入力シート!F179)","v":""},{"$f":"IF($AC171=\"\",\"\",入力シート!G179)","v":""},{"$f":"IF($AC171=\"\",\"\",入力シート!H179)","v":""},""]
[{"$f":"IF(入力シート!$B180=\"\",\"\",大会コード)","v":""},{"$f":"IF(入力シート!$B180=\"\",\"\",VLOOKUP(入力シート!$C180,大会データ!$A$5:$F$374,3,FALSE))","v":""},{"$f":"IF(入力シート!$B180=\"\",\"\",VLOOKUP(入力シート!$C180,大会データ!$A$5:$F$374,4,FALSE))","v":""},{"$f":"IF(入力シート!$B180=\"\",\"\",VLOOKUP(入力シート!$C180,大会データ!$A$5:$F$374,5,FALSE))","v":""},{"$f":"IF(入力シート!$B180=\"\",\"\",基礎データ!$B$6)","v":""},{"$f":"IF(入力シート!$B180=\"\",\"\",B172)","v":""},{"$f":"IF(入力シート!$B180=\"\",\"\",IF(入力シート!$E180=\"\",TEXT(入力シート!$B180,\"00\"),入力シート!$E180))","v":""},null,null,{"$f":"IF(入力シート!I180=\"\",\"\",入力シート!I180)","v":""},null,null,null,null,null,null,null,null,null,null,null,null,null,null,null,null,"","","",{"$f":"IF($AC172=\"\",\"\",入力シート!F180)","v":""},{"$f":"IF($AC172=\"\",\"\",入力シート!G180)","v":""},{"$f":"IF($AC172=\"\",\"\",入力シート!H180)","v":""},""]
[{"$f":"IF(入力シート!$B181=\"\",\"\",大会コード)","v":""},{"$f":"IF(入力シート!$B181=\"\",\"\",VLOOKUP(入力シート!$C181,大会データ!$A$5:$F$374,3,FALSE))","v":""},{"$f":"IF(入力シート!$B181=\"\",\"\",VLOOKUP(入力シート!$C181,大会データ!$A$5:$F$374,4,FALSE))","v":""},{"$f":"IF(入力シート!$B181=\"\",\"\",VLOOKUP(入力シート!$C181,大会データ!$A$5:$F$374,5,FALSE))","v":""},{"$f":"IF(入力シート!$B181=\"\",\"\",基礎データ!$B$6)","v":""},{"$f":"IF(入力シート!$B181=\"\",\"\",B173)","v":""},{"$f":"IF(入力シート!$B181=\"\",\"\",IF(入力シート!$E181=\"\",TEXT(入力シート!$B181,\"00\"),入力シート!$E181))","v":""},null,null,{"$f":"IF(入力シート!I181=\"\",\"\",入力シート!I181)","v":""},null,null,null,null,null,null,null,null,null,null,null,null,null,null,null,null,"","","",{"$f":"IF($AC173=\"\",\"\",入力シート!F181)","v":""},{"$f":"IF($AC173=\"\",\"\",入力シート!G181)","v":""},{"$f":"IF($AC173=\"\",\"\",入力シート!H181)","v":""},""]
[{"$f":"IF(入力シート!$B182=\"\",\"\",大会コード)","v":""},{"$f":"IF(入力シート!$B182=\"\",\"\",VLOOKUP(入力シート!$C182,大会データ!$A$5:$F$374,3,FALSE))","v":""},{"$f":"IF(入力シート!$B182=\"\",\"\",VLOOKUP(入力シート!$C182,大会データ!$A$5:$F$374,4,FALSE))","v":""},{"$f":"IF(入力シート!$B182=\"\",\"\",VLOOKUP(入力シート!$C182,大会データ!$A$5:$F$374,5,FALSE))","v":""},{"$f":"IF(入力シート!$B182=\"\",\"\",基礎データ!$B$6)","v":""},{"$f":"IF(入力シート!$B182=\"\",\"\",B174)","v":""},{"$f":"IF(入力シート!$B182=\"\",\"\",IF(入力シート!$E182=\"\",TEXT(入力シート!$B182,\"00\"),入力シート!$E182))","v":""},null,null,{"$f":"IF(入力シート!I182=\"\",\"\",入力シート!I182)","v":""},null,null,null,null,null,null,null,null,null,null,null,null,null,null,null,null,"","","",{"$f":"IF($AC174=\"\",\"\",入力シート!F182)","v":""},{"$f":"IF($AC174=\"\",\"\",入力シート!G182)","v":""},{"$f":"IF($AC174=\"\",\"\",入力シート!H182)","v":""},""]
[{"$f":"IF(入力シート!$B183=\"\",\"\",大会コード)","v":""},{"$f":"IF(入力シート!$B183=\"\",\"\",VLOOKUP(入力シート!$C183,大会データ!$A$5:$F$374,3,FALSE))","v":""},{"$f":"IF(入力シート!$B183=\"\",\"\",VLOOKUP(入力シート!$C183,大会データ!$A$5:$F$374,4,FALSE))","v":""},{"$f":"IF(入力シート!$B183=\"\",\"\",VLOOKUP(入力シート!$C183,大会データ!$A$5:$F$374,5,FALSE))","v":""},{"$f":"IF(入力シート!$B183=\"\",\"\",基礎データ!$B$6)","v":""},{"$f":"IF(入力シート!$B183=\"\",\"\",B175)","v":""},{"$f":"IF(入力シート!$B183=\"\",\"\",IF(入力シート!$E183=\"\",TEXT(入力シート!$B183,\"00\"),入力シート!$E183))","v":""},null,null,{"$f":"IF(入力シート!I183=\"\",\"\",入力シート!I183)","v":""},null,null,null,null,null,null,null,null,null,null,null,null,null,null,null,null,"","","",{"$f":"IF($AC175=\"\",\"\",入力シート!F183)","v":""},{"$f":"IF($AC175=\"\",\"\",入力シート!G183)","v":""},{"$f":"IF($AC175=\"\",\"\",入力シート!H183)","v":""},""]
[{"$f":"IF(入力シート!$B184=\"\",\"\",大会コード)","v":""},{"$f":"IF(入力シート!$B184=\"\",\"\",VLOOKUP(入力シート!$C184,大会データ!$A$5:$F$374,3,FALSE))","v":""},{"$f":"IF(入力シート!$B184=\"\",\"\",VLOOKUP(入力シート!$C184,大会データ!$A$5:$F$374,4,FALSE))","v":""},{"$f":"IF(入力シート!$B184=\"\",\"\",VLOOKUP(入力シート!$C184,大会データ!$A$5:$F$374,5,FALSE))","v":""},{"$f":"IF(入力シート!$B184=\"\",\"\",基礎データ!$B$6)","v":""},{"$f":"IF(入力シート!$B184=\"\",\"\",B176)","v":""},{"$f":"IF(入力シート!$B184=\"\",\"\",IF(入力シート!$E184=\"\",TEXT(入力シート!$B184,\"00\"),入力シート!$E184))","v":""},null,null,{"$f":"IF(入力シート!I184=\"\",\"\",入力シート!I184)","v":""},null,null,null,null,null,null,null,null,null,null,null,null,null,null,null,null,"","","",{"$f":"IF($AC176=\"\",\"\",入力シート!F184)","v":""},{"$f":"IF($AC176=\"\",\"\",入力シート!G184)","v":""},{"$f":"IF($AC176=\"\",\"\",入力シート!H184)","v":""},""]
[{"$f":"IF(入力シート!$B185=\"\",\"\",大会コード)","v":""},{"$f":"IF(入力シート!$B185=\"\",\"\",VLOOKUP(入力シート!$C185,大会データ!$A$5:$F$374,3,FALSE))","v":""},{"$f":"IF(入力シート!$B185=\"\",\"\",VLOOKUP(入力シート!$C185,大会データ!$A$5:$F$374,4,FALSE))","v":""},{"$f":"IF(入力シート!$B185=\"\",\"\",VLOOKUP(入力シート!$C185,大会データ!$A$5:$F$374,5,FALSE))","v":""},{"$f":"IF(入力シート!$B185=\"\",\"\",基礎データ!$B$6)","v":""},{"$f":"IF(入力シート!$B185=\"\",\"\",B177)","v":""},{"$f":"IF(入力シート!$B185=\"\",\"\",IF(入力シート!$E185=\"\",TEXT(入力シート!$B185,\"00\"),入力シート!$E185))","v":""},null,null,{"$f":"IF(入力シート!I185=\"\",\"\",入力シート!I185)","v":""},null,null,null,null,null,null,null,null,null,null,null,null,null,null,null,null,"","","",{"$f":"IF($AC177=\"\",\"\",入力シート!F185)","v":""},{"$f":"IF($AC177=\"\",\"\",入力シート!G185)","v":""},{"$f":"IF($AC177=\"\",\"\",入力シート!H185)","v":""},""]
[{"$f":"IF(入力シート!$B186=\"\",\"\",大会コード)","v":""},{"$f":"IF(入力シート!$B186=\"\",\"\",VLOOKUP(入力シート!$C186,大会データ!$A$5:$F$374,3,FALSE))","v":""},{"$f":"IF(入力シート!$B186=\"\",\"\",VLOOKUP(入力シート!$C186,大会データ!$A$5:$F$374,4,FALSE))","v":""},{"$f":"IF(入力シート!$B186=\"\",\"\",VLOOKUP(入力シート!$C186,大会データ!$A$5:$F$374,5,FALSE))","v":""},{"$f":"IF(入力シート!$B186=\"\",\"\",基礎データ!$B$6)","v":""},{"$f":"IF(入力シート!$B186=\"\",\"\",B178)","v":""},{"$f":"IF(入力シート!$B186=\"\",\"\",IF(入力シート!$E186=\"\",TEXT(入力シート!$B186,\"00\"),入力シート!$E186))","v":""},null,null,{"$f":"IF(入力シート!I186=\"\",\"\",入力シート!I186)","v":""},null,null,null,null,null,null,null,null,null,null,null,null,null,null,null,null,"","","",{"$f":"IF($AC178=\"\",\"\",入力シート!F186)","v":""},{"$f":"IF($AC178=\"\",\"\",入力シート!G186)","v":""},{"$f":"IF($AC178=\"\",\"\",入力シート!H186)","v":""},""]
[{"$f":"IF(入力シート!$B187=\"\",\"\",大会コード)","v":""},{"$f":"IF(入力シート!$B187=\"\",\"\",VLOOKUP(入力シート!$C187,大会データ!$A$5:$F$374,3,FALSE))","v":""},{"$f":"IF(入力シート!$B187=\"\",\"\",VLOOKUP(入力シート!$C187,大会データ!$A$5:$F$374,4,FALSE))","v":""},{"$f":"IF(入力シート!$B187=\"\",\"\",VLOOKUP(入力シート!$C187,大会データ!$A$5:$F$374,5,FALSE))","v":""},{"$f":"IF(入力シート!$B187=\"\",\"\",基礎データ!$B$6)","v":""},{"$f":"IF(入力シート!$B187=\"\",\"\",B179)","v":""},{"$f":"IF(入力シート!$B187=\"\",\"\",IF(入力シート!$E187=\"\",TEXT(入力シート!$B187,\"00\"),入力シート!$E187))","v":""},null,null,{"$f":"IF(入力シート!I187=\"\",\"\",入力シート!I187)","v":""},null,null,null,null,null,null,null,null,null,null,null,null,null,null,null,null,"","","",{"$f":"IF($AC179=\"\",\"\",入力シート!F187)","v":""},{"$f":"IF($AC179=\"\",\"\",入力シート!G187)","v":""},{"$f":"IF($AC179=\"\",\"\",入力シート!H187)","v":""},""]
[{"$f":"IF(入力シート!$B188=\"\",\"\",大会コード)","v":""},{"$f":"IF(入力シート!$B188=\"\",\"\",VLOOKUP(入力シート!$C188,大会データ!$A$5:$F$374,3,FALSE))","v":""},{"$f":"IF(入力シート!$B188=\"\",\"\",VLOOKUP(入力シート!$C188,大会データ!$A$5:$F$374,4,FALSE))","v":""},{"$f":"IF(入力シート!$B188=\"\",\"\",VLOOKUP(入力シート!$C188,大会データ!$A$5:$F$374,5,FALSE))","v":""},{"$f":"IF(入力シート!$B188=\"\",\"\",基礎データ!$B$6)","v":""},{"$f":"IF(入力シート!$B188=\"\",\"\",B180)","v":""},{"$f":"IF(入力シート!$B188=\"\",\"\",IF(入力シート!$E188=\"\",TEXT(入力シート!$B188,\"00\"),入力シート!$E188))","v":""},null,null,{"$f":"IF(入力シート!I188=\"\",\"\",入力シート!I188)","v":""},null,null,null,null,null,null,null,null,null,null,null,null,null,null,null,null,"","","",{"$f":"IF($AC180=\"\",\"\",入力シート!F188)","v":""},{"$f":"IF($AC180=\"\",\"\",入力シート!G188)","v":""},{"$f":"IF($AC180=\"\",\"\",入力シート!H188)","v":""},""]
[{"$f":"IF(入力シート!$B189=\"\",\"\",大会コード)","v":""},{"$f":"IF(入力シート!$B189=\"\",\"\",VLOOKUP(入力シート!$C189,大会データ!$A$5:$F$374,3,FALSE))","v":""},{"$f":"IF(入力シート!$B189=\"\",\"\",VLOOKUP(入力シート!$C189,大会データ!$A$5:$F$374,4,FALSE))","v":""},{"$f":"IF(入力シート!$B189=\"\",\"\",VLOOKUP(入力シート!$C189,大会データ!$A$5:$F$374,5,FALSE))","v":""},{"$f":"IF(入力シート!$B189=\"\",\"\",基礎データ!$B$6)","v":""},{"$f":"IF(入力シート!$B189=\"\",\"\",B181)","v":""},{"$f":"IF(入力シート!$B189=\"\",\"\",IF(入力シート!$E189=\"\",TEXT(入力シート!$B189,\"00\"),入力シート!$E189))","v":""},null,null,{"$f":"IF(入力シート!I189=\"\",\"\",入力シート!I189)","v":""},null,null,null,null,null,null,null,null,null,null,null,null,null,null,null,null,"","","",{"$f":"IF($AC181=\"\",\"\",入力シート!F189)","v":""},{"$f":"IF($AC181=\"\",\"\",入力シート!G189)","v":""},{"$f":"IF($AC181=\"\",\"\",入力シート!H189)","v":""},""]
[{"$f":"IF(入力シート!$B190=\"\",\"\",大会コード)","v":""},{"$f":"IF(入力シート!$B190=\"\",\"\",VLOOKUP(入力シート!$C190,大会データ!$A$5:$F$374,3,FALSE))","v":""},{"$f":"IF(入力シート!$B190=\"\",\"\",VLOOKUP(入力シート!$C190,大会データ!$A$5:$F$374,4,FALSE))","v":""},{"$f":"IF(入力シート!$B190=\"\",\"\",VLOOKUP(入力シート!$C190,大会データ!$A$5:$F$374,5,FALSE))","v":""},{"$f":"IF(入力シート!$B190=\"\",\"\",基礎データ!$B$6)","v":""},{"$f":"IF(入力シート!$B190=\"\",\"\",B182)","v":""},{"$f":"IF(入力シート!$B190=\"\",\"\",IF(入力シート!$E190=\"\",TEXT(入力シート!$B190,\"00\"),入力シート!$E190))","v":""},null,null,{"$f":"IF(入力シート!I190=\"\",\"\",入力シート!I190)","v":""},null,null,null,null,null,null,null,null,null,null,null,null,null,null,null,null,"","","",{"$f":"IF($AC182=\"\",\"\",入力シート!F190)","v":""},{"$f":"IF($AC182=\"\",\"\",入力シート!G190)","v":""},{"$f":"IF($AC182=\"\",\"\",入力シート!H190)","v":""},""]
[{"$f":"IF(入力シート!$B191=\"\",\"\",大会コード)","v":""},{"$f":"IF(入力シート!$B191=\"\",\"\",VLOOKUP(入力シート!$C191,大会データ!$A$5:$F$374,3,FALSE))","v":""},{"$f":"IF(入力シート!$B191=\"\",\"\",VLOOKUP(入力シート!$C191,大会データ!$A$5:$F$374,4,FALSE))","v":""},{"$f":"IF(入力シート!$B191=\"\",\"\",VLOOKUP(入力シート!$C191,大会データ!$A$5:$F$374,5,FALSE))","v":""},{"$f":"IF(入力シート!$B191=\"\",\"\",基礎データ!$B$6)","v":""},{"$f":"IF(入力シート!$B191=\"\",\"\",B183)","v":""},{"$f":"IF(入力シート!$B191=\"\",\"\",IF(入力シート!$E191=\"\",TEXT(入力シート!$B191,\"00\"),入力シート!$E191))","v":""},null,null,{"$f":"IF(入力シート!I191=\"\",\"\",入力シート!I191)","v":""},null,null,null,null,null,null,null,null,null,null,null,null,null,null,null,null,"","","",{"$f":"IF($AC183=\"\",\"\",入力シート!F191)","v":""},{"$f":"IF($AC183=\"\",\"\",入力シート!G191)","v":""},{"$f":"IF($AC183=\"\",\"\",入力シート!H191)","v":""},""]
[{"$f":"IF(入力シート!$B192=\"\",\"\",大会コード)","v":""},{"$f":"IF(入力シート!$B192=\"\",\"\",VLOOKUP(入力シート!$C192,大会データ!$A$5:$F$374,3,FALSE))","v":""},{"$f":"IF(入力シート!$B192=\"\",\"\",VLOOKUP(入力シート!$C192,大会データ!$A$5:$F$374,4,FALSE))","v":""},{"$f":"IF(入力シート!$B192=\"\",\"\",VLOOKUP(入力シート!$C192,大会データ!$A$5:$F$374,5,FALSE))","v":""},{"$f":"IF(入力シート!$B192=\"\",\"\",基礎データ!$B$6)","v":""},{"$f":"IF(入力シート!$B192=\"\",\"\",B184)","v":""},{"$f":"IF(入力シート!$B192=\"\",\"\",IF(入力シート!$E192=\"\",TEXT(入力シート!$B192,\"00\"),入力シート!$E192))","v":""},null,null,{"$f":"IF(入力シート!I192=\"\",\"\",入力シート!I192)","v":""},null,null,null,null,null,null,null,null,null,null,null,null,null,null,null,null,"","","",{"$f":"IF($AC184=\"\",\"\",入力シート!F192)","v":""},{"$f":"IF($AC184=\"\",\"\",入力シート!G192)","v":""},{"$f":"IF($AC184=\"\",\"\",入力シート!H192)","v":""},""]
[{"$f":"IF(入力シート!$B193=\"\",\"\",大会コード)","v":""},{"$f":"IF(入力シート!$B193=\"\",\"\",VLOOKUP(入力シート!$C193,大会データ!$A$5:$F$374,3,FALSE))","v":""},{"$f":"IF(入力シート!$B193=\"\",\"\",VLOOKUP(入力シート!$C193,大会データ!$A$5:$F$374,4,FALSE))","v":""},{"$f":"IF(入力シート!$B193=\"\",\"\",VLOOKUP(入力シート!$C193,大会データ!$A$5:$F$374,5,FALSE))","v":""},{"$f":"IF(入力シート!$B193=\"\",\"\",基礎データ!$B$6)","v":""},{"$f":"IF(入力シート!$B193=\"\",\"\",B185)","v":""},{"$f":"IF(入力シート!$B193=\"\",\"\",IF(入力シート!$E193=\"\",TEXT(入力シート!$B193,\"00\"),入力シート!$E193))","v":""},null,null,{"$f":"IF(入力シート!I193=\"\",\"\",入力シート!I193)","v":""},null,null,null,null,null,null,null,null,null,null,null,null,null,null,null,null,"","","",{"$f":"IF($AC185=\"\",\"\",入力シート!F193)","v":""},{"$f":"IF($AC185=\"\",\"\",入力シート!G193)","v":""},{"$f":"IF($AC185=\"\",\"\",入力シート!H193)","v":""},""]
[{"$f":"IF(入力シート!$B194=\"\",\"\",大会コード)","v":""},{"$f":"IF(入力シート!$B194=\"\",\"\",VLOOKUP(入力シート!$C194,大会データ!$A$5:$F$374,3,FALSE))","v":""},{"$f":"IF(入力シート!$B194=\"\",\"\",VLOOKUP(入力シート!$C194,大会データ!$A$5:$F$374,4,FALSE))","v":""},{"$f":"IF(入力シート!$B194=\"\",\"\",VLOOKUP(入力シート!$C194,大会データ!$A$5:$F$374,5,FALSE))","v":""},{"$f":"IF(入力シート!$B194=\"\",\"\",基礎データ!$B$6)","v":""},{"$f":"IF(入力シート!$B194=\"\",\"\",B186)","v":""},{"$f":"IF(入力シート!$B194=\"\",\"\",IF(入力シート!$E194=\"\",TEXT(入力シート!$B194,\"00\"),入力シート!$E194))","v":""},null,null,{"$f":"IF(入力シート!I194=\"\",\"\",入力シート!I194)","v":""},null,null,null,null,null,null,null,null,null,null,null,null,null,null,null,null,"","","",{"$f":"IF($AC186=\"\",\"\",入力シート!F194)","v":""},{"$f":"IF($AC186=\"\",\"\",入力シート!G194)","v":""},{"$f":"IF($AC186=\"\",\"\",入力シート!H194)","v":""},""]
[{"$f":"IF(入力シート!$B195=\"\",\"\",大会コード)","v":""},{"$f":"IF(入力シート!$B195=\"\",\"\",VLOOKUP(入力シート!$C195,大会データ!$A$5:$F$374,3,FALSE))","v":""},{"$f":"IF(入力シート!$B195=\"\",\"\",VLOOKUP(入力シート!$C195,大会データ!$A$5:$F$374,4,FALSE))","v":""},{"$f":"IF(入力シート!$B195=\"\",\"\",VLOOKUP(入力シート!$C195,大会データ!$A$5:$F$374,5,FALSE))","v":""},{"$f":"IF(入力シート!$B195=\"\",\"\",基礎データ!$B$6)","v":""},{"$f":"IF(入力シート!$B195=\"\",\"\",B187)","v":""},{"$f":"IF(入力シート!$B195=\"\",\"\",IF(入力シート!$E195=\"\",TEXT(入力シート!$B195,\"00\"),入力シート!$E195))","v":""},null,null,{"$f":"IF(入力シート!I195=\"\",\"\",入力シート!I195)","v":""},null,null,null,null,null,null,null,null,null,null,null,null,null,null,null,null,"","","",{"$f":"IF($AC187=\"\",\"\",入力シート!F195)","v":""},{"$f":"IF($AC187=\"\",\"\",入力シート!G195)","v":""},{"$f":"IF($AC187=\"\",\"\",入力シート!H195)","v":""},""]
[{"$f":"IF(入力シート!$B196=\"\",\"\",大会コード)","v":""},{"$f":"IF(入力シート!$B196=\"\",\"\",VLOOKUP(入力シート!$C196,大会データ!$A$5:$F$374,3,FALSE))","v":""},{"$f":"IF(入力シート!$B196=\"\",\"\",VLOOKUP(入力シート!$C196,大会データ!$A$5:$F$374,4,FALSE))","v":""},{"$f":"IF(入力シート!$B196=\"\",\"\",VLOOKUP(入力シート!$C196,大会データ!$A$5:$F$374,5,FALSE))","v":""},{"$f":"IF(入力シート!$B196=\"\",\"\",基礎データ!$B$6)","v":""},{"$f":"IF(入力シート!$B196=\"\",\"\",B188)","v":""},{"$f":"IF(入力シート!$B196=\"\",\"\",IF(入力シート!$E196=\"\",TEXT(入力シート!$B196,\"00\"),入力シート!$E196))","v":""},null,null,{"$f":"IF(入力シート!I196=\"\",\"\",入力シート!I196)","v":""},null,null,null,null,null,null,null,null,null,null,null,null,null,null,null,null,"","","",{"$f":"IF($AC188=\"\",\"\",入力シート!F196)","v":""},{"$f":"IF($AC188=\"\",\"\",入力シート!G196)","v":""},{"$f":"IF($AC188=\"\",\"\",入力シート!H196)","v":""},""]
[{"$f":"IF(入力シート!$B197=\"\",\"\",大会コード)","v":""},{"$f":"IF(入力シート!$B197=\"\",\"\",VLOOKUP(入力シート!$C197,大会データ!$A$5:$F$374,3,FALSE))","v":""},{"$f":"IF(入力シート!$B197=\"\",\"\",VLOOKUP(入力シート!$C197,大会データ!$A$5:$F$374,4,FALSE))","v":""},{"$f":"IF(入力シート!$B197=\"\",\"\",VLOOKUP(入力シート!$C197,大会データ!$A$5:$F$374,5,FALSE))","v":""},{"$f":"IF(入力シート!$B197=\"\",\"\",基礎データ!$B$6)","v":""},{"$f":"IF(入力シート!$B197=\"\",\"\",B189)","v":""},{"$f":"IF(入力シート!$B197=\"\",\"\",IF(入力シート!$E197=\"\",TEXT(入力シート!$B197,\"00\"),入力シート!$E197))","v":""},null,null,{"$f":"IF(入力シート!I197=\"\",\"\",入力シート!I197)","v":""},null,null,null,null,null,null,null,null,null,null,null,null,null,null,null,null,"","","",{"$f":"IF($AC189=\"\",\"\",入力シート!F197)","v":""},{"$f":"IF($AC189=\"\",\"\",入力シート!G197)","v":""},{"$f":"IF($AC189=\"\",\"\",入力シート!H197)","v":""},""]
[{"$f":"IF(入力シート!$B198=\"\",\"\",大会コード)","v":""},{"$f":"IF(入力シート!$B198=\"\",\"\",VLOOKUP(入力シート!$C198,大会データ!$A$5:$F$374,3,FALSE))","v":""},{"$f":"IF(入力シート!$B198=\"\",\"\",VLOOKUP(入力シート!$C198,大会データ!$A$5:$F$374,4,FALSE))","v":""},{"$f":"IF(入力シート!$B198=\"\",\"\",VLOOKUP(入力シート!$C198,大会データ!$A$5:$F$374,5,FALSE))","v":""},{"$f":"IF(入力シート!$B198=\"\",\"\",基礎データ!$B$6)","v":""},{"$f":"IF(入力シート!$B198=\"\",\"\",B190)","v":""},{"$f":"IF(入力シート!$B198=\"\",\"\",IF(入力シート!$E198=\"\",TEXT(入力シート!$B198,\"00\"),入力シート!$E198))","v":""},null,null,{"$f":"IF(入力シート!I198=\"\",\"\",入力シート!I198)","v":""},null,null,null,null,null,null,null,null,null,null,null,null,null,null,null,null,"","","",{"$f":"IF($AC190=\"\",\"\",入力シート!F198)","v":""},{"$f":"IF($AC190=\"\",\"\",入力シート!G198)","v":""},{"$f":"IF($AC190=\"\",\"\",入力シート!H198)","v":""},""]
[{"$f":"IF(入力シート!$B199=\"\",\"\",大会コード)","v":""},{"$f":"IF(入力シート!$B199=\"\",\"\",VLOOKUP(入力シート!$C199,大会データ!$A$5:$F$374,3,FALSE))","v":""},{"$f":"IF(入力シート!$B199=\"\",\"\",VLOOKUP(入力シート!$C199,大会データ!$A$5:$F$374,4,FALSE))","v":""},{"$f":"IF(入力シート!$B199=\"\",\"\",VLOOKUP(入力シート!$C199,大会データ!$A$5:$F$374,5,FALSE))","v":""},{"$f":"IF(入力シート!$B199=\"\",\"\",基礎データ!$B$6)","v":""},{"$f":"IF(入力シート!$B199=\"\",\"\",B191)","v":""},{"$f":"IF(入力シート!$B199=\"\",\"\",IF(入力シート!$E199=\"\",TEXT(入力シート!$B199,\"00\"),入力シート!$E199))","v":""},null,null,{"$f":"IF(入力シート!I199=\"\",\"\",入力シート!I199)","v":""},null,null,null,null,null,null,null,null,null,null,null,null,null,null,null,null,"","","",{"$f":"IF($AC191=\"\",\"\",入力シート!F199)","v":""},{"$f":"IF($AC191=\"\",\"\",入力シート!G199)","v":""},{"$f":"IF($AC191=\"\",\"\",入力シート!H199)","v":""},""]
[{"$f":"IF(入力シート!$B200=\"\",\"\",大会コード)","v":""},{"$f":"IF(入力シート!$B200=\"\",\"\",VLOOKUP(入力シート!$C200,大会データ!$A$5:$F$374,3,FALSE))","v":""},{"$f":"IF(入力シート!$B200=\"\",\"\",VLOOKUP(入力シート!$C200,大会データ!$A$5:$F$374,4,FALSE))","v":""},{"$f":"IF(入力シート!$B200=\"\",\"\",VLOOKUP(入力シート!$C200,大会データ!$A$5:$F$374,5,FALSE))","v":""},{"$f":"IF(入力シート!$B200=\"\",\"\",基礎データ!$B$6)","v":""},{"$f":"IF(入力シート!$B200=\"\",\"\",B192)","v":""},{"$f":"IF(入力シート!$B200=\"\",\"\",IF(入力シート!$E200=\"\",TEXT(入力シート!$B200,\"00\"),入力シート!$E200))","v":""},null,null,{"$f":"IF(入力シート!I200=\"\",\"\",入力シート!I200)","v":""},null,null,null,null,null,null,null,null,null,null,null,null,null,null,null,null,"","","",{"$f":"IF($AC192=\"\",\"\",入力シート!F200)","v":""},{"$f":"IF($AC192=\"\",\"\",入力シート!G200)","v":""},{"$f":"IF($AC192=\"\",\"\",入力シート!H200)","v":""},""]
[{"$f":"IF(入力シート!$B201=\"\",\"\",大会コード)","v":""},{"$f":"IF(入力シート!$B201=\"\",\"\",VLOOKUP(入力シート!$C201,大会データ!$A$5:$F$374,3,FALSE))","v":""},{"$f":"IF(入力シート!$B201=\"\",\"\",VLOOKUP(入力シート!$C201,大会データ!$A$5:$F$374,4,FALSE))","v":""},{"$f":"IF(入力シート!$B201=\"\",\"\",VLOOKUP(入力シート!$C201,大会データ!$A$5:$F$374,5,FALSE))","v":""},{"$f":"IF(入力シート!$B201=\"\",\"\",基礎データ!$B$6)","v":""},{"$f":"IF(入力シート!$B201=\"\",\"\",B193)","v":""},{"$f":"IF(入力シート!$B201=\"\",\"\",IF(入力シート!$E201=\"\",TEXT(入力シート!$B201,\"00\"),入力シート!$E201))","v":""},null,null,{"$f":"IF(入力シート!I201=\"\",\"\",入力シート!I201)","v":""},null,null,null,null,null,null,null,null,null,null,null,null,null,null,null,null,"","","",{"$f":"IF($AC193=\"\",\"\",入力シート!F201)","v":""},{"$f":"IF($AC193=\"\",\"\",入力シート!G201)","v":""},{"$f":"IF($AC193=\"\",\"\",入力シート!H201)","v":""},""]
[{"$f":"IF(入力シート!$B202=\"\",\"\",大会コード)","v":""},{"$f":"IF(入力シート!$B202=\"\",\"\",VLOOKUP(入力シート!$C202,大会データ!$A$5:$F$374,3,FALSE))","v":""},{"$f":"IF(入力シート!$B202=\"\",\"\",VLOOKUP(入力シート!$C202,大会データ!$A$5:$F$374,4,FALSE))","v":""},{"$f":"IF(入力シート!$B202=\"\",\"\",VLOOKUP(入力シート!$C202,大会データ!$A$5:$F$374,5,FALSE))","v":""},{"$f":"IF(入力シート!$B202=\"\",\"\",基礎データ!$B$6)","v":""},{"$f":"IF(入力シート!$B202=\"\",\"\",B194)","v":""},{"$f":"IF(入力シート!$B202=\"\",\"\",IF(入力シート!$E202=\"\",TEXT(入力シート!$B202,\"00\"),入力シート!$E202))","v":""},null,null,{"$f":"IF(入力シート!I202=\"\",\"\",入力シート!I202)","v":""},null,null,null,null,null,null,null,null,null,null,null,null,null,null,null,null,"","","",{"$f":"IF($AC194=\"\",\"\",入力シート!F202)","v":""},{"$f":"IF($AC194=\"\",\"\",入力シート!G202)","v":""},{"$f":"IF($AC194=\"\",\"\",入力シート!H202)","v":""},""]
[{"$f":"IF(入力シート!$B203=\"\",\"\",大会コード)","v":""},{"$f":"IF(入力シート!$B203=\"\",\"\",VLOOKUP(入力シート!$C203,大会データ!$A$5:$F$374,3,FALSE))","v":""},{"$f":"IF(入力シート!$B203=\"\",\"\",VLOOKUP(入力シート!$C203,大会データ!$A$5:$F$374,4,FALSE))","v":""},{"$f":"IF(入力シート!$B203=\"\",\"\",VLOOKUP(入力シート!$C203,大会データ!$A$5:$F$374,5,FALSE))","v":""},{"$f":"IF(入力シート!$B203=\"\",\"\",基礎データ!$B$6)","v":""},{"$f":"IF(入力シート!$B203=\"\",\"\",B195)","v":""},{"$f":"IF(入力シート!$B203=\"\",\"\",IF(入力シート!$E203=\"\",TEXT(入力シート!$B203,\"00\"),入力シート!$E203))","v":""},null,null,{"$f":"IF(入力シート!I203=\"\",\"\",入力シート!I203)","v":""},null,null,null,null,null,null,null,null,null,null,null,null,null,null,null,null,"","","",{"$f":"IF($AC195=\"\",\"\",入力シート!F203)","v":""},{"$f":"IF($AC195=\"\",\"\",入力シート!G203)","v":""},{"$f":"IF($AC195=\"\",\"\",入力シート!H203)","v":""},""]
[{"$f":"IF(入力シート!$B204=\"\",\"\",大会コード)","v":""},{"$f":"IF(入力シート!$B204=\"\",\"\",VLOOKUP(入力シート!$C204,大会データ!$A$5:$F$374,3,FALSE))","v":""},{"$f":"IF(入力シート!$B204=\"\",\"\",VLOOKUP(入力シート!$C204,大会データ!$A$5:$F$374,4,FALSE))","v":""},{"$f":"IF(入力シート!$B204=\"\",\"\",VLOOKUP(入力シート!$C204,大会データ!$A$5:$F$374,5,FALSE))","v":""},{"$f":"IF(入力シート!$B204=\"\",\"\",基礎データ!$B$6)","v":""},{"$f":"IF(入力シート!$B204=\"\",\"\",B196)","v":""},{"$f":"IF(入力シート!$B204=\"\",\"\",IF(入力シート!$E204=\"\",TEXT(入力シート!$B204,\"00\"),入力シート!$E204))","v":""},null,null,{"$f":"IF(入力シート!I204=\"\",\"\",入力シート!I204)","v":""},null,null,null,null,null,null,null,null,null,null,null,null,null,null,null,null,"","","",{"$f":"IF($AC196=\"\",\"\",入力シート!F204)","v":""},{"$f":"IF($AC196=\"\",\"\",入力シート!G204)","v":""},{"$f":"IF($AC196=\"\",\"\",入力シート!H204)","v":""},""]
[{"$f":"IF(入力シート!$B205=\"\",\"\",大会コード)","v":""},{"$f":"IF(入力シート!$B205=\"\",\"\",VLOOKUP(入力シート!$C205,大会データ!$A$5:$F$374,3,FALSE))","v":""},{"$f":"IF(入力シート!$B205=\"\",\"\",VLOOKUP(入力シート!$C205,大会データ!$A$5:$F$374,4,FALSE))","v":""},{"$f":"IF(入力シート!$B205=\"\",\"\",VLOOKUP(入力シート!$C205,大会データ!$A$5:$F$374,5,FALSE))","v":""},{"$f":"IF(入力シート!$B205=\"\",\"\",基礎データ!$B$6)","v":""},{"$f":"IF(入力シート!$B205=\"\",\"\",B197)","v":""},{"$f":"IF(入力シート!$B205=\"\",\"\",IF(入力シート!$E205=\"\",TEXT(入力シート!$B205,\"00\"),入力シート!$E205))","v":""},null,null,{"$f":"IF(入力シート!I205=\"\",\"\",入力シート!I205)","v":""},null,null,null,null,null,null,null,null,null,null,null,null,null,null,null,null,{"$f":"E197","v":""},{"$f":"B197","v":""},{"$f":"G197","v":""},{"$f":"IF($AC197=\"\",\"\",入力シート!F205)","v":""},{"$f":"IF($AC197=\"\",\"\",入力シート!G205)","v":""},{"$f":"IF($AC197=\"\",\"\",入力シート!H205)","v":""},{"$f":"IF($AC197=\"\",\"\",2016-AF197)","v":""}]
[{"$f":"IF(入力シート!$B206=\"\",\"\",大会コード)","v":""},{"$f":"IF(入力シート!$B206=\"\",\"\",VLOOKUP(入力シート!$C206,大会データ!$A$5:$F$374,3,FALSE))","v":""},{"$f":"IF(入力シート!$B206=\"\",\"\",VLOOKUP(入力シート!$C206,大会データ!$A$5:$F$374,4,FALSE))","v":""},{"$f":"IF(入力シート!$B206=\"\",\"\",VLOOKUP(入力シート!$C206,大会データ!$A$5:$F$374,5,FALSE))","v":""},{"$f":"IF(入力シート!$B206=\"\",\"\",基礎データ!$B$6)","v":""},{"$f":"IF(入力シート!$B206=\"\",\"\",B198)","v":""},{"$f":"IF(入力シート!$B206=\"\",\"\",IF(入力シート!$E206=\"\",TEXT(入力シート!$B206,\"00\"),入力シート!$E206))","v":""},null,null,{"$f":"IF(入力シート!I206=\"\",\"\",入力シート!I206)","v":""},null,null,null,null,null,null,null,null,null,null,null,null,null,null,null,null,"","","",{"$f":"IF($AC198=\"\",\"\",入力シート!F206)","v":""},{"$f":"IF($AC198=\"\",\"\",入力シート!G206)","v":""},{"$f":"IF($AC198=\"\",\"\",入力シート!H206)","v":""},""]
[{"$f":"IF(入力シート!$B207=\"\",\"\",大会コード)","v":""},{"$f":"IF(入力シート!$B207=\"\",\"\",VLOOKUP(入力シート!$C207,大会データ!$A$5:$F$374,3,FALSE))","v":""},{"$f":"IF(入力シート!$B207=\"\",\"\",VLOOKUP(入力シート!$C207,大会データ!$A$5:$F$374,4,FALSE))","v":""},{"$f":"IF(入力シート!$B207=\"\",\"\",VLOOKUP(入力シート!$C207,大会データ!$A$5:$F$374,5,FALSE))","v":""},{"$f":"IF(入力シート!$B207=\"\",\"\",基礎データ!$B$6)","v":""},{"$f":"IF(入力シート!$B207=\"\",\"\",B199)","v":""},{"$f":"IF(入力シート!$B207=\"\",\"\",IF(入力シート!$E207=\"\",TEXT(入力シート!$B207,\"00\"),入力シート!$E207))","v":""},null,null,{"$f":"IF(入力シート!I207=\"\",\"\",入力シート!I207)","v":""},null,null,null,null,null,null,null,null,null,null,null,null,null,null,null,null,"","","",{"$f":"IF($AC199=\"\",\"\",入力シート!F207)","v":""},{"$f":"IF($AC199=\"\",\"\",入力シート!G207)","v":""},{"$f":"IF($AC199=\"\",\"\",入力シート!H207)","v":""},""]
[{"$f":"IF(入力シート!$B208=\"\",\"\",大会コード)","v":""},{"$f":"IF(入力シート!$B208=\"\",\"\",VLOOKUP(入力シート!$C208,大会データ!$A$5:$F$374,3,FALSE))","v":""},{"$f":"IF(入力シート!$B208=\"\",\"\",VLOOKUP(入力シート!$C208,大会データ!$A$5:$F$374,4,FALSE))","v":""},{"$f":"IF(入力シート!$B208=\"\",\"\",VLOOKUP(入力シート!$C208,大会データ!$A$5:$F$374,5,FALSE))","v":""},{"$f":"IF(入力シート!$B208=\"\",\"\",基礎データ!$B$6)","v":""},{"$f":"IF(入力シート!$B208=\"\",\"\",B200)","v":""},{"$f":"IF(入力シート!$B208=\"\",\"\",IF(入力シート!$E208=\"\",TEXT(入力シート!$B208,\"00\"),入力シート!$E208))","v":""},null,null,{"$f":"IF(入力シート!I208=\"\",\"\",入力シート!I208)","v":""},null,null,null,null,null,null,null,null,null,null,null,null,null,null,null,null,"","","",{"$f":"IF($AC200=\"\",\"\",入力シート!F208)","v":""},{"$f":"IF($AC200=\"\",\"\",入力シート!G208)","v":""},{"$f":"IF($AC200=\"\",\"\",入力シート!H208)","v":""},""]
[{"$f":"IF(入力シート!$B209=\"\",\"\",大会コード)","v":""},{"$f":"IF(入力シート!$B209=\"\",\"\",VLOOKUP(入力シート!$C209,大会データ!$A$5:$F$374,3,FALSE))","v":""},{"$f":"IF(入力シート!$B209=\"\",\"\",VLOOKUP(入力シート!$C209,大会データ!$A$5:$F$374,4,FALSE))","v":""},{"$f":"IF(入力シート!$B209=\"\",\"\",VLOOKUP(入力シート!$C209,大会データ!$A$5:$F$374,5,FALSE))","v":""},{"$f":"IF(入力シート!$B209=\"\",\"\",基礎データ!$B$6)","v":""},{"$f":"IF(入力シート!$B209=\"\",\"\",B201)","v":""},{"$f":"IF(入力シート!$B209=\"\",\"\",IF(入力シート!$E209=\"\",TEXT(入力シート!$B209,\"00\"),入力シート!$E209))","v":""},null,null,{"$f":"IF(入力シート!I209=\"\",\"\",入力シート!I209)","v":""},null,null,null,null,null,null,null,null,null,null,null,null,null,null,null,null,"","","",{"$f":"IF($AC201=\"\",\"\",入力シート!F209)","v":""},{"$f":"IF($AC201=\"\",\"\",入力シート!G209)","v":""},{"$f":"IF($AC201=\"\",\"\",入力シート!H209)","v":""},""]
[{"$f":"IF(入力シート!$B210=\"\",\"\",大会コード)","v":""},{"$f":"IF(入力シート!$B210=\"\",\"\",VLOOKUP(入力シート!$C210,大会データ!$A$5:$F$374,3,FALSE))","v":""},{"$f":"IF(入力シート!$B210=\"\",\"\",VLOOKUP(入力シート!$C210,大会データ!$A$5:$F$374,4,FALSE))","v":""},{"$f":"IF(入力シート!$B210=\"\",\"\",VLOOKUP(入力シート!$C210,大会データ!$A$5:$F$374,5,FALSE))","v":""},{"$f":"IF(入力シート!$B210=\"\",\"\",基礎データ!$B$6)","v":""},{"$f":"IF(入力シート!$B210=\"\",\"\",B202)","v":""},{"$f":"IF(入力シート!$B210=\"\",\"\",IF(入力シート!$E210=\"\",TEXT(入力シート!$B210,\"00\"),入力シート!$E210))","v":""},null,null,{"$f":"IF(入力シート!I210=\"\",\"\",入力シート!I210)","v":""},null,null,null,null,null,null,null,null,null,null,null,null,null,null,null,null,"","","",{"$f":"IF($AC202=\"\",\"\",入力シート!F210)","v":""},{"$f":"IF($AC202=\"\",\"\",入力シート!G210)","v":""},{"$f":"IF($AC202=\"\",\"\",入力シート!H210)","v":""},""]
[{"$f":"IF(入力シート!$B211=\"\",\"\",大会コード)","v":""},{"$f":"IF(入力シート!$B211=\"\",\"\",VLOOKUP(入力シート!$C211,大会データ!$A$5:$F$374,3,FALSE))","v":""},{"$f":"IF(入力シート!$B211=\"\",\"\",VLOOKUP(入力シート!$C211,大会データ!$A$5:$F$374,4,FALSE))","v":""},{"$f":"IF(入力シート!$B211=\"\",\"\",VLOOKUP(入力シート!$C211,大会データ!$A$5:$F$374,5,FALSE))","v":""},{"$f":"IF(入力シート!$B211=\"\",\"\",基礎データ!$B$6)","v":""},{"$f":"IF(入力シート!$B211=\"\",\"\",B203)","v":""},{"$f":"IF(入力シート!$B211=\"\",\"\",IF(入力シート!$E211=\"\",TEXT(入力シート!$B211,\"00\"),入力シート!$E211))","v":""},null,null,{"$f":"IF(入力シート!I211=\"\",\"\",入力シート!I211)","v":""},null,null,null,null,null,null,null,null,null,null,null,null,null,null,null,null,"","","",{"$f":"IF($AC203=\"\",\"\",入力シート!F211)","v":""},{"$f":"IF($AC203=\"\",\"\",入力シート!G211)","v":""},{"$f":"IF($AC203=\"\",\"\",入力シート!H211)","v":""},""]
[{"$f":"IF(入力シート!$B212=\"\",\"\",大会コード)","v":""},{"$f":"IF(入力シート!$B212=\"\",\"\",VLOOKUP(入力シート!$C212,大会データ!$A$5:$F$374,3,FALSE))","v":""},{"$f":"IF(入力シート!$B212=\"\",\"\",VLOOKUP(入力シート!$C212,大会データ!$A$5:$F$374,4,FALSE))","v":""},{"$f":"IF(入力シート!$B212=\"\",\"\",VLOOKUP(入力シート!$C212,大会データ!$A$5:$F$374,5,FALSE))","v":""},{"$f":"IF(入力シート!$B212=\"\",\"\",基礎データ!$B$6)","v":""},{"$f":"IF(入力シート!$B212=\"\",\"\",B204)","v":""},{"$f":"IF(入力シート!$B212=\"\",\"\",IF(入力シート!$E212=\"\",TEXT(入力シート!$B212,\"00\"),入力シート!$E212))","v":""},null,null,{"$f":"IF(入力シート!I212=\"\",\"\",入力シート!I212)","v":""},null,null,null,null,null,null,null,null,null,null,null,null,null,null,null,null,"","","",{"$f":"IF($AC204=\"\",\"\",入力シート!F212)","v":""},{"$f":"IF($AC204=\"\",\"\",入力シート!G212)","v":""},{"$f":"IF($AC204=\"\",\"\",入力シート!H212)","v":""},""]
[{"$f":"IF(入力シート!$B213=\"\",\"\",大会コード)","v":""},{"$f":"IF(入力シート!$B213=\"\",\"\",VLOOKUP(入力シート!$C213,大会データ!$A$5:$F$374,3,FALSE))","v":""},{"$f":"IF(入力シート!$B213=\"\",\"\",VLOOKUP(入力シート!$C213,大会データ!$A$5:$F$374,4,FALSE))","v":""},{"$f":"IF(入力シート!$B213=\"\",\"\",VLOOKUP(入力シート!$C213,大会データ!$A$5:$F$374,5,FALSE))","v":""},{"$f":"IF(入力シート!$B213=\"\",\"\",基礎データ!$B$6)","v":""},{"$f":"IF(入力シート!$B213=\"\",\"\",B205)","v":""},{"$f":"IF(入力シート!$B213=\"\",\"\",IF(入力シート!$E213=\"\",TEXT(入力シート!$B213,\"00\"),入力シート!$E213))","v":""},null,null,{"$f":"IF(入力シート!I213=\"\",\"\",入力シート!I213)","v":""},null,null,null,null,null,null,null,null,null,null,null,null,null,null,null,null,"","","",{"$f":"IF($AC205=\"\",\"\",入力シート!F213)","v":""},{"$f":"IF($AC205=\"\",\"\",入力シート!G213)","v":""},{"$f":"IF($AC205=\"\",\"\",入力シート!H213)","v":""},""]
[{"$f":"IF(入力シート!$B214=\"\",\"\",大会コード)","v":""},{"$f":"IF(入力シート!$B214=\"\",\"\",VLOOKUP(入力シート!$C214,大会データ!$A$5:$F$374,3,FALSE))","v":""},{"$f":"IF(入力シート!$B214=\"\",\"\",VLOOKUP(入力シート!$C214,大会データ!$A$5:$F$374,4,FALSE))","v":""},{"$f":"IF(入力シート!$B214=\"\",\"\",VLOOKUP(入力シート!$C214,大会データ!$A$5:$F$374,5,FALSE))","v":""},{"$f":"IF(入力シート!$B214=\"\",\"\",基礎データ!$B$6)","v":""},{"$f":"IF(入力シート!$B214=\"\",\"\",B206)","v":""},{"$f":"IF(入力シート!$B214=\"\",\"\",IF(入力シート!$E214=\"\",TEXT(入力シート!$B214,\"00\"),入力シート!$E214))","v":""},null,null,{"$f":"IF(入力シート!I214=\"\",\"\",入力シート!I214)","v":""},null,null,null,null,null,null,null,null,null,null,null,null,null,null,null,null,"","","",{"$f":"IF($AC206=\"\",\"\",入力シート!F214)","v":""},{"$f":"IF($AC206=\"\",\"\",入力シート!G214)","v":""},{"$f":"IF($AC206=\"\",\"\",入力シート!H214)","v":""},""]
[{"$f":"IF(入力シート!$B215=\"\",\"\",大会コード)","v":""},{"$f":"IF(入力シート!$B215=\"\",\"\",VLOOKUP(入力シート!$C215,大会データ!$A$5:$F$374,3,FALSE))","v":""},{"$f":"IF(入力シート!$B215=\"\",\"\",VLOOKUP(入力シート!$C215,大会データ!$A$5:$F$374,4,FALSE))","v":""},{"$f":"IF(入力シート!$B215=\"\",\"\",VLOOKUP(入力シート!$C215,大会データ!$A$5:$F$374,5,FALSE))","v":""},{"$f":"IF(入力シート!$B215=\"\",\"\",基礎データ!$B$6)","v":""},{"$f":"IF(入力シート!$B215=\"\",\"\",B207)","v":""},{"$f":"IF(入力シート!$B215=\"\",\"\",IF(入力シート!$E215=\"\",TEXT(入力シート!$B215,\"00\"),入力シート!$E215))","v":""},null,null,{"$f":"IF(入力シート!I215=\"\",\"\",入力シート!I215)","v":""},null,null,null,null,null,null,null,null,null,null,null,null,null,null,null,null,"","","",{"$f":"IF($AC207=\"\",\"\",入力シート!F215)","v":""},{"$f":"IF($AC207=\"\",\"\",入力シート!G215)","v":""},{"$f":"IF($AC207=\"\",\"\",入力シート!H215)","v":""},""]
[{"$f":"IF(入力シート!$B216=\"\",\"\",大会コード)","v":""},{"$f":"IF(入力シート!$B216=\"\",\"\",VLOOKUP(入力シート!$C216,大会データ!$A$5:$F$374,3,FALSE))","v":""},{"$f":"IF(入力シート!$B216=\"\",\"\",VLOOKUP(入力シート!$C216,大会データ!$A$5:$F$374,4,FALSE))","v":""},{"$f":"IF(入力シート!$B216=\"\",\"\",VLOOKUP(入力シート!$C216,大会データ!$A$5:$F$374,5,FALSE))","v":""},{"$f":"IF(入力シート!$B216=\"\",\"\",基礎データ!$B$6)","v":""},{"$f":"IF(入力シート!$B216=\"\",\"\",B208)","v":""},{"$f":"IF(入力シート!$B216=\"\",\"\",IF(入力シート!$E216=\"\",TEXT(入力シート!$B216,\"00\"),入力シート!$E216))","v":""},null,null,{"$f":"IF(入力シート!I216=\"\",\"\",入力シート!I216)","v":""},null,null,null,null,null,null,null,null,null,null,null,null,null,null,null,null,"","","",{"$f":"IF($AC208=\"\",\"\",入力シート!F216)","v":""},{"$f":"IF($AC208=\"\",\"\",入力シート!G216)","v":""},{"$f":"IF($AC208=\"\",\"\",入力シート!H216)","v":""},""]
[{"$f":"IF(入力シート!$B217=\"\",\"\",大会コード)","v":""},{"$f":"IF(入力シート!$B217=\"\",\"\",VLOOKUP(入力シート!$C217,大会データ!$A$5:$F$374,3,FALSE))","v":""},{"$f":"IF(入力シート!$B217=\"\",\"\",VLOOKUP(入力シート!$C217,大会データ!$A$5:$F$374,4,FALSE))","v":""},{"$f":"IF(入力シート!$B217=\"\",\"\",VLOOKUP(入力シート!$C217,大会データ!$A$5:$F$374,5,FALSE))","v":""},{"$f":"IF(入力シート!$B217=\"\",\"\",基礎データ!$B$6)","v":""},{"$f":"IF(入力シート!$B217=\"\",\"\",B209)","v":""},{"$f":"IF(入力シート!$B217=\"\",\"\",IF(入力シート!$E217=\"\",TEXT(入力シート!$B217,\"00\"),入力シート!$E217))","v":""},null,null,{"$f":"IF(入力シート!I217=\"\",\"\",入力シート!I217)","v":""},null,null,null,null,null,null,null,null,null,null,null,null,null,null,null,null,"","","",{"$f":"IF($AC209=\"\",\"\",入力シート!F217)","v":""},{"$f":"IF($AC209=\"\",\"\",入力シート!G217)","v":""},{"$f":"IF($AC209=\"\",\"\",入力シート!H217)","v":""},""]
[{"$f":"IF(入力シート!$B218=\"\",\"\",大会コード)","v":""},{"$f":"IF(入力シート!$B218=\"\",\"\",VLOOKUP(入力シート!$C218,大会データ!$A$5:$F$374,3,FALSE))","v":""},{"$f":"IF(入力シート!$B218=\"\",\"\",VLOOKUP(入力シート!$C218,大会データ!$A$5:$F$374,4,FALSE))","v":""},{"$f":"IF(入力シート!$B218=\"\",\"\",VLOOKUP(入力シート!$C218,大会データ!$A$5:$F$374,5,FALSE))","v":""},{"$f":"IF(入力シート!$B218=\"\",\"\",基礎データ!$B$6)","v":""},{"$f":"IF(入力シート!$B218=\"\",\"\",B210)","v":""},{"$f":"IF(入力シート!$B218=\"\",\"\",IF(入力シート!$E218=\"\",TEXT(入力シート!$B218,\"00\"),入力シート!$E218))","v":""},null,null,{"$f":"IF(入力シート!I218=\"\",\"\",入力シート!I218)","v":""},null,null,null,null,null,null,null,null,null,null,null,null,null,null,null,null,"","","",{"$f":"IF($AC210=\"\",\"\",入力シート!F218)","v":""},{"$f":"IF($AC210=\"\",\"\",入力シート!G218)","v":""},{"$f":"IF($AC210=\"\",\"\",入力シート!H218)","v":""},""]
[{"$f":"IF(入力シート!$B219=\"\",\"\",大会コード)","v":""},{"$f":"IF(入力シート!$B219=\"\",\"\",VLOOKUP(入力シート!$C219,大会データ!$A$5:$F$374,3,FALSE))","v":""},{"$f":"IF(入力シート!$B219=\"\",\"\",VLOOKUP(入力シート!$C219,大会データ!$A$5:$F$374,4,FALSE))","v":""},{"$f":"IF(入力シート!$B219=\"\",\"\",VLOOKUP(入力シート!$C219,大会データ!$A$5:$F$374,5,FALSE))","v":""},{"$f":"IF(入力シート!$B219=\"\",\"\",基礎データ!$B$6)","v":""},{"$f":"IF(入力シート!$B219=\"\",\"\",B211)","v":""},{"$f":"IF(入力シート!$B219=\"\",\"\",IF(入力シート!$E219=\"\",TEXT(入力シート!$B219,\"00\"),入力シート!$E219))","v":""},null,null,{"$f":"IF(入力シート!I219=\"\",\"\",入力シート!I219)","v":""},null,null,null,null,null,null,null,null,null,null,null,null,null,null,null,null,"","","",{"$f":"IF($AC211=\"\",\"\",入力シート!F219)","v":""},{"$f":"IF($AC211=\"\",\"\",入力シート!G219)","v":""},{"$f":"IF($AC211=\"\",\"\",入力シート!H219)","v":""},""]
[{"$f":"IF(入力シート!$B220=\"\",\"\",大会コード)","v":""},{"$f":"IF(入力シート!$B220=\"\",\"\",VLOOKUP(入力シート!$C220,大会データ!$A$5:$F$374,3,FALSE))","v":""},{"$f":"IF(入力シート!$B220=\"\",\"\",VLOOKUP(入力シート!$C220,大会データ!$A$5:$F$374,4,FALSE))","v":""},{"$f":"IF(入力シート!$B220=\"\",\"\",VLOOKUP(入力シート!$C220,大会データ!$A$5:$F$374,5,FALSE))","v":""},{"$f":"IF(入力シート!$B220=\"\",\"\",基礎データ!$B$6)","v":""},{"$f":"IF(入力シート!$B220=\"\",\"\",B212)","v":""},{"$f":"IF(入力シート!$B220=\"\",\"\",IF(入力シート!$E220=\"\",TEXT(入力シート!$B220,\"00\"),入力シート!$E220))","v":""},null,null,{"$f":"IF(入力シート!I220=\"\",\"\",入力シート!I220)","v":""},null,null,null,null,null,null,null,null,null,null,null,null,null,null,null,null,"","","",{"$f":"IF($AC212=\"\",\"\",入力シート!F220)","v":""},{"$f":"IF($AC212=\"\",\"\",入力シート!G220)","v":""},{"$f":"IF($AC212=\"\",\"\",入力シート!H220)","v":""},""]
[{"$f":"IF(入力シート!$B221=\"\",\"\",大会コード)","v":""},{"$f":"IF(入力シート!$B221=\"\",\"\",VLOOKUP(入力シート!$C221,大会データ!$A$5:$F$374,3,FALSE))","v":""},{"$f":"IF(入力シート!$B221=\"\",\"\",VLOOKUP(入力シート!$C221,大会データ!$A$5:$F$374,4,FALSE))","v":""},{"$f":"IF(入力シート!$B221=\"\",\"\",VLOOKUP(入力シート!$C221,大会データ!$A$5:$F$374,5,FALSE))","v":""},{"$f":"IF(入力シート!$B221=\"\",\"\",基礎データ!$B$6)","v":""},{"$f":"IF(入力シート!$B221=\"\",\"\",B213)","v":""},{"$f":"IF(入力シート!$B221=\"\",\"\",IF(入力シート!$E221=\"\",TEXT(入力シート!$B221,\"00\"),入力シート!$E221))","v":""},null,null,{"$f":"IF(入力シート!I221=\"\",\"\",入力シート!I221)","v":""},null,null,null,null,null,null,null,null,null,null,null,null,null,null,null,null,"","","",{"$f":"IF($AC213=\"\",\"\",入力シート!F221)","v":""},{"$f":"IF($AC213=\"\",\"\",入力シート!G221)","v":""},{"$f":"IF($AC213=\"\",\"\",入力シート!H221)","v":""},""]
[{"$f":"IF(入力シート!$B222=\"\",\"\",大会コード)","v":""},{"$f":"IF(入力シート!$B222=\"\",\"\",VLOOKUP(入力シート!$C222,大会データ!$A$5:$F$374,3,FALSE))","v":""},{"$f":"IF(入力シート!$B222=\"\",\"\",VLOOKUP(入力シート!$C222,大会データ!$A$5:$F$374,4,FALSE))","v":""},{"$f":"IF(入力シート!$B222=\"\",\"\",VLOOKUP(入力シート!$C222,大会データ!$A$5:$F$374,5,FALSE))","v":""},{"$f":"IF(入力シート!$B222=\"\",\"\",基礎データ!$B$6)","v":""},{"$f":"IF(入力シート!$B222=\"\",\"\",B214)","v":""},{"$f":"IF(入力シート!$B222=\"\",\"\",IF(入力シート!$E222=\"\",TEXT(入力シート!$B222,\"00\"),入力シート!$E222))","v":""},null,null,{"$f":"IF(入力シート!I222=\"\",\"\",入力シート!I222)","v":""},null,null,null,null,null,null,null,null,null,null,null,null,null,null,null,null,"","","",{"$f":"IF($AC214=\"\",\"\",入力シート!F222)","v":""},{"$f":"IF($AC214=\"\",\"\",入力シート!G222)","v":""},{"$f":"IF($AC214=\"\",\"\",入力シート!H222)","v":""},""]
[{"$f":"IF(入力シート!$B223=\"\",\"\",大会コード)","v":""},{"$f":"IF(入力シート!$B223=\"\",\"\",VLOOKUP(入力シート!$C223,大会データ!$A$5:$F$374,3,FALSE))","v":""},{"$f":"IF(入力シート!$B223=\"\",\"\",VLOOKUP(入力シート!$C223,大会データ!$A$5:$F$374,4,FALSE))","v":""},{"$f":"IF(入力シート!$B223=\"\",\"\",VLOOKUP(入力シート!$C223,大会データ!$A$5:$F$374,5,FALSE))","v":""},{"$f":"IF(入力シート!$B223=\"\",\"\",基礎データ!$B$6)","v":""},{"$f":"IF(入力シート!$B223=\"\",\"\",B215)","v":""},{"$f":"IF(入力シート!$B223=\"\",\"\",IF(入力シート!$E223=\"\",TEXT(入力シート!$B223,\"00\"),入力シート!$E223))","v":""},null,null,{"$f":"IF(入力シート!I223=\"\",\"\",入力シート!I223)","v":""},null,null,null,null,null,null,null,null,null,null,null,null,null,null,null,null,"","","",{"$f":"IF($AC215=\"\",\"\",入力シート!F223)","v":""},{"$f":"IF($AC215=\"\",\"\",入力シート!G223)","v":""},{"$f":"IF($AC215=\"\",\"\",入力シート!H223)","v":""},""]
[{"$f":"IF(入力シート!$B224=\"\",\"\",大会コード)","v":""},{"$f":"IF(入力シート!$B224=\"\",\"\",VLOOKUP(入力シート!$C224,大会データ!$A$5:$F$374,3,FALSE))","v":""},{"$f":"IF(入力シート!$B224=\"\",\"\",VLOOKUP(入力シート!$C224,大会データ!$A$5:$F$374,4,FALSE))","v":""},{"$f":"IF(入力シート!$B224=\"\",\"\",VLOOKUP(入力シート!$C224,大会データ!$A$5:$F$374,5,FALSE))","v":""},{"$f":"IF(入力シート!$B224=\"\",\"\",基礎データ!$B$6)","v":""},{"$f":"IF(入力シート!$B224=\"\",\"\",B216)","v":""},{"$f":"IF(入力シート!$B224=\"\",\"\",IF(入力シート!$E224=\"\",TEXT(入力シート!$B224,\"00\"),入力シート!$E224))","v":""},null,null,{"$f":"IF(入力シート!I224=\"\",\"\",入力シート!I224)","v":""},null,null,null,null,null,null,null,null,null,null,null,null,null,null,null,null,"","","",{"$f":"IF($AC216=\"\",\"\",入力シート!F224)","v":""},{"$f":"IF($AC216=\"\",\"\",入力シート!G224)","v":""},{"$f":"IF($AC216=\"\",\"\",入力シート!H224)","v":""},""]
[{"$f":"IF(入力シート!$B225=\"\",\"\",大会コード)","v":""},{"$f":"IF(入力シート!$B225=\"\",\"\",VLOOKUP(入力シート!$C225,大会データ!$A$5:$F$374,3,FALSE))","v":""},{"$f":"IF(入力シート!$B225=\"\",\"\",VLOOKUP(入力シート!$C225,大会データ!$A$5:$F$374,4,FALSE))","v":""},{"$f":"IF(入力シート!$B225=\"\",\"\",VLOOKUP(入力シート!$C225,大会データ!$A$5:$F$374,5,FALSE))","v":""},{"$f":"IF(入力シート!$B225=\"\",\"\",基礎データ!$B$6)","v":""},{"$f":"IF(入力シート!$B225=\"\",\"\",B217)","v":""},{"$f":"IF(入力シート!$B225=\"\",\"\",IF(入力シート!$E225=\"\",TEXT(入力シート!$B225,\"00\"),入力シート!$E225))","v":""},null,null,{"$f":"IF(入力シート!I225=\"\",\"\",入力シート!I225)","v":""},null,null,null,null,null,null,null,null,null,null,null,null,null,null,null,null,"","","",{"$f":"IF($AC217=\"\",\"\",入力シート!F225)","v":""},{"$f":"IF($AC217=\"\",\"\",入力シート!G225)","v":""},{"$f":"IF($AC217=\"\",\"\",入力シート!H225)","v":""},""]
[{"$f":"IF(入力シート!$B226=\"\",\"\",大会コード)","v":""},{"$f":"IF(入力シート!$B226=\"\",\"\",VLOOKUP(入力シート!$C226,大会データ!$A$5:$F$374,3,FALSE))","v":""},{"$f":"IF(入力シート!$B226=\"\",\"\",VLOOKUP(入力シート!$C226,大会データ!$A$5:$F$374,4,FALSE))","v":""},{"$f":"IF(入力シート!$B226=\"\",\"\",VLOOKUP(入力シート!$C226,大会データ!$A$5:$F$374,5,FALSE))","v":""},{"$f":"IF(入力シート!$B226=\"\",\"\",基礎データ!$B$6)","v":""},{"$f":"IF(入力シート!$B226=\"\",\"\",B218)","v":""},{"$f":"IF(入力シート!$B226=\"\",\"\",IF(入力シート!$E226=\"\",TEXT(入力シート!$B226,\"00\"),入力シート!$E226))","v":""},null,null,{"$f":"IF(入力シート!I226=\"\",\"\",入力シート!I226)","v":""},null,null,null,null,null,null,null,null,null,null,null,null,null,null,null,null,"","","",{"$f":"IF($AC218=\"\",\"\",入力シート!F226)","v":""},{"$f":"IF($AC218=\"\",\"\",入力シート!G226)","v":""},{"$f":"IF($AC218=\"\",\"\",入力シート!H226)","v":""},""]
[{"$f":"IF(入力シート!$B227=\"\",\"\",大会コード)","v":""},{"$f":"IF(入力シート!$B227=\"\",\"\",VLOOKUP(入力シート!$C227,大会データ!$A$5:$F$374,3,FALSE))","v":""},{"$f":"IF(入力シート!$B227=\"\",\"\",VLOOKUP(入力シート!$C227,大会データ!$A$5:$F$374,4,FALSE))","v":""},{"$f":"IF(入力シート!$B227=\"\",\"\",VLOOKUP(入力シート!$C227,大会データ!$A$5:$F$374,5,FALSE))","v":""},{"$f":"IF(入力シート!$B227=\"\",\"\",基礎データ!$B$6)","v":""},{"$f":"IF(入力シート!$B227=\"\",\"\",B219)","v":""},{"$f":"IF(入力シート!$B227=\"\",\"\",IF(入力シート!$E227=\"\",TEXT(入力シート!$B227,\"00\"),入力シート!$E227))","v":""},null,null,{"$f":"IF(入力シート!I227=\"\",\"\",入力シート!I227)","v":""},null,null,null,null,null,null,null,null,null,null,null,null,null,null,null,null,"","","",{"$f":"IF($AC219=\"\",\"\",入力シート!F227)","v":""},{"$f":"IF($AC219=\"\",\"\",入力シート!G227)","v":""},{"$f":"IF($AC219=\"\",\"\",入力シート!H227)","v":""},""]
[{"$f":"IF(入力シート!$B228=\"\",\"\",大会コード)","v":""},{"$f":"IF(入力シート!$B228=\"\",\"\",VLOOKUP(入力シート!$C228,大会データ!$A$5:$F$374,3,FALSE))","v":""},{"$f":"IF(入力シート!$B228=\"\",\"\",VLOOKUP(入力シート!$C228,大会データ!$A$5:$F$374,4,FALSE))","v":""},{"$f":"IF(入力シート!$B228=\"\",\"\",VLOOKUP(入力シート!$C228,大会データ!$A$5:$F$374,5,FALSE))","v":""},{"$f":"IF(入力シート!$B228=\"\",\"\",基礎データ!$B$6)","v":""},{"$f":"IF(入力シート!$B228=\"\",\"\",B220)","v":""},{"$f":"IF(入力シート!$B228=\"\",\"\",IF(入力シート!$E228=\"\",TEXT(入力シート!$B228,\"00\"),入力シート!$E228))","v":""},null,null,{"$f":"IF(入力シート!I228=\"\",\"\",入力シート!I228)","v":""},null,null,null,null,null,null,null,null,null,null,null,null,null,null,null,null,"","","",{"$f":"IF($AC220=\"\",\"\",入力シート!F228)","v":""},{"$f":"IF($AC220=\"\",\"\",入力シート!G228)","v":""},{"$f":"IF($AC220=\"\",\"\",入力シート!H228)","v":""},""]
[{"$f":"IF(入力シート!$B229=\"\",\"\",大会コード)","v":""},{"$f":"IF(入力シート!$B229=\"\",\"\",VLOOKUP(入力シート!$C229,大会データ!$A$5:$F$374,3,FALSE))","v":""},{"$f":"IF(入力シート!$B229=\"\",\"\",VLOOKUP(入力シート!$C229,大会データ!$A$5:$F$374,4,FALSE))","v":""},{"$f":"IF(入力シート!$B229=\"\",\"\",VLOOKUP(入力シート!$C229,大会データ!$A$5:$F$374,5,FALSE))","v":""},{"$f":"IF(入力シート!$B229=\"\",\"\",基礎データ!$B$6)","v":""},{"$f":"IF(入力シート!$B229=\"\",\"\",B221)","v":""},{"$f":"IF(入力シート!$B229=\"\",\"\",IF(入力シート!$E229=\"\",TEXT(入力シート!$B229,\"00\"),入力シート!$E229))","v":""},null,null,{"$f":"IF(入力シート!I229=\"\",\"\",入力シート!I229)","v":""},null,null,null,null,null,null,null,null,null,null,null,null,null,null,null,null,"","","",{"$f":"IF($AC221=\"\",\"\",入力シート!F229)","v":""},{"$f":"IF($AC221=\"\",\"\",入力シート!G229)","v":""},{"$f":"IF($AC221=\"\",\"\",入力シート!H229)","v":""},""]
[{"$f":"IF(入力シート!$B230=\"\",\"\",大会コード)","v":""},{"$f":"IF(入力シート!$B230=\"\",\"\",VLOOKUP(入力シート!$C230,大会データ!$A$5:$F$374,3,FALSE))","v":""},{"$f":"IF(入力シート!$B230=\"\",\"\",VLOOKUP(入力シート!$C230,大会データ!$A$5:$F$374,4,FALSE))","v":""},{"$f":"IF(入力シート!$B230=\"\",\"\",VLOOKUP(入力シート!$C230,大会データ!$A$5:$F$374,5,FALSE))","v":""},{"$f":"IF(入力シート!$B230=\"\",\"\",基礎データ!$B$6)","v":""},{"$f":"IF(入力シート!$B230=\"\",\"\",B222)","v":""},{"$f":"IF(入力シート!$B230=\"\",\"\",IF(入力シート!$E230=\"\",TEXT(入力シート!$B230,\"00\"),入力シート!$E230))","v":""},null,null,{"$f":"IF(入力シート!I230=\"\",\"\",入力シート!I230)","v":""},null,null,null,null,null,null,null,null,null,null,null,null,null,null,null,null,"","","",{"$f":"IF($AC222=\"\",\"\",入力シート!F230)","v":""},{"$f":"IF($AC222=\"\",\"\",入力シート!G230)","v":""},{"$f":"IF($AC222=\"\",\"\",入力シート!H230)","v":""},""]
[{"$f":"IF(入力シート!$B231=\"\",\"\",大会コード)","v":""},{"$f":"IF(入力シート!$B231=\"\",\"\",VLOOKUP(入力シート!$C231,大会データ!$A$5:$F$374,3,FALSE))","v":""},{"$f":"IF(入力シート!$B231=\"\",\"\",VLOOKUP(入力シート!$C231,大会データ!$A$5:$F$374,4,FALSE))","v":""},{"$f":"IF(入力シート!$B231=\"\",\"\",VLOOKUP(入力シート!$C231,大会データ!$A$5:$F$374,5,FALSE))","v":""},{"$f":"IF(入力シート!$B231=\"\",\"\",基礎データ!$B$6)","v":""},{"$f":"IF(入力シート!$B231=\"\",\"\",B223)","v":""},{"$f":"IF(入力シート!$B231=\"\",\"\",IF(入力シート!$E231=\"\",TEXT(入力シート!$B231,\"00\"),入力シート!$E231))","v":""},null,null,{"$f":"IF(入力シート!I231=\"\",\"\",入力シート!I231)","v":""},null,null,null,null,null,null,null,null,null,null,null,null,null,null,null,null,"","","",{"$f":"IF($AC223=\"\",\"\",入力シート!F231)","v":""},{"$f":"IF($AC223=\"\",\"\",入力シート!G231)","v":""},{"$f":"IF($AC223=\"\",\"\",入力シート!H231)","v":""},""]
[{"$f":"IF(入力シート!$B232=\"\",\"\",大会コード)","v":""},{"$f":"IF(入力シート!$B232=\"\",\"\",VLOOKUP(入力シート!$C232,大会データ!$A$5:$F$374,3,FALSE))","v":""},{"$f":"IF(入力シート!$B232=\"\",\"\",VLOOKUP(入力シート!$C232,大会データ!$A$5:$F$374,4,FALSE))","v":""},{"$f":"IF(入力シート!$B232=\"\",\"\",VLOOKUP(入力シート!$C232,大会データ!$A$5:$F$374,5,FALSE))","v":""},{"$f":"IF(入力シート!$B232=\"\",\"\",基礎データ!$B$6)","v":""},{"$f":"IF(入力シート!$B232=\"\",\"\",B224)","v":""},{"$f":"IF(入力シート!$B232=\"\",\"\",IF(入力シート!$E232=\"\",TEXT(入力シート!$B232,\"00\"),入力シート!$E232))","v":""},null,null,{"$f":"IF(入力シート!I232=\"\",\"\",入力シート!I232)","v":""},null,null,null,null,null,null,null,null,null,null,null,null,null,null,null,null,"","","",{"$f":"IF($AC224=\"\",\"\",入力シート!F232)","v":""},{"$f":"IF($AC224=\"\",\"\",入力シート!G232)","v":""},{"$f":"IF($AC224=\"\",\"\",入力シート!H232)","v":""},""]
[{"$f":"IF(入力シート!$B233=\"\",\"\",大会コード)","v":""},{"$f":"IF(入力シート!$B233=\"\",\"\",VLOOKUP(入力シート!$C233,大会データ!$A$5:$F$374,3,FALSE))","v":""},{"$f":"IF(入力シート!$B233=\"\",\"\",VLOOKUP(入力シート!$C233,大会データ!$A$5:$F$374,4,FALSE))","v":""},{"$f":"IF(入力シート!$B233=\"\",\"\",VLOOKUP(入力シート!$C233,大会データ!$A$5:$F$374,5,FALSE))","v":""},{"$f":"IF(入力シート!$B233=\"\",\"\",基礎データ!$B$6)","v":""},{"$f":"IF(入力シート!$B233=\"\",\"\",B225)","v":""},{"$f":"IF(入力シート!$B233=\"\",\"\",IF(入力シート!$E233=\"\",TEXT(入力シート!$B233,\"00\"),入力シート!$E233))","v":""},null,null,{"$f":"IF(入力シート!I233=\"\",\"\",入力シート!I233)","v":""},null,null,null,null,null,null,null,null,null,null,null,null,null,null,null,null,"","","",{"$f":"IF($AC225=\"\",\"\",入力シート!F233)","v":""},{"$f":"IF($AC225=\"\",\"\",入力シート!G233)","v":""},{"$f":"IF($AC225=\"\",\"\",入力シート!H233)","v":""},""]
[{"$f":"IF(入力シート!$B234=\"\",\"\",大会コード)","v":""},{"$f":"IF(入力シート!$B234=\"\",\"\",VLOOKUP(入力シート!$C234,大会データ!$A$5:$F$374,3,FALSE))","v":""},{"$f":"IF(入力シート!$B234=\"\",\"\",VLOOKUP(入力シート!$C234,大会データ!$A$5:$F$374,4,FALSE))","v":""},{"$f":"IF(入力シート!$B234=\"\",\"\",VLOOKUP(入力シート!$C234,大会データ!$A$5:$F$374,5,FALSE))","v":""},{"$f":"IF(入力シート!$B234=\"\",\"\",基礎データ!$B$6)","v":""},{"$f":"IF(入力シート!$B234=\"\",\"\",B226)","v":""},{"$f":"IF(入力シート!$B234=\"\",\"\",IF(入力シート!$E234=\"\",TEXT(入力シート!$B234,\"00\"),入力シート!$E234))","v":""},null,null,{"$f":"IF(入力シート!I234=\"\",\"\",入力シート!I234)","v":""},null,null,null,null,null,null,null,null,null,null,null,null,null,null,null,null,"","","",{"$f":"IF($AC226=\"\",\"\",入力シート!F234)","v":""},{"$f":"IF($AC226=\"\",\"\",入力シート!G234)","v":""},{"$f":"IF($AC226=\"\",\"\",入力シート!H234)","v":""},""]
[{"$f":"IF(入力シート!$B235=\"\",\"\",大会コード)","v":""},{"$f":"IF(入力シート!$B235=\"\",\"\",VLOOKUP(入力シート!$C235,大会データ!$A$5:$F$374,3,FALSE))","v":""},{"$f":"IF(入力シート!$B235=\"\",\"\",VLOOKUP(入力シート!$C235,大会データ!$A$5:$F$374,4,FALSE))","v":""},{"$f":"IF(入力シート!$B235=\"\",\"\",VLOOKUP(入力シート!$C235,大会データ!$A$5:$F$374,5,FALSE))","v":""},{"$f":"IF(入力シート!$B235=\"\",\"\",基礎データ!$B$6)","v":""},{"$f":"IF(入力シート!$B235=\"\",\"\",B227)","v":""},{"$f":"IF(入力シート!$B235=\"\",\"\",IF(入力シート!$E235=\"\",TEXT(入力シート!$B235,\"00\"),入力シート!$E235))","v":""},null,null,{"$f":"IF(入力シート!I235=\"\",\"\",入力シート!I235)","v":""},null,null,null,null,null,null,null,null,null,null,null,null,null,null,null,null,"","","",{"$f":"IF($AC227=\"\",\"\",入力シート!F235)","v":""},{"$f":"IF($AC227=\"\",\"\",入力シート!G235)","v":""},{"$f":"IF($AC227=\"\",\"\",入力シート!H235)","v":""},""]
[{"$f":"IF(入力シート!$B236=\"\",\"\",大会コード)","v":""},{"$f":"IF(入力シート!$B236=\"\",\"\",VLOOKUP(入力シート!$C236,大会データ!$A$5:$F$374,3,FALSE))","v":""},{"$f":"IF(入力シート!$B236=\"\",\"\",VLOOKUP(入力シート!$C236,大会データ!$A$5:$F$374,4,FALSE))","v":""},{"$f":"IF(入力シート!$B236=\"\",\"\",VLOOKUP(入力シート!$C236,大会データ!$A$5:$F$374,5,FALSE))","v":""},{"$f":"IF(入力シート!$B236=\"\",\"\",基礎データ!$B$6)","v":""},{"$f":"IF(入力シート!$B236=\"\",\"\",B228)","v":""},{"$f":"IF(入力シート!$B236=\"\",\"\",IF(入力シート!$E236=\"\",TEXT(入力シート!$B236,\"00\"),入力シート!$E236))","v":""},null,null,{"$f":"IF(入力シート!I236=\"\",\"\",入力シート!I236)","v":""},null,null,null,null,null,null,null,null,null,null,null,null,null,null,null,null,"","","",{"$f":"IF($AC228=\"\",\"\",入力シート!F236)","v":""},{"$f":"IF($AC228=\"\",\"\",入力シート!G236)","v":""},{"$f":"IF($AC228=\"\",\"\",入力シート!H236)","v":""},""]
[{"$f":"IF(入力シート!$B237=\"\",\"\",大会コード)","v":""},{"$f":"IF(入力シート!$B237=\"\",\"\",VLOOKUP(入力シート!$C237,大会データ!$A$5:$F$374,3,FALSE))","v":""},{"$f":"IF(入力シート!$B237=\"\",\"\",VLOOKUP(入力シート!$C237,大会データ!$A$5:$F$374,4,FALSE))","v":""},{"$f":"IF(入力シート!$B237=\"\",\"\",VLOOKUP(入力シート!$C237,大会データ!$A$5:$F$374,5,FALSE))","v":""},{"$f":"IF(入力シート!$B237=\"\",\"\",基礎データ!$B$6)","v":""},{"$f":"IF(入力シート!$B237=\"\",\"\",B229)","v":""},{"$f":"IF(入力シート!$B237=\"\",\"\",IF(入力シート!$E237=\"\",TEXT(入力シート!$B237,\"00\"),入力シート!$E237))","v":""},null,null,{"$f":"IF(入力シート!I237=\"\",\"\",入力シート!I237)","v":""},null,null,null,null,null,null,null,null,null,null,null,null,null,null,null,null,"","","",{"$f":"IF($AC229=\"\",\"\",入力シート!F237)","v":""},{"$f":"IF($AC229=\"\",\"\",入力シート!G237)","v":""},{"$f":"IF($AC229=\"\",\"\",入力シート!H237)","v":""},""]
[{"$f":"IF(入力シート!$B238=\"\",\"\",大会コード)","v":""},{"$f":"IF(入力シート!$B238=\"\",\"\",VLOOKUP(入力シート!$C238,大会データ!$A$5:$F$374,3,FALSE))","v":""},{"$f":"IF(入力シート!$B238=\"\",\"\",VLOOKUP(入力シート!$C238,大会データ!$A$5:$F$374,4,FALSE))","v":""},{"$f":"IF(入力シート!$B238=\"\",\"\",VLOOKUP(入力シート!$C238,大会データ!$A$5:$F$374,5,FALSE))","v":""},{"$f":"IF(入力シート!$B238=\"\",\"\",基礎データ!$B$6)","v":""},{"$f":"IF(入力シート!$B238=\"\",\"\",B230)","v":""},{"$f":"IF(入力シート!$B238=\"\",\"\",IF(入力シート!$E238=\"\",TEXT(入力シート!$B238,\"00\"),入力シート!$E238))","v":""},null,null,{"$f":"IF(入力シート!I238=\"\",\"\",入力シート!I238)","v":""},null,null,null,null,null,null,null,null,null,null,null,null,null,null,null,null,"","","",{"$f":"IF($AC230=\"\",\"\",入力シート!F238)","v":""},{"$f":"IF($AC230=\"\",\"\",入力シート!G238)","v":""},{"$f":"IF($AC230=\"\",\"\",入力シート!H238)","v":""},""]
[{"$f":"IF(入力シート!$B239=\"\",\"\",大会コード)","v":""},{"$f":"IF(入力シート!$B239=\"\",\"\",VLOOKUP(入力シート!$C239,大会データ!$A$5:$F$374,3,FALSE))","v":""},{"$f":"IF(入力シート!$B239=\"\",\"\",VLOOKUP(入力シート!$C239,大会データ!$A$5:$F$374,4,FALSE))","v":""},{"$f":"IF(入力シート!$B239=\"\",\"\",VLOOKUP(入力シート!$C239,大会データ!$A$5:$F$374,5,FALSE))","v":""},{"$f":"IF(入力シート!$B239=\"\",\"\",基礎データ!$B$6)","v":""},{"$f":"IF(入力シート!$B239=\"\",\"\",B231)","v":""},{"$f":"IF(入力シート!$B239=\"\",\"\",IF(入力シート!$E239=\"\",TEXT(入力シート!$B239,\"00\"),入力シート!$E239))","v":""},null,null,{"$f":"IF(入力シート!I239=\"\",\"\",入力シート!I239)","v":""},null,null,null,null,null,null,null,null,null,null,null,null,null,null,null,null,"","","",{"$f":"IF($AC231=\"\",\"\",入力シート!F239)","v":""},{"$f":"IF($AC231=\"\",\"\",入力シート!G239)","v":""},{"$f":"IF($AC231=\"\",\"\",入力シート!H239)","v":""},""]
[{"$f":"IF(入力シート!$B240=\"\",\"\",大会コード)","v":""},{"$f":"IF(入力シート!$B240=\"\",\"\",VLOOKUP(入力シート!$C240,大会データ!$A$5:$F$374,3,FALSE))","v":""},{"$f":"IF(入力シート!$B240=\"\",\"\",VLOOKUP(入力シート!$C240,大会データ!$A$5:$F$374,4,FALSE))","v":""},{"$f":"IF(入力シート!$B240=\"\",\"\",VLOOKUP(入力シート!$C240,大会データ!$A$5:$F$374,5,FALSE))","v":""},{"$f":"IF(入力シート!$B240=\"\",\"\",基礎データ!$B$6)","v":""},{"$f":"IF(入力シート!$B240=\"\",\"\",B232)","v":""},{"$f":"IF(入力シート!$B240=\"\",\"\",IF(入力シート!$E240=\"\",TEXT(入力シート!$B240,\"00\"),入力シート!$E240))","v":""},null,null,{"$f":"IF(入力シート!I240=\"\",\"\",入力シート!I240)","v":""},null,null,null,null,null,null,null,null,null,null,null,null,null,null,null,null,"","","",{"$f":"IF($AC232=\"\",\"\",入力シート!F240)","v":""},{"$f":"IF($AC232=\"\",\"\",入力シート!G240)","v":""},{"$f":"IF($AC232=\"\",\"\",入力シート!H240)","v":""},""]
[{"$f":"IF(入力シート!$B241=\"\",\"\",大会コード)","v":""},{"$f":"IF(入力シート!$B241=\"\",\"\",VLOOKUP(入力シート!$C241,大会データ!$A$5:$F$374,3,FALSE))","v":""},{"$f":"IF(入力シート!$B241=\"\",\"\",VLOOKUP(入力シート!$C241,大会データ!$A$5:$F$374,4,FALSE))","v":""},{"$f":"IF(入力シート!$B241=\"\",\"\",VLOOKUP(入力シート!$C241,大会データ!$A$5:$F$374,5,FALSE))","v":""},{"$f":"IF(入力シート!$B241=\"\",\"\",基礎データ!$B$6)","v":""},{"$f":"IF(入力シート!$B241=\"\",\"\",B233)","v":""},{"$f":"IF(入力シート!$B241=\"\",\"\",IF(入力シート!$E241=\"\",TEXT(入力シート!$B241,\"00\"),入力シート!$E241))","v":""},null,null,{"$f":"IF(入力シート!I241=\"\",\"\",入力シート!I241)","v":""},null,null,null,null,null,null,null,null,null,null,null,null,null,null,null,null,"","","",{"$f":"IF($AC233=\"\",\"\",入力シート!F241)","v":""},{"$f":"IF($AC233=\"\",\"\",入力シート!G241)","v":""},{"$f":"IF($AC233=\"\",\"\",入力シート!H241)","v":""},""]
[{"$f":"IF(入力シート!$B242=\"\",\"\",大会コード)","v":""},{"$f":"IF(入力シート!$B242=\"\",\"\",VLOOKUP(入力シート!$C242,大会データ!$A$5:$F$374,3,FALSE))","v":""},{"$f":"IF(入力シート!$B242=\"\",\"\",VLOOKUP(入力シート!$C242,大会データ!$A$5:$F$374,4,FALSE))","v":""},{"$f":"IF(入力シート!$B242=\"\",\"\",VLOOKUP(入力シート!$C242,大会データ!$A$5:$F$374,5,FALSE))","v":""},{"$f":"IF(入力シート!$B242=\"\",\"\",基礎データ!$B$6)","v":""},{"$f":"IF(入力シート!$B242=\"\",\"\",B234)","v":""},{"$f":"IF(入力シート!$B242=\"\",\"\",IF(入力シート!$E242=\"\",TEXT(入力シート!$B242,\"00\"),入力シート!$E242))","v":""},null,null,{"$f":"IF(入力シート!I242=\"\",\"\",入力シート!I242)","v":""},null,null,null,null,null,null,null,null,null,null,null,null,null,null,null,null,"","","",{"$f":"IF($AC234=\"\",\"\",入力シート!F242)","v":""},{"$f":"IF($AC234=\"\",\"\",入力シート!G242)","v":""},{"$f":"IF($AC234=\"\",\"\",入力シート!H242)","v":""},""]
[{"$f":"IF(入力シート!$B243=\"\",\"\",大会コード)","v":""},{"$f":"IF(入力シート!$B243=\"\",\"\",VLOOKUP(入力シート!$C243,大会データ!$A$5:$F$374,3,FALSE))","v":""},{"$f":"IF(入力シート!$B243=\"\",\"\",VLOOKUP(入力シート!$C243,大会データ!$A$5:$F$374,4,FALSE))","v":""},{"$f":"IF(入力シート!$B243=\"\",\"\",VLOOKUP(入力シート!$C243,大会データ!$A$5:$F$374,5,FALSE))","v":""},{"$f":"IF(入力シート!$B243=\"\",\"\",基礎データ!$B$6)","v":""},{"$f":"IF(入力シート!$B243=\"\",\"\",B235)","v":""},{"$f":"IF(入力シート!$B243=\"\",\"\",IF(入力シート!$E243=\"\",TEXT(入力シート!$B243,\"00\"),入力シート!$E243))","v":""},null,null,{"$f":"IF(入力シート!I243=\"\",\"\",入力シート!I243)","v":""},null,null,null,null,null,null,null,null,null,null,null,null,null,null,null,null,"","","",{"$f":"IF($AC235=\"\",\"\",入力シート!F243)","v":""},{"$f":"IF($AC235=\"\",\"\",入力シート!G243)","v":""},{"$f":"IF($AC235=\"\",\"\",入力シート!H243)","v":""},""]
[{"$f":"IF(入力シート!$B244=\"\",\"\",大会コード)","v":""},{"$f":"IF(入力シート!$B244=\"\",\"\",VLOOKUP(入力シート!$C244,大会データ!$A$5:$F$374,3,FALSE))","v":""},{"$f":"IF(入力シート!$B244=\"\",\"\",VLOOKUP(入力シート!$C244,大会データ!$A$5:$F$374,4,FALSE))","v":""},{"$f":"IF(入力シート!$B244=\"\",\"\",VLOOKUP(入力シート!$C244,大会データ!$A$5:$F$374,5,FALSE))","v":""},{"$f":"IF(入力シート!$B244=\"\",\"\",基礎データ!$B$6)","v":""},{"$f":"IF(入力シート!$B244=\"\",\"\",B236)","v":""},{"$f":"IF(入力シート!$B244=\"\",\"\",IF(入力シート!$E244=\"\",TEXT(入力シート!$B244,\"00\"),入力シート!$E244))","v":""},null,null,{"$f":"IF(入力シート!I244=\"\",\"\",入力シート!I244)","v":""},null,null,null,null,null,null,null,null,null,null,null,null,null,null,null,null,"","","",{"$f":"IF($AC236=\"\",\"\",入力シート!F244)","v":""},{"$f":"IF($AC236=\"\",\"\",入力シート!G244)","v":""},{"$f":"IF($AC236=\"\",\"\",入力シート!H244)","v":""},""]
[{"$f":"IF(入力シート!$B245=\"\",\"\",大会コード)","v":""},{"$f":"IF(入力シート!$B245=\"\",\"\",VLOOKUP(入力シート!$C245,大会データ!$A$5:$F$374,3,FALSE))","v":""},{"$f":"IF(入力シート!$B245=\"\",\"\",VLOOKUP(入力シート!$C245,大会データ!$A$5:$F$374,4,FALSE))","v":""},{"$f":"IF(入力シート!$B245=\"\",\"\",VLOOKUP(入力シート!$C245,大会データ!$A$5:$F$374,5,FALSE))","v":""},{"$f":"IF(入力シート!$B245=\"\",\"\",基礎データ!$B$6)","v":""},{"$f":"IF(入力シート!$B245=\"\",\"\",B237)","v":""},{"$f":"IF(入力シート!$B245=\"\",\"\",IF(入力シート!$E245=\"\",TEXT(入力シート!$B245,\"00\"),入力シート!$E245))","v":""},null,null,{"$f":"IF(入力シート!I245=\"\",\"\",入力シート!I245)","v":""},null,null,null,null,null,null,null,null,null,null,null,null,null,null,null,null,"","","",{"$f":"IF($AC237=\"\",\"\",入力シート!F245)","v":""},{"$f":"IF($AC237=\"\",\"\",入力シート!G245)","v":""},{"$f":"IF($AC237=\"\",\"\",入力シート!H245)","v":""},""]
[{"$f":"IF(入力シート!$B246=\"\",\"\",大会コード)","v":""},{"$f":"IF(入力シート!$B246=\"\",\"\",VLOOKUP(入力シート!$C246,大会データ!$A$5:$F$374,3,FALSE))","v":""},{"$f":"IF(入力シート!$B246=\"\",\"\",VLOOKUP(入力シート!$C246,大会データ!$A$5:$F$374,4,FALSE))","v":""},{"$f":"IF(入力シート!$B246=\"\",\"\",VLOOKUP(入力シート!$C246,大会データ!$A$5:$F$374,5,FALSE))","v":""},{"$f":"IF(入力シート!$B246=\"\",\"\",基礎データ!$B$6)","v":""},{"$f":"IF(入力シート!$B246=\"\",\"\",B238)","v":""},{"$f":"IF(入力シート!$B246=\"\",\"\",IF(入力シート!$E246=\"\",TEXT(入力シート!$B246,\"00\"),入力シート!$E246))","v":""},null,null,{"$f":"IF(入力シート!I246=\"\",\"\",入力シート!I246)","v":""},null,null,null,null,null,null,null,null,null,null,null,null,null,null,null,null,"","","",{"$f":"IF($AC238=\"\",\"\",入力シート!F246)","v":""},{"$f":"IF($AC238=\"\",\"\",入力シート!G246)","v":""},{"$f":"IF($AC238=\"\",\"\",入力シート!H246)","v":""},""]
[{"$f":"IF(入力シート!$B247=\"\",\"\",大会コード)","v":""},{"$f":"IF(入力シート!$B247=\"\",\"\",VLOOKUP(入力シート!$C247,大会データ!$A$5:$F$374,3,FALSE))","v":""},{"$f":"IF(入力シート!$B247=\"\",\"\",VLOOKUP(入力シート!$C247,大会データ!$A$5:$F$374,4,FALSE))","v":""},{"$f":"IF(入力シート!$B247=\"\",\"\",VLOOKUP(入力シート!$C247,大会データ!$A$5:$F$374,5,FALSE))","v":""},{"$f":"IF(入力シート!$B247=\"\",\"\",基礎データ!$B$6)","v":""},{"$f":"IF(入力シート!$B247=\"\",\"\",B239)","v":""},{"$f":"IF(入力シート!$B247=\"\",\"\",IF(入力シート!$E247=\"\",TEXT(入力シート!$B247,\"00\"),入力シート!$E247))","v":""},null,null,{"$f":"IF(入力シート!I247=\"\",\"\",入力シート!I247)","v":""},null,null,null,null,null,null,null,null,null,null,null,null,null,null,null,null,"","","",{"$f":"IF($AC239=\"\",\"\",入力シート!F247)","v":""},{"$f":"IF($AC239=\"\",\"\",入力シート!G247)","v":""},{"$f":"IF($AC239=\"\",\"\",入力シート!H247)","v":""},""]
[{"$f":"IF(入力シート!$B248=\"\",\"\",大会コード)","v":""},{"$f":"IF(入力シート!$B248=\"\",\"\",VLOOKUP(入力シート!$C248,大会データ!$A$5:$F$374,3,FALSE))","v":""},{"$f":"IF(入力シート!$B248=\"\",\"\",VLOOKUP(入力シート!$C248,大会データ!$A$5:$F$374,4,FALSE))","v":""},{"$f":"IF(入力シート!$B248=\"\",\"\",VLOOKUP(入力シート!$C248,大会データ!$A$5:$F$374,5,FALSE))","v":""},{"$f":"IF(入力シート!$B248=\"\",\"\",基礎データ!$B$6)","v":""},{"$f":"IF(入力シート!$B248=\"\",\"\",B240)","v":""},{"$f":"IF(入力シート!$B248=\"\",\"\",IF(入力シート!$E248=\"\",TEXT(入力シート!$B248,\"00\"),入力シート!$E248))","v":""},null,null,{"$f":"IF(入力シート!I248=\"\",\"\",入力シート!I248)","v":""},null,null,null,null,null,null,null,null,null,null,null,null,null,null,null,null,"","","",{"$f":"IF($AC240=\"\",\"\",入力シート!F248)","v":""},{"$f":"IF($AC240=\"\",\"\",入力シート!G248)","v":""},{"$f":"IF($AC240=\"\",\"\",入力シート!H248)","v":""},""]
[{"$f":"IF(入力シート!$B249=\"\",\"\",大会コード)","v":""},{"$f":"IF(入力シート!$B249=\"\",\"\",VLOOKUP(入力シート!$C249,大会データ!$A$5:$F$374,3,FALSE))","v":""},{"$f":"IF(入力シート!$B249=\"\",\"\",VLOOKUP(入力シート!$C249,大会データ!$A$5:$F$374,4,FALSE))","v":""},{"$f":"IF(入力シート!$B249=\"\",\"\",VLOOKUP(入力シート!$C249,大会データ!$A$5:$F$374,5,FALSE))","v":""},{"$f":"IF(入力シート!$B249=\"\",\"\",基礎データ!$B$6)","v":""},{"$f":"IF(入力シート!$B249=\"\",\"\",B241)","v":""},{"$f":"IF(入力シート!$B249=\"\",\"\",IF(入力シート!$E249=\"\",TEXT(入力シート!$B249,\"00\"),入力シート!$E249))","v":""},null,null,{"$f":"IF(入力シート!I249=\"\",\"\",入力シート!I249)","v":""},null,null,null,null,null,null,null,null,null,null,null,null,null,null,null,null,"","","",{"$f":"IF($AC241=\"\",\"\",入力シート!F249)","v":""},{"$f":"IF($AC241=\"\",\"\",入力シート!G249)","v":""},{"$f":"IF($AC241=\"\",\"\",入力シート!H249)","v":""},""]
[{"$f":"IF(入力シート!$B250=\"\",\"\",大会コード)","v":""},{"$f":"IF(入力シート!$B250=\"\",\"\",VLOOKUP(入力シート!$C250,大会データ!$A$5:$F$374,3,FALSE))","v":""},{"$f":"IF(入力シート!$B250=\"\",\"\",VLOOKUP(入力シート!$C250,大会データ!$A$5:$F$374,4,FALSE))","v":""},{"$f":"IF(入力シート!$B250=\"\",\"\",VLOOKUP(入力シート!$C250,大会データ!$A$5:$F$374,5,FALSE))","v":""},{"$f":"IF(入力シート!$B250=\"\",\"\",基礎データ!$B$6)","v":""},{"$f":"IF(入力シート!$B250=\"\",\"\",B242)","v":""},{"$f":"IF(入力シート!$B250=\"\",\"\",IF(入力シート!$E250=\"\",TEXT(入力シート!$B250,\"00\"),入力シート!$E250))","v":""},null,null,{"$f":"IF(入力シート!I250=\"\",\"\",入力シート!I250)","v":""},null,null,null,null,null,null,null,null,null,null,null,null,null,null,null,null,"","","",{"$f":"IF($AC242=\"\",\"\",入力シート!F250)","v":""},{"$f":"IF($AC242=\"\",\"\",入力シート!G250)","v":""},{"$f":"IF($AC242=\"\",\"\",入力シート!H250)","v":""},""]
[{"$f":"IF(入力シート!$B251=\"\",\"\",大会コード)","v":""},{"$f":"IF(入力シート!$B251=\"\",\"\",VLOOKUP(入力シート!$C251,大会データ!$A$5:$F$374,3,FALSE))","v":""},{"$f":"IF(入力シート!$B251=\"\",\"\",VLOOKUP(入力シート!$C251,大会データ!$A$5:$F$374,4,FALSE))","v":""},{"$f":"IF(入力シート!$B251=\"\",\"\",VLOOKUP(入力シート!$C251,大会データ!$A$5:$F$374,5,FALSE))","v":""},{"$f":"IF(入力シート!$B251=\"\",\"\",基礎データ!$B$6)","v":""},{"$f":"IF(入力シート!$B251=\"\",\"\",B243)","v":""},{"$f":"IF(入力シート!$B251=\"\",\"\",IF(入力シート!$E251=\"\",TEXT(入力シート!$B251,\"00\"),入力シート!$E251))","v":""},null,null,{"$f":"IF(入力シート!I251=\"\",\"\",入力シート!I251)","v":""},null,null,null,null,null,null,null,null,null,null,null,null,null,null,null,null,"","","",{"$f":"IF($AC243=\"\",\"\",入力シート!F251)","v":""},{"$f":"IF($AC243=\"\",\"\",入力シート!G251)","v":""},{"$f":"IF($AC243=\"\",\"\",入力シート!H251)","v":""},""]
[{"$f":"IF(入力シート!$B252=\"\",\"\",大会コード)","v":""},{"$f":"IF(入力シート!$B252=\"\",\"\",VLOOKUP(入力シート!$C252,大会データ!$A$5:$F$374,3,FALSE))","v":""},{"$f":"IF(入力シート!$B252=\"\",\"\",VLOOKUP(入力シート!$C252,大会データ!$A$5:$F$374,4,FALSE))","v":""},{"$f":"IF(入力シート!$B252=\"\",\"\",VLOOKUP(入力シート!$C252,大会データ!$A$5:$F$374,5,FALSE))","v":""},{"$f":"IF(入力シート!$B252=\"\",\"\",基礎データ!$B$6)","v":""},{"$f":"IF(入力シート!$B252=\"\",\"\",B244)","v":""},{"$f":"IF(入力シート!$B252=\"\",\"\",IF(入力シート!$E252=\"\",TEXT(入力シート!$B252,\"00\"),入力シート!$E252))","v":""},null,null,{"$f":"IF(入力シート!I252=\"\",\"\",入力シート!I252)","v":""},null,null,null,null,null,null,null,null,null,null,null,null,null,null,null,null,"","","",{"$f":"IF($AC244=\"\",\"\",入力シート!F252)","v":""},{"$f":"IF($AC244=\"\",\"\",入力シート!G252)","v":""},{"$f":"IF($AC244=\"\",\"\",入力シート!H252)","v":""},""]
[{"$f":"IF(入力シート!$B253=\"\",\"\",大会コード)","v":""},{"$f":"IF(入力シート!$B253=\"\",\"\",VLOOKUP(入力シート!$C253,大会データ!$A$5:$F$374,3,FALSE))","v":""},{"$f":"IF(入力シート!$B253=\"\",\"\",VLOOKUP(入力シート!$C253,大会データ!$A$5:$F$374,4,FALSE))","v":""},{"$f":"IF(入力シート!$B253=\"\",\"\",VLOOKUP(入力シート!$C253,大会データ!$A$5:$F$374,5,FALSE))","v":""},{"$f":"IF(入力シート!$B253=\"\",\"\",基礎データ!$B$6)","v":""},{"$f":"IF(入力シート!$B253=\"\",\"\",B245)","v":""},{"$f":"IF(入力シート!$B253=\"\",\"\",IF(入力シート!$E253=\"\",TEXT(入力シート!$B253,\"00\"),入力シート!$E253))","v":""},null,null,{"$f":"IF(入力シート!I253=\"\",\"\",入力シート!I253)","v":""},null,null,null,null,null,null,null,null,null,null,null,null,null,null,null,null,"","","",{"$f":"IF($AC245=\"\",\"\",入力シート!F253)","v":""},{"$f":"IF($AC245=\"\",\"\",入力シート!G253)","v":""},{"$f":"IF($AC245=\"\",\"\",入力シート!H253)","v":""},""]
[{"$f":"IF(入力シート!$B254=\"\",\"\",大会コード)","v":""},{"$f":"IF(入力シート!$B254=\"\",\"\",VLOOKUP(入力シート!$C254,大会データ!$A$5:$F$374,3,FALSE))","v":""},{"$f":"IF(入力シート!$B254=\"\",\"\",VLOOKUP(入力シート!$C254,大会データ!$A$5:$F$374,4,FALSE))","v":""},{"$f":"IF(入力シート!$B254=\"\",\"\",VLOOKUP(入力シート!$C254,大会データ!$A$5:$F$374,5,FALSE))","v":""},{"$f":"IF(入力シート!$B254=\"\",\"\",基礎データ!$B$6)","v":""},{"$f":"IF(入力シート!$B254=\"\",\"\",B246)","v":""},{"$f":"IF(入力シート!$B254=\"\",\"\",IF(入力シート!$E254=\"\",TEXT(入力シート!$B254,\"00\"),入力シート!$E254))","v":""},null,null,{"$f":"IF(入力シート!I254=\"\",\"\",入力シート!I254)","v":""},null,null,null,null,null,null,null,null,null,null,null,null,null,null,null,null,"","","",{"$f":"IF($AC246=\"\",\"\",入力シート!F254)","v":""},{"$f":"IF($AC246=\"\",\"\",入力シート!G254)","v":""},{"$f":"IF($AC246=\"\",\"\",入力シート!H254)","v":""},""]
[{"$f":"IF(入力シート!$B255=\"\",\"\",大会コード)","v":""},{"$f":"IF(入力シート!$B255=\"\",\"\",VLOOKUP(入力シート!$C255,大会データ!$A$5:$F$374,3,FALSE))","v":""},{"$f":"IF(入力シート!$B255=\"\",\"\",VLOOKUP(入力シート!$C255,大会データ!$A$5:$F$374,4,FALSE))","v":""},{"$f":"IF(入力シート!$B255=\"\",\"\",VLOOKUP(入力シート!$C255,大会データ!$A$5:$F$374,5,FALSE))","v":""},{"$f":"IF(入力シート!$B255=\"\",\"\",基礎データ!$B$6)","v":""},{"$f":"IF(入力シート!$B255=\"\",\"\",B247)","v":""},{"$f":"IF(入力シート!$B255=\"\",\"\",IF(入力シート!$E255=\"\",TEXT(入力シート!$B255,\"00\"),入力シート!$E255))","v":""},null,null,{"$f":"IF(入力シート!I255=\"\",\"\",入力シート!I255)","v":""},null,null,null,null,null,null,null,null,null,null,null,null,null,null,null,null,"","","",{"$f":"IF($AC247=\"\",\"\",入力シート!F255)","v":""},{"$f":"IF($AC247=\"\",\"\",入力シート!G255)","v":""},{"$f":"IF($AC247=\"\",\"\",入力シート!H255)","v":""},""]
[{"$f":"IF(入力シート!$B256=\"\",\"\",大会コード)","v":""},{"$f":"IF(入力シート!$B256=\"\",\"\",VLOOKUP(入力シート!$C256,大会データ!$A$5:$F$374,3,FALSE))","v":""},{"$f":"IF(入力シート!$B256=\"\",\"\",VLOOKUP(入力シート!$C256,大会データ!$A$5:$F$374,4,FALSE))","v":""},{"$f":"IF(入力シート!$B256=\"\",\"\",VLOOKUP(入力シート!$C256,大会データ!$A$5:$F$374,5,FALSE))","v":""},{"$f":"IF(入力シート!$B256=\"\",\"\",基礎データ!$B$6)","v":""},{"$f":"IF(入力シート!$B256=\"\",\"\",B248)","v":""},{"$f":"IF(入力シート!$B256=\"\",\"\",IF(入力シート!$E256=\"\",TEXT(入力シート!$B256,\"00\"),入力シート!$E256))","v":""},null,null,{"$f":"IF(入力シート!I256=\"\",\"\",入力シート!I256)","v":""},null,null,null,null,null,null,null,null,null,null,null,null,null,null,null,null,"","","",{"$f":"IF($AC248=\"\",\"\",入力シート!F256)","v":""},{"$f":"IF($AC248=\"\",\"\",入力シート!G256)","v":""},{"$f":"IF($AC248=\"\",\"\",入力シート!H256)","v":""},""]
[{"$f":"IF(入力シート!$B257=\"\",\"\",大会コード)","v":""},{"$f":"IF(入力シート!$B257=\"\",\"\",VLOOKUP(入力シート!$C257,大会データ!$A$5:$F$374,3,FALSE))","v":""},{"$f":"IF(入力シート!$B257=\"\",\"\",VLOOKUP(入力シート!$C257,大会データ!$A$5:$F$374,4,FALSE))","v":""},{"$f":"IF(入力シート!$B257=\"\",\"\",VLOOKUP(入力シート!$C257,大会データ!$A$5:$F$374,5,FALSE))","v":""},{"$f":"IF(入力シート!$B257=\"\",\"\",基礎データ!$B$6)","v":""},{"$f":"IF(入力シート!$B257=\"\",\"\",B249)","v":""},{"$f":"IF(入力シート!$B257=\"\",\"\",IF(入力シート!$E257=\"\",TEXT(入力シート!$B257,\"00\"),入力シート!$E257))","v":""},null,null,{"$f":"IF(入力シート!I257=\"\",\"\",入力シート!I257)","v":""},null,null,null,null,null,null,null,null,null,null,null,null,null,null,null,null,"","","",{"$f":"IF($AC249=\"\",\"\",入力シート!F257)","v":""},{"$f":"IF($AC249=\"\",\"\",入力シート!G257)","v":""},{"$f":"IF($AC249=\"\",\"\",入力シート!H257)","v":""},""]
[{"$f":"IF(入力シート!$B258=\"\",\"\",大会コード)","v":""},{"$f":"IF(入力シート!$B258=\"\",\"\",VLOOKUP(入力シート!$C258,大会データ!$A$5:$F$374,3,FALSE))","v":""},{"$f":"IF(入力シート!$B258=\"\",\"\",VLOOKUP(入力シート!$C258,大会データ!$A$5:$F$374,4,FALSE))","v":""},{"$f":"IF(入力シート!$B258=\"\",\"\",VLOOKUP(入力シート!$C258,大会データ!$A$5:$F$374,5,FALSE))","v":""},{"$f":"IF(入力シート!$B258=\"\",\"\",基礎データ!$B$6)","v":""},{"$f":"IF(入力シート!$B258=\"\",\"\",B250)","v":""},{"$f":"IF(入力シート!$B258=\"\",\"\",IF(入力シート!$E258=\"\",TEXT(入力シート!$B258,\"00\"),入力シート!$E258))","v":""},null,null,{"$f":"IF(入力シート!I258=\"\",\"\",入力シート!I258)","v":""},null,null,null,null,null,null,null,null,null,null,null,null,null,null,null,null,"","","",{"$f":"IF($AC250=\"\",\"\",入力シート!F258)","v":""},{"$f":"IF($AC250=\"\",\"\",入力シート!G258)","v":""},{"$f":"IF($AC250=\"\",\"\",入力シート!H258)","v":""},""]
[{"$f":"IF(入力シート!$B259=\"\",\"\",大会コード)","v":""},{"$f":"IF(入力シート!$B259=\"\",\"\",VLOOKUP(入力シート!$C259,大会データ!$A$5:$F$374,3,FALSE))","v":""},{"$f":"IF(入力シート!$B259=\"\",\"\",VLOOKUP(入力シート!$C259,大会データ!$A$5:$F$374,4,FALSE))","v":""},{"$f":"IF(入力シート!$B259=\"\",\"\",VLOOKUP(入力シート!$C259,大会データ!$A$5:$F$374,5,FALSE))","v":""},{"$f":"IF(入力シート!$B259=\"\",\"\",基礎データ!$B$6)","v":""},{"$f":"IF(入力シート!$B259=\"\",\"\",B251)","v":""},{"$f":"IF(入力シート!$B259=\"\",\"\",IF(入力シート!$E259=\"\",TEXT(入力シート!$B259,\"00\"),入力シート!$E259))","v":""},null,null,{"$f":"IF(入力シート!I259=\"\",\"\",入力シート!I259)","v":""},null,null,null,null,null,null,null,null,null,null,null,null,null,null,null,null,"","","",{"$f":"IF($AC251=\"\",\"\",入力シート!F259)","v":""},{"$f":"IF($AC251=\"\",\"\",入力シート!G259)","v":""},{"$f":"IF($AC251=\"\",\"\",入力シート!H259)","v":""},""]
[{"$f":"IF(入力シート!$B260=\"\",\"\",大会コード)","v":""},{"$f":"IF(入力シート!$B260=\"\",\"\",VLOOKUP(入力シート!$C260,大会データ!$A$5:$F$374,3,FALSE))","v":""},{"$f":"IF(入力シート!$B260=\"\",\"\",VLOOKUP(入力シート!$C260,大会データ!$A$5:$F$374,4,FALSE))","v":""},{"$f":"IF(入力シート!$B260=\"\",\"\",VLOOKUP(入力シート!$C260,大会データ!$A$5:$F$374,5,FALSE))","v":""},{"$f":"IF(入力シート!$B260=\"\",\"\",基礎データ!$B$6)","v":""},{"$f":"IF(入力シート!$B260=\"\",\"\",B252)","v":""},{"$f":"IF(入力シート!$B260=\"\",\"\",IF(入力シート!$E260=\"\",TEXT(入力シート!$B260,\"00\"),入力シート!$E260))","v":""},null,null,{"$f":"IF(入力シート!I260=\"\",\"\",入力シート!I260)","v":""},null,null,null,null,null,null,null,null,null,null,null,null,null,null,null,null,"","","",{"$f":"IF($AC252=\"\",\"\",入力シート!F260)","v":""},{"$f":"IF($AC252=\"\",\"\",入力シート!G260)","v":""},{"$f":"IF($AC252=\"\",\"\",入力シート!H260)","v":""},""]
[{"$f":"IF(入力シート!$B261=\"\",\"\",大会コード)","v":""},{"$f":"IF(入力シート!$B261=\"\",\"\",VLOOKUP(入力シート!$C261,大会データ!$A$5:$F$374,3,FALSE))","v":""},{"$f":"IF(入力シート!$B261=\"\",\"\",VLOOKUP(入力シート!$C261,大会データ!$A$5:$F$374,4,FALSE))","v":""},{"$f":"IF(入力シート!$B261=\"\",\"\",VLOOKUP(入力シート!$C261,大会データ!$A$5:$F$374,5,FALSE))","v":""},{"$f":"IF(入力シート!$B261=\"\",\"\",基礎データ!$B$6)","v":""},{"$f":"IF(入力シート!$B261=\"\",\"\",B253)","v":""},{"$f":"IF(入力シート!$B261=\"\",\"\",IF(入力シート!$E261=\"\",TEXT(入力シート!$B261,\"00\"),入力シート!$E261))","v":""},null,null,{"$f":"IF(入力シート!I261=\"\",\"\",入力シート!I261)","v":""},null,null,null,null,null,null,null,null,null,null,null,null,null,null,null,null,"","","",{"$f":"IF($AC253=\"\",\"\",入力シート!F261)","v":""},{"$f":"IF($AC253=\"\",\"\",入力シート!G261)","v":""},{"$f":"IF($AC253=\"\",\"\",入力シート!H261)","v":""},""]
[{"$f":"IF(入力シート!$B262=\"\",\"\",大会コード)","v":""},{"$f":"IF(入力シート!$B262=\"\",\"\",VLOOKUP(入力シート!$C262,大会データ!$A$5:$F$374,3,FALSE))","v":""},{"$f":"IF(入力シート!$B262=\"\",\"\",VLOOKUP(入力シート!$C262,大会データ!$A$5:$F$374,4,FALSE))","v":""},{"$f":"IF(入力シート!$B262=\"\",\"\",VLOOKUP(入力シート!$C262,大会データ!$A$5:$F$374,5,FALSE))","v":""},{"$f":"IF(入力シート!$B262=\"\",\"\",基礎データ!$B$6)","v":""},{"$f":"IF(入力シート!$B262=\"\",\"\",B254)","v":""},{"$f":"IF(入力シート!$B262=\"\",\"\",IF(入力シート!$E262=\"\",TEXT(入力シート!$B262,\"00\"),入力シート!$E262))","v":""},null,null,{"$f":"IF(入力シート!I262=\"\",\"\",入力シート!I262)","v":""},null,null,null,null,null,null,null,null,null,null,null,null,null,null,null,null,"","","",{"$f":"IF($AC254=\"\",\"\",入力シート!F262)","v":""},{"$f":"IF($AC254=\"\",\"\",入力シート!G262)","v":""},{"$f":"IF($AC254=\"\",\"\",入力シート!H262)","v":""},""]
[{"$f":"IF(入力シート!$B263=\"\",\"\",大会コード)","v":""},{"$f":"IF(入力シート!$B263=\"\",\"\",VLOOKUP(入力シート!$C263,大会データ!$A$5:$F$374,3,FALSE))","v":""},{"$f":"IF(入力シート!$B263=\"\",\"\",VLOOKUP(入力シート!$C263,大会データ!$A$5:$F$374,4,FALSE))","v":""},{"$f":"IF(入力シート!$B263=\"\",\"\",VLOOKUP(入力シート!$C263,大会データ!$A$5:$F$374,5,FALSE))","v":""},{"$f":"IF(入力シート!$B263=\"\",\"\",基礎データ!$B$6)","v":""},{"$f":"IF(入力シート!$B263=\"\",\"\",B255)","v":""},{"$f":"IF(入力シート!$B263=\"\",\"\",IF(入力シート!$E263=\"\",TEXT(入力シート!$B263,\"00\"),入力シート!$E263))","v":""},null,null,{"$f":"IF(入力シート!I263=\"\",\"\",入力シート!I263)","v":""},null,null,null,null,null,null,null,null,null,null,null,null,null,null,null,null,"","","",{"$f":"IF($AC255=\"\",\"\",入力シート!F263)","v":""},{"$f":"IF($AC255=\"\",\"\",入力シート!G263)","v":""},{"$f":"IF($AC255=\"\",\"\",入力シート!H263)","v":""},""]
[{"$f":"IF(入力シート!$B264=\"\",\"\",大会コード)","v":""},{"$f":"IF(入力シート!$B264=\"\",\"\",VLOOKUP(入力シート!$C264,大会データ!$A$5:$F$374,3,FALSE))","v":""},{"$f":"IF(入力シート!$B264=\"\",\"\",VLOOKUP(入力シート!$C264,大会データ!$A$5:$F$374,4,FALSE))","v":""},{"$f":"IF(入力シート!$B264=\"\",\"\",VLOOKUP(入力シート!$C264,大会データ!$A$5:$F$374,5,FALSE))","v":""},{"$f":"IF(入力シート!$B264=\"\",\"\",基礎データ!$B$6)","v":""},{"$f":"IF(入力シート!$B264=\"\",\"\",B256)","v":""},{"$f":"IF(入力シート!$B264=\"\",\"\",IF(入力シート!$E264=\"\",TEXT(入力シート!$B264,\"00\"),入力シート!$E264))","v":""},null,null,{"$f":"IF(入力シート!I264=\"\",\"\",入力シート!I264)","v":""},null,null,null,null,null,null,null,null,null,null,null,null,null,null,null,null,"","","",{"$f":"IF($AC256=\"\",\"\",入力シート!F264)","v":""},{"$f":"IF($AC256=\"\",\"\",入力シート!G264)","v":""},{"$f":"IF($AC256=\"\",\"\",入力シート!H264)","v":""},""]
[{"$f":"IF(入力シート!$B265=\"\",\"\",大会コード)","v":""},{"$f":"IF(入力シート!$B265=\"\",\"\",VLOOKUP(入力シート!$C265,大会データ!$A$5:$F$374,3,FALSE))","v":""},{"$f":"IF(入力シート!$B265=\"\",\"\",VLOOKUP(入力シート!$C265,大会データ!$A$5:$F$374,4,FALSE))","v":""},{"$f":"IF(入力シート!$B265=\"\",\"\",VLOOKUP(入力シート!$C265,大会データ!$A$5:$F$374,5,FALSE))","v":""},{"$f":"IF(入力シート!$B265=\"\",\"\",基礎データ!$B$6)","v":""},{"$f":"IF(入力シート!$B265=\"\",\"\",B257)","v":""},{"$f":"IF(入力シート!$B265=\"\",\"\",IF(入力シート!$E265=\"\",TEXT(入力シート!$B265,\"00\"),入力シート!$E265))","v":""},null,null,{"$f":"IF(入力シート!I265=\"\",\"\",入力シート!I265)","v":""},null,null,null,null,null,null,null,null,null,null,null,null,null,null,null,null,"","","",{"$f":"IF($AC257=\"\",\"\",入力シート!F265)","v":""},{"$f":"IF($AC257=\"\",\"\",入力シート!G265)","v":""},{"$f":"IF($AC257=\"\",\"\",入力シート!H265)","v":""},""]
[{"$f":"IF(入力シート!$B266=\"\",\"\",大会コード)","v":""},{"$f":"IF(入力シート!$B266=\"\",\"\",VLOOKUP(入力シート!$C266,大会データ!$A$5:$F$374,3,FALSE))","v":""},{"$f":"IF(入力シート!$B266=\"\",\"\",VLOOKUP(入力シート!$C266,大会データ!$A$5:$F$374,4,FALSE))","v":""},{"$f":"IF(入力シート!$B266=\"\",\"\",VLOOKUP(入力シート!$C266,大会データ!$A$5:$F$374,5,FALSE))","v":""},{"$f":"IF(入力シート!$B266=\"\",\"\",基礎データ!$B$6)","v":""},{"$f":"IF(入力シート!$B266=\"\",\"\",B258)","v":""},{"$f":"IF(入力シート!$B266=\"\",\"\",IF(入力シート!$E266=\"\",TEXT(入力シート!$B266,\"00\"),入力シート!$E266))","v":""},null,null,{"$f":"IF(入力シート!I266=\"\",\"\",入力シート!I266)","v":""},null,null,null,null,null,null,null,null,null,null,null,null,null,null,null,null,"","","",{"$f":"IF($AC258=\"\",\"\",入力シート!F266)","v":""},{"$f":"IF($AC258=\"\",\"\",入力シート!G266)","v":""},{"$f":"IF($AC258=\"\",\"\",入力シート!H266)","v":""},""]
[{"$f":"IF(入力シート!$B267=\"\",\"\",大会コード)","v":""},{"$f":"IF(入力シート!$B267=\"\",\"\",VLOOKUP(入力シート!$C267,大会データ!$A$5:$F$374,3,FALSE))","v":""},{"$f":"IF(入力シート!$B267=\"\",\"\",VLOOKUP(入力シート!$C267,大会データ!$A$5:$F$374,4,FALSE))","v":""},{"$f":"IF(入力シート!$B267=\"\",\"\",VLOOKUP(入力シート!$C267,大会データ!$A$5:$F$374,5,FALSE))","v":""},{"$f":"IF(入力シート!$B267=\"\",\"\",基礎データ!$B$6)","v":""},{"$f":"IF(入力シート!$B267=\"\",\"\",B259)","v":""},{"$f":"IF(入力シート!$B267=\"\",\"\",IF(入力シート!$E267=\"\",TEXT(入力シート!$B267,\"00\"),入力シート!$E267))","v":""},null,null,{"$f":"IF(入力シート!I267=\"\",\"\",入力シート!I267)","v":""},null,null,null,null,null,null,null,null,null,null,null,null,null,null,null,null,"","","",{"$f":"IF($AC259=\"\",\"\",入力シート!F267)","v":""},{"$f":"IF($AC259=\"\",\"\",入力シート!G267)","v":""},{"$f":"IF($AC259=\"\",\"\",入力シート!H267)","v":""},""]
[{"$f":"IF(入力シート!$B268=\"\",\"\",大会コード)","v":""},{"$f":"IF(入力シート!$B268=\"\",\"\",VLOOKUP(入力シート!$C268,大会データ!$A$5:$F$374,3,FALSE))","v":""},{"$f":"IF(入力シート!$B268=\"\",\"\",VLOOKUP(入力シート!$C268,大会データ!$A$5:$F$374,4,FALSE))","v":""},{"$f":"IF(入力シート!$B268=\"\",\"\",VLOOKUP(入力シート!$C268,大会データ!$A$5:$F$374,5,FALSE))","v":""},{"$f":"IF(入力シート!$B268=\"\",\"\",基礎データ!$B$6)","v":""},{"$f":"IF(入力シート!$B268=\"\",\"\",B260)","v":""},{"$f":"IF(入力シート!$B268=\"\",\"\",IF(入力シート!$E268=\"\",TEXT(入力シート!$B268,\"00\"),入力シート!$E268))","v":""},null,null,{"$f":"IF(入力シート!I268=\"\",\"\",入力シート!I268)","v":""},null,null,null,null,null,null,null,null,null,null,null,null,null,null,null,null,"","","",{"$f":"IF($AC260=\"\",\"\",入力シート!F268)","v":""},{"$f":"IF($AC260=\"\",\"\",入力シート!G268)","v":""},{"$f":"IF($AC260=\"\",\"\",入力シート!H268)","v":""},""]
[{"$f":"IF(入力シート!$B269=\"\",\"\",大会コード)","v":""},{"$f":"IF(入力シート!$B269=\"\",\"\",VLOOKUP(入力シート!$C269,大会データ!$A$5:$F$374,3,FALSE))","v":""},{"$f":"IF(入力シート!$B269=\"\",\"\",VLOOKUP(入力シート!$C269,大会データ!$A$5:$F$374,4,FALSE))","v":""},{"$f":"IF(入力シート!$B269=\"\",\"\",VLOOKUP(入力シート!$C269,大会データ!$A$5:$F$374,5,FALSE))","v":""},{"$f":"IF(入力シート!$B269=\"\",\"\",基礎データ!$B$6)","v":""},{"$f":"IF(入力シート!$B269=\"\",\"\",B261)","v":""},{"$f":"IF(入力シート!$B269=\"\",\"\",IF(入力シート!$E269=\"\",TEXT(入力シート!$B269,\"00\"),入力シート!$E269))","v":""},null,null,{"$f":"IF(入力シート!I269=\"\",\"\",入力シート!I269)","v":""},null,null,null,null,null,null,null,null,null,null,null,null,null,null,null,null,{"$f":"E261","v":""},{"$f":"B261","v":""},{"$f":"G261","v":""},{"$f":"IF($AC261=\"\",\"\",入力シート!F269)","v":""},{"$f":"IF($AC261=\"\",\"\",入力シート!G269)","v":""},{"$f":"IF($AC261=\"\",\"\",入力シート!H269)","v":""},{"$f":"IF($AC261=\"\",\"\",2016-AF261)","v":""}]
[{"$f":"IF(入力シート!$B270=\"\",\"\",大会コード)","v":""},{"$f":"IF(入力シート!$B270=\"\",\"\",VLOOKUP(入力シート!$C270,大会データ!$A$5:$F$374,3,FALSE))","v":""},{"$f":"IF(入力シート!$B270=\"\",\"\",VLOOKUP(入力シート!$C270,大会データ!$A$5:$F$374,4,FALSE))","v":""},{"$f":"IF(入力シート!$B270=\"\",\"\",VLOOKUP(入力シート!$C270,大会データ!$A$5:$F$374,5,FALSE))","v":""},{"$f":"IF(入力シート!$B270=\"\",\"\",基礎データ!$B$6)","v":""},{"$f":"IF(入力シート!$B270=\"\",\"\",B262)","v":""},{"$f":"IF(入力シート!$B270=\"\",\"\",IF(入力シート!$E270=\"\",TEXT(入力シート!$B270,\"00\"),入力シート!$E270))","v":""},null,null,{"$f":"IF(入力シート!I270=\"\",\"\",入力シート!I270)","v":""},null,null,null,null,null,null,null,null,null,null,null,null,null,null,null,null,"","","",{"$f":"IF($AC262=\"\",\"\",入力シート!F270)","v":""},{"$f":"IF($AC262=\"\",\"\",入力シート!G270)","v":""},{"$f":"IF($AC262=\"\",\"\",入力シート!H270)","v":""},""]
[{"$f":"IF(入力シート!$B271=\"\",\"\",大会コード)","v":""},{"$f":"IF(入力シート!$B271=\"\",\"\",VLOOKUP(入力シート!$C271,大会データ!$A$5:$F$374,3,FALSE))","v":""},{"$f":"IF(入力シート!$B271=\"\",\"\",VLOOKUP(入力シート!$C271,大会データ!$A$5:$F$374,4,FALSE))","v":""},{"$f":"IF(入力シート!$B271=\"\",\"\",VLOOKUP(入力シート!$C271,大会データ!$A$5:$F$374,5,FALSE))","v":""},{"$f":"IF(入力シート!$B271=\"\",\"\",基礎データ!$B$6)","v":""},{"$f":"IF(入力シート!$B271=\"\",\"\",B263)","v":""},{"$f":"IF(入力シート!$B271=\"\",\"\",IF(入力シート!$E271=\"\",TEXT(入力シート!$B271,\"00\"),入力シート!$E271))","v":""},null,null,{"$f":"IF(入力シート!I271=\"\",\"\",入力シート!I271)","v":""},null,null,null,null,null,null,null,null,null,null,null,null,null,null,null,null,"","","",{"$f":"IF($AC263=\"\",\"\",入力シート!F271)","v":""},{"$f":"IF($AC263=\"\",\"\",入力シート!G271)","v":""},{"$f":"IF($AC263=\"\",\"\",入力シート!H271)","v":""},""]
[{"$f":"IF(入力シート!$B272=\"\",\"\",大会コード)","v":""},{"$f":"IF(入力シート!$B272=\"\",\"\",VLOOKUP(入力シート!$C272,大会データ!$A$5:$F$374,3,FALSE))","v":""},{"$f":"IF(入力シート!$B272=\"\",\"\",VLOOKUP(入力シート!$C272,大会データ!$A$5:$F$374,4,FALSE))","v":""},{"$f":"IF(入力シート!$B272=\"\",\"\",VLOOKUP(入力シート!$C272,大会データ!$A$5:$F$374,5,FALSE))","v":""},{"$f":"IF(入力シート!$B272=\"\",\"\",基礎データ!$B$6)","v":""},{"$f":"IF(入力シート!$B272=\"\",\"\",B264)","v":""},{"$f":"IF(入力シート!$B272=\"\",\"\",IF(入力シート!$E272=\"\",TEXT(入力シート!$B272,\"00\"),入力シート!$E272))","v":""},null,null,{"$f":"IF(入力シート!I272=\"\",\"\",入力シート!I272)","v":""},null,null,null,null,null,null,null,null,null,null,null,null,null,null,null,null,"","","",{"$f":"IF($AC264=\"\",\"\",入力シート!F272)","v":""},{"$f":"IF($AC264=\"\",\"\",入力シート!G272)","v":""},{"$f":"IF($AC264=\"\",\"\",入力シート!H272)","v":""},""]
[{"$f":"IF(入力シート!$B273=\"\",\"\",大会コード)","v":""},{"$f":"IF(入力シート!$B273=\"\",\"\",VLOOKUP(入力シート!$C273,大会データ!$A$5:$F$374,3,FALSE))","v":""},{"$f":"IF(入力シート!$B273=\"\",\"\",VLOOKUP(入力シート!$C273,大会データ!$A$5:$F$374,4,FALSE))","v":""},{"$f":"IF(入力シート!$B273=\"\",\"\",VLOOKUP(入力シート!$C273,大会データ!$A$5:$F$374,5,FALSE))","v":""},{"$f":"IF(入力シート!$B273=\"\",\"\",基礎データ!$B$6)","v":""},{"$f":"IF(入力シート!$B273=\"\",\"\",B265)","v":""},{"$f":"IF(入力シート!$B273=\"\",\"\",IF(入力シート!$E273=\"\",TEXT(入力シート!$B273,\"00\"),入力シート!$E273))","v":""},null,null,{"$f":"IF(入力シート!I273=\"\",\"\",入力シート!I273)","v":""},null,null,null,null,null,null,null,null,null,null,null,null,null,null,null,null,"","","",{"$f":"IF($AC265=\"\",\"\",入力シート!F273)","v":""},{"$f":"IF($AC265=\"\",\"\",入力シート!G273)","v":""},{"$f":"IF($AC265=\"\",\"\",入力シート!H273)","v":""},""]
[{"$f":"IF(入力シート!$B274=\"\",\"\",大会コード)","v":""},{"$f":"IF(入力シート!$B274=\"\",\"\",VLOOKUP(入力シート!$C274,大会データ!$A$5:$F$374,3,FALSE))","v":""},{"$f":"IF(入力シート!$B274=\"\",\"\",VLOOKUP(入力シート!$C274,大会データ!$A$5:$F$374,4,FALSE))","v":""},{"$f":"IF(入力シート!$B274=\"\",\"\",VLOOKUP(入力シート!$C274,大会データ!$A$5:$F$374,5,FALSE))","v":""},{"$f":"IF(入力シート!$B274=\"\",\"\",基礎データ!$B$6)","v":""},{"$f":"IF(入力シート!$B274=\"\",\"\",B266)","v":""},{"$f":"IF(入力シート!$B274=\"\",\"\",IF(入力シート!$E274=\"\",TEXT(入力シート!$B274,\"00\"),入力シート!$E274))","v":""},null,null,{"$f":"IF(入力シート!I274=\"\",\"\",入力シート!I274)","v":""},null,null,null,null,null,null,null,null,null,null,null,null,null,null,null,null,"","","",{"$f":"IF($AC266=\"\",\"\",入力シート!F274)","v":""},{"$f":"IF($AC266=\"\",\"\",入力シート!G274)","v":""},{"$f":"IF($AC266=\"\",\"\",入力シート!H274)","v":""},""]
[{"$f":"IF(入力シート!$B275=\"\",\"\",大会コード)","v":""},{"$f":"IF(入力シート!$B275=\"\",\"\",VLOOKUP(入力シート!$C275,大会データ!$A$5:$F$374,3,FALSE))","v":""},{"$f":"IF(入力シート!$B275=\"\",\"\",VLOOKUP(入力シート!$C275,大会データ!$A$5:$F$374,4,FALSE))","v":""},{"$f":"IF(入力シート!$B275=\"\",\"\",VLOOKUP(入力シート!$C275,大会データ!$A$5:$F$374,5,FALSE))","v":""},{"$f":"IF(入力シート!$B275=\"\",\"\",基礎データ!$B$6)","v":""},{"$f":"IF(入力シート!$B275=\"\",\"\",B267)","v":""},{"$f":"IF(入力シート!$B275=\"\",\"\",IF(入力シート!$E275=\"\",TEXT(入力シート!$B275,\"00\"),入力シート!$E275))","v":""},null,null,{"$f":"IF(入力シート!I275=\"\",\"\",入力シート!I275)","v":""},null,null,null,null,null,null,null,null,null,null,null,null,null,null,null,null,"","","",{"$f":"IF($AC267=\"\",\"\",入力シート!F275)","v":""},{"$f":"IF($AC267=\"\",\"\",入力シート!G275)","v":""},{"$f":"IF($AC267=\"\",\"\",入力シート!H275)","v":""},""]
[{"$f":"IF(入力シート!$B276=\"\",\"\",大会コード)","v":""},{"$f":"IF(入力シート!$B276=\"\",\"\",VLOOKUP(入力シート!$C276,大会データ!$A$5:$F$374,3,FALSE))","v":""},{"$f":"IF(入力シート!$B276=\"\",\"\",VLOOKUP(入力シート!$C276,大会データ!$A$5:$F$374,4,FALSE))","v":""},{"$f":"IF(入力シート!$B276=\"\",\"\",VLOOKUP(入力シート!$C276,大会データ!$A$5:$F$374,5,FALSE))","v":""},{"$f":"IF(入力シート!$B276=\"\",\"\",基礎データ!$B$6)","v":""},{"$f":"IF(入力シート!$B276=\"\",\"\",B268)","v":""},{"$f":"IF(入力シート!$B276=\"\",\"\",IF(入力シート!$E276=\"\",TEXT(入力シート!$B276,\"00\"),入力シート!$E276))","v":""},null,null,{"$f":"IF(入力シート!I276=\"\",\"\",入力シート!I276)","v":""},null,null,null,null,null,null,null,null,null,null,null,null,null,null,null,null,"","","",{"$f":"IF($AC268=\"\",\"\",入力シート!F276)","v":""},{"$f":"IF($AC268=\"\",\"\",入力シート!G276)","v":""},{"$f":"IF($AC268=\"\",\"\",入力シート!H276)","v":""},""]
[{"$f":"IF(入力シート!$B277=\"\",\"\",大会コード)","v":""},{"$f":"IF(入力シート!$B277=\"\",\"\",VLOOKUP(入力シート!$C277,大会データ!$A$5:$F$374,3,FALSE))","v":""},{"$f":"IF(入力シート!$B277=\"\",\"\",VLOOKUP(入力シート!$C277,大会データ!$A$5:$F$374,4,FALSE))","v":""},{"$f":"IF(入力シート!$B277=\"\",\"\",VLOOKUP(入力シート!$C277,大会データ!$A$5:$F$374,5,FALSE))","v":""},{"$f":"IF(入力シート!$B277=\"\",\"\",基礎データ!$B$6)","v":""},{"$f":"IF(入力シート!$B277=\"\",\"\",B269)","v":""},{"$f":"IF(入力シート!$B277=\"\",\"\",IF(入力シート!$E277=\"\",TEXT(入力シート!$B277,\"00\"),入力シート!$E277))","v":""},null,null,{"$f":"IF(入力シート!I277=\"\",\"\",入力シート!I277)","v":""},null,null,null,null,null,null,null,null,null,null,null,null,null,null,null,null,"","","",{"$f":"IF($AC269=\"\",\"\",入力シート!F277)","v":""},{"$f":"IF($AC269=\"\",\"\",入力シート!G277)","v":""},{"$f":"IF($AC269=\"\",\"\",入力シート!H277)","v":""},""]
[{"$f":"IF(入力シート!$B278=\"\",\"\",大会コード)","v":""},{"$f":"IF(入力シート!$B278=\"\",\"\",VLOOKUP(入力シート!$C278,大会データ!$A$5:$F$374,3,FALSE))","v":""},{"$f":"IF(入力シート!$B278=\"\",\"\",VLOOKUP(入力シート!$C278,大会データ!$A$5:$F$374,4,FALSE))","v":""},{"$f":"IF(入力シート!$B278=\"\",\"\",VLOOKUP(入力シート!$C278,大会データ!$A$5:$F$374,5,FALSE))","v":""},{"$f":"IF(入力シート!$B278=\"\",\"\",基礎データ!$B$6)","v":""},{"$f":"IF(入力シート!$B278=\"\",\"\",B270)","v":""},{"$f":"IF(入力シート!$B278=\"\",\"\",IF(入力シート!$E278=\"\",TEXT(入力シート!$B278,\"00\"),入力シート!$E278))","v":""},null,null,{"$f":"IF(入力シート!I278=\"\",\"\",入力シート!I278)","v":""},null,null,null,null,null,null,null,null,null,null,null,null,null,null,null,null,"","","",{"$f":"IF($AC270=\"\",\"\",入力シート!F278)","v":""},{"$f":"IF($AC270=\"\",\"\",入力シート!G278)","v":""},{"$f":"IF($AC270=\"\",\"\",入力シート!H278)","v":""},""]
[{"$f":"IF(入力シート!$B279=\"\",\"\",大会コード)","v":""},{"$f":"IF(入力シート!$B279=\"\",\"\",VLOOKUP(入力シート!$C279,大会データ!$A$5:$F$374,3,FALSE))","v":""},{"$f":"IF(入力シート!$B279=\"\",\"\",VLOOKUP(入力シート!$C279,大会データ!$A$5:$F$374,4,FALSE))","v":""},{"$f":"IF(入力シート!$B279=\"\",\"\",VLOOKUP(入力シート!$C279,大会データ!$A$5:$F$374,5,FALSE))","v":""},{"$f":"IF(入力シート!$B279=\"\",\"\",基礎データ!$B$6)","v":""},{"$f":"IF(入力シート!$B279=\"\",\"\",B271)","v":""},{"$f":"IF(入力シート!$B279=\"\",\"\",IF(入力シート!$E279=\"\",TEXT(入力シート!$B279,\"00\"),入力シート!$E279))","v":""},null,null,{"$f":"IF(入力シート!I279=\"\",\"\",入力シート!I279)","v":""},null,null,null,null,null,null,null,null,null,null,null,null,null,null,null,null,"","","",{"$f":"IF($AC271=\"\",\"\",入力シート!F279)","v":""},{"$f":"IF($AC271=\"\",\"\",入力シート!G279)","v":""},{"$f":"IF($AC271=\"\",\"\",入力シート!H279)","v":""},""]
[{"$f":"IF(入力シート!$B280=\"\",\"\",大会コード)","v":""},{"$f":"IF(入力シート!$B280=\"\",\"\",VLOOKUP(入力シート!$C280,大会データ!$A$5:$F$374,3,FALSE))","v":""},{"$f":"IF(入力シート!$B280=\"\",\"\",VLOOKUP(入力シート!$C280,大会データ!$A$5:$F$374,4,FALSE))","v":""},{"$f":"IF(入力シート!$B280=\"\",\"\",VLOOKUP(入力シート!$C280,大会データ!$A$5:$F$374,5,FALSE))","v":""},{"$f":"IF(入力シート!$B280=\"\",\"\",基礎データ!$B$6)","v":""},{"$f":"IF(入力シート!$B280=\"\",\"\",B272)","v":""},{"$f":"IF(入力シート!$B280=\"\",\"\",IF(入力シート!$E280=\"\",TEXT(入力シート!$B280,\"00\"),入力シート!$E280))","v":""},null,null,{"$f":"IF(入力シート!I280=\"\",\"\",入力シート!I280)","v":""},null,null,null,null,null,null,null,null,null,null,null,null,null,null,null,null,"","","",{"$f":"IF($AC272=\"\",\"\",入力シート!F280)","v":""},{"$f":"IF($AC272=\"\",\"\",入力シート!G280)","v":""},{"$f":"IF($AC272=\"\",\"\",入力シート!H280)","v":""},""]
[{"$f":"IF(入力シート!$B281=\"\",\"\",大会コード)","v":""},{"$f":"IF(入力シート!$B281=\"\",\"\",VLOOKUP(入力シート!$C281,大会データ!$A$5:$F$374,3,FALSE))","v":""},{"$f":"IF(入力シート!$B281=\"\",\"\",VLOOKUP(入力シート!$C281,大会データ!$A$5:$F$374,4,FALSE))","v":""},{"$f":"IF(入力シート!$B281=\"\",\"\",VLOOKUP(入力シート!$C281,大会データ!$A$5:$F$374,5,FALSE))","v":""},{"$f":"IF(入力シート!$B281=\"\",\"\",基礎データ!$B$6)","v":""},{"$f":"IF(入力シート!$B281=\"\",\"\",B273)","v":""},{"$f":"IF(入力シート!$B281=\"\",\"\",IF(入力シート!$E281=\"\",TEXT(入力シート!$B281,\"00\"),入力シート!$E281))","v":""},null,null,{"$f":"IF(入力シート!I281=\"\",\"\",入力シート!I281)","v":""},null,null,null,null,null,null,null,null,null,null,null,null,null,null,null,null,"","","",{"$f":"IF($AC273=\"\",\"\",入力シート!F281)","v":""},{"$f":"IF($AC273=\"\",\"\",入力シート!G281)","v":""},{"$f":"IF($AC273=\"\",\"\",入力シート!H281)","v":""},""]
[{"$f":"IF(入力シート!$B282=\"\",\"\",大会コード)","v":""},{"$f":"IF(入力シート!$B282=\"\",\"\",VLOOKUP(入力シート!$C282,大会データ!$A$5:$F$374,3,FALSE))","v":""},{"$f":"IF(入力シート!$B282=\"\",\"\",VLOOKUP(入力シート!$C282,大会データ!$A$5:$F$374,4,FALSE))","v":""},{"$f":"IF(入力シート!$B282=\"\",\"\",VLOOKUP(入力シート!$C282,大会データ!$A$5:$F$374,5,FALSE))","v":""},{"$f":"IF(入力シート!$B282=\"\",\"\",基礎データ!$B$6)","v":""},{"$f":"IF(入力シート!$B282=\"\",\"\",B274)","v":""},{"$f":"IF(入力シート!$B282=\"\",\"\",IF(入力シート!$E282=\"\",TEXT(入力シート!$B282,\"00\"),入力シート!$E282))","v":""},null,null,{"$f":"IF(入力シート!I282=\"\",\"\",入力シート!I282)","v":""},null,null,null,null,null,null,null,null,null,null,null,null,null,null,null,null,"","","",{"$f":"IF($AC274=\"\",\"\",入力シート!F282)","v":""},{"$f":"IF($AC274=\"\",\"\",入力シート!G282)","v":""},{"$f":"IF($AC274=\"\",\"\",入力シート!H282)","v":""},""]
[{"$f":"IF(入力シート!$B283=\"\",\"\",大会コード)","v":""},{"$f":"IF(入力シート!$B283=\"\",\"\",VLOOKUP(入力シート!$C283,大会データ!$A$5:$F$374,3,FALSE))","v":""},{"$f":"IF(入力シート!$B283=\"\",\"\",VLOOKUP(入力シート!$C283,大会データ!$A$5:$F$374,4,FALSE))","v":""},{"$f":"IF(入力シート!$B283=\"\",\"\",VLOOKUP(入力シート!$C283,大会データ!$A$5:$F$374,5,FALSE))","v":""},{"$f":"IF(入力シート!$B283=\"\",\"\",基礎データ!$B$6)","v":""},{"$f":"IF(入力シート!$B283=\"\",\"\",B275)","v":""},{"$f":"IF(入力シート!$B283=\"\",\"\",IF(入力シート!$E283=\"\",TEXT(入力シート!$B283,\"00\"),入力シート!$E283))","v":""},null,null,{"$f":"IF(入力シート!I283=\"\",\"\",入力シート!I283)","v":""},null,null,null,null,null,null,null,null,null,null,null,null,null,null,null,null,"","","",{"$f":"IF($AC275=\"\",\"\",入力シート!F283)","v":""},{"$f":"IF($AC275=\"\",\"\",入力シート!G283)","v":""},{"$f":"IF($AC275=\"\",\"\",入力シート!H283)","v":""},""]
[{"$f":"IF(入力シート!$B284=\"\",\"\",大会コード)","v":""},{"$f":"IF(入力シート!$B284=\"\",\"\",VLOOKUP(入力シート!$C284,大会データ!$A$5:$F$374,3,FALSE))","v":""},{"$f":"IF(入力シート!$B284=\"\",\"\",VLOOKUP(入力シート!$C284,大会データ!$A$5:$F$374,4,FALSE))","v":""},{"$f":"IF(入力シート!$B284=\"\",\"\",VLOOKUP(入力シート!$C284,大会データ!$A$5:$F$374,5,FALSE))","v":""},{"$f":"IF(入力シート!$B284=\"\",\"\",基礎データ!$B$6)","v":""},{"$f":"IF(入力シート!$B284=\"\",\"\",B276)","v":""},{"$f":"IF(入力シート!$B284=\"\",\"\",IF(入力シート!$E284=\"\",TEXT(入力シート!$B284,\"00\"),入力シート!$E284))","v":""},null,null,{"$f":"IF(入力シート!I284=\"\",\"\",入力シート!I284)","v":""},null,null,null,null,null,null,null,null,null,null,null,null,null,null,null,null,"","","",{"$f":"IF($AC276=\"\",\"\",入力シート!F284)","v":""},{"$f":"IF($AC276=\"\",\"\",入力シート!G284)","v":""},{"$f":"IF($AC276=\"\",\"\",入力シート!H284)","v":""},""]
[{"$f":"IF(入力シート!$B285=\"\",\"\",大会コード)","v":""},{"$f":"IF(入力シート!$B285=\"\",\"\",VLOOKUP(入力シート!$C285,大会データ!$A$5:$F$374,3,FALSE))","v":""},{"$f":"IF(入力シート!$B285=\"\",\"\",VLOOKUP(入力シート!$C285,大会データ!$A$5:$F$374,4,FALSE))","v":""},{"$f":"IF(入力シート!$B285=\"\",\"\",VLOOKUP(入力シート!$C285,大会データ!$A$5:$F$374,5,FALSE))","v":""},{"$f":"IF(入力シート!$B285=\"\",\"\",基礎データ!$B$6)","v":""},{"$f":"IF(入力シート!$B285=\"\",\"\",B277)","v":""},{"$f":"IF(入力シート!$B285=\"\",\"\",IF(入力シート!$E285=\"\",TEXT(入力シート!$B285,\"00\"),入力シート!$E285))","v":""},null,null,{"$f":"IF(入力シート!I285=\"\",\"\",入力シート!I285)","v":""},null,null,null,null,null,null,null,null,null,null,null,null,null,null,null,null,"","","",{"$f":"IF($AC277=\"\",\"\",入力シート!F285)","v":""},{"$f":"IF($AC277=\"\",\"\",入力シート!G285)","v":""},{"$f":"IF($AC277=\"\",\"\",入力シート!H285)","v":""},""]
[{"$f":"IF(入力シート!$B286=\"\",\"\",大会コード)","v":""},{"$f":"IF(入力シート!$B286=\"\",\"\",VLOOKUP(入力シート!$C286,大会データ!$A$5:$F$374,3,FALSE))","v":""},{"$f":"IF(入力シート!$B286=\"\",\"\",VLOOKUP(入力シート!$C286,大会データ!$A$5:$F$374,4,FALSE))","v":""},{"$f":"IF(入力シート!$B286=\"\",\"\",VLOOKUP(入力シート!$C286,大会データ!$A$5:$F$374,5,FALSE))","v":""},{"$f":"IF(入力シート!$B286=\"\",\"\",基礎データ!$B$6)","v":""},{"$f":"IF(入力シート!$B286=\"\",\"\",B278)","v":""},{"$f":"IF(入力シート!$B286=\"\",\"\",IF(入力シート!$E286=\"\",TEXT(入力シート!$B286,\"00\"),入力シート!$E286))","v":""},null,null,{"$f":"IF(入力シート!I286=\"\",\"\",入力シート!I286)","v":""},null,null,null,null,null,null,null,null,null,null,null,null,null,null,null,null,"","","",{"$f":"IF($AC278=\"\",\"\",入力シート!F286)","v":""},{"$f":"IF($AC278=\"\",\"\",入力シート!G286)","v":""},{"$f":"IF($AC278=\"\",\"\",入力シート!H286)","v":""},""]
[{"$f":"IF(入力シート!$B287=\"\",\"\",大会コード)","v":""},{"$f":"IF(入力シート!$B287=\"\",\"\",VLOOKUP(入力シート!$C287,大会データ!$A$5:$F$374,3,FALSE))","v":""},{"$f":"IF(入力シート!$B287=\"\",\"\",VLOOKUP(入力シート!$C287,大会データ!$A$5:$F$374,4,FALSE))","v":""},{"$f":"IF(入力シート!$B287=\"\",\"\",VLOOKUP(入力シート!$C287,大会データ!$A$5:$F$374,5,FALSE))","v":""},{"$f":"IF(入力シート!$B287=\"\",\"\",基礎データ!$B$6)","v":""},{"$f":"IF(入力シート!$B287=\"\",\"\",B279)","v":""},{"$f":"IF(入力シート!$B287=\"\",\"\",IF(入力シート!$E287=\"\",TEXT(入力シート!$B287,\"00\"),入力シート!$E287))","v":""},null,null,{"$f":"IF(入力シート!I287=\"\",\"\",入力シート!I287)","v":""},null,null,null,null,null,null,null,null,null,null,null,null,null,null,null,null,"","","",{"$f":"IF($AC279=\"\",\"\",入力シート!F287)","v":""},{"$f":"IF($AC279=\"\",\"\",入力シート!G287)","v":""},{"$f":"IF($AC279=\"\",\"\",入力シート!H287)","v":""},""]
[{"$f":"IF(入力シート!$B288=\"\",\"\",大会コード)","v":""},{"$f":"IF(入力シート!$B288=\"\",\"\",VLOOKUP(入力シート!$C288,大会データ!$A$5:$F$374,3,FALSE))","v":""},{"$f":"IF(入力シート!$B288=\"\",\"\",VLOOKUP(入力シート!$C288,大会データ!$A$5:$F$374,4,FALSE))","v":""},{"$f":"IF(入力シート!$B288=\"\",\"\",VLOOKUP(入力シート!$C288,大会データ!$A$5:$F$374,5,FALSE))","v":""},{"$f":"IF(入力シート!$B288=\"\",\"\",基礎データ!$B$6)","v":""},{"$f":"IF(入力シート!$B288=\"\",\"\",B280)","v":""},{"$f":"IF(入力シート!$B288=\"\",\"\",IF(入力シート!$E288=\"\",TEXT(入力シート!$B288,\"00\"),入力シート!$E288))","v":""},null,null,{"$f":"IF(入力シート!I288=\"\",\"\",入力シート!I288)","v":""},null,null,null,null,null,null,null,null,null,null,null,null,null,null,null,null,"","","",{"$f":"IF($AC280=\"\",\"\",入力シート!F288)","v":""},{"$f":"IF($AC280=\"\",\"\",入力シート!G288)","v":""},{"$f":"IF($AC280=\"\",\"\",入力シート!H288)","v":""},""]
[{"$f":"IF(入力シート!$B289=\"\",\"\",大会コード)","v":""},{"$f":"IF(入力シート!$B289=\"\",\"\",VLOOKUP(入力シート!$C289,大会データ!$A$5:$F$374,3,FALSE))","v":""},{"$f":"IF(入力シート!$B289=\"\",\"\",VLOOKUP(入力シート!$C289,大会データ!$A$5:$F$374,4,FALSE))","v":""},{"$f":"IF(入力シート!$B289=\"\",\"\",VLOOKUP(入力シート!$C289,大会データ!$A$5:$F$374,5,FALSE))","v":""},{"$f":"IF(入力シート!$B289=\"\",\"\",基礎データ!$B$6)","v":""},{"$f":"IF(入力シート!$B289=\"\",\"\",B281)","v":""},{"$f":"IF(入力シート!$B289=\"\",\"\",IF(入力シート!$E289=\"\",TEXT(入力シート!$B289,\"00\"),入力シート!$E289))","v":""},null,null,{"$f":"IF(入力シート!I289=\"\",\"\",入力シート!I289)","v":""},null,null,null,null,null,null,null,null,null,null,null,null,null,null,null,null,"","","",{"$f":"IF($AC281=\"\",\"\",入力シート!F289)","v":""},{"$f":"IF($AC281=\"\",\"\",入力シート!G289)","v":""},{"$f":"IF($AC281=\"\",\"\",入力シート!H289)","v":""},""]
[{"$f":"IF(入力シート!$B290=\"\",\"\",大会コード)","v":""},{"$f":"IF(入力シート!$B290=\"\",\"\",VLOOKUP(入力シート!$C290,大会データ!$A$5:$F$374,3,FALSE))","v":""},{"$f":"IF(入力シート!$B290=\"\",\"\",VLOOKUP(入力シート!$C290,大会データ!$A$5:$F$374,4,FALSE))","v":""},{"$f":"IF(入力シート!$B290=\"\",\"\",VLOOKUP(入力シート!$C290,大会データ!$A$5:$F$374,5,FALSE))","v":""},{"$f":"IF(入力シート!$B290=\"\",\"\",基礎データ!$B$6)","v":""},{"$f":"IF(入力シート!$B290=\"\",\"\",B282)","v":""},{"$f":"IF(入力シート!$B290=\"\",\"\",IF(入力シート!$E290=\"\",TEXT(入力シート!$B290,\"00\"),入力シート!$E290))","v":""},null,null,{"$f":"IF(入力シート!I290=\"\",\"\",入力シート!I290)","v":""},null,null,null,null,null,null,null,null,null,null,null,null,null,null,null,null,"","","",{"$f":"IF($AC282=\"\",\"\",入力シート!F290)","v":""},{"$f":"IF($AC282=\"\",\"\",入力シート!G290)","v":""},{"$f":"IF($AC282=\"\",\"\",入力シート!H290)","v":""},""]
[{"$f":"IF(入力シート!$B291=\"\",\"\",大会コード)","v":""},{"$f":"IF(入力シート!$B291=\"\",\"\",VLOOKUP(入力シート!$C291,大会データ!$A$5:$F$374,3,FALSE))","v":""},{"$f":"IF(入力シート!$B291=\"\",\"\",VLOOKUP(入力シート!$C291,大会データ!$A$5:$F$374,4,FALSE))","v":""},{"$f":"IF(入力シート!$B291=\"\",\"\",VLOOKUP(入力シート!$C291,大会データ!$A$5:$F$374,5,FALSE))","v":""},{"$f":"IF(入力シート!$B291=\"\",\"\",基礎データ!$B$6)","v":""},{"$f":"IF(入力シート!$B291=\"\",\"\",B283)","v":""},{"$f":"IF(入力シート!$B291=\"\",\"\",IF(入力シート!$E291=\"\",TEXT(入力シート!$B291,\"00\"),入力シート!$E291))","v":""},null,null,{"$f":"IF(入力シート!I291=\"\",\"\",入力シート!I291)","v":""},null,null,null,null,null,null,null,null,null,null,null,null,null,null,null,null,"","","",{"$f":"IF($AC283=\"\",\"\",入力シート!F291)","v":""},{"$f":"IF($AC283=\"\",\"\",入力シート!G291)","v":""},{"$f":"IF($AC283=\"\",\"\",入力シート!H291)","v":""},""]
[{"$f":"IF(入力シート!$B292=\"\",\"\",大会コード)","v":""},{"$f":"IF(入力シート!$B292=\"\",\"\",VLOOKUP(入力シート!$C292,大会データ!$A$5:$F$374,3,FALSE))","v":""},{"$f":"IF(入力シート!$B292=\"\",\"\",VLOOKUP(入力シート!$C292,大会データ!$A$5:$F$374,4,FALSE))","v":""},{"$f":"IF(入力シート!$B292=\"\",\"\",VLOOKUP(入力シート!$C292,大会データ!$A$5:$F$374,5,FALSE))","v":""},{"$f":"IF(入力シート!$B292=\"\",\"\",基礎データ!$B$6)","v":""},{"$f":"IF(入力シート!$B292=\"\",\"\",B284)","v":""},{"$f":"IF(入力シート!$B292=\"\",\"\",IF(入力シート!$E292=\"\",TEXT(入力シート!$B292,\"00\"),入力シート!$E292))","v":""},null,null,{"$f":"IF(入力シート!I292=\"\",\"\",入力シート!I292)","v":""},null,null,null,null,null,null,null,null,null,null,null,null,null,null,null,null,"","","",{"$f":"IF($AC284=\"\",\"\",入力シート!F292)","v":""},{"$f":"IF($AC284=\"\",\"\",入力シート!G292)","v":""},{"$f":"IF($AC284=\"\",\"\",入力シート!H292)","v":""},""]
[{"$f":"IF(入力シート!$B293=\"\",\"\",大会コード)","v":""},{"$f":"IF(入力シート!$B293=\"\",\"\",VLOOKUP(入力シート!$C293,大会データ!$A$5:$F$374,3,FALSE))","v":""},{"$f":"IF(入力シート!$B293=\"\",\"\",VLOOKUP(入力シート!$C293,大会データ!$A$5:$F$374,4,FALSE))","v":""},{"$f":"IF(入力シート!$B293=\"\",\"\",VLOOKUP(入力シート!$C293,大会データ!$A$5:$F$374,5,FALSE))","v":""},{"$f":"IF(入力シート!$B293=\"\",\"\",基礎データ!$B$6)","v":""},{"$f":"IF(入力シート!$B293=\"\",\"\",B285)","v":""},{"$f":"IF(入力シート!$B293=\"\",\"\",IF(入力シート!$E293=\"\",TEXT(入力シート!$B293,\"00\"),入力シート!$E293))","v":""},null,null,{"$f":"IF(入力シート!I293=\"\",\"\",入力シート!I293)","v":""},null,null,null,null,null,null,null,null,null,null,null,null,null,null,null,null,"","","",{"$f":"IF($AC285=\"\",\"\",入力シート!F293)","v":""},{"$f":"IF($AC285=\"\",\"\",入力シート!G293)","v":""},{"$f":"IF($AC285=\"\",\"\",入力シート!H293)","v":""},""]
[{"$f":"IF(入力シート!$B294=\"\",\"\",大会コード)","v":""},{"$f":"IF(入力シート!$B294=\"\",\"\",VLOOKUP(入力シート!$C294,大会データ!$A$5:$F$374,3,FALSE))","v":""},{"$f":"IF(入力シート!$B294=\"\",\"\",VLOOKUP(入力シート!$C294,大会データ!$A$5:$F$374,4,FALSE))","v":""},{"$f":"IF(入力シート!$B294=\"\",\"\",VLOOKUP(入力シート!$C294,大会データ!$A$5:$F$374,5,FALSE))","v":""},{"$f":"IF(入力シート!$B294=\"\",\"\",基礎データ!$B$6)","v":""},{"$f":"IF(入力シート!$B294=\"\",\"\",B286)","v":""},{"$f":"IF(入力シート!$B294=\"\",\"\",IF(入力シート!$E294=\"\",TEXT(入力シート!$B294,\"00\"),入力シート!$E294))","v":""},null,null,{"$f":"IF(入力シート!I294=\"\",\"\",入力シート!I294)","v":""},null,null,null,null,null,null,null,null,null,null,null,null,null,null,null,null,"","","",{"$f":"IF($AC286=\"\",\"\",入力シート!F294)","v":""},{"$f":"IF($AC286=\"\",\"\",入力シート!G294)","v":""},{"$f":"IF($AC286=\"\",\"\",入力シート!H294)","v":""},""]
[{"$f":"IF(入力シート!$B295=\"\",\"\",大会コード)","v":""},{"$f":"IF(入力シート!$B295=\"\",\"\",VLOOKUP(入力シート!$C295,大会データ!$A$5:$F$374,3,FALSE))","v":""},{"$f":"IF(入力シート!$B295=\"\",\"\",VLOOKUP(入力シート!$C295,大会データ!$A$5:$F$374,4,FALSE))","v":""},{"$f":"IF(入力シート!$B295=\"\",\"\",VLOOKUP(入力シート!$C295,大会データ!$A$5:$F$374,5,FALSE))","v":""},{"$f":"IF(入力シート!$B295=\"\",\"\",基礎データ!$B$6)","v":""},{"$f":"IF(入力シート!$B295=\"\",\"\",B287)","v":""},{"$f":"IF(入力シート!$B295=\"\",\"\",IF(入力シート!$E295=\"\",TEXT(入力シート!$B295,\"00\"),入力シート!$E295))","v":""},null,null,{"$f":"IF(入力シート!I295=\"\",\"\",入力シート!I295)","v":""},null,null,null,null,null,null,null,null,null,null,null,null,null,null,null,null,"","","",{"$f":"IF($AC287=\"\",\"\",入力シート!F295)","v":""},{"$f":"IF($AC287=\"\",\"\",入力シート!G295)","v":""},{"$f":"IF($AC287=\"\",\"\",入力シート!H295)","v":""},""]
[{"$f":"IF(入力シート!$B296=\"\",\"\",大会コード)","v":""},{"$f":"IF(入力シート!$B296=\"\",\"\",VLOOKUP(入力シート!$C296,大会データ!$A$5:$F$374,3,FALSE))","v":""},{"$f":"IF(入力シート!$B296=\"\",\"\",VLOOKUP(入力シート!$C296,大会データ!$A$5:$F$374,4,FALSE))","v":""},{"$f":"IF(入力シート!$B296=\"\",\"\",VLOOKUP(入力シート!$C296,大会データ!$A$5:$F$374,5,FALSE))","v":""},{"$f":"IF(入力シート!$B296=\"\",\"\",基礎データ!$B$6)","v":""},{"$f":"IF(入力シート!$B296=\"\",\"\",B288)","v":""},{"$f":"IF(入力シート!$B296=\"\",\"\",IF(入力シート!$E296=\"\",TEXT(入力シート!$B296,\"00\"),入力シート!$E296))","v":""},null,null,{"$f":"IF(入力シート!I296=\"\",\"\",入力シート!I296)","v":""},null,null,null,null,null,null,null,null,null,null,null,null,null,null,null,null,"","","",{"$f":"IF($AC288=\"\",\"\",入力シート!F296)","v":""},{"$f":"IF($AC288=\"\",\"\",入力シート!G296)","v":""},{"$f":"IF($AC288=\"\",\"\",入力シート!H296)","v":""},""]
[{"$f":"IF(入力シート!$B297=\"\",\"\",大会コード)","v":""},{"$f":"IF(入力シート!$B297=\"\",\"\",VLOOKUP(入力シート!$C297,大会データ!$A$5:$F$374,3,FALSE))","v":""},{"$f":"IF(入力シート!$B297=\"\",\"\",VLOOKUP(入力シート!$C297,大会データ!$A$5:$F$374,4,FALSE))","v":""},{"$f":"IF(入力シート!$B297=\"\",\"\",VLOOKUP(入力シート!$C297,大会データ!$A$5:$F$374,5,FALSE))","v":""},{"$f":"IF(入力シート!$B297=\"\",\"\",基礎データ!$B$6)","v":""},{"$f":"IF(入力シート!$B297=\"\",\"\",B289)","v":""},{"$f":"IF(入力シート!$B297=\"\",\"\",IF(入力シート!$E297=\"\",TEXT(入力シート!$B297,\"00\"),入力シート!$E297))","v":""},null,null,{"$f":"IF(入力シート!I297=\"\",\"\",入力シート!I297)","v":""},null,null,null,null,null,null,null,null,null,null,null,null,null,null,null,null,"","","",{"$f":"IF($AC289=\"\",\"\",入力シート!F297)","v":""},{"$f":"IF($AC289=\"\",\"\",入力シート!G297)","v":""},{"$f":"IF($AC289=\"\",\"\",入力シート!H297)","v":""},""]
[{"$f":"IF(入力シート!$B298=\"\",\"\",大会コード)","v":""},{"$f":"IF(入力シート!$B298=\"\",\"\",VLOOKUP(入力シート!$C298,大会データ!$A$5:$F$374,3,FALSE))","v":""},{"$f":"IF(入力シート!$B298=\"\",\"\",VLOOKUP(入力シート!$C298,大会データ!$A$5:$F$374,4,FALSE))","v":""},{"$f":"IF(入力シート!$B298=\"\",\"\",VLOOKUP(入力シート!$C298,大会データ!$A$5:$F$374,5,FALSE))","v":""},{"$f":"IF(入力シート!$B298=\"\",\"\",基礎データ!$B$6)","v":""},{"$f":"IF(入力シート!$B298=\"\",\"\",B290)","v":""},{"$f":"IF(入力シート!$B298=\"\",\"\",IF(入力シート!$E298=\"\",TEXT(入力シート!$B298,\"00\"),入力シート!$E298))","v":""},null,null,{"$f":"IF(入力シート!I298=\"\",\"\",入力シート!I298)","v":""},null,null,null,null,null,null,null,null,null,null,null,null,null,null,null,null,"","","",{"$f":"IF($AC290=\"\",\"\",入力シート!F298)","v":""},{"$f":"IF($AC290=\"\",\"\",入力シート!G298)","v":""},{"$f":"IF($AC290=\"\",\"\",入力シート!H298)","v":""},""]
[{"$f":"IF(入力シート!$B299=\"\",\"\",大会コード)","v":""},{"$f":"IF(入力シート!$B299=\"\",\"\",VLOOKUP(入力シート!$C299,大会データ!$A$5:$F$374,3,FALSE))","v":""},{"$f":"IF(入力シート!$B299=\"\",\"\",VLOOKUP(入力シート!$C299,大会データ!$A$5:$F$374,4,FALSE))","v":""},{"$f":"IF(入力シート!$B299=\"\",\"\",VLOOKUP(入力シート!$C299,大会データ!$A$5:$F$374,5,FALSE))","v":""},{"$f":"IF(入力シート!$B299=\"\",\"\",基礎データ!$B$6)","v":""},{"$f":"IF(入力シート!$B299=\"\",\"\",B291)","v":""},{"$f":"IF(入力シート!$B299=\"\",\"\",IF(入力シート!$E299=\"\",TEXT(入力シート!$B299,\"00\"),入力シート!$E299))","v":""},null,null,{"$f":"IF(入力シート!I299=\"\",\"\",入力シート!I299)","v":""},null,null,null,null,null,null,null,null,null,null,null,null,null,null,null,null,"","","",{"$f":"IF($AC291=\"\",\"\",入力シート!F299)","v":""},{"$f":"IF($AC291=\"\",\"\",入力シート!G299)","v":""},{"$f":"IF($AC291=\"\",\"\",入力シート!H299)","v":""},""]
[{"$f":"IF(入力シート!$B300=\"\",\"\",大会コード)","v":""},{"$f":"IF(入力シート!$B300=\"\",\"\",VLOOKUP(入力シート!$C300,大会データ!$A$5:$F$374,3,FALSE))","v":""},{"$f":"IF(入力シート!$B300=\"\",\"\",VLOOKUP(入力シート!$C300,大会データ!$A$5:$F$374,4,FALSE))","v":""},{"$f":"IF(入力シート!$B300=\"\",\"\",VLOOKUP(入力シート!$C300,大会データ!$A$5:$F$374,5,FALSE))","v":""},{"$f":"IF(入力シート!$B300=\"\",\"\",基礎データ!$B$6)","v":""},{"$f":"IF(入力シート!$B300=\"\",\"\",B292)","v":""},{"$f":"IF(入力シート!$B300=\"\",\"\",IF(入力シート!$E300=\"\",TEXT(入力シート!$B300,\"00\"),入力シート!$E300))","v":""},null,null,{"$f":"IF(入力シート!I300=\"\",\"\",入力シート!I300)","v":""},null,null,null,null,null,null,null,null,null,null,null,null,null,null,null,null,"","","",{"$f":"IF($AC292=\"\",\"\",入力シート!F300)","v":""},{"$f":"IF($AC292=\"\",\"\",入力シート!G300)","v":""},{"$f":"IF($AC292=\"\",\"\",入力シート!H300)","v":""},""]
[{"$f":"IF(入力シート!$B301=\"\",\"\",大会コード)","v":""},{"$f":"IF(入力シート!$B301=\"\",\"\",VLOOKUP(入力シート!$C301,大会データ!$A$5:$F$374,3,FALSE))","v":""},{"$f":"IF(入力シート!$B301=\"\",\"\",VLOOKUP(入力シート!$C301,大会データ!$A$5:$F$374,4,FALSE))","v":""},{"$f":"IF(入力シート!$B301=\"\",\"\",VLOOKUP(入力シート!$C301,大会データ!$A$5:$F$374,5,FALSE))","v":""},{"$f":"IF(入力シート!$B301=\"\",\"\",基礎データ!$B$6)","v":""},{"$f":"IF(入力シート!$B301=\"\",\"\",B293)","v":""},{"$f":"IF(入力シート!$B301=\"\",\"\",IF(入力シート!$E301=\"\",TEXT(入力シート!$B301,\"00\"),入力シート!$E301))","v":""},null,null,{"$f":"IF(入力シート!I301=\"\",\"\",入力シート!I301)","v":""},null,null,null,null,null,null,null,null,null,null,null,null,null,null,null,null,"","","",{"$f":"IF($AC293=\"\",\"\",入力シート!F301)","v":""},{"$f":"IF($AC293=\"\",\"\",入力シート!G301)","v":""},{"$f":"IF($AC293=\"\",\"\",入力シート!H301)","v":""},""]
[{"$f":"IF(入力シート!$B302=\"\",\"\",大会コード)","v":""},{"$f":"IF(入力シート!$B302=\"\",\"\",VLOOKUP(入力シート!$C302,大会データ!$A$5:$F$374,3,FALSE))","v":""},{"$f":"IF(入力シート!$B302=\"\",\"\",VLOOKUP(入力シート!$C302,大会データ!$A$5:$F$374,4,FALSE))","v":""},{"$f":"IF(入力シート!$B302=\"\",\"\",VLOOKUP(入力シート!$C302,大会データ!$A$5:$F$374,5,FALSE))","v":""},{"$f":"IF(入力シート!$B302=\"\",\"\",基礎データ!$B$6)","v":""},{"$f":"IF(入力シート!$B302=\"\",\"\",B294)","v":""},{"$f":"IF(入力シート!$B302=\"\",\"\",IF(入力シート!$E302=\"\",TEXT(入力シート!$B302,\"00\"),入力シート!$E302))","v":""},null,null,{"$f":"IF(入力シート!I302=\"\",\"\",入力シート!I302)","v":""},null,null,null,null,null,null,null,null,null,null,null,null,null,null,null,null,"","","",{"$f":"IF($AC294=\"\",\"\",入力シート!F302)","v":""},{"$f":"IF($AC294=\"\",\"\",入力シート!G302)","v":""},{"$f":"IF($AC294=\"\",\"\",入力シート!H302)","v":""},""]
[{"$f":"IF(入力シート!$B303=\"\",\"\",大会コード)","v":""},{"$f":"IF(入力シート!$B303=\"\",\"\",VLOOKUP(入力シート!$C303,大会データ!$A$5:$F$374,3,FALSE))","v":""},{"$f":"IF(入力シート!$B303=\"\",\"\",VLOOKUP(入力シート!$C303,大会データ!$A$5:$F$374,4,FALSE))","v":""},{"$f":"IF(入力シート!$B303=\"\",\"\",VLOOKUP(入力シート!$C303,大会データ!$A$5:$F$374,5,FALSE))","v":""},{"$f":"IF(入力シート!$B303=\"\",\"\",基礎データ!$B$6)","v":""},{"$f":"IF(入力シート!$B303=\"\",\"\",B295)","v":""},{"$f":"IF(入力シート!$B303=\"\",\"\",IF(入力シート!$E303=\"\",TEXT(入力シート!$B303,\"00\"),入力シート!$E303))","v":""},null,null,{"$f":"IF(入力シート!I303=\"\",\"\",入力シート!I303)","v":""},null,null,null,null,null,null,null,null,null,null,null,null,null,null,null,null,"","","",{"$f":"IF($AC295=\"\",\"\",入力シート!F303)","v":""},{"$f":"IF($AC295=\"\",\"\",入力シート!G303)","v":""},{"$f":"IF($AC295=\"\",\"\",入力シート!H303)","v":""},""]
[{"$f":"IF(入力シート!$B304=\"\",\"\",大会コード)","v":""},{"$f":"IF(入力シート!$B304=\"\",\"\",VLOOKUP(入力シート!$C304,大会データ!$A$5:$F$374,3,FALSE))","v":""},{"$f":"IF(入力シート!$B304=\"\",\"\",VLOOKUP(入力シート!$C304,大会データ!$A$5:$F$374,4,FALSE))","v":""},{"$f":"IF(入力シート!$B304=\"\",\"\",VLOOKUP(入力シート!$C304,大会データ!$A$5:$F$374,5,FALSE))","v":""},{"$f":"IF(入力シート!$B304=\"\",\"\",基礎データ!$B$6)","v":""},{"$f":"IF(入力シート!$B304=\"\",\"\",B296)","v":""},{"$f":"IF(入力シート!$B304=\"\",\"\",IF(入力シート!$E304=\"\",TEXT(入力シート!$B304,\"00\"),入力シート!$E304))","v":""},null,null,{"$f":"IF(入力シート!I304=\"\",\"\",入力シート!I304)","v":""},null,null,null,null,null,null,null,null,null,null,null,null,null,null,null,null,"","","",{"$f":"IF($AC296=\"\",\"\",入力シート!F304)","v":""},{"$f":"IF($AC296=\"\",\"\",入力シート!G304)","v":""},{"$f":"IF($AC296=\"\",\"\",入力シート!H304)","v":""},""]
[{"$f":"IF(入力シート!$B305=\"\",\"\",大会コード)","v":""},{"$f":"IF(入力シート!$B305=\"\",\"\",VLOOKUP(入力シート!$C305,大会データ!$A$5:$F$374,3,FALSE))","v":""},{"$f":"IF(入力シート!$B305=\"\",\"\",VLOOKUP(入力シート!$C305,大会データ!$A$5:$F$374,4,FALSE))","v":""},{"$f":"IF(入力シート!$B305=\"\",\"\",VLOOKUP(入力シート!$C305,大会データ!$A$5:$F$374,5,FALSE))","v":""},{"$f":"IF(入力シート!$B305=\"\",\"\",基礎データ!$B$6)","v":""},{"$f":"IF(入力シート!$B305=\"\",\"\",B297)","v":""},{"$f":"IF(入力シート!$B305=\"\",\"\",IF(入力シート!$E305=\"\",TEXT(入力シート!$B305,\"00\"),入力シート!$E305))","v":""},null,null,{"$f":"IF(入力シート!I305=\"\",\"\",入力シート!I305)","v":""},null,null,null,null,null,null,null,null,null,null,null,null,null,null,null,null,"","","",{"$f":"IF($AC297=\"\",\"\",入力シート!F305)","v":""},{"$f":"IF($AC297=\"\",\"\",入力シート!G305)","v":""},{"$f":"IF($AC297=\"\",\"\",入力シート!H305)","v":""},""]
[{"$f":"IF(入力シート!$B306=\"\",\"\",大会コード)","v":""},{"$f":"IF(入力シート!$B306=\"\",\"\",VLOOKUP(入力シート!$C306,大会データ!$A$5:$F$374,3,FALSE))","v":""},{"$f":"IF(入力シート!$B306=\"\",\"\",VLOOKUP(入力シート!$C306,大会データ!$A$5:$F$374,4,FALSE))","v":""},{"$f":"IF(入力シート!$B306=\"\",\"\",VLOOKUP(入力シート!$C306,大会データ!$A$5:$F$374,5,FALSE))","v":""},{"$f":"IF(入力シート!$B306=\"\",\"\",基礎データ!$B$6)","v":""},{"$f":"IF(入力シート!$B306=\"\",\"\",B298)","v":""},{"$f":"IF(入力シート!$B306=\"\",\"\",IF(入力シート!$E306=\"\",TEXT(入力シート!$B306,\"00\"),入力シート!$E306))","v":""},null,null,{"$f":"IF(入力シート!I306=\"\",\"\",入力シート!I306)","v":""},null,null,null,null,null,null,null,null,null,null,null,null,null,null,null,null,"","","",{"$f":"IF($AC298=\"\",\"\",入力シート!F306)","v":""},{"$f":"IF($AC298=\"\",\"\",入力シート!G306)","v":""},{"$f":"IF($AC298=\"\",\"\",入力シート!H306)","v":""},""]
[{"$f":"IF(入力シート!$B307=\"\",\"\",大会コード)","v":""},{"$f":"IF(入力シート!$B307=\"\",\"\",VLOOKUP(入力シート!$C307,大会データ!$A$5:$F$374,3,FALSE))","v":""},{"$f":"IF(入力シート!$B307=\"\",\"\",VLOOKUP(入力シート!$C307,大会データ!$A$5:$F$374,4,FALSE))","v":""},{"$f":"IF(入力シート!$B307=\"\",\"\",VLOOKUP(入力シート!$C307,大会データ!$A$5:$F$374,5,FALSE))","v":""},{"$f":"IF(入力シート!$B307=\"\",\"\",基礎データ!$B$6)","v":""},{"$f":"IF(入力シート!$B307=\"\",\"\",B299)","v":""},{"$f":"IF(入力シート!$B307=\"\",\"\",IF(入力シート!$E307=\"\",TEXT(入力シート!$B307,\"00\"),入力シート!$E307))","v":""},null,null,{"$f":"IF(入力シート!I307=\"\",\"\",入力シート!I307)","v":""},null,null,null,null,null,null,null,null,null,null,null,null,null,null,null,null,"","","",{"$f":"IF($AC299=\"\",\"\",入力シート!F307)","v":""},{"$f":"IF($AC299=\"\",\"\",入力シート!G307)","v":""},{"$f":"IF($AC299=\"\",\"\",入力シート!H307)","v":""},""]
[{"$f":"IF(入力シート!$B308=\"\",\"\",大会コード)","v":""},{"$f":"IF(入力シート!$B308=\"\",\"\",VLOOKUP(入力シート!$C308,大会データ!$A$5:$F$374,3,FALSE))","v":""},{"$f":"IF(入力シート!$B308=\"\",\"\",VLOOKUP(入力シート!$C308,大会データ!$A$5:$F$374,4,FALSE))","v":""},{"$f":"IF(入力シート!$B308=\"\",\"\",VLOOKUP(入力シート!$C308,大会データ!$A$5:$F$374,5,FALSE))","v":""},{"$f":"IF(入力シート!$B308=\"\",\"\",基礎データ!$B$6)","v":""},{"$f":"IF(入力シート!$B308=\"\",\"\",B300)","v":""},{"$f":"IF(入力シート!$B308=\"\",\"\",IF(入力シート!$E308=\"\",TEXT(入力シート!$B308,\"00\"),入力シート!$E308))","v":""},null,null,{"$f":"IF(入力シート!I308=\"\",\"\",入力シート!I308)","v":""},null,null,null,null,null,null,null,null,null,null,null,null,null,null,null,null,"","","",{"$f":"IF($AC300=\"\",\"\",入力シート!F308)","v":""},{"$f":"IF($AC300=\"\",\"\",入力シート!G308)","v":""},{"$f":"IF($AC300=\"\",\"\",入力シート!H308)","v":""},""]
[{"$f":"IF(入力シート!$B309=\"\",\"\",大会コード)","v":""},{"$f":"IF(入力シート!$B309=\"\",\"\",VLOOKUP(入力シート!$C309,大会データ!$A$5:$F$374,3,FALSE))","v":""},{"$f":"IF(入力シート!$B309=\"\",\"\",VLOOKUP(入力シート!$C309,大会データ!$A$5:$F$374,4,FALSE))","v":""},{"$f":"IF(入力シート!$B309=\"\",\"\",VLOOKUP(入力シート!$C309,大会データ!$A$5:$F$374,5,FALSE))","v":""},{"$f":"IF(入力シート!$B309=\"\",\"\",基礎データ!$B$6)","v":""},{"$f":"IF(入力シート!$B309=\"\",\"\",B301)","v":""},{"$f":"IF(入力シート!$B309=\"\",\"\",IF(入力シート!$E309=\"\",TEXT(入力シート!$B309,\"00\"),入力シート!$E309))","v":""},null,null,{"$f":"IF(入力シート!I309=\"\",\"\",入力シート!I309)","v":""},null,null,null,null,null,null,null,null,null,null,null,null,null,null,null,null,"","","",{"$f":"IF($AC301=\"\",\"\",入力シート!F309)","v":""},{"$f":"IF($AC301=\"\",\"\",入力シート!G309)","v":""},{"$f":"IF($AC301=\"\",\"\",入力シート!H309)","v":""},""]
[{"$f":"IF(入力シート!$B310=\"\",\"\",大会コード)","v":""},{"$f":"IF(入力シート!$B310=\"\",\"\",VLOOKUP(入力シート!$C310,大会データ!$A$5:$F$374,3,FALSE))","v":""},{"$f":"IF(入力シート!$B310=\"\",\"\",VLOOKUP(入力シート!$C310,大会データ!$A$5:$F$374,4,FALSE))","v":""},{"$f":"IF(入力シート!$B310=\"\",\"\",VLOOKUP(入力シート!$C310,大会データ!$A$5:$F$374,5,FALSE))","v":""},{"$f":"IF(入力シート!$B310=\"\",\"\",基礎データ!$B$6)","v":""},{"$f":"IF(入力シート!$B310=\"\",\"\",B302)","v":""},{"$f":"IF(入力シート!$B310=\"\",\"\",IF(入力シート!$E310=\"\",TEXT(入力シート!$B310,\"00\"),入力シート!$E310))","v":""},null,null,{"$f":"IF(入力シート!I310=\"\",\"\",入力シート!I310)","v":""},null,null,null,null,null,null,null,null,null,null,null,null,null,null,null,null,"","","",{"$f":"IF($AC302=\"\",\"\",入力シート!F310)","v":""},{"$f":"IF($AC302=\"\",\"\",入力シート!G310)","v":""},{"$f":"IF($AC302=\"\",\"\",入力シート!H310)","v":""},""]
[{"$f":"IF(入力シート!$B311=\"\",\"\",大会コード)","v":""},{"$f":"IF(入力シート!$B311=\"\",\"\",VLOOKUP(入力シート!$C311,大会データ!$A$5:$F$374,3,FALSE))","v":""},{"$f":"IF(入力シート!$B311=\"\",\"\",VLOOKUP(入力シート!$C311,大会データ!$A$5:$F$374,4,FALSE))","v":""},{"$f":"IF(入力シート!$B311=\"\",\"\",VLOOKUP(入力シート!$C311,大会データ!$A$5:$F$374,5,FALSE))","v":""},{"$f":"IF(入力シート!$B311=\"\",\"\",基礎データ!$B$6)","v":""},{"$f":"IF(入力シート!$B311=\"\",\"\",B303)","v":""},{"$f":"IF(入力シート!$B311=\"\",\"\",IF(入力シート!$E311=\"\",TEXT(入力シート!$B311,\"00\"),入力シート!$E311))","v":""},null,null,{"$f":"IF(入力シート!I311=\"\",\"\",入力シート!I311)","v":""},null,null,null,null,null,null,null,null,null,null,null,null,null,null,null,null,"","","",{"$f":"IF($AC303=\"\",\"\",入力シート!F311)","v":""},{"$f":"IF($AC303=\"\",\"\",入力シート!G311)","v":""},{"$f":"IF($AC303=\"\",\"\",入力シート!H311)","v":""},""]
[{"$f":"IF(入力シート!$B312=\"\",\"\",大会コード)","v":""},{"$f":"IF(入力シート!$B312=\"\",\"\",VLOOKUP(入力シート!$C312,大会データ!$A$5:$F$374,3,FALSE))","v":""},{"$f":"IF(入力シート!$B312=\"\",\"\",VLOOKUP(入力シート!$C312,大会データ!$A$5:$F$374,4,FALSE))","v":""},{"$f":"IF(入力シート!$B312=\"\",\"\",VLOOKUP(入力シート!$C312,大会データ!$A$5:$F$374,5,FALSE))","v":""},{"$f":"IF(入力シート!$B312=\"\",\"\",基礎データ!$B$6)","v":""},{"$f":"IF(入力シート!$B312=\"\",\"\",B304)","v":""},{"$f":"IF(入力シート!$B312=\"\",\"\",IF(入力シート!$E312=\"\",TEXT(入力シート!$B312,\"00\"),入力シート!$E312))","v":""},null,null,{"$f":"IF(入力シート!I312=\"\",\"\",入力シート!I312)","v":""},null,null,null,null,null,null,null,null,null,null,null,null,null,null,null,null,"","","",{"$f":"IF($AC304=\"\",\"\",入力シート!F312)","v":""},{"$f":"IF($AC304=\"\",\"\",入力シート!G312)","v":""},{"$f":"IF($AC304=\"\",\"\",入力シート!H312)","v":""},""]
[{"$f":"IF(入力シート!$B313=\"\",\"\",大会コード)","v":""},{"$f":"IF(入力シート!$B313=\"\",\"\",VLOOKUP(入力シート!$C313,大会データ!$A$5:$F$374,3,FALSE))","v":""},{"$f":"IF(入力シート!$B313=\"\",\"\",VLOOKUP(入力シート!$C313,大会データ!$A$5:$F$374,4,FALSE))","v":""},{"$f":"IF(入力シート!$B313=\"\",\"\",VLOOKUP(入力シート!$C313,大会データ!$A$5:$F$374,5,FALSE))","v":""},{"$f":"IF(入力シート!$B313=\"\",\"\",基礎データ!$B$6)","v":""},{"$f":"IF(入力シート!$B313=\"\",\"\",B305)","v":""},{"$f":"IF(入力シート!$B313=\"\",\"\",IF(入力シート!$E313=\"\",TEXT(入力シート!$B313,\"00\"),入力シート!$E313))","v":""},null,null,{"$f":"IF(入力シート!I313=\"\",\"\",入力シート!I313)","v":""},null,null,null,null,null,null,null,null,null,null,null,null,null,null,null,null,"","","",{"$f":"IF($AC305=\"\",\"\",入力シート!F313)","v":""},{"$f":"IF($AC305=\"\",\"\",入力シート!G313)","v":""},{"$f":"IF($AC305=\"\",\"\",入力シート!H313)","v":""},""]
[{"$f":"IF(入力シート!$B314=\"\",\"\",大会コード)","v":""},{"$f":"IF(入力シート!$B314=\"\",\"\",VLOOKUP(入力シート!$C314,大会データ!$A$5:$F$374,3,FALSE))","v":""},{"$f":"IF(入力シート!$B314=\"\",\"\",VLOOKUP(入力シート!$C314,大会データ!$A$5:$F$374,4,FALSE))","v":""},{"$f":"IF(入力シート!$B314=\"\",\"\",VLOOKUP(入力シート!$C314,大会データ!$A$5:$F$374,5,FALSE))","v":""},{"$f":"IF(入力シート!$B314=\"\",\"\",基礎データ!$B$6)","v":""},{"$f":"IF(入力シート!$B314=\"\",\"\",B306)","v":""},{"$f":"IF(入力シート!$B314=\"\",\"\",IF(入力シート!$E314=\"\",TEXT(入力シート!$B314,\"00\"),入力シート!$E314))","v":""},null,null,{"$f":"IF(入力シート!I314=\"\",\"\",入力シート!I314)","v":""},null,null,null,null,null,null,null,null,null,null,null,null,null,null,null,null,"","","",{"$f":"IF($AC306=\"\",\"\",入力シート!F314)","v":""},{"$f":"IF($AC306=\"\",\"\",入力シート!G314)","v":""},{"$f":"IF($AC306=\"\",\"\",入力シート!H314)","v":""},""]
[{"$f":"IF(入力シート!$B315=\"\",\"\",大会コード)","v":""},{"$f":"IF(入力シート!$B315=\"\",\"\",VLOOKUP(入力シート!$C315,大会データ!$A$5:$F$374,3,FALSE))","v":""},{"$f":"IF(入力シート!$B315=\"\",\"\",VLOOKUP(入力シート!$C315,大会データ!$A$5:$F$374,4,FALSE))","v":""},{"$f":"IF(入力シート!$B315=\"\",\"\",VLOOKUP(入力シート!$C315,大会データ!$A$5:$F$374,5,FALSE))","v":""},{"$f":"IF(入力シート!$B315=\"\",\"\",基礎データ!$B$6)","v":""},{"$f":"IF(入力シート!$B315=\"\",\"\",B307)","v":""},{"$f":"IF(入力シート!$B315=\"\",\"\",IF(入力シート!$E315=\"\",TEXT(入力シート!$B315,\"00\"),入力シート!$E315))","v":""},null,null,{"$f":"IF(入力シート!I315=\"\",\"\",入力シート!I315)","v":""},null,null,null,null,null,null,null,null,null,null,null,null,null,null,null,null,"","","",{"$f":"IF($AC307=\"\",\"\",入力シート!F315)","v":""},{"$f":"IF($AC307=\"\",\"\",入力シート!G315)","v":""},{"$f":"IF($AC307=\"\",\"\",入力シート!H315)","v":""},""]
[{"$f":"IF(入力シート!$B316=\"\",\"\",大会コード)","v":""},{"$f":"IF(入力シート!$B316=\"\",\"\",VLOOKUP(入力シート!$C316,大会データ!$A$5:$F$374,3,FALSE))","v":""},{"$f":"IF(入力シート!$B316=\"\",\"\",VLOOKUP(入力シート!$C316,大会データ!$A$5:$F$374,4,FALSE))","v":""},{"$f":"IF(入力シート!$B316=\"\",\"\",VLOOKUP(入力シート!$C316,大会データ!$A$5:$F$374,5,FALSE))","v":""},{"$f":"IF(入力シート!$B316=\"\",\"\",基礎データ!$B$6)","v":""},{"$f":"IF(入力シート!$B316=\"\",\"\",B308)","v":""},{"$f":"IF(入力シート!$B316=\"\",\"\",IF(入力シート!$E316=\"\",TEXT(入力シート!$B316,\"00\"),入力シート!$E316))","v":""},null,null,{"$f":"IF(入力シート!I316=\"\",\"\",入力シート!I316)","v":""},null,null,null,null,null,null,null,null,null,null,null,null,null,null,null,null,"","","",{"$f":"IF($AC308=\"\",\"\",入力シート!F316)","v":""},{"$f":"IF($AC308=\"\",\"\",入力シート!G316)","v":""},{"$f":"IF($AC308=\"\",\"\",入力シート!H316)","v":""},""]
[{"$f":"IF(入力シート!$B317=\"\",\"\",大会コード)","v":""},{"$f":"IF(入力シート!$B317=\"\",\"\",VLOOKUP(入力シート!$C317,大会データ!$A$5:$F$374,3,FALSE))","v":""},{"$f":"IF(入力シート!$B317=\"\",\"\",VLOOKUP(入力シート!$C317,大会データ!$A$5:$F$374,4,FALSE))","v":""},{"$f":"IF(入力シート!$B317=\"\",\"\",VLOOKUP(入力シート!$C317,大会データ!$A$5:$F$374,5,FALSE))","v":""},{"$f":"IF(入力シート!$B317=\"\",\"\",基礎データ!$B$6)","v":""},{"$f":"IF(入力シート!$B317=\"\",\"\",B309)","v":""},{"$f":"IF(入力シート!$B317=\"\",\"\",IF(入力シート!$E317=\"\",TEXT(入力シート!$B317,\"00\"),入力シート!$E317))","v":""},null,null,{"$f":"IF(入力シート!I317=\"\",\"\",入力シート!I317)","v":""},null,null,null,null,null,null,null,null,null,null,null,null,null,null,null,null,"","","",{"$f":"IF($AC309=\"\",\"\",入力シート!F317)","v":""},{"$f":"IF($AC309=\"\",\"\",入力シート!G317)","v":""},{"$f":"IF($AC309=\"\",\"\",入力シート!H317)","v":""},""]
[{"$f":"IF(入力シート!$B318=\"\",\"\",大会コード)","v":""},{"$f":"IF(入力シート!$B318=\"\",\"\",VLOOKUP(入力シート!$C318,大会データ!$A$5:$F$374,3,FALSE))","v":""},{"$f":"IF(入力シート!$B318=\"\",\"\",VLOOKUP(入力シート!$C318,大会データ!$A$5:$F$374,4,FALSE))","v":""},{"$f":"IF(入力シート!$B318=\"\",\"\",VLOOKUP(入力シート!$C318,大会データ!$A$5:$F$374,5,FALSE))","v":""},{"$f":"IF(入力シート!$B318=\"\",\"\",基礎データ!$B$6)","v":""},{"$f":"IF(入力シート!$B318=\"\",\"\",B310)","v":""},{"$f":"IF(入力シート!$B318=\"\",\"\",IF(入力シート!$E318=\"\",TEXT(入力シート!$B318,\"00\"),入力シート!$E318))","v":""},null,null,{"$f":"IF(入力シート!I318=\"\",\"\",入力シート!I318)","v":""},null,null,null,null,null,null,null,null,null,null,null,null,null,null,null,null,"","","",{"$f":"IF($AC310=\"\",\"\",入力シート!F318)","v":""},{"$f":"IF($AC310=\"\",\"\",入力シート!G318)","v":""},{"$f":"IF($AC310=\"\",\"\",入力シート!H318)","v":""},""]
[{"$f":"IF(入力シート!$B319=\"\",\"\",大会コード)","v":""},{"$f":"IF(入力シート!$B319=\"\",\"\",VLOOKUP(入力シート!$C319,大会データ!$A$5:$F$374,3,FALSE))","v":""},{"$f":"IF(入力シート!$B319=\"\",\"\",VLOOKUP(入力シート!$C319,大会データ!$A$5:$F$374,4,FALSE))","v":""},{"$f":"IF(入力シート!$B319=\"\",\"\",VLOOKUP(入力シート!$C319,大会データ!$A$5:$F$374,5,FALSE))","v":""},{"$f":"IF(入力シート!$B319=\"\",\"\",基礎データ!$B$6)","v":""},{"$f":"IF(入力シート!$B319=\"\",\"\",B311)","v":""},{"$f":"IF(入力シート!$B319=\"\",\"\",IF(入力シート!$E319=\"\",TEXT(入力シート!$B319,\"00\"),入力シート!$E319))","v":""},null,null,{"$f":"IF(入力シート!I319=\"\",\"\",入力シート!I319)","v":""},null,null,null,null,null,null,null,null,null,null,null,null,null,null,null,null,"","","",{"$f":"IF($AC311=\"\",\"\",入力シート!F319)","v":""},{"$f":"IF($AC311=\"\",\"\",入力シート!G319)","v":""},{"$f":"IF($AC311=\"\",\"\",入力シート!H319)","v":""},""]
[{"$f":"IF(入力シート!$B320=\"\",\"\",大会コード)","v":""},{"$f":"IF(入力シート!$B320=\"\",\"\",VLOOKUP(入力シート!$C320,大会データ!$A$5:$F$374,3,FALSE))","v":""},{"$f":"IF(入力シート!$B320=\"\",\"\",VLOOKUP(入力シート!$C320,大会データ!$A$5:$F$374,4,FALSE))","v":""},{"$f":"IF(入力シート!$B320=\"\",\"\",VLOOKUP(入力シート!$C320,大会データ!$A$5:$F$374,5,FALSE))","v":""},{"$f":"IF(入力シート!$B320=\"\",\"\",基礎データ!$B$6)","v":""},{"$f":"IF(入力シート!$B320=\"\",\"\",B312)","v":""},{"$f":"IF(入力シート!$B320=\"\",\"\",IF(入力シート!$E320=\"\",TEXT(入力シート!$B320,\"00\"),入力シート!$E320))","v":""},null,null,{"$f":"IF(入力シート!I320=\"\",\"\",入力シート!I320)","v":""},null,null,null,null,null,null,null,null,null,null,null,null,null,null,null,null,"","","",{"$f":"IF($AC312=\"\",\"\",入力シート!F320)","v":""},{"$f":"IF($AC312=\"\",\"\",入力シート!G320)","v":""},{"$f":"IF($AC312=\"\",\"\",入力シート!H320)","v":""},""]
[{"$f":"IF(入力シート!$B321=\"\",\"\",大会コード)","v":""},{"$f":"IF(入力シート!$B321=\"\",\"\",VLOOKUP(入力シート!$C321,大会データ!$A$5:$F$374,3,FALSE))","v":""},{"$f":"IF(入力シート!$B321=\"\",\"\",VLOOKUP(入力シート!$C321,大会データ!$A$5:$F$374,4,FALSE))","v":""},{"$f":"IF(入力シート!$B321=\"\",\"\",VLOOKUP(入力シート!$C321,大会データ!$A$5:$F$374,5,FALSE))","v":""},{"$f":"IF(入力シート!$B321=\"\",\"\",基礎データ!$B$6)","v":""},{"$f":"IF(入力シート!$B321=\"\",\"\",B313)","v":""},{"$f":"IF(入力シート!$B321=\"\",\"\",IF(入力シート!$E321=\"\",TEXT(入力シート!$B321,\"00\"),入力シート!$E321))","v":""},null,null,{"$f":"IF(入力シート!I321=\"\",\"\",入力シート!I321)","v":""},null,null,null,null,null,null,null,null,null,null,null,null,null,null,null,null,"","","",{"$f":"IF($AC313=\"\",\"\",入力シート!F321)","v":""},{"$f":"IF($AC313=\"\",\"\",入力シート!G321)","v":""},{"$f":"IF($AC313=\"\",\"\",入力シート!H321)","v":""},""]
[{"$f":"IF(入力シート!$B322=\"\",\"\",大会コード)","v":""},{"$f":"IF(入力シート!$B322=\"\",\"\",VLOOKUP(入力シート!$C322,大会データ!$A$5:$F$374,3,FALSE))","v":""},{"$f":"IF(入力シート!$B322=\"\",\"\",VLOOKUP(入力シート!$C322,大会データ!$A$5:$F$374,4,FALSE))","v":""},{"$f":"IF(入力シート!$B322=\"\",\"\",VLOOKUP(入力シート!$C322,大会データ!$A$5:$F$374,5,FALSE))","v":""},{"$f":"IF(入力シート!$B322=\"\",\"\",基礎データ!$B$6)","v":""},{"$f":"IF(入力シート!$B322=\"\",\"\",B314)","v":""},{"$f":"IF(入力シート!$B322=\"\",\"\",IF(入力シート!$E322=\"\",TEXT(入力シート!$B322,\"00\"),入力シート!$E322))","v":""},null,null,{"$f":"IF(入力シート!I322=\"\",\"\",入力シート!I322)","v":""},null,null,null,null,null,null,null,null,null,null,null,null,null,null,null,null,"","","",{"$f":"IF($AC314=\"\",\"\",入力シート!F322)","v":""},{"$f":"IF($AC314=\"\",\"\",入力シート!G322)","v":""},{"$f":"IF($AC314=\"\",\"\",入力シート!H322)","v":""},""]
[{"$f":"IF(入力シート!$B323=\"\",\"\",大会コード)","v":""},{"$f":"IF(入力シート!$B323=\"\",\"\",VLOOKUP(入力シート!$C323,大会データ!$A$5:$F$374,3,FALSE))","v":""},{"$f":"IF(入力シート!$B323=\"\",\"\",VLOOKUP(入力シート!$C323,大会データ!$A$5:$F$374,4,FALSE))","v":""},{"$f":"IF(入力シート!$B323=\"\",\"\",VLOOKUP(入力シート!$C323,大会データ!$A$5:$F$374,5,FALSE))","v":""},{"$f":"IF(入力シート!$B323=\"\",\"\",基礎データ!$B$6)","v":""},{"$f":"IF(入力シート!$B323=\"\",\"\",B315)","v":""},{"$f":"IF(入力シート!$B323=\"\",\"\",IF(入力シート!$E323=\"\",TEXT(入力シート!$B323,\"00\"),入力シート!$E323))","v":""},null,null,{"$f":"IF(入力シート!I323=\"\",\"\",入力シート!I323)","v":""},null,null,null,null,null,null,null,null,null,null,null,null,null,null,null,null,"","","",{"$f":"IF($AC315=\"\",\"\",入力シート!F323)","v":""},{"$f":"IF($AC315=\"\",\"\",入力シート!G323)","v":""},{"$f":"IF($AC315=\"\",\"\",入力シート!H323)","v":""},""]
[{"$f":"IF(入力シート!$B324=\"\",\"\",大会コード)","v":""},{"$f":"IF(入力シート!$B324=\"\",\"\",VLOOKUP(入力シート!$C324,大会データ!$A$5:$F$374,3,FALSE))","v":""},{"$f":"IF(入力シート!$B324=\"\",\"\",VLOOKUP(入力シート!$C324,大会データ!$A$5:$F$374,4,FALSE))","v":""},{"$f":"IF(入力シート!$B324=\"\",\"\",VLOOKUP(入力シート!$C324,大会データ!$A$5:$F$374,5,FALSE))","v":""},{"$f":"IF(入力シート!$B324=\"\",\"\",基礎データ!$B$6)","v":""},{"$f":"IF(入力シート!$B324=\"\",\"\",B316)","v":""},{"$f":"IF(入力シート!$B324=\"\",\"\",IF(入力シート!$E324=\"\",TEXT(入力シート!$B324,\"00\"),入力シート!$E324))","v":""},null,null,{"$f":"IF(入力シート!I324=\"\",\"\",入力シート!I324)","v":""},null,null,null,null,null,null,null,null,null,null,null,null,null,null,null,null,"","","",{"$f":"IF($AC316=\"\",\"\",入力シート!F324)","v":""},{"$f":"IF($AC316=\"\",\"\",入力シート!G324)","v":""},{"$f":"IF($AC316=\"\",\"\",入力シート!H324)","v":""},""]
[{"$f":"IF(入力シート!$B325=\"\",\"\",大会コード)","v":""},{"$f":"IF(入力シート!$B325=\"\",\"\",VLOOKUP(入力シート!$C325,大会データ!$A$5:$F$374,3,FALSE))","v":""},{"$f":"IF(入力シート!$B325=\"\",\"\",VLOOKUP(入力シート!$C325,大会データ!$A$5:$F$374,4,FALSE))","v":""},{"$f":"IF(入力シート!$B325=\"\",\"\",VLOOKUP(入力シート!$C325,大会データ!$A$5:$F$374,5,FALSE))","v":""},{"$f":"IF(入力シート!$B325=\"\",\"\",基礎データ!$B$6)","v":""},{"$f":"IF(入力シート!$B325=\"\",\"\",B317)","v":""},{"$f":"IF(入力シート!$B325=\"\",\"\",IF(入力シート!$E325=\"\",TEXT(入力シート!$B325,\"00\"),入力シート!$E325))","v":""},null,null,{"$f":"IF(入力シート!I325=\"\",\"\",入力シート!I325)","v":""},null,null,null,null,null,null,null,null,null,null,null,null,null,null,null,null,"","","",{"$f":"IF($AC317=\"\",\"\",入力シート!F325)","v":""},{"$f":"IF($AC317=\"\",\"\",入力シート!G325)","v":""},{"$f":"IF($AC317=\"\",\"\",入力シート!H325)","v":""},""]
[{"$f":"IF(入力シート!$B326=\"\",\"\",大会コード)","v":""},{"$f":"IF(入力シート!$B326=\"\",\"\",VLOOKUP(入力シート!$C326,大会データ!$A$5:$F$374,3,FALSE))","v":""},{"$f":"IF(入力シート!$B326=\"\",\"\",VLOOKUP(入力シート!$C326,大会データ!$A$5:$F$374,4,FALSE))","v":""},{"$f":"IF(入力シート!$B326=\"\",\"\",VLOOKUP(入力シート!$C326,大会データ!$A$5:$F$374,5,FALSE))","v":""},{"$f":"IF(入力シート!$B326=\"\",\"\",基礎データ!$B$6)","v":""},{"$f":"IF(入力シート!$B326=\"\",\"\",B318)","v":""},{"$f":"IF(入力シート!$B326=\"\",\"\",IF(入力シート!$E326=\"\",TEXT(入力シート!$B326,\"00\"),入力シート!$E326))","v":""},null,null,{"$f":"IF(入力シート!I326=\"\",\"\",入力シート!I326)","v":""},null,null,null,null,null,null,null,null,null,null,null,null,null,null,null,null,"","","",{"$f":"IF($AC318=\"\",\"\",入力シート!F326)","v":""},{"$f":"IF($AC318=\"\",\"\",入力シート!G326)","v":""},{"$f":"IF($AC318=\"\",\"\",入力シート!H326)","v":""},""]
[{"$f":"IF(入力シート!$B327=\"\",\"\",大会コード)","v":""},{"$f":"IF(入力シート!$B327=\"\",\"\",VLOOKUP(入力シート!$C327,大会データ!$A$5:$F$374,3,FALSE))","v":""},{"$f":"IF(入力シート!$B327=\"\",\"\",VLOOKUP(入力シート!$C327,大会データ!$A$5:$F$374,4,FALSE))","v":""},{"$f":"IF(入力シート!$B327=\"\",\"\",VLOOKUP(入力シート!$C327,大会データ!$A$5:$F$374,5,FALSE))","v":""},{"$f":"IF(入力シート!$B327=\"\",\"\",基礎データ!$B$6)","v":""},{"$f":"IF(入力シート!$B327=\"\",\"\",B319)","v":""},{"$f":"IF(入力シート!$B327=\"\",\"\",IF(入力シート!$E327=\"\",TEXT(入力シート!$B327,\"00\"),入力シート!$E327))","v":""},null,null,{"$f":"IF(入力シート!I327=\"\",\"\",入力シート!I327)","v":""},null,null,null,null,null,null,null,null,null,null,null,null,null,null,null,null,"","","",{"$f":"IF($AC319=\"\",\"\",入力シート!F327)","v":""},{"$f":"IF($AC319=\"\",\"\",入力シート!G327)","v":""},{"$f":"IF($AC319=\"\",\"\",入力シート!H327)","v":""},""]
[{"$f":"IF(入力シート!$B328=\"\",\"\",大会コード)","v":""},{"$f":"IF(入力シート!$B328=\"\",\"\",VLOOKUP(入力シート!$C328,大会データ!$A$5:$F$374,3,FALSE))","v":""},{"$f":"IF(入力シート!$B328=\"\",\"\",VLOOKUP(入力シート!$C328,大会データ!$A$5:$F$374,4,FALSE))","v":""},{"$f":"IF(入力シート!$B328=\"\",\"\",VLOOKUP(入力シート!$C328,大会データ!$A$5:$F$374,5,FALSE))","v":""},{"$f":"IF(入力シート!$B328=\"\",\"\",基礎データ!$B$6)","v":""},{"$f":"IF(入力シート!$B328=\"\",\"\",B320)","v":""},{"$f":"IF(入力シート!$B328=\"\",\"\",IF(入力シート!$E328=\"\",TEXT(入力シート!$B328,\"00\"),入力シート!$E328))","v":""},null,null,{"$f":"IF(入力シート!I328=\"\",\"\",入力シート!I328)","v":""},null,null,null,null,null,null,null,null,null,null,null,null,null,null,null,null,"","","",{"$f":"IF($AC320=\"\",\"\",入力シート!F328)","v":""},{"$f":"IF($AC320=\"\",\"\",入力シート!G328)","v":""},{"$f":"IF($AC320=\"\",\"\",入力シート!H328)","v":""},""]