{"text_format":"1","workbook":"xlsx","n_sheets":7,"sheets":["入力シート","学校データ","基礎データ","大会データ","補助データ","印刷シート","送信データ"],"not_rendered":{"charts":0,"images":0,"macros":1,"external_links":0,"defined_names":56,"comments":1,"pivot_tables":0},"unopened":[],"bounds":{"document_bytes":16777216,"sheet_cells":100000,"rows_first":2000,"rows_last":500,"rows_between":2000,"halvings":0,"cell_chars":16384,"cell_head_chars":4096},"cells_cut":0,"cells_raw":0,"read":"whole","date_system":"1900"}

{"sheet":"入力シート","index":0,"n_rows":12,"n_cols":24,"rows_kept":12,"cut":false,"hidden":false,"merged":[[5,7,5,9],[7,7,7,9],[9,7,9,9],[3,7,3,8],[1,1,1,3],[3,1,3,3],[7,1,7,3],[9,1,9,3],[5,1,5,3],[1,4,1,5],[3,4,3,5],[5,4,5,5],[9,4,9,5]]}
[]
[null,"区分",null,null,"中学生",null,null,null,null,null,null,null,null,{"$f":"LEFT(E2,1)","v":"中"}]
[]
[null,"学校名(選択)",null,null,null,null,"性別",null,null,null,null,null,null,{"$f":"Inp_Nen","v":0}]
[]
[null,"学年",null,null,null,null,"種目",null,null,null,null,null,null,{"$f":"H4","v":0},null,"転記元",{"$f":"VLOOKUP(R6,大会データ!$F$5:$I$100,4,FALSE)","v":{"$error":"#N/A"}},{"$f":"H6","v":0},{"$f":"IF(E8=\"\",\"\",E8)","v":""},{"$f":"F8","v":0},{"$f":"H8","v":0},{"$f":"E6","v":0},{"$f":"IF(E10=\"\",\"\",E10)","v":""},{"$f":"IF(H10=\"\",\"\",H10)","v":""}]
[null,null,null,null,"ﾅﾝﾊﾞｰｶｰﾄﾞ","氏名"]
[null,"選手",null,null,null,null,"フリガナ"]
[]
[null,"記録（あれば）",null,null,null,null,"記録を出した大会名"]
[]
[null,"番","種目番","種目","ﾅﾝﾊﾞｰｶｰﾄﾞ","選手名","フリガナ","学年","記録","大会名"]

{"sheet":"学校データ","index":1,"n_rows":47,"n_cols":6,"rows_kept":47,"cut":false,"hidden":true,"merged":[]}
["401","増位","姫路市増位新町2丁目4-1","079-224-9110","079-282-6670",{"$f":"A1&\"  \"&B1","v":"401  増位"}]
["402","姫路広嶺","姫路市峰南町2-43","079-222-2756","079-282-6692",{"$f":"A2&\"  \"&B2","v":"402  姫路広嶺"}]
["403","姫路高丘","姫路市山吹1丁目4番13号","079-298-2090","079-295-9658","403  姫路高丘"]
["404","大白書","姫路市飾西652","079-266-0154","079-267-3984","404  大白書"]
["405","東光","姫路市国分寺町80","079-224-9927","079-282-6693","405  東光"]
["406","白鷺","姫路市本町68","079-222-5588","","406  白鷺"]
["407","琴陵","姫路市山畑新田525","079-292-5425","079-295-9653","407  琴陵"]
["408","山陽","姫路市延末103","079-297-1610","079-295-9652","408  山陽"]
["409","姫路灘","姫路市白浜町神田1丁目33","079-245-0226","079-245-9668","409  姫路灘"]
["410","飾磨東","姫路市飾磨区三和町26番地","079-235-5875","079-233-3153","410  飾磨東"]
["411","飾磨中部","姫路市飾磨区細江206","079-235-5872","079-233-3154","411  飾磨中部"]
["412","飾磨西","姫路市飾磨区構2丁目93番地","079-235-5878","079-233-3155","412  飾磨西"]
["413","広畑","姫路市広畑区小松3丁目83","079-236-5935","079-238-1554","413  広畑"]
["414","網干","姫路市網干区新在家1320番地の4","079-273-6087","079-274-5162","414  網干"]
["415","朝日","姫路市網干区坂出1番地の1","079-273-5533","079-274-5271","415  朝日"]
["416","神南","姫路市船津町3937番地","079-232-0008","079-232-8439","416  神南"]
["417","豊富","姫路市豊富町御蔭944","079-264-0039","079-264-0389","417  豊富"]
["418","城山","姫路市飾東町豊国1163番地の5","079-253-1047","079-253-0736","418  城山"]
["419","花田","姫路市花田町小川1246番地の1","079-253-7475","079-253-0746","419  花田"]
["420","四郷","姫路市四郷町坂元３４５の２","079-252-1467","079-253-0719","420  四郷"]
["424","福崎西","神崎郡福崎町福田597","0790-22-0157","0790-22-7663","424  福崎西"]
["425","神崎","神崎郡神河町栗賀町611","0790-32-0148","0790-32-2011","425  神崎"]
["427","鶴居","","","","427  鶴居"]
["428","市川","神崎郡市川町甘地836番地","0790-26-0030","0790-26-2967","428  市川"]
["429","瀬加","神崎郡市川町上瀬加841","0790-27-0040","0790-27-0217","429  瀬加"]
["430","福崎東","神崎郡福崎町南田原1200-1","0790-22-0208","0790-22-7661","430  福崎東"]
["432","香寺","姫路市香寺町岩部293","079-232-1231","079-232-1232","432  香寺"]
["434","大河内","神崎郡神河町寺前93","0790-34-0030","0790-34-1355","434  大河内"]
["435","神河","","","","435  神河"]
["436","家島","姫路市家島町宮1877番地の2","07932-5-0049","07932-5-2575","436  家島"]
["437","坊勢","姫路市家島町坊勢430-1","07932-6-0033","07932-7-1118","437  坊勢"]
["438","置塩","姫路市夢前町又坂50","07933-5-0279","07933-5-3295","438  置塩"]
["439","鹿谷","姫路市夢前町前之庄2860","07933-6-0258","07933-6-0768","439  鹿谷"]
["440","菅野","姫路市夢前町護持29-1","07933-5-0007","07933-5-3293","440  菅野"]
["451","賢明","姫路市本町68","079-223-8456","079-223-8456","451  賢明"]
["452","淳心","姫路市本町68","079-222-3581","079-222-3587","452  淳心"]
["453","東洋大姫路","","","","453  東洋大姫路"]
["454","林田","","","","454  林田"]
["455","夢前","姫路市広畑区才226番地の1","079-236-6131","079-238-1495","455  夢前"]
["456","姫路東","姫路市別所町別所30番地の2","079-252-6210","079-253-0695","456  姫路東"]
["457","城乾","姫路市南八代町6-1","0792-94-2151","0792-95-9654","457  城乾"]
["458","大的","姫路市大塩町2213番地の2","079-254-5230","079-254-2469","458  大的"]
["459","安室","姫路市田寺東2丁目6の1","079-293-2761","079-295-9661","459  安室"]
["460","書写","","","","460  書写"]
["461","大津","姫路市大津区長松229","079-236-9282","079-238-1557","461  大津"]
["462","安富","","","","462  安富"]
["000","その他",null,null,null,"000  その他"]

{"sheet":"基礎データ","index":2,"n_rows":8,"n_cols":3,"rows_kept":8,"cut":false,"hidden":true,"merged":[]}
[]
["年度",2017,"年度"]
[]
["大会名","姫路市チャレンジ記録会"]
[]
["学校データ",{"$f":"TEXT(LEFT(入力シート!E4,FIND(\" \",入力シート!E4)),\"000\")","v":{"$error":"#VALUE!"}}]
[]
["参加人数",{"$f":"COUNT(入力シート!B13:B330)","v":0}]

{"sheet":"大会データ","index":3,"n_rows":100,"n_cols":10,"rows_kept":100,"cut":false,"hidden":true,"merged":[]}
["大会コード","大会名",null,null,null,null,"最大人数",{"$f":"MAX(H5:H100)","v":0},"印刷行数",{"$f":"SUM(J5:J100)","v":0}]
[4010001,"姫路市チャレンジ記録会",null,null,null,null,"連番Min",{"$f":"MIN(Syumokuban)","v":0}]
[null,null,null,null,null,null,"連番Max",{"$f":"MAX(Syumokuban)","v":0}]
["連番","大会コード","性別","学年","競技種目コード","競技名称","人数制限","出場人数","連番","印刷行数"]
[1,4010001,0,4,"001","小学４年生男子１００ｍ",100,{"$f":"COUNTIF(Syumokuban,A5)","v":0},{"$f":"A5","v":1},{"$f":"ROUNDUP(H5/4,0)","v":0}]
[2,4010001,0,6,"001","小学５．６年生男子１００ｍ",100,0,{"$f":"A6","v":2},0]
[3,4010001,0,6,"530","小学５．６年生男子走幅跳",100,0,3,0]
[4,4010001,1,4,"001","小学４年生女子１００ｍ",100,0,4,0]
[5,4010001,1,6,"001","小学５．６年生女子１００ｍ",100,0,5,0]
[6,4010001,1,6,"530","小学５．６年生女子走幅跳",100,0,6,0]
[7,4010001,0,0,"001","中学男子１００ｍ",100,0,7,0]
[8,4010001,0,0,"015","中学男子１５００ｍ",100,0,8,0]
[9,4010001,0,0,"530","中学男子走幅跳",100,0,9,0]
[10,4010001,0,0,"562","中学男子砲丸投",100,0,10,0]
[11,4010001,0,0,"551","中学男子円盤投",100,0,11,0]
[12,4010001,1,0,"001","中学女子１００ｍ",100,0,12,0]
[13,4010001,1,0,"008","中学女子８００ｍ",100,0,13,0]
[14,4010001,1,0,"530","中学女子走幅跳",100,0,14,0]
[15,4010001,1,0,"560","中学女子砲丸投",100,0,15,0]
[16,4010001,1,0,"550","中学女子円盤投",100,0,16,0]
[17,4010001,0,7,"001","高校・一般男子１００ｍ",100,0,17,0]
[18,4010001,0,7,"015","高校・一般男子１５００ｍ",100,0,18,0]
[19,4010001,0,7,"530","高校・一般男子走幅跳",100,0,19,0]
[20,4010001,0,7,"562","高校・一般男子砲丸投(6㎏)",100,0,20,0]
[21,4010001,0,7,"551","高校・一般男子円盤投(1.75㎏)",100,0,21,0]
[22,4010001,1,7,"001","高校・一般女子１００ｍ",100,0,22,0]
[23,4010001,1,7,"008","高校・一般女子８００ｍ",100,0,23,0]
[24,4010001,1,7,"530","高校・一般女子走幅跳",100,0,24,0]
[25,4010001,1,7,"560","高校・一般女子砲丸投(4㎏)",100,0,25,0]
[26,4010001,1,7,"551","高校・一般女子円盤投(1.0㎏)",100,0,26,0]
[null,null,null,null,null,null,null,0,0,{"$f":"ROUNDUP(H31/4,0)","v":0}]
[null,null,null,null,null,null,null,0,0,0]
[null,null,null,null,null,null,null,0,0,0]
[null,null,null,null,null,null,null,0,0,0]
[null,null,null,null,null,null,null,{"$f":"COUNTIF(Syumokuban,A35)","v":0},0,{"$f":"ROUNDUP(H35/4,0)","v":0}]
[null,null,null,null,null,null,null,0,0,0]
[null,null,null,null,null,null,null,0,0,0]
[null,null,null,null,null,null,null,0,0,0]
[null,null,null,null,null,null,null,0,0,0]
[null,null,null,null,null,null,null,0,0,0]
[null,null,null,null,null,null,null,0,0,0]
[null,null,null,null,null,null,null,0,0,0]
[null,null,null,null,null,null,null,0,0,0]
[null,null,null,null,null,null,null,0,0,0]
[null,null,null,null,null,null,null,0,0,0]
[null,null,null,null,null,null,null,0,0,0]
[null,null,null,null,null,null,null,0,0,0]
[null,null,null,null,null,null,null,0,0,0]
[null,null,null,null,null,null,null,0,0,0]
[null,null,null,null,null,null,null,0,0,0]
[null,null,null,null,null,null,null,0,0,0]
[null,null,null,null,null,null,null,0,0,0]
[null,null,null,null,null,null,null,0,0,0]
[null,null,null,null,null,null,null,0,0,0]
[null,null,null,null,null,null,null,0,0,0]
[null,null,null,null,null,null,null,0,0,0]
[null,null,null,null,null,null,null,0,0,0]
[null,null,null,null,null,null,null,0,0,0]
[null,null,null,null,null,null,null,0,0,0]
[null,null,null,null,null,null,null,0,0,0]
[null,null,null,null,null,null,null,0,0,0]
[null,null,null,null,null,null,null,0,0,0]
[null,null,null,null,null,null,null,0,0,0]
[null,null,null,null,null,null,null,0,0,0]
[null,null,null,null,null,null,null,0,0,0]
[null,null,null,null,null,null,null,0,0,0]
[null,null,null,null,null,null,null,{"$f":"COUNTIF(Syumokuban,A67)","v":0},{"$f":"A67","v":0},{"$f":"ROUNDUP(H67/4,0)","v":0}]
[null,null,null,null,null,null,null,0,0,0]
[null,null,null,null,null,null,null,0,0,0]
[null,null,null,null,null,null,null,0,0,0]
[null,null,null,null,null,null,null,0,0,0]
[null,null,null,null,null,null,null,0,0,0]
[null,null,null,null,null,null,null,0,0,0]
[null,null,null,null,null,null,null,0,0,0]
[null,null,null,null,null,null,null,0,0,0]
[null,null,null,null,null,null,null,0,0,0]
[null,null,null,null,null,null,null,0,0,0]
[null,null,null,null,null,null,null,0,0,0]
[null,null,null,null,null,null,null,0,0,0]
[null,null,null,null,null,null,null,0,0,0]
[null,null,null,null,null,null,null,0,0,0]
[null,null,null,null,null,null,null,0,0,0]
[null,null,null,null,null,null,null,0,0,0]
[null,null,null,null,null,null,null,0,0,0]
[null,null,null,null,null,null,null,0,0,0]
[null,null,null,null,null,null,null,0,0,0]
[null,null,null,null,null,null,null,0,0,0]
[null,null,null,null,null,null,null,0,0,0]
[null,null,null,null,null,null,null,0,0,0]
[null,null,null,null,null,null,null,0,0,0]
[null,null,null,null,null,null,null,0,0,0]
[null,null,null,null,null,null,null,0,0,0]
[null,null,null,null,null,null,null,0,0,0]
[null,null,null,null,null,null,null,0,0,0]
[null,null,null,null,null,null,null,0,0,0]
[null,null,null,null,null,null,null,0,0,0]
[null,null,null,null,null,null,null,0,0,0]
[null,null,null,null,null,null,null,0,0,0]
[null,null,null,null,null,null,null,0,0,0]
[null,null,null,null,null,null,null,0,0,0]

{"sheet":"補助データ","index":4,"n_rows":85,"n_cols":7,"rows_kept":85,"cut":false,"hidden":true,"merged":[[1,1,1,2],[54,1,54,2],[58,1,58,2],[62,1,62,2],[82,1,82,2]]}
[]
[null,"入力補助データ"]
[]
[null,"出場種ID","出場種別"]
[null,0,"共通","<=3"]
[null,1,"１年",1]
[null,2,"２年",2]
[null,3,"３年",{"$f":"3","v":3}]
[null,4,"１．２年","<3"]
[null,5,"２．３年",">1"]
[null,6,"低学年","<3"]
[null,7,"その他","<=3"]
[]
[null,"種目コード","種目名","種目種別"]
[null,1,"１００ｍ",1]
[null,2,"２００ｍ",1]
[null,4,"４００ｍ",1]
[null,8,"８００ｍ",1]
[null,15,"１５００ｍ",1]
[null,30,"３０００ｍ",1]
[null,110,"１００ｍＨ",1]
[null,111,"１１０ｍＨ",1]
[null,410,"４×１００ｍＲ",1]
[null,420,"４×２００ｍＲ",1]
[null,510,"走高跳",2]
[null,520,"棒高跳び",2]
[null,530,"走幅跳",2]
[null,540,"三段跳",2]
[null,550,"円盤投",2]
[null,551,"円盤投(1.5㎏)",2]
[null,560,"砲丸投",2]
[null,561,"砲丸投(2.7㎏)",2]
[null,562,"砲丸投(5.0㎏)",2]
[null,563,"砲丸投(4.0㎏)",2]
[null,570,"ｼﾞｬﾍﾞﾘｯｸｽﾛｰ",2]
[null,710,"男子四種競技",3]
[null,760,"女子四種競技",3]
[]
[null,"種目種別ID","種目種別"]
[null,1,"トラック"]
[null,2,"フィールド"]
[null,3,"混成"]
[]
[null,"種目詳細","種目１","種目２","種目３","種目４"]
[null,"女子四種競技","１００ｍＨ","走高跳","砲丸投","２００ｍ"]
[null,"男子四種競技","１１０ｍＨ","砲丸投","走高跳","４００ｍ"]
[]
[null,"性別ID","性別"]
[null,0,"男"]
[null,1,"女"]
[]
[]
[]
[]
[null,"読み込みデータフォルダ指定"]
[null,"中体連データ","F:\\地区マスタ\\akasi01\\2014"]
[]
[]
[null,"読み込み試合データ"]
[null,"3010012","第２回明石市中学記録会"]
[]
[]
[null,"種目コード表",null,"男上","男下","女下","女上"]
[null,"001","１００ｍ",10,25,11,28]
[null,"002","２００ｍ",20.5,48,22,55]
[null,"004","４００ｍ",42,120,48,140]
[null,"008","８００ｍ",150,400,200,450]
[null,"015","１５００ｍ",340,800,400,900]
[null,"030","３０００ｍ",800,2000,900,2000]
[null,"110","１００ｍＨ",null,null,12,40]
[null,"111","１１０ｍＨ",12,40]
[null,"510","走高跳",1.2,2.4,1,1.9]
[null,"520","棒高跳",1,5.5]
[null,"530","走幅跳",2,8,2,7]
[null,"540","三段跳",4,16]
[null,"550","円盤投",null,null,1.5,60]
[null,"551","円盤投(1.5kg)",1.5,70]
[null,"560","砲丸投",null,null,2,18]
[null,"562","砲丸投(5kg)",2,20]
[null,"570","ｼﾞｬﾍﾞﾘｯｸｽﾛｰ",5,80,5,60]
[]
[]
[null,"計測区分"]
[null,0,"電気"]
[null,1,"手動"]

{"sheet":"印刷シート","index":5,"n_rows":9,"n_cols":15,"rows_kept":9,"cut":false,"hidden":false,"merged":[[7,1,8,1],[3,2,3,3],[4,2,4,3],[5,2,5,3],[3,4,3,5],[5,4,5,5],[7,2,8,2],[7,3,8,3],[7,5,8,5],[7,6,8,6],[1,28,2,28],[1,30,2,30],[1,17,2,17],[1,18,2,18],[1,19,2,19],[1,21,2,21],[1,22,2,22],[1,24,2,24],[1,25,2,25],[1,27,2,27],[7,12,8,12],[7,14,8,14],[7,8,8,8],[7,9,8,9],[7,11,8,11]]}
[]
[null,null,{"$f":"基礎データ!B2 &\"年度\"","v":"2017年度"},"姫路市チャレンジ記録会　参加申し込み書　(中学校用)"]
[]
[null,null,"学校名",null,{"$f":"学校名","v":0}]
[null,null,"責任者氏名",null,null,"印"]
[null,null,"連絡先(携帯)"]
[]
[null,"番号","種目","ﾅﾝﾊﾞｰ\nｶｰﾄﾞ","氏名","学年","ﾅﾝﾊﾞｰ\nｶｰﾄﾞ","氏名","学年","ﾅﾝﾊﾞｰ\nｶｰﾄﾞ","氏名","学年","ﾅﾝﾊﾞｰ\nｶｰﾄﾞ","氏名","学年"]
[null,null,null,null,"記録",null,null,"記録",null,null,"記録",null,null,"記録"]

{"sheet":"送信データ","index":6,"n_rows":320,"n_cols":33,"rows_kept":320,"cut":false,"hidden":false,"merged":[]}
[{"$f":"IF(入力シート!$B9=\"\",\"\",大会コード)","v":""},{"$f":"IF(入力シート!$B9=\"\",\"\",VLOOKUP(入力シート!$C9,大会データ!$A$5:$F$372,3,FALSE))","v":""},{"$f":"IF(入力シート!$B9=\"\",\"\",VLOOKUP(入力シート!$C9,大会データ!$A$5:$F$372,4,FALSE))","v":""},{"$f":"IF(入力シート!$B9=\"\",\"\",VLOOKUP(入力シート!$C9,大会データ!$A$5:$F$372,5,FALSE))","v":""},{"$f":"IF(入力シート!$B9=\"\",\"\",基礎データ!$B$6)","v":""},{"$f":"IF(入力シート!$B9=\"\",\"\",B1)","v":""},{"$f":"IF(入力シート!$B9=\"\",\"\",IF(入力シート!$E9=\"\",TEXT(入力シート!$B9,\"00\"),入力シート!$E9))","v":""},null,null,{"$f":"IF(入力シート!I9=\"\",\"\",入力シート!I9)","v":""},null,null,null,null,null,null,null,null,null,null,null,null,null,null,null,null,{"$f":"E1","v":""},{"$f":"B1","v":""},{"$f":"G1","v":""},{"$f":"IF($AC1=\"\",\"\",入力シート!F9)","v":""},{"$f":"IF($AC1=\"\",\"\",入力シート!G9)","v":""},{"$f":"IF($AC1=\"\",\"\",入力シート!H9)","v":""},{"$f":"IF($AC1=\"\",\"\",2017-AF1)","v":""}]
[]
[null,null,null,null,null,null,null,null,null,null,null,null,null,null,null,null,null,null,null,null,null,null,null,null,null,null,{"$f":"学校名","v":0}]
["大会コード","性別","学年","競技種目コード","学校コード","性別1","選手コード","組","レーン","エントリ記録","当日記録","順位","条件項目","計測区分","未記録区分","大会順位",null,null,null,null,null,null,null,null,null,null,"学校コード","性別","選手コード","選手名","フリガナ","学年","入学年"]
[{"$f":"IF(入力シート!$B13=\"\",\"\",大会コード)","v":""},{"$f":"IF(入力シート!$B13=\"\",\"\",VLOOKUP(入力シート!$C13,大会データ!$A$5:$F$372,3,FALSE))","v":""},{"$f":"IF(入力シート!$B13=\"\",\"\",VLOOKUP(入力シート!$C13,大会データ!$A$5:$F$372,4,FALSE))","v":""},{"$f":"IF(入力シート!$B13=\"\",\"\",VLOOKUP(入力シート!$C13,大会データ!$A$5:$F$372,5,FALSE))","v":""},{"$f":"IF(入力シート!$B13=\"\",\"\",基礎データ!$B$6)","v":""},{"$f":"IF(入力シート!$B13=\"\",\"\",B5)","v":""},{"$f":"IF(入力シート!$B13=\"\",\"\",IF(入力シート!$E13=\"\",TEXT(入力シート!$B13,\"00\"),入力シート!$E13))","v":""},null,null,{"$f":"IF(入力シート!I13=\"\",\"\",入力シート!I13)","v":""},null,null,null,null,null,null,null,null,null,null,null,null,null,null,null,null,{"$f":"E5","v":""},{"$f":"B5","v":""},{"$f":"G5","v":""},{"$f":"IF($AC5=\"\",\"\",入力シート!F13)","v":""},{"$f":"IF($AC5=\"\",\"\",入力シート!G13)","v":""},{"$f":"IF($AC5=\"\",\"\",入力シート!H13)","v":""},{"$f":"IF($AC5=\"\",\"\",2017-AF5)","v":""}]
[{"$f":"IF(入力シート!$B14=\"\",\"\",大会コード)","v":""},{"$f":"IF(入力シート!$B14=\"\",\"\",VLOOKUP(入力シート!$C14,大会データ!$A$5:$F$372,3,FALSE))","v":""},{"$f":"IF(入力シート!$B14=\"\",\"\",VLOOKUP(入力シート!$C14,大会データ!$A$5:$F$372,4,FALSE))","v":""},{"$f":"IF(入力シート!$B14=\"\",\"\",VLOOKUP(入力シート!$C14,大会データ!$A$5:$F$372,5,FALSE))","v":""},{"$f":"IF(入力シート!$B14=\"\",\"\",基礎データ!$B$6)","v":""},{"$f":"IF(入力シート!$B14=\"\",\"\",B6)","v":""},{"$f":"IF(入力シート!$B14=\"\",\"\",IF(入力シート!$E14=\"\",TEXT(入力シート!$B14,\"00\"),入力シート!$E14))","v":""},null,null,{"$f":"IF(入力シート!I14=\"\",\"\",入力シート!I14)","v":""},null,null,null,null,null,null,null,null,null,null,null,null,null,null,null,null,"","","",{"$f":"IF($AC6=\"\",\"\",入力シート!F14)","v":""},{"$f":"IF($AC6=\"\",\"\",入力シート!G14)","v":""},{"$f":"IF($AC6=\"\",\"\",入力シート!H14)","v":""},{"$f":"IF($AC6=\"\",\"\",2016-AF6)","v":""}]
[{"$f":"IF(入力シート!$B15=\"\",\"\",大会コード)","v":""},{"$f":"IF(入力シート!$B15=\"\",\"\",VLOOKUP(入力シート!$C15,大会データ!$A$5:$F$372,3,FALSE))","v":""},{"$f":"IF(入力シート!$B15=\"\",\"\",VLOOKUP(入力シート!$C15,大会データ!$A$5:$F$372,4,FALSE))","v":""},{"$f":"IF(入力シート!$B15=\"\",\"\",VLOOKUP(入力シート!$C15,大会データ!$A$5:$F$372,5,FALSE))","v":""},{"$f":"IF(入力シート!$B15=\"\",\"\",基礎データ!$B$6)","v":""},{"$f":"IF(入力シート!$B15=\"\",\"\",B7)","v":""},{"$f":"IF(入力シート!$B15=\"\",\"\",IF(入力シート!$E15=\"\",TEXT(入力シート!$B15,\"00\"),入力シート!$E15))","v":""},null,null,{"$f":"IF(入力シート!I15=\"\",\"\",入力シート!I15)","v":""},null,null,null,null,null,null,null,null,null,null,null,null,null,null,null,null,"","","",{"$f":"IF($AC7=\"\",\"\",入力シート!F15)","v":""},{"$f":"IF($AC7=\"\",\"\",入力シート!G15)","v":""},{"$f":"IF($AC7=\"\",\"\",入力シート!H15)","v":""},""]
[{"$f":"IF(入力シート!$B16=\"\",\"\",大会コード)","v":""},{"$f":"IF(入力シート!$B16=\"\",\"\",VLOOKUP(入力シート!$C16,大会データ!$A$5:$F$372,3,FALSE))","v":""},{"$f":"IF(入力シート!$B16=\"\",\"\",VLOOKUP(入力シート!$C16,大会データ!$A$5:$F$372,4,FALSE))","v":""},{"$f":"IF(入力シート!$B16=\"\",\"\",VLOOKUP(入力シート!$C16,大会データ!$A$5:$F$372,5,FALSE))","v":""},{"$f":"IF(入力シート!$B16=\"\",\"\",基礎データ!$B$6)","v":""},{"$f":"IF(入力シート!$B16=\"\",\"\",B8)","v":""},{"$f":"IF(入力シート!$B16=\"\",\"\",IF(入力シート!$E16=\"\",TEXT(入力シート!$B16,\"00\"),入力シート!$E16))","v":""},null,null,{"$f":"IF(入力シート!I16=\"\",\"\",入力シート!I16)","v":""},null,null,null,null,null,null,null,null,null,null,null,null,null,null,null,null,"","","",{"$f":"IF($AC8=\"\",\"\",入力シート!F16)","v":""},{"$f":"IF($AC8=\"\",\"\",入力シート!G16)","v":""},{"$f":"IF($AC8=\"\",\"\",入力シート!H16)","v":""},""]
[{"$f":"IF(入力シート!$B17=\"\",\"\",大会コード)","v":""},{"$f":"IF(入力シート!$B17=\"\",\"\",VLOOKUP(入力シート!$C17,大会データ!$A$5:$F$372,3,FALSE))","v":""},{"$f":"IF(入力シート!$B17=\"\",\"\",VLOOKUP(入力シート!$C17,大会データ!$A$5:$F$372,4,FALSE))","v":""},{"$f":"IF(入力シート!$B17=\"\",\"\",VLOOKUP(入力シート!$C17,大会データ!$A$5:$F$372,5,FALSE))","v":""},{"$f":"IF(入力シート!$B17=\"\",\"\",基礎データ!$B$6)","v":""},{"$f":"IF(入力シート!$B17=\"\",\"\",B9)","v":""},{"$f":"IF(入力シート!$B17=\"\",\"\",IF(入力シート!$E17=\"\",TEXT(入力シート!$B17,\"00\"),入力シート!$E17))","v":""},null,null,{"$f":"IF(入力シート!I17=\"\",\"\",入力シート!I17)","v":""},null,null,null,null,null,null,null,null,null,null,null,null,null,null,null,null,"","","",{"$f":"IF($AC9=\"\",\"\",入力シート!F17)","v":""},{"$f":"IF($AC9=\"\",\"\",入力シート!G17)","v":""},{"$f":"IF($AC9=\"\",\"\",入力シート!H17)","v":""},""]
[{"$f":"IF(入力シート!$B18=\"\",\"\",大会コード)","v":""},{"$f":"IF(入力シート!$B18=\"\",\"\",VLOOKUP(入力シート!$C18,大会データ!$A$5:$F$372,3,FALSE))","v":""},{"$f":"IF(入力シート!$B18=\"\",\"\",VLOOKUP(入力シート!$C18,大会データ!$A$5:$F$372,4,FALSE))","v":""},{"$f":"IF(入力シート!$B18=\"\",\"\",VLOOKUP(入力シート!$C18,大会データ!$A$5:$F$372,5,FALSE))","v":""},{"$f":"IF(入力シート!$B18=\"\",\"\",基礎データ!$B$6)","v":""},{"$f":"IF(入力シート!$B18=\"\",\"\",B10)","v":""},{"$f":"IF(入力シート!$B18=\"\",\"\",IF(入力シート!$E18=\"\",TEXT(入力シート!$B18,\"00\"),入力シート!$E18))","v":""},null,null,{"$f":"IF(入力シート!I18=\"\",\"\",入力シート!I18)","v":""},null,null,null,null,null,null,null,null,null,null,null,null,null,null,null,null,"","","",{"$f":"IF($AC10=\"\",\"\",入力シート!F18)","v":""},{"$f":"IF($AC10=\"\",\"\",入力シート!G18)","v":""},{"$f":"IF($AC10=\"\",\"\",入力シート!H18)","v":""},""]
[{"$f":"IF(入力シート!$B19=\"\",\"\",大会コード)","v":""},{"$f":"IF(入力シート!$B19=\"\",\"\",VLOOKUP(入力シート!$C19,大会データ!$A$5:$F$372,3,FALSE))","v":""},{"$f":"IF(入力シート!$B19=\"\",\"\",VLOOKUP(入力シート!$C19,大会データ!$A$5:$F$372,4,FALSE))","v":""},{"$f":"IF(入力シート!$B19=\"\",\"\",VLOOKUP(入力シート!$C19,大会データ!$A$5:$F$372,5,FALSE))","v":""},{"$f":"IF(入力シート!$B19=\"\",\"\",基礎データ!$B$6)","v":""},{"$f":"IF(入力シート!$B19=\"\",\"\",B11)","v":""},{"$f":"IF(入力シート!$B19=\"\",\"\",IF(入力シート!$E19=\"\",TEXT(入力シート!$B19,\"00\"),入力シート!$E19))","v":""},null,null,{"$f":"IF(入力シート!I19=\"\",\"\",入力シート!I19)","v":""},null,null,null,null,null,null,null,null,null,null,null,null,null,null,null,null,"","","",{"$f":"IF($AC11=\"\",\"\",入力シート!F19)","v":""},{"$f":"IF($AC11=\"\",\"\",入力シート!G19)","v":""},{"$f":"IF($AC11=\"\",\"\",入力シート!H19)","v":""},""]
[{"$f":"IF(入力シート!$B20=\"\",\"\",大会コード)","v":""},{"$f":"IF(入力シート!$B20=\"\",\"\",VLOOKUP(入力シート!$C20,大会データ!$A$5:$F$372,3,FALSE))","v":""},{"$f":"IF(入力シート!$B20=\"\",\"\",VLOOKUP(入力シート!$C20,大会データ!$A$5:$F$372,4,FALSE))","v":""},{"$f":"IF(入力シート!$B20=\"\",\"\",VLOOKUP(入力シート!$C20,大会データ!$A$5:$F$372,5,FALSE))","v":""},{"$f":"IF(入力シート!$B20=\"\",\"\",基礎データ!$B$6)","v":""},{"$f":"IF(入力シート!$B20=\"\",\"\",B12)","v":""},{"$f":"IF(入力シート!$B20=\"\",\"\",IF(入力シート!$E20=\"\",TEXT(入力シート!$B20,\"00\"),入力シート!$E20))","v":""},null,null,{"$f":"IF(入力シート!I20=\"\",\"\",入力シート!I20)","v":""},null,null,null,null,null,null,null,null,null,null,null,null,null,null,null,null,"","","",{"$f":"IF($AC12=\"\",\"\",入力シート!F20)","v":""},{"$f":"IF($AC12=\"\",\"\",入力シート!G20)","v":""},{"$f":"IF($AC12=\"\",\"\",入力シート!H20)","v":""},""]
[{"$f":"IF(入力シート!$B21=\"\",\"\",大会コード)","v":""},{"$f":"IF(入力シート!$B21=\"\",\"\",VLOOKUP(入力シート!$C21,大会データ!$A$5:$F$372,3,FALSE))","v":""},{"$f":"IF(入力シート!$B21=\"\",\"\",VLOOKUP(入力シート!$C21,大会データ!$A$5:$F$372,4,FALSE))","v":""},{"$f":"IF(入力シート!$B21=\"\",\"\",VLOOKUP(入力シート!$C21,大会データ!$A$5:$F$372,5,FALSE))","v":""},{"$f":"IF(入力シート!$B21=\"\",\"\",基礎データ!$B$6)","v":""},{"$f":"IF(入力シート!$B21=\"\",\"\",B13)","v":""},{"$f":"IF(入力シート!$B21=\"\",\"\",IF(入力シート!$E21=\"\",TEXT(入力シート!$B21,\"00\"),入力シート!$E21))","v":""},null,null,{"$f":"IF(入力シート!I21=\"\",\"\",入力シート!I21)","v":""},null,null,null,null,null,null,null,null,null,null,null,null,null,null,null,null,"","","",{"$f":"IF($AC13=\"\",\"\",入力シート!F21)","v":""},{"$f":"IF($AC13=\"\",\"\",入力シート!G21)","v":""},{"$f":"IF($AC13=\"\",\"\",入力シート!H21)","v":""},""]
[{"$f":"IF(入力シート!$B22=\"\",\"\",大会コード)","v":""},{"$f":"IF(入力シート!$B22=\"\",\"\",VLOOKUP(入力シート!$C22,大会データ!$A$5:$F$372,3,FALSE))","v":""},{"$f":"IF(入力シート!$B22=\"\",\"\",VLOOKUP(入力シート!$C22,大会データ!$A$5:$F$372,4,FALSE))","v":""},{"$f":"IF(入力シート!$B22=\"\",\"\",VLOOKUP(入力シート!$C22,大会データ!$A$5:$F$372,5,FALSE))","v":""},{"$f":"IF(入力シート!$B22=\"\",\"\",基礎データ!$B$6)","v":""},{"$f":"IF(入力シート!$B22=\"\",\"\",B14)","v":""},{"$f":"IF(入力シート!$B22=\"\",\"\",IF(入力シート!$E22=\"\",TEXT(入力シート!$B22,\"00\"),入力シート!$E22))","v":""},null,null,{"$f":"IF(入力シート!I22=\"\",\"\",入力シート!I22)","v":""},null,null,null,null,null,null,null,null,null,null,null,null,null,null,null,null,"","","",{"$f":"IF($AC14=\"\",\"\",入力シート!F22)","v":""},{"$f":"IF($AC14=\"\",\"\",入力シート!G22)","v":""},{"$f":"IF($AC14=\"\",\"\",入力シート!H22)","v":""},""]
[{"$f":"IF(入力シート!$B23=\"\",\"\",大会コード)","v":""},{"$f":"IF(入力シート!$B23=\"\",\"\",VLOOKUP(入力シート!$C23,大会データ!$A$5:$F$372,3,FALSE))","v":""},{"$f":"IF(入力シート!$B23=\"\",\"\",VLOOKUP(入力シート!$C23,大会データ!$A$5:$F$372,4,FALSE))","v":""},{"$f":"IF(入力シート!$B23=\"\",\"\",VLOOKUP(入力シート!$C23,大会データ!$A$5:$F$372,5,FALSE))","v":""},{"$f":"IF(入力シート!$B23=\"\",\"\",基礎データ!$B$6)","v":""},{"$f":"IF(入力シート!$B23=\"\",\"\",B15)","v":""},{"$f":"IF(入力シート!$B23=\"\",\"\",IF(入力シート!$E23=\"\",TEXT(入力シート!$B23,\"00\"),入力シート!$E23))","v":""},null,null,{"$f":"IF(入力シート!I23=\"\",\"\",入力シート!I23)","v":""},null,null,null,null,null,null,null,null,null,null,null,null,null,null,null,null,"","","",{"$f":"IF($AC15=\"\",\"\",入力シート!F23)","v":""},{"$f":"IF($AC15=\"\",\"\",入力シート!G23)","v":""},{"$f":"IF($AC15=\"\",\"\",入力シート!H23)","v":""},""]
[{"$f":"IF(入力シート!$B24=\"\",\"\",大会コード)","v":""},{"$f":"IF(入力シート!$B24=\"\",\"\",VLOOKUP(入力シート!$C24,大会データ!$A$5:$F$372,3,FALSE))","v":""},{"$f":"IF(入力シート!$B24=\"\",\"\",VLOOKUP(入力シート!$C24,大会データ!$A$5:$F$372,4,FALSE))","v":""},{"$f":"IF(入力シート!$B24=\"\",\"\",VLOOKUP(入力シート!$C24,大会データ!$A$5:$F$372,5,FALSE))","v":""},{"$f":"IF(入力シート!$B24=\"\",\"\",基礎データ!$B$6)","v":""},{"$f":"IF(入力シート!$B24=\"\",\"\",B16)","v":""},{"$f":"IF(入力シート!$B24=\"\",\"\",IF(入力シート!$E24=\"\",TEXT(入力シート!$B24,\"00\"),入力シート!$E24))","v":""},null,null,{"$f":"IF(入力シート!I24=\"\",\"\",入力シート!I24)","v":""},null,null,null,null,null,null,null,null,null,null,null,null,null,null,null,null,"","","",{"$f":"IF($AC16=\"\",\"\",入力シート!F24)","v":""},{"$f":"IF($AC16=\"\",\"\",入力シート!G24)","v":""},{"$f":"IF($AC16=\"\",\"\",入力シート!H24)","v":""},""]
[{"$f":"IF(入力シート!$B25=\"\",\"\",大会コード)","v":""},{"$f":"IF(入力シート!$B25=\"\",\"\",VLOOKUP(入力シート!$C25,大会データ!$A$5:$F$372,3,FALSE))","v":""},{"$f":"IF(入力シート!$B25=\"\",\"\",VLOOKUP(入力シート!$C25,大会データ!$A$5:$F$372,4,FALSE))","v":""},{"$f":"IF(入力シート!$B25=\"\",\"\",VLOOKUP(入力シート!$C25,大会データ!$A$5:$F$372,5,FALSE))","v":""},{"$f":"IF(入力シート!$B25=\"\",\"\",基礎データ!$B$6)","v":""},{"$f":"IF(入力シート!$B25=\"\",\"\",B17)","v":""},{"$f":"IF(入力シート!$B25=\"\",\"\",IF(入力シート!$E25=\"\",TEXT(入力シート!$B25,\"00\"),入力シート!$E25))","v":""},null,null,{"$f":"IF(入力シート!I25=\"\",\"\",入力シート!I25)","v":""},null,null,null,null,null,null,null,null,null,null,null,null,null,null,null,null,"","","",{"$f":"IF($AC17=\"\",\"\",入力シート!F25)","v":""},{"$f":"IF($AC17=\"\",\"\",入力シート!G25)","v":""},{"$f":"IF($AC17=\"\",\"\",入力シート!H25)","v":""},""]
[{"$f":"IF(入力シート!$B26=\"\",\"\",大会コード)","v":""},{"$f":"IF(入力シート!$B26=\"\",\"\",VLOOKUP(入力シート!$C26,大会データ!$A$5:$F$372,3,FALSE))","v":""},{"$f":"IF(入力シート!$B26=\"\",\"\",VLOOKUP(入力シート!$C26,大会データ!$A$5:$F$372,4,FALSE))","v":""},{"$f":"IF(入力シート!$B26=\"\",\"\",VLOOKUP(入力シート!$C26,大会データ!$A$5:$F$372,5,FALSE))","v":""},{"$f":"IF(入力シート!$B26=\"\",\"\",基礎データ!$B$6)","v":""},{"$f":"IF(入力シート!$B26=\"\",\"\",B18)","v":""},{"$f":"IF(入力シート!$B26=\"\",\"\",IF(入力シート!$E26=\"\",TEXT(入力シート!$B26,\"00\"),入力シート!$E26))","v":""},null,null,{"$f":"IF(入力シート!I26=\"\",\"\",入力シート!I26)","v":""},null,null,null,null,null,null,null,null,null,null,null,null,null,null,null,null,"","","",{"$f":"IF($AC18=\"\",\"\",入力シート!F26)","v":""},{"$f":"IF($AC18=\"\",\"\",入力シート!G26)","v":""},{"$f":"IF($AC18=\"\",\"\",入力シート!H26)","v":""},""]
[{"$f":"IF(入力シート!$B27=\"\",\"\",大会コード)","v":""},{"$f":"IF(入力シート!$B27=\"\",\"\",VLOOKUP(入力シート!$C27,大会データ!$A$5:$F$372,3,FALSE))","v":""},{"$f":"IF(入力シート!$B27=\"\",\"\",VLOOKUP(入力シート!$C27,大会データ!$A$5:$F$372,4,FALSE))","v":""},{"$f":"IF(入力シート!$B27=\"\",\"\",VLOOKUP(入力シート!$C27,大会データ!$A$5:$F$372,5,FALSE))","v":""},{"$f":"IF(入力シート!$B27=\"\",\"\",基礎データ!$B$6)","v":""},{"$f":"IF(入力シート!$B27=\"\",\"\",B19)","v":""},{"$f":"IF(入力シート!$B27=\"\",\"\",IF(入力シート!$E27=\"\",TEXT(入力シート!$B27,\"00\"),入力シート!$E27))","v":""},null,null,{"$f":"IF(入力シート!I27=\"\",\"\",入力シート!I27)","v":""},null,null,null,null,null,null,null,null,null,null,null,null,null,null,null,null,"","","",{"$f":"IF($AC19=\"\",\"\",入力シート!F27)","v":""},{"$f":"IF($AC19=\"\",\"\",入力シート!G27)","v":""},{"$f":"IF($AC19=\"\",\"\",入力シート!H27)","v":""},""]
[{"$f":"IF(入力シート!$B28=\"\",\"\",大会コード)","v":""},{"$f":"IF(入力シート!$B28=\"\",\"\",VLOOKUP(入力シート!$C28,大会データ!$A$5:$F$372,3,FALSE))","v":""},{"$f":"IF(入力シート!$B28=\"\",\"\",VLOOKUP(入力シート!$C28,大会データ!$A$5:$F$372,4,FALSE))","v":""},{"$f":"IF(入力シート!$B28=\"\",\"\",VLOOKUP(入力シート!$C28,大会データ!$A$5:$F$372,5,FALSE))","v":""},{"$f":"IF(入力シート!$B28=\"\",\"\",基礎データ!$B$6)","v":""},{"$f":"IF(入力シート!$B28=\"\",\"\",B20)","v":""},{"$f":"IF(入力シート!$B28=\"\",\"\",IF(入力シート!$E28=\"\",TEXT(入力シート!$B28,\"00\"),入力シート!$E28))","v":""},null,null,{"$f":"IF(入力シート!I28=\"\",\"\",入力シート!I28)","v":""},null,null,null,null,null,null,null,null,null,null,null,null,null,null,null,null,"","","",{"$f":"IF($AC20=\"\",\"\",入力シート!F28)","v":""},{"$f":"IF($AC20=\"\",\"\",入力シート!G28)","v":""},{"$f":"IF($AC20=\"\",\"\",入力シート!H28)","v":""},""]
[{"$f":"IF(入力シート!$B29=\"\",\"\",大会コード)","v":""},{"$f":"IF(入力シート!$B29=\"\",\"\",VLOOKUP(入力シート!$C29,大会データ!$A$5:$F$372,3,FALSE))","v":""},{"$f":"IF(入力シート!$B29=\"\",\"\",VLOOKUP(入力シート!$C29,大会データ!$A$5:$F$372,4,FALSE))","v":""},{"$f":"IF(入力シート!$B29=\"\",\"\",VLOOKUP(入力シート!$C29,大会データ!$A$5:$F$372,5,FALSE))","v":""},{"$f":"IF(入力シート!$B29=\"\",\"\",基礎データ!$B$6)","v":""},{"$f":"IF(入力シート!$B29=\"\",\"\",B21)","v":""},{"$f":"IF(入力シート!$B29=\"\",\"\",IF(入力シート!$E29=\"\",TEXT(入力シート!$B29,\"00\"),入力シート!$E29))","v":""},null,null,{"$f":"IF(入力シート!I29=\"\",\"\",入力シート!I29)","v":""},null,null,null,null,null,null,null,null,null,null,null,null,null,null,null,null,"","","",{"$f":"IF($AC21=\"\",\"\",入力シート!F29)","v":""},{"$f":"IF($AC21=\"\",\"\",入力シート!G29)","v":""},{"$f":"IF($AC21=\"\",\"\",入力シート!H29)","v":""},""]
[{"$f":"IF(入力シート!$B30=\"\",\"\",大会コード)","v":""},{"$f":"IF(入力シート!$B30=\"\",\"\",VLOOKUP(入力シート!$C30,大会データ!$A$5:$F$372,3,FALSE))","v":""},{"$f":"IF(入力シート!$B30=\"\",\"\",VLOOKUP(入力シート!$C30,大会データ!$A$5:$F$372,4,FALSE))","v":""},{"$f":"IF(入力シート!$B30=\"\",\"\",VLOOKUP(入力シート!$C30,大会データ!$A$5:$F$372,5,FALSE))","v":""},{"$f":"IF(入力シート!$B30=\"\",\"\",基礎データ!$B$6)","v":""},{"$f":"IF(入力シート!$B30=\"\",\"\",B22)","v":""},{"$f":"IF(入力シート!$B30=\"\",\"\",IF(入力シート!$E30=\"\",TEXT(入力シート!$B30,\"00\"),入力シート!$E30))","v":""},null,null,{"$f":"IF(入力シート!I30=\"\",\"\",入力シート!I30)","v":""},null,null,null,null,null,null,null,null,null,null,null,null,null,null,null,null,"","","",{"$f":"IF($AC22=\"\",\"\",入力シート!F30)","v":""},{"$f":"IF($AC22=\"\",\"\",入力シート!G30)","v":""},{"$f":"IF($AC22=\"\",\"\",入力シート!H30)","v":""},""]
[{"$f":"IF(入力シート!$B31=\"\",\"\",大会コード)","v":""},{"$f":"IF(入力シート!$B31=\"\",\"\",VLOOKUP(入力シート!$C31,大会データ!$A$5:$F$372,3,FALSE))","v":""},{"$f":"IF(入力シート!$B31=\"\",\"\",VLOOKUP(入力シート!$C31,大会データ!$A$5:$F$372,4,FALSE))","v":""},{"$f":"IF(入力シート!$B31=\"\",\"\",VLOOKUP(入力シート!$C31,大会データ!$A$5:$F$372,5,FALSE))","v":""},{"$f":"IF(入力シート!$B31=\"\",\"\",基礎データ!$B$6)","v":""},{"$f":"IF(入力シート!$B31=\"\",\"\",B23)","v":""},{"$f":"IF(入力シート!$B31=\"\",\"\",IF(入力シート!$E31=\"\",TEXT(入力シート!$B31,\"00\"),入力シート!$E31))","v":""},null,null,{"$f":"IF(入力シート!I31=\"\",\"\",入力シート!I31)","v":""},null,null,null,null,null,null,null,null,null,null,null,null,null,null,null,null,"","","",{"$f":"IF($AC23=\"\",\"\",入力シート!F31)","v":""},{"$f":"IF($AC23=\"\",\"\",入力シート!G31)","v":""},{"$f":"IF($AC23=\"\",\"\",入力シート!H31)","v":""},""]
[{"$f":"IF(入力シート!$B32=\"\",\"\",大会コード)","v":""},{"$f":"IF(入力シート!$B32=\"\",\"\",VLOOKUP(入力シート!$C32,大会データ!$A$5:$F$372,3,FALSE))","v":""},{"$f":"IF(入力シート!$B32=\"\",\"\",VLOOKUP(入力シート!$C32,大会データ!$A$5:$F$372,4,FALSE))","v":""},{"$f":"IF(入力シート!$B32=\"\",\"\",VLOOKUP(入力シート!$C32,大会データ!$A$5:$F$372,5,FALSE))","v":""},{"$f":"IF(入力シート!$B32=\"\",\"\",基礎データ!$B$6)","v":""},{"$f":"IF(入力シート!$B32=\"\",\"\",B24)","v":""},{"$f":"IF(入力シート!$B32=\"\",\"\",IF(入力シート!$E32=\"\",TEXT(入力シート!$B32,\"00\"),入力シート!$E32))","v":""},null,null,{"$f":"IF(入力シート!I32=\"\",\"\",入力シート!I32)","v":""},null,null,null,null,null,null,null,null,null,null,null,null,null,null,null,null,"","","",{"$f":"IF($AC24=\"\",\"\",入力シート!F32)","v":""},{"$f":"IF($AC24=\"\",\"\",入力シート!G32)","v":""},{"$f":"IF($AC24=\"\",\"\",入力シート!H32)","v":""},""]
[{"$f":"IF(入力シート!$B33=\"\",\"\",大会コード)","v":""},{"$f":"IF(入力シート!$B33=\"\",\"\",VLOOKUP(入力シート!$C33,大会データ!$A$5:$F$372,3,FALSE))","v":""},{"$f":"IF(入力シート!$B33=\"\",\"\",VLOOKUP(入力シート!$C33,大会データ!$A$5:$F$372,4,FALSE))","v":""},{"$f":"IF(入力シート!$B33=\"\",\"\",VLOOKUP(入力シート!$C33,大会データ!$A$5:$F$372,5,FALSE))","v":""},{"$f":"IF(入力シート!$B33=\"\",\"\",基礎データ!$B$6)","v":""},{"$f":"IF(入力シート!$B33=\"\",\"\",B25)","v":""},{"$f":"IF(入力シート!$B33=\"\",\"\",IF(入力シート!$E33=\"\",TEXT(入力シート!$B33,\"00\"),入力シート!$E33))","v":""},null,null,{"$f":"IF(入力シート!I33=\"\",\"\",入力シート!I33)","v":""},null,null,null,null,null,null,null,null,null,null,null,null,null,null,null,null,"","","",{"$f":"IF($AC25=\"\",\"\",入力シート!F33)","v":""},{"$f":"IF($AC25=\"\",\"\",入力シート!G33)","v":""},{"$f":"IF($AC25=\"\",\"\",入力シート!H33)","v":""},""]
[{"$f":"IF(入力シート!$B34=\"\",\"\",大会コード)","v":""},{"$f":"IF(入力シート!$B34=\"\",\"\",VLOOKUP(入力シート!$C34,大会データ!$A$5:$F$372,3,FALSE))","v":""},{"$f":"IF(入力シート!$B34=\"\",\"\",VLOOKUP(入力シート!$C34,大会データ!$A$5:$F$372,4,FALSE))","v":""},{"$f":"IF(入力シート!$B34=\"\",\"\",VLOOKUP(入力シート!$C34,大会データ!$A$5:$F$372,5,FALSE))","v":""},{"$f":"IF(入力シート!$B34=\"\",\"\",基礎データ!$B$6)","v":""},{"$f":"IF(入力シート!$B34=\"\",\"\",B26)","v":""},{"$f":"IF(入力シート!$B34=\"\",\"\",IF(入力シート!$E34=\"\",TEXT(入力シート!$B34,\"00\"),入力シート!$E34))","v":""},null,null,{"$f":"IF(入力シート!I34=\"\",\"\",入力シート!I34)","v":""},null,null,null,null,null,null,null,null,null,null,null,null,null,null,null,null,"","","",{"$f":"IF($AC26=\"\",\"\",入力シート!F34)","v":""},{"$f":"IF($AC26=\"\",\"\",入力シート!G34)","v":""},{"$f":"IF($AC26=\"\",\"\",入力シート!H34)","v":""},""]
[{"$f":"IF(入力シート!$B35=\"\",\"\",大会コード)","v":""},{"$f":"IF(入力シート!$B35=\"\",\"\",VLOOKUP(入力シート!$C35,大会データ!$A$5:$F$372,3,FALSE))","v":""},{"$f":"IF(入力シート!$B35=\"\",\"\",VLOOKUP(入力シート!$C35,大会データ!$A$5:$F$372,4,FALSE))","v":""},{"$f":"IF(入力シート!$B35=\"\",\"\",VLOOKUP(入力シート!$C35,大会データ!$A$5:$F$372,5,FALSE))","v":""},{"$f":"IF(入力シート!$B35=\"\",\"\",基礎データ!$B$6)","v":""},{"$f":"IF(入力シート!$B35=\"\",\"\",B27)","v":""},{"$f":"IF(入力シート!$B35=\"\",\"\",IF(入力シート!$E35=\"\",TEXT(入力シート!$B35,\"00\"),入力シート!$E35))","v":""},null,null,{"$f":"IF(入力シート!I35=\"\",\"\",入力シート!I35)","v":""},null,null,null,null,null,null,null,null,null,null,null,null,null,null,null,null,"","","",{"$f":"IF($AC27=\"\",\"\",入力シート!F35)","v":""},{"$f":"IF($AC27=\"\",\"\",入力シート!G35)","v":""},{"$f":"IF($AC27=\"\",\"\",入力シート!H35)","v":""},""]
[{"$f":"IF(入力シート!$B36=\"\",\"\",大会コード)","v":""},{"$f":"IF(入力シート!$B36=\"\",\"\",VLOOKUP(入力シート!$C36,大会データ!$A$5:$F$372,3,FALSE))","v":""},{"$f":"IF(入力シート!$B36=\"\",\"\",VLOOKUP(入力シート!$C36,大会データ!$A$5:$F$372,4,FALSE))","v":""},{"$f":"IF(入力シート!$B36=\"\",\"\",VLOOKUP(入力シート!$C36,大会データ!$A$5:$F$372,5,FALSE))","v":""},{"$f":"IF(入力シート!$B36=\"\",\"\",基礎データ!$B$6)","v":""},{"$f":"IF(入力シート!$B36=\"\",\"\",B28)","v":""},{"$f":"IF(入力シート!$B36=\"\",\"\",IF(入力シート!$E36=\"\",TEXT(入力シート!$B36,\"00\"),入力シート!$E36))","v":""},null,null,{"$f":"IF(入力シート!I36=\"\",\"\",入力シート!I36)","v":""},null,null,null,null,null,null,null,null,null,null,null,null,null,null,null,null,"","","",{"$f":"IF($AC28=\"\",\"\",入力シート!F36)","v":""},{"$f":"IF($AC28=\"\",\"\",入力シート!G36)","v":""},{"$f":"IF($AC28=\"\",\"\",入力シート!H36)","v":""},""]
[{"$f":"IF(入力シート!$B37=\"\",\"\",大会コード)","v":""},{"$f":"IF(入力シート!$B37=\"\",\"\",VLOOKUP(入力シート!$C37,大会データ!$A$5:$F$372,3,FALSE))","v":""},{"$f":"IF(入力シート!$B37=\"\",\"\",VLOOKUP(入力シート!$C37,大会データ!$A$5:$F$372,4,FALSE))","v":""},{"$f":"IF(入力シート!$B37=\"\",\"\",VLOOKUP(入力シート!$C37,大会データ!$A$5:$F$372,5,FALSE))","v":""},{"$f":"IF(入力シート!$B37=\"\",\"\",基礎データ!$B$6)","v":""},{"$f":"IF(入力シート!$B37=\"\",\"\",B29)","v":""},{"$f":"IF(入力シート!$B37=\"\",\"\",IF(入力シート!$E37=\"\",TEXT(入力シート!$B37,\"00\"),入力シート!$E37))","v":""},null,null,{"$f":"IF(入力シート!I37=\"\",\"\",入力シート!I37)","v":""},null,null,null,null,null,null,null,null,null,null,null,null,null,null,null,null,"","","",{"$f":"IF($AC29=\"\",\"\",入力シート!F37)","v":""},{"$f":"IF($AC29=\"\",\"\",入力シート!G37)","v":""},{"$f":"IF($AC29=\"\",\"\",入力シート!H37)","v":""},""]
[{"$f":"IF(入力シート!$B38=\"\",\"\",大会コード)","v":""},{"$f":"IF(入力シート!$B38=\"\",\"\",VLOOKUP(入力シート!$C38,大会データ!$A$5:$F$372,3,FALSE))","v":""},{"$f":"IF(入力シート!$B38=\"\",\"\",VLOOKUP(入力シート!$C38,大会データ!$A$5:$F$372,4,FALSE))","v":""},{"$f":"IF(入力シート!$B38=\"\",\"\",VLOOKUP(入力シート!$C38,大会データ!$A$5:$F$372,5,FALSE))","v":""},{"$f":"IF(入力シート!$B38=\"\",\"\",基礎データ!$B$6)","v":""},{"$f":"IF(入力シート!$B38=\"\",\"\",B30)","v":""},{"$f":"IF(入力シート!$B38=\"\",\"\",IF(入力シート!$E38=\"\",TEXT(入力シート!$B38,\"00\"),入力シート!$E38))","v":""},null,null,{"$f":"IF(入力シート!I38=\"\",\"\",入力シート!I38)","v":""},null,null,null,null,null,null,null,null,null,null,null,null,null,null,null,null,"","","",{"$f":"IF($AC30=\"\",\"\",入力シート!F38)","v":""},{"$f":"IF($AC30=\"\",\"\",入力シート!G38)","v":""},{"$f":"IF($AC30=\"\",\"\",入力シート!H38)","v":""},""]
[{"$f":"IF(入力シート!$B39=\"\",\"\",大会コード)","v":""},{"$f":"IF(入力シート!$B39=\"\",\"\",VLOOKUP(入力シート!$C39,大会データ!$A$5:$F$372,3,FALSE))","v":""},{"$f":"IF(入力シート!$B39=\"\",\"\",VLOOKUP(入力シート!$C39,大会データ!$A$5:$F$372,4,FALSE))","v":""},{"$f":"IF(入力シート!$B39=\"\",\"\",VLOOKUP(入力シート!$C39,大会データ!$A$5:$F$372,5,FALSE))","v":""},{"$f":"IF(入力シート!$B39=\"\",\"\",基礎データ!$B$6)","v":""},{"$f":"IF(入力シート!$B39=\"\",\"\",B31)","v":""},{"$f":"IF(入力シート!$B39=\"\",\"\",IF(入力シート!$E39=\"\",TEXT(入力シート!$B39,\"00\"),入力シート!$E39))","v":""},null,null,{"$f":"IF(入力シート!I39=\"\",\"\",入力シート!I39)","v":""},null,null,null,null,null,null,null,null,null,null,null,null,null,null,null,null,"","","",{"$f":"IF($AC31=\"\",\"\",入力シート!F39)","v":""},{"$f":"IF($AC31=\"\",\"\",入力シート!G39)","v":""},{"$f":"IF($AC31=\"\",\"\",入力シート!H39)","v":""},""]
[{"$f":"IF(入力シート!$B40=\"\",\"\",大会コード)","v":""},{"$f":"IF(入力シート!$B40=\"\",\"\",VLOOKUP(入力シート!$C40,大会データ!$A$5:$F$372,3,FALSE))","v":""},{"$f":"IF(入力シート!$B40=\"\",\"\",VLOOKUP(入力シート!$C40,大会データ!$A$5:$F$372,4,FALSE))","v":""},{"$f":"IF(入力シート!$B40=\"\",\"\",VLOOKUP(入力シート!$C40,大会データ!$A$5:$F$372,5,FALSE))","v":""},{"$f":"IF(入力シート!$B40=\"\",\"\",基礎データ!$B$6)","v":""},{"$f":"IF(入力シート!$B40=\"\",\"\",B32)","v":""},{"$f":"IF(入力シート!$B40=\"\",\"\",IF(入力シート!$E40=\"\",TEXT(入力シート!$B40,\"00\"),入力シート!$E40))","v":""},null,null,{"$f":"IF(入力シート!I40=\"\",\"\",入力シート!I40)","v":""},null,null,null,null,null,null,null,null,null,null,null,null,null,null,null,null,"","","",{"$f":"IF($AC32=\"\",\"\",入力シート!F40)","v":""},{"$f":"IF($AC32=\"\",\"\",入力シート!G40)","v":""},{"$f":"IF($AC32=\"\",\"\",入力シート!H40)","v":""},""]
[{"$f":"IF(入力シート!$B41=\"\",\"\",大会コード)","v":""},{"$f":"IF(入力シート!$B41=\"\",\"\",VLOOKUP(入力シート!$C41,大会データ!$A$5:$F$372,3,FALSE))","v":""},{"$f":"IF(入力シート!$B41=\"\",\"\",VLOOKUP(入力シート!$C41,大会データ!$A$5:$F$372,4,FALSE))","v":""},{"$f":"IF(入力シート!$B41=\"\",\"\",VLOOKUP(入力シート!$C41,大会データ!$A$5:$F$372,5,FALSE))","v":""},{"$f":"IF(入力シート!$B41=\"\",\"\",基礎データ!$B$6)","v":""},{"$f":"IF(入力シート!$B41=\"\",\"\",B33)","v":""},{"$f":"IF(入力シート!$B41=\"\",\"\",IF(入力シート!$E41=\"\",TEXT(入力シート!$B41,\"00\"),入力シート!$E41))","v":""},null,null,{"$f":"IF(入力シート!I41=\"\",\"\",入力シート!I41)","v":""},null,null,null,null,null,null,null,null,null,null,null,null,null,null,null,null,"","","",{"$f":"IF($AC33=\"\",\"\",入力シート!F41)","v":""},{"$f":"IF($AC33=\"\",\"\",入力シート!G41)","v":""},{"$f":"IF($AC33=\"\",\"\",入力シート!H41)","v":""},""]
[{"$f":"IF(入力シート!$B42=\"\",\"\",大会コード)","v":""},{"$f":"IF(入力シート!$B42=\"\",\"\",VLOOKUP(入力シート!$C42,大会データ!$A$5:$F$372,3,FALSE))","v":""},{"$f":"IF(入力シート!$B42=\"\",\"\",VLOOKUP(入力シート!$C42,大会データ!$A$5:$F$372,4,FALSE))","v":""},{"$f":"IF(入力シート!$B42=\"\",\"\",VLOOKUP(入力シート!$C42,大会データ!$A$5:$F$372,5,FALSE))","v":""},{"$f":"IF(入力シート!$B42=\"\",\"\",基礎データ!$B$6)","v":""},{"$f":"IF(入力シート!$B42=\"\",\"\",B34)","v":""},{"$f":"IF(入力シート!$B42=\"\",\"\",IF(入力シート!$E42=\"\",TEXT(入力シート!$B42,\"00\"),入力シート!$E42))","v":""},null,null,{"$f":"IF(入力シート!I42=\"\",\"\",入力シート!I42)","v":""},null,null,null,null,null,null,null,null,null,null,null,null,null,null,null,null,"","","",{"$f":"IF($AC34=\"\",\"\",入力シート!F42)","v":""},{"$f":"IF($AC34=\"\",\"\",入力シート!G42)","v":""},{"$f":"IF($AC34=\"\",\"\",入力シート!H42)","v":""},""]
[{"$f":"IF(入力シート!$B43=\"\",\"\",大会コード)","v":""},{"$f":"IF(入力シート!$B43=\"\",\"\",VLOOKUP(入力シート!$C43,大会データ!$A$5:$F$372,3,FALSE))","v":""},{"$f":"IF(入力シート!$B43=\"\",\"\",VLOOKUP(入力シート!$C43,大会データ!$A$5:$F$372,4,FALSE))","v":""},{"$f":"IF(入力シート!$B43=\"\",\"\",VLOOKUP(入力シート!$C43,大会データ!$A$5:$F$372,5,FALSE))","v":""},{"$f":"IF(入力シート!$B43=\"\",\"\",基礎データ!$B$6)","v":""},{"$f":"IF(入力シート!$B43=\"\",\"\",B35)","v":""},{"$f":"IF(入力シート!$B43=\"\",\"\",IF(入力シート!$E43=\"\",TEXT(入力シート!$B43,\"00\"),入力シート!$E43))","v":""},null,null,{"$f":"IF(入力シート!I43=\"\",\"\",入力シート!I43)","v":""},null,null,null,null,null,null,null,null,null,null,null,null,null,null,null,null,"","","",{"$f":"IF($AC35=\"\",\"\",入力シート!F43)","v":""},{"$f":"IF($AC35=\"\",\"\",入力シート!G43)","v":""},{"$f":"IF($AC35=\"\",\"\",入力シート!H43)","v":""},""]
[{"$f":"IF(入力シート!$B44=\"\",\"\",大会コード)","v":""},{"$f":"IF(入力シート!$B44=\"\",\"\",VLOOKUP(入力シート!$C44,大会データ!$A$5:$F$372,3,FALSE))","v":""},{"$f":"IF(入力シート!$B44=\"\",\"\",VLOOKUP(入力シート!$C44,大会データ!$A$5:$F$372,4,FALSE))","v":""},{"$f":"IF(入力シート!$B44=\"\",\"\",VLOOKUP(入力シート!$C44,大会データ!$A$5:$F$372,5,FALSE))","v":""},{"$f":"IF(入力シート!$B44=\"\",\"\",基礎データ!$B$6)","v":""},{"$f":"IF(入力シート!$B44=\"\",\"\",B36)","v":""},{"$f":"IF(入力シート!$B44=\"\",\"\",IF(入力シート!$E44=\"\",TEXT(入力シート!$B44,\"00\"),入力シート!$E44))","v":""},null,null,{"$f":"IF(入力シート!I44=\"\",\"\",入力シート!I44)","v":""},null,null,null,null,null,null,null,null,null,null,null,null,null,null,null,null,"","","",{"$f":"IF($AC36=\"\",\"\",入力シート!F44)","v":""},{"$f":"IF($AC36=\"\",\"\",入力シート!G44)","v":""},{"$f":"IF($AC36=\"\",\"\",入力シート!H44)","v":""},""]
[{"$f":"IF(入力シート!$B45=\"\",\"\",大会コード)","v":""},{"$f":"IF(入力シート!$B45=\"\",\"\",VLOOKUP(入力シート!$C45,大会データ!$A$5:$F$372,3,FALSE))","v":""},{"$f":"IF(入力シート!$B45=\"\",\"\",VLOOKUP(入力シート!$C45,大会データ!$A$5:$F$372,4,FALSE))","v":""},{"$f":"IF(入力シート!$B45=\"\",\"\",VLOOKUP(入力シート!$C45,大会データ!$A$5:$F$372,5,FALSE))","v":""},{"$f":"IF(入力シート!$B45=\"\",\"\",基礎データ!$B$6)","v":""},{"$f":"IF(入力シート!$B45=\"\",\"\",B37)","v":""},{"$f":"IF(入力シート!$B45=\"\",\"\",IF(入力シート!$E45=\"\",TEXT(入力シート!$B45,\"00\"),入力シート!$E45))","v":""},null,null,{"$f":"IF(入力シート!I45=\"\",\"\",入力シート!I45)","v":""},null,null,null,null,null,null,null,null,null,null,null,null,null,null,null,null,"","","",{"$f":"IF($AC37=\"\",\"\",入力シート!F45)","v":""},{"$f":"IF($AC37=\"\",\"\",入力シート!G45)","v":""},{"$f":"IF($AC37=\"\",\"\",入力シート!H45)","v":""},""]
[{"$f":"IF(入力シート!$B46=\"\",\"\",大会コード)","v":""},{"$f":"IF(入力シート!$B46=\"\",\"\",VLOOKUP(入力シート!$C46,大会データ!$A$5:$F$372,3,FALSE))","v":""},{"$f":"IF(入力シート!$B46=\"\",\"\",VLOOKUP(入力シート!$C46,大会データ!$A$5:$F$372,4,FALSE))","v":""},{"$f":"IF(入力シート!$B46=\"\",\"\",VLOOKUP(入力シート!$C46,大会データ!$A$5:$F$372,5,FALSE))","v":""},{"$f":"IF(入力シート!$B46=\"\",\"\",基礎データ!$B$6)","v":""},{"$f":"IF(入力シート!$B46=\"\",\"\",B38)","v":""},{"$f":"IF(入力シート!$B46=\"\",\"\",IF(入力シート!$E46=\"\",TEXT(入力シート!$B46,\"00\"),入力シート!$E46))","v":""},null,null,{"$f":"IF(入力シート!I46=\"\",\"\",入力シート!I46)","v":""},null,null,null,null,null,null,null,null,null,null,null,null,null,null,null,null,"","","",{"$f":"IF($AC38=\"\",\"\",入力シート!F46)","v":""},{"$f":"IF($AC38=\"\",\"\",入力シート!G46)","v":""},{"$f":"IF($AC38=\"\",\"\",入力シート!H46)","v":""},""]
[{"$f":"IF(入力シート!$B48=\"\",\"\",大会コード)","v":""},{"$f":"IF(入力シート!$B48=\"\",\"\",VLOOKUP(入力シート!$C48,大会データ!$A$5:$F$372,3,FALSE))","v":""},{"$f":"IF(入力シート!$B48=\"\",\"\",VLOOKUP(入力シート!$C48,大会データ!$A$5:$F$372,4,FALSE))","v":""},{"$f":"IF(入力シート!$B48=\"\",\"\",VLOOKUP(入力シート!$C48,大会データ!$A$5:$F$372,5,FALSE))","v":""},{"$f":"IF(入力シート!$B48=\"\",\"\",基礎データ!$B$6)","v":""},{"$f":"IF(入力シート!$B48=\"\",\"\",B39)","v":""},{"$f":"IF(入力シート!$B48=\"\",\"\",IF(入力シート!$E48=\"\",TEXT(入力シート!$B48,\"00\"),入力シート!$E48))","v":""},null,null,{"$f":"IF(入力シート!I48=\"\",\"\",入力シート!I48)","v":""},null,null,null,null,null,null,null,null,null,null,null,null,null,null,null,null,"","","",{"$f":"IF($AC39=\"\",\"\",入力シート!F48)","v":""},{"$f":"IF($AC39=\"\",\"\",入力シート!G48)","v":""},{"$f":"IF($AC39=\"\",\"\",入力シート!H48)","v":""},""]
[{"$f":"IF(入力シート!$B50=\"\",\"\",大会コード)","v":""},{"$f":"IF(入力シート!$B50=\"\",\"\",VLOOKUP(入力シート!$C50,大会データ!$A$5:$F$372,3,FALSE))","v":""},{"$f":"IF(入力シート!$B50=\"\",\"\",VLOOKUP(入力シート!$C50,大会データ!$A$5:$F$372,4,FALSE))","v":""},{"$f":"IF(入力シート!$B50=\"\",\"\",VLOOKUP(入力シート!$C50,大会データ!$A$5:$F$372,5,FALSE))","v":""},{"$f":"IF(入力シート!$B50=\"\",\"\",基礎データ!$B$6)","v":""},{"$f":"IF(入力シート!$B50=\"\",\"\",B40)","v":""},{"$f":"IF(入力シート!$B50=\"\",\"\",IF(入力シート!$E50=\"\",TEXT(入力シート!$B50,\"00\"),入力シート!$E50))","v":""},null,null,{"$f":"IF(入力シート!I50=\"\",\"\",入力シート!I50)","v":""},null,null,null,null,null,null,null,null,null,null,null,null,null,null,null,null,"","","",{"$f":"IF($AC40=\"\",\"\",入力シート!F50)","v":""},{"$f":"IF($AC40=\"\",\"\",入力シート!G50)","v":""},{"$f":"IF($AC40=\"\",\"\",入力シート!H50)","v":""},""]
[{"$f":"IF(入力シート!$B51=\"\",\"\",大会コード)","v":""},{"$f":"IF(入力シート!$B51=\"\",\"\",VLOOKUP(入力シート!$C51,大会データ!$A$5:$F$372,3,FALSE))","v":""},{"$f":"IF(入力シート!$B51=\"\",\"\",VLOOKUP(入力シート!$C51,大会データ!$A$5:$F$372,4,FALSE))","v":""},{"$f":"IF(入力シート!$B51=\"\",\"\",VLOOKUP(入力シート!$C51,大会データ!$A$5:$F$372,5,FALSE))","v":""},{"$f":"IF(入力シート!$B51=\"\",\"\",基礎データ!$B$6)","v":""},{"$f":"IF(入力シート!$B51=\"\",\"\",B41)","v":""},{"$f":"IF(入力シート!$B51=\"\",\"\",IF(入力シート!$E51=\"\",TEXT(入力シート!$B51,\"00\"),入力シート!$E51))","v":""},null,null,{"$f":"IF(入力シート!I51=\"\",\"\",入力シート!I51)","v":""},null,null,null,null,null,null,null,null,null,null,null,null,null,null,null,null,"","","",{"$f":"IF($AC41=\"\",\"\",入力シート!F51)","v":""},{"$f":"IF($AC41=\"\",\"\",入力シート!G51)","v":""},{"$f":"IF($AC41=\"\",\"\",入力シート!H51)","v":""},""]
[{"$f":"IF(入力シート!$B52=\"\",\"\",大会コード)","v":""},{"$f":"IF(入力シート!$B52=\"\",\"\",VLOOKUP(入力シート!$C52,大会データ!$A$5:$F$372,3,FALSE))","v":""},{"$f":"IF(入力シート!$B52=\"\",\"\",VLOOKUP(入力シート!$C52,大会データ!$A$5:$F$372,4,FALSE))","v":""},{"$f":"IF(入力シート!$B52=\"\",\"\",VLOOKUP(入力シート!$C52,大会データ!$A$5:$F$372,5,FALSE))","v":""},{"$f":"IF(入力シート!$B52=\"\",\"\",基礎データ!$B$6)","v":""},{"$f":"IF(入力シート!$B52=\"\",\"\",B42)","v":""},{"$f":"IF(入力シート!$B52=\"\",\"\",IF(入力シート!$E52=\"\",TEXT(入力シート!$B52,\"00\"),入力シート!$E52))","v":""},null,null,{"$f":"IF(入力シート!I52=\"\",\"\",入力シート!I52)","v":""},null,null,null,null,null,null,null,null,null,null,null,null,null,null,null,null,"","","",{"$f":"IF($AC42=\"\",\"\",入力シート!F52)","v":""},{"$f":"IF($AC42=\"\",\"\",入力シート!G52)","v":""},{"$f":"IF($AC42=\"\",\"\",入力シート!H52)","v":""},""]
[{"$f":"IF(入力シート!$B53=\"\",\"\",大会コード)","v":""},{"$f":"IF(入力シート!$B53=\"\",\"\",VLOOKUP(入力シート!$C53,大会データ!$A$5:$F$372,3,FALSE))","v":""},{"$f":"IF(入力シート!$B53=\"\",\"\",VLOOKUP(入力シート!$C53,大会データ!$A$5:$F$372,4,FALSE))","v":""},{"$f":"IF(入力シート!$B53=\"\",\"\",VLOOKUP(入力シート!$C53,大会データ!$A$5:$F$372,5,FALSE))","v":""},{"$f":"IF(入力シート!$B53=\"\",\"\",基礎データ!$B$6)","v":""},{"$f":"IF(入力シート!$B53=\"\",\"\",B43)","v":""},{"$f":"IF(入力シート!$B53=\"\",\"\",IF(入力シート!$E53=\"\",TEXT(入力シート!$B53,\"00\"),入力シート!$E53))","v":""},null,null,{"$f":"IF(入力シート!I53=\"\",\"\",入力シート!I53)","v":""},null,null,null,null,null,null,null,null,null,null,null,null,null,null,null,null,"","","",{"$f":"IF($AC43=\"\",\"\",入力シート!F53)","v":""},{"$f":"IF($AC43=\"\",\"\",入力シート!G53)","v":""},{"$f":"IF($AC43=\"\",\"\",入力シート!H53)","v":""},""]
[{"$f":"IF(入力シート!$B54=\"\",\"\",大会コード)","v":""},{"$f":"IF(入力シート!$B54=\"\",\"\",VLOOKUP(入力シート!$C54,大会データ!$A$5:$F$372,3,FALSE))","v":""},{"$f":"IF(入力シート!$B54=\"\",\"\",VLOOKUP(入力シート!$C54,大会データ!$A$5:$F$372,4,FALSE))","v":""},{"$f":"IF(入力シート!$B54=\"\",\"\",VLOOKUP(入力シート!$C54,大会データ!$A$5:$F$372,5,FALSE))","v":""},{"$f":"IF(入力シート!$B54=\"\",\"\",基礎データ!$B$6)","v":""},{"$f":"IF(入力シート!$B54=\"\",\"\",B44)","v":""},{"$f":"IF(入力シート!$B54=\"\",\"\",IF(入力シート!$E54=\"\",TEXT(入力シート!$B54,\"00\"),入力シート!$E54))","v":""},null,null,{"$f":"IF(入力シート!I54=\"\",\"\",入力シート!I54)","v":""},null,null,null,null,null,null,null,null,null,null,null,null,null,null,null,null,"","","",{"$f":"IF($AC44=\"\",\"\",入力シート!F54)","v":""},{"$f":"IF($AC44=\"\",\"\",入力シート!G54)","v":""},{"$f":"IF($AC44=\"\",\"\",入力シート!H54)","v":""},""]
[{"$f":"IF(入力シート!$B55=\"\",\"\",大会コード)","v":""},{"$f":"IF(入力シート!$B55=\"\",\"\",VLOOKUP(入力シート!$C55,大会データ!$A$5:$F$372,3,FALSE))","v":""},{"$f":"IF(入力シート!$B55=\"\",\"\",VLOOKUP(入力シート!$C55,大会データ!$A$5:$F$372,4,FALSE))","v":""},{"$f":"IF(入力シート!$B55=\"\",\"\",VLOOKUP(入力シート!$C55,大会データ!$A$5:$F$372,5,FALSE))","v":""},{"$f":"IF(入力シート!$B55=\"\",\"\",基礎データ!$B$6)","v":""},{"$f":"IF(入力シート!$B55=\"\",\"\",B45)","v":""},{"$f":"IF(入力シート!$B55=\"\",\"\",IF(入力シート!$E55=\"\",TEXT(入力シート!$B55,\"00\"),入力シート!$E55))","v":""},null,null,{"$f":"IF(入力シート!I55=\"\",\"\",入力シート!I55)","v":""},null,null,null,null,null,null,null,null,null,null,null,null,null,null,null,null,"","","",{"$f":"IF($AC45=\"\",\"\",入力シート!F55)","v":""},{"$f":"IF($AC45=\"\",\"\",入力シート!G55)","v":""},{"$f":"IF($AC45=\"\",\"\",入力シート!H55)","v":""},""]
[{"$f":"IF(入力シート!$B56=\"\",\"\",大会コード)","v":""},{"$f":"IF(入力シート!$B56=\"\",\"\",VLOOKUP(入力シート!$C56,大会データ!$A$5:$F$372,3,FALSE))","v":""},{"$f":"IF(入力シート!$B56=\"\",\"\",VLOOKUP(入力シート!$C56,大会データ!$A$5:$F$372,4,FALSE))","v":""},{"$f":"IF(入力シート!$B56=\"\",\"\",VLOOKUP(入力シート!$C56,大会データ!$A$5:$F$372,5,FALSE))","v":""},{"$f":"IF(入力シート!$B56=\"\",\"\",基礎データ!$B$6)","v":""},{"$f":"IF(入力シート!$B56=\"\",\"\",B46)","v":""},{"$f":"IF(入力シート!$B56=\"\",\"\",IF(入力シート!$E56=\"\",TEXT(入力シート!$B56,\"00\"),入力シート!$E56))","v":""},null,null,{"$f":"IF(入力シート!I56=\"\",\"\",入力シート!I56)","v":""},null,null,null,null,null,null,null,null,null,null,null,null,null,null,null,null,"","","",{"$f":"IF($AC46=\"\",\"\",入力シート!F56)","v":""},{"$f":"IF($AC46=\"\",\"\",入力シート!G56)","v":""},{"$f":"IF($AC46=\"\",\"\",入力シート!H56)","v":""},""]
[{"$f":"IF(入力シート!$B57=\"\",\"\",大会コード)","v":""},{"$f":"IF(入力シート!$B57=\"\",\"\",VLOOKUP(入力シート!$C57,大会データ!$A$5:$F$372,3,FALSE))","v":""},{"$f":"IF(入力シート!$B57=\"\",\"\",VLOOKUP(入力シート!$C57,大会データ!$A$5:$F$372,4,FALSE))","v":""},{"$f":"IF(入力シート!$B57=\"\",\"\",VLOOKUP(入力シート!$C57,大会データ!$A$5:$F$372,5,FALSE))","v":""},{"$f":"IF(入力シート!$B57=\"\",\"\",基礎データ!$B$6)","v":""},{"$f":"IF(入力シート!$B57=\"\",\"\",B47)","v":""},{"$f":"IF(入力シート!$B57=\"\",\"\",IF(入力シート!$E57=\"\",TEXT(入力シート!$B57,\"00\"),入力シート!$E57))","v":""},null,null,{"$f":"IF(入力シート!I57=\"\",\"\",入力シート!I57)","v":""},null,null,null,null,null,null,null,null,null,null,null,null,null,null,null,null,"","","",{"$f":"IF($AC47=\"\",\"\",入力シート!F57)","v":""},{"$f":"IF($AC47=\"\",\"\",入力シート!G57)","v":""},{"$f":"IF($AC47=\"\",\"\",入力シート!H57)","v":""},""]
[{"$f":"IF(入力シート!$B58=\"\",\"\",大会コード)","v":""},{"$f":"IF(入力シート!$B58=\"\",\"\",VLOOKUP(入力シート!$C58,大会データ!$A$5:$F$372,3,FALSE))","v":""},{"$f":"IF(入力シート!$B58=\"\",\"\",VLOOKUP(入力シート!$C58,大会データ!$A$5:$F$372,4,FALSE))","v":""},{"$f":"IF(入力シート!$B58=\"\",\"\",VLOOKUP(入力シート!$C58,大会データ!$A$5:$F$372,5,FALSE))","v":""},{"$f":"IF(入力シート!$B58=\"\",\"\",基礎データ!$B$6)","v":""},{"$f":"IF(入力シート!$B58=\"\",\"\",B48)","v":""},{"$f":"IF(入力シート!$B58=\"\",\"\",IF(入力シート!$E58=\"\",TEXT(入力シート!$B58,\"00\"),入力シート!$E58))","v":""},null,null,{"$f":"IF(入力シート!I58=\"\",\"\",入力シート!I58)","v":""},null,null,null,null,null,null,null,null,null,null,null,null,null,null,null,null,"","","",{"$f":"IF($AC48=\"\",\"\",入力シート!F58)","v":""},{"$f":"IF($AC48=\"\",\"\",入力シート!G58)","v":""},{"$f":"IF($AC48=\"\",\"\",入力シート!H58)","v":""},""]
[{"$f":"IF(入力シート!$B59=\"\",\"\",大会コード)","v":""},{"$f":"IF(入力シート!$B59=\"\",\"\",VLOOKUP(入力シート!$C59,大会データ!$A$5:$F$372,3,FALSE))","v":""},{"$f":"IF(入力シート!$B59=\"\",\"\",VLOOKUP(入力シート!$C59,大会データ!$A$5:$F$372,4,FALSE))","v":""},{"$f":"IF(入力シート!$B59=\"\",\"\",VLOOKUP(入力シート!$C59,大会データ!$A$5:$F$372,5,FALSE))","v":""},{"$f":"IF(入力シート!$B59=\"\",\"\",基礎データ!$B$6)","v":""},{"$f":"IF(入力シート!$B59=\"\",\"\",B49)","v":""},{"$f":"IF(入力シート!$B59=\"\",\"\",IF(入力シート!$E59=\"\",TEXT(入力シート!$B59,\"00\"),入力シート!$E59))","v":""},null,null,{"$f":"IF(入力シート!I59=\"\",\"\",入力シート!I59)","v":""},null,null,null,null,null,null,null,null,null,null,null,null,null,null,null,null,"","","",{"$f":"IF($AC49=\"\",\"\",入力シート!F59)","v":""},{"$f":"IF($AC49=\"\",\"\",入力シート!G59)","v":""},{"$f":"IF($AC49=\"\",\"\",入力シート!H59)","v":""},""]
[{"$f":"IF(入力シート!$B60=\"\",\"\",大会コード)","v":""},{"$f":"IF(入力シート!$B60=\"\",\"\",VLOOKUP(入力シート!$C60,大会データ!$A$5:$F$372,3,FALSE))","v":""},{"$f":"IF(入力シート!$B60=\"\",\"\",VLOOKUP(入力シート!$C60,大会データ!$A$5:$F$372,4,FALSE))","v":""},{"$f":"IF(入力シート!$B60=\"\",\"\",VLOOKUP(入力シート!$C60,大会データ!$A$5:$F$372,5,FALSE))","v":""},{"$f":"IF(入力シート!$B60=\"\",\"\",基礎データ!$B$6)","v":""},{"$f":"IF(入力シート!$B60=\"\",\"\",B50)","v":""},{"$f":"IF(入力シート!$B60=\"\",\"\",IF(入力シート!$E60=\"\",TEXT(入力シート!$B60,\"00\"),入力シート!$E60))","v":""},null,null,{"$f":"IF(入力シート!I60=\"\",\"\",入力シート!I60)","v":""},null,null,null,null,null,null,null,null,null,null,null,null,null,null,null,null,"","","",{"$f":"IF($AC50=\"\",\"\",入力シート!F60)","v":""},{"$f":"IF($AC50=\"\",\"\",入力シート!G60)","v":""},{"$f":"IF($AC50=\"\",\"\",入力シート!H60)","v":""},""]
[{"$f":"IF(入力シート!$B61=\"\",\"\",大会コード)","v":""},{"$f":"IF(入力シート!$B61=\"\",\"\",VLOOKUP(入力シート!$C61,大会データ!$A$5:$F$372,3,FALSE))","v":""},{"$f":"IF(入力シート!$B61=\"\",\"\",VLOOKUP(入力シート!$C61,大会データ!$A$5:$F$372,4,FALSE))","v":""},{"$f":"IF(入力シート!$B61=\"\",\"\",VLOOKUP(入力シート!$C61,大会データ!$A$5:$F$372,5,FALSE))","v":""},{"$f":"IF(入力シート!$B61=\"\",\"\",基礎データ!$B$6)","v":""},{"$f":"IF(入力シート!$B61=\"\",\"\",B51)","v":""},{"$f":"IF(入力シート!$B61=\"\",\"\",IF(入力シート!$E61=\"\",TEXT(入力シート!$B61,\"00\"),入力シート!$E61))","v":""},null,null,{"$f":"IF(入力シート!I61=\"\",\"\",入力シート!I61)","v":""},null,null,null,null,null,null,null,null,null,null,null,null,null,null,null,null,"","","",{"$f":"IF($AC51=\"\",\"\",入力シート!F61)","v":""},{"$f":"IF($AC51=\"\",\"\",入力シート!G61)","v":""},{"$f":"IF($AC51=\"\",\"\",入力シート!H61)","v":""},""]
[{"$f":"IF(入力シート!$B62=\"\",\"\",大会コード)","v":""},{"$f":"IF(入力シート!$B62=\"\",\"\",VLOOKUP(入力シート!$C62,大会データ!$A$5:$F$372,3,FALSE))","v":""},{"$f":"IF(入力シート!$B62=\"\",\"\",VLOOKUP(入力シート!$C62,大会データ!$A$5:$F$372,4,FALSE))","v":""},{"$f":"IF(入力シート!$B62=\"\",\"\",VLOOKUP(入力シート!$C62,大会データ!$A$5:$F$372,5,FALSE))","v":""},{"$f":"IF(入力シート!$B62=\"\",\"\",基礎データ!$B$6)","v":""},{"$f":"IF(入力シート!$B62=\"\",\"\",B52)","v":""},{"$f":"IF(入力シート!$B62=\"\",\"\",IF(入力シート!$E62=\"\",TEXT(入力シート!$B62,\"00\"),入力シート!$E62))","v":""},null,null,{"$f":"IF(入力シート!I62=\"\",\"\",入力シート!I62)","v":""},null,null,null,null,null,null,null,null,null,null,null,null,null,null,null,null,"","","",{"$f":"IF($AC52=\"\",\"\",入力シート!F62)","v":""},{"$f":"IF($AC52=\"\",\"\",入力シート!G62)","v":""},{"$f":"IF($AC52=\"\",\"\",入力シート!H62)","v":""},""]
[{"$f":"IF(入力シート!$B63=\"\",\"\",大会コード)","v":""},{"$f":"IF(入力シート!$B63=\"\",\"\",VLOOKUP(入力シート!$C63,大会データ!$A$5:$F$372,3,FALSE))","v":""},{"$f":"IF(入力シート!$B63=\"\",\"\",VLOOKUP(入力シート!$C63,大会データ!$A$5:$F$372,4,FALSE))","v":""},{"$f":"IF(入力シート!$B63=\"\",\"\",VLOOKUP(入力シート!$C63,大会データ!$A$5:$F$372,5,FALSE))","v":""},{"$f":"IF(入力シート!$B63=\"\",\"\",基礎データ!$B$6)","v":""},{"$f":"IF(入力シート!$B63=\"\",\"\",B53)","v":""},{"$f":"IF(入力シート!$B63=\"\",\"\",IF(入力シート!$E63=\"\",TEXT(入力シート!$B63,\"00\"),入力シート!$E63))","v":""},null,null,{"$f":"IF(入力シート!I63=\"\",\"\",入力シート!I63)","v":""},null,null,null,null,null,null,null,null,null,null,null,null,null,null,null,null,"","","",{"$f":"IF($AC53=\"\",\"\",入力シート!F63)","v":""},{"$f":"IF($AC53=\"\",\"\",入力シート!G63)","v":""},{"$f":"IF($AC53=\"\",\"\",入力シート!H63)","v":""},""]
[{"$f":"IF(入力シート!$B64=\"\",\"\",大会コード)","v":""},{"$f":"IF(入力シート!$B64=\"\",\"\",VLOOKUP(入力シート!$C64,大会データ!$A$5:$F$372,3,FALSE))","v":""},{"$f":"IF(入力シート!$B64=\"\",\"\",VLOOKUP(入力シート!$C64,大会データ!$A$5:$F$372,4,FALSE))","v":""},{"$f":"IF(入力シート!$B64=\"\",\"\",VLOOKUP(入力シート!$C64,大会データ!$A$5:$F$372,5,FALSE))","v":""},{"$f":"IF(入力シート!$B64=\"\",\"\",基礎データ!$B$6)","v":""},{"$f":"IF(入力シート!$B64=\"\",\"\",B54)","v":""},{"$f":"IF(入力シート!$B64=\"\",\"\",IF(入力シート!$E64=\"\",TEXT(入力シート!$B64,\"00\"),入力シート!$E64))","v":""},null,null,{"$f":"IF(入力シート!I64=\"\",\"\",入力シート!I64)","v":""},null,null,null,null,null,null,null,null,null,null,null,null,null,null,null,null,"","","",{"$f":"IF($AC54=\"\",\"\",入力シート!F64)","v":""},{"$f":"IF($AC54=\"\",\"\",入力シート!G64)","v":""},{"$f":"IF($AC54=\"\",\"\",入力シート!H64)","v":""},""]
[{"$f":"IF(入力シート!$B65=\"\",\"\",大会コード)","v":""},{"$f":"IF(入力シート!$B65=\"\",\"\",VLOOKUP(入力シート!$C65,大会データ!$A$5:$F$372,3,FALSE))","v":""},{"$f":"IF(入力シート!$B65=\"\",\"\",VLOOKUP(入力シート!$C65,大会データ!$A$5:$F$372,4,FALSE))","v":""},{"$f":"IF(入力シート!$B65=\"\",\"\",VLOOKUP(入力シート!$C65,大会データ!$A$5:$F$372,5,FALSE))","v":""},{"$f":"IF(入力シート!$B65=\"\",\"\",基礎データ!$B$6)","v":""},{"$f":"IF(入力シート!$B65=\"\",\"\",B55)","v":""},{"$f":"IF(入力シート!$B65=\"\",\"\",IF(入力シート!$E65=\"\",TEXT(入力シート!$B65,\"00\"),入力シート!$E65))","v":""},null,null,{"$f":"IF(入力シート!I65=\"\",\"\",入力シート!I65)","v":""},null,null,null,null,null,null,null,null,null,null,null,null,null,null,null,null,"","","",{"$f":"IF($AC55=\"\",\"\",入力シート!F65)","v":""},{"$f":"IF($AC55=\"\",\"\",入力シート!G65)","v":""},{"$f":"IF($AC55=\"\",\"\",入力シート!H65)","v":""},""]
[{"$f":"IF(入力シート!$B66=\"\",\"\",大会コード)","v":""},{"$f":"IF(入力シート!$B66=\"\",\"\",VLOOKUP(入力シート!$C66,大会データ!$A$5:$F$372,3,FALSE))","v":""},{"$f":"IF(入力シート!$B66=\"\",\"\",VLOOKUP(入力シート!$C66,大会データ!$A$5:$F$372,4,FALSE))","v":""},{"$f":"IF(入力シート!$B66=\"\",\"\",VLOOKUP(入力シート!$C66,大会データ!$A$5:$F$372,5,FALSE))","v":""},{"$f":"IF(入力シート!$B66=\"\",\"\",基礎データ!$B$6)","v":""},{"$f":"IF(入力シート!$B66=\"\",\"\",B56)","v":""},{"$f":"IF(入力シート!$B66=\"\",\"\",IF(入力シート!$E66=\"\",TEXT(入力シート!$B66,\"00\"),入力シート!$E66))","v":""},null,null,{"$f":"IF(入力シート!I66=\"\",\"\",入力シート!I66)","v":""},null,null,null,null,null,null,null,null,null,null,null,null,null,null,null,null,"","","",{"$f":"IF($AC56=\"\",\"\",入力シート!F66)","v":""},{"$f":"IF($AC56=\"\",\"\",入力シート!G66)","v":""},{"$f":"IF($AC56=\"\",\"\",入力シート!H66)","v":""},""]
[{"$f":"IF(入力シート!$B67=\"\",\"\",大会コード)","v":""},{"$f":"IF(入力シート!$B67=\"\",\"\",VLOOKUP(入力シート!$C67,大会データ!$A$5:$F$372,3,FALSE))","v":""},{"$f":"IF(入力シート!$B67=\"\",\"\",VLOOKUP(入力シート!$C67,大会データ!$A$5:$F$372,4,FALSE))","v":""},{"$f":"IF(入力シート!$B67=\"\",\"\",VLOOKUP(入力シート!$C67,大会データ!$A$5:$F$372,5,FALSE))","v":""},{"$f":"IF(入力シート!$B67=\"\",\"\",基礎データ!$B$6)","v":""},{"$f":"IF(入力シート!$B67=\"\",\"\",B57)","v":""},{"$f":"IF(入力シート!$B67=\"\",\"\",IF(入力シート!$E67=\"\",TEXT(入力シート!$B67,\"00\"),入力シート!$E67))","v":""},null,null,{"$f":"IF(入力シート!I67=\"\",\"\",入力シート!I67)","v":""},null,null,null,null,null,null,null,null,null,null,null,null,null,null,null,null,"","","",{"$f":"IF($AC57=\"\",\"\",入力シート!F67)","v":""},{"$f":"IF($AC57=\"\",\"\",入力シート!G67)","v":""},{"$f":"IF($AC57=\"\",\"\",入力シート!H67)","v":""},""]
[{"$f":"IF(入力シート!$B68=\"\",\"\",大会コード)","v":""},{"$f":"IF(入力シート!$B68=\"\",\"\",VLOOKUP(入力シート!$C68,大会データ!$A$5:$F$372,3,FALSE))","v":""},{"$f":"IF(入力シート!$B68=\"\",\"\",VLOOKUP(入力シート!$C68,大会データ!$A$5:$F$372,4,FALSE))","v":""},{"$f":"IF(入力シート!$B68=\"\",\"\",VLOOKUP(入力シート!$C68,大会データ!$A$5:$F$372,5,FALSE))","v":""},{"$f":"IF(入力シート!$B68=\"\",\"\",基礎データ!$B$6)","v":""},{"$f":"IF(入力シート!$B68=\"\",\"\",B58)","v":""},{"$f":"IF(入力シート!$B68=\"\",\"\",IF(入力シート!$E68=\"\",TEXT(入力シート!$B68,\"00\"),入力シート!$E68))","v":""},null,null,{"$f":"IF(入力シート!I68=\"\",\"\",入力シート!I68)","v":""},null,null,null,null,null,null,null,null,null,null,null,null,null,null,null,null,"","","",{"$f":"IF($AC58=\"\",\"\",入力シート!F68)","v":""},{"$f":"IF($AC58=\"\",\"\",入力シート!G68)","v":""},{"$f":"IF($AC58=\"\",\"\",入力シート!H68)","v":""},""]
[{"$f":"IF(入力シート!$B69=\"\",\"\",大会コード)","v":""},{"$f":"IF(入力シート!$B69=\"\",\"\",VLOOKUP(入力シート!$C69,大会データ!$A$5:$F$372,3,FALSE))","v":""},{"$f":"IF(入力シート!$B69=\"\",\"\",VLOOKUP(入力シート!$C69,大会データ!$A$5:$F$372,4,FALSE))","v":""},{"$f":"IF(入力シート!$B69=\"\",\"\",VLOOKUP(入力シート!$C69,大会データ!$A$5:$F$372,5,FALSE))","v":""},{"$f":"IF(入力シート!$B69=\"\",\"\",基礎データ!$B$6)","v":""},{"$f":"IF(入力シート!$B69=\"\",\"\",B59)","v":""},{"$f":"IF(入力シート!$B69=\"\",\"\",IF(入力シート!$E69=\"\",TEXT(入力シート!$B69,\"00\"),入力シート!$E69))","v":""},null,null,{"$f":"IF(入力シート!I69=\"\",\"\",入力シート!I69)","v":""},null,null,null,null,null,null,null,null,null,null,null,null,null,null,null,null,"","","",{"$f":"IF($AC59=\"\",\"\",入力シート!F69)","v":""},{"$f":"IF($AC59=\"\",\"\",入力シート!G69)","v":""},{"$f":"IF($AC59=\"\",\"\",入力シート!H69)","v":""},""]
[{"$f":"IF(入力シート!$B70=\"\",\"\",大会コード)","v":""},{"$f":"IF(入力シート!$B70=\"\",\"\",VLOOKUP(入力シート!$C70,大会データ!$A$5:$F$372,3,FALSE))","v":""},{"$f":"IF(入力シート!$B70=\"\",\"\",VLOOKUP(入力シート!$C70,大会データ!$A$5:$F$372,4,FALSE))","v":""},{"$f":"IF(入力シート!$B70=\"\",\"\",VLOOKUP(入力シート!$C70,大会データ!$A$5:$F$372,5,FALSE))","v":""},{"$f":"IF(入力シート!$B70=\"\",\"\",基礎データ!$B$6)","v":""},{"$f":"IF(入力シート!$B70=\"\",\"\",B60)","v":""},{"$f":"IF(入力シート!$B70=\"\",\"\",IF(入力シート!$E70=\"\",TEXT(入力シート!$B70,\"00\"),入力シート!$E70))","v":""},null,null,{"$f":"IF(入力シート!I70=\"\",\"\",入力シート!I70)","v":""},null,null,null,null,null,null,null,null,null,null,null,null,null,null,null,null,"","","",{"$f":"IF($AC60=\"\",\"\",入力シート!F70)","v":""},{"$f":"IF($AC60=\"\",\"\",入力シート!G70)","v":""},{"$f":"IF($AC60=\"\",\"\",入力シート!H70)","v":""},""]
[{"$f":"IF(入力シート!$B71=\"\",\"\",大会コード)","v":""},{"$f":"IF(入力シート!$B71=\"\",\"\",VLOOKUP(入力シート!$C71,大会データ!$A$5:$F$372,3,FALSE))","v":""},{"$f":"IF(入力シート!$B71=\"\",\"\",VLOOKUP(入力シート!$C71,大会データ!$A$5:$F$372,4,FALSE))","v":""},{"$f":"IF(入力シート!$B71=\"\",\"\",VLOOKUP(入力シート!$C71,大会データ!$A$5:$F$372,5,FALSE))","v":""},{"$f":"IF(入力シート!$B71=\"\",\"\",基礎データ!$B$6)","v":""},{"$f":"IF(入力シート!$B71=\"\",\"\",B61)","v":""},{"$f":"IF(入力シート!$B71=\"\",\"\",IF(入力シート!$E71=\"\",TEXT(入力シート!$B71,\"00\"),入力シート!$E71))","v":""},null,null,{"$f":"IF(入力シート!I71=\"\",\"\",入力シート!I71)","v":""},null,null,null,null,null,null,null,null,null,null,null,null,null,null,null,null,"","","",{"$f":"IF($AC61=\"\",\"\",入力シート!F71)","v":""},{"$f":"IF($AC61=\"\",\"\",入力シート!G71)","v":""},{"$f":"IF($AC61=\"\",\"\",入力シート!H71)","v":""},""]
[{"$f":"IF(入力シート!$B72=\"\",\"\",大会コード)","v":""},{"$f":"IF(入力シート!$B72=\"\",\"\",VLOOKUP(入力シート!$C72,大会データ!$A$5:$F$372,3,FALSE))","v":""},{"$f":"IF(入力シート!$B72=\"\",\"\",VLOOKUP(入力シート!$C72,大会データ!$A$5:$F$372,4,FALSE))","v":""},{"$f":"IF(入力シート!$B72=\"\",\"\",VLOOKUP(入力シート!$C72,大会データ!$A$5:$F$372,5,FALSE))","v":""},{"$f":"IF(入力シート!$B72=\"\",\"\",基礎データ!$B$6)","v":""},{"$f":"IF(入力シート!$B72=\"\",\"\",B62)","v":""},{"$f":"IF(入力シート!$B72=\"\",\"\",IF(入力シート!$E72=\"\",TEXT(入力シート!$B72,\"00\"),入力シート!$E72))","v":""},null,null,{"$f":"IF(入力シート!I72=\"\",\"\",入力シート!I72)","v":""},null,null,null,null,null,null,null,null,null,null,null,null,null,null,null,null,"","","",{"$f":"IF($AC62=\"\",\"\",入力シート!F72)","v":""},{"$f":"IF($AC62=\"\",\"\",入力シート!G72)","v":""},{"$f":"IF($AC62=\"\",\"\",入力シート!H72)","v":""},""]
[{"$f":"IF(入力シート!$B73=\"\",\"\",大会コード)","v":""},{"$f":"IF(入力シート!$B73=\"\",\"\",VLOOKUP(入力シート!$C73,大会データ!$A$5:$F$372,3,FALSE))","v":""},{"$f":"IF(入力シート!$B73=\"\",\"\",VLOOKUP(入力シート!$C73,大会データ!$A$5:$F$372,4,FALSE))","v":""},{"$f":"IF(入力シート!$B73=\"\",\"\",VLOOKUP(入力シート!$C73,大会データ!$A$5:$F$372,5,FALSE))","v":""},{"$f":"IF(入力シート!$B73=\"\",\"\",基礎データ!$B$6)","v":""},{"$f":"IF(入力シート!$B73=\"\",\"\",B63)","v":""},{"$f":"IF(入力シート!$B73=\"\",\"\",IF(入力シート!$E73=\"\",TEXT(入力シート!$B73,\"00\"),入力シート!$E73))","v":""},null,null,{"$f":"IF(入力シート!I73=\"\",\"\",入力シート!I73)","v":""},null,null,null,null,null,null,null,null,null,null,null,null,null,null,null,null,"","","",{"$f":"IF($AC63=\"\",\"\",入力シート!F73)","v":""},{"$f":"IF($AC63=\"\",\"\",入力シート!G73)","v":""},{"$f":"IF($AC63=\"\",\"\",入力シート!H73)","v":""},""]
[{"$f":"IF(入力シート!$B74=\"\",\"\",大会コード)","v":""},{"$f":"IF(入力シート!$B74=\"\",\"\",VLOOKUP(入力シート!$C74,大会データ!$A$5:$F$372,3,FALSE))","v":""},{"$f":"IF(入力シート!$B74=\"\",\"\",VLOOKUP(入力シート!$C74,大会データ!$A$5:$F$372,4,FALSE))","v":""},{"$f":"IF(入力シート!$B74=\"\",\"\",VLOOKUP(入力シート!$C74,大会データ!$A$5:$F$372,5,FALSE))","v":""},{"$f":"IF(入力シート!$B74=\"\",\"\",基礎データ!$B$6)","v":""},{"$f":"IF(入力シート!$B74=\"\",\"\",B64)","v":""},{"$f":"IF(入力シート!$B74=\"\",\"\",IF(入力シート!$E74=\"\",TEXT(入力シート!$B74,\"00\"),入力シート!$E74))","v":""},null,null,{"$f":"IF(入力シート!I74=\"\",\"\",入力シート!I74)","v":""},null,null,null,null,null,null,null,null,null,null,null,null,null,null,null,null,"","","",{"$f":"IF($AC64=\"\",\"\",入力シート!F74)","v":""},{"$f":"IF($AC64=\"\",\"\",入力シート!G74)","v":""},{"$f":"IF($AC64=\"\",\"\",入力シート!H74)","v":""},""]
[{"$f":"IF(入力シート!$B75=\"\",\"\",大会コード)","v":""},{"$f":"IF(入力シート!$B75=\"\",\"\",VLOOKUP(入力シート!$C75,大会データ!$A$5:$F$372,3,FALSE))","v":""},{"$f":"IF(入力シート!$B75=\"\",\"\",VLOOKUP(入力シート!$C75,大会データ!$A$5:$F$372,4,FALSE))","v":""},{"$f":"IF(入力シート!$B75=\"\",\"\",VLOOKUP(入力シート!$C75,大会データ!$A$5:$F$372,5,FALSE))","v":""},{"$f":"IF(入力シート!$B75=\"\",\"\",基礎データ!$B$6)","v":""},{"$f":"IF(入力シート!$B75=\"\",\"\",B65)","v":""},{"$f":"IF(入力シート!$B75=\"\",\"\",IF(入力シート!$E75=\"\",TEXT(入力シート!$B75,\"00\"),入力シート!$E75))","v":""},null,null,{"$f":"IF(入力シート!I75=\"\",\"\",入力シート!I75)","v":""},null,null,null,null,null,null,null,null,null,null,null,null,null,null,null,null,"","","",{"$f":"IF($AC65=\"\",\"\",入力シート!F75)","v":""},{"$f":"IF($AC65=\"\",\"\",入力シート!G75)","v":""},{"$f":"IF($AC65=\"\",\"\",入力シート!H75)","v":""},""]
[{"$f":"IF(入力シート!$B76=\"\",\"\",大会コード)","v":""},{"$f":"IF(入力シート!$B76=\"\",\"\",VLOOKUP(入力シート!$C76,大会データ!$A$5:$F$372,3,FALSE))","v":""},{"$f":"IF(入力シート!$B76=\"\",\"\",VLOOKUP(入力シート!$C76,大会データ!$A$5:$F$372,4,FALSE))","v":""},{"$f":"IF(入力シート!$B76=\"\",\"\",VLOOKUP(入力シート!$C76,大会データ!$A$5:$F$372,5,FALSE))","v":""},{"$f":"IF(入力シート!$B76=\"\",\"\",基礎データ!$B$6)","v":""},{"$f":"IF(入力シート!$B76=\"\",\"\",B66)","v":""},{"$f":"IF(入力シート!$B76=\"\",\"\",IF(入力シート!$E76=\"\",TEXT(入力シート!$B76,\"00\"),入力シート!$E76))","v":""},null,null,{"$f":"IF(入力シート!I76=\"\",\"\",入力シート!I76)","v":""},null,null,null,null,null,null,null,null,null,null,null,null,null,null,null,null,"","","",{"$f":"IF($AC66=\"\",\"\",入力シート!F76)","v":""},{"$f":"IF($AC66=\"\",\"\",入力シート!G76)","v":""},{"$f":"IF($AC66=\"\",\"\",入力シート!H76)","v":""},""]
[{"$f":"IF(入力シート!$B77=\"\",\"\",大会コード)","v":""},{"$f":"IF(入力シート!$B77=\"\",\"\",VLOOKUP(入力シート!$C77,大会データ!$A$5:$F$372,3,FALSE))","v":""},{"$f":"IF(入力シート!$B77=\"\",\"\",VLOOKUP(入力シート!$C77,大会データ!$A$5:$F$372,4,FALSE))","v":""},{"$f":"IF(入力シート!$B77=\"\",\"\",VLOOKUP(入力シート!$C77,大会データ!$A$5:$F$372,5,FALSE))","v":""},{"$f":"IF(入力シート!$B77=\"\",\"\",基礎データ!$B$6)","v":""},{"$f":"IF(入力シート!$B77=\"\",\"\",B67)","v":""},{"$f":"IF(入力シート!$B77=\"\",\"\",IF(入力シート!$E77=\"\",TEXT(入力シート!$B77,\"00\"),入力シート!$E77))","v":""},null,null,{"$f":"IF(入力シート!I77=\"\",\"\",入力シート!I77)","v":""},null,null,null,null,null,null,null,null,null,null,null,null,null,null,null,null,"","","",{"$f":"IF($AC67=\"\",\"\",入力シート!F77)","v":""},{"$f":"IF($AC67=\"\",\"\",入力シート!G77)","v":""},{"$f":"IF($AC67=\"\",\"\",入力シート!H77)","v":""},""]
[{"$f":"IF(入力シート!$B78=\"\",\"\",大会コード)","v":""},{"$f":"IF(入力シート!$B78=\"\",\"\",VLOOKUP(入力シート!$C78,大会データ!$A$5:$F$372,3,FALSE))","v":""},{"$f":"IF(入力シート!$B78=\"\",\"\",VLOOKUP(入力シート!$C78,大会データ!$A$5:$F$372,4,FALSE))","v":""},{"$f":"IF(入力シート!$B78=\"\",\"\",VLOOKUP(入力シート!$C78,大会データ!$A$5:$F$372,5,FALSE))","v":""},{"$f":"IF(入力シート!$B78=\"\",\"\",基礎データ!$B$6)","v":""},{"$f":"IF(入力シート!$B78=\"\",\"\",B68)","v":""},{"$f":"IF(入力シート!$B78=\"\",\"\",IF(入力シート!$E78=\"\",TEXT(入力シート!$B78,\"00\"),入力シート!$E78))","v":""},null,null,{"$f":"IF(入力シート!I78=\"\",\"\",入力シート!I78)","v":""},null,null,null,null,null,null,null,null,null,null,null,null,null,null,null,null,"","","",{"$f":"IF($AC68=\"\",\"\",入力シート!F78)","v":""},{"$f":"IF($AC68=\"\",\"\",入力シート!G78)","v":""},{"$f":"IF($AC68=\"\",\"\",入力シート!H78)","v":""},""]
[{"$f":"IF(入力シート!$B79=\"\",\"\",大会コード)","v":""},{"$f":"IF(入力シート!$B79=\"\",\"\",VLOOKUP(入力シート!$C79,大会データ!$A$5:$F$372,3,FALSE))","v":""},{"$f":"IF(入力シート!$B79=\"\",\"\",VLOOKUP(入力シート!$C79,大会データ!$A$5:$F$372,4,FALSE))","v":""},{"$f":"IF(入力シート!$B79=\"\",\"\",VLOOKUP(入力シート!$C79,大会データ!$A$5:$F$372,5,FALSE))","v":""},{"$f":"IF(入力シート!$B79=\"\",\"\",基礎データ!$B$6)","v":""},{"$f":"IF(入力シート!$B79=\"\",\"\",B69)","v":""},{"$f":"IF(入力シート!$B79=\"\",\"\",IF(入力シート!$E79=\"\",TEXT(入力シート!$B79,\"00\"),入力シート!$E79))","v":""},null,null,{"$f":"IF(入力シート!I79=\"\",\"\",入力シート!I79)","v":""},null,null,null,null,null,null,null,null,null,null,null,null,null,null,null,null,{"$f":"E69","v":""},{"$f":"B69","v":""},{"$f":"G69","v":""},{"$f":"IF($AC69=\"\",\"\",入力シート!F79)","v":""},{"$f":"IF($AC69=\"\",\"\",入力シート!G79)","v":""},{"$f":"IF($AC69=\"\",\"\",入力シート!H79)","v":""},{"$f":"IF($AC69=\"\",\"\",2016-AF69)","v":""}]
[{"$f":"IF(入力シート!$B80=\"\",\"\",大会コード)","v":""},{"$f":"IF(入力シート!$B80=\"\",\"\",VLOOKUP(入力シート!$C80,大会データ!$A$5:$F$372,3,FALSE))","v":""},{"$f":"IF(入力シート!$B80=\"\",\"\",VLOOKUP(入力シート!$C80,大会データ!$A$5:$F$372,4,FALSE))","v":""},{"$f":"IF(入力シート!$B80=\"\",\"\",VLOOKUP(入力シート!$C80,大会データ!$A$5:$F$372,5,FALSE))","v":""},{"$f":"IF(入力シート!$B80=\"\",\"\",基礎データ!$B$6)","v":""},{"$f":"IF(入力シート!$B80=\"\",\"\",B70)","v":""},{"$f":"IF(入力シート!$B80=\"\",\"\",IF(入力シート!$E80=\"\",TEXT(入力シート!$B80,\"00\"),入力シート!$E80))","v":""},null,null,{"$f":"IF(入力シート!I80=\"\",\"\",入力シート!I80)","v":""},null,null,null,null,null,null,null,null,null,null,null,null,null,null,null,null,"","","",{"$f":"IF($AC70=\"\",\"\",入力シート!F80)","v":""},{"$f":"IF($AC70=\"\",\"\",入力シート!G80)","v":""},{"$f":"IF($AC70=\"\",\"\",入力シート!H80)","v":""},""]
[{"$f":"IF(入力シート!$B81=\"\",\"\",大会コード)","v":""},{"$f":"IF(入力シート!$B81=\"\",\"\",VLOOKUP(入力シート!$C81,大会データ!$A$5:$F$372,3,FALSE))","v":""},{"$f":"IF(入力シート!$B81=\"\",\"\",VLOOKUP(入力シート!$C81,大会データ!$A$5:$F$372,4,FALSE))","v":""},{"$f":"IF(入力シート!$B81=\"\",\"\",VLOOKUP(入力シート!$C81,大会データ!$A$5:$F$372,5,FALSE))","v":""},{"$f":"IF(入力シート!$B81=\"\",\"\",基礎データ!$B$6)","v":""},{"$f":"IF(入力シート!$B81=\"\",\"\",B71)","v":""},{"$f":"IF(入力シート!$B81=\"\",\"\",IF(入力シート!$E81=\"\",TEXT(入力シート!$B81,\"00\"),入力シート!$E81))","v":""},null,null,{"$f":"IF(入力シート!I81=\"\",\"\",入力シート!I81)","v":""},null,null,null,null,null,null,null,null,null,null,null,null,null,null,null,null,"","","",{"$f":"IF($AC71=\"\",\"\",入力シート!F81)","v":""},{"$f":"IF($AC71=\"\",\"\",入力シート!G81)","v":""},{"$f":"IF($AC71=\"\",\"\",入力シート!H81)","v":""},""]
[{"$f":"IF(入力シート!$B82=\"\",\"\",大会コード)","v":""},{"$f":"IF(入力シート!$B82=\"\",\"\",VLOOKUP(入力シート!$C82,大会データ!$A$5:$F$372,3,FALSE))","v":""},{"$f":"IF(入力シート!$B82=\"\",\"\",VLOOKUP(入力シート!$C82,大会データ!$A$5:$F$372,4,FALSE))","v":""},{"$f":"IF(入力シート!$B82=\"\",\"\",VLOOKUP(入力シート!$C82,大会データ!$A$5:$F$372,5,FALSE))","v":""},{"$f":"IF(入力シート!$B82=\"\",\"\",基礎データ!$B$6)","v":""},{"$f":"IF(入力シート!$B82=\"\",\"\",B72)","v":""},{"$f":"IF(入力シート!$B82=\"\",\"\",IF(入力シート!$E82=\"\",TEXT(入力シート!$B82,\"00\"),入力シート!$E82))","v":""},null,null,{"$f":"IF(入力シート!I82=\"\",\"\",入力シート!I82)","v":""},null,null,null,null,null,null,null,null,null,null,null,null,null,null,null,null,"","","",{"$f":"IF($AC72=\"\",\"\",入力シート!F82)","v":""},{"$f":"IF($AC72=\"\",\"\",入力シート!G82)","v":""},{"$f":"IF($AC72=\"\",\"\",入力シート!H82)","v":""},""]
[{"$f":"IF(入力シート!$B83=\"\",\"\",大会コード)","v":""},{"$f":"IF(入力シート!$B83=\"\",\"\",VLOOKUP(入力シート!$C83,大会データ!$A$5:$F$372,3,FALSE))","v":""},{"$f":"IF(入力シート!$B83=\"\",\"\",VLOOKUP(入力シート!$C83,大会データ!$A$5:$F$372,4,FALSE))","v":""},{"$f":"IF(入力シート!$B83=\"\",\"\",VLOOKUP(入力シート!$C83,大会データ!$A$5:$F$372,5,FALSE))","v":""},{"$f":"IF(入力シート!$B83=\"\",\"\",基礎データ!$B$6)","v":""},{"$f":"IF(入力シート!$B83=\"\",\"\",B73)","v":""},{"$f":"IF(入力シート!$B83=\"\",\"\",IF(入力シート!$E83=\"\",TEXT(入力シート!$B83,\"00\"),入力シート!$E83))","v":""},null,null,{"$f":"IF(入力シート!I83=\"\",\"\",入力シート!I83)","v":""},null,null,null,null,null,null,null,null,null,null,null,null,null,null,null,null,"","","",{"$f":"IF($AC73=\"\",\"\",入力シート!F83)","v":""},{"$f":"IF($AC73=\"\",\"\",入力シート!G83)","v":""},{"$f":"IF($AC73=\"\",\"\",入力シート!H83)","v":""},""]
[{"$f":"IF(入力シート!$B84=\"\",\"\",大会コード)","v":""},{"$f":"IF(入力シート!$B84=\"\",\"\",VLOOKUP(入力シート!$C84,大会データ!$A$5:$F$372,3,FALSE))","v":""},{"$f":"IF(入力シート!$B84=\"\",\"\",VLOOKUP(入力シート!$C84,大会データ!$A$5:$F$372,4,FALSE))","v":""},{"$f":"IF(入力シート!$B84=\"\",\"\",VLOOKUP(入力シート!$C84,大会データ!$A$5:$F$372,5,FALSE))","v":""},{"$f":"IF(入力シート!$B84=\"\",\"\",基礎データ!$B$6)","v":""},{"$f":"IF(入力シート!$B84=\"\",\"\",B74)","v":""},{"$f":"IF(入力シート!$B84=\"\",\"\",IF(入力シート!$E84=\"\",TEXT(入力シート!$B84,\"00\"),入力シート!$E84))","v":""},null,null,{"$f":"IF(入力シート!I84=\"\",\"\",入力シート!I84)","v":""},null,null,null,null,null,null,null,null,null,null,null,null,null,null,null,null,"","","",{"$f":"IF($AC74=\"\",\"\",入力シート!F84)","v":""},{"$f":"IF($AC74=\"\",\"\",入力シート!G84)","v":""},{"$f":"IF($AC74=\"\",\"\",入力シート!H84)","v":""},""]
[{"$f":"IF(入力シート!$B85=\"\",\"\",大会コード)","v":""},{"$f":"IF(入力シート!$B85=\"\",\"\",VLOOKUP(入力シート!$C85,大会データ!$A$5:$F$372,3,FALSE))","v":""},{"$f":"IF(入力シート!$B85=\"\",\"\",VLOOKUP(入力シート!$C85,大会データ!$A$5:$F$372,4,FALSE))","v":""},{"$f":"IF(入力シート!$B85=\"\",\"\",VLOOKUP(入力シート!$C85,大会データ!$A$5:$F$372,5,FALSE))","v":""},{"$f":"IF(入力シート!$B85=\"\",\"\",基礎データ!$B$6)","v":""},{"$f":"IF(入力シート!$B85=\"\",\"\",B75)","v":""},{"$f":"IF(入力シート!$B85=\"\",\"\",IF(入力シート!$E85=\"\",TEXT(入力シート!$B85,\"00\"),入力シート!$E85))","v":""},null,null,{"$f":"IF(入力シート!I85=\"\",\"\",入力シート!I85)","v":""},null,null,null,null,null,null,null,null,null,null,null,null,null,null,null,null,"","","",{"$f":"IF($AC75=\"\",\"\",入力シート!F85)","v":""},{"$f":"IF($AC75=\"\",\"\",入力シート!G85)","v":""},{"$f":"IF($AC75=\"\",\"\",入力シート!H85)","v":""},""]
[{"$f":"IF(入力シート!$B86=\"\",\"\",大会コード)","v":""},{"$f":"IF(入力シート!$B86=\"\",\"\",VLOOKUP(入力シート!$C86,大会データ!$A$5:$F$372,3,FALSE))","v":""},{"$f":"IF(入力シート!$B86=\"\",\"\",VLOOKUP(入力シート!$C86,大会データ!$A$5:$F$372,4,FALSE))","v":""},{"$f":"IF(入力シート!$B86=\"\",\"\",VLOOKUP(入力シート!$C86,大会データ!$A$5:$F$372,5,FALSE))","v":""},{"$f":"IF(入力シート!$B86=\"\",\"\",基礎データ!$B$6)","v":""},{"$f":"IF(入力シート!$B86=\"\",\"\",B76)","v":""},{"$f":"IF(入力シート!$B86=\"\",\"\",IF(入力シート!$E86=\"\",TEXT(入力シート!$B86,\"00\"),入力シート!$E86))","v":""},null,null,{"$f":"IF(入力シート!I86=\"\",\"\",入力シート!I86)","v":""},null,null,null,null,null,null,null,null,null,null,null,null,null,null,null,null,"","","",{"$f":"IF($AC76=\"\",\"\",入力シート!F86)","v":""},{"$f":"IF($AC76=\"\",\"\",入力シート!G86)","v":""},{"$f":"IF($AC76=\"\",\"\",入力シート!H86)","v":""},""]
[{"$f":"IF(入力シート!$B87=\"\",\"\",大会コード)","v":""},{"$f":"IF(入力シート!$B87=\"\",\"\",VLOOKUP(入力シート!$C87,大会データ!$A$5:$F$372,3,FALSE))","v":""},{"$f":"IF(入力シート!$B87=\"\",\"\",VLOOKUP(入力シート!$C87,大会データ!$A$5:$F$372,4,FALSE))","v":""},{"$f":"IF(入力シート!$B87=\"\",\"\",VLOOKUP(入力シート!$C87,大会データ!$A$5:$F$372,5,FALSE))","v":""},{"$f":"IF(入力シート!$B87=\"\",\"\",基礎データ!$B$6)","v":""},{"$f":"IF(入力シート!$B87=\"\",\"\",B77)","v":""},{"$f":"IF(入力シート!$B87=\"\",\"\",IF(入力シート!$E87=\"\",TEXT(入力シート!$B87,\"00\"),入力シート!$E87))","v":""},null,null,{"$f":"IF(入力シート!I87=\"\",\"\",入力シート!I87)","v":""},null,null,null,null,null,null,null,null,null,null,null,null,null,null,null,null,"","","",{"$f":"IF($AC77=\"\",\"\",入力シート!F87)","v":""},{"$f":"IF($AC77=\"\",\"\",入力シート!G87)","v":""},{"$f":"IF($AC77=\"\",\"\",入力シート!H87)","v":""},""]
[{"$f":"IF(入力シート!$B88=\"\",\"\",大会コード)","v":""},{"$f":"IF(入力シート!$B88=\"\",\"\",VLOOKUP(入力シート!$C88,大会データ!$A$5:$F$372,3,FALSE))","v":""},{"$f":"IF(入力シート!$B88=\"\",\"\",VLOOKUP(入力シート!$C88,大会データ!$A$5:$F$372,4,FALSE))","v":""},{"$f":"IF(入力シート!$B88=\"\",\"\",VLOOKUP(入力シート!$C88,大会データ!$A$5:$F$372,5,FALSE))","v":""},{"$f":"IF(入力シート!$B88=\"\",\"\",基礎データ!$B$6)","v":""},{"$f":"IF(入力シート!$B88=\"\",\"\",B78)","v":""},{"$f":"IF(入力シート!$B88=\"\",\"\",IF(入力シート!$E88=\"\",TEXT(入力シート!$B88,\"00\"),入力シート!$E88))","v":""},null,null,{"$f":"IF(入力シート!I88=\"\",\"\",入力シート!I88)","v":""},null,null,null,null,null,null,null,null,null,null,null,null,null,null,null,null,"","","",{"$f":"IF($AC78=\"\",\"\",入力シート!F88)","v":""},{"$f":"IF($AC78=\"\",\"\",入力シート!G88)","v":""},{"$f":"IF($AC78=\"\",\"\",入力シート!H88)","v":""},""]
[{"$f":"IF(入力シート!$B89=\"\",\"\",大会コード)","v":""},{"$f":"IF(入力シート!$B89=\"\",\"\",VLOOKUP(入力シート!$C89,大会データ!$A$5:$F$372,3,FALSE))","v":""},{"$f":"IF(入力シート!$B89=\"\",\"\",VLOOKUP(入力シート!$C89,大会データ!$A$5:$F$372,4,FALSE))","v":""},{"$f":"IF(入力シート!$B89=\"\",\"\",VLOOKUP(入力シート!$C89,大会データ!$A$5:$F$372,5,FALSE))","v":""},{"$f":"IF(入力シート!$B89=\"\",\"\",基礎データ!$B$6)","v":""},{"$f":"IF(入力シート!$B89=\"\",\"\",B79)","v":""},{"$f":"IF(入力シート!$B89=\"\",\"\",IF(入力シート!$E89=\"\",TEXT(入力シート!$B89,\"00\"),入力シート!$E89))","v":""},null,null,{"$f":"IF(入力シート!I89=\"\",\"\",入力シート!I89)","v":""},null,null,null,null,null,null,null,null,null,null,null,null,null,null,null,null,"","","",{"$f":"IF($AC79=\"\",\"\",入力シート!F89)","v":""},{"$f":"IF($AC79=\"\",\"\",入力シート!G89)","v":""},{"$f":"IF($AC79=\"\",\"\",入力シート!H89)","v":""},""]
[{"$f":"IF(入力シート!$B90=\"\",\"\",大会コード)","v":""},{"$f":"IF(入力シート!$B90=\"\",\"\",VLOOKUP(入力シート!$C90,大会データ!$A$5:$F$372,3,FALSE))","v":""},{"$f":"IF(入力シート!$B90=\"\",\"\",VLOOKUP(入力シート!$C90,大会データ!$A$5:$F$372,4,FALSE))","v":""},{"$f":"IF(入力シート!$B90=\"\",\"\",VLOOKUP(入力シート!$C90,大会データ!$A$5:$F$372,5,FALSE))","v":""},{"$f":"IF(入力シート!$B90=\"\",\"\",基礎データ!$B$6)","v":""},{"$f":"IF(入力シート!$B90=\"\",\"\",B80)","v":""},{"$f":"IF(入力シート!$B90=\"\",\"\",IF(入力シート!$E90=\"\",TEXT(入力シート!$B90,\"00\"),入力シート!$E90))","v":""},null,null,{"$f":"IF(入力シート!I90=\"\",\"\",入力シート!I90)","v":""},null,null,null,null,null,null,null,null,null,null,null,null,null,null,null,null,"","","",{"$f":"IF($AC80=\"\",\"\",入力シート!F90)","v":""},{"$f":"IF($AC80=\"\",\"\",入力シート!G90)","v":""},{"$f":"IF($AC80=\"\",\"\",入力シート!H90)","v":""},""]
[{"$f":"IF(入力シート!$B91=\"\",\"\",大会コード)","v":""},{"$f":"IF(入力シート!$B91=\"\",\"\",VLOOKUP(入力シート!$C91,大会データ!$A$5:$F$372,3,FALSE))","v":""},{"$f":"IF(入力シート!$B91=\"\",\"\",VLOOKUP(入力シート!$C91,大会データ!$A$5:$F$372,4,FALSE))","v":""},{"$f":"IF(入力シート!$B91=\"\",\"\",VLOOKUP(入力シート!$C91,大会データ!$A$5:$F$372,5,FALSE))","v":""},{"$f":"IF(入力シート!$B91=\"\",\"\",基礎データ!$B$6)","v":""},{"$f":"IF(入力シート!$B91=\"\",\"\",B81)","v":""},{"$f":"IF(入力シート!$B91=\"\",\"\",IF(入力シート!$E91=\"\",TEXT(入力シート!$B91,\"00\"),入力シート!$E91))","v":""},null,null,{"$f":"IF(入力シート!I91=\"\",\"\",入力シート!I91)","v":""},null,null,null,null,null,null,null,null,null,null,null,null,null,null,null,null,"","","",{"$f":"IF($AC81=\"\",\"\",入力シート!F91)","v":""},{"$f":"IF($AC81=\"\",\"\",入力シート!G91)","v":""},{"$f":"IF($AC81=\"\",\"\",入力シート!H91)","v":""},""]
[{"$f":"IF(入力シート!$B92=\"\",\"\",大会コード)","v":""},{"$f":"IF(入力シート!$B92=\"\",\"\",VLOOKUP(入力シート!$C92,大会データ!$A$5:$F$372,3,FALSE))","v":""},{"$f":"IF(入力シート!$B92=\"\",\"\",VLOOKUP(入力シート!$C92,大会データ!$A$5:$F$372,4,FALSE))","v":""},{"$f":"IF(入力シート!$B92=\"\",\"\",VLOOKUP(入力シート!$C92,大会データ!$A$5:$F$372,5,FALSE))","v":""},{"$f":"IF(入力シート!$B92=\"\",\"\",基礎データ!$B$6)","v":""},{"$f":"IF(入力シート!$B92=\"\",\"\",B82)","v":""},{"$f":"IF(入力シート!$B92=\"\",\"\",IF(入力シート!$E92=\"\",TEXT(入力シート!$B92,\"00\"),入力シート!$E92))","v":""},null,null,{"$f":"IF(入力シート!I92=\"\",\"\",入力シート!I92)","v":""},null,null,null,null,null,null,null,null,null,null,null,null,null,null,null,null,"","","",{"$f":"IF($AC82=\"\",\"\",入力シート!F92)","v":""},{"$f":"IF($AC82=\"\",\"\",入力シート!G92)","v":""},{"$f":"IF($AC82=\"\",\"\",入力シート!H92)","v":""},""]
[{"$f":"IF(入力シート!$B93=\"\",\"\",大会コード)","v":""},{"$f":"IF(入力シート!$B93=\"\",\"\",VLOOKUP(入力シート!$C93,大会データ!$A$5:$F$372,3,FALSE))","v":""},{"$f":"IF(入力シート!$B93=\"\",\"\",VLOOKUP(入力シート!$C93,大会データ!$A$5:$F$372,4,FALSE))","v":""},{"$f":"IF(入力シート!$B93=\"\",\"\",VLOOKUP(入力シート!$C93,大会データ!$A$5:$F$372,5,FALSE))","v":""},{"$f":"IF(入力シート!$B93=\"\",\"\",基礎データ!$B$6)","v":""},{"$f":"IF(入力シート!$B93=\"\",\"\",B83)","v":""},{"$f":"IF(入力シート!$B93=\"\",\"\",IF(入力シート!$E93=\"\",TEXT(入力シート!$B93,\"00\"),入力シート!$E93))","v":""},null,null,{"$f":"IF(入力シート!I93=\"\",\"\",入力シート!I93)","v":""},null,null,null,null,null,null,null,null,null,null,null,null,null,null,null,null,"","","",{"$f":"IF($AC83=\"\",\"\",入力シート!F93)","v":""},{"$f":"IF($AC83=\"\",\"\",入力シート!G93)","v":""},{"$f":"IF($AC83=\"\",\"\",入力シート!H93)","v":""},""]
[{"$f":"IF(入力シート!$B94=\"\",\"\",大会コード)","v":""},{"$f":"IF(入力シート!$B94=\"\",\"\",VLOOKUP(入力シート!$C94,大会データ!$A$5:$F$372,3,FALSE))","v":""},{"$f":"IF(入力シート!$B94=\"\",\"\",VLOOKUP(入力シート!$C94,大会データ!$A$5:$F$372,4,FALSE))","v":""},{"$f":"IF(入力シート!$B94=\"\",\"\",VLOOKUP(入力シート!$C94,大会データ!$A$5:$F$372,5,FALSE))","v":""},{"$f":"IF(入力シート!$B94=\"\",\"\",基礎データ!$B$6)","v":""},{"$f":"IF(入力シート!$B94=\"\",\"\",B84)","v":""},{"$f":"IF(入力シート!$B94=\"\",\"\",IF(入力シート!$E94=\"\",TEXT(入力シート!$B94,\"00\"),入力シート!$E94))","v":""},null,null,{"$f":"IF(入力シート!I94=\"\",\"\",入力シート!I94)","v":""},null,null,null,null,null,null,null,null,null,null,null,null,null,null,null,null,"","","",{"$f":"IF($AC84=\"\",\"\",入力シート!F94)","v":""},{"$f":"IF($AC84=\"\",\"\",入力シート!G94)","v":""},{"$f":"IF($AC84=\"\",\"\",入力シート!H94)","v":""},""]
[{"$f":"IF(入力シート!$B95=\"\",\"\",大会コード)","v":""},{"$f":"IF(入力シート!$B95=\"\",\"\",VLOOKUP(入力シート!$C95,大会データ!$A$5:$F$372,3,FALSE))","v":""},{"$f":"IF(入力シート!$B95=\"\",\"\",VLOOKUP(入力シート!$C95,大会データ!$A$5:$F$372,4,FALSE))","v":""},{"$f":"IF(入力シート!$B95=\"\",\"\",VLOOKUP(入力シート!$C95,大会データ!$A$5:$F$372,5,FALSE))","v":""},{"$f":"IF(入力シート!$B95=\"\",\"\",基礎データ!$B$6)","v":""},{"$f":"IF(入力シート!$B95=\"\",\"\",B85)","v":""},{"$f":"IF(入力シート!$B95=\"\",\"\",IF(入力シート!$E95=\"\",TEXT(入力シート!$B95,\"00\"),入力シート!$E95))","v":""},null,null,{"$f":"IF(入力シート!I95=\"\",\"\",入力シート!I95)","v":""},null,null,null,null,null,null,null,null,null,null,null,null,null,null,null,null,"","","",{"$f":"IF($AC85=\"\",\"\",入力シート!F95)","v":""},{"$f":"IF($AC85=\"\",\"\",入力シート!G95)","v":""},{"$f":"IF($AC85=\"\",\"\",入力シート!H95)","v":""},""]
[{"$f":"IF(入力シート!$B96=\"\",\"\",大会コード)","v":""},{"$f":"IF(入力シート!$B96=\"\",\"\",VLOOKUP(入力シート!$C96,大会データ!$A$5:$F$372,3,FALSE))","v":""},{"$f":"IF(入力シート!$B96=\"\",\"\",VLOOKUP(入力シート!$C96,大会データ!$A$5:$F$372,4,FALSE))","v":""},{"$f":"IF(入力シート!$B96=\"\",\"\",VLOOKUP(入力シート!$C96,大会データ!$A$5:$F$372,5,FALSE))","v":""},{"$f":"IF(入力シート!$B96=\"\",\"\",基礎データ!$B$6)","v":""},{"$f":"IF(入力シート!$B96=\"\",\"\",B86)","v":""},{"$f":"IF(入力シート!$B96=\"\",\"\",IF(入力シート!$E96=\"\",TEXT(入力シート!$B96,\"00\"),入力シート!$E96))","v":""},null,null,{"$f":"IF(入力シート!I96=\"\",\"\",入力シート!I96)","v":""},null,null,null,null,null,null,null,null,null,null,null,null,null,null,null,null,"","","",{"$f":"IF($AC86=\"\",\"\",入力シート!F96)","v":""},{"$f":"IF($AC86=\"\",\"\",入力シート!G96)","v":""},{"$f":"IF($AC86=\"\",\"\",入力シート!H96)","v":""},""]
[{"$f":"IF(入力シート!$B97=\"\",\"\",大会コード)","v":""},{"$f":"IF(入力シート!$B97=\"\",\"\",VLOOKUP(入力シート!$C97,大会データ!$A$5:$F$372,3,FALSE))","v":""},{"$f":"IF(入力シート!$B97=\"\",\"\",VLOOKUP(入力シート!$C97,大会データ!$A$5:$F$372,4,FALSE))","v":""},{"$f":"IF(入力シート!$B97=\"\",\"\",VLOOKUP(入力シート!$C97,大会データ!$A$5:$F$372,5,FALSE))","v":""},{"$f":"IF(入力シート!$B97=\"\",\"\",基礎データ!$B$6)","v":""},{"$f":"IF(入力シート!$B97=\"\",\"\",B87)","v":""},{"$f":"IF(入力シート!$B97=\"\",\"\",IF(入力シート!$E97=\"\",TEXT(入力シート!$B97,\"00\"),入力シート!$E97))","v":""},null,null,{"$f":"IF(入力シート!I97=\"\",\"\",入力シート!I97)","v":""},null,null,null,null,null,null,null,null,null,null,null,null,null,null,null,null,"","","",{"$f":"IF($AC87=\"\",\"\",入力シート!F97)","v":""},{"$f":"IF($AC87=\"\",\"\",入力シート!G97)","v":""},{"$f":"IF($AC87=\"\",\"\",入力シート!H97)","v":""},""]
[{"$f":"IF(入力シート!$B98=\"\",\"\",大会コード)","v":""},{"$f":"IF(入力シート!$B98=\"\",\"\",VLOOKUP(入力シート!$C98,大会データ!$A$5:$F$372,3,FALSE))","v":""},{"$f":"IF(入力シート!$B98=\"\",\"\",VLOOKUP(入力シート!$C98,大会データ!$A$5:$F$372,4,FALSE))","v":""},{"$f":"IF(入力シート!$B98=\"\",\"\",VLOOKUP(入力シート!$C98,大会データ!$A$5:$F$372,5,FALSE))","v":""},{"$f":"IF(入力シート!$B98=\"\",\"\",基礎データ!$B$6)","v":""},{"$f":"IF(入力シート!$B98=\"\",\"\",B88)","v":""},{"$f":"IF(入力シート!$B98=\"\",\"\",IF(入力シート!$E98=\"\",TEXT(入力シート!$B98,\"00\"),入力シート!$E98))","v":""},null,null,{"$f":"IF(入力シート!I98=\"\",\"\",入力シート!I98)","v":""},null,null,null,null,null,null,null,null,null,null,null,null,null,null,null,null,"","","",{"$f":"IF($AC88=\"\",\"\",入力シート!F98)","v":""},{"$f":"IF($AC88=\"\",\"\",入力シート!G98)","v":""},{"$f":"IF($AC88=\"\",\"\",入力シート!H98)","v":""},""]
[{"$f":"IF(入力シート!$B99=\"\",\"\",大会コード)","v":""},{"$f":"IF(入力シート!$B99=\"\",\"\",VLOOKUP(入力シート!$C99,大会データ!$A$5:$F$372,3,FALSE))","v":""},{"$f":"IF(入力シート!$B99=\"\",\"\",VLOOKUP(入力シート!$C99,大会データ!$A$5:$F$372,4,FALSE))","v":""},{"$f":"IF(入力シート!$B99=\"\",\"\",VLOOKUP(入力シート!$C99,大会データ!$A$5:$F$372,5,FALSE))","v":""},{"$f":"IF(入力シート!$B99=\"\",\"\",基礎データ!$B$6)","v":""},{"$f":"IF(入力シート!$B99=\"\",\"\",B89)","v":""},{"$f":"IF(入力シート!$B99=\"\",\"\",IF(入力シート!$E99=\"\",TEXT(入力シート!$B99,\"00\"),入力シート!$E99))","v":""},null,null,{"$f":"IF(入力シート!I99=\"\",\"\",入力シート!I99)","v":""},null,null,null,null,null,null,null,null,null,null,null,null,null,null,null,null,"","","",{"$f":"IF($AC89=\"\",\"\",入力シート!F99)","v":""},{"$f":"IF($AC89=\"\",\"\",入力シート!G99)","v":""},{"$f":"IF($AC89=\"\",\"\",入力シート!H99)","v":""},""]
[{"$f":"IF(入力シート!$B100=\"\",\"\",大会コード)","v":""},{"$f":"IF(入力シート!$B100=\"\",\"\",VLOOKUP(入力シート!$C100,大会データ!$A$5:$F$372,3,FALSE))","v":""},{"$f":"IF(入力シート!$B100=\"\",\"\",VLOOKUP(入力シート!$C100,大会データ!$A$5:$F$372,4,FALSE))","v":""},{"$f":"IF(入力シート!$B100=\"\",\"\",VLOOKUP(入力シート!$C100,大会データ!$A$5:$F$372,5,FALSE))","v":""},{"$f":"IF(入力シート!$B100=\"\",\"\",基礎データ!$B$6)","v":""},{"$f":"IF(入力シート!$B100=\"\",\"\",B90)","v":""},{"$f":"IF(入力シート!$B100=\"\",\"\",IF(入力シート!$E100=\"\",TEXT(入力シート!$B100,\"00\"),入力シート!$E100))","v":""},null,null,{"$f":"IF(入力シート!I100=\"\",\"\",入力シート!I100)","v":""},null,null,null,null,null,null,null,null,null,null,null,null,null,null,null,null,"","","",{"$f":"IF($AC90=\"\",\"\",入力シート!F100)","v":""},{"$f":"IF($AC90=\"\",\"\",入力シート!G100)","v":""},{"$f":"IF($AC90=\"\",\"\",入力シート!H100)","v":""},""]
[{"$f":"IF(入力シート!$B101=\"\",\"\",大会コード)","v":""},{"$f":"IF(入力シート!$B101=\"\",\"\",VLOOKUP(入力シート!$C101,大会データ!$A$5:$F$372,3,FALSE))","v":""},{"$f":"IF(入力シート!$B101=\"\",\"\",VLOOKUP(入力シート!$C101,大会データ!$A$5:$F$372,4,FALSE))","v":""},{"$f":"IF(入力シート!$B101=\"\",\"\",VLOOKUP(入力シート!$C101,大会データ!$A$5:$F$372,5,FALSE))","v":""},{"$f":"IF(入力シート!$B101=\"\",\"\",基礎データ!$B$6)","v":""},{"$f":"IF(入力シート!$B101=\"\",\"\",B91)","v":""},{"$f":"IF(入力シート!$B101=\"\",\"\",IF(入力シート!$E101=\"\",TEXT(入力シート!$B101,\"00\"),入力シート!$E101))","v":""},null,null,{"$f":"IF(入力シート!I101=\"\",\"\",入力シート!I101)","v":""},null,null,null,null,null,null,null,null,null,null,null,null,null,null,null,null,"","","",{"$f":"IF($AC91=\"\",\"\",入力シート!F101)","v":""},{"$f":"IF($AC91=\"\",\"\",入力シート!G101)","v":""},{"$f":"IF($AC91=\"\",\"\",入力シート!H101)","v":""},""]
[{"$f":"IF(入力シート!$B102=\"\",\"\",大会コード)","v":""},{"$f":"IF(入力シート!$B102=\"\",\"\",VLOOKUP(入力シート!$C102,大会データ!$A$5:$F$372,3,FALSE))","v":""},{"$f":"IF(入力シート!$B102=\"\",\"\",VLOOKUP(入力シート!$C102,大会データ!$A$5:$F$372,4,FALSE))","v":""},{"$f":"IF(入力シート!$B102=\"\",\"\",VLOOKUP(入力シート!$C102,大会データ!$A$5:$F$372,5,FALSE))","v":""},{"$f":"IF(入力シート!$B102=\"\",\"\",基礎データ!$B$6)","v":""},{"$f":"IF(入力シート!$B102=\"\",\"\",B92)","v":""},{"$f":"IF(入力シート!$B102=\"\",\"\",IF(入力シート!$E102=\"\",TEXT(入力シート!$B102,\"00\"),入力シート!$E102))","v":""},null,null,{"$f":"IF(入力シート!I102=\"\",\"\",入力シート!I102)","v":""},null,null,null,null,null,null,null,null,null,null,null,null,null,null,null,null,"","","",{"$f":"IF($AC92=\"\",\"\",入力シート!F102)","v":""},{"$f":"IF($AC92=\"\",\"\",入力シート!G102)","v":""},{"$f":"IF($AC92=\"\",\"\",入力シート!H102)","v":""},""]
[{"$f":"IF(入力シート!$B103=\"\",\"\",大会コード)","v":""},{"$f":"IF(入力シート!$B103=\"\",\"\",VLOOKUP(入力シート!$C103,大会データ!$A$5:$F$372,3,FALSE))","v":""},{"$f":"IF(入力シート!$B103=\"\",\"\",VLOOKUP(入力シート!$C103,大会データ!$A$5:$F$372,4,FALSE))","v":""},{"$f":"IF(入力シート!$B103=\"\",\"\",VLOOKUP(入力シート!$C103,大会データ!$A$5:$F$372,5,FALSE))","v":""},{"$f":"IF(入力シート!$B103=\"\",\"\",基礎データ!$B$6)","v":""},{"$f":"IF(入力シート!$B103=\"\",\"\",B93)","v":""},{"$f":"IF(入力シート!$B103=\"\",\"\",IF(入力シート!$E103=\"\",TEXT(入力シート!$B103,\"00\"),入力シート!$E103))","v":""},null,null,{"$f":"IF(入力シート!I103=\"\",\"\",入力シート!I103)","v":""},null,null,null,null,null,null,null,null,null,null,null,null,null,null,null,null,"","","",{"$f":"IF($AC93=\"\",\"\",入力シート!F103)","v":""},{"$f":"IF($AC93=\"\",\"\",入力シート!G103)","v":""},{"$f":"IF($AC93=\"\",\"\",入力シート!H103)","v":""},""]
[{"$f":"IF(入力シート!$B104=\"\",\"\",大会コード)","v":""},{"$f":"IF(入力シート!$B104=\"\",\"\",VLOOKUP(入力シート!$C104,大会データ!$A$5:$F$372,3,FALSE))","v":""},{"$f":"IF(入力シート!$B104=\"\",\"\",VLOOKUP(入力シート!$C104,大会データ!$A$5:$F$372,4,FALSE))","v":""},{"$f":"IF(入力シート!$B104=\"\",\"\",VLOOKUP(入力シート!$C104,大会データ!$A$5:$F$372,5,FALSE))","v":""},{"$f":"IF(入力シート!$B104=\"\",\"\",基礎データ!$B$6)","v":""},{"$f":"IF(入力シート!$B104=\"\",\"\",B94)","v":""},{"$f":"IF(入力シート!$B104=\"\",\"\",IF(入力シート!$E104=\"\",TEXT(入力シート!$B104,\"00\"),入力シート!$E104))","v":""},null,null,{"$f":"IF(入力シート!I104=\"\",\"\",入力シート!I104)","v":""},null,null,null,null,null,null,null,null,null,null,null,null,null,null,null,null,"","","",{"$f":"IF($AC94=\"\",\"\",入力シート!F104)","v":""},{"$f":"IF($AC94=\"\",\"\",入力シート!G104)","v":""},{"$f":"IF($AC94=\"\",\"\",入力シート!H104)","v":""},""]
[{"$f":"IF(入力シート!$B105=\"\",\"\",大会コード)","v":""},{"$f":"IF(入力シート!$B105=\"\",\"\",VLOOKUP(入力シート!$C105,大会データ!$A$5:$F$372,3,FALSE))","v":""},{"$f":"IF(入力シート!$B105=\"\",\"\",VLOOKUP(入力シート!$C105,大会データ!$A$5:$F$372,4,FALSE))","v":""},{"$f":"IF(入力シート!$B105=\"\",\"\",VLOOKUP(入力シート!$C105,大会データ!$A$5:$F$372,5,FALSE))","v":""},{"$f":"IF(入力シート!$B105=\"\",\"\",基礎データ!$B$6)","v":""},{"$f":"IF(入力シート!$B105=\"\",\"\",B95)","v":""},{"$f":"IF(入力シート!$B105=\"\",\"\",IF(入力シート!$E105=\"\",TEXT(入力シート!$B105,\"00\"),入力シート!$E105))","v":""},null,null,{"$f":"IF(入力シート!I105=\"\",\"\",入力シート!I105)","v":""},null,null,null,null,null,null,null,null,null,null,null,null,null,null,null,null,"","","",{"$f":"IF($AC95=\"\",\"\",入力シート!F105)","v":""},{"$f":"IF($AC95=\"\",\"\",入力シート!G105)","v":""},{"$f":"IF($AC95=\"\",\"\",入力シート!H105)","v":""},""]
[{"$f":"IF(入力シート!$B106=\"\",\"\",大会コード)","v":""},{"$f":"IF(入力シート!$B106=\"\",\"\",VLOOKUP(入力シート!$C106,大会データ!$A$5:$F$372,3,FALSE))","v":""},{"$f":"IF(入力シート!$B106=\"\",\"\",VLOOKUP(入力シート!$C106,大会データ!$A$5:$F$372,4,FALSE))","v":""},{"$f":"IF(入力シート!$B106=\"\",\"\",VLOOKUP(入力シート!$C106,大会データ!$A$5:$F$372,5,FALSE))","v":""},{"$f":"IF(入力シート!$B106=\"\",\"\",基礎データ!$B$6)","v":""},{"$f":"IF(入力シート!$B106=\"\",\"\",B96)","v":""},{"$f":"IF(入力シート!$B106=\"\",\"\",IF(入力シート!$E106=\"\",TEXT(入力シート!$B106,\"00\"),入力シート!$E106))","v":""},null,null,{"$f":"IF(入力シート!I106=\"\",\"\",入力シート!I106)","v":""},null,null,null,null,null,null,null,null,null,null,null,null,null,null,null,null,"","","",{"$f":"IF($AC96=\"\",\"\",入力シート!F106)","v":""},{"$f":"IF($AC96=\"\",\"\",入力シート!G106)","v":""},{"$f":"IF($AC96=\"\",\"\",入力シート!H106)","v":""},""]
[{"$f":"IF(入力シート!$B107=\"\",\"\",大会コード)","v":""},{"$f":"IF(入力シート!$B107=\"\",\"\",VLOOKUP(入力シート!$C107,大会データ!$A$5:$F$372,3,FALSE))","v":""},{"$f":"IF(入力シート!$B107=\"\",\"\",VLOOKUP(入力シート!$C107,大会データ!$A$5:$F$372,4,FALSE))","v":""},{"$f":"IF(入力シート!$B107=\"\",\"\",VLOOKUP(入力シート!$C107,大会データ!$A$5:$F$372,5,FALSE))","v":""},{"$f":"IF(入力シート!$B107=\"\",\"\",基礎データ!$B$6)","v":""},{"$f":"IF(入力シート!$B107=\"\",\"\",B97)","v":""},{"$f":"IF(入力シート!$B107=\"\",\"\",IF(入力シート!$E107=\"\",TEXT(入力シート!$B107,\"00\"),入力シート!$E107))","v":""},null,null,{"$f":"IF(入力シート!I107=\"\",\"\",入力シート!I107)","v":""},null,null,null,null,null,null,null,null,null,null,null,null,null,null,null,null,"","","",{"$f":"IF($AC97=\"\",\"\",入力シート!F107)","v":""},{"$f":"IF($AC97=\"\",\"\",入力シート!G107)","v":""},{"$f":"IF($AC97=\"\",\"\",入力シート!H107)","v":""},""]
[{"$f":"IF(入力シート!$B108=\"\",\"\",大会コード)","v":""},{"$f":"IF(入力シート!$B108=\"\",\"\",VLOOKUP(入力シート!$C108,大会データ!$A$5:$F$372,3,FALSE))","v":""},{"$f":"IF(入力シート!$B108=\"\",\"\",VLOOKUP(入力シート!$C108,大会データ!$A$5:$F$372,4,FALSE))","v":""},{"$f":"IF(入力シート!$B108=\"\",\"\",VLOOKUP(入力シート!$C108,大会データ!$A$5:$F$372,5,FALSE))","v":""},{"$f":"IF(入力シート!$B108=\"\",\"\",基礎データ!$B$6)","v":""},{"$f":"IF(入力シート!$B108=\"\",\"\",B98)","v":""},{"$f":"IF(入力シート!$B108=\"\",\"\",IF(入力シート!$E108=\"\",TEXT(入力シート!$B108,\"00\"),入力シート!$E108))","v":""},null,null,{"$f":"IF(入力シート!I108=\"\",\"\",入力シート!I108)","v":""},null,null,null,null,null,null,null,null,null,null,null,null,null,null,null,null,"","","",{"$f":"IF($AC98=\"\",\"\",入力シート!F108)","v":""},{"$f":"IF($AC98=\"\",\"\",入力シート!G108)","v":""},{"$f":"IF($AC98=\"\",\"\",入力シート!H108)","v":""},""]
[{"$f":"IF(入力シート!$B109=\"\",\"\",大会コード)","v":""},{"$f":"IF(入力シート!$B109=\"\",\"\",VLOOKUP(入力シート!$C109,大会データ!$A$5:$F$372,3,FALSE))","v":""},{"$f":"IF(入力シート!$B109=\"\",\"\",VLOOKUP(入力シート!$C109,大会データ!$A$5:$F$372,4,FALSE))","v":""},{"$f":"IF(入力シート!$B109=\"\",\"\",VLOOKUP(入力シート!$C109,大会データ!$A$5:$F$372,5,FALSE))","v":""},{"$f":"IF(入力シート!$B109=\"\",\"\",基礎データ!$B$6)","v":""},{"$f":"IF(入力シート!$B109=\"\",\"\",B99)","v":""},{"$f":"IF(入力シート!$B109=\"\",\"\",IF(入力シート!$E109=\"\",TEXT(入力シート!$B109,\"00\"),入力シート!$E109))","v":""},null,null,{"$f":"IF(入力シート!I109=\"\",\"\",入力シート!I109)","v":""},null,null,null,null,null,null,null,null,null,null,null,null,null,null,null,null,"","","",{"$f":"IF($AC99=\"\",\"\",入力シート!F109)","v":""},{"$f":"IF($AC99=\"\",\"\",入力シート!G109)","v":""},{"$f":"IF($AC99=\"\",\"\",入力シート!H109)","v":""},""]
[{"$f":"IF(入力シート!$B110=\"\",\"\",大会コード)","v":""},{"$f":"IF(入力シート!$B110=\"\",\"\",VLOOKUP(入力シート!$C110,大会データ!$A$5:$F$372,3,FALSE))","v":""},{"$f":"IF(入力シート!$B110=\"\",\"\",VLOOKUP(入力シート!$C110,大会データ!$A$5:$F$372,4,FALSE))","v":""},{"$f":"IF(入力シート!$B110=\"\",\"\",VLOOKUP(入力シート!$C110,大会データ!$A$5:$F$372,5,FALSE))","v":""},{"$f":"IF(入力シート!$B110=\"\",\"\",基礎データ!$B$6)","v":""},{"$f":"IF(入力シート!$B110=\"\",\"\",B100)","v":""},{"$f":"IF(入力シート!$B110=\"\",\"\",IF(入力シート!$E110=\"\",TEXT(入力シート!$B110,\"00\"),入力シート!$E110))","v":""},null,null,{"$f":"IF(入力シート!I110=\"\",\"\",入力シート!I110)","v":""},null,null,null,null,null,null,null,null,null,null,null,null,null,null,null,null,"","","",{"$f":"IF($AC100=\"\",\"\",入力シート!F110)","v":""},{"$f":"IF($AC100=\"\",\"\",入力シート!G110)","v":""},{"$f":"IF($AC100=\"\",\"\",入力シート!H110)","v":""},""]
[{"$f":"IF(入力シート!$B111=\"\",\"\",大会コード)","v":""},{"$f":"IF(入力シート!$B111=\"\",\"\",VLOOKUP(入力シート!$C111,大会データ!$A$5:$F$372,3,FALSE))","v":""},{"$f":"IF(入力シート!$B111=\"\",\"\",VLOOKUP(入力シート!$C111,大会データ!$A$5:$F$372,4,FALSE))","v":""},{"$f":"IF(入力シート!$B111=\"\",\"\",VLOOKUP(入力シート!$C111,大会データ!$A$5:$F$372,5,FALSE))","v":""},{"$f":"IF(入力シート!$B111=\"\",\"\",基礎データ!$B$6)","v":""},{"$f":"IF(入力シート!$B111=\"\",\"\",B101)","v":""},{"$f":"IF(入力シート!$B111=\"\",\"\",IF(入力シート!$E111=\"\",TEXT(入力シート!$B111,\"00\"),入力シート!$E111))","v":""},null,null,{"$f":"IF(入力シート!I111=\"\",\"\",入力シート!I111)","v":""},null,null,null,null,null,null,null,null,null,null,null,null,null,null,null,null,"","","",{"$f":"IF($AC101=\"\",\"\",入力シート!F111)","v":""},{"$f":"IF($AC101=\"\",\"\",入力シート!G111)","v":""},{"$f":"IF($AC101=\"\",\"\",入力シート!H111)","v":""},""]
[{"$f":"IF(入力シート!$B112=\"\",\"\",大会コード)","v":""},{"$f":"IF(入力シート!$B112=\"\",\"\",VLOOKUP(入力シート!$C112,大会データ!$A$5:$F$372,3,FALSE))","v":""},{"$f":"IF(入力シート!$B112=\"\",\"\",VLOOKUP(入力シート!$C112,大会データ!$A$5:$F$372,4,FALSE))","v":""},{"$f":"IF(入力シート!$B112=\"\",\"\",VLOOKUP(入力シート!$C112,大会データ!$A$5:$F$372,5,FALSE))","v":""},{"$f":"IF(入力シート!$B112=\"\",\"\",基礎データ!$B$6)","v":""},{"$f":"IF(入力シート!$B112=\"\",\"\",B102)","v":""},{"$f":"IF(入力シート!$B112=\"\",\"\",IF(入力シート!$E112=\"\",TEXT(入力シート!$B112,\"00\"),入力シート!$E112))","v":""},null,null,{"$f":"IF(入力シート!I112=\"\",\"\",入力シート!I112)","v":""},null,null,null,null,null,null,null,null,null,null,null,null,null,null,null,null,"","","",{"$f":"IF($AC102=\"\",\"\",入力シート!F112)","v":""},{"$f":"IF($AC102=\"\",\"\",入力シート!G112)","v":""},{"$f":"IF($AC102=\"\",\"\",入力シート!H112)","v":""},""]
[{"$f":"IF(入力シート!$B113=\"\",\"\",大会コード)","v":""},{"$f":"IF(入力シート!$B113=\"\",\"\",VLOOKUP(入力シート!$C113,大会データ!$A$5:$F$372,3,FALSE))","v":""},{"$f":"IF(入力シート!$B113=\"\",\"\",VLOOKUP(入力シート!$C113,大会データ!$A$5:$F$372,4,FALSE))","v":""},{"$f":"IF(入力シート!$B113=\"\",\"\",VLOOKUP(入力シート!$C113,大会データ!$A$5:$F$372,5,FALSE))","v":""},{"$f":"IF(入力シート!$B113=\"\",\"\",基礎データ!$B$6)","v":""},{"$f":"IF(入力シート!$B113=\"\",\"\",B103)","v":""},{"$f":"IF(入力シート!$B113=\"\",\"\",IF(入力シート!$E113=\"\",TEXT(入力シート!$B113,\"00\"),入力シート!$E113))","v":""},null,null,{"$f":"IF(入力シート!I113=\"\",\"\",入力シート!I113)","v":""},null,null,null,null,null,null,null,null,null,null,null,null,null,null,null,null,"","","",{"$f":"IF($AC103=\"\",\"\",入力シート!F113)","v":""},{"$f":"IF($AC103=\"\",\"\",入力シート!G113)","v":""},{"$f":"IF($AC103=\"\",\"\",入力シート!H113)","v":""},""]
[{"$f":"IF(入力シート!$B114=\"\",\"\",大会コード)","v":""},{"$f":"IF(入力シート!$B114=\"\",\"\",VLOOKUP(入力シート!$C114,大会データ!$A$5:$F$372,3,FALSE))","v":""},{"$f":"IF(入力シート!$B114=\"\",\"\",VLOOKUP(入力シート!$C114,大会データ!$A$5:$F$372,4,FALSE))","v":""},{"$f":"IF(入力シート!$B114=\"\",\"\",VLOOKUP(入力シート!$C114,大会データ!$A$5:$F$372,5,FALSE))","v":""},{"$f":"IF(入力シート!$B114=\"\",\"\",基礎データ!$B$6)","v":""},{"$f":"IF(入力シート!$B114=\"\",\"\",B104)","v":""},{"$f":"IF(入力シート!$B114=\"\",\"\",IF(入力シート!$E114=\"\",TEXT(入力シート!$B114,\"00\"),入力シート!$E114))","v":""},null,null,{"$f":"IF(入力シート!I114=\"\",\"\",入力シート!I114)","v":""},null,null,null,null,null,null,null,null,null,null,null,null,null,null,null,null,"","","",{"$f":"IF($AC104=\"\",\"\",入力シート!F114)","v":""},{"$f":"IF($AC104=\"\",\"\",入力シート!G114)","v":""},{"$f":"IF($AC104=\"\",\"\",入力シート!H114)","v":""},""]
[{"$f":"IF(入力シート!$B115=\"\",\"\",大会コード)","v":""},{"$f":"IF(入力シート!$B115=\"\",\"\",VLOOKUP(入力シート!$C115,大会データ!$A$5:$F$372,3,FALSE))","v":""},{"$f":"IF(入力シート!$B115=\"\",\"\",VLOOKUP(入力シート!$C115,大会データ!$A$5:$F$372,4,FALSE))","v":""},{"$f":"IF(入力シート!$B115=\"\",\"\",VLOOKUP(入力シート!$C115,大会データ!$A$5:$F$372,5,FALSE))","v":""},{"$f":"IF(入力シート!$B115=\"\",\"\",基礎データ!$B$6)","v":""},{"$f":"IF(入力シート!$B115=\"\",\"\",B105)","v":""},{"$f":"IF(入力シート!$B115=\"\",\"\",IF(入力シート!$E115=\"\",TEXT(入力シート!$B115,\"00\"),入力シート!$E115))","v":""},null,null,{"$f":"IF(入力シート!I115=\"\",\"\",入力シート!I115)","v":""},null,null,null,null,null,null,null,null,null,null,null,null,null,null,null,null,"","","",{"$f":"IF($AC105=\"\",\"\",入力シート!F115)","v":""},{"$f":"IF($AC105=\"\",\"\",入力シート!G115)","v":""},{"$f":"IF($AC105=\"\",\"\",入力シート!H115)","v":""},""]
[{"$f":"IF(入力シート!$B116=\"\",\"\",大会コード)","v":""},{"$f":"IF(入力シート!$B116=\"\",\"\",VLOOKUP(入力シート!$C116,大会データ!$A$5:$F$372,3,FALSE))","v":""},{"$f":"IF(入力シート!$B116=\"\",\"\",VLOOKUP(入力シート!$C116,大会データ!$A$5:$F$372,4,FALSE))","v":""},{"$f":"IF(入力シート!$B116=\"\",\"\",VLOOKUP(入力シート!$C116,大会データ!$A$5:$F$372,5,FALSE))","v":""},{"$f":"IF(入力シート!$B116=\"\",\"\",基礎データ!$B$6)","v":""},{"$f":"IF(入力シート!$B116=\"\",\"\",B106)","v":""},{"$f":"IF(入力シート!$B116=\"\",\"\",IF(入力シート!$E116=\"\",TEXT(入力シート!$B116,\"00\"),入力シート!$E116))","v":""},null,null,{"$f":"IF(入力シート!I116=\"\",\"\",入力シート!I116)","v":""},null,null,null,null,null,null,null,null,null,null,null,null,null,null,null,null,"","","",{"$f":"IF($AC106=\"\",\"\",入力シート!F116)","v":""},{"$f":"IF($AC106=\"\",\"\",入力シート!G116)","v":""},{"$f":"IF($AC106=\"\",\"\",入力シート!H116)","v":""},""]
[{"$f":"IF(入力シート!$B117=\"\",\"\",大会コード)","v":""},{"$f":"IF(入力シート!$B117=\"\",\"\",VLOOKUP(入力シート!$C117,大会データ!$A$5:$F$372,3,FALSE))","v":""},{"$f":"IF(入力シート!$B117=\"\",\"\",VLOOKUP(入力シート!$C117,大会データ!$A$5:$F$372,4,FALSE))","v":""},{"$f":"IF(入力シート!$B117=\"\",\"\",VLOOKUP(入力シート!$C117,大会データ!$A$5:$F$372,5,FALSE))","v":""},{"$f":"IF(入力シート!$B117=\"\",\"\",基礎データ!$B$6)","v":""},{"$f":"IF(入力シート!$B117=\"\",\"\",B107)","v":""},{"$f":"IF(入力シート!$B117=\"\",\"\",IF(入力シート!$E117=\"\",TEXT(入力シート!$B117,\"00\"),入力シート!$E117))","v":""},null,null,{"$f":"IF(入力シート!I117=\"\",\"\",入力シート!I117)","v":""},null,null,null,null,null,null,null,null,null,null,null,null,null,null,null,null,"","","",{"$f":"IF($AC107=\"\",\"\",入力シート!F117)","v":""},{"$f":"IF($AC107=\"\",\"\",入力シート!G117)","v":""},{"$f":"IF($AC107=\"\",\"\",入力シート!H117)","v":""},""]
[{"$f":"IF(入力シート!$B118=\"\",\"\",大会コード)","v":""},{"$f":"IF(入力シート!$B118=\"\",\"\",VLOOKUP(入力シート!$C118,大会データ!$A$5:$F$372,3,FALSE))","v":""},{"$f":"IF(入力シート!$B118=\"\",\"\",VLOOKUP(入力シート!$C118,大会データ!$A$5:$F$372,4,FALSE))","v":""},{"$f":"IF(入力シート!$B118=\"\",\"\",VLOOKUP(入力シート!$C118,大会データ!$A$5:$F$372,5,FALSE))","v":""},{"$f":"IF(入力シート!$B118=\"\",\"\",基礎データ!$B$6)","v":""},{"$f":"IF(入力シート!$B118=\"\",\"\",B108)","v":""},{"$f":"IF(入力シート!$B118=\"\",\"\",IF(入力シート!$E118=\"\",TEXT(入力シート!$B118,\"00\"),入力シート!$E118))","v":""},null,null,{"$f":"IF(入力シート!I118=\"\",\"\",入力シート!I118)","v":""},null,null,null,null,null,null,null,null,null,null,null,null,null,null,null,null,"","","",{"$f":"IF($AC108=\"\",\"\",入力シート!F118)","v":""},{"$f":"IF($AC108=\"\",\"\",入力シート!G118)","v":""},{"$f":"IF($AC108=\"\",\"\",入力シート!H118)","v":""},""]
[{"$f":"IF(入力シート!$B119=\"\",\"\",大会コード)","v":""},{"$f":"IF(入力シート!$B119=\"\",\"\",VLOOKUP(入力シート!$C119,大会データ!$A$5:$F$372,3,FALSE))","v":""},{"$f":"IF(入力シート!$B119=\"\",\"\",VLOOKUP(入力シート!$C119,大会データ!$A$5:$F$372,4,FALSE))","v":""},{"$f":"IF(入力シート!$B119=\"\",\"\",VLOOKUP(入力シート!$C119,大会データ!$A$5:$F$372,5,FALSE))","v":""},{"$f":"IF(入力シート!$B119=\"\",\"\",基礎データ!$B$6)","v":""},{"$f":"IF(入力シート!$B119=\"\",\"\",B109)","v":""},{"$f":"IF(入力シート!$B119=\"\",\"\",IF(入力シート!$E119=\"\",TEXT(入力シート!$B119,\"00\"),入力シート!$E119))","v":""},null,null,{"$f":"IF(入力シート!I119=\"\",\"\",入力シート!I119)","v":""},null,null,null,null,null,null,null,null,null,null,null,null,null,null,null,null,"","","",{"$f":"IF($AC109=\"\",\"\",入力シート!F119)","v":""},{"$f":"IF($AC109=\"\",\"\",入力シート!G119)","v":""},{"$f":"IF($AC109=\"\",\"\",入力シート!H119)","v":""},""]
[{"$f":"IF(入力シート!$B120=\"\",\"\",大会コード)","v":""},{"$f":"IF(入力シート!$B120=\"\",\"\",VLOOKUP(入力シート!$C120,大会データ!$A$5:$F$372,3,FALSE))","v":""},{"$f":"IF(入力シート!$B120=\"\",\"\",VLOOKUP(入力シート!$C120,大会データ!$A$5:$F$372,4,FALSE))","v":""},{"$f":"IF(入力シート!$B120=\"\",\"\",VLOOKUP(入力シート!$C120,大会データ!$A$5:$F$372,5,FALSE))","v":""},{"$f":"IF(入力シート!$B120=\"\",\"\",基礎データ!$B$6)","v":""},{"$f":"IF(入力シート!$B120=\"\",\"\",B110)","v":""},{"$f":"IF(入力シート!$B120=\"\",\"\",IF(入力シート!$E120=\"\",TEXT(入力シート!$B120,\"00\"),入力シート!$E120))","v":""},null,null,{"$f":"IF(入力シート!I120=\"\",\"\",入力シート!I120)","v":""},null,null,null,null,null,null,null,null,null,null,null,null,null,null,null,null,"","","",{"$f":"IF($AC110=\"\",\"\",入力シート!F120)","v":""},{"$f":"IF($AC110=\"\",\"\",入力シート!G120)","v":""},{"$f":"IF($AC110=\"\",\"\",入力シート!H120)","v":""},""]
[{"$f":"IF(入力シート!$B121=\"\",\"\",大会コード)","v":""},{"$f":"IF(入力シート!$B121=\"\",\"\",VLOOKUP(入力シート!$C121,大会データ!$A$5:$F$372,3,FALSE))","v":""},{"$f":"IF(入力シート!$B121=\"\",\"\",VLOOKUP(入力シート!$C121,大会データ!$A$5:$F$372,4,FALSE))","v":""},{"$f":"IF(入力シート!$B121=\"\",\"\",VLOOKUP(入力シート!$C121,大会データ!$A$5:$F$372,5,FALSE))","v":""},{"$f":"IF(入力シート!$B121=\"\",\"\",基礎データ!$B$6)","v":""},{"$f":"IF(入力シート!$B121=\"\",\"\",B111)","v":""},{"$f":"IF(入力シート!$B121=\"\",\"\",IF(入力シート!$E121=\"\",TEXT(入力シート!$B121,\"00\"),入力シート!$E121))","v":""},null,null,{"$f":"IF(入力シート!I121=\"\",\"\",入力シート!I121)","v":""},null,null,null,null,null,null,null,null,null,null,null,null,null,null,null,null,"","","",{"$f":"IF($AC111=\"\",\"\",入力シート!F121)","v":""},{"$f":"IF($AC111=\"\",\"\",入力シート!G121)","v":""},{"$f":"IF($AC111=\"\",\"\",入力シート!H121)","v":""},""]
[{"$f":"IF(入力シート!$B122=\"\",\"\",大会コード)","v":""},{"$f":"IF(入力シート!$B122=\"\",\"\",VLOOKUP(入力シート!$C122,大会データ!$A$5:$F$372,3,FALSE))","v":""},{"$f":"IF(入力シート!$B122=\"\",\"\",VLOOKUP(入力シート!$C122,大会データ!$A$5:$F$372,4,FALSE))","v":""},{"$f":"IF(入力シート!$B122=\"\",\"\",VLOOKUP(入力シート!$C122,大会データ!$A$5:$F$372,5,FALSE))","v":""},{"$f":"IF(入力シート!$B122=\"\",\"\",基礎データ!$B$6)","v":""},{"$f":"IF(入力シート!$B122=\"\",\"\",B112)","v":""},{"$f":"IF(入力シート!$B122=\"\",\"\",IF(入力シート!$E122=\"\",TEXT(入力シート!$B122,\"00\"),入力シート!$E122))","v":""},null,null,{"$f":"IF(入力シート!I122=\"\",\"\",入力シート!I122)","v":""},null,null,null,null,null,null,null,null,null,null,null,null,null,null,null,null,"","","",{"$f":"IF($AC112=\"\",\"\",入力シート!F122)","v":""},{"$f":"IF($AC112=\"\",\"\",入力シート!G122)","v":""},{"$f":"IF($AC112=\"\",\"\",入力シート!H122)","v":""},""]
[{"$f":"IF(入力シート!$B123=\"\",\"\",大会コード)","v":""},{"$f":"IF(入力シート!$B123=\"\",\"\",VLOOKUP(入力シート!$C123,大会データ!$A$5:$F$372,3,FALSE))","v":""},{"$f":"IF(入力シート!$B123=\"\",\"\",VLOOKUP(入力シート!$C123,大会データ!$A$5:$F$372,4,FALSE))","v":""},{"$f":"IF(入力シート!$B123=\"\",\"\",VLOOKUP(入力シート!$C123,大会データ!$A$5:$F$372,5,FALSE))","v":""},{"$f":"IF(入力シート!$B123=\"\",\"\",基礎データ!$B$6)","v":""},{"$f":"IF(入力シート!$B123=\"\",\"\",B113)","v":""},{"$f":"IF(入力シート!$B123=\"\",\"\",IF(入力シート!$E123=\"\",TEXT(入力シート!$B123,\"00\"),入力シート!$E123))","v":""},null,null,{"$f":"IF(入力シート!I123=\"\",\"\",入力シート!I123)","v":""},null,null,null,null,null,null,null,null,null,null,null,null,null,null,null,null,"","","",{"$f":"IF($AC113=\"\",\"\",入力シート!F123)","v":""},{"$f":"IF($AC113=\"\",\"\",入力シート!G123)","v":""},{"$f":"IF($AC113=\"\",\"\",入力シート!H123)","v":""},""]
[{"$f":"IF(入力シート!$B124=\"\",\"\",大会コード)","v":""},{"$f":"IF(入力シート!$B124=\"\",\"\",VLOOKUP(入力シート!$C124,大会データ!$A$5:$F$372,3,FALSE))","v":""},{"$f":"IF(入力シート!$B124=\"\",\"\",VLOOKUP(入力シート!$C124,大会データ!$A$5:$F$372,4,FALSE))","v":""},{"$f":"IF(入力シート!$B124=\"\",\"\",VLOOKUP(入力シート!$C124,大会データ!$A$5:$F$372,5,FALSE))","v":""},{"$f":"IF(入力シート!$B124=\"\",\"\",基礎データ!$B$6)","v":""},{"$f":"IF(入力シート!$B124=\"\",\"\",B114)","v":""},{"$f":"IF(入力シート!$B124=\"\",\"\",IF(入力シート!$E124=\"\",TEXT(入力シート!$B124,\"00\"),入力シート!$E124))","v":""},null,null,{"$f":"IF(入力シート!I124=\"\",\"\",入力シート!I124)","v":""},null,null,null,null,null,null,null,null,null,null,null,null,null,null,null,null,"","","",{"$f":"IF($AC114=\"\",\"\",入力シート!F124)","v":""},{"$f":"IF($AC114=\"\",\"\",入力シート!G124)","v":""},{"$f":"IF($AC114=\"\",\"\",入力シート!H124)","v":""},""]
[{"$f":"IF(入力シート!$B125=\"\",\"\",大会コード)","v":""},{"$f":"IF(入力シート!$B125=\"\",\"\",VLOOKUP(入力シート!$C125,大会データ!$A$5:$F$372,3,FALSE))","v":""},{"$f":"IF(入力シート!$B125=\"\",\"\",VLOOKUP(入力シート!$C125,大会データ!$A$5:$F$372,4,FALSE))","v":""},{"$f":"IF(入力シート!$B125=\"\",\"\",VLOOKUP(入力シート!$C125,大会データ!$A$5:$F$372,5,FALSE))","v":""},{"$f":"IF(入力シート!$B125=\"\",\"\",基礎データ!$B$6)","v":""},{"$f":"IF(入力シート!$B125=\"\",\"\",B115)","v":""},{"$f":"IF(入力シート!$B125=\"\",\"\",IF(入力シート!$E125=\"\",TEXT(入力シート!$B125,\"00\"),入力シート!$E125))","v":""},null,null,{"$f":"IF(入力シート!I125=\"\",\"\",入力シート!I125)","v":""},null,null,null,null,null,null,null,null,null,null,null,null,null,null,null,null,"","","",{"$f":"IF($AC115=\"\",\"\",入力シート!F125)","v":""},{"$f":"IF($AC115=\"\",\"\",入力シート!G125)","v":""},{"$f":"IF($AC115=\"\",\"\",入力シート!H125)","v":""},""]
[{"$f":"IF(入力シート!$B330=\"\",\"\",大会コード)","v":""},{"$f":"IF(入力シート!$B330=\"\",\"\",VLOOKUP(入力シート!$C330,大会データ!$A$5:$F$372,3,FALSE))","v":""},{"$f":"IF(入力シート!$B330=\"\",\"\",VLOOKUP(入力シート!$C330,大会データ!$A$5:$F$372,4,FALSE))","v":""},{"$f":"IF(入力シート!$B330=\"\",\"\",VLOOKUP(入力シート!$C330,大会データ!$A$5:$F$372,5,FALSE))","v":""},{"$f":"IF(入力シート!$B330=\"\",\"\",基礎データ!$B$6)","v":""},{"$f":"IF(入力シート!$B330=\"\",\"\",B116)","v":""},{"$f":"IF(入力シート!$B330=\"\",\"\",IF(入力シート!$E330=\"\",TEXT(入力シート!$B330,\"00\"),入力シート!$E330))","v":""},null,null,{"$f":"IF(入力シート!I330=\"\",\"\",入力シート!I330)","v":""},null,null,null,null,null,null,null,null,null,null,null,null,null,null,null,null,"","","",{"$f":"IF($AC116=\"\",\"\",入力シート!F330)","v":""},{"$f":"IF($AC116=\"\",\"\",入力シート!G330)","v":""},{"$f":"IF($AC116=\"\",\"\",入力シート!H330)","v":""},""]
[{"$f":"IF(入力シート!$B331=\"\",\"\",大会コード)","v":""},{"$f":"IF(入力シート!$B331=\"\",\"\",VLOOKUP(入力シート!$C331,大会データ!$A$5:$F$372,3,FALSE))","v":""},{"$f":"IF(入力シート!$B331=\"\",\"\",VLOOKUP(入力シート!$C331,大会データ!$A$5:$F$372,4,FALSE))","v":""},{"$f":"IF(入力シート!$B331=\"\",\"\",VLOOKUP(入力シート!$C331,大会データ!$A$5:$F$372,5,FALSE))","v":""},{"$f":"IF(入力シート!$B331=\"\",\"\",基礎データ!$B$6)","v":""},{"$f":"IF(入力シート!$B331=\"\",\"\",B117)","v":""},{"$f":"IF(入力シート!$B331=\"\",\"\",IF(入力シート!$E331=\"\",TEXT(入力シート!$B331,\"00\"),入力シート!$E331))","v":""},null,null,{"$f":"IF(入力シート!I331=\"\",\"\",入力シート!I331)","v":""},null,null,null,null,null,null,null,null,null,null,null,null,null,null,null,null,"","","",{"$f":"IF($AC117=\"\",\"\",入力シート!F331)","v":""},{"$f":"IF($AC117=\"\",\"\",入力シート!G331)","v":""},{"$f":"IF($AC117=\"\",\"\",入力シート!H331)","v":""},""]
[{"$f":"IF(入力シート!$B332=\"\",\"\",大会コード)","v":""},{"$f":"IF(入力シート!$B332=\"\",\"\",VLOOKUP(入力シート!$C332,大会データ!$A$5:$F$372,3,FALSE))","v":""},{"$f":"IF(入力シート!$B332=\"\",\"\",VLOOKUP(入力シート!$C332,大会データ!$A$5:$F$372,4,FALSE))","v":""},{"$f":"IF(入力シート!$B332=\"\",\"\",VLOOKUP(入力シート!$C332,大会データ!$A$5:$F$372,5,FALSE))","v":""},{"$f":"IF(入力シート!$B332=\"\",\"\",基礎データ!$B$6)","v":""},{"$f":"IF(入力シート!$B332=\"\",\"\",B118)","v":""},{"$f":"IF(入力シート!$B332=\"\",\"\",IF(入力シート!$E332=\"\",TEXT(入力シート!$B332,\"00\"),入力シート!$E332))","v":""},null,null,{"$f":"IF(入力シート!I332=\"\",\"\",入力シート!I332)","v":""},null,null,null,null,null,null,null,null,null,null,null,null,null,null,null,null,"","","",{"$f":"IF($AC118=\"\",\"\",入力シート!F332)","v":""},{"$f":"IF($AC118=\"\",\"\",入力シート!G332)","v":""},{"$f":"IF($AC118=\"\",\"\",入力シート!H332)","v":""},""]
[{"$f":"IF(入力シート!$B333=\"\",\"\",大会コード)","v":""},{"$f":"IF(入力シート!$B333=\"\",\"\",VLOOKUP(入力シート!$C333,大会データ!$A$5:$F$372,3,FALSE))","v":""},{"$f":"IF(入力シート!$B333=\"\",\"\",VLOOKUP(入力シート!$C333,大会データ!$A$5:$F$372,4,FALSE))","v":""},{"$f":"IF(入力シート!$B333=\"\",\"\",VLOOKUP(入力シート!$C333,大会データ!$A$5:$F$372,5,FALSE))","v":""},{"$f":"IF(入力シート!$B333=\"\",\"\",基礎データ!$B$6)","v":""},{"$f":"IF(入力シート!$B333=\"\",\"\",B119)","v":""},{"$f":"IF(入力シート!$B333=\"\",\"\",IF(入力シート!$E333=\"\",TEXT(入力シート!$B333,\"00\"),入力シート!$E333))","v":""},null,null,{"$f":"IF(入力シート!I333=\"\",\"\",入力シート!I333)","v":""},null,null,null,null,null,null,null,null,null,null,null,null,null,null,null,null,"","","",{"$f":"IF($AC119=\"\",\"\",入力シート!F333)","v":""},{"$f":"IF($AC119=\"\",\"\",入力シート!G333)","v":""},{"$f":"IF($AC119=\"\",\"\",入力シート!H333)","v":""},""]
[{"$f":"IF(入力シート!$B334=\"\",\"\",大会コード)","v":""},{"$f":"IF(入力シート!$B334=\"\",\"\",VLOOKUP(入力シート!$C334,大会データ!$A$5:$F$372,3,FALSE))","v":""},{"$f":"IF(入力シート!$B334=\"\",\"\",VLOOKUP(入力シート!$C334,大会データ!$A$5:$F$372,4,FALSE))","v":""},{"$f":"IF(入力シート!$B334=\"\",\"\",VLOOKUP(入力シート!$C334,大会データ!$A$5:$F$372,5,FALSE))","v":""},{"$f":"IF(入力シート!$B334=\"\",\"\",基礎データ!$B$6)","v":""},{"$f":"IF(入力シート!$B334=\"\",\"\",B120)","v":""},{"$f":"IF(入力シート!$B334=\"\",\"\",IF(入力シート!$E334=\"\",TEXT(入力シート!$B334,\"00\"),入力シート!$E334))","v":""},null,null,{"$f":"IF(入力シート!I334=\"\",\"\",入力シート!I334)","v":""},null,null,null,null,null,null,null,null,null,null,null,null,null,null,null,null,"","","",{"$f":"IF($AC120=\"\",\"\",入力シート!F334)","v":""},{"$f":"IF($AC120=\"\",\"\",入力シート!G334)","v":""},{"$f":"IF($AC120=\"\",\"\",入力シート!H334)","v":""},""]
[{"$f":"IF(入力シート!$B335=\"\",\"\",大会コード)","v":""},{"$f":"IF(入力シート!$B335=\"\",\"\",VLOOKUP(入力シート!$C335,大会データ!$A$5:$F$372,3,FALSE))","v":""},{"$f":"IF(入力シート!$B335=\"\",\"\",VLOOKUP(入力シート!$C335,大会データ!$A$5:$F$372,4,FALSE))","v":""},{"$f":"IF(入力シート!$B335=\"\",\"\",VLOOKUP(入力シート!$C335,大会データ!$A$5:$F$372,5,FALSE))","v":""},{"$f":"IF(入力シート!$B335=\"\",\"\",基礎データ!$B$6)","v":""},{"$f":"IF(入力シート!$B335=\"\",\"\",B121)","v":""},{"$f":"IF(入力シート!$B335=\"\",\"\",IF(入力シート!$E335=\"\",TEXT(入力シート!$B335,\"00\"),入力シート!$E335))","v":""},null,null,{"$f":"IF(入力シート!I335=\"\",\"\",入力シート!I335)","v":""},null,null,null,null,null,null,null,null,null,null,null,null,null,null,null,null,"","","",{"$f":"IF($AC121=\"\",\"\",入力シート!F335)","v":""},{"$f":"IF($AC121=\"\",\"\",入力シート!G335)","v":""},{"$f":"IF($AC121=\"\",\"\",入力シート!H335)","v":""},""]
[{"$f":"IF(入力シート!$B336=\"\",\"\",大会コード)","v":""},{"$f":"IF(入力シート!$B336=\"\",\"\",VLOOKUP(入力シート!$C336,大会データ!$A$5:$F$372,3,FALSE))","v":""},{"$f":"IF(入力シート!$B336=\"\",\"\",VLOOKUP(入力シート!$C336,大会データ!$A$5:$F$372,4,FALSE))","v":""},{"$f":"IF(入力シート!$B336=\"\",\"\",VLOOKUP(入力シート!$C336,大会データ!$A$5:$F$372,5,FALSE))","v":""},{"$f":"IF(入力シート!$B336=\"\",\"\",基礎データ!$B$6)","v":""},{"$f":"IF(入力シート!$B336=\"\",\"\",B122)","v":""},{"$f":"IF(入力シート!$B336=\"\",\"\",IF(入力シート!$E336=\"\",TEXT(入力シート!$B336,\"00\"),入力シート!$E336))","v":""},null,null,{"$f":"IF(入力シート!I336=\"\",\"\",入力シート!I336)","v":""},null,null,null,null,null,null,null,null,null,null,null,null,null,null,null,null,"","","",{"$f":"IF($AC122=\"\",\"\",入力シート!F336)","v":""},{"$f":"IF($AC122=\"\",\"\",入力シート!G336)","v":""},{"$f":"IF($AC122=\"\",\"\",入力シート!H336)","v":""},""]
[{"$f":"IF(入力シート!$B337=\"\",\"\",大会コード)","v":""},{"$f":"IF(入力シート!$B337=\"\",\"\",VLOOKUP(入力シート!$C337,大会データ!$A$5:$F$372,3,FALSE))","v":""},{"$f":"IF(入力シート!$B337=\"\",\"\",VLOOKUP(入力シート!$C337,大会データ!$A$5:$F$372,4,FALSE))","v":""},{"$f":"IF(入力シート!$B337=\"\",\"\",VLOOKUP(入力シート!$C337,大会データ!$A$5:$F$372,5,FALSE))","v":""},{"$f":"IF(入力シート!$B337=\"\",\"\",基礎データ!$B$6)","v":""},{"$f":"IF(入力シート!$B337=\"\",\"\",B123)","v":""},{"$f":"IF(入力シート!$B337=\"\",\"\",IF(入力シート!$E337=\"\",TEXT(入力シート!$B337,\"00\"),入力シート!$E337))","v":""},null,null,{"$f":"IF(入力シート!I337=\"\",\"\",入力シート!I337)","v":""},null,null,null,null,null,null,null,null,null,null,null,null,null,null,null,null,"","","",{"$f":"IF($AC123=\"\",\"\",入力シート!F337)","v":""},{"$f":"IF($AC123=\"\",\"\",入力シート!G337)","v":""},{"$f":"IF($AC123=\"\",\"\",入力シート!H337)","v":""},""]
[{"$f":"IF(入力シート!$B338=\"\",\"\",大会コード)","v":""},{"$f":"IF(入力シート!$B338=\"\",\"\",VLOOKUP(入力シート!$C338,大会データ!$A$5:$F$372,3,FALSE))","v":""},{"$f":"IF(入力シート!$B338=\"\",\"\",VLOOKUP(入力シート!$C338,大会データ!$A$5:$F$372,4,FALSE))","v":""},{"$f":"IF(入力シート!$B338=\"\",\"\",VLOOKUP(入力シート!$C338,大会データ!$A$5:$F$372,5,FALSE))","v":""},{"$f":"IF(入力シート!$B338=\"\",\"\",基礎データ!$B$6)","v":""},{"$f":"IF(入力シート!$B338=\"\",\"\",B124)","v":""},{"$f":"IF(入力シート!$B338=\"\",\"\",IF(入力シート!$E338=\"\",TEXT(入力シート!$B338,\"00\"),入力シート!$E338))","v":""},null,null,{"$f":"IF(入力シート!I338=\"\",\"\",入力シート!I338)","v":""},null,null,null,null,null,null,null,null,null,null,null,null,null,null,null,null,"","","",{"$f":"IF($AC124=\"\",\"\",入力シート!F338)","v":""},{"$f":"IF($AC124=\"\",\"\",入力シート!G338)","v":""},{"$f":"IF($AC124=\"\",\"\",入力シート!H338)","v":""},""]
[{"$f":"IF(入力シート!$B339=\"\",\"\",大会コード)","v":""},{"$f":"IF(入力シート!$B339=\"\",\"\",VLOOKUP(入力シート!$C339,大会データ!$A$5:$F$372,3,FALSE))","v":""},{"$f":"IF(入力シート!$B339=\"\",\"\",VLOOKUP(入力シート!$C339,大会データ!$A$5:$F$372,4,FALSE))","v":""},{"$f":"IF(入力シート!$B339=\"\",\"\",VLOOKUP(入力シート!$C339,大会データ!$A$5:$F$372,5,FALSE))","v":""},{"$f":"IF(入力シート!$B339=\"\",\"\",基礎データ!$B$6)","v":""},{"$f":"IF(入力シート!$B339=\"\",\"\",B125)","v":""},{"$f":"IF(入力シート!$B339=\"\",\"\",IF(入力シート!$E339=\"\",TEXT(入力シート!$B339,\"00\"),入力シート!$E339))","v":""},null,null,{"$f":"IF(入力シート!I339=\"\",\"\",入力シート!I339)","v":""},null,null,null,null,null,null,null,null,null,null,null,null,null,null,null,null,"","","",{"$f":"IF($AC125=\"\",\"\",入力シート!F339)","v":""},{"$f":"IF($AC125=\"\",\"\",入力シート!G339)","v":""},{"$f":"IF($AC125=\"\",\"\",入力シート!H339)","v":""},""]
[{"$f":"IF(入力シート!$B340=\"\",\"\",大会コード)","v":""},{"$f":"IF(入力シート!$B340=\"\",\"\",VLOOKUP(入力シート!$C340,大会データ!$A$5:$F$372,3,FALSE))","v":""},{"$f":"IF(入力シート!$B340=\"\",\"\",VLOOKUP(入力シート!$C340,大会データ!$A$5:$F$372,4,FALSE))","v":""},{"$f":"IF(入力シート!$B340=\"\",\"\",VLOOKUP(入力シート!$C340,大会データ!$A$5:$F$372,5,FALSE))","v":""},{"$f":"IF(入力シート!$B340=\"\",\"\",基礎データ!$B$6)","v":""},{"$f":"IF(入力シート!$B340=\"\",\"\",B126)","v":""},{"$f":"IF(入力シート!$B340=\"\",\"\",IF(入力シート!$E340=\"\",TEXT(入力シート!$B340,\"00\"),入力シート!$E340))","v":""},null,null,{"$f":"IF(入力シート!I340=\"\",\"\",入力シート!I340)","v":""},null,null,null,null,null,null,null,null,null,null,null,null,null,null,null,null,"","","",{"$f":"IF($AC126=\"\",\"\",入力シート!F340)","v":""},{"$f":"IF($AC126=\"\",\"\",入力シート!G340)","v":""},{"$f":"IF($AC126=\"\",\"\",入力シート!H340)","v":""},""]
[{"$f":"IF(入力シート!$B341=\"\",\"\",大会コード)","v":""},{"$f":"IF(入力シート!$B341=\"\",\"\",VLOOKUP(入力シート!$C341,大会データ!$A$5:$F$372,3,FALSE))","v":""},{"$f":"IF(入力シート!$B341=\"\",\"\",VLOOKUP(入力シート!$C341,大会データ!$A$5:$F$372,4,FALSE))","v":""},{"$f":"IF(入力シート!$B341=\"\",\"\",VLOOKUP(入力シート!$C341,大会データ!$A$5:$F$372,5,FALSE))","v":""},{"$f":"IF(入力シート!$B341=\"\",\"\",基礎データ!$B$6)","v":""},{"$f":"IF(入力シート!$B341=\"\",\"\",B127)","v":""},{"$f":"IF(入力シート!$B341=\"\",\"\",IF(入力シート!$E341=\"\",TEXT(入力シート!$B341,\"00\"),入力シート!$E341))","v":""},null,null,{"$f":"IF(入力シート!I341=\"\",\"\",入力シート!I341)","v":""},null,null,null,null,null,null,null,null,null,null,null,null,null,null,null,null,"","","",{"$f":"IF($AC127=\"\",\"\",入力シート!F341)","v":""},{"$f":"IF($AC127=\"\",\"\",入力シート!G341)","v":""},{"$f":"IF($AC127=\"\",\"\",入力シート!H341)","v":""},""]
[{"$f":"IF(入力シート!$B342=\"\",\"\",大会コード)","v":""},{"$f":"IF(入力シート!$B342=\"\",\"\",VLOOKUP(入力シート!$C342,大会データ!$A$5:$F$372,3,FALSE))","v":""},{"$f":"IF(入力シート!$B342=\"\",\"\",VLOOKUP(入力シート!$C342,大会データ!$A$5:$F$372,4,FALSE))","v":""},{"$f":"IF(入力シート!$B342=\"\",\"\",VLOOKUP(入力シート!$C342,大会データ!$A$5:$F$372,5,FALSE))","v":""},{"$f":"IF(入力シート!$B342=\"\",\"\",基礎データ!$B$6)","v":""},{"$f":"IF(入力シート!$B342=\"\",\"\",B128)","v":""},{"$f":"IF(入力シート!$B342=\"\",\"\",IF(入力シート!$E342=\"\",TEXT(入力シート!$B342,\"00\"),入力シート!$E342))","v":""},null,null,{"$f":"IF(入力シート!I342=\"\",\"\",入力シート!I342)","v":""},null,null,null,null,null,null,null,null,null,null,null,null,null,null,null,null,"","","",{"$f":"IF($AC128=\"\",\"\",入力シート!F342)","v":""},{"$f":"IF($AC128=\"\",\"\",入力シート!G342)","v":""},{"$f":"IF($AC128=\"\",\"\",入力シート!H342)","v":""},""]
[{"$f":"IF(入力シート!$B343=\"\",\"\",大会コード)","v":""},{"$f":"IF(入力シート!$B343=\"\",\"\",VLOOKUP(入力シート!$C343,大会データ!$A$5:$F$372,3,FALSE))","v":""},{"$f":"IF(入力シート!$B343=\"\",\"\",VLOOKUP(入力シート!$C343,大会データ!$A$5:$F$372,4,FALSE))","v":""},{"$f":"IF(入力シート!$B343=\"\",\"\",VLOOKUP(入力シート!$C343,大会データ!$A$5:$F$372,5,FALSE))","v":""},{"$f":"IF(入力シート!$B343=\"\",\"\",基礎データ!$B$6)","v":""},{"$f":"IF(入力シート!$B343=\"\",\"\",B129)","v":""},{"$f":"IF(入力シート!$B343=\"\",\"\",IF(入力シート!$E343=\"\",TEXT(入力シート!$B343,\"00\"),入力シート!$E343))","v":""},null,null,{"$f":"IF(入力シート!I343=\"\",\"\",入力シート!I343)","v":""},null,null,null,null,null,null,null,null,null,null,null,null,null,null,null,null,"","","",{"$f":"IF($AC129=\"\",\"\",入力シート!F343)","v":""},{"$f":"IF($AC129=\"\",\"\",入力シート!G343)","v":""},{"$f":"IF($AC129=\"\",\"\",入力シート!H343)","v":""},""]
[{"$f":"IF(入力シート!$B344=\"\",\"\",大会コード)","v":""},{"$f":"IF(入力シート!$B344=\"\",\"\",VLOOKUP(入力シート!$C344,大会データ!$A$5:$F$372,3,FALSE))","v":""},{"$f":"IF(入力シート!$B344=\"\",\"\",VLOOKUP(入力シート!$C344,大会データ!$A$5:$F$372,4,FALSE))","v":""},{"$f":"IF(入力シート!$B344=\"\",\"\",VLOOKUP(入力シート!$C344,大会データ!$A$5:$F$372,5,FALSE))","v":""},{"$f":"IF(入力シート!$B344=\"\",\"\",基礎データ!$B$6)","v":""},{"$f":"IF(入力シート!$B344=\"\",\"\",B130)","v":""},{"$f":"IF(入力シート!$B344=\"\",\"\",IF(入力シート!$E344=\"\",TEXT(入力シート!$B344,\"00\"),入力シート!$E344))","v":""},null,null,{"$f":"IF(入力シート!I344=\"\",\"\",入力シート!I344)","v":""},null,null,null,null,null,null,null,null,null,null,null,null,null,null,null,null,"","","",{"$f":"IF($AC130=\"\",\"\",入力シート!F344)","v":""},{"$f":"IF($AC130=\"\",\"\",入力シート!G344)","v":""},{"$f":"IF($AC130=\"\",\"\",入力シート!H344)","v":""},""]
[{"$f":"IF(入力シート!$B345=\"\",\"\",大会コード)","v":""},{"$f":"IF(入力シート!$B345=\"\",\"\",VLOOKUP(入力シート!$C345,大会データ!$A$5:$F$372,3,FALSE))","v":""},{"$f":"IF(入力シート!$B345=\"\",\"\",VLOOKUP(入力シート!$C345,大会データ!$A$5:$F$372,4,FALSE))","v":""},{"$f":"IF(入力シート!$B345=\"\",\"\",VLOOKUP(入力シート!$C345,大会データ!$A$5:$F$372,5,FALSE))","v":""},{"$f":"IF(入力シート!$B345=\"\",\"\",基礎データ!$B$6)","v":""},{"$f":"IF(入力シート!$B345=\"\",\"\",B131)","v":""},{"$f":"IF(入力シート!$B345=\"\",\"\",IF(入力シート!$E345=\"\",TEXT(入力シート!$B345,\"00\"),入力シート!$E345))","v":""},null,null,{"$f":"IF(入力シート!I345=\"\",\"\",入力シート!I345)","v":""},null,null,null,null,null,null,null,null,null,null,null,null,null,null,null,null,"","","",{"$f":"IF($AC131=\"\",\"\",入力シート!F345)","v":""},{"$f":"IF($AC131=\"\",\"\",入力シート!G345)","v":""},{"$f":"IF($AC131=\"\",\"\",入力シート!H345)","v":""},""]
[{"$f":"IF(入力シート!$B346=\"\",\"\",大会コード)","v":""},{"$f":"IF(入力シート!$B346=\"\",\"\",VLOOKUP(入力シート!$C346,大会データ!$A$5:$F$372,3,FALSE))","v":""},{"$f":"IF(入力シート!$B346=\"\",\"\",VLOOKUP(入力シート!$C346,大会データ!$A$5:$F$372,4,FALSE))","v":""},{"$f":"IF(入力シート!$B346=\"\",\"\",VLOOKUP(入力シート!$C346,大会データ!$A$5:$F$372,5,FALSE))","v":""},{"$f":"IF(入力シート!$B346=\"\",\"\",基礎データ!$B$6)","v":""},{"$f":"IF(入力シート!$B346=\"\",\"\",B132)","v":""},{"$f":"IF(入力シート!$B346=\"\",\"\",IF(入力シート!$E346=\"\",TEXT(入力シート!$B346,\"00\"),入力シート!$E346))","v":""},null,null,{"$f":"IF(入力シート!I346=\"\",\"\",入力シート!I346)","v":""},null,null,null,null,null,null,null,null,null,null,null,null,null,null,null,null,"","","",{"$f":"IF($AC132=\"\",\"\",入力シート!F346)","v":""},{"$f":"IF($AC132=\"\",\"\",入力シート!G346)","v":""},{"$f":"IF($AC132=\"\",\"\",入力シート!H346)","v":""},""]
[{"$f":"IF(入力シート!$B347=\"\",\"\",大会コード)","v":""},{"$f":"IF(入力シート!$B347=\"\",\"\",VLOOKUP(入力シート!$C347,大会データ!$A$5:$F$372,3,FALSE))","v":""},{"$f":"IF(入力シート!$B347=\"\",\"\",VLOOKUP(入力シート!$C347,大会データ!$A$5:$F$372,4,FALSE))","v":""},{"$f":"IF(入力シート!$B347=\"\",\"\",VLOOKUP(入力シート!$C347,大会データ!$A$5:$F$372,5,FALSE))","v":""},{"$f":"IF(入力シート!$B347=\"\",\"\",基礎データ!$B$6)","v":""},{"$f":"IF(入力シート!$B347=\"\",\"\",B133)","v":""},{"$f":"IF(入力シート!$B347=\"\",\"\",IF(入力シート!$E347=\"\",TEXT(入力シート!$B347,\"00\"),入力シート!$E347))","v":""},null,null,{"$f":"IF(入力シート!I347=\"\",\"\",入力シート!I347)","v":""},null,null,null,null,null,null,null,null,null,null,null,null,null,null,null,null,{"$f":"E133","v":""},{"$f":"B133","v":""},{"$f":"G133","v":""},{"$f":"IF($AC133=\"\",\"\",入力シート!F347)","v":""},{"$f":"IF($AC133=\"\",\"\",入力シート!G347)","v":""},{"$f":"IF($AC133=\"\",\"\",入力シート!H347)","v":""},{"$f":"IF($AC133=\"\",\"\",2016-AF133)","v":""}]
[{"$f":"IF(入力シート!$B348=\"\",\"\",大会コード)","v":""},{"$f":"IF(入力シート!$B348=\"\",\"\",VLOOKUP(入力シート!$C348,大会データ!$A$5:$F$372,3,FALSE))","v":""},{"$f":"IF(入力シート!$B348=\"\",\"\",VLOOKUP(入力シート!$C348,大会データ!$A$5:$F$372,4,FALSE))","v":""},{"$f":"IF(入力シート!$B348=\"\",\"\",VLOOKUP(入力シート!$C348,大会データ!$A$5:$F$372,5,FALSE))","v":""},{"$f":"IF(入力シート!$B348=\"\",\"\",基礎データ!$B$6)","v":""},{"$f":"IF(入力シート!$B348=\"\",\"\",B134)","v":""},{"$f":"IF(入力シート!$B348=\"\",\"\",IF(入力シート!$E348=\"\",TEXT(入力シート!$B348,\"00\"),入力シート!$E348))","v":""},null,null,{"$f":"IF(入力シート!I348=\"\",\"\",入力シート!I348)","v":""},null,null,null,null,null,null,null,null,null,null,null,null,null,null,null,null,"","","",{"$f":"IF($AC134=\"\",\"\",入力シート!F348)","v":""},{"$f":"IF($AC134=\"\",\"\",入力シート!G348)","v":""},{"$f":"IF($AC134=\"\",\"\",入力シート!H348)","v":""},""]
[{"$f":"IF(入力シート!$B349=\"\",\"\",大会コード)","v":""},{"$f":"IF(入力シート!$B349=\"\",\"\",VLOOKUP(入力シート!$C349,大会データ!$A$5:$F$372,3,FALSE))","v":""},{"$f":"IF(入力シート!$B349=\"\",\"\",VLOOKUP(入力シート!$C349,大会データ!$A$5:$F$372,4,FALSE))","v":""},{"$f":"IF(入力シート!$B349=\"\",\"\",VLOOKUP(入力シート!$C349,大会データ!$A$5:$F$372,5,FALSE))","v":""},{"$f":"IF(入力シート!$B349=\"\",\"\",基礎データ!$B$6)","v":""},{"$f":"IF(入力シート!$B349=\"\",\"\",B135)","v":""},{"$f":"IF(入力シート!$B349=\"\",\"\",IF(入力シート!$E349=\"\",TEXT(入力シート!$B349,\"00\"),入力シート!$E349))","v":""},null,null,{"$f":"IF(入力シート!I349=\"\",\"\",入力シート!I349)","v":""},null,null,null,null,null,null,null,null,null,null,null,null,null,null,null,null,"","","",{"$f":"IF($AC135=\"\",\"\",入力シート!F349)","v":""},{"$f":"IF($AC135=\"\",\"\",入力シート!G349)","v":""},{"$f":"IF($AC135=\"\",\"\",入力シート!H349)","v":""},""]
[{"$f":"IF(入力シート!$B350=\"\",\"\",大会コード)","v":""},{"$f":"IF(入力シート!$B350=\"\",\"\",VLOOKUP(入力シート!$C350,大会データ!$A$5:$F$372,3,FALSE))","v":""},{"$f":"IF(入力シート!$B350=\"\",\"\",VLOOKUP(入力シート!$C350,大会データ!$A$5:$F$372,4,FALSE))","v":""},{"$f":"IF(入力シート!$B350=\"\",\"\",VLOOKUP(入力シート!$C350,大会データ!$A$5:$F$372,5,FALSE))","v":""},{"$f":"IF(入力シート!$B350=\"\",\"\",基礎データ!$B$6)","v":""},{"$f":"IF(入力シート!$B350=\"\",\"\",B136)","v":""},{"$f":"IF(入力シート!$B350=\"\",\"\",IF(入力シート!$E350=\"\",TEXT(入力シート!$B350,\"00\"),入力シート!$E350))","v":""},null,null,{"$f":"IF(入力シート!I350=\"\",\"\",入力シート!I350)","v":""},null,null,null,null,null,null,null,null,null,null,null,null,null,null,null,null,"","","",{"$f":"IF($AC136=\"\",\"\",入力シート!F350)","v":""},{"$f":"IF($AC136=\"\",\"\",入力シート!G350)","v":""},{"$f":"IF($AC136=\"\",\"\",入力シート!H350)","v":""},""]
[{"$f":"IF(入力シート!$B351=\"\",\"\",大会コード)","v":""},{"$f":"IF(入力シート!$B351=\"\",\"\",VLOOKUP(入力シート!$C351,大会データ!$A$5:$F$372,3,FALSE))","v":""},{"$f":"IF(入力シート!$B351=\"\",\"\",VLOOKUP(入力シート!$C351,大会データ!$A$5:$F$372,4,FALSE))","v":""},{"$f":"IF(入力シート!$B351=\"\",\"\",VLOOKUP(入力シート!$C351,大会データ!$A$5:$F$372,5,FALSE))","v":""},{"$f":"IF(入力シート!$B351=\"\",\"\",基礎データ!$B$6)","v":""},{"$f":"IF(入力シート!$B351=\"\",\"\",B137)","v":""},{"$f":"IF(入力シート!$B351=\"\",\"\",IF(入力シート!$E351=\"\",TEXT(入力シート!$B351,\"00\"),入力シート!$E351))","v":""},null,null,{"$f":"IF(入力シート!I351=\"\",\"\",入力シート!I351)","v":""},null,null,null,null,null,null,null,null,null,null,null,null,null,null,null,null,"","","",{"$f":"IF($AC137=\"\",\"\",入力シート!F351)","v":""},{"$f":"IF($AC137=\"\",\"\",入力シート!G351)","v":""},{"$f":"IF($AC137=\"\",\"\",入力シート!H351)","v":""},""]
[{"$f":"IF(入力シート!$B352=\"\",\"\",大会コード)","v":""},{"$f":"IF(入力シート!$B352=\"\",\"\",VLOOKUP(入力シート!$C352,大会データ!$A$5:$F$372,3,FALSE))","v":""},{"$f":"IF(入力シート!$B352=\"\",\"\",VLOOKUP(入力シート!$C352,大会データ!$A$5:$F$372,4,FALSE))","v":""},{"$f":"IF(入力シート!$B352=\"\",\"\",VLOOKUP(入力シート!$C352,大会データ!$A$5:$F$372,5,FALSE))","v":""},{"$f":"IF(入力シート!$B352=\"\",\"\",基礎データ!$B$6)","v":""},{"$f":"IF(入力シート!$B352=\"\",\"\",B138)","v":""},{"$f":"IF(入力シート!$B352=\"\",\"\",IF(入力シート!$E352=\"\",TEXT(入力シート!$B352,\"00\"),入力シート!$E352))","v":""},null,null,{"$f":"IF(入力シート!I352=\"\",\"\",入力シート!I352)","v":""},null,null,null,null,null,null,null,null,null,null,null,null,null,null,null,null,"","","",{"$f":"IF($AC138=\"\",\"\",入力シート!F352)","v":""},{"$f":"IF($AC138=\"\",\"\",入力シート!G352)","v":""},{"$f":"IF($AC138=\"\",\"\",入力シート!H352)","v":""},""]
[{"$f":"IF(入力シート!$B353=\"\",\"\",大会コード)","v":""},{"$f":"IF(入力シート!$B353=\"\",\"\",VLOOKUP(入力シート!$C353,大会データ!$A$5:$F$372,3,FALSE))","v":""},{"$f":"IF(入力シート!$B353=\"\",\"\",VLOOKUP(入力シート!$C353,大会データ!$A$5:$F$372,4,FALSE))","v":""},{"$f":"IF(入力シート!$B353=\"\",\"\",VLOOKUP(入力シート!$C353,大会データ!$A$5:$F$372,5,FALSE))","v":""},{"$f":"IF(入力シート!$B353=\"\",\"\",基礎データ!$B$6)","v":""},{"$f":"IF(入力シート!$B353=\"\",\"\",B139)","v":""},{"$f":"IF(入力シート!$B353=\"\",\"\",IF(入力シート!$E353=\"\",TEXT(入力シート!$B353,\"00\"),入力シート!$E353))","v":""},null,null,{"$f":"IF(入力シート!I353=\"\",\"\",入力シート!I353)","v":""},null,null,null,null,null,null,null,null,null,null,null,null,null,null,null,null,"","","",{"$f":"IF($AC139=\"\",\"\",入力シート!F353)","v":""},{"$f":"IF($AC139=\"\",\"\",入力シート!G353)","v":""},{"$f":"IF($AC139=\"\",\"\",入力シート!H353)","v":""},""]
[{"$f":"IF(入力シート!$B354=\"\",\"\",大会コード)","v":""},{"$f":"IF(入力シート!$B354=\"\",\"\",VLOOKUP(入力シート!$C354,大会データ!$A$5:$F$372,3,FALSE))","v":""},{"$f":"IF(入力シート!$B354=\"\",\"\",VLOOKUP(入力シート!$C354,大会データ!$A$5:$F$372,4,FALSE))","v":""},{"$f":"IF(入力シート!$B354=\"\",\"\",VLOOKUP(入力シート!$C354,大会データ!$A$5:$F$372,5,FALSE))","v":""},{"$f":"IF(入力シート!$B354=\"\",\"\",基礎データ!$B$6)","v":""},{"$f":"IF(入力シート!$B354=\"\",\"\",B140)","v":""},{"$f":"IF(入力シート!$B354=\"\",\"\",IF(入力シート!$E354=\"\",TEXT(入力シート!$B354,\"00\"),入力シート!$E354))","v":""},null,null,{"$f":"IF(入力シート!I354=\"\",\"\",入力シート!I354)","v":""},null,null,null,null,null,null,null,null,null,null,null,null,null,null,null,null,"","","",{"$f":"IF($AC140=\"\",\"\",入力シート!F354)","v":""},{"$f":"IF($AC140=\"\",\"\",入力シート!G354)","v":""},{"$f":"IF($AC140=\"\",\"\",入力シート!H354)","v":""},""]
[{"$f":"IF(入力シート!$B355=\"\",\"\",大会コード)","v":""},{"$f":"IF(入力シート!$B355=\"\",\"\",VLOOKUP(入力シート!$C355,大会データ!$A$5:$F$372,3,FALSE))","v":""},{"$f":"IF(入力シート!$B355=\"\",\"\",VLOOKUP(入力シート!$C355,大会データ!$A$5:$F$372,4,FALSE))","v":""},{"$f":"IF(入力シート!$B355=\"\",\"\",VLOOKUP(入力シート!$C355,大会データ!$A$5:$F$372,5,FALSE))","v":""},{"$f":"IF(入力シート!$B355=\"\",\"\",基礎データ!$B$6)","v":""},{"$f":"IF(入力シート!$B355=\"\",\"\",B141)","v":""},{"$f":"IF(入力シート!$B355=\"\",\"\",IF(入力シート!$E355=\"\",TEXT(入力シート!$B355,\"00\"),入力シート!$E355))","v":""},null,null,{"$f":"IF(入力シート!I355=\"\",\"\",入力シート!I355)","v":""},null,null,null,null,null,null,null,null,null,null,null,null,null,null,null,null,"","","",{"$f":"IF($AC141=\"\",\"\",入力シート!F355)","v":""},{"$f":"IF($AC141=\"\",\"\",入力シート!G355)","v":""},{"$f":"IF($AC141=\"\",\"\",入力シート!H355)","v":""},""]
[{"$f":"IF(入力シート!$B356=\"\",\"\",大会コード)","v":""},{"$f":"IF(入力シート!$B356=\"\",\"\",VLOOKUP(入力シート!$C356,大会データ!$A$5:$F$372,3,FALSE))","v":""},{"$f":"IF(入力シート!$B356=\"\",\"\",VLOOKUP(入力シート!$C356,大会データ!$A$5:$F$372,4,FALSE))","v":""},{"$f":"IF(入力シート!$B356=\"\",\"\",VLOOKUP(入力シート!$C356,大会データ!$A$5:$F$372,5,FALSE))","v":""},{"$f":"IF(入力シート!$B356=\"\",\"\",基礎データ!$B$6)","v":""},{"$f":"IF(入力シート!$B356=\"\",\"\",B142)","v":""},{"$f":"IF(入力シート!$B356=\"\",\"\",IF(入力シート!$E356=\"\",TEXT(入力シート!$B356,\"00\"),入力シート!$E356))","v":""},null,null,{"$f":"IF(入力シート!I356=\"\",\"\",入力シート!I356)","v":""},null,null,null,null,null,null,null,null,null,null,null,null,null,null,null,null,"","","",{"$f":"IF($AC142=\"\",\"\",入力シート!F356)","v":""},{"$f":"IF($AC142=\"\",\"\",入力シート!G356)","v":""},{"$f":"IF($AC142=\"\",\"\",入力シート!H356)","v":""},""]
[{"$f":"IF(入力シート!$B357=\"\",\"\",大会コード)","v":""},{"$f":"IF(入力シート!$B357=\"\",\"\",VLOOKUP(入力シート!$C357,大会データ!$A$5:$F$372,3,FALSE))","v":""},{"$f":"IF(入力シート!$B357=\"\",\"\",VLOOKUP(入力シート!$C357,大会データ!$A$5:$F$372,4,FALSE))","v":""},{"$f":"IF(入力シート!$B357=\"\",\"\",VLOOKUP(入力シート!$C357,大会データ!$A$5:$F$372,5,FALSE))","v":""},{"$f":"IF(入力シート!$B357=\"\",\"\",基礎データ!$B$6)","v":""},{"$f":"IF(入力シート!$B357=\"\",\"\",B143)","v":""},{"$f":"IF(入力シート!$B357=\"\",\"\",IF(入力シート!$E357=\"\",TEXT(入力シート!$B357,\"00\"),入力シート!$E357))","v":""},null,null,{"$f":"IF(入力シート!I357=\"\",\"\",入力シート!I357)","v":""},null,null,null,null,null,null,null,null,null,null,null,null,null,null,null,null,"","","",{"$f":"IF($AC143=\"\",\"\",入力シート!F357)","v":""},{"$f":"IF($AC143=\"\",\"\",入力シート!G357)","v":""},{"$f":"IF($AC143=\"\",\"\",入力シート!H357)","v":""},""]
[{"$f":"IF(入力シート!$B358=\"\",\"\",大会コード)","v":""},{"$f":"IF(入力シート!$B358=\"\",\"\",VLOOKUP(入力シート!$C358,大会データ!$A$5:$F$372,3,FALSE))","v":""},{"$f":"IF(入力シート!$B358=\"\",\"\",VLOOKUP(入力シート!$C358,大会データ!$A$5:$F$372,4,FALSE))","v":""},{"$f":"IF(入力シート!$B358=\"\",\"\",VLOOKUP(入力シート!$C358,大会データ!$A$5:$F$372,5,FALSE))","v":""},{"$f":"IF(入力シート!$B358=\"\",\"\",基礎データ!$B$6)","v":""},{"$f":"IF(入力シート!$B358=\"\",\"\",B144)","v":""},{"$f":"IF(入力シート!$B358=\"\",\"\",IF(入力シート!$E358=\"\",TEXT(入力シート!$B358,\"00\"),入力シート!$E358))","v":""},null,null,{"$f":"IF(入力シート!I358=\"\",\"\",入力シート!I358)","v":""},null,null,null,null,null,null,null,null,null,null,null,null,null,null,null,null,"","","",{"$f":"IF($AC144=\"\",\"\",入力シート!F358)","v":""},{"$f":"IF($AC144=\"\",\"\",入力シート!G358)","v":""},{"$f":"IF($AC144=\"\",\"\",入力シート!H358)","v":""},""]
[{"$f":"IF(入力シート!$B359=\"\",\"\",大会コード)","v":""},{"$f":"IF(入力シート!$B359=\"\",\"\",VLOOKUP(入力シート!$C359,大会データ!$A$5:$F$372,3,FALSE))","v":""},{"$f":"IF(入力シート!$B359=\"\",\"\",VLOOKUP(入力シート!$C359,大会データ!$A$5:$F$372,4,FALSE))","v":""},{"$f":"IF(入力シート!$B359=\"\",\"\",VLOOKUP(入力シート!$C359,大会データ!$A$5:$F$372,5,FALSE))","v":""},{"$f":"IF(入力シート!$B359=\"\",\"\",基礎データ!$B$6)","v":""},{"$f":"IF(入力シート!$B359=\"\",\"\",B145)","v":""},{"$f":"IF(入力シート!$B359=\"\",\"\",IF(入力シート!$E359=\"\",TEXT(入力シート!$B359,\"00\"),入力シート!$E359))","v":""},null,null,{"$f":"IF(入力シート!I359=\"\",\"\",入力シート!I359)","v":""},null,null,null,null,null,null,null,null,null,null,null,null,null,null,null,null,"","","",{"$f":"IF($AC145=\"\",\"\",入力シート!F359)","v":""},{"$f":"IF($AC145=\"\",\"\",入力シート!G359)","v":""},{"$f":"IF($AC145=\"\",\"\",入力シート!H359)","v":""},""]
[{"$f":"IF(入力シート!$B360=\"\",\"\",大会コード)","v":""},{"$f":"IF(入力シート!$B360=\"\",\"\",VLOOKUP(入力シート!$C360,大会データ!$A$5:$F$372,3,FALSE))","v":""},{"$f":"IF(入力シート!$B360=\"\",\"\",VLOOKUP(入力シート!$C360,大会データ!$A$5:$F$372,4,FALSE))","v":""},{"$f":"IF(入力シート!$B360=\"\",\"\",VLOOKUP(入力シート!$C360,大会データ!$A$5:$F$372,5,FALSE))","v":""},{"$f":"IF(入力シート!$B360=\"\",\"\",基礎データ!$B$6)","v":""},{"$f":"IF(入力シート!$B360=\"\",\"\",B146)","v":""},{"$f":"IF(入力シート!$B360=\"\",\"\",IF(入力シート!$E360=\"\",TEXT(入力シート!$B360,\"00\"),入力シート!$E360))","v":""},null,null,{"$f":"IF(入力シート!I360=\"\",\"\",入力シート!I360)","v":""},null,null,null,null,null,null,null,null,null,null,null,null,null,null,null,null,"","","",{"$f":"IF($AC146=\"\",\"\",入力シート!F360)","v":""},{"$f":"IF($AC146=\"\",\"\",入力シート!G360)","v":""},{"$f":"IF($AC146=\"\",\"\",入力シート!H360)","v":""},""]
[{"$f":"IF(入力シート!$B361=\"\",\"\",大会コード)","v":""},{"$f":"IF(入力シート!$B361=\"\",\"\",VLOOKUP(入力シート!$C361,大会データ!$A$5:$F$372,3,FALSE))","v":""},{"$f":"IF(入力シート!$B361=\"\",\"\",VLOOKUP(入力シート!$C361,大会データ!$A$5:$F$372,4,FALSE))","v":""},{"$f":"IF(入力シート!$B361=\"\",\"\",VLOOKUP(入力シート!$C361,大会データ!$A$5:$F$372,5,FALSE))","v":""},{"$f":"IF(入力シート!$B361=\"\",\"\",基礎データ!$B$6)","v":""},{"$f":"IF(入力シート!$B361=\"\",\"\",B147)","v":""},{"$f":"IF(入力シート!$B361=\"\",\"\",IF(入力シート!$E361=\"\",TEXT(入力シート!$B361,\"00\"),入力シート!$E361))","v":""},null,null,{"$f":"IF(入力シート!I361=\"\",\"\",入力シート!I361)","v":""},null,null,null,null,null,null,null,null,null,null,null,null,null,null,null,null,"","","",{"$f":"IF($AC147=\"\",\"\",入力シート!F361)","v":""},{"$f":"IF($AC147=\"\",\"\",入力シート!G361)","v":""},{"$f":"IF($AC147=\"\",\"\",入力シート!H361)","v":""},""]
[{"$f":"IF(入力シート!$B362=\"\",\"\",大会コード)","v":""},{"$f":"IF(入力シート!$B362=\"\",\"\",VLOOKUP(入力シート!$C362,大会データ!$A$5:$F$372,3,FALSE))","v":""},{"$f":"IF(入力シート!$B362=\"\",\"\",VLOOKUP(入力シート!$C362,大会データ!$A$5:$F$372,4,FALSE))","v":""},{"$f":"IF(入力シート!$B362=\"\",\"\",VLOOKUP(入力シート!$C362,大会データ!$A$5:$F$372,5,FALSE))","v":""},{"$f":"IF(入力シート!$B362=\"\",\"\",基礎データ!$B$6)","v":""},{"$f":"IF(入力シート!$B362=\"\",\"\",B148)","v":""},{"$f":"IF(入力シート!$B362=\"\",\"\",IF(入力シート!$E362=\"\",TEXT(入力シート!$B362,\"00\"),入力シート!$E362))","v":""},null,null,{"$f":"IF(入力シート!I362=\"\",\"\",入力シート!I362)","v":""},null,null,null,null,null,null,null,null,null,null,null,null,null,null,null,null,"","","",{"$f":"IF($AC148=\"\",\"\",入力シート!F362)","v":""},{"$f":"IF($AC148=\"\",\"\",入力シート!G362)","v":""},{"$f":"IF($AC148=\"\",\"\",入力シート!H362)","v":""},""]
[{"$f":"IF(入力シート!$B363=\"\",\"\",大会コード)","v":""},{"$f":"IF(入力シート!$B363=\"\",\"\",VLOOKUP(入力シート!$C363,大会データ!$A$5:$F$372,3,FALSE))","v":""},{"$f":"IF(入力シート!$B363=\"\",\"\",VLOOKUP(入力シート!$C363,大会データ!$A$5:$F$372,4,FALSE))","v":""},{"$f":"IF(入力シート!$B363=\"\",\"\",VLOOKUP(入力シート!$C363,大会データ!$A$5:$F$372,5,FALSE))","v":""},{"$f":"IF(入力シート!$B363=\"\",\"\",基礎データ!$B$6)","v":""},{"$f":"IF(入力シート!$B363=\"\",\"\",B149)","v":""},{"$f":"IF(入力シート!$B363=\"\",\"\",IF(入力シート!$E363=\"\",TEXT(入力シート!$B363,\"00\"),入力シート!$E363))","v":""},null,null,{"$f":"IF(入力シート!I363=\"\",\"\",入力シート!I363)","v":""},null,null,null,null,null,null,null,null,null,null,null,null,null,null,null,null,"","","",{"$f":"IF($AC149=\"\",\"\",入力シート!F363)","v":""},{"$f":"IF($AC149=\"\",\"\",入力シート!G363)","v":""},{"$f":"IF($AC149=\"\",\"\",入力シート!H363)","v":""},""]
[{"$f":"IF(入力シート!$B364=\"\",\"\",大会コード)","v":""},{"$f":"IF(入力シート!$B364=\"\",\"\",VLOOKUP(入力シート!$C364,大会データ!$A$5:$F$372,3,FALSE))","v":""},{"$f":"IF(入力シート!$B364=\"\",\"\",VLOOKUP(入力シート!$C364,大会データ!$A$5:$F$372,4,FALSE))","v":""},{"$f":"IF(入力シート!$B364=\"\",\"\",VLOOKUP(入力シート!$C364,大会データ!$A$5:$F$372,5,FALSE))","v":""},{"$f":"IF(入力シート!$B364=\"\",\"\",基礎データ!$B$6)","v":""},{"$f":"IF(入力シート!$B364=\"\",\"\",B150)","v":""},{"$f":"IF(入力シート!$B364=\"\",\"\",IF(入力シート!$E364=\"\",TEXT(入力シート!$B364,\"00\"),入力シート!$E364))","v":""},null,null,{"$f":"IF(入力シート!I364=\"\",\"\",入力シート!I364)","v":""},null,null,null,null,null,null,null,null,null,null,null,null,null,null,null,null,"","","",{"$f":"IF($AC150=\"\",\"\",入力シート!F364)","v":""},{"$f":"IF($AC150=\"\",\"\",入力シート!G364)","v":""},{"$f":"IF($AC150=\"\",\"\",入力シート!H364)","v":""},""]
[{"$f":"IF(入力シート!$B365=\"\",\"\",大会コード)","v":""},{"$f":"IF(入力シート!$B365=\"\",\"\",VLOOKUP(入力シート!$C365,大会データ!$A$5:$F$372,3,FALSE))","v":""},{"$f":"IF(入力シート!$B365=\"\",\"\",VLOOKUP(入力シート!$C365,大会データ!$A$5:$F$372,4,FALSE))","v":""},{"$f":"IF(入力シート!$B365=\"\",\"\",VLOOKUP(入力シート!$C365,大会データ!$A$5:$F$372,5,FALSE))","v":""},{"$f":"IF(入力シート!$B365=\"\",\"\",基礎データ!$B$6)","v":""},{"$f":"IF(入力シート!$B365=\"\",\"\",B151)","v":""},{"$f":"IF(入力シート!$B365=\"\",\"\",IF(入力シート!$E365=\"\",TEXT(入力シート!$B365,\"00\"),入力シート!$E365))","v":""},null,null,{"$f":"IF(入力シート!I365=\"\",\"\",入力シート!I365)","v":""},null,null,null,null,null,null,null,null,null,null,null,null,null,null,null,null,"","","",{"$f":"IF($AC151=\"\",\"\",入力シート!F365)","v":""},{"$f":"IF($AC151=\"\",\"\",入力シート!G365)","v":""},{"$f":"IF($AC151=\"\",\"\",入力シート!H365)","v":""},""]
[{"$f":"IF(入力シート!$B366=\"\",\"\",大会コード)","v":""},{"$f":"IF(入力シート!$B366=\"\",\"\",VLOOKUP(入力シート!$C366,大会データ!$A$5:$F$372,3,FALSE))","v":""},{"$f":"IF(入力シート!$B366=\"\",\"\",VLOOKUP(入力シート!$C366,大会データ!$A$5:$F$372,4,FALSE))","v":""},{"$f":"IF(入力シート!$B366=\"\",\"\",VLOOKUP(入力シート!$C366,大会データ!$A$5:$F$372,5,FALSE))","v":""},{"$f":"IF(入力シート!$B366=\"\",\"\",基礎データ!$B$6)","v":""},{"$f":"IF(入力シート!$B366=\"\",\"\",B152)","v":""},{"$f":"IF(入力シート!$B366=\"\",\"\",IF(入力シート!$E366=\"\",TEXT(入力シート!$B366,\"00\"),入力シート!$E366))","v":""},null,null,{"$f":"IF(入力シート!I366=\"\",\"\",入力シート!I366)","v":""},null,null,null,null,null,null,null,null,null,null,null,null,null,null,null,null,"","","",{"$f":"IF($AC152=\"\",\"\",入力シート!F366)","v":""},{"$f":"IF($AC152=\"\",\"\",入力シート!G366)","v":""},{"$f":"IF($AC152=\"\",\"\",入力シート!H366)","v":""},""]
[{"$f":"IF(入力シート!$B367=\"\",\"\",大会コード)","v":""},{"$f":"IF(入力シート!$B367=\"\",\"\",VLOOKUP(入力シート!$C367,大会データ!$A$5:$F$372,3,FALSE))","v":""},{"$f":"IF(入力シート!$B367=\"\",\"\",VLOOKUP(入力シート!$C367,大会データ!$A$5:$F$372,4,FALSE))","v":""},{"$f":"IF(入力シート!$B367=\"\",\"\",VLOOKUP(入力シート!$C367,大会データ!$A$5:$F$372,5,FALSE))","v":""},{"$f":"IF(入力シート!$B367=\"\",\"\",基礎データ!$B$6)","v":""},{"$f":"IF(入力シート!$B367=\"\",\"\",B153)","v":""},{"$f":"IF(入力シート!$B367=\"\",\"\",IF(入力シート!$E367=\"\",TEXT(入力シート!$B367,\"00\"),入力シート!$E367))","v":""},null,null,{"$f":"IF(入力シート!I367=\"\",\"\",入力シート!I367)","v":""},null,null,null,null,null,null,null,null,null,null,null,null,null,null,null,null,"","","",{"$f":"IF($AC153=\"\",\"\",入力シート!F367)","v":""},{"$f":"IF($AC153=\"\",\"\",入力シート!G367)","v":""},{"$f":"IF($AC153=\"\",\"\",入力シート!H367)","v":""},""]
[{"$f":"IF(入力シート!$B368=\"\",\"\",大会コード)","v":""},{"$f":"IF(入力シート!$B368=\"\",\"\",VLOOKUP(入力シート!$C368,大会データ!$A$5:$F$372,3,FALSE))","v":""},{"$f":"IF(入力シート!$B368=\"\",\"\",VLOOKUP(入力シート!$C368,大会データ!$A$5:$F$372,4,FALSE))","v":""},{"$f":"IF(入力シート!$B368=\"\",\"\",VLOOKUP(入力シート!$C368,大会データ!$A$5:$F$372,5,FALSE))","v":""},{"$f":"IF(入力シート!$B368=\"\",\"\",基礎データ!$B$6)","v":""},{"$f":"IF(入力シート!$B368=\"\",\"\",B154)","v":""},{"$f":"IF(入力シート!$B368=\"\",\"\",IF(入力シート!$E368=\"\",TEXT(入力シート!$B368,\"00\"),入力シート!$E368))","v":""},null,null,{"$f":"IF(入力シート!I368=\"\",\"\",入力シート!I368)","v":""},null,null,null,null,null,null,null,null,null,null,null,null,null,null,null,null,"","","",{"$f":"IF($AC154=\"\",\"\",入力シート!F368)","v":""},{"$f":"IF($AC154=\"\",\"\",入力シート!G368)","v":""},{"$f":"IF($AC154=\"\",\"\",入力シート!H368)","v":""},""]
[{"$f":"IF(入力シート!$B369=\"\",\"\",大会コード)","v":""},{"$f":"IF(入力シート!$B369=\"\",\"\",VLOOKUP(入力シート!$C369,大会データ!$A$5:$F$372,3,FALSE))","v":""},{"$f":"IF(入力シート!$B369=\"\",\"\",VLOOKUP(入力シート!$C369,大会データ!$A$5:$F$372,4,FALSE))","v":""},{"$f":"IF(入力シート!$B369=\"\",\"\",VLOOKUP(入力シート!$C369,大会データ!$A$5:$F$372,5,FALSE))","v":""},{"$f":"IF(入力シート!$B369=\"\",\"\",基礎データ!$B$6)","v":""},{"$f":"IF(入力シート!$B369=\"\",\"\",B155)","v":""},{"$f":"IF(入力シート!$B369=\"\",\"\",IF(入力シート!$E369=\"\",TEXT(入力シート!$B369,\"00\"),入力シート!$E369))","v":""},null,null,{"$f":"IF(入力シート!I369=\"\",\"\",入力シート!I369)","v":""},null,null,null,null,null,null,null,null,null,null,null,null,null,null,null,null,"","","",{"$f":"IF($AC155=\"\",\"\",入力シート!F369)","v":""},{"$f":"IF($AC155=\"\",\"\",入力シート!G369)","v":""},{"$f":"IF($AC155=\"\",\"\",入力シート!H369)","v":""},""]
[{"$f":"IF(入力シート!$B370=\"\",\"\",大会コード)","v":""},{"$f":"IF(入力シート!$B370=\"\",\"\",VLOOKUP(入力シート!$C370,大会データ!$A$5:$F$372,3,FALSE))","v":""},{"$f":"IF(入力シート!$B370=\"\",\"\",VLOOKUP(入力シート!$C370,大会データ!$A$5:$F$372,4,FALSE))","v":""},{"$f":"IF(入力シート!$B370=\"\",\"\",VLOOKUP(入力シート!$C370,大会データ!$A$5:$F$372,5,FALSE))","v":""},{"$f":"IF(入力シート!$B370=\"\",\"\",基礎データ!$B$6)","v":""},{"$f":"IF(入力シート!$B370=\"\",\"\",B156)","v":""},{"$f":"IF(入力シート!$B370=\"\",\"\",IF(入力シート!$E370=\"\",TEXT(入力シート!$B370,\"00\"),入力シート!$E370))","v":""},null,null,{"$f":"IF(入力シート!I370=\"\",\"\",入力シート!I370)","v":""},null,null,null,null,null,null,null,null,null,null,null,null,null,null,null,null,"","","",{"$f":"IF($AC156=\"\",\"\",入力シート!F370)","v":""},{"$f":"IF($AC156=\"\",\"\",入力シート!G370)","v":""},{"$f":"IF($AC156=\"\",\"\",入力シート!H370)","v":""},""]
[{"$f":"IF(入力シート!$B371=\"\",\"\",大会コード)","v":""},{"$f":"IF(入力シート!$B371=\"\",\"\",VLOOKUP(入力シート!$C371,大会データ!$A$5:$F$372,3,FALSE))","v":""},{"$f":"IF(入力シート!$B371=\"\",\"\",VLOOKUP(入力シート!$C371,大会データ!$A$5:$F$372,4,FALSE))","v":""},{"$f":"IF(入力シート!$B371=\"\",\"\",VLOOKUP(入力シート!$C371,大会データ!$A$5:$F$372,5,FALSE))","v":""},{"$f":"IF(入力シート!$B371=\"\",\"\",基礎データ!$B$6)","v":""},{"$f":"IF(入力シート!$B371=\"\",\"\",B157)","v":""},{"$f":"IF(入力シート!$B371=\"\",\"\",IF(入力シート!$E371=\"\",TEXT(入力シート!$B371,\"00\"),入力シート!$E371))","v":""},null,null,{"$f":"IF(入力シート!I371=\"\",\"\",入力シート!I371)","v":""},null,null,null,null,null,null,null,null,null,null,null,null,null,null,null,null,"","","",{"$f":"IF($AC157=\"\",\"\",入力シート!F371)","v":""},{"$f":"IF($AC157=\"\",\"\",入力シート!G371)","v":""},{"$f":"IF($AC157=\"\",\"\",入力シート!H371)","v":""},""]
[{"$f":"IF(入力シート!$B372=\"\",\"\",大会コード)","v":""},{"$f":"IF(入力シート!$B372=\"\",\"\",VLOOKUP(入力シート!$C372,大会データ!$A$5:$F$372,3,FALSE))","v":""},{"$f":"IF(入力シート!$B372=\"\",\"\",VLOOKUP(入力シート!$C372,大会データ!$A$5:$F$372,4,FALSE))","v":""},{"$f":"IF(入力シート!$B372=\"\",\"\",VLOOKUP(入力シート!$C372,大会データ!$A$5:$F$372,5,FALSE))","v":""},{"$f":"IF(入力シート!$B372=\"\",\"\",基礎データ!$B$6)","v":""},{"$f":"IF(入力シート!$B372=\"\",\"\",B158)","v":""},{"$f":"IF(入力シート!$B372=\"\",\"\",IF(入力シート!$E372=\"\",TEXT(入力シート!$B372,\"00\"),入力シート!$E372))","v":""},null,null,{"$f":"IF(入力シート!I372=\"\",\"\",入力シート!I372)","v":""},null,null,null,null,null,null,null,null,null,null,null,null,null,null,null,null,"","","",{"$f":"IF($AC158=\"\",\"\",入力シート!F372)","v":""},{"$f":"IF($AC158=\"\",\"\",入力シート!G372)","v":""},{"$f":"IF($AC158=\"\",\"\",入力シート!H372)","v":""},""]
[{"$f":"IF(入力シート!$B373=\"\",\"\",大会コード)","v":""},{"$f":"IF(入力シート!$B373=\"\",\"\",VLOOKUP(入力シート!$C373,大会データ!$A$5:$F$372,3,FALSE))","v":""},{"$f":"IF(入力シート!$B373=\"\",\"\",VLOOKUP(入力シート!$C373,大会データ!$A$5:$F$372,4,FALSE))","v":""},{"$f":"IF(入力シート!$B373=\"\",\"\",VLOOKUP(入力シート!$C373,大会データ!$A$5:$F$372,5,FALSE))","v":""},{"$f":"IF(入力シート!$B373=\"\",\"\",基礎データ!$B$6)","v":""},{"$f":"IF(入力シート!$B373=\"\",\"\",B159)","v":""},{"$f":"IF(入力シート!$B373=\"\",\"\",IF(入力シート!$E373=\"\",TEXT(入力シート!$B373,\"00\"),入力シート!$E373))","v":""},null,null,{"$f":"IF(入力シート!I373=\"\",\"\",入力シート!I373)","v":""},null,null,null,null,null,null,null,null,null,null,null,null,null,null,null,null,"","","",{"$f":"IF($AC159=\"\",\"\",入力シート!F373)","v":""},{"$f":"IF($AC159=\"\",\"\",入力シート!G373)","v":""},{"$f":"IF($AC159=\"\",\"\",入力シート!H373)","v":""},""]
[{"$f":"IF(入力シート!$B374=\"\",\"\",大会コード)","v":""},{"$f":"IF(入力シート!$B374=\"\",\"\",VLOOKUP(入力シート!$C374,大会データ!$A$5:$F$372,3,FALSE))","v":""},{"$f":"IF(入力シート!$B374=\"\",\"\",VLOOKUP(入力シート!$C374,大会データ!$A$5:$F$372,4,FALSE))","v":""},{"$f":"IF(入力シート!$B374=\"\",\"\",VLOOKUP(入力シート!$C374,大会データ!$A$5:$F$372,5,FALSE))","v":""},{"$f":"IF(入力シート!$B374=\"\",\"\",基礎データ!$B$6)","v":""},{"$f":"IF(入力シート!$B374=\"\",\"\",B160)","v":""},{"$f":"IF(入力シート!$B374=\"\",\"\",IF(入力シート!$E374=\"\",TEXT(入力シート!$B374,\"00\"),入力シート!$E374))","v":""},null,null,{"$f":"IF(入力シート!I374=\"\",\"\",入力シート!I374)","v":""},null,null,null,null,null,null,null,null,null,null,null,null,null,null,null,null,"","","",{"$f":"IF($AC160=\"\",\"\",入力シート!F374)","v":""},{"$f":"IF($AC160=\"\",\"\",入力シート!G374)","v":""},{"$f":"IF($AC160=\"\",\"\",入力シート!H374)","v":""},""]
[{"$f":"IF(入力シート!$B375=\"\",\"\",大会コード)","v":""},{"$f":"IF(入力シート!$B375=\"\",\"\",VLOOKUP(入力シート!$C375,大会データ!$A$5:$F$372,3,FALSE))","v":""},{"$f":"IF(入力シート!$B375=\"\",\"\",VLOOKUP(入力シート!$C375,大会データ!$A$5:$F$372,4,FALSE))","v":""},{"$f":"IF(入力シート!$B375=\"\",\"\",VLOOKUP(入力シート!$C375,大会データ!$A$5:$F$372,5,FALSE))","v":""},{"$f":"IF(入力シート!$B375=\"\",\"\",基礎データ!$B$6)","v":""},{"$f":"IF(入力シート!$B375=\"\",\"\",B161)","v":""},{"$f":"IF(入力シート!$B375=\"\",\"\",IF(入力シート!$E375=\"\",TEXT(入力シート!$B375,\"00\"),入力シート!$E375))","v":""},null,null,{"$f":"IF(入力シート!I375=\"\",\"\",入力シート!I375)","v":""},null,null,null,null,null,null,null,null,null,null,null,null,null,null,null,null,"","","",{"$f":"IF($AC161=\"\",\"\",入力シート!F375)","v":""},{"$f":"IF($AC161=\"\",\"\",入力シート!G375)","v":""},{"$f":"IF($AC161=\"\",\"\",入力シート!H375)","v":""},""]
[{"$f":"IF(入力シート!$B376=\"\",\"\",大会コード)","v":""},{"$f":"IF(入力シート!$B376=\"\",\"\",VLOOKUP(入力シート!$C376,大会データ!$A$5:$F$372,3,FALSE))","v":""},{"$f":"IF(入力シート!$B376=\"\",\"\",VLOOKUP(入力シート!$C376,大会データ!$A$5:$F$372,4,FALSE))","v":""},{"$f":"IF(入力シート!$B376=\"\",\"\",VLOOKUP(入力シート!$C376,大会データ!$A$5:$F$372,5,FALSE))","v":""},{"$f":"IF(入力シート!$B376=\"\",\"\",基礎データ!$B$6)","v":""},{"$f":"IF(入力シート!$B376=\"\",\"\",B162)","v":""},{"$f":"IF(入力シート!$B376=\"\",\"\",IF(入力シート!$E376=\"\",TEXT(入力シート!$B376,\"00\"),入力シート!$E376))","v":""},null,null,{"$f":"IF(入力シート!I376=\"\",\"\",入力シート!I376)","v":""},null,null,null,null,null,null,null,null,null,null,null,null,null,null,null,null,"","","",{"$f":"IF($AC162=\"\",\"\",入力シート!F376)","v":""},{"$f":"IF($AC162=\"\",\"\",入力シート!G376)","v":""},{"$f":"IF($AC162=\"\",\"\",入力シート!H376)","v":""},""]
[{"$f":"IF(入力シート!$B377=\"\",\"\",大会コード)","v":""},{"$f":"IF(入力シート!$B377=\"\",\"\",VLOOKUP(入力シート!$C377,大会データ!$A$5:$F$372,3,FALSE))","v":""},{"$f":"IF(入力シート!$B377=\"\",\"\",VLOOKUP(入力シート!$C377,大会データ!$A$5:$F$372,4,FALSE))","v":""},{"$f":"IF(入力シート!$B377=\"\",\"\",VLOOKUP(入力シート!$C377,大会データ!$A$5:$F$372,5,FALSE))","v":""},{"$f":"IF(入力シート!$B377=\"\",\"\",基礎データ!$B$6)","v":""},{"$f":"IF(入力シート!$B377=\"\",\"\",B163)","v":""},{"$f":"IF(入力シート!$B377=\"\",\"\",IF(入力シート!$E377=\"\",TEXT(入力シート!$B377,\"00\"),入力シート!$E377))","v":""},null,null,{"$f":"IF(入力シート!I377=\"\",\"\",入力シート!I377)","v":""},null,null,null,null,null,null,null,null,null,null,null,null,null,null,null,null,"","","",{"$f":"IF($AC163=\"\",\"\",入力シート!F377)","v":""},{"$f":"IF($AC163=\"\",\"\",入力シート!G377)","v":""},{"$f":"IF($AC163=\"\",\"\",入力シート!H377)","v":""},""]
[{"$f":"IF(入力シート!$B378=\"\",\"\",大会コード)","v":""},{"$f":"IF(入力シート!$B378=\"\",\"\",VLOOKUP(入力シート!$C378,大会データ!$A$5:$F$372,3,FALSE))","v":""},{"$f":"IF(入力シート!$B378=\"\",\"\",VLOOKUP(入力シート!$C378,大会データ!$A$5:$F$372,4,FALSE))","v":""},{"$f":"IF(入力シート!$B378=\"\",\"\",VLOOKUP(入力シート!$C378,大会データ!$A$5:$F$372,5,FALSE))","v":""},{"$f":"IF(入力シート!$B378=\"\",\"\",基礎データ!$B$6)","v":""},{"$f":"IF(入力シート!$B378=\"\",\"\",B164)","v":""},{"$f":"IF(入力シート!$B378=\"\",\"\",IF(入力シート!$E378=\"\",TEXT(入力シート!$B378,\"00\"),入力シート!$E378))","v":""},null,null,{"$f":"IF(入力シート!I378=\"\",\"\",入力シート!I378)","v":""},null,null,null,null,null,null,null,null,null,null,null,null,null,null,null,null,"","","",{"$f":"IF($AC164=\"\",\"\",入力シート!F378)","v":""},{"$f":"IF($AC164=\"\",\"\",入力シート!G378)","v":""},{"$f":"IF($AC164=\"\",\"\",入力シート!H378)","v":""},""]
[{"$f":"IF(入力シート!$B379=\"\",\"\",大会コード)","v":""},{"$f":"IF(入力シート!$B379=\"\",\"\",VLOOKUP(入力シート!$C379,大会データ!$A$5:$F$372,3,FALSE))","v":""},{"$f":"IF(入力シート!$B379=\"\",\"\",VLOOKUP(入力シート!$C379,大会データ!$A$5:$F$372,4,FALSE))","v":""},{"$f":"IF(入力シート!$B379=\"\",\"\",VLOOKUP(入力シート!$C379,大会データ!$A$5:$F$372,5,FALSE))","v":""},{"$f":"IF(入力シート!$B379=\"\",\"\",基礎データ!$B$6)","v":""},{"$f":"IF(入力シート!$B379=\"\",\"\",B165)","v":""},{"$f":"IF(入力シート!$B379=\"\",\"\",IF(入力シート!$E379=\"\",TEXT(入力シート!$B379,\"00\"),入力シート!$E379))","v":""},null,null,{"$f":"IF(入力シート!I379=\"\",\"\",入力シート!I379)","v":""},null,null,null,null,null,null,null,null,null,null,null,null,null,null,null,null,"","","",{"$f":"IF($AC165=\"\",\"\",入力シート!F379)","v":""},{"$f":"IF($AC165=\"\",\"\",入力シート!G379)","v":""},{"$f":"IF($AC165=\"\",\"\",入力シート!H379)","v":""},""]
[{"$f":"IF(入力シート!$B380=\"\",\"\",大会コード)","v":""},{"$f":"IF(入力シート!$B380=\"\",\"\",VLOOKUP(入力シート!$C380,大会データ!$A$5:$F$372,3,FALSE))","v":""},{"$f":"IF(入力シート!$B380=\"\",\"\",VLOOKUP(入力シート!$C380,大会データ!$A$5:$F$372,4,FALSE))","v":""},{"$f":"IF(入力シート!$B380=\"\",\"\",VLOOKUP(入力シート!$C380,大会データ!$A$5:$F$372,5,FALSE))","v":""},{"$f":"IF(入力シート!$B380=\"\",\"\",基礎データ!$B$6)","v":""},{"$f":"IF(入力シート!$B380=\"\",\"\",B166)","v":""},{"$f":"IF(入力シート!$B380=\"\",\"\",IF(入力シート!$E380=\"\",TEXT(入力シート!$B380,\"00\"),入力シート!$E380))","v":""},null,null,{"$f":"IF(入力シート!I380=\"\",\"\",入力シート!I380)","v":""},null,null,null,null,null,null,null,null,null,null,null,null,null,null,null,null,"","","",{"$f":"IF($AC166=\"\",\"\",入力シート!F380)","v":""},{"$f":"IF($AC166=\"\",\"\",入力シート!G380)","v":""},{"$f":"IF($AC166=\"\",\"\",入力シート!H380)","v":""},""]
[{"$f":"IF(入力シート!$B381=\"\",\"\",大会コード)","v":""},{"$f":"IF(入力シート!$B381=\"\",\"\",VLOOKUP(入力シート!$C381,大会データ!$A$5:$F$372,3,FALSE))","v":""},{"$f":"IF(入力シート!$B381=\"\",\"\",VLOOKUP(入力シート!$C381,大会データ!$A$5:$F$372,4,FALSE))","v":""},{"$f":"IF(入力シート!$B381=\"\",\"\",VLOOKUP(入力シート!$C381,大会データ!$A$5:$F$372,5,FALSE))","v":""},{"$f":"IF(入力シート!$B381=\"\",\"\",基礎データ!$B$6)","v":""},{"$f":"IF(入力シート!$B381=\"\",\"\",B167)","v":""},{"$f":"IF(入力シート!$B381=\"\",\"\",IF(入力シート!$E381=\"\",TEXT(入力シート!$B381,\"00\"),入力シート!$E381))","v":""},null,null,{"$f":"IF(入力シート!I381=\"\",\"\",入力シート!I381)","v":""},null,null,null,null,null,null,null,null,null,null,null,null,null,null,null,null,"","","",{"$f":"IF($AC167=\"\",\"\",入力シート!F381)","v":""},{"$f":"IF($AC167=\"\",\"\",入力シート!G381)","v":""},{"$f":"IF($AC167=\"\",\"\",入力シート!H381)","v":""},""]
[{"$f":"IF(入力シート!$B382=\"\",\"\",大会コード)","v":""},{"$f":"IF(入力シート!$B382=\"\",\"\",VLOOKUP(入力シート!$C382,大会データ!$A$5:$F$372,3,FALSE))","v":""},{"$f":"IF(入力シート!$B382=\"\",\"\",VLOOKUP(入力シート!$C382,大会データ!$A$5:$F$372,4,FALSE))","v":""},{"$f":"IF(入力シート!$B382=\"\",\"\",VLOOKUP(入力シート!$C382,大会データ!$A$5:$F$372,5,FALSE))","v":""},{"$f":"IF(入力シート!$B382=\"\",\"\",基礎データ!$B$6)","v":""},{"$f":"IF(入力シート!$B382=\"\",\"\",B168)","v":""},{"$f":"IF(入力シート!$B382=\"\",\"\",IF(入力シート!$E382=\"\",TEXT(入力シート!$B382,\"00\"),入力シート!$E382))","v":""},null,null,{"$f":"IF(入力シート!I382=\"\",\"\",入力シート!I382)","v":""},null,null,null,null,null,null,null,null,null,null,null,null,null,null,null,null,"","","",{"$f":"IF($AC168=\"\",\"\",入力シート!F382)","v":""},{"$f":"IF($AC168=\"\",\"\",入力シート!G382)","v":""},{"$f":"IF($AC168=\"\",\"\",入力シート!H382)","v":""},""]
[{"$f":"IF(入力シート!$B383=\"\",\"\",大会コード)","v":""},{"$f":"IF(入力シート!$B383=\"\",\"\",VLOOKUP(入力シート!$C383,大会データ!$A$5:$F$372,3,FALSE))","v":""},{"$f":"IF(入力シート!$B383=\"\",\"\",VLOOKUP(入力シート!$C383,大会データ!$A$5:$F$372,4,FALSE))","v":""},{"$f":"IF(入力シート!$B383=\"\",\"\",VLOOKUP(入力シート!$C383,大会データ!$A$5:$F$372,5,FALSE))","v":""},{"$f":"IF(入力シート!$B383=\"\",\"\",基礎データ!$B$6)","v":""},{"$f":"IF(入力シート!$B383=\"\",\"\",B169)","v":""},{"$f":"IF(入力シート!$B383=\"\",\"\",IF(入力シート!$E383=\"\",TEXT(入力シート!$B383,\"00\"),入力シート!$E383))","v":""},null,null,{"$f":"IF(入力シート!I383=\"\",\"\",入力シート!I383)","v":""},null,null,null,null,null,null,null,null,null,null,null,null,null,null,null,null,"","","",{"$f":"IF($AC169=\"\",\"\",入力シート!F383)","v":""},{"$f":"IF($AC169=\"\",\"\",入力シート!G383)","v":""},{"$f":"IF($AC169=\"\",\"\",入力シート!H383)","v":""},""]
[{"$f":"IF(入力シート!$B384=\"\",\"\",大会コード)","v":""},{"$f":"IF(入力シート!$B384=\"\",\"\",VLOOKUP(入力シート!$C384,大会データ!$A$5:$F$372,3,FALSE))","v":""},{"$f":"IF(入力シート!$B384=\"\",\"\",VLOOKUP(入力シート!$C384,大会データ!$A$5:$F$372,4,FALSE))","v":""},{"$f":"IF(入力シート!$B384=\"\",\"\",VLOOKUP(入力シート!$C384,大会データ!$A$5:$F$372,5,FALSE))","v":""},{"$f":"IF(入力シート!$B384=\"\",\"\",基礎データ!$B$6)","v":""},{"$f":"IF(入力シート!$B384=\"\",\"\",B170)","v":""},{"$f":"IF(入力シート!$B384=\"\",\"\",IF(入力シート!$E384=\"\",TEXT(入力シート!$B384,\"00\"),入力シート!$E384))","v":""},null,null,{"$f":"IF(入力シート!I384=\"\",\"\",入力シート!I384)","v":""},null,null,null,null,null,null,null,null,null,null,null,null,null,null,null,null,"","","",{"$f":"IF($AC170=\"\",\"\",入力シート!F384)","v":""},{"$f":"IF($AC170=\"\",\"\",入力シート!G384)","v":""},{"$f":"IF($AC170=\"\",\"\",入力シート!H384)","v":""},""]
[{"$f":"IF(入力シート!$B385=\"\",\"\",大会コード)","v":""},{"$f":"IF(入力シート!$B385=\"\",\"\",VLOOKUP(入力シート!$C385,大会データ!$A$5:$F$372,3,FALSE))","v":""},{"$f":"IF(入力シート!$B385=\"\",\"\",VLOOKUP(入力シート!$C385,大会データ!$A$5:$F$372,4,FALSE))","v":""},{"$f":"IF(入力シート!$B385=\"\",\"\",VLOOKUP(入力シート!$C385,大会データ!$A$5:$F$372,5,FALSE))","v":""},{"$f":"IF(入力シート!$B385=\"\",\"\",基礎データ!$B$6)","v":""},{"$f":"IF(入力シート!$B385=\"\",\"\",B171)","v":""},{"$f":"IF(入力シート!$B385=\"\",\"\",IF(入力シート!$E385=\"\",TEXT(入力シート!$B385,\"00\"),入力シート!$E385))","v":""},null,null,{"$f":"IF(入力シート!I385=\"\",\"\",入力シート!I385)","v":""},null,null,null,null,null,null,null,null,null,null,null,null,null,null,null,null,"","","",{"$f":"IF($AC171=\"\",\"\",入力シート!F385)","v":""},{"$f":"IF($AC171=\"\",\"\",入力シート!G385)","v":""},{"$f":"IF($AC171=\"\",\"\",入力シート!H385)","v":""},""]
[{"$f":"IF(入力シート!$B386=\"\",\"\",大会コード)","v":""},{"$f":"IF(入力シート!$B386=\"\",\"\",VLOOKUP(入力シート!$C386,大会データ!$A$5:$F$372,3,FALSE))","v":""},{"$f":"IF(入力シート!$B386=\"\",\"\",VLOOKUP(入力シート!$C386,大会データ!$A$5:$F$372,4,FALSE))","v":""},{"$f":"IF(入力シート!$B386=\"\",\"\",VLOOKUP(入力シート!$C386,大会データ!$A$5:$F$372,5,FALSE))","v":""},{"$f":"IF(入力シート!$B386=\"\",\"\",基礎データ!$B$6)","v":""},{"$f":"IF(入力シート!$B386=\"\",\"\",B172)","v":""},{"$f":"IF(入力シート!$B386=\"\",\"\",IF(入力シート!$E386=\"\",TEXT(入力シート!$B386,\"00\"),入力シート!$E386))","v":""},null,null,{"$f":"IF(入力シート!I386=\"\",\"\",入力シート!I386)","v":""},null,null,null,null,null,null,null,null,null,null,null,null,null,null,null,null,"","","",{"$f":"IF($AC172=\"\",\"\",入力シート!F386)","v":""},{"$f":"IF($AC172=\"\",\"\",入力シート!G386)","v":""},{"$f":"IF($AC172=\"\",\"\",入力シート!H386)","v":""},""]
[{"$f":"IF(入力シート!$B387=\"\",\"\",大会コード)","v":""},{"$f":"IF(入力シート!$B387=\"\",\"\",VLOOKUP(入力シート!$C387,大会データ!$A$5:$F$372,3,FALSE))","v":""},{"$f":"IF(入力シート!$B387=\"\",\"\",VLOOKUP(入力シート!$C387,大会データ!$A$5:$F$372,4,FALSE))","v":""},{"$f":"IF(入力シート!$B387=\"\",\"\",VLOOKUP(入力シート!$C387,大会データ!$A$5:$F$372,5,FALSE))","v":""},{"$f":"IF(入力シート!$B387=\"\",\"\",基礎データ!$B$6)","v":""},{"$f":"IF(入力シート!$B387=\"\",\"\",B173)","v":""},{"$f":"IF(入力シート!$B387=\"\",\"\",IF(入力シート!$E387=\"\",TEXT(入力シート!$B387,\"00\"),入力シート!$E387))","v":""},null,null,{"$f":"IF(入力シート!I387=\"\",\"\",入力シート!I387)","v":""},null,null,null,null,null,null,null,null,null,null,null,null,null,null,null,null,"","","",{"$f":"IF($AC173=\"\",\"\",入力シート!F387)","v":""},{"$f":"IF($AC173=\"\",\"\",入力シート!G387)","v":""},{"$f":"IF($AC173=\"\",\"\",入力シート!H387)","v":""},""]
[{"$f":"IF(入力シート!$B388=\"\",\"\",大会コード)","v":""},{"$f":"IF(入力シート!$B388=\"\",\"\",VLOOKUP(入力シート!$C388,大会データ!$A$5:$F$372,3,FALSE))","v":""},{"$f":"IF(入力シート!$B388=\"\",\"\",VLOOKUP(入力シート!$C388,大会データ!$A$5:$F$372,4,FALSE))","v":""},{"$f":"IF(入力シート!$B388=\"\",\"\",VLOOKUP(入力シート!$C388,大会データ!$A$5:$F$372,5,FALSE))","v":""},{"$f":"IF(入力シート!$B388=\"\",\"\",基礎データ!$B$6)","v":""},{"$f":"IF(入力シート!$B388=\"\",\"\",B174)","v":""},{"$f":"IF(入力シート!$B388=\"\",\"\",IF(入力シート!$E388=\"\",TEXT(入力シート!$B388,\"00\"),入力シート!$E388))","v":""},null,null,{"$f":"IF(入力シート!I388=\"\",\"\",入力シート!I388)","v":""},null,null,null,null,null,null,null,null,null,null,null,null,null,null,null,null,"","","",{"$f":"IF($AC174=\"\",\"\",入力シート!F388)","v":""},{"$f":"IF($AC174=\"\",\"\",入力シート!G388)","v":""},{"$f":"IF($AC174=\"\",\"\",入力シート!H388)","v":""},""]
[{"$f":"IF(入力シート!$B389=\"\",\"\",大会コード)","v":""},{"$f":"IF(入力シート!$B389=\"\",\"\",VLOOKUP(入力シート!$C389,大会データ!$A$5:$F$372,3,FALSE))","v":""},{"$f":"IF(入力シート!$B389=\"\",\"\",VLOOKUP(入力シート!$C389,大会データ!$A$5:$F$372,4,FALSE))","v":""},{"$f":"IF(入力シート!$B389=\"\",\"\",VLOOKUP(入力シート!$C389,大会データ!$A$5:$F$372,5,FALSE))","v":""},{"$f":"IF(入力シート!$B389=\"\",\"\",基礎データ!$B$6)","v":""},{"$f":"IF(入力シート!$B389=\"\",\"\",B175)","v":""},{"$f":"IF(入力シート!$B389=\"\",\"\",IF(入力シート!$E389=\"\",TEXT(入力シート!$B389,\"00\"),入力シート!$E389))","v":""},null,null,{"$f":"IF(入力シート!I389=\"\",\"\",入力シート!I389)","v":""},null,null,null,null,null,null,null,null,null,null,null,null,null,null,null,null,"","","",{"$f":"IF($AC175=\"\",\"\",入力シート!F389)","v":""},{"$f":"IF($AC175=\"\",\"\",入力シート!G389)","v":""},{"$f":"IF($AC175=\"\",\"\",入力シート!H389)","v":""},""]
[{"$f":"IF(入力シート!$B390=\"\",\"\",大会コード)","v":""},{"$f":"IF(入力シート!$B390=\"\",\"\",VLOOKUP(入力シート!$C390,大会データ!$A$5:$F$372,3,FALSE))","v":""},{"$f":"IF(入力シート!$B390=\"\",\"\",VLOOKUP(入力シート!$C390,大会データ!$A$5:$F$372,4,FALSE))","v":""},{"$f":"IF(入力シート!$B390=\"\",\"\",VLOOKUP(入力シート!$C390,大会データ!$A$5:$F$372,5,FALSE))","v":""},{"$f":"IF(入力シート!$B390=\"\",\"\",基礎データ!$B$6)","v":""},{"$f":"IF(入力シート!$B390=\"\",\"\",B176)","v":""},{"$f":"IF(入力シート!$B390=\"\",\"\",IF(入力シート!$E390=\"\",TEXT(入力シート!$B390,\"00\"),入力シート!$E390))","v":""},null,null,{"$f":"IF(入力シート!I390=\"\",\"\",入力シート!I390)","v":""},null,null,null,null,null,null,null,null,null,null,null,null,null,null,null,null,"","","",{"$f":"IF($AC176=\"\",\"\",入力シート!F390)","v":""},{"$f":"IF($AC176=\"\",\"\",入力シート!G390)","v":""},{"$f":"IF($AC176=\"\",\"\",入力シート!H390)","v":""},""]
[{"$f":"IF(入力シート!$B391=\"\",\"\",大会コード)","v":""},{"$f":"IF(入力シート!$B391=\"\",\"\",VLOOKUP(入力シート!$C391,大会データ!$A$5:$F$372,3,FALSE))","v":""},{"$f":"IF(入力シート!$B391=\"\",\"\",VLOOKUP(入力シート!$C391,大会データ!$A$5:$F$372,4,FALSE))","v":""},{"$f":"IF(入力シート!$B391=\"\",\"\",VLOOKUP(入力シート!$C391,大会データ!$A$5:$F$372,5,FALSE))","v":""},{"$f":"IF(入力シート!$B391=\"\",\"\",基礎データ!$B$6)","v":""},{"$f":"IF(入力シート!$B391=\"\",\"\",B177)","v":""},{"$f":"IF(入力シート!$B391=\"\",\"\",IF(入力シート!$E391=\"\",TEXT(入力シート!$B391,\"00\"),入力シート!$E391))","v":""},null,null,{"$f":"IF(入力シート!I391=\"\",\"\",入力シート!I391)","v":""},null,null,null,null,null,null,null,null,null,null,null,null,null,null,null,null,"","","",{"$f":"IF($AC177=\"\",\"\",入力シート!F391)","v":""},{"$f":"IF($AC177=\"\",\"\",入力シート!G391)","v":""},{"$f":"IF($AC177=\"\",\"\",入力シート!H391)","v":""},""]
[{"$f":"IF(入力シート!$B392=\"\",\"\",大会コード)","v":""},{"$f":"IF(入力シート!$B392=\"\",\"\",VLOOKUP(入力シート!$C392,大会データ!$A$5:$F$372,3,FALSE))","v":""},{"$f":"IF(入力シート!$B392=\"\",\"\",VLOOKUP(入力シート!$C392,大会データ!$A$5:$F$372,4,FALSE))","v":""},{"$f":"IF(入力シート!$B392=\"\",\"\",VLOOKUP(入力シート!$C392,大会データ!$A$5:$F$372,5,FALSE))","v":""},{"$f":"IF(入力シート!$B392=\"\",\"\",基礎データ!$B$6)","v":""},{"$f":"IF(入力シート!$B392=\"\",\"\",B178)","v":""},{"$f":"IF(入力シート!$B392=\"\",\"\",IF(入力シート!$E392=\"\",TEXT(入力シート!$B392,\"00\"),入力シート!$E392))","v":""},null,null,{"$f":"IF(入力シート!I392=\"\",\"\",入力シート!I392)","v":""},null,null,null,null,null,null,null,null,null,null,null,null,null,null,null,null,"","","",{"$f":"IF($AC178=\"\",\"\",入力シート!F392)","v":""},{"$f":"IF($AC178=\"\",\"\",入力シート!G392)","v":""},{"$f":"IF($AC178=\"\",\"\",入力シート!H392)","v":""},""]
[{"$f":"IF(入力シート!$B393=\"\",\"\",大会コード)","v":""},{"$f":"IF(入力シート!$B393=\"\",\"\",VLOOKUP(入力シート!$C393,大会データ!$A$5:$F$372,3,FALSE))","v":""},{"$f":"IF(入力シート!$B393=\"\",\"\",VLOOKUP(入力シート!$C393,大会データ!$A$5:$F$372,4,FALSE))","v":""},{"$f":"IF(入力シート!$B393=\"\",\"\",VLOOKUP(入力シート!$C393,大会データ!$A$5:$F$372,5,FALSE))","v":""},{"$f":"IF(入力シート!$B393=\"\",\"\",基礎データ!$B$6)","v":""},{"$f":"IF(入力シート!$B393=\"\",\"\",B179)","v":""},{"$f":"IF(入力シート!$B393=\"\",\"\",IF(入力シート!$E393=\"\",TEXT(入力シート!$B393,\"00\"),入力シート!$E393))","v":""},null,null,{"$f":"IF(入力シート!I393=\"\",\"\",入力シート!I393)","v":""},null,null,null,null,null,null,null,null,null,null,null,null,null,null,null,null,"","","",{"$f":"IF($AC179=\"\",\"\",入力シート!F393)","v":""},{"$f":"IF($AC179=\"\",\"\",入力シート!G393)","v":""},{"$f":"IF($AC179=\"\",\"\",入力シート!H393)","v":""},""]
[{"$f":"IF(入力シート!$B394=\"\",\"\",大会コード)","v":""},{"$f":"IF(入力シート!$B394=\"\",\"\",VLOOKUP(入力シート!$C394,大会データ!$A$5:$F$372,3,FALSE))","v":""},{"$f":"IF(入力シート!$B394=\"\",\"\",VLOOKUP(入力シート!$C394,大会データ!$A$5:$F$372,4,FALSE))","v":""},{"$f":"IF(入力シート!$B394=\"\",\"\",VLOOKUP(入力シート!$C394,大会データ!$A$5:$F$372,5,FALSE))","v":""},{"$f":"IF(入力シート!$B394=\"\",\"\",基礎データ!$B$6)","v":""},{"$f":"IF(入力シート!$B394=\"\",\"\",B180)","v":""},{"$f":"IF(入力シート!$B394=\"\",\"\",IF(入力シート!$E394=\"\",TEXT(入力シート!$B394,\"00\"),入力シート!$E394))","v":""},null,null,{"$f":"IF(入力シート!I394=\"\",\"\",入力シート!I394)","v":""},null,null,null,null,null,null,null,null,null,null,null,null,null,null,null,null,"","","",{"$f":"IF($AC180=\"\",\"\",入力シート!F394)","v":""},{"$f":"IF($AC180=\"\",\"\",入力シート!G394)","v":""},{"$f":"IF($AC180=\"\",\"\",入力シート!H394)","v":""},""]
[{"$f":"IF(入力シート!$B395=\"\",\"\",大会コード)","v":""},{"$f":"IF(入力シート!$B395=\"\",\"\",VLOOKUP(入力シート!$C395,大会データ!$A$5:$F$372,3,FALSE))","v":""},{"$f":"IF(入力シート!$B395=\"\",\"\",VLOOKUP(入力シート!$C395,大会データ!$A$5:$F$372,4,FALSE))","v":""},{"$f":"IF(入力シート!$B395=\"\",\"\",VLOOKUP(入力シート!$C395,大会データ!$A$5:$F$372,5,FALSE))","v":""},{"$f":"IF(入力シート!$B395=\"\",\"\",基礎データ!$B$6)","v":""},{"$f":"IF(入力シート!$B395=\"\",\"\",B181)","v":""},{"$f":"IF(入力シート!$B395=\"\",\"\",IF(入力シート!$E395=\"\",TEXT(入力シート!$B395,\"00\"),入力シート!$E395))","v":""},null,null,{"$f":"IF(入力シート!I395=\"\",\"\",入力シート!I395)","v":""},null,null,null,null,null,null,null,null,null,null,null,null,null,null,null,null,"","","",{"$f":"IF($AC181=\"\",\"\",入力シート!F395)","v":""},{"$f":"IF($AC181=\"\",\"\",入力シート!G395)","v":""},{"$f":"IF($AC181=\"\",\"\",入力シート!H395)","v":""},""]
[{"$f":"IF(入力シート!$B396=\"\",\"\",大会コード)","v":""},{"$f":"IF(入力シート!$B396=\"\",\"\",VLOOKUP(入力シート!$C396,大会データ!$A$5:$F$372,3,FALSE))","v":""},{"$f":"IF(入力シート!$B396=\"\",\"\",VLOOKUP(入力シート!$C396,大会データ!$A$5:$F$372,4,FALSE))","v":""},{"$f":"IF(入力シート!$B396=\"\",\"\",VLOOKUP(入力シート!$C396,大会データ!$A$5:$F$372,5,FALSE))","v":""},{"$f":"IF(入力シート!$B396=\"\",\"\",基礎データ!$B$6)","v":""},{"$f":"IF(入力シート!$B396=\"\",\"\",B182)","v":""},{"$f":"IF(入力シート!$B396=\"\",\"\",IF(入力シート!$E396=\"\",TEXT(入力シート!$B396,\"00\"),入力シート!$E396))","v":""},null,null,{"$f":"IF(入力シート!I396=\"\",\"\",入力シート!I396)","v":""},null,null,null,null,null,null,null,null,null,null,null,null,null,null,null,null,"","","",{"$f":"IF($AC182=\"\",\"\",入力シート!F396)","v":""},{"$f":"IF($AC182=\"\",\"\",入力シート!G396)","v":""},{"$f":"IF($AC182=\"\",\"\",入力シート!H396)","v":""},""]
[{"$f":"IF(入力シート!$B397=\"\",\"\",大会コード)","v":""},{"$f":"IF(入力シート!$B397=\"\",\"\",VLOOKUP(入力シート!$C397,大会データ!$A$5:$F$372,3,FALSE))","v":""},{"$f":"IF(入力シート!$B397=\"\",\"\",VLOOKUP(入力シート!$C397,大会データ!$A$5:$F$372,4,FALSE))","v":""},{"$f":"IF(入力シート!$B397=\"\",\"\",VLOOKUP(入力シート!$C397,大会データ!$A$5:$F$372,5,FALSE))","v":""},{"$f":"IF(入力シート!$B397=\"\",\"\",基礎データ!$B$6)","v":""},{"$f":"IF(入力シート!$B397=\"\",\"\",B183)","v":""},{"$f":"IF(入力シート!$B397=\"\",\"\",IF(入力シート!$E397=\"\",TEXT(入力シート!$B397,\"00\"),入力シート!$E397))","v":""},null,null,{"$f":"IF(入力シート!I397=\"\",\"\",入力シート!I397)","v":""},null,null,null,null,null,null,null,null,null,null,null,null,null,null,null,null,"","","",{"$f":"IF($AC183=\"\",\"\",入力シート!F397)","v":""},{"$f":"IF($AC183=\"\",\"\",入力シート!G397)","v":""},{"$f":"IF($AC183=\"\",\"\",入力シート!H397)","v":""},""]
[{"$f":"IF(入力シート!$B398=\"\",\"\",大会コード)","v":""},{"$f":"IF(入力シート!$B398=\"\",\"\",VLOOKUP(入力シート!$C398,大会データ!$A$5:$F$372,3,FALSE))","v":""},{"$f":"IF(入力シート!$B398=\"\",\"\",VLOOKUP(入力シート!$C398,大会データ!$A$5:$F$372,4,FALSE))","v":""},{"$f":"IF(入力シート!$B398=\"\",\"\",VLOOKUP(入力シート!$C398,大会データ!$A$5:$F$372,5,FALSE))","v":""},{"$f":"IF(入力シート!$B398=\"\",\"\",基礎データ!$B$6)","v":""},{"$f":"IF(入力シート!$B398=\"\",\"\",B184)","v":""},{"$f":"IF(入力シート!$B398=\"\",\"\",IF(入力シート!$E398=\"\",TEXT(入力シート!$B398,\"00\"),入力シート!$E398))","v":""},null,null,{"$f":"IF(入力シート!I398=\"\",\"\",入力シート!I398)","v":""},null,null,null,null,null,null,null,null,null,null,null,null,null,null,null,null,"","","",{"$f":"IF($AC184=\"\",\"\",入力シート!F398)","v":""},{"$f":"IF($AC184=\"\",\"\",入力シート!G398)","v":""},{"$f":"IF($AC184=\"\",\"\",入力シート!H398)","v":""},""]
[{"$f":"IF(入力シート!$B399=\"\",\"\",大会コード)","v":""},{"$f":"IF(入力シート!$B399=\"\",\"\",VLOOKUP(入力シート!$C399,大会データ!$A$5:$F$372,3,FALSE))","v":""},{"$f":"IF(入力シート!$B399=\"\",\"\",VLOOKUP(入力シート!$C399,大会データ!$A$5:$F$372,4,FALSE))","v":""},{"$f":"IF(入力シート!$B399=\"\",\"\",VLOOKUP(入力シート!$C399,大会データ!$A$5:$F$372,5,FALSE))","v":""},{"$f":"IF(入力シート!$B399=\"\",\"\",基礎データ!$B$6)","v":""},{"$f":"IF(入力シート!$B399=\"\",\"\",B185)","v":""},{"$f":"IF(入力シート!$B399=\"\",\"\",IF(入力シート!$E399=\"\",TEXT(入力シート!$B399,\"00\"),入力シート!$E399))","v":""},null,null,{"$f":"IF(入力シート!I399=\"\",\"\",入力シート!I399)","v":""},null,null,null,null,null,null,null,null,null,null,null,null,null,null,null,null,"","","",{"$f":"IF($AC185=\"\",\"\",入力シート!F399)","v":""},{"$f":"IF($AC185=\"\",\"\",入力シート!G399)","v":""},{"$f":"IF($AC185=\"\",\"\",入力シート!H399)","v":""},""]
[{"$f":"IF(入力シート!$B400=\"\",\"\",大会コード)","v":""},{"$f":"IF(入力シート!$B400=\"\",\"\",VLOOKUP(入力シート!$C400,大会データ!$A$5:$F$372,3,FALSE))","v":""},{"$f":"IF(入力シート!$B400=\"\",\"\",VLOOKUP(入力シート!$C400,大会データ!$A$5:$F$372,4,FALSE))","v":""},{"$f":"IF(入力シート!$B400=\"\",\"\",VLOOKUP(入力シート!$C400,大会データ!$A$5:$F$372,5,FALSE))","v":""},{"$f":"IF(入力シート!$B400=\"\",\"\",基礎データ!$B$6)","v":""},{"$f":"IF(入力シート!$B400=\"\",\"\",B186)","v":""},{"$f":"IF(入力シート!$B400=\"\",\"\",IF(入力シート!$E400=\"\",TEXT(入力シート!$B400,\"00\"),入力シート!$E400))","v":""},null,null,{"$f":"IF(入力シート!I400=\"\",\"\",入力シート!I400)","v":""},null,null,null,null,null,null,null,null,null,null,null,null,null,null,null,null,"","","",{"$f":"IF($AC186=\"\",\"\",入力シート!F400)","v":""},{"$f":"IF($AC186=\"\",\"\",入力シート!G400)","v":""},{"$f":"IF($AC186=\"\",\"\",入力シート!H400)","v":""},""]
[{"$f":"IF(入力シート!$B401=\"\",\"\",大会コード)","v":""},{"$f":"IF(入力シート!$B401=\"\",\"\",VLOOKUP(入力シート!$C401,大会データ!$A$5:$F$372,3,FALSE))","v":""},{"$f":"IF(入力シート!$B401=\"\",\"\",VLOOKUP(入力シート!$C401,大会データ!$A$5:$F$372,4,FALSE))","v":""},{"$f":"IF(入力シート!$B401=\"\",\"\",VLOOKUP(入力シート!$C401,大会データ!$A$5:$F$372,5,FALSE))","v":""},{"$f":"IF(入力シート!$B401=\"\",\"\",基礎データ!$B$6)","v":""},{"$f":"IF(入力シート!$B401=\"\",\"\",B187)","v":""},{"$f":"IF(入力シート!$B401=\"\",\"\",IF(入力シート!$E401=\"\",TEXT(入力シート!$B401,\"00\"),入力シート!$E401))","v":""},null,null,{"$f":"IF(入力シート!I401=\"\",\"\",入力シート!I401)","v":""},null,null,null,null,null,null,null,null,null,null,null,null,null,null,null,null,"","","",{"$f":"IF($AC187=\"\",\"\",入力シート!F401)","v":""},{"$f":"IF($AC187=\"\",\"\",入力シート!G401)","v":""},{"$f":"IF($AC187=\"\",\"\",入力シート!H401)","v":""},""]
[{"$f":"IF(入力シート!#REF!=\"\",\"\",大会コード)","v":{"$error":"#REF!"}},{"$f":"IF(入力シート!#REF!=\"\",\"\",VLOOKUP(入力シート!#REF!,大会データ!$A$5:$F$372,3,FALSE))","v":{"$error":"#REF!"}},{"$f":"IF(入力シート!#REF!=\"\",\"\",VLOOKUP(入力シート!#REF!,大会データ!$A$5:$F$372,4,FALSE))","v":{"$error":"#REF!"}},{"$f":"IF(入力シート!#REF!=\"\",\"\",VLOOKUP(入力シート!#REF!,大会データ!$A$5:$F$372,5,FALSE))","v":{"$error":"#REF!"}},{"$f":"IF(入力シート!#REF!=\"\",\"\",基礎データ!$B$6)","v":{"$error":"#REF!"}},{"$f":"IF(入力シート!#REF!=\"\",\"\",B188)","v":{"$error":"#REF!"}},{"$f":"IF(入力シート!#REF!=\"\",\"\",IF(入力シート!#REF!=\"\",TEXT(入力シート!#REF!,\"00\"),入力シート!#REF!))","v":{"$error":"#REF!"}},null,null,{"$f":"IF(入力シート!#REF!=\"\",\"\",入力シート!#REF!)","v":{"$error":"#REF!"}},null,null,null,null,null,null,null,null,null,null,null,null,null,null,null,null,{"$error":"#REF!"},{"$error":"#REF!"},{"$error":"#REF!"},{"$f":"IF($AC188=\"\",\"\",入力シート!#REF!)","v":{"$error":"#REF!"}},{"$f":"IF($AC188=\"\",\"\",入力シート!#REF!)","v":{"$error":"#REF!"}},{"$f":"IF($AC188=\"\",\"\",入力シート!#REF!)","v":{"$error":"#REF!"}},{"$error":"#REF!"}]
[{"$f":"IF(入力シート!#REF!=\"\",\"\",大会コード)","v":{"$error":"#REF!"}},{"$f":"IF(入力シート!#REF!=\"\",\"\",VLOOKUP(入力シート!#REF!,大会データ!$A$5:$F$372,3,FALSE))","v":{"$error":"#REF!"}},{"$f":"IF(入力シート!#REF!=\"\",\"\",VLOOKUP(入力シート!#REF!,大会データ!$A$5:$F$372,4,FALSE))","v":{"$error":"#REF!"}},{"$f":"IF(入力シート!#REF!=\"\",\"\",VLOOKUP(入力シート!#REF!,大会データ!$A$5:$F$372,5,FALSE))","v":{"$error":"#REF!"}},{"$f":"IF(入力シート!#REF!=\"\",\"\",基礎データ!$B$6)","v":{"$error":"#REF!"}},{"$f":"IF(入力シート!#REF!=\"\",\"\",B189)","v":{"$error":"#REF!"}},{"$f":"IF(入力シート!#REF!=\"\",\"\",IF(入力シート!#REF!=\"\",TEXT(入力シート!#REF!,\"00\"),入力シート!#REF!))","v":{"$error":"#REF!"}},null,null,{"$f":"IF(入力シート!#REF!=\"\",\"\",入力シート!#REF!)","v":{"$error":"#REF!"}},null,null,null,null,null,null,null,null,null,null,null,null,null,null,null,null,{"$error":"#REF!"},{"$error":"#REF!"},{"$error":"#REF!"},{"$f":"IF($AC189=\"\",\"\",入力シート!#REF!)","v":{"$error":"#REF!"}},{"$f":"IF($AC189=\"\",\"\",入力シート!#REF!)","v":{"$error":"#REF!"}},{"$f":"IF($AC189=\"\",\"\",入力シート!#REF!)","v":{"$error":"#REF!"}},{"$error":"#REF!"}]
[{"$f":"IF(入力シート!#REF!=\"\",\"\",大会コード)","v":{"$error":"#REF!"}},{"$f":"IF(入力シート!#REF!=\"\",\"\",VLOOKUP(入力シート!#REF!,大会データ!$A$5:$F$372,3,FALSE))","v":{"$error":"#REF!"}},{"$f":"IF(入力シート!#REF!=\"\",\"\",VLOOKUP(入力シート!#REF!,大会データ!$A$5:$F$372,4,FALSE))","v":{"$error":"#REF!"}},{"$f":"IF(入力シート!#REF!=\"\",\"\",VLOOKUP(入力シート!#REF!,大会データ!$A$5:$F$372,5,FALSE))","v":{"$error":"#REF!"}},{"$f":"IF(入力シート!#REF!=\"\",\"\",基礎データ!$B$6)","v":{"$error":"#REF!"}},{"$f":"IF(入力シート!#REF!=\"\",\"\",B190)","v":{"$error":"#REF!"}},{"$f":"IF(入力シート!#REF!=\"\",\"\",IF(入力シート!#REF!=\"\",TEXT(入力シート!#REF!,\"00\"),入力シート!#REF!))","v":{"$error":"#REF!"}},null,null,{"$f":"IF(入力シート!#REF!=\"\",\"\",入力シート!#REF!)","v":{"$error":"#REF!"}},null,null,null,null,null,null,null,null,null,null,null,null,null,null,null,null,{"$error":"#REF!"},{"$error":"#REF!"},{"$error":"#REF!"},{"$f":"IF($AC190=\"\",\"\",入力シート!#REF!)","v":{"$error":"#REF!"}},{"$f":"IF($AC190=\"\",\"\",入力シート!#REF!)","v":{"$error":"#REF!"}},{"$f":"IF($AC190=\"\",\"\",入力シート!#REF!)","v":{"$error":"#REF!"}},{"$error":"#REF!"}]
[{"$f":"IF(入力シート!#REF!=\"\",\"\",大会コード)","v":{"$error":"#REF!"}},{"$f":"IF(入力シート!#REF!=\"\",\"\",VLOOKUP(入力シート!#REF!,大会データ!$A$5:$F$372,3,FALSE))","v":{"$error":"#REF!"}},{"$f":"IF(入力シート!#REF!=\"\",\"\",VLOOKUP(入力シート!#REF!,大会データ!$A$5:$F$372,4,FALSE))","v":{"$error":"#REF!"}},{"$f":"IF(入力シート!#REF!=\"\",\"\",VLOOKUP(入力シート!#REF!,大会データ!$A$5:$F$372,5,FALSE))","v":{"$error":"#REF!"}},{"$f":"IF(入力シート!#REF!=\"\",\"\",基礎データ!$B$6)","v":{"$error":"#REF!"}},{"$f":"IF(入力シート!#REF!=\"\",\"\",B191)","v":{"$error":"#REF!"}},{"$f":"IF(入力シート!#REF!=\"\",\"\",IF(入力シート!#REF!=\"\",TEXT(入力シート!#REF!,\"00\"),入力シート!#REF!))","v":{"$error":"#REF!"}},null,null,{"$f":"IF(入力シート!#REF!=\"\",\"\",入力シート!#REF!)","v":{"$error":"#REF!"}},null,null,null,null,null,null,null,null,null,null,null,null,null,null,null,null,{"$error":"#REF!"},{"$error":"#REF!"},{"$error":"#REF!"},{"$f":"IF($AC191=\"\",\"\",入力シート!#REF!)","v":{"$error":"#REF!"}},{"$f":"IF($AC191=\"\",\"\",入力シート!#REF!)","v":{"$error":"#REF!"}},{"$f":"IF($AC191=\"\",\"\",入力シート!#REF!)","v":{"$error":"#REF!"}},{"$error":"#REF!"}]
[{"$f":"IF(入力シート!#REF!=\"\",\"\",大会コード)","v":{"$error":"#REF!"}},{"$f":"IF(入力シート!#REF!=\"\",\"\",VLOOKUP(入力シート!#REF!,大会データ!$A$5:$F$372,3,FALSE))","v":{"$error":"#REF!"}},{"$f":"IF(入力シート!#REF!=\"\",\"\",VLOOKUP(入力シート!#REF!,大会データ!$A$5:$F$372,4,FALSE))","v":{"$error":"#REF!"}},{"$f":"IF(入力シート!#REF!=\"\",\"\",VLOOKUP(入力シート!#REF!,大会データ!$A$5:$F$372,5,FALSE))","v":{"$error":"#REF!"}},{"$f":"IF(入力シート!#REF!=\"\",\"\",基礎データ!$B$6)","v":{"$error":"#REF!"}},{"$f":"IF(入力シート!#REF!=\"\",\"\",B192)","v":{"$error":"#REF!"}},{"$f":"IF(入力シート!#REF!=\"\",\"\",IF(入力シート!#REF!=\"\",TEXT(入力シート!#REF!,\"00\"),入力シート!#REF!))","v":{"$error":"#REF!"}},null,null,{"$f":"IF(入力シート!#REF!=\"\",\"\",入力シート!#REF!)","v":{"$error":"#REF!"}},null,null,null,null,null,null,null,null,null,null,null,null,null,null,null,null,{"$error":"#REF!"},{"$error":"#REF!"},{"$error":"#REF!"},{"$f":"IF($AC192=\"\",\"\",入力シート!#REF!)","v":{"$error":"#REF!"}},{"$f":"IF($AC192=\"\",\"\",入力シート!#REF!)","v":{"$error":"#REF!"}},{"$f":"IF($AC192=\"\",\"\",入力シート!#REF!)","v":{"$error":"#REF!"}},{"$error":"#REF!"}]
[{"$f":"IF(入力シート!#REF!=\"\",\"\",大会コード)","v":{"$error":"#REF!"}},{"$f":"IF(入力シート!#REF!=\"\",\"\",VLOOKUP(入力シート!#REF!,大会データ!$A$5:$F$372,3,FALSE))","v":{"$error":"#REF!"}},{"$f":"IF(入力シート!#REF!=\"\",\"\",VLOOKUP(入力シート!#REF!,大会データ!$A$5:$F$372,4,FALSE))","v":{"$error":"#REF!"}},{"$f":"IF(入力シート!#REF!=\"\",\"\",VLOOKUP(入力シート!#REF!,大会データ!$A$5:$F$372,5,FALSE))","v":{"$error":"#REF!"}},{"$f":"IF(入力シート!#REF!=\"\",\"\",基礎データ!$B$6)","v":{"$error":"#REF!"}},{"$f":"IF(入力シート!#REF!=\"\",\"\",B193)","v":{"$error":"#REF!"}},{"$f":"IF(入力シート!#REF!=\"\",\"\",IF(入力シート!#REF!=\"\",TEXT(入力シート!#REF!,\"00\"),入力シート!#REF!))","v":{"$error":"#REF!"}},null,null,{"$f":"IF(入力シート!#REF!=\"\",\"\",入力シート!#REF!)","v":{"$error":"#REF!"}},null,null,null,null,null,null,null,null,null,null,null,null,null,null,null,null,{"$error":"#REF!"},{"$error":"#REF!"},{"$error":"#REF!"},{"$f":"IF($AC193=\"\",\"\",入力シート!#REF!)","v":{"$error":"#REF!"}},{"$f":"IF($AC193=\"\",\"\",入力シート!#REF!)","v":{"$error":"#REF!"}},{"$f":"IF($AC193=\"\",\"\",入力シート!#REF!)","v":{"$error":"#REF!"}},{"$error":"#REF!"}]
[{"$f":"IF(入力シート!#REF!=\"\",\"\",大会コード)","v":{"$error":"#REF!"}},{"$f":"IF(入力シート!#REF!=\"\",\"\",VLOOKUP(入力シート!#REF!,大会データ!$A$5:$F$372,3,FALSE))","v":{"$error":"#REF!"}},{"$f":"IF(入力シート!#REF!=\"\",\"\",VLOOKUP(入力シート!#REF!,大会データ!$A$5:$F$372,4,FALSE))","v":{"$error":"#REF!"}},{"$f":"IF(入力シート!#REF!=\"\",\"\",VLOOKUP(入力シート!#REF!,大会データ!$A$5:$F$372,5,FALSE))","v":{"$error":"#REF!"}},{"$f":"IF(入力シート!#REF!=\"\",\"\",基礎データ!$B$6)","v":{"$error":"#REF!"}},{"$f":"IF(入力シート!#REF!=\"\",\"\",B194)","v":{"$error":"#REF!"}},{"$f":"IF(入力シート!#REF!=\"\",\"\",IF(入力シート!#REF!=\"\",TEXT(入力シート!#REF!,\"00\"),入力シート!#REF!))","v":{"$error":"#REF!"}},null,null,{"$f":"IF(入力シート!#REF!=\"\",\"\",入力シート!#REF!)","v":{"$error":"#REF!"}},null,null,null,null,null,null,null,null,null,null,null,null,null,null,null,null,{"$error":"#REF!"},{"$error":"#REF!"},{"$error":"#REF!"},{"$f":"IF($AC194=\"\",\"\",入力シート!#REF!)","v":{"$error":"#REF!"}},{"$f":"IF($AC194=\"\",\"\",入力シート!#REF!)","v":{"$error":"#REF!"}},{"$f":"IF($AC194=\"\",\"\",入力シート!#REF!)","v":{"$error":"#REF!"}},{"$error":"#REF!"}]
[{"$f":"IF(入力シート!#REF!=\"\",\"\",大会コード)","v":{"$error":"#REF!"}},{"$f":"IF(入力シート!#REF!=\"\",\"\",VLOOKUP(入力シート!#REF!,大会データ!$A$5:$F$372,3,FALSE))","v":{"$error":"#REF!"}},{"$f":"IF(入力シート!#REF!=\"\",\"\",VLOOKUP(入力シート!#REF!,大会データ!$A$5:$F$372,4,FALSE))","v":{"$error":"#REF!"}},{"$f":"IF(入力シート!#REF!=\"\",\"\",VLOOKUP(入力シート!#REF!,大会データ!$A$5:$F$372,5,FALSE))","v":{"$error":"#REF!"}},{"$f":"IF(入力シート!#REF!=\"\",\"\",基礎データ!$B$6)","v":{"$error":"#REF!"}},{"$f":"IF(入力シート!#REF!=\"\",\"\",B195)","v":{"$error":"#REF!"}},{"$f":"IF(入力シート!#REF!=\"\",\"\",IF(入力シート!#REF!=\"\",TEXT(入力シート!#REF!,\"00\"),入力シート!#REF!))","v":{"$error":"#REF!"}},null,null,{"$f":"IF(入力シート!#REF!=\"\",\"\",入力シート!#REF!)","v":{"$error":"#REF!"}},null,null,null,null,null,null,null,null,null,null,null,null,null,null,null,null,{"$error":"#REF!"},{"$error":"#REF!"},{"$error":"#REF!"},{"$f":"IF($AC195=\"\",\"\",入力シート!#REF!)","v":{"$error":"#REF!"}},{"$f":"IF($AC195=\"\",\"\",入力シート!#REF!)","v":{"$error":"#REF!"}},{"$f":"IF($AC195=\"\",\"\",入力シート!#REF!)","v":{"$error":"#REF!"}},{"$error":"#REF!"}]
[{"$f":"IF(入力シート!#REF!=\"\",\"\",大会コード)","v":{"$error":"#REF!"}},{"$f":"IF(入力シート!#REF!=\"\",\"\",VLOOKUP(入力シート!#REF!,大会データ!$A$5:$F$372,3,FALSE))","v":{"$error":"#REF!"}},{"$f":"IF(入力シート!#REF!=\"\",\"\",VLOOKUP(入力シート!#REF!,大会データ!$A$5:$F$372,4,FALSE))","v":{"$error":"#REF!"}},{"$f":"IF(入力シート!#REF!=\"\",\"\",VLOOKUP(入力シート!#REF!,大会データ!$A$5:$F$372,5,FALSE))","v":{"$error":"#REF!"}},{"$f":"IF(入力シート!#REF!=\"\",\"\",基礎データ!$B$6)","v":{"$error":"#REF!"}},{"$f":"IF(入力シート!#REF!=\"\",\"\",B196)","v":{"$error":"#REF!"}},{"$f":"IF(入力シート!#REF!=\"\",\"\",IF(入力シート!#REF!=\"\",TEXT(入力シート!#REF!,\"00\"),入力シート!#REF!))","v":{"$error":"#REF!"}},null,null,{"$f":"IF(入力シート!#REF!=\"\",\"\",入力シート!#REF!)","v":{"$error":"#REF!"}},null,null,null,null,null,null,null,null,null,null,null,null,null,null,null,null,{"$error":"#REF!"},{"$error":"#REF!"},{"$error":"#REF!"},{"$f":"IF($AC196=\"\",\"\",入力シート!#REF!)","v":{"$error":"#REF!"}},{"$f":"IF($AC196=\"\",\"\",入力シート!#REF!)","v":{"$error":"#REF!"}},{"$f":"IF($AC196=\"\",\"\",入力シート!#REF!)","v":{"$error":"#REF!"}},{"$error":"#REF!"}]
[{"$f":"IF(入力シート!#REF!=\"\",\"\",大会コード)","v":{"$error":"#REF!"}},{"$f":"IF(入力シート!#REF!=\"\",\"\",VLOOKUP(入力シート!#REF!,大会データ!$A$5:$F$372,3,FALSE))","v":{"$error":"#REF!"}},{"$f":"IF(入力シート!#REF!=\"\",\"\",VLOOKUP(入力シート!#REF!,大会データ!$A$5:$F$372,4,FALSE))","v":{"$error":"#REF!"}},{"$f":"IF(入力シート!#REF!=\"\",\"\",VLOOKUP(入力シート!#REF!,大会データ!$A$5:$F$372,5,FALSE))","v":{"$error":"#REF!"}},{"$f":"IF(入力シート!#REF!=\"\",\"\",基礎データ!$B$6)","v":{"$error":"#REF!"}},{"$f":"IF(入力シート!#REF!=\"\",\"\",B197)","v":{"$error":"#REF!"}},{"$f":"IF(入力シート!#REF!=\"\",\"\",IF(入力シート!#REF!=\"\",TEXT(入力シート!#REF!,\"00\"),入力シート!#REF!))","v":{"$error":"#REF!"}},null,null,{"$f":"IF(入力シート!#REF!=\"\",\"\",入力シート!#REF!)","v":{"$error":"#REF!"}},null,null,null,null,null,null,null,null,null,null,null,null,null,null,null,null,{"$f":"E197","v":{"$error":"#REF!"}},{"$f":"B197","v":{"$error":"#REF!"}},{"$f":"G197","v":{"$error":"#REF!"}},{"$f":"IF($AC197=\"\",\"\",入力シート!#REF!)","v":{"$error":"#REF!"}},{"$f":"IF($AC197=\"\",\"\",入力シート!#REF!)","v":{"$error":"#REF!"}},{"$f":"IF($AC197=\"\",\"\",入力シート!#REF!)","v":{"$error":"#REF!"}},{"$f":"IF($AC197=\"\",\"\",2016-AF197)","v":{"$error":"#REF!"}}]
[{"$f":"IF(入力シート!#REF!=\"\",\"\",大会コード)","v":{"$error":"#REF!"}},{"$f":"IF(入力シート!#REF!=\"\",\"\",VLOOKUP(入力シート!#REF!,大会データ!$A$5:$F$372,3,FALSE))","v":{"$error":"#REF!"}},{"$f":"IF(入力シート!#REF!=\"\",\"\",VLOOKUP(入力シート!#REF!,大会データ!$A$5:$F$372,4,FALSE))","v":{"$error":"#REF!"}},{"$f":"IF(入力シート!#REF!=\"\",\"\",VLOOKUP(入力シート!#REF!,大会データ!$A$5:$F$372,5,FALSE))","v":{"$error":"#REF!"}},{"$f":"IF(入力シート!#REF!=\"\",\"\",基礎データ!$B$6)","v":{"$error":"#REF!"}},{"$f":"IF(入力シート!#REF!=\"\",\"\",B198)","v":{"$error":"#REF!"}},{"$f":"IF(入力シート!#REF!=\"\",\"\",IF(入力シート!#REF!=\"\",TEXT(入力シート!#REF!,\"00\"),入力シート!#REF!))","v":{"$error":"#REF!"}},null,null,{"$f":"IF(入力シート!#REF!=\"\",\"\",入力シート!#REF!)","v":{"$error":"#REF!"}},null,null,null,null,null,null,null,null,null,null,null,null,null,null,null,null,{"$error":"#REF!"},{"$error":"#REF!"},{"$error":"#REF!"},{"$f":"IF($AC198=\"\",\"\",入力シート!#REF!)","v":{"$error":"#REF!"}},{"$f":"IF($AC198=\"\",\"\",入力シート!#REF!)","v":{"$error":"#REF!"}},{"$f":"IF($AC198=\"\",\"\",入力シート!#REF!)","v":{"$error":"#REF!"}},{"$error":"#REF!"}]
[{"$f":"IF(入力シート!#REF!=\"\",\"\",大会コード)","v":{"$error":"#REF!"}},{"$f":"IF(入力シート!#REF!=\"\",\"\",VLOOKUP(入力シート!#REF!,大会データ!$A$5:$F$372,3,FALSE))","v":{"$error":"#REF!"}},{"$f":"IF(入力シート!#REF!=\"\",\"\",VLOOKUP(入力シート!#REF!,大会データ!$A$5:$F$372,4,FALSE))","v":{"$error":"#REF!"}},{"$f":"IF(入力シート!#REF!=\"\",\"\",VLOOKUP(入力シート!#REF!,大会データ!$A$5:$F$372,5,FALSE))","v":{"$error":"#REF!"}},{"$f":"IF(入力シート!#REF!=\"\",\"\",基礎データ!$B$6)","v":{"$error":"#REF!"}},{"$f":"IF(入力シート!#REF!=\"\",\"\",B199)","v":{"$error":"#REF!"}},{"$f":"IF(入力シート!#REF!=\"\",\"\",IF(入力シート!#REF!=\"\",TEXT(入力シート!#REF!,\"00\"),入力シート!#REF!))","v":{"$error":"#REF!"}},null,null,{"$f":"IF(入力シート!#REF!=\"\",\"\",入力シート!#REF!)","v":{"$error":"#REF!"}},null,null,null,null,null,null,null,null,null,null,null,null,null,null,null,null,{"$error":"#REF!"},{"$error":"#REF!"},{"$error":"#REF!"},{"$f":"IF($AC199=\"\",\"\",入力シート!#REF!)","v":{"$error":"#REF!"}},{"$f":"IF($AC199=\"\",\"\",入力シート!#REF!)","v":{"$error":"#REF!"}},{"$f":"IF($AC199=\"\",\"\",入力シート!#REF!)","v":{"$error":"#REF!"}},{"$error":"#REF!"}]
[{"$f":"IF(入力シート!#REF!=\"\",\"\",大会コード)","v":{"$error":"#REF!"}},{"$f":"IF(入力シート!#REF!=\"\",\"\",VLOOKUP(入力シート!#REF!,大会データ!$A$5:$F$372,3,FALSE))","v":{"$error":"#REF!"}},{"$f":"IF(入力シート!#REF!=\"\",\"\",VLOOKUP(入力シート!#REF!,大会データ!$A$5:$F$372,4,FALSE))","v":{"$error":"#REF!"}},{"$f":"IF(入力シート!#REF!=\"\",\"\",VLOOKUP(入力シート!#REF!,大会データ!$A$5:$F$372,5,FALSE))","v":{"$error":"#REF!"}},{"$f":"IF(入力シート!#REF!=\"\",\"\",基礎データ!$B$6)","v":{"$error":"#REF!"}},{"$f":"IF(入力シート!#REF!=\"\",\"\",B200)","v":{"$error":"#REF!"}},{"$f":"IF(入力シート!#REF!=\"\",\"\",IF(入力シート!#REF!=\"\",TEXT(入力シート!#REF!,\"00\"),入力シート!#REF!))","v":{"$error":"#REF!"}},null,null,{"$f":"IF(入力シート!#REF!=\"\",\"\",入力シート!#REF!)","v":{"$error":"#REF!"}},null,null,null,null,null,null,null,null,null,null,null,null,null,null,null,null,{"$error":"#REF!"},{"$error":"#REF!"},{"$error":"#REF!"},{"$f":"IF($AC200=\"\",\"\",入力シート!#REF!)","v":{"$error":"#REF!"}},{"$f":"IF($AC200=\"\",\"\",入力シート!#REF!)","v":{"$error":"#REF!"}},{"$f":"IF($AC200=\"\",\"\",入力シート!#REF!)","v":{"$error":"#REF!"}},{"$error":"#REF!"}]
[{"$f":"IF(入力シート!#REF!=\"\",\"\",大会コード)","v":{"$error":"#REF!"}},{"$f":"IF(入力シート!#REF!=\"\",\"\",VLOOKUP(入力シート!#REF!,大会データ!$A$5:$F$372,3,FALSE))","v":{"$error":"#REF!"}},{"$f":"IF(入力シート!#REF!=\"\",\"\",VLOOKUP(入力シート!#REF!,大会データ!$A$5:$F$372,4,FALSE))","v":{"$error":"#REF!"}},{"$f":"IF(入力シート!#REF!=\"\",\"\",VLOOKUP(入力シート!#REF!,大会データ!$A$5:$F$372,5,FALSE))","v":{"$error":"#REF!"}},{"$f":"IF(入力シート!#REF!=\"\",\"\",基礎データ!$B$6)","v":{"$error":"#REF!"}},{"$f":"IF(入力シート!#REF!=\"\",\"\",B201)","v":{"$error":"#REF!"}},{"$f":"IF(入力シート!#REF!=\"\",\"\",IF(入力シート!#REF!=\"\",TEXT(入力シート!#REF!,\"00\"),入力シート!#REF!))","v":{"$error":"#REF!"}},null,null,{"$f":"IF(入力シート!#REF!=\"\",\"\",入力シート!#REF!)","v":{"$error":"#REF!"}},null,null,null,null,null,null,null,null,null,null,null,null,null,null,null,null,{"$error":"#REF!"},{"$error":"#REF!"},{"$error":"#REF!"},{"$f":"IF($AC201=\"\",\"\",入力シート!#REF!)","v":{"$error":"#REF!"}},{"$f":"IF($AC201=\"\",\"\",入力シート!#REF!)","v":{"$error":"#REF!"}},{"$f":"IF($AC201=\"\",\"\",入力シート!#REF!)","v":{"$error":"#REF!"}},{"$error":"#REF!"}]
[{"$f":"IF(入力シート!#REF!=\"\",\"\",大会コード)","v":{"$error":"#REF!"}},{"$f":"IF(入力シート!#REF!=\"\",\"\",VLOOKUP(入力シート!#REF!,大会データ!$A$5:$F$372,3,FALSE))","v":{"$error":"#REF!"}},{"$f":"IF(入力シート!#REF!=\"\",\"\",VLOOKUP(入力シート!#REF!,大会データ!$A$5:$F$372,4,FALSE))","v":{"$error":"#REF!"}},{"$f":"IF(入力シート!#REF!=\"\",\"\",VLOOKUP(入力シート!#REF!,大会データ!$A$5:$F$372,5,FALSE))","v":{"$error":"#REF!"}},{"$f":"IF(入力シート!#REF!=\"\",\"\",基礎データ!$B$6)","v":{"$error":"#REF!"}},{"$f":"IF(入力シート!#REF!=\"\",\"\",B202)","v":{"$error":"#REF!"}},{"$f":"IF(入力シート!#REF!=\"\",\"\",IF(入力シート!#REF!=\"\",TEXT(入力シート!#REF!,\"00\"),入力シート!#REF!))","v":{"$error":"#REF!"}},null,null,{"$f":"IF(入力シート!#REF!=\"\",\"\",入力シート!#REF!)","v":{"$error":"#REF!"}},null,null,null,null,null,null,null,null,null,null,null,null,null,null,null,null,{"$error":"#REF!"},{"$error":"#REF!"},{"$error":"#REF!"},{"$f":"IF($AC202=\"\",\"\",入力シート!#REF!)","v":{"$error":"#REF!"}},{"$f":"IF($AC202=\"\",\"\",入力シート!#REF!)","v":{"$error":"#REF!"}},{"$f":"IF($AC202=\"\",\"\",入力シート!#REF!)","v":{"$error":"#REF!"}},{"$error":"#REF!"}]
[{"$f":"IF(入力シート!#REF!=\"\",\"\",大会コード)","v":{"$error":"#REF!"}},{"$f":"IF(入力シート!#REF!=\"\",\"\",VLOOKUP(入力シート!#REF!,大会データ!$A$5:$F$372,3,FALSE))","v":{"$error":"#REF!"}},{"$f":"IF(入力シート!#REF!=\"\",\"\",VLOOKUP(入力シート!#REF!,大会データ!$A$5:$F$372,4,FALSE))","v":{"$error":"#REF!"}},{"$f":"IF(入力シート!#REF!=\"\",\"\",VLOOKUP(入力シート!#REF!,大会データ!$A$5:$F$372,5,FALSE))","v":{"$error":"#REF!"}},{"$f":"IF(入力シート!#REF!=\"\",\"\",基礎データ!$B$6)","v":{"$error":"#REF!"}},{"$f":"IF(入力シート!#REF!=\"\",\"\",B203)","v":{"$error":"#REF!"}},{"$f":"IF(入力シート!#REF!=\"\",\"\",IF(入力シート!#REF!=\"\",TEXT(入力シート!#REF!,\"00\"),入力シート!#REF!))","v":{"$error":"#REF!"}},null,null,{"$f":"IF(入力シート!#REF!=\"\",\"\",入力シート!#REF!)","v":{"$error":"#REF!"}},null,null,null,null,null,null,null,null,null,null,null,null,null,null,null,null,{"$error":"#REF!"},{"$error":"#REF!"},{"$error":"#REF!"},{"$f":"IF($AC203=\"\",\"\",入力シート!#REF!)","v":{"$error":"#REF!"}},{"$f":"IF($AC203=\"\",\"\",入力シート!#REF!)","v":{"$error":"#REF!"}},{"$f":"IF($AC203=\"\",\"\",入力シート!#REF!)","v":{"$error":"#REF!"}},{"$error":"#REF!"}]
[{"$f":"IF(入力シート!#REF!=\"\",\"\",大会コード)","v":{"$error":"#REF!"}},{"$f":"IF(入力シート!#REF!=\"\",\"\",VLOOKUP(入力シート!#REF!,大会データ!$A$5:$F$372,3,FALSE))","v":{"$error":"#REF!"}},{"$f":"IF(入力シート!#REF!=\"\",\"\",VLOOKUP(入力シート!#REF!,大会データ!$A$5:$F$372,4,FALSE))","v":{"$error":"#REF!"}},{"$f":"IF(入力シート!#REF!=\"\",\"\",VLOOKUP(入力シート!#REF!,大会データ!$A$5:$F$372,5,FALSE))","v":{"$error":"#REF!"}},{"$f":"IF(入力シート!#REF!=\"\",\"\",基礎データ!$B$6)","v":{"$error":"#REF!"}},{"$f":"IF(入力シート!#REF!=\"\",\"\",B204)","v":{"$error":"#REF!"}},{"$f":"IF(入力シート!#REF!=\"\",\"\",IF(入力シート!#REF!=\"\",TEXT(入力シート!#REF!,\"00\"),入力シート!#REF!))","v":{"$error":"#REF!"}},null,null,{"$f":"IF(入力シート!#REF!=\"\",\"\",入力シート!#REF!)","v":{"$error":"#REF!"}},null,null,null,null,null,null,null,null,null,null,null,null,null,null,null,null,{"$error":"#REF!"},{"$error":"#REF!"},{"$error":"#REF!"},{"$f":"IF($AC204=\"\",\"\",入力シート!#REF!)","v":{"$error":"#REF!"}},{"$f":"IF($AC204=\"\",\"\",入力シート!#REF!)","v":{"$error":"#REF!"}},{"$f":"IF($AC204=\"\",\"\",入力シート!#REF!)","v":{"$error":"#REF!"}},{"$error":"#REF!"}]
[{"$f":"IF(入力シート!#REF!=\"\",\"\",大会コード)","v":{"$error":"#REF!"}},{"$f":"IF(入力シート!#REF!=\"\",\"\",VLOOKUP(入力シート!#REF!,大会データ!$A$5:$F$372,3,FALSE))","v":{"$error":"#REF!"}},{"$f":"IF(入力シート!#REF!=\"\",\"\",VLOOKUP(入力シート!#REF!,大会データ!$A$5:$F$372,4,FALSE))","v":{"$error":"#REF!"}},{"$f":"IF(入力シート!#REF!=\"\",\"\",VLOOKUP(入力シート!#REF!,大会データ!$A$5:$F$372,5,FALSE))","v":{"$error":"#REF!"}},{"$f":"IF(入力シート!#REF!=\"\",\"\",基礎データ!$B$6)","v":{"$error":"#REF!"}},{"$f":"IF(入力シート!#REF!=\"\",\"\",B205)","v":{"$error":"#REF!"}},{"$f":"IF(入力シート!#REF!=\"\",\"\",IF(入力シート!#REF!=\"\",TEXT(入力シート!#REF!,\"00\"),入力シート!#REF!))","v":{"$error":"#REF!"}},null,null,{"$f":"IF(入力シート!#REF!=\"\",\"\",入力シート!#REF!)","v":{"$error":"#REF!"}},null,null,null,null,null,null,null,null,null,null,null,null,null,null,null,null,{"$error":"#REF!"},{"$error":"#REF!"},{"$error":"#REF!"},{"$f":"IF($AC205=\"\",\"\",入力シート!#REF!)","v":{"$error":"#REF!"}},{"$f":"IF($AC205=\"\",\"\",入力シート!#REF!)","v":{"$error":"#REF!"}},{"$f":"IF($AC205=\"\",\"\",入力シート!#REF!)","v":{"$error":"#REF!"}},{"$error":"#REF!"}]
[{"$f":"IF(入力シート!#REF!=\"\",\"\",大会コード)","v":{"$error":"#REF!"}},{"$f":"IF(入力シート!#REF!=\"\",\"\",VLOOKUP(入力シート!#REF!,大会データ!$A$5:$F$372,3,FALSE))","v":{"$error":"#REF!"}},{"$f":"IF(入力シート!#REF!=\"\",\"\",VLOOKUP(入力シート!#REF!,大会データ!$A$5:$F$372,4,FALSE))","v":{"$error":"#REF!"}},{"$f":"IF(入力シート!#REF!=\"\",\"\",VLOOKUP(入力シート!#REF!,大会データ!$A$5:$F$372,5,FALSE))","v":{"$error":"#REF!"}},{"$f":"IF(入力シート!#REF!=\"\",\"\",基礎データ!$B$6)","v":{"$error":"#REF!"}},{"$f":"IF(入力シート!#REF!=\"\",\"\",B206)","v":{"$error":"#REF!"}},{"$f":"IF(入力シート!#REF!=\"\",\"\",IF(入力シート!#REF!=\"\",TEXT(入力シート!#REF!,\"00\"),入力シート!#REF!))","v":{"$error":"#REF!"}},null,null,{"$f":"IF(入力シート!#REF!=\"\",\"\",入力シート!#REF!)","v":{"$error":"#REF!"}},null,null,null,null,null,null,null,null,null,null,null,null,null,null,null,null,{"$error":"#REF!"},{"$error":"#REF!"},{"$error":"#REF!"},{"$f":"IF($AC206=\"\",\"\",入力シート!#REF!)","v":{"$error":"#REF!"}},{"$f":"IF($AC206=\"\",\"\",入力シート!#REF!)","v":{"$error":"#REF!"}},{"$f":"IF($AC206=\"\",\"\",入力シート!#REF!)","v":{"$error":"#REF!"}},{"$error":"#REF!"}]
[{"$f":"IF(入力シート!#REF!=\"\",\"\",大会コード)","v":{"$error":"#REF!"}},{"$f":"IF(入力シート!#REF!=\"\",\"\",VLOOKUP(入力シート!#REF!,大会データ!$A$5:$F$372,3,FALSE))","v":{"$error":"#REF!"}},{"$f":"IF(入力シート!#REF!=\"\",\"\",VLOOKUP(入力シート!#REF!,大会データ!$A$5:$F$372,4,FALSE))","v":{"$error":"#REF!"}},{"$f":"IF(入力シート!#REF!=\"\",\"\",VLOOKUP(入力シート!#REF!,大会データ!$A$5:$F$372,5,FALSE))","v":{"$error":"#REF!"}},{"$f":"IF(入力シート!#REF!=\"\",\"\",基礎データ!$B$6)","v":{"$error":"#REF!"}},{"$f":"IF(入力シート!#REF!=\"\",\"\",B207)","v":{"$error":"#REF!"}},{"$f":"IF(入力シート!#REF!=\"\",\"\",IF(入力シート!#REF!=\"\",TEXT(入力シート!#REF!,\"00\"),入力シート!#REF!))","v":{"$error":"#REF!"}},null,null,{"$f":"IF(入力シート!#REF!=\"\",\"\",入力シート!#REF!)","v":{"$error":"#REF!"}},null,null,null,null,null,null,null,null,null,null,null,null,null,null,null,null,{"$error":"#REF!"},{"$error":"#REF!"},{"$error":"#REF!"},{"$f":"IF($AC207=\"\",\"\",入力シート!#REF!)","v":{"$error":"#REF!"}},{"$f":"IF($AC207=\"\",\"\",入力シート!#REF!)","v":{"$error":"#REF!"}},{"$f":"IF($AC207=\"\",\"\",入力シート!#REF!)","v":{"$error":"#REF!"}},{"$error":"#REF!"}]
[{"$f":"IF(入力シート!#REF!=\"\",\"\",大会コード)","v":{"$error":"#REF!"}},{"$f":"IF(入力シート!#REF!=\"\",\"\",VLOOKUP(入力シート!#REF!,大会データ!$A$5:$F$372,3,FALSE))","v":{"$error":"#REF!"}},{"$f":"IF(入力シート!#REF!=\"\",\"\",VLOOKUP(入力シート!#REF!,大会データ!$A$5:$F$372,4,FALSE))","v":{"$error":"#REF!"}},{"$f":"IF(入力シート!#REF!=\"\",\"\",VLOOKUP(入力シート!#REF!,大会データ!$A$5:$F$372,5,FALSE))","v":{"$error":"#REF!"}},{"$f":"IF(入力シート!#REF!=\"\",\"\",基礎データ!$B$6)","v":{"$error":"#REF!"}},{"$f":"IF(入力シート!#REF!=\"\",\"\",B208)","v":{"$error":"#REF!"}},{"$f":"IF(入力シート!#REF!=\"\",\"\",IF(入力シート!#REF!=\"\",TEXT(入力シート!#REF!,\"00\"),入力シート!#REF!))","v":{"$error":"#REF!"}},null,null,{"$f":"IF(入力シート!#REF!=\"\",\"\",入力シート!#REF!)","v":{"$error":"#REF!"}},null,null,null,null,null,null,null,null,null,null,null,null,null,null,null,null,{"$error":"#REF!"},{"$error":"#REF!"},{"$error":"#REF!"},{"$f":"IF($AC208=\"\",\"\",入力シート!#REF!)","v":{"$error":"#REF!"}},{"$f":"IF($AC208=\"\",\"\",入力シート!#REF!)","v":{"$error":"#REF!"}},{"$f":"IF($AC208=\"\",\"\",入力シート!#REF!)","v":{"$error":"#REF!"}},{"$error":"#REF!"}]
[{"$f":"IF(入力シート!#REF!=\"\",\"\",大会コード)","v":{"$error":"#REF!"}},{"$f":"IF(入力シート!#REF!=\"\",\"\",VLOOKUP(入力シート!#REF!,大会データ!$A$5:$F$372,3,FALSE))","v":{"$error":"#REF!"}},{"$f":"IF(入力シート!#REF!=\"\",\"\",VLOOKUP(入力シート!#REF!,大会データ!$A$5:$F$372,4,FALSE))","v":{"$error":"#REF!"}},{"$f":"IF(入力シート!#REF!=\"\",\"\",VLOOKUP(入力シート!#REF!,大会データ!$A$5:$F$372,5,FALSE))","v":{"$error":"#REF!"}},{"$f":"IF(入力シート!#REF!=\"\",\"\",基礎データ!$B$6)","v":{"$error":"#REF!"}},{"$f":"IF(入力シート!#REF!=\"\",\"\",B209)","v":{"$error":"#REF!"}},{"$f":"IF(入力シート!#REF!=\"\",\"\",IF(入力シート!#REF!=\"\",TEXT(入力シート!#REF!,\"00\"),入力シート!#REF!))","v":{"$error":"#REF!"}},null,null,{"$f":"IF(入力シート!#REF!=\"\",\"\",入力シート!#REF!)","v":{"$error":"#REF!"}},null,null,null,null,null,null,null,null,null,null,null,null,null,null,null,null,{"$error":"#REF!"},{"$error":"#REF!"},{"$error":"#REF!"},{"$f":"IF($AC209=\"\",\"\",入力シート!#REF!)","v":{"$error":"#REF!"}},{"$f":"IF($AC209=\"\",\"\",入力シート!#REF!)","v":{"$error":"#REF!"}},{"$f":"IF($AC209=\"\",\"\",入力シート!#REF!)","v":{"$error":"#REF!"}},{"$error":"#REF!"}]
[{"$f":"IF(入力シート!#REF!=\"\",\"\",大会コード)","v":{"$error":"#REF!"}},{"$f":"IF(入力シート!#REF!=\"\",\"\",VLOOKUP(入力シート!#REF!,大会データ!$A$5:$F$372,3,FALSE))","v":{"$error":"#REF!"}},{"$f":"IF(入力シート!#REF!=\"\",\"\",VLOOKUP(入力シート!#REF!,大会データ!$A$5:$F$372,4,FALSE))","v":{"$error":"#REF!"}},{"$f":"IF(入力シート!#REF!=\"\",\"\",VLOOKUP(入力シート!#REF!,大会データ!$A$5:$F$372,5,FALSE))","v":{"$error":"#REF!"}},{"$f":"IF(入力シート!#REF!=\"\",\"\",基礎データ!$B$6)","v":{"$error":"#REF!"}},{"$f":"IF(入力シート!#REF!=\"\",\"\",B210)","v":{"$error":"#REF!"}},{"$f":"IF(入力シート!#REF!=\"\",\"\",IF(入力シート!#REF!=\"\",TEXT(入力シート!#REF!,\"00\"),入力シート!#REF!))","v":{"$error":"#REF!"}},null,null,{"$f":"IF(入力シート!#REF!=\"\",\"\",入力シート!#REF!)","v":{"$error":"#REF!"}},null,null,null,null,null,null,null,null,null,null,null,null,null,null,null,null,{"$error":"#REF!"},{"$error":"#REF!"},{"$error":"#REF!"},{"$f":"IF($AC210=\"\",\"\",入力シート!#REF!)","v":{"$error":"#REF!"}},{"$f":"IF($AC210=\"\",\"\",入力シート!#REF!)","v":{"$error":"#REF!"}},{"$f":"IF($AC210=\"\",\"\",入力シート!#REF!)","v":{"$error":"#REF!"}},{"$error":"#REF!"}]
[{"$f":"IF(入力シート!#REF!=\"\",\"\",大会コード)","v":{"$error":"#REF!"}},{"$f":"IF(入力シート!#REF!=\"\",\"\",VLOOKUP(入力シート!#REF!,大会データ!$A$5:$F$372,3,FALSE))","v":{"$error":"#REF!"}},{"$f":"IF(入力シート!#REF!=\"\",\"\",VLOOKUP(入力シート!#REF!,大会データ!$A$5:$F$372,4,FALSE))","v":{"$error":"#REF!"}},{"$f":"IF(入力シート!#REF!=\"\",\"\",VLOOKUP(入力シート!#REF!,大会データ!$A$5:$F$372,5,FALSE))","v":{"$error":"#REF!"}},{"$f":"IF(入力シート!#REF!=\"\",\"\",基礎データ!$B$6)","v":{"$error":"#REF!"}},{"$f":"IF(入力シート!#REF!=\"\",\"\",B211)","v":{"$error":"#REF!"}},{"$f":"IF(入力シート!#REF!=\"\",\"\",IF(入力シート!#REF!=\"\",TEXT(入力シート!#REF!,\"00\"),入力シート!#REF!))","v":{"$error":"#REF!"}},null,null,{"$f":"IF(入力シート!#REF!=\"\",\"\",入力シート!#REF!)","v":{"$error":"#REF!"}},null,null,null,null,null,null,null,null,null,null,null,null,null,null,null,null,{"$error":"#REF!"},{"$error":"#REF!"},{"$error":"#REF!"},{"$f":"IF($AC211=\"\",\"\",入力シート!#REF!)","v":{"$error":"#REF!"}},{"$f":"IF($AC211=\"\",\"\",入力シート!#REF!)","v":{"$error":"#REF!"}},{"$f":"IF($AC211=\"\",\"\",入力シート!#REF!)","v":{"$error":"#REF!"}},{"$error":"#REF!"}]
[{"$f":"IF(入力シート!#REF!=\"\",\"\",大会コード)","v":{"$error":"#REF!"}},{"$f":"IF(入力シート!#REF!=\"\",\"\",VLOOKUP(入力シート!#REF!,大会データ!$A$5:$F$372,3,FALSE))","v":{"$error":"#REF!"}},{"$f":"IF(入力シート!#REF!=\"\",\"\",VLOOKUP(入力シート!#REF!,大会データ!$A$5:$F$372,4,FALSE))","v":{"$error":"#REF!"}},{"$f":"IF(入力シート!#REF!=\"\",\"\",VLOOKUP(入力シート!#REF!,大会データ!$A$5:$F$372,5,FALSE))","v":{"$error":"#REF!"}},{"$f":"IF(入力シート!#REF!=\"\",\"\",基礎データ!$B$6)","v":{"$error":"#REF!"}},{"$f":"IF(入力シート!#REF!=\"\",\"\",B212)","v":{"$error":"#REF!"}},{"$f":"IF(入力シート!#REF!=\"\",\"\",IF(入力シート!#REF!=\"\",TEXT(入力シート!#REF!,\"00\"),入力シート!#REF!))","v":{"$error":"#REF!"}},null,null,{"$f":"IF(入力シート!#REF!=\"\",\"\",入力シート!#REF!)","v":{"$error":"#REF!"}},null,null,null,null,null,null,null,null,null,null,null,null,null,null,null,null,{"$error":"#REF!"},{"$error":"#REF!"},{"$error":"#REF!"},{"$f":"IF($AC212=\"\",\"\",入力シート!#REF!)","v":{"$error":"#REF!"}},{"$f":"IF($AC212=\"\",\"\",入力シート!#REF!)","v":{"$error":"#REF!"}},{"$f":"IF($AC212=\"\",\"\",入力シート!#REF!)","v":{"$error":"#REF!"}},{"$error":"#REF!"}]
[{"$f":"IF(入力シート!#REF!=\"\",\"\",大会コード)","v":{"$error":"#REF!"}},{"$f":"IF(入力シート!#REF!=\"\",\"\",VLOOKUP(入力シート!#REF!,大会データ!$A$5:$F$372,3,FALSE))","v":{"$error":"#REF!"}},{"$f":"IF(入力シート!#REF!=\"\",\"\",VLOOKUP(入力シート!#REF!,大会データ!$A$5:$F$372,4,FALSE))","v":{"$error":"#REF!"}},{"$f":"IF(入力シート!#REF!=\"\",\"\",VLOOKUP(入力シート!#REF!,大会データ!$A$5:$F$372,5,FALSE))","v":{"$error":"#REF!"}},{"$f":"IF(入力シート!#REF!=\"\",\"\",基礎データ!$B$6)","v":{"$error":"#REF!"}},{"$f":"IF(入力シート!#REF!=\"\",\"\",B213)","v":{"$error":"#REF!"}},{"$f":"IF(入力シート!#REF!=\"\",\"\",IF(入力シート!#REF!=\"\",TEXT(入力シート!#REF!,\"00\"),入力シート!#REF!))","v":{"$error":"#REF!"}},null,null,{"$f":"IF(入力シート!#REF!=\"\",\"\",入力シート!#REF!)","v":{"$error":"#REF!"}},null,null,null,null,null,null,null,null,null,null,null,null,null,null,null,null,{"$error":"#REF!"},{"$error":"#REF!"},{"$error":"#REF!"},{"$f":"IF($AC213=\"\",\"\",入力シート!#REF!)","v":{"$error":"#REF!"}},{"$f":"IF($AC213=\"\",\"\",入力シート!#REF!)","v":{"$error":"#REF!"}},{"$f":"IF($AC213=\"\",\"\",入力シート!#REF!)","v":{"$error":"#REF!"}},{"$error":"#REF!"}]
[{"$f":"IF(入力シート!#REF!=\"\",\"\",大会コード)","v":{"$error":"#REF!"}},{"$f":"IF(入力シート!#REF!=\"\",\"\",VLOOKUP(入力シート!#REF!,大会データ!$A$5:$F$372,3,FALSE))","v":{"$error":"#REF!"}},{"$f":"IF(入力シート!#REF!=\"\",\"\",VLOOKUP(入力シート!#REF!,大会データ!$A$5:$F$372,4,FALSE))","v":{"$error":"#REF!"}},{"$f":"IF(入力シート!#REF!=\"\",\"\",VLOOKUP(入力シート!#REF!,大会データ!$A$5:$F$372,5,FALSE))","v":{"$error":"#REF!"}},{"$f":"IF(入力シート!#REF!=\"\",\"\",基礎データ!$B$6)","v":{"$error":"#REF!"}},{"$f":"IF(入力シート!#REF!=\"\",\"\",B214)","v":{"$error":"#REF!"}},{"$f":"IF(入力シート!#REF!=\"\",\"\",IF(入力シート!#REF!=\"\",TEXT(入力シート!#REF!,\"00\"),入力シート!#REF!))","v":{"$error":"#REF!"}},null,null,{"$f":"IF(入力シート!#REF!=\"\",\"\",入力シート!#REF!)","v":{"$error":"#REF!"}},null,null,null,null,null,null,null,null,null,null,null,null,null,null,null,null,{"$error":"#REF!"},{"$error":"#REF!"},{"$error":"#REF!"},{"$f":"IF($AC214=\"\",\"\",入力シート!#REF!)","v":{"$error":"#REF!"}},{"$f":"IF($AC214=\"\",\"\",入力シート!#REF!)","v":{"$error":"#REF!"}},{"$f":"IF($AC214=\"\",\"\",入力シート!#REF!)","v":{"$error":"#REF!"}},{"$error":"#REF!"}]
[{"$f":"IF(入力シート!#REF!=\"\",\"\",大会コード)","v":{"$error":"#REF!"}},{"$f":"IF(入力シート!#REF!=\"\",\"\",VLOOKUP(入力シート!#REF!,大会データ!$A$5:$F$372,3,FALSE))","v":{"$error":"#REF!"}},{"$f":"IF(入力シート!#REF!=\"\",\"\",VLOOKUP(入力シート!#REF!,大会データ!$A$5:$F$372,4,FALSE))","v":{"$error":"#REF!"}},{"$f":"IF(入力シート!#REF!=\"\",\"\",VLOOKUP(入力シート!#REF!,大会データ!$A$5:$F$372,5,FALSE))","v":{"$error":"#REF!"}},{"$f":"IF(入力シート!#REF!=\"\",\"\",基礎データ!$B$6)","v":{"$error":"#REF!"}},{"$f":"IF(入力シート!#REF!=\"\",\"\",B215)","v":{"$error":"#REF!"}},{"$f":"IF(入力シート!#REF!=\"\",\"\",IF(入力シート!#REF!=\"\",TEXT(入力シート!#REF!,\"00\"),入力シート!#REF!))","v":{"$error":"#REF!"}},null,null,{"$f":"IF(入力シート!#REF!=\"\",\"\",入力シート!#REF!)","v":{"$error":"#REF!"}},null,null,null,null,null,null,null,null,null,null,null,null,null,null,null,null,{"$error":"#REF!"},{"$error":"#REF!"},{"$error":"#REF!"},{"$f":"IF($AC215=\"\",\"\",入力シート!#REF!)","v":{"$error":"#REF!"}},{"$f":"IF($AC215=\"\",\"\",入力シート!#REF!)","v":{"$error":"#REF!"}},{"$f":"IF($AC215=\"\",\"\",入力シート!#REF!)","v":{"$error":"#REF!"}},{"$error":"#REF!"}]
[{"$f":"IF(入力シート!#REF!=\"\",\"\",大会コード)","v":{"$error":"#REF!"}},{"$f":"IF(入力シート!#REF!=\"\",\"\",VLOOKUP(入力シート!#REF!,大会データ!$A$5:$F$372,3,FALSE))","v":{"$error":"#REF!"}},{"$f":"IF(入力シート!#REF!=\"\",\"\",VLOOKUP(入力シート!#REF!,大会データ!$A$5:$F$372,4,FALSE))","v":{"$error":"#REF!"}},{"$f":"IF(入力シート!#REF!=\"\",\"\",VLOOKUP(入力シート!#REF!,大会データ!$A$5:$F$372,5,FALSE))","v":{"$error":"#REF!"}},{"$f":"IF(入力シート!#REF!=\"\",\"\",基礎データ!$B$6)","v":{"$error":"#REF!"}},{"$f":"IF(入力シート!#REF!=\"\",\"\",B216)","v":{"$error":"#REF!"}},{"$f":"IF(入力シート!#REF!=\"\",\"\",IF(入力シート!#REF!=\"\",TEXT(入力シート!#REF!,\"00\"),入力シート!#REF!))","v":{"$error":"#REF!"}},null,null,{"$f":"IF(入力シート!#REF!=\"\",\"\",入力シート!#REF!)","v":{"$error":"#REF!"}},null,null,null,null,null,null,null,null,null,null,null,null,null,null,null,null,{"$error":"#REF!"},{"$error":"#REF!"},{"$error":"#REF!"},{"$f":"IF($AC216=\"\",\"\",入力シート!#REF!)","v":{"$error":"#REF!"}},{"$f":"IF($AC216=\"\",\"\",入力シート!#REF!)","v":{"$error":"#REF!"}},{"$f":"IF($AC216=\"\",\"\",入力シート!#REF!)","v":{"$error":"#REF!"}},{"$error":"#REF!"}]
[{"$f":"IF(入力シート!#REF!=\"\",\"\",大会コード)","v":{"$error":"#REF!"}},{"$f":"IF(入力シート!#REF!=\"\",\"\",VLOOKUP(入力シート!#REF!,大会データ!$A$5:$F$372,3,FALSE))","v":{"$error":"#REF!"}},{"$f":"IF(入力シート!#REF!=\"\",\"\",VLOOKUP(入力シート!#REF!,大会データ!$A$5:$F$372,4,FALSE))","v":{"$error":"#REF!"}},{"$f":"IF(入力シート!#REF!=\"\",\"\",VLOOKUP(入力シート!#REF!,大会データ!$A$5:$F$372,5,FALSE))","v":{"$error":"#REF!"}},{"$f":"IF(入力シート!#REF!=\"\",\"\",基礎データ!$B$6)","v":{"$error":"#REF!"}},{"$f":"IF(入力シート!#REF!=\"\",\"\",B217)","v":{"$error":"#REF!"}},{"$f":"IF(入力シート!#REF!=\"\",\"\",IF(入力シート!#REF!=\"\",TEXT(入力シート!#REF!,\"00\"),入力シート!#REF!))","v":{"$error":"#REF!"}},null,null,{"$f":"IF(入力シート!#REF!=\"\",\"\",入力シート!#REF!)","v":{"$error":"#REF!"}},null,null,null,null,null,null,null,null,null,null,null,null,null,null,null,null,{"$error":"#REF!"},{"$error":"#REF!"},{"$error":"#REF!"},{"$f":"IF($AC217=\"\",\"\",入力シート!#REF!)","v":{"$error":"#REF!"}},{"$f":"IF($AC217=\"\",\"\",入力シート!#REF!)","v":{"$error":"#REF!"}},{"$f":"IF($AC217=\"\",\"\",入力シート!#REF!)","v":{"$error":"#REF!"}},{"$error":"#REF!"}]
[{"$f":"IF(入力シート!#REF!=\"\",\"\",大会コード)","v":{"$error":"#REF!"}},{"$f":"IF(入力シート!#REF!=\"\",\"\",VLOOKUP(入力シート!#REF!,大会データ!$A$5:$F$372,3,FALSE))","v":{"$error":"#REF!"}},{"$f":"IF(入力シート!#REF!=\"\",\"\",VLOOKUP(入力シート!#REF!,大会データ!$A$5:$F$372,4,FALSE))","v":{"$error":"#REF!"}},{"$f":"IF(入力シート!#REF!=\"\",\"\",VLOOKUP(入力シート!#REF!,大会データ!$A$5:$F$372,5,FALSE))","v":{"$error":"#REF!"}},{"$f":"IF(入力シート!#REF!=\"\",\"\",基礎データ!$B$6)","v":{"$error":"#REF!"}},{"$f":"IF(入力シート!#REF!=\"\",\"\",B218)","v":{"$error":"#REF!"}},{"$f":"IF(入力シート!#REF!=\"\",\"\",IF(入力シート!#REF!=\"\",TEXT(入力シート!#REF!,\"00\"),入力シート!#REF!))","v":{"$error":"#REF!"}},null,null,{"$f":"IF(入力シート!#REF!=\"\",\"\",入力シート!#REF!)","v":{"$error":"#REF!"}},null,null,null,null,null,null,null,null,null,null,null,null,null,null,null,null,{"$error":"#REF!"},{"$error":"#REF!"},{"$error":"#REF!"},{"$f":"IF($AC218=\"\",\"\",入力シート!#REF!)","v":{"$error":"#REF!"}},{"$f":"IF($AC218=\"\",\"\",入力シート!#REF!)","v":{"$error":"#REF!"}},{"$f":"IF($AC218=\"\",\"\",入力シート!#REF!)","v":{"$error":"#REF!"}},{"$error":"#REF!"}]
[{"$f":"IF(入力シート!#REF!=\"\",\"\",大会コード)","v":{"$error":"#REF!"}},{"$f":"IF(入力シート!#REF!=\"\",\"\",VLOOKUP(入力シート!#REF!,大会データ!$A$5:$F$372,3,FALSE))","v":{"$error":"#REF!"}},{"$f":"IF(入力シート!#REF!=\"\",\"\",VLOOKUP(入力シート!#REF!,大会データ!$A$5:$F$372,4,FALSE))","v":{"$error":"#REF!"}},{"$f":"IF(入力シート!#REF!=\"\",\"\",VLOOKUP(入力シート!#REF!,大会データ!$A$5:$F$372,5,FALSE))","v":{"$error":"#REF!"}},{"$f":"IF(入力シート!#REF!=\"\",\"\",基礎データ!$B$6)","v":{"$error":"#REF!"}},{"$f":"IF(入力シート!#REF!=\"\",\"\",B219)","v":{"$error":"#REF!"}},{"$f":"IF(入力シート!#REF!=\"\",\"\",IF(入力シート!#REF!=\"\",TEXT(入力シート!#REF!,\"00\"),入力シート!#REF!))","v":{"$error":"#REF!"}},null,null,{"$f":"IF(入力シート!#REF!=\"\",\"\",入力シート!#REF!)","v":{"$error":"#REF!"}},null,null,null,null,null,null,null,null,null,null,null,null,null,null,null,null,{"$error":"#REF!"},{"$error":"#REF!"},{"$error":"#REF!"},{"$f":"IF($AC219=\"\",\"\",入力シート!#REF!)","v":{"$error":"#REF!"}},{"$f":"IF($AC219=\"\",\"\",入力シート!#REF!)","v":{"$error":"#REF!"}},{"$f":"IF($AC219=\"\",\"\",入力シート!#REF!)","v":{"$error":"#REF!"}},{"$error":"#REF!"}]
[{"$f":"IF(入力シート!#REF!=\"\",\"\",大会コード)","v":{"$error":"#REF!"}},{"$f":"IF(入力シート!#REF!=\"\",\"\",VLOOKUP(入力シート!#REF!,大会データ!$A$5:$F$372,3,FALSE))","v":{"$error":"#REF!"}},{"$f":"IF(入力シート!#REF!=\"\",\"\",VLOOKUP(入力シート!#REF!,大会データ!$A$5:$F$372,4,FALSE))","v":{"$error":"#REF!"}},{"$f":"IF(入力シート!#REF!=\"\",\"\",VLOOKUP(入力シート!#REF!,大会データ!$A$5:$F$372,5,FALSE))","v":{"$error":"#REF!"}},{"$f":"IF(入力シート!#REF!=\"\",\"\",基礎データ!$B$6)","v":{"$error":"#REF!"}},{"$f":"IF(入力シート!#REF!=\"\",\"\",B220)","v":{"$error":"#REF!"}},{"$f":"IF(入力シート!#REF!=\"\",\"\",IF(入力シート!#REF!=\"\",TEXT(入力シート!#REF!,\"00\"),入力シート!#REF!))","v":{"$error":"#REF!"}},null,null,{"$f":"IF(入力シート!#REF!=\"\",\"\",入力シート!#REF!)","v":{"$error":"#REF!"}},null,null,null,null,null,null,null,null,null,null,null,null,null,null,null,null,{"$error":"#REF!"},{"$error":"#REF!"},{"$error":"#REF!"},{"$f":"IF($AC220=\"\",\"\",入力シート!#REF!)","v":{"$error":"#REF!"}},{"$f":"IF($AC220=\"\",\"\",入力シート!#REF!)","v":{"$error":"#REF!"}},{"$f":"IF($AC220=\"\",\"\",入力シート!#REF!)","v":{"$error":"#REF!"}},{"$error":"#REF!"}]
[{"$f":"IF(入力シート!#REF!=\"\",\"\",大会コード)","v":{"$error":"#REF!"}},{"$f":"IF(入力シート!#REF!=\"\",\"\",VLOOKUP(入力シート!#REF!,大会データ!$A$5:$F$372,3,FALSE))","v":{"$error":"#REF!"}},{"$f":"IF(入力シート!#REF!=\"\",\"\",VLOOKUP(入力シート!#REF!,大会データ!$A$5:$F$372,4,FALSE))","v":{"$error":"#REF!"}},{"$f":"IF(入力シート!#REF!=\"\",\"\",VLOOKUP(入力シート!#REF!,大会データ!$A$5:$F$372,5,FALSE))","v":{"$error":"#REF!"}},{"$f":"IF(入力シート!#REF!=\"\",\"\",基礎データ!$B$6)","v":{"$error":"#REF!"}},{"$f":"IF(入力シート!#REF!=\"\",\"\",B221)","v":{"$error":"#REF!"}},{"$f":"IF(入力シート!#REF!=\"\",\"\",IF(入力シート!#REF!=\"\",TEXT(入力シート!#REF!,\"00\"),入力シート!#REF!))","v":{"$error":"#REF!"}},null,null,{"$f":"IF(入力シート!#REF!=\"\",\"\",入力シート!#REF!)","v":{"$error":"#REF!"}},null,null,null,null,null,null,null,null,null,null,null,null,null,null,null,null,{"$error":"#REF!"},{"$error":"#REF!"},{"$error":"#REF!"},{"$f":"IF($AC221=\"\",\"\",入力シート!#REF!)","v":{"$error":"#REF!"}},{"$f":"IF($AC221=\"\",\"\",入力シート!#REF!)","v":{"$error":"#REF!"}},{"$f":"IF($AC221=\"\",\"\",入力シート!#REF!)","v":{"$error":"#REF!"}},{"$error":"#REF!"}]
[{"$f":"IF(入力シート!#REF!=\"\",\"\",大会コード)","v":{"$error":"#REF!"}},{"$f":"IF(入力シート!#REF!=\"\",\"\",VLOOKUP(入力シート!#REF!,大会データ!$A$5:$F$372,3,FALSE))","v":{"$error":"#REF!"}},{"$f":"IF(入力シート!#REF!=\"\",\"\",VLOOKUP(入力シート!#REF!,大会データ!$A$5:$F$372,4,FALSE))","v":{"$error":"#REF!"}},{"$f":"IF(入力シート!#REF!=\"\",\"\",VLOOKUP(入力シート!#REF!,大会データ!$A$5:$F$372,5,FALSE))","v":{"$error":"#REF!"}},{"$f":"IF(入力シート!#REF!=\"\",\"\",基礎データ!$B$6)","v":{"$error":"#REF!"}},{"$f":"IF(入力シート!#REF!=\"\",\"\",B222)","v":{"$error":"#REF!"}},{"$f":"IF(入力シート!#REF!=\"\",\"\",IF(入力シート!#REF!=\"\",TEXT(入力シート!#REF!,\"00\"),入力シート!#REF!))","v":{"$error":"#REF!"}},null,null,{"$f":"IF(入力シート!#REF!=\"\",\"\",入力シート!#REF!)","v":{"$error":"#REF!"}},null,null,null,null,null,null,null,null,null,null,null,null,null,null,null,null,{"$error":"#REF!"},{"$error":"#REF!"},{"$error":"#REF!"},{"$f":"IF($AC222=\"\",\"\",入力シート!#REF!)","v":{"$error":"#REF!"}},{"$f":"IF($AC222=\"\",\"\",入力シート!#REF!)","v":{"$error":"#REF!"}},{"$f":"IF($AC222=\"\",\"\",入力シート!#REF!)","v":{"$error":"#REF!"}},{"$error":"#REF!"}]
[{"$f":"IF(入力シート!#REF!=\"\",\"\",大会コード)","v":{"$error":"#REF!"}},{"$f":"IF(入力シート!#REF!=\"\",\"\",VLOOKUP(入力シート!#REF!,大会データ!$A$5:$F$372,3,FALSE))","v":{"$error":"#REF!"}},{"$f":"IF(入力シート!#REF!=\"\",\"\",VLOOKUP(入力シート!#REF!,大会データ!$A$5:$F$372,4,FALSE))","v":{"$error":"#REF!"}},{"$f":"IF(入力シート!#REF!=\"\",\"\",VLOOKUP(入力シート!#REF!,大会データ!$A$5:$F$372,5,FALSE))","v":{"$error":"#REF!"}},{"$f":"IF(入力シート!#REF!=\"\",\"\",基礎データ!$B$6)","v":{"$error":"#REF!"}},{"$f":"IF(入力シート!#REF!=\"\",\"\",B223)","v":{"$error":"#REF!"}},{"$f":"IF(入力シート!#REF!=\"\",\"\",IF(入力シート!#REF!=\"\",TEXT(入力シート!#REF!,\"00\"),入力シート!#REF!))","v":{"$error":"#REF!"}},null,null,{"$f":"IF(入力シート!#REF!=\"\",\"\",入力シート!#REF!)","v":{"$error":"#REF!"}},null,null,null,null,null,null,null,null,null,null,null,null,null,null,null,null,{"$error":"#REF!"},{"$error":"#REF!"},{"$error":"#REF!"},{"$f":"IF($AC223=\"\",\"\",入力シート!#REF!)","v":{"$error":"#REF!"}},{"$f":"IF($AC223=\"\",\"\",入力シート!#REF!)","v":{"$error":"#REF!"}},{"$f":"IF($AC223=\"\",\"\",入力シート!#REF!)","v":{"$error":"#REF!"}},{"$error":"#REF!"}]
[{"$f":"IF(入力シート!#REF!=\"\",\"\",大会コード)","v":{"$error":"#REF!"}},{"$f":"IF(入力シート!#REF!=\"\",\"\",VLOOKUP(入力シート!#REF!,大会データ!$A$5:$F$372,3,FALSE))","v":{"$error":"#REF!"}},{"$f":"IF(入力シート!#REF!=\"\",\"\",VLOOKUP(入力シート!#REF!,大会データ!$A$5:$F$372,4,FALSE))","v":{"$error":"#REF!"}},{"$f":"IF(入力シート!#REF!=\"\",\"\",VLOOKUP(入力シート!#REF!,大会データ!$A$5:$F$372,5,FALSE))","v":{"$error":"#REF!"}},{"$f":"IF(入力シート!#REF!=\"\",\"\",基礎データ!$B$6)","v":{"$error":"#REF!"}},{"$f":"IF(入力シート!#REF!=\"\",\"\",B224)","v":{"$error":"#REF!"}},{"$f":"IF(入力シート!#REF!=\"\",\"\",IF(入力シート!#REF!=\"\",TEXT(入力シート!#REF!,\"00\"),入力シート!#REF!))","v":{"$error":"#REF!"}},null,null,{"$f":"IF(入力シート!#REF!=\"\",\"\",入力シート!#REF!)","v":{"$error":"#REF!"}},null,null,null,null,null,null,null,null,null,null,null,null,null,null,null,null,{"$error":"#REF!"},{"$error":"#REF!"},{"$error":"#REF!"},{"$f":"IF($AC224=\"\",\"\",入力シート!#REF!)","v":{"$error":"#REF!"}},{"$f":"IF($AC224=\"\",\"\",入力シート!#REF!)","v":{"$error":"#REF!"}},{"$f":"IF($AC224=\"\",\"\",入力シート!#REF!)","v":{"$error":"#REF!"}},{"$error":"#REF!"}]
[{"$f":"IF(入力シート!#REF!=\"\",\"\",大会コード)","v":{"$error":"#REF!"}},{"$f":"IF(入力シート!#REF!=\"\",\"\",VLOOKUP(入力シート!#REF!,大会データ!$A$5:$F$372,3,FALSE))","v":{"$error":"#REF!"}},{"$f":"IF(入力シート!#REF!=\"\",\"\",VLOOKUP(入力シート!#REF!,大会データ!$A$5:$F$372,4,FALSE))","v":{"$error":"#REF!"}},{"$f":"IF(入力シート!#REF!=\"\",\"\",VLOOKUP(入力シート!#REF!,大会データ!$A$5:$F$372,5,FALSE))","v":{"$error":"#REF!"}},{"$f":"IF(入力シート!#REF!=\"\",\"\",基礎データ!$B$6)","v":{"$error":"#REF!"}},{"$f":"IF(入力シート!#REF!=\"\",\"\",B225)","v":{"$error":"#REF!"}},{"$f":"IF(入力シート!#REF!=\"\",\"\",IF(入力シート!#REF!=\"\",TEXT(入力シート!#REF!,\"00\"),入力シート!#REF!))","v":{"$error":"#REF!"}},null,null,{"$f":"IF(入力シート!#REF!=\"\",\"\",入力シート!#REF!)","v":{"$error":"#REF!"}},null,null,null,null,null,null,null,null,null,null,null,null,null,null,null,null,{"$error":"#REF!"},{"$error":"#REF!"},{"$error":"#REF!"},{"$f":"IF($AC225=\"\",\"\",入力シート!#REF!)","v":{"$error":"#REF!"}},{"$f":"IF($AC225=\"\",\"\",入力シート!#REF!)","v":{"$error":"#REF!"}},{"$f":"IF($AC225=\"\",\"\",入力シート!#REF!)","v":{"$error":"#REF!"}},{"$error":"#REF!"}]
[{"$f":"IF(入力シート!#REF!=\"\",\"\",大会コード)","v":{"$error":"#REF!"}},{"$f":"IF(入力シート!#REF!=\"\",\"\",VLOOKUP(入力シート!#REF!,大会データ!$A$5:$F$372,3,FALSE))","v":{"$error":"#REF!"}},{"$f":"IF(入力シート!#REF!=\"\",\"\",VLOOKUP(入力シート!#REF!,大会データ!$A$5:$F$372,4,FALSE))","v":{"$error":"#REF!"}},{"$f":"IF(入力シート!#REF!=\"\",\"\",VLOOKUP(入力シート!#REF!,大会データ!$A$5:$F$372,5,FALSE))","v":{"$error":"#REF!"}},{"$f":"IF(入力シート!#REF!=\"\",\"\",基礎データ!$B$6)","v":{"$error":"#REF!"}},{"$f":"IF(入力シート!#REF!=\"\",\"\",B226)","v":{"$error":"#REF!"}},{"$f":"IF(入力シート!#REF!=\"\",\"\",IF(入力シート!#REF!=\"\",TEXT(入力シート!#REF!,\"00\"),入力シート!#REF!))","v":{"$error":"#REF!"}},null,null,{"$f":"IF(入力シート!#REF!=\"\",\"\",入力シート!#REF!)","v":{"$error":"#REF!"}},null,null,null,null,null,null,null,null,null,null,null,null,null,null,null,null,{"$error":"#REF!"},{"$error":"#REF!"},{"$error":"#REF!"},{"$f":"IF($AC226=\"\",\"\",入力シート!#REF!)","v":{"$error":"#REF!"}},{"$f":"IF($AC226=\"\",\"\",入力シート!#REF!)","v":{"$error":"#REF!"}},{"$f":"IF($AC226=\"\",\"\",入力シート!#REF!)","v":{"$error":"#REF!"}},{"$error":"#REF!"}]
[{"$f":"IF(入力シート!#REF!=\"\",\"\",大会コード)","v":{"$error":"#REF!"}},{"$f":"IF(入力シート!#REF!=\"\",\"\",VLOOKUP(入力シート!#REF!,大会データ!$A$5:$F$372,3,FALSE))","v":{"$error":"#REF!"}},{"$f":"IF(入力シート!#REF!=\"\",\"\",VLOOKUP(入力シート!#REF!,大会データ!$A$5:$F$372,4,FALSE))","v":{"$error":"#REF!"}},{"$f":"IF(入力シート!#REF!=\"\",\"\",VLOOKUP(入力シート!#REF!,大会データ!$A$5:$F$372,5,FALSE))","v":{"$error":"#REF!"}},{"$f":"IF(入力シート!#REF!=\"\",\"\",基礎データ!$B$6)","v":{"$error":"#REF!"}},{"$f":"IF(入力シート!#REF!=\"\",\"\",B227)","v":{"$error":"#REF!"}},{"$f":"IF(入力シート!#REF!=\"\",\"\",IF(入力シート!#REF!=\"\",TEXT(入力シート!#REF!,\"00\"),入力シート!#REF!))","v":{"$error":"#REF!"}},null,null,{"$f":"IF(入力シート!#REF!=\"\",\"\",入力シート!#REF!)","v":{"$error":"#REF!"}},null,null,null,null,null,null,null,null,null,null,null,null,null,null,null,null,{"$error":"#REF!"},{"$error":"#REF!"},{"$error":"#REF!"},{"$f":"IF($AC227=\"\",\"\",入力シート!#REF!)","v":{"$error":"#REF!"}},{"$f":"IF($AC227=\"\",\"\",入力シート!#REF!)","v":{"$error":"#REF!"}},{"$f":"IF($AC227=\"\",\"\",入力シート!#REF!)","v":{"$error":"#REF!"}},{"$error":"#REF!"}]
[{"$f":"IF(入力シート!#REF!=\"\",\"\",大会コード)","v":{"$error":"#REF!"}},{"$f":"IF(入力シート!#REF!=\"\",\"\",VLOOKUP(入力シート!#REF!,大会データ!$A$5:$F$372,3,FALSE))","v":{"$error":"#REF!"}},{"$f":"IF(入力シート!#REF!=\"\",\"\",VLOOKUP(入力シート!#REF!,大会データ!$A$5:$F$372,4,FALSE))","v":{"$error":"#REF!"}},{"$f":"IF(入力シート!#REF!=\"\",\"\",VLOOKUP(入力シート!#REF!,大会データ!$A$5:$F$372,5,FALSE))","v":{"$error":"#REF!"}},{"$f":"IF(入力シート!#REF!=\"\",\"\",基礎データ!$B$6)","v":{"$error":"#REF!"}},{"$f":"IF(入力シート!#REF!=\"\",\"\",B228)","v":{"$error":"#REF!"}},{"$f":"IF(入力シート!#REF!=\"\",\"\",IF(入力シート!#REF!=\"\",TEXT(入力シート!#REF!,\"00\"),入力シート!#REF!))","v":{"$error":"#REF!"}},null,null,{"$f":"IF(入力シート!#REF!=\"\",\"\",入力シート!#REF!)","v":{"$error":"#REF!"}},null,null,null,null,null,null,null,null,null,null,null,null,null,null,null,null,{"$error":"#REF!"},{"$error":"#REF!"},{"$error":"#REF!"},{"$f":"IF($AC228=\"\",\"\",入力シート!#REF!)","v":{"$error":"#REF!"}},{"$f":"IF($AC228=\"\",\"\",入力シート!#REF!)","v":{"$error":"#REF!"}},{"$f":"IF($AC228=\"\",\"\",入力シート!#REF!)","v":{"$error":"#REF!"}},{"$error":"#REF!"}]
[{"$f":"IF(入力シート!#REF!=\"\",\"\",大会コード)","v":{"$error":"#REF!"}},{"$f":"IF(入力シート!#REF!=\"\",\"\",VLOOKUP(入力シート!#REF!,大会データ!$A$5:$F$372,3,FALSE))","v":{"$error":"#REF!"}},{"$f":"IF(入力シート!#REF!=\"\",\"\",VLOOKUP(入力シート!#REF!,大会データ!$A$5:$F$372,4,FALSE))","v":{"$error":"#REF!"}},{"$f":"IF(入力シート!#REF!=\"\",\"\",VLOOKUP(入力シート!#REF!,大会データ!$A$5:$F$372,5,FALSE))","v":{"$error":"#REF!"}},{"$f":"IF(入力シート!#REF!=\"\",\"\",基礎データ!$B$6)","v":{"$error":"#REF!"}},{"$f":"IF(入力シート!#REF!=\"\",\"\",B229)","v":{"$error":"#REF!"}},{"$f":"IF(入力シート!#REF!=\"\",\"\",IF(入力シート!#REF!=\"\",TEXT(入力シート!#REF!,\"00\"),入力シート!#REF!))","v":{"$error":"#REF!"}},null,null,{"$f":"IF(入力シート!#REF!=\"\",\"\",入力シート!#REF!)","v":{"$error":"#REF!"}},null,null,null,null,null,null,null,null,null,null,null,null,null,null,null,null,{"$error":"#REF!"},{"$error":"#REF!"},{"$error":"#REF!"},{"$f":"IF($AC229=\"\",\"\",入力シート!#REF!)","v":{"$error":"#REF!"}},{"$f":"IF($AC229=\"\",\"\",入力シート!#REF!)","v":{"$error":"#REF!"}},{"$f":"IF($AC229=\"\",\"\",入力シート!#REF!)","v":{"$error":"#REF!"}},{"$error":"#REF!"}]
[{"$f":"IF(入力シート!#REF!=\"\",\"\",大会コード)","v":{"$error":"#REF!"}},{"$f":"IF(入力シート!#REF!=\"\",\"\",VLOOKUP(入力シート!#REF!,大会データ!$A$5:$F$372,3,FALSE))","v":{"$error":"#REF!"}},{"$f":"IF(入力シート!#REF!=\"\",\"\",VLOOKUP(入力シート!#REF!,大会データ!$A$5:$F$372,4,FALSE))","v":{"$error":"#REF!"}},{"$f":"IF(入力シート!#REF!=\"\",\"\",VLOOKUP(入力シート!#REF!,大会データ!$A$5:$F$372,5,FALSE))","v":{"$error":"#REF!"}},{"$f":"IF(入力シート!#REF!=\"\",\"\",基礎データ!$B$6)","v":{"$error":"#REF!"}},{"$f":"IF(入力シート!#REF!=\"\",\"\",B230)","v":{"$error":"#REF!"}},{"$f":"IF(入力シート!#REF!=\"\",\"\",IF(入力シート!#REF!=\"\",TEXT(入力シート!#REF!,\"00\"),入力シート!#REF!))","v":{"$error":"#REF!"}},null,null,{"$f":"IF(入力シート!#REF!=\"\",\"\",入力シート!#REF!)","v":{"$error":"#REF!"}},null,null,null,null,null,null,null,null,null,null,null,null,null,null,null,null,{"$error":"#REF!"},{"$error":"#REF!"},{"$error":"#REF!"},{"$f":"IF($AC230=\"\",\"\",入力シート!#REF!)","v":{"$error":"#REF!"}},{"$f":"IF($AC230=\"\",\"\",入力シート!#REF!)","v":{"$error":"#REF!"}},{"$f":"IF($AC230=\"\",\"\",入力シート!#REF!)","v":{"$error":"#REF!"}},{"$error":"#REF!"}]
[{"$f":"IF(入力シート!#REF!=\"\",\"\",大会コード)","v":{"$error":"#REF!"}},{"$f":"IF(入力シート!#REF!=\"\",\"\",VLOOKUP(入力シート!#REF!,大会データ!$A$5:$F$372,3,FALSE))","v":{"$error":"#REF!"}},{"$f":"IF(入力シート!#REF!=\"\",\"\",VLOOKUP(入力シート!#REF!,大会データ!$A$5:$F$372,4,FALSE))","v":{"$error":"#REF!"}},{"$f":"IF(入力シート!#REF!=\"\",\"\",VLOOKUP(入力シート!#REF!,大会データ!$A$5:$F$372,5,FALSE))","v":{"$error":"#REF!"}},{"$f":"IF(入力シート!#REF!=\"\",\"\",基礎データ!$B$6)","v":{"$error":"#REF!"}},{"$f":"IF(入力シート!#REF!=\"\",\"\",B231)","v":{"$error":"#REF!"}},{"$f":"IF(入力シート!#REF!=\"\",\"\",IF(入力シート!#REF!=\"\",TEXT(入力シート!#REF!,\"00\"),入力シート!#REF!))","v":{"$error":"#REF!"}},null,null,{"$f":"IF(入力シート!#REF!=\"\",\"\",入力シート!#REF!)","v":{"$error":"#REF!"}},null,null,null,null,null,null,null,null,null,null,null,null,null,null,null,null,{"$error":"#REF!"},{"$error":"#REF!"},{"$error":"#REF!"},{"$f":"IF($AC231=\"\",\"\",入力シート!#REF!)","v":{"$error":"#REF!"}},{"$f":"IF($AC231=\"\",\"\",入力シート!#REF!)","v":{"$error":"#REF!"}},{"$f":"IF($AC231=\"\",\"\",入力シート!#REF!)","v":{"$error":"#REF!"}},{"$error":"#REF!"}]
[{"$f":"IF(入力シート!#REF!=\"\",\"\",大会コード)","v":{"$error":"#REF!"}},{"$f":"IF(入力シート!#REF!=\"\",\"\",VLOOKUP(入力シート!#REF!,大会データ!$A$5:$F$372,3,FALSE))","v":{"$error":"#REF!"}},{"$f":"IF(入力シート!#REF!=\"\",\"\",VLOOKUP(入力シート!#REF!,大会データ!$A$5:$F$372,4,FALSE))","v":{"$error":"#REF!"}},{"$f":"IF(入力シート!#REF!=\"\",\"\",VLOOKUP(入力シート!#REF!,大会データ!$A$5:$F$372,5,FALSE))","v":{"$error":"#REF!"}},{"$f":"IF(入力シート!#REF!=\"\",\"\",基礎データ!$B$6)","v":{"$error":"#REF!"}},{"$f":"IF(入力シート!#REF!=\"\",\"\",B232)","v":{"$error":"#REF!"}},{"$f":"IF(入力シート!#REF!=\"\",\"\",IF(入力シート!#REF!=\"\",TEXT(入力シート!#REF!,\"00\"),入力シート!#REF!))","v":{"$error":"#REF!"}},null,null,{"$f":"IF(入力シート!#REF!=\"\",\"\",入力シート!#REF!)","v":{"$error":"#REF!"}},null,null,null,null,null,null,null,null,null,null,null,null,null,null,null,null,{"$error":"#REF!"},{"$error":"#REF!"},{"$error":"#REF!"},{"$f":"IF($AC232=\"\",\"\",入力シート!#REF!)","v":{"$error":"#REF!"}},{"$f":"IF($AC232=\"\",\"\",入力シート!#REF!)","v":{"$error":"#REF!"}},{"$f":"IF($AC232=\"\",\"\",入力シート!#REF!)","v":{"$error":"#REF!"}},{"$error":"#REF!"}]
[{"$f":"IF(入力シート!#REF!=\"\",\"\",大会コード)","v":{"$error":"#REF!"}},{"$f":"IF(入力シート!#REF!=\"\",\"\",VLOOKUP(入力シート!#REF!,大会データ!$A$5:$F$372,3,FALSE))","v":{"$error":"#REF!"}},{"$f":"IF(入力シート!#REF!=\"\",\"\",VLOOKUP(入力シート!#REF!,大会データ!$A$5:$F$372,4,FALSE))","v":{"$error":"#REF!"}},{"$f":"IF(入力シート!#REF!=\"\",\"\",VLOOKUP(入力シート!#REF!,大会データ!$A$5:$F$372,5,FALSE))","v":{"$error":"#REF!"}},{"$f":"IF(入力シート!#REF!=\"\",\"\",基礎データ!$B$6)","v":{"$error":"#REF!"}},{"$f":"IF(入力シート!#REF!=\"\",\"\",B233)","v":{"$error":"#REF!"}},{"$f":"IF(入力シート!#REF!=\"\",\"\",IF(入力シート!#REF!=\"\",TEXT(入力シート!#REF!,\"00\"),入力シート!#REF!))","v":{"$error":"#REF!"}},null,null,{"$f":"IF(入力シート!#REF!=\"\",\"\",入力シート!#REF!)","v":{"$error":"#REF!"}},null,null,null,null,null,null,null,null,null,null,null,null,null,null,null,null,{"$error":"#REF!"},{"$error":"#REF!"},{"$error":"#REF!"},{"$f":"IF($AC233=\"\",\"\",入力シート!#REF!)","v":{"$error":"#REF!"}},{"$f":"IF($AC233=\"\",\"\",入力シート!#REF!)","v":{"$error":"#REF!"}},{"$f":"IF($AC233=\"\",\"\",入力シート!#REF!)","v":{"$error":"#REF!"}},{"$error":"#REF!"}]
[{"$f":"IF(入力シート!#REF!=\"\",\"\",大会コード)","v":{"$error":"#REF!"}},{"$f":"IF(入力シート!#REF!=\"\",\"\",VLOOKUP(入力シート!#REF!,大会データ!$A$5:$F$372,3,FALSE))","v":{"$error":"#REF!"}},{"$f":"IF(入力シート!#REF!=\"\",\"\",VLOOKUP(入力シート!#REF!,大会データ!$A$5:$F$372,4,FALSE))","v":{"$error":"#REF!"}},{"$f":"IF(入力シート!#REF!=\"\",\"\",VLOOKUP(入力シート!#REF!,大会データ!$A$5:$F$372,5,FALSE))","v":{"$error":"#REF!"}},{"$f":"IF(入力シート!#REF!=\"\",\"\",基礎データ!$B$6)","v":{"$error":"#REF!"}},{"$f":"IF(入力シート!#REF!=\"\",\"\",B234)","v":{"$error":"#REF!"}},{"$f":"IF(入力シート!#REF!=\"\",\"\",IF(入力シート!#REF!=\"\",TEXT(入力シート!#REF!,\"00\"),入力シート!#REF!))","v":{"$error":"#REF!"}},null,null,{"$f":"IF(入力シート!#REF!=\"\",\"\",入力シート!#REF!)","v":{"$error":"#REF!"}},null,null,null,null,null,null,null,null,null,null,null,null,null,null,null,null,{"$error":"#REF!"},{"$error":"#REF!"},{"$error":"#REF!"},{"$f":"IF($AC234=\"\",\"\",入力シート!#REF!)","v":{"$error":"#REF!"}},{"$f":"IF($AC234=\"\",\"\",入力シート!#REF!)","v":{"$error":"#REF!"}},{"$f":"IF($AC234=\"\",\"\",入力シート!#REF!)","v":{"$error":"#REF!"}},{"$error":"#REF!"}]
[{"$f":"IF(入力シート!#REF!=\"\",\"\",大会コード)","v":{"$error":"#REF!"}},{"$f":"IF(入力シート!#REF!=\"\",\"\",VLOOKUP(入力シート!#REF!,大会データ!$A$5:$F$372,3,FALSE))","v":{"$error":"#REF!"}},{"$f":"IF(入力シート!#REF!=\"\",\"\",VLOOKUP(入力シート!#REF!,大会データ!$A$5:$F$372,4,FALSE))","v":{"$error":"#REF!"}},{"$f":"IF(入力シート!#REF!=\"\",\"\",VLOOKUP(入力シート!#REF!,大会データ!$A$5:$F$372,5,FALSE))","v":{"$error":"#REF!"}},{"$f":"IF(入力シート!#REF!=\"\",\"\",基礎データ!$B$6)","v":{"$error":"#REF!"}},{"$f":"IF(入力シート!#REF!=\"\",\"\",B235)","v":{"$error":"#REF!"}},{"$f":"IF(入力シート!#REF!=\"\",\"\",IF(入力シート!#REF!=\"\",TEXT(入力シート!#REF!,\"00\"),入力シート!#REF!))","v":{"$error":"#REF!"}},null,null,{"$f":"IF(入力シート!#REF!=\"\",\"\",入力シート!#REF!)","v":{"$error":"#REF!"}},null,null,null,null,null,null,null,null,null,null,null,null,null,null,null,null,{"$error":"#REF!"},{"$error":"#REF!"},{"$error":"#REF!"},{"$f":"IF($AC235=\"\",\"\",入力シート!#REF!)","v":{"$error":"#REF!"}},{"$f":"IF($AC235=\"\",\"\",入力シート!#REF!)","v":{"$error":"#REF!"}},{"$f":"IF($AC235=\"\",\"\",入力シート!#REF!)","v":{"$error":"#REF!"}},{"$error":"#REF!"}]
[{"$f":"IF(入力シート!#REF!=\"\",\"\",大会コード)","v":{"$error":"#REF!"}},{"$f":"IF(入力シート!#REF!=\"\",\"\",VLOOKUP(入力シート!#REF!,大会データ!$A$5:$F$372,3,FALSE))","v":{"$error":"#REF!"}},{"$f":"IF(入力シート!#REF!=\"\",\"\",VLOOKUP(入力シート!#REF!,大会データ!$A$5:$F$372,4,FALSE))","v":{"$error":"#REF!"}},{"$f":"IF(入力シート!#REF!=\"\",\"\",VLOOKUP(入力シート!#REF!,大会データ!$A$5:$F$372,5,FALSE))","v":{"$error":"#REF!"}},{"$f":"IF(入力シート!#REF!=\"\",\"\",基礎データ!$B$6)","v":{"$error":"#REF!"}},{"$f":"IF(入力シート!#REF!=\"\",\"\",B236)","v":{"$error":"#REF!"}},{"$f":"IF(入力シート!#REF!=\"\",\"\",IF(入力シート!#REF!=\"\",TEXT(入力シート!#REF!,\"00\"),入力シート!#REF!))","v":{"$error":"#REF!"}},null,null,{"$f":"IF(入力シート!#REF!=\"\",\"\",入力シート!#REF!)","v":{"$error":"#REF!"}},null,null,null,null,null,null,null,null,null,null,null,null,null,null,null,null,{"$error":"#REF!"},{"$error":"#REF!"},{"$error":"#REF!"},{"$f":"IF($AC236=\"\",\"\",入力シート!#REF!)","v":{"$error":"#REF!"}},{"$f":"IF($AC236=\"\",\"\",入力シート!#REF!)","v":{"$error":"#REF!"}},{"$f":"IF($AC236=\"\",\"\",入力シート!#REF!)","v":{"$error":"#REF!"}},{"$error":"#REF!"}]
[{"$f":"IF(入力シート!#REF!=\"\",\"\",大会コード)","v":{"$error":"#REF!"}},{"$f":"IF(入力シート!#REF!=\"\",\"\",VLOOKUP(入力シート!#REF!,大会データ!$A$5:$F$372,3,FALSE))","v":{"$error":"#REF!"}},{"$f":"IF(入力シート!#REF!=\"\",\"\",VLOOKUP(入力シート!#REF!,大会データ!$A$5:$F$372,4,FALSE))","v":{"$error":"#REF!"}},{"$f":"IF(入力シート!#REF!=\"\",\"\",VLOOKUP(入力シート!#REF!,大会データ!$A$5:$F$372,5,FALSE))","v":{"$error":"#REF!"}},{"$f":"IF(入力シート!#REF!=\"\",\"\",基礎データ!$B$6)","v":{"$error":"#REF!"}},{"$f":"IF(入力シート!#REF!=\"\",\"\",B237)","v":{"$error":"#REF!"}},{"$f":"IF(入力シート!#REF!=\"\",\"\",IF(入力シート!#REF!=\"\",TEXT(入力シート!#REF!,\"00\"),入力シート!#REF!))","v":{"$error":"#REF!"}},null,null,{"$f":"IF(入力シート!#REF!=\"\",\"\",入力シート!#REF!)","v":{"$error":"#REF!"}},null,null,null,null,null,null,null,null,null,null,null,null,null,null,null,null,{"$error":"#REF!"},{"$error":"#REF!"},{"$error":"#REF!"},{"$f":"IF($AC237=\"\",\"\",入力シート!#REF!)","v":{"$error":"#REF!"}},{"$f":"IF($AC237=\"\",\"\",入力シート!#REF!)","v":{"$error":"#REF!"}},{"$f":"IF($AC237=\"\",\"\",入力シート!#REF!)","v":{"$error":"#REF!"}},{"$error":"#REF!"}]
[{"$f":"IF(入力シート!#REF!=\"\",\"\",大会コード)","v":{"$error":"#REF!"}},{"$f":"IF(入力シート!#REF!=\"\",\"\",VLOOKUP(入力シート!#REF!,大会データ!$A$5:$F$372,3,FALSE))","v":{"$error":"#REF!"}},{"$f":"IF(入力シート!#REF!=\"\",\"\",VLOOKUP(入力シート!#REF!,大会データ!$A$5:$F$372,4,FALSE))","v":{"$error":"#REF!"}},{"$f":"IF(入力シート!#REF!=\"\",\"\",VLOOKUP(入力シート!#REF!,大会データ!$A$5:$F$372,5,FALSE))","v":{"$error":"#REF!"}},{"$f":"IF(入力シート!#REF!=\"\",\"\",基礎データ!$B$6)","v":{"$error":"#REF!"}},{"$f":"IF(入力シート!#REF!=\"\",\"\",B238)","v":{"$error":"#REF!"}},{"$f":"IF(入力シート!#REF!=\"\",\"\",IF(入力シート!#REF!=\"\",TEXT(入力シート!#REF!,\"00\"),入力シート!#REF!))","v":{"$error":"#REF!"}},null,null,{"$f":"IF(入力シート!#REF!=\"\",\"\",入力シート!#REF!)","v":{"$error":"#REF!"}},null,null,null,null,null,null,null,null,null,null,null,null,null,null,null,null,{"$error":"#REF!"},{"$error":"#REF!"},{"$error":"#REF!"},{"$f":"IF($AC238=\"\",\"\",入力シート!#REF!)","v":{"$error":"#REF!"}},{"$f":"IF($AC238=\"\",\"\",入力シート!#REF!)","v":{"$error":"#REF!"}},{"$f":"IF($AC238=\"\",\"\",入力シート!#REF!)","v":{"$error":"#REF!"}},{"$error":"#REF!"}]
[{"$f":"IF(入力シート!#REF!=\"\",\"\",大会コード)","v":{"$error":"#REF!"}},{"$f":"IF(入力シート!#REF!=\"\",\"\",VLOOKUP(入力シート!#REF!,大会データ!$A$5:$F$372,3,FALSE))","v":{"$error":"#REF!"}},{"$f":"IF(入力シート!#REF!=\"\",\"\",VLOOKUP(入力シート!#REF!,大会データ!$A$5:$F$372,4,FALSE))","v":{"$error":"#REF!"}},{"$f":"IF(入力シート!#REF!=\"\",\"\",VLOOKUP(入力シート!#REF!,大会データ!$A$5:$F$372,5,FALSE))","v":{"$error":"#REF!"}},{"$f":"IF(入力シート!#REF!=\"\",\"\",基礎データ!$B$6)","v":{"$error":"#REF!"}},{"$f":"IF(入力シート!#REF!=\"\",\"\",B239)","v":{"$error":"#REF!"}},{"$f":"IF(入力シート!#REF!=\"\",\"\",IF(入力シート!#REF!=\"\",TEXT(入力シート!#REF!,\"00\"),入力シート!#REF!))","v":{"$error":"#REF!"}},null,null,{"$f":"IF(入力シート!#REF!=\"\",\"\",入力シート!#REF!)","v":{"$error":"#REF!"}},null,null,null,null,null,null,null,null,null,null,null,null,null,null,null,null,{"$error":"#REF!"},{"$error":"#REF!"},{"$error":"#REF!"},{"$f":"IF($AC239=\"\",\"\",入力シート!#REF!)","v":{"$error":"#REF!"}},{"$f":"IF($AC239=\"\",\"\",入力シート!#REF!)","v":{"$error":"#REF!"}},{"$f":"IF($AC239=\"\",\"\",入力シート!#REF!)","v":{"$error":"#REF!"}},{"$error":"#REF!"}]
[{"$f":"IF(入力シート!#REF!=\"\",\"\",大会コード)","v":{"$error":"#REF!"}},{"$f":"IF(入力シート!#REF!=\"\",\"\",VLOOKUP(入力シート!#REF!,大会データ!$A$5:$F$372,3,FALSE))","v":{"$error":"#REF!"}},{"$f":"IF(入力シート!#REF!=\"\",\"\",VLOOKUP(入力シート!#REF!,大会データ!$A$5:$F$372,4,FALSE))","v":{"$error":"#REF!"}},{"$f":"IF(入力シート!#REF!=\"\",\"\",VLOOKUP(入力シート!#REF!,大会データ!$A$5:$F$372,5,FALSE))","v":{"$error":"#REF!"}},{"$f":"IF(入力シート!#REF!=\"\",\"\",基礎データ!$B$6)","v":{"$error":"#REF!"}},{"$f":"IF(入力シート!#REF!=\"\",\"\",B240)","v":{"$error":"#REF!"}},{"$f":"IF(入力シート!#REF!=\"\",\"\",IF(入力シート!#REF!=\"\",TEXT(入力シート!#REF!,\"00\"),入力シート!#REF!))","v":{"$error":"#REF!"}},null,null,{"$f":"IF(入力シート!#REF!=\"\",\"\",入力シート!#REF!)","v":{"$error":"#REF!"}},null,null,null,null,null,null,null,null,null,null,null,null,null,null,null,null,{"$error":"#REF!"},{"$error":"#REF!"},{"$error":"#REF!"},{"$f":"IF($AC240=\"\",\"\",入力シート!#REF!)","v":{"$error":"#REF!"}},{"$f":"IF($AC240=\"\",\"\",入力シート!#REF!)","v":{"$error":"#REF!"}},{"$f":"IF($AC240=\"\",\"\",入力シート!#REF!)","v":{"$error":"#REF!"}},{"$error":"#REF!"}]
[{"$f":"IF(入力シート!#REF!=\"\",\"\",大会コード)","v":{"$error":"#REF!"}},{"$f":"IF(入力シート!#REF!=\"\",\"\",VLOOKUP(入力シート!#REF!,大会データ!$A$5:$F$372,3,FALSE))","v":{"$error":"#REF!"}},{"$f":"IF(入力シート!#REF!=\"\",\"\",VLOOKUP(入力シート!#REF!,大会データ!$A$5:$F$372,4,FALSE))","v":{"$error":"#REF!"}},{"$f":"IF(入力シート!#REF!=\"\",\"\",VLOOKUP(入力シート!#REF!,大会データ!$A$5:$F$372,5,FALSE))","v":{"$error":"#REF!"}},{"$f":"IF(入力シート!#REF!=\"\",\"\",基礎データ!$B$6)","v":{"$error":"#REF!"}},{"$f":"IF(入力シート!#REF!=\"\",\"\",B241)","v":{"$error":"#REF!"}},{"$f":"IF(入力シート!#REF!=\"\",\"\",IF(入力シート!#REF!=\"\",TEXT(入力シート!#REF!,\"00\"),入力シート!#REF!))","v":{"$error":"#REF!"}},null,null,{"$f":"IF(入力シート!#REF!=\"\",\"\",入力シート!#REF!)","v":{"$error":"#REF!"}},null,null,null,null,null,null,null,null,null,null,null,null,null,null,null,null,{"$error":"#REF!"},{"$error":"#REF!"},{"$error":"#REF!"},{"$f":"IF($AC241=\"\",\"\",入力シート!#REF!)","v":{"$error":"#REF!"}},{"$f":"IF($AC241=\"\",\"\",入力シート!#REF!)","v":{"$error":"#REF!"}},{"$f":"IF($AC241=\"\",\"\",入力シート!#REF!)","v":{"$error":"#REF!"}},{"$error":"#REF!"}]
[{"$f":"IF(入力シート!#REF!=\"\",\"\",大会コード)","v":{"$error":"#REF!"}},{"$f":"IF(入力シート!#REF!=\"\",\"\",VLOOKUP(入力シート!#REF!,大会データ!$A$5:$F$372,3,FALSE))","v":{"$error":"#REF!"}},{"$f":"IF(入力シート!#REF!=\"\",\"\",VLOOKUP(入力シート!#REF!,大会データ!$A$5:$F$372,4,FALSE))","v":{"$error":"#REF!"}},{"$f":"IF(入力シート!#REF!=\"\",\"\",VLOOKUP(入力シート!#REF!,大会データ!$A$5:$F$372,5,FALSE))","v":{"$error":"#REF!"}},{"$f":"IF(入力シート!#REF!=\"\",\"\",基礎データ!$B$6)","v":{"$error":"#REF!"}},{"$f":"IF(入力シート!#REF!=\"\",\"\",B242)","v":{"$error":"#REF!"}},{"$f":"IF(入力シート!#REF!=\"\",\"\",IF(入力シート!#REF!=\"\",TEXT(入力シート!#REF!,\"00\"),入力シート!#REF!))","v":{"$error":"#REF!"}},null,null,{"$f":"IF(入力シート!#REF!=\"\",\"\",入力シート!#REF!)","v":{"$error":"#REF!"}},null,null,null,null,null,null,null,null,null,null,null,null,null,null,null,null,{"$error":"#REF!"},{"$error":"#REF!"},{"$error":"#REF!"},{"$f":"IF($AC242=\"\",\"\",入力シート!#REF!)","v":{"$error":"#REF!"}},{"$f":"IF($AC242=\"\",\"\",入力シート!#REF!)","v":{"$error":"#REF!"}},{"$f":"IF($AC242=\"\",\"\",入力シート!#REF!)","v":{"$error":"#REF!"}},{"$error":"#REF!"}]
[{"$f":"IF(入力シート!#REF!=\"\",\"\",大会コード)","v":{"$error":"#REF!"}},{"$f":"IF(入力シート!#REF!=\"\",\"\",VLOOKUP(入力シート!#REF!,大会データ!$A$5:$F$372,3,FALSE))","v":{"$error":"#REF!"}},{"$f":"IF(入力シート!#REF!=\"\",\"\",VLOOKUP(入力シート!#REF!,大会データ!$A$5:$F$372,4,FALSE))","v":{"$error":"#REF!"}},{"$f":"IF(入力シート!#REF!=\"\",\"\",VLOOKUP(入力シート!#REF!,大会データ!$A$5:$F$372,5,FALSE))","v":{"$error":"#REF!"}},{"$f":"IF(入力シート!#REF!=\"\",\"\",基礎データ!$B$6)","v":{"$error":"#REF!"}},{"$f":"IF(入力シート!#REF!=\"\",\"\",B243)","v":{"$error":"#REF!"}},{"$f":"IF(入力シート!#REF!=\"\",\"\",IF(入力シート!#REF!=\"\",TEXT(入力シート!#REF!,\"00\"),入力シート!#REF!))","v":{"$error":"#REF!"}},null,null,{"$f":"IF(入力シート!#REF!=\"\",\"\",入力シート!#REF!)","v":{"$error":"#REF!"}},null,null,null,null,null,null,null,null,null,null,null,null,null,null,null,null,{"$error":"#REF!"},{"$error":"#REF!"},{"$error":"#REF!"},{"$f":"IF($AC243=\"\",\"\",入力シート!#REF!)","v":{"$error":"#REF!"}},{"$f":"IF($AC243=\"\",\"\",入力シート!#REF!)","v":{"$error":"#REF!"}},{"$f":"IF($AC243=\"\",\"\",入力シート!#REF!)","v":{"$error":"#REF!"}},{"$error":"#REF!"}]
[{"$f":"IF(入力シート!#REF!=\"\",\"\",大会コード)","v":{"$error":"#REF!"}},{"$f":"IF(入力シート!#REF!=\"\",\"\",VLOOKUP(入力シート!#REF!,大会データ!$A$5:$F$372,3,FALSE))","v":{"$error":"#REF!"}},{"$f":"IF(入力シート!#REF!=\"\",\"\",VLOOKUP(入力シート!#REF!,大会データ!$A$5:$F$372,4,FALSE))","v":{"$error":"#REF!"}},{"$f":"IF(入力シート!#REF!=\"\",\"\",VLOOKUP(入力シート!#REF!,大会データ!$A$5:$F$372,5,FALSE))","v":{"$error":"#REF!"}},{"$f":"IF(入力シート!#REF!=\"\",\"\",基礎データ!$B$6)","v":{"$error":"#REF!"}},{"$f":"IF(入力シート!#REF!=\"\",\"\",B244)","v":{"$error":"#REF!"}},{"$f":"IF(入力シート!#REF!=\"\",\"\",IF(入力シート!#REF!=\"\",TEXT(入力シート!#REF!,\"00\"),入力シート!#REF!))","v":{"$error":"#REF!"}},null,null,{"$f":"IF(入力シート!#REF!=\"\",\"\",入力シート!#REF!)","v":{"$error":"#REF!"}},null,null,null,null,null,null,null,null,null,null,null,null,null,null,null,null,{"$error":"#REF!"},{"$error":"#REF!"},{"$error":"#REF!"},{"$f":"IF($AC244=\"\",\"\",入力シート!#REF!)","v":{"$error":"#REF!"}},{"$f":"IF($AC244=\"\",\"\",入力シート!#REF!)","v":{"$error":"#REF!"}},{"$f":"IF($AC244=\"\",\"\",入力シート!#REF!)","v":{"$error":"#REF!"}},{"$error":"#REF!"}]
[{"$f":"IF(入力シート!#REF!=\"\",\"\",大会コード)","v":{"$error":"#REF!"}},{"$f":"IF(入力シート!#REF!=\"\",\"\",VLOOKUP(入力シート!#REF!,大会データ!$A$5:$F$372,3,FALSE))","v":{"$error":"#REF!"}},{"$f":"IF(入力シート!#REF!=\"\",\"\",VLOOKUP(入力シート!#REF!,大会データ!$A$5:$F$372,4,FALSE))","v":{"$error":"#REF!"}},{"$f":"IF(入力シート!#REF!=\"\",\"\",VLOOKUP(入力シート!#REF!,大会データ!$A$5:$F$372,5,FALSE))","v":{"$error":"#REF!"}},{"$f":"IF(入力シート!#REF!=\"\",\"\",基礎データ!$B$6)","v":{"$error":"#REF!"}},{"$f":"IF(入力シート!#REF!=\"\",\"\",B245)","v":{"$error":"#REF!"}},{"$f":"IF(入力シート!#REF!=\"\",\"\",IF(入力シート!#REF!=\"\",TEXT(入力シート!#REF!,\"00\"),入力シート!#REF!))","v":{"$error":"#REF!"}},null,null,{"$f":"IF(入力シート!#REF!=\"\",\"\",入力シート!#REF!)","v":{"$error":"#REF!"}},null,null,null,null,null,null,null,null,null,null,null,null,null,null,null,null,{"$error":"#REF!"},{"$error":"#REF!"},{"$error":"#REF!"},{"$f":"IF($AC245=\"\",\"\",入力シート!#REF!)","v":{"$error":"#REF!"}},{"$f":"IF($AC245=\"\",\"\",入力シート!#REF!)","v":{"$error":"#REF!"}},{"$f":"IF($AC245=\"\",\"\",入力シート!#REF!)","v":{"$error":"#REF!"}},{"$error":"#REF!"}]
[{"$f":"IF(入力シート!#REF!=\"\",\"\",大会コード)","v":{"$error":"#REF!"}},{"$f":"IF(入力シート!#REF!=\"\",\"\",VLOOKUP(入力シート!#REF!,大会データ!$A$5:$F$372,3,FALSE))","v":{"$error":"#REF!"}},{"$f":"IF(入力シート!#REF!=\"\",\"\",VLOOKUP(入力シート!#REF!,大会データ!$A$5:$F$372,4,FALSE))","v":{"$error":"#REF!"}},{"$f":"IF(入力シート!#REF!=\"\",\"\",VLOOKUP(入力シート!#REF!,大会データ!$A$5:$F$372,5,FALSE))","v":{"$error":"#REF!"}},{"$f":"IF(入力シート!#REF!=\"\",\"\",基礎データ!$B$6)","v":{"$error":"#REF!"}},{"$f":"IF(入力シート!#REF!=\"\",\"\",B246)","v":{"$error":"#REF!"}},{"$f":"IF(入力シート!#REF!=\"\",\"\",IF(入力シート!#REF!=\"\",TEXT(入力シート!#REF!,\"00\"),入力シート!#REF!))","v":{"$error":"#REF!"}},null,null,{"$f":"IF(入力シート!#REF!=\"\",\"\",入力シート!#REF!)","v":{"$error":"#REF!"}},null,null,null,null,null,null,null,null,null,null,null,null,null,null,null,null,{"$error":"#REF!"},{"$error":"#REF!"},{"$error":"#REF!"},{"$f":"IF($AC246=\"\",\"\",入力シート!#REF!)","v":{"$error":"#REF!"}},{"$f":"IF($AC246=\"\",\"\",入力シート!#REF!)","v":{"$error":"#REF!"}},{"$f":"IF($AC246=\"\",\"\",入力シート!#REF!)","v":{"$error":"#REF!"}},{"$error":"#REF!"}]
[{"$f":"IF(入力シート!#REF!=\"\",\"\",大会コード)","v":{"$error":"#REF!"}},{"$f":"IF(入力シート!#REF!=\"\",\"\",VLOOKUP(入力シート!#REF!,大会データ!$A$5:$F$372,3,FALSE))","v":{"$error":"#REF!"}},{"$f":"IF(入力シート!#REF!=\"\",\"\",VLOOKUP(入力シート!#REF!,大会データ!$A$5:$F$372,4,FALSE))","v":{"$error":"#REF!"}},{"$f":"IF(入力シート!#REF!=\"\",\"\",VLOOKUP(入力シート!#REF!,大会データ!$A$5:$F$372,5,FALSE))","v":{"$error":"#REF!"}},{"$f":"IF(入力シート!#REF!=\"\",\"\",基礎データ!$B$6)","v":{"$error":"#REF!"}},{"$f":"IF(入力シート!#REF!=\"\",\"\",B247)","v":{"$error":"#REF!"}},{"$f":"IF(入力シート!#REF!=\"\",\"\",IF(入力シート!#REF!=\"\",TEXT(入力シート!#REF!,\"00\"),入力シート!#REF!))","v":{"$error":"#REF!"}},null,null,{"$f":"IF(入力シート!#REF!=\"\",\"\",入力シート!#REF!)","v":{"$error":"#REF!"}},null,null,null,null,null,null,null,null,null,null,null,null,null,null,null,null,{"$error":"#REF!"},{"$error":"#REF!"},{"$error":"#REF!"},{"$f":"IF($AC247=\"\",\"\",入力シート!#REF!)","v":{"$error":"#REF!"}},{"$f":"IF($AC247=\"\",\"\",入力シート!#REF!)","v":{"$error":"#REF!"}},{"$f":"IF($AC247=\"\",\"\",入力シート!#REF!)","v":{"$error":"#REF!"}},{"$error":"#REF!"}]
[{"$f":"IF(入力シート!#REF!=\"\",\"\",大会コード)","v":{"$error":"#REF!"}},{"$f":"IF(入力シート!#REF!=\"\",\"\",VLOOKUP(入力シート!#REF!,大会データ!$A$5:$F$372,3,FALSE))","v":{"$error":"#REF!"}},{"$f":"IF(入力シート!#REF!=\"\",\"\",VLOOKUP(入力シート!#REF!,大会データ!$A$5:$F$372,4,FALSE))","v":{"$error":"#REF!"}},{"$f":"IF(入力シート!#REF!=\"\",\"\",VLOOKUP(入力シート!#REF!,大会データ!$A$5:$F$372,5,FALSE))","v":{"$error":"#REF!"}},{"$f":"IF(入力シート!#REF!=\"\",\"\",基礎データ!$B$6)","v":{"$error":"#REF!"}},{"$f":"IF(入力シート!#REF!=\"\",\"\",B248)","v":{"$error":"#REF!"}},{"$f":"IF(入力シート!#REF!=\"\",\"\",IF(入力シート!#REF!=\"\",TEXT(入力シート!#REF!,\"00\"),入力シート!#REF!))","v":{"$error":"#REF!"}},null,null,{"$f":"IF(入力シート!#REF!=\"\",\"\",入力シート!#REF!)","v":{"$error":"#REF!"}},null,null,null,null,null,null,null,null,null,null,null,null,null,null,null,null,{"$error":"#REF!"},{"$error":"#REF!"},{"$error":"#REF!"},{"$f":"IF($AC248=\"\",\"\",入力シート!#REF!)","v":{"$error":"#REF!"}},{"$f":"IF($AC248=\"\",\"\",入力シート!#REF!)","v":{"$error":"#REF!"}},{"$f":"IF($AC248=\"\",\"\",入力シート!#REF!)","v":{"$error":"#REF!"}},{"$error":"#REF!"}]
[{"$f":"IF(入力シート!#REF!=\"\",\"\",大会コード)","v":{"$error":"#REF!"}},{"$f":"IF(入力シート!#REF!=\"\",\"\",VLOOKUP(入力シート!#REF!,大会データ!$A$5:$F$372,3,FALSE))","v":{"$error":"#REF!"}},{"$f":"IF(入力シート!#REF!=\"\",\"\",VLOOKUP(入力シート!#REF!,大会データ!$A$5:$F$372,4,FALSE))","v":{"$error":"#REF!"}},{"$f":"IF(入力シート!#REF!=\"\",\"\",VLOOKUP(入力シート!#REF!,大会データ!$A$5:$F$372,5,FALSE))","v":{"$error":"#REF!"}},{"$f":"IF(入力シート!#REF!=\"\",\"\",基礎データ!$B$6)","v":{"$error":"#REF!"}},{"$f":"IF(入力シート!#REF!=\"\",\"\",B249)","v":{"$error":"#REF!"}},{"$f":"IF(入力シート!#REF!=\"\",\"\",IF(入力シート!#REF!=\"\",TEXT(入力シート!#REF!,\"00\"),入力シート!#REF!))","v":{"$error":"#REF!"}},null,null,{"$f":"IF(入力シート!#REF!=\"\",\"\",入力シート!#REF!)","v":{"$error":"#REF!"}},null,null,null,null,null,null,null,null,null,null,null,null,null,null,null,null,{"$error":"#REF!"},{"$error":"#REF!"},{"$error":"#REF!"},{"$f":"IF($AC249=\"\",\"\",入力シート!#REF!)","v":{"$error":"#REF!"}},{"$f":"IF($AC249=\"\",\"\",入力シート!#REF!)","v":{"$error":"#REF!"}},{"$f":"IF($AC249=\"\",\"\",入力シート!#REF!)","v":{"$error":"#REF!"}},{"$error":"#REF!"}]
[{"$f":"IF(入力シート!#REF!=\"\",\"\",大会コード)","v":{"$error":"#REF!"}},{"$f":"IF(入力シート!#REF!=\"\",\"\",VLOOKUP(入力シート!#REF!,大会データ!$A$5:$F$372,3,FALSE))","v":{"$error":"#REF!"}},{"$f":"IF(入力シート!#REF!=\"\",\"\",VLOOKUP(入力シート!#REF!,大会データ!$A$5:$F$372,4,FALSE))","v":{"$error":"#REF!"}},{"$f":"IF(入力シート!#REF!=\"\",\"\",VLOOKUP(入力シート!#REF!,大会データ!$A$5:$F$372,5,FALSE))","v":{"$error":"#REF!"}},{"$f":"IF(入力シート!#REF!=\"\",\"\",基礎データ!$B$6)","v":{"$error":"#REF!"}},{"$f":"IF(入力シート!#REF!=\"\",\"\",B250)","v":{"$error":"#REF!"}},{"$f":"IF(入力シート!#REF!=\"\",\"\",IF(入力シート!#REF!=\"\",TEXT(入力シート!#REF!,\"00\"),入力シート!#REF!))","v":{"$error":"#REF!"}},null,null,{"$f":"IF(入力シート!#REF!=\"\",\"\",入力シート!#REF!)","v":{"$error":"#REF!"}},null,null,null,null,null,null,null,null,null,null,null,null,null,null,null,null,{"$error":"#REF!"},{"$error":"#REF!"},{"$error":"#REF!"},{"$f":"IF($AC250=\"\",\"\",入力シート!#REF!)","v":{"$error":"#REF!"}},{"$f":"IF($AC250=\"\",\"\",入力シート!#REF!)","v":{"$error":"#REF!"}},{"$f":"IF($AC250=\"\",\"\",入力シート!#REF!)","v":{"$error":"#REF!"}},{"$error":"#REF!"}]
[{"$f":"IF(入力シート!#REF!=\"\",\"\",大会コード)","v":{"$error":"#REF!"}},{"$f":"IF(入力シート!#REF!=\"\",\"\",VLOOKUP(入力シート!#REF!,大会データ!$A$5:$F$372,3,FALSE))","v":{"$error":"#REF!"}},{"$f":"IF(入力シート!#REF!=\"\",\"\",VLOOKUP(入力シート!#REF!,大会データ!$A$5:$F$372,4,FALSE))","v":{"$error":"#REF!"}},{"$f":"IF(入力シート!#REF!=\"\",\"\",VLOOKUP(入力シート!#REF!,大会データ!$A$5:$F$372,5,FALSE))","v":{"$error":"#REF!"}},{"$f":"IF(入力シート!#REF!=\"\",\"\",基礎データ!$B$6)","v":{"$error":"#REF!"}},{"$f":"IF(入力シート!#REF!=\"\",\"\",B251)","v":{"$error":"#REF!"}},{"$f":"IF(入力シート!#REF!=\"\",\"\",IF(入力シート!#REF!=\"\",TEXT(入力シート!#REF!,\"00\"),入力シート!#REF!))","v":{"$error":"#REF!"}},null,null,{"$f":"IF(入力シート!#REF!=\"\",\"\",入力シート!#REF!)","v":{"$error":"#REF!"}},null,null,null,null,null,null,null,null,null,null,null,null,null,null,null,null,{"$error":"#REF!"},{"$error":"#REF!"},{"$error":"#REF!"},{"$f":"IF($AC251=\"\",\"\",入力シート!#REF!)","v":{"$error":"#REF!"}},{"$f":"IF($AC251=\"\",\"\",入力シート!#REF!)","v":{"$error":"#REF!"}},{"$f":"IF($AC251=\"\",\"\",入力シート!#REF!)","v":{"$error":"#REF!"}},{"$error":"#REF!"}]
[{"$f":"IF(入力シート!#REF!=\"\",\"\",大会コード)","v":{"$error":"#REF!"}},{"$f":"IF(入力シート!#REF!=\"\",\"\",VLOOKUP(入力シート!#REF!,大会データ!$A$5:$F$372,3,FALSE))","v":{"$error":"#REF!"}},{"$f":"IF(入力シート!#REF!=\"\",\"\",VLOOKUP(入力シート!#REF!,大会データ!$A$5:$F$372,4,FALSE))","v":{"$error":"#REF!"}},{"$f":"IF(入力シート!#REF!=\"\",\"\",VLOOKUP(入力シート!#REF!,大会データ!$A$5:$F$372,5,FALSE))","v":{"$error":"#REF!"}},{"$f":"IF(入力シート!#REF!=\"\",\"\",基礎データ!$B$6)","v":{"$error":"#REF!"}},{"$f":"IF(入力シート!#REF!=\"\",\"\",B252)","v":{"$error":"#REF!"}},{"$f":"IF(入力シート!#REF!=\"\",\"\",IF(入力シート!#REF!=\"\",TEXT(入力シート!#REF!,\"00\"),入力シート!#REF!))","v":{"$error":"#REF!"}},null,null,{"$f":"IF(入力シート!#REF!=\"\",\"\",入力シート!#REF!)","v":{"$error":"#REF!"}},null,null,null,null,null,null,null,null,null,null,null,null,null,null,null,null,{"$error":"#REF!"},{"$error":"#REF!"},{"$error":"#REF!"},{"$f":"IF($AC252=\"\",\"\",入力シート!#REF!)","v":{"$error":"#REF!"}},{"$f":"IF($AC252=\"\",\"\",入力シート!#REF!)","v":{"$error":"#REF!"}},{"$f":"IF($AC252=\"\",\"\",入力シート!#REF!)","v":{"$error":"#REF!"}},{"$error":"#REF!"}]
[{"$f":"IF(入力シート!#REF!=\"\",\"\",大会コード)","v":{"$error":"#REF!"}},{"$f":"IF(入力シート!#REF!=\"\",\"\",VLOOKUP(入力シート!#REF!,大会データ!$A$5:$F$372,3,FALSE))","v":{"$error":"#REF!"}},{"$f":"IF(入力シート!#REF!=\"\",\"\",VLOOKUP(入力シート!#REF!,大会データ!$A$5:$F$372,4,FALSE))","v":{"$error":"#REF!"}},{"$f":"IF(入力シート!#REF!=\"\",\"\",VLOOKUP(入力シート!#REF!,大会データ!$A$5:$F$372,5,FALSE))","v":{"$error":"#REF!"}},{"$f":"IF(入力シート!#REF!=\"\",\"\",基礎データ!$B$6)","v":{"$error":"#REF!"}},{"$f":"IF(入力シート!#REF!=\"\",\"\",B253)","v":{"$error":"#REF!"}},{"$f":"IF(入力シート!#REF!=\"\",\"\",IF(入力シート!#REF!=\"\",TEXT(入力シート!#REF!,\"00\"),入力シート!#REF!))","v":{"$error":"#REF!"}},null,null,{"$f":"IF(入力シート!#REF!=\"\",\"\",入力シート!#REF!)","v":{"$error":"#REF!"}},null,null,null,null,null,null,null,null,null,null,null,null,null,null,null,null,{"$error":"#REF!"},{"$error":"#REF!"},{"$error":"#REF!"},{"$f":"IF($AC253=\"\",\"\",入力シート!#REF!)","v":{"$error":"#REF!"}},{"$f":"IF($AC253=\"\",\"\",入力シート!#REF!)","v":{"$error":"#REF!"}},{"$f":"IF($AC253=\"\",\"\",入力シート!#REF!)","v":{"$error":"#REF!"}},{"$error":"#REF!"}]
[{"$f":"IF(入力シート!#REF!=\"\",\"\",大会コード)","v":{"$error":"#REF!"}},{"$f":"IF(入力シート!#REF!=\"\",\"\",VLOOKUP(入力シート!#REF!,大会データ!$A$5:$F$372,3,FALSE))","v":{"$error":"#REF!"}},{"$f":"IF(入力シート!#REF!=\"\",\"\",VLOOKUP(入力シート!#REF!,大会データ!$A$5:$F$372,4,FALSE))","v":{"$error":"#REF!"}},{"$f":"IF(入力シート!#REF!=\"\",\"\",VLOOKUP(入力シート!#REF!,大会データ!$A$5:$F$372,5,FALSE))","v":{"$error":"#REF!"}},{"$f":"IF(入力シート!#REF!=\"\",\"\",基礎データ!$B$6)","v":{"$error":"#REF!"}},{"$f":"IF(入力シート!#REF!=\"\",\"\",B254)","v":{"$error":"#REF!"}},{"$f":"IF(入力シート!#REF!=\"\",\"\",IF(入力シート!#REF!=\"\",TEXT(入力シート!#REF!,\"00\"),入力シート!#REF!))","v":{"$error":"#REF!"}},null,null,{"$f":"IF(入力シート!#REF!=\"\",\"\",入力シート!#REF!)","v":{"$error":"#REF!"}},null,null,null,null,null,null,null,null,null,null,null,null,null,null,null,null,{"$error":"#REF!"},{"$error":"#REF!"},{"$error":"#REF!"},{"$f":"IF($AC254=\"\",\"\",入力シート!#REF!)","v":{"$error":"#REF!"}},{"$f":"IF($AC254=\"\",\"\",入力シート!#REF!)","v":{"$error":"#REF!"}},{"$f":"IF($AC254=\"\",\"\",入力シート!#REF!)","v":{"$error":"#REF!"}},{"$error":"#REF!"}]
[{"$f":"IF(入力シート!#REF!=\"\",\"\",大会コード)","v":{"$error":"#REF!"}},{"$f":"IF(入力シート!#REF!=\"\",\"\",VLOOKUP(入力シート!#REF!,大会データ!$A$5:$F$372,3,FALSE))","v":{"$error":"#REF!"}},{"$f":"IF(入力シート!#REF!=\"\",\"\",VLOOKUP(入力シート!#REF!,大会データ!$A$5:$F$372,4,FALSE))","v":{"$error":"#REF!"}},{"$f":"IF(入力シート!#REF!=\"\",\"\",VLOOKUP(入力シート!#REF!,大会データ!$A$5:$F$372,5,FALSE))","v":{"$error":"#REF!"}},{"$f":"IF(入力シート!#REF!=\"\",\"\",基礎データ!$B$6)","v":{"$error":"#REF!"}},{"$f":"IF(入力シート!#REF!=\"\",\"\",B255)","v":{"$error":"#REF!"}},{"$f":"IF(入力シート!#REF!=\"\",\"\",IF(入力シート!#REF!=\"\",TEXT(入力シート!#REF!,\"00\"),入力シート!#REF!))","v":{"$error":"#REF!"}},null,null,{"$f":"IF(入力シート!#REF!=\"\",\"\",入力シート!#REF!)","v":{"$error":"#REF!"}},null,null,null,null,null,null,null,null,null,null,null,null,null,null,null,null,{"$error":"#REF!"},{"$error":"#REF!"},{"$error":"#REF!"},{"$f":"IF($AC255=\"\",\"\",入力シート!#REF!)","v":{"$error":"#REF!"}},{"$f":"IF($AC255=\"\",\"\",入力シート!#REF!)","v":{"$error":"#REF!"}},{"$f":"IF($AC255=\"\",\"\",入力シート!#REF!)","v":{"$error":"#REF!"}},{"$error":"#REF!"}]
[{"$f":"IF(入力シート!#REF!=\"\",\"\",大会コード)","v":{"$error":"#REF!"}},{"$f":"IF(入力シート!#REF!=\"\",\"\",VLOOKUP(入力シート!#REF!,大会データ!$A$5:$F$372,3,FALSE))","v":{"$error":"#REF!"}},{"$f":"IF(入力シート!#REF!=\"\",\"\",VLOOKUP(入力シート!#REF!,大会データ!$A$5:$F$372,4,FALSE))","v":{"$error":"#REF!"}},{"$f":"IF(入力シート!#REF!=\"\",\"\",VLOOKUP(入力シート!#REF!,大会データ!$A$5:$F$372,5,FALSE))","v":{"$error":"#REF!"}},{"$f":"IF(入力シート!#REF!=\"\",\"\",基礎データ!$B$6)","v":{"$error":"#REF!"}},{"$f":"IF(入力シート!#REF!=\"\",\"\",B256)","v":{"$error":"#REF!"}},{"$f":"IF(入力シート!#REF!=\"\",\"\",IF(入力シート!#REF!=\"\",TEXT(入力シート!#REF!,\"00\"),入力シート!#REF!))","v":{"$error":"#REF!"}},null,null,{"$f":"IF(入力シート!#REF!=\"\",\"\",入力シート!#REF!)","v":{"$error":"#REF!"}},null,null,null,null,null,null,null,null,null,null,null,null,null,null,null,null,{"$error":"#REF!"},{"$error":"#REF!"},{"$error":"#REF!"},{"$f":"IF($AC256=\"\",\"\",入力シート!#REF!)","v":{"$error":"#REF!"}},{"$f":"IF($AC256=\"\",\"\",入力シート!#REF!)","v":{"$error":"#REF!"}},{"$f":"IF($AC256=\"\",\"\",入力シート!#REF!)","v":{"$error":"#REF!"}},{"$error":"#REF!"}]
[{"$f":"IF(入力シート!#REF!=\"\",\"\",大会コード)","v":{"$error":"#REF!"}},{"$f":"IF(入力シート!#REF!=\"\",\"\",VLOOKUP(入力シート!#REF!,大会データ!$A$5:$F$372,3,FALSE))","v":{"$error":"#REF!"}},{"$f":"IF(入力シート!#REF!=\"\",\"\",VLOOKUP(入力シート!#REF!,大会データ!$A$5:$F$372,4,FALSE))","v":{"$error":"#REF!"}},{"$f":"IF(入力シート!#REF!=\"\",\"\",VLOOKUP(入力シート!#REF!,大会データ!$A$5:$F$372,5,FALSE))","v":{"$error":"#REF!"}},{"$f":"IF(入力シート!#REF!=\"\",\"\",基礎データ!$B$6)","v":{"$error":"#REF!"}},{"$f":"IF(入力シート!#REF!=\"\",\"\",B257)","v":{"$error":"#REF!"}},{"$f":"IF(入力シート!#REF!=\"\",\"\",IF(入力シート!#REF!=\"\",TEXT(入力シート!#REF!,\"00\"),入力シート!#REF!))","v":{"$error":"#REF!"}},null,null,{"$f":"IF(入力シート!#REF!=\"\",\"\",入力シート!#REF!)","v":{"$error":"#REF!"}},null,null,null,null,null,null,null,null,null,null,null,null,null,null,null,null,{"$error":"#REF!"},{"$error":"#REF!"},{"$error":"#REF!"},{"$f":"IF($AC257=\"\",\"\",入力シート!#REF!)","v":{"$error":"#REF!"}},{"$f":"IF($AC257=\"\",\"\",入力シート!#REF!)","v":{"$error":"#REF!"}},{"$f":"IF($AC257=\"\",\"\",入力シート!#REF!)","v":{"$error":"#REF!"}},{"$error":"#REF!"}]
[{"$f":"IF(入力シート!#REF!=\"\",\"\",大会コード)","v":{"$error":"#REF!"}},{"$f":"IF(入力シート!#REF!=\"\",\"\",VLOOKUP(入力シート!#REF!,大会データ!$A$5:$F$372,3,FALSE))","v":{"$error":"#REF!"}},{"$f":"IF(入力シート!#REF!=\"\",\"\",VLOOKUP(入力シート!#REF!,大会データ!$A$5:$F$372,4,FALSE))","v":{"$error":"#REF!"}},{"$f":"IF(入力シート!#REF!=\"\",\"\",VLOOKUP(入力シート!#REF!,大会データ!$A$5:$F$372,5,FALSE))","v":{"$error":"#REF!"}},{"$f":"IF(入力シート!#REF!=\"\",\"\",基礎データ!$B$6)","v":{"$error":"#REF!"}},{"$f":"IF(入力シート!#REF!=\"\",\"\",B258)","v":{"$error":"#REF!"}},{"$f":"IF(入力シート!#REF!=\"\",\"\",IF(入力シート!#REF!=\"\",TEXT(入力シート!#REF!,\"00\"),入力シート!#REF!))","v":{"$error":"#REF!"}},null,null,{"$f":"IF(入力シート!#REF!=\"\",\"\",入力シート!#REF!)","v":{"$error":"#REF!"}},null,null,null,null,null,null,null,null,null,null,null,null,null,null,null,null,{"$error":"#REF!"},{"$error":"#REF!"},{"$error":"#REF!"},{"$f":"IF($AC258=\"\",\"\",入力シート!#REF!)","v":{"$error":"#REF!"}},{"$f":"IF($AC258=\"\",\"\",入力シート!#REF!)","v":{"$error":"#REF!"}},{"$f":"IF($AC258=\"\",\"\",入力シート!#REF!)","v":{"$error":"#REF!"}},{"$error":"#REF!"}]
[{"$f":"IF(入力シート!#REF!=\"\",\"\",大会コード)","v":{"$error":"#REF!"}},{"$f":"IF(入力シート!#REF!=\"\",\"\",VLOOKUP(入力シート!#REF!,大会データ!$A$5:$F$372,3,FALSE))","v":{"$error":"#REF!"}},{"$f":"IF(入力シート!#REF!=\"\",\"\",VLOOKUP(入力シート!#REF!,大会データ!$A$5:$F$372,4,FALSE))","v":{"$error":"#REF!"}},{"$f":"IF(入力シート!#REF!=\"\",\"\",VLOOKUP(入力シート!#REF!,大会データ!$A$5:$F$372,5,FALSE))","v":{"$error":"#REF!"}},{"$f":"IF(入力シート!#REF!=\"\",\"\",基礎データ!$B$6)","v":{"$error":"#REF!"}},{"$f":"IF(入力シート!#REF!=\"\",\"\",B259)","v":{"$error":"#REF!"}},{"$f":"IF(入力シート!#REF!=\"\",\"\",IF(入力シート!#REF!=\"\",TEXT(入力シート!#REF!,\"00\"),入力シート!#REF!))","v":{"$error":"#REF!"}},null,null,{"$f":"IF(入力シート!#REF!=\"\",\"\",入力シート!#REF!)","v":{"$error":"#REF!"}},null,null,null,null,null,null,null,null,null,null,null,null,null,null,null,null,{"$error":"#REF!"},{"$error":"#REF!"},{"$error":"#REF!"},{"$f":"IF($AC259=\"\",\"\",入力シート!#REF!)","v":{"$error":"#REF!"}},{"$f":"IF($AC259=\"\",\"\",入力シート!#REF!)","v":{"$error":"#REF!"}},{"$f":"IF($AC259=\"\",\"\",入力シート!#REF!)","v":{"$error":"#REF!"}},{"$error":"#REF!"}]
[{"$f":"IF(入力シート!#REF!=\"\",\"\",大会コード)","v":{"$error":"#REF!"}},{"$f":"IF(入力シート!#REF!=\"\",\"\",VLOOKUP(入力シート!#REF!,大会データ!$A$5:$F$372,3,FALSE))","v":{"$error":"#REF!"}},{"$f":"IF(入力シート!#REF!=\"\",\"\",VLOOKUP(入力シート!#REF!,大会データ!$A$5:$F$372,4,FALSE))","v":{"$error":"#REF!"}},{"$f":"IF(入力シート!#REF!=\"\",\"\",VLOOKUP(入力シート!#REF!,大会データ!$A$5:$F$372,5,FALSE))","v":{"$error":"#REF!"}},{"$f":"IF(入力シート!#REF!=\"\",\"\",基礎データ!$B$6)","v":{"$error":"#REF!"}},{"$f":"IF(入力シート!#REF!=\"\",\"\",B260)","v":{"$error":"#REF!"}},{"$f":"IF(入力シート!#REF!=\"\",\"\",IF(入力シート!#REF!=\"\",TEXT(入力シート!#REF!,\"00\"),入力シート!#REF!))","v":{"$error":"#REF!"}},null,null,{"$f":"IF(入力シート!#REF!=\"\",\"\",入力シート!#REF!)","v":{"$error":"#REF!"}},null,null,null,null,null,null,null,null,null,null,null,null,null,null,null,null,{"$error":"#REF!"},{"$error":"#REF!"},{"$error":"#REF!"},{"$f":"IF($AC260=\"\",\"\",入力シート!#REF!)","v":{"$error":"#REF!"}},{"$f":"IF($AC260=\"\",\"\",入力シート!#REF!)","v":{"$error":"#REF!"}},{"$f":"IF($AC260=\"\",\"\",入力シート!#REF!)","v":{"$error":"#REF!"}},{"$error":"#REF!"}]
[{"$f":"IF(入力シート!#REF!=\"\",\"\",大会コード)","v":{"$error":"#REF!"}},{"$f":"IF(入力シート!#REF!=\"\",\"\",VLOOKUP(入力シート!#REF!,大会データ!$A$5:$F$372,3,FALSE))","v":{"$error":"#REF!"}},{"$f":"IF(入力シート!#REF!=\"\",\"\",VLOOKUP(入力シート!#REF!,大会データ!$A$5:$F$372,4,FALSE))","v":{"$error":"#REF!"}},{"$f":"IF(入力シート!#REF!=\"\",\"\",VLOOKUP(入力シート!#REF!,大会データ!$A$5:$F$372,5,FALSE))","v":{"$error":"#REF!"}},{"$f":"IF(入力シート!#REF!=\"\",\"\",基礎データ!$B$6)","v":{"$error":"#REF!"}},{"$f":"IF(入力シート!#REF!=\"\",\"\",B261)","v":{"$error":"#REF!"}},{"$f":"IF(入力シート!#REF!=\"\",\"\",IF(入力シート!#REF!=\"\",TEXT(入力シート!#REF!,\"00\"),入力シート!#REF!))","v":{"$error":"#REF!"}},null,null,{"$f":"IF(入力シート!#REF!=\"\",\"\",入力シート!#REF!)","v":{"$error":"#REF!"}},null,null,null,null,null,null,null,null,null,null,null,null,null,null,null,null,{"$f":"E261","v":{"$error":"#REF!"}},{"$f":"B261","v":{"$error":"#REF!"}},{"$f":"G261","v":{"$error":"#REF!"}},{"$f":"IF($AC261=\"\",\"\",入力シート!#REF!)","v":{"$error":"#REF!"}},{"$f":"IF($AC261=\"\",\"\",入力シート!#REF!)","v":{"$error":"#REF!"}},{"$f":"IF($AC261=\"\",\"\",入力シート!#REF!)","v":{"$error":"#REF!"}},{"$f":"IF($AC261=\"\",\"\",2016-AF261)","v":{"$error":"#REF!"}}]
[{"$f":"IF(入力シート!#REF!=\"\",\"\",大会コード)","v":{"$error":"#REF!"}},{"$f":"IF(入力シート!#REF!=\"\",\"\",VLOOKUP(入力シート!#REF!,大会データ!$A$5:$F$372,3,FALSE))","v":{"$error":"#REF!"}},{"$f":"IF(入力シート!#REF!=\"\",\"\",VLOOKUP(入力シート!#REF!,大会データ!$A$5:$F$372,4,FALSE))","v":{"$error":"#REF!"}},{"$f":"IF(入力シート!#REF!=\"\",\"\",VLOOKUP(入力シート!#REF!,大会データ!$A$5:$F$372,5,FALSE))","v":{"$error":"#REF!"}},{"$f":"IF(入力シート!#REF!=\"\",\"\",基礎データ!$B$6)","v":{"$error":"#REF!"}},{"$f":"IF(入力シート!#REF!=\"\",\"\",B262)","v":{"$error":"#REF!"}},{"$f":"IF(入力シート!#REF!=\"\",\"\",IF(入力シート!#REF!=\"\",TEXT(入力シート!#REF!,\"00\"),入力シート!#REF!))","v":{"$error":"#REF!"}},null,null,{"$f":"IF(入力シート!#REF!=\"\",\"\",入力シート!#REF!)","v":{"$error":"#REF!"}},null,null,null,null,null,null,null,null,null,null,null,null,null,null,null,null,{"$error":"#REF!"},{"$error":"#REF!"},{"$error":"#REF!"},{"$f":"IF($AC262=\"\",\"\",入力シート!#REF!)","v":{"$error":"#REF!"}},{"$f":"IF($AC262=\"\",\"\",入力シート!#REF!)","v":{"$error":"#REF!"}},{"$f":"IF($AC262=\"\",\"\",入力シート!#REF!)","v":{"$error":"#REF!"}},{"$error":"#REF!"}]
[{"$f":"IF(入力シート!#REF!=\"\",\"\",大会コード)","v":{"$error":"#REF!"}},{"$f":"IF(入力シート!#REF!=\"\",\"\",VLOOKUP(入力シート!#REF!,大会データ!$A$5:$F$372,3,FALSE))","v":{"$error":"#REF!"}},{"$f":"IF(入力シート!#REF!=\"\",\"\",VLOOKUP(入力シート!#REF!,大会データ!$A$5:$F$372,4,FALSE))","v":{"$error":"#REF!"}},{"$f":"IF(入力シート!#REF!=\"\",\"\",VLOOKUP(入力シート!#REF!,大会データ!$A$5:$F$372,5,FALSE))","v":{"$error":"#REF!"}},{"$f":"IF(入力シート!#REF!=\"\",\"\",基礎データ!$B$6)","v":{"$error":"#REF!"}},{"$f":"IF(入力シート!#REF!=\"\",\"\",B263)","v":{"$error":"#REF!"}},{"$f":"IF(入力シート!#REF!=\"\",\"\",IF(入力シート!#REF!=\"\",TEXT(入力シート!#REF!,\"00\"),入力シート!#REF!))","v":{"$error":"#REF!"}},null,null,{"$f":"IF(入力シート!#REF!=\"\",\"\",入力シート!#REF!)","v":{"$error":"#REF!"}},null,null,null,null,null,null,null,null,null,null,null,null,null,null,null,null,{"$error":"#REF!"},{"$error":"#REF!"},{"$error":"#REF!"},{"$f":"IF($AC263=\"\",\"\",入力シート!#REF!)","v":{"$error":"#REF!"}},{"$f":"IF($AC263=\"\",\"\",入力シート!#REF!)","v":{"$error":"#REF!"}},{"$f":"IF($AC263=\"\",\"\",入力シート!#REF!)","v":{"$error":"#REF!"}},{"$error":"#REF!"}]
[{"$f":"IF(入力シート!#REF!=\"\",\"\",大会コード)","v":{"$error":"#REF!"}},{"$f":"IF(入力シート!#REF!=\"\",\"\",VLOOKUP(入力シート!#REF!,大会データ!$A$5:$F$372,3,FALSE))","v":{"$error":"#REF!"}},{"$f":"IF(入力シート!#REF!=\"\",\"\",VLOOKUP(入力シート!#REF!,大会データ!$A$5:$F$372,4,FALSE))","v":{"$error":"#REF!"}},{"$f":"IF(入力シート!#REF!=\"\",\"\",VLOOKUP(入力シート!#REF!,大会データ!$A$5:$F$372,5,FALSE))","v":{"$error":"#REF!"}},{"$f":"IF(入力シート!#REF!=\"\",\"\",基礎データ!$B$6)","v":{"$error":"#REF!"}},{"$f":"IF(入力シート!#REF!=\"\",\"\",B264)","v":{"$error":"#REF!"}},{"$f":"IF(入力シート!#REF!=\"\",\"\",IF(入力シート!#REF!=\"\",TEXT(入力シート!#REF!,\"00\"),入力シート!#REF!))","v":{"$error":"#REF!"}},null,null,{"$f":"IF(入力シート!#REF!=\"\",\"\",入力シート!#REF!)","v":{"$error":"#REF!"}},null,null,null,null,null,null,null,null,null,null,null,null,null,null,null,null,{"$error":"#REF!"},{"$error":"#REF!"},{"$error":"#REF!"},{"$f":"IF($AC264=\"\",\"\",入力シート!#REF!)","v":{"$error":"#REF!"}},{"$f":"IF($AC264=\"\",\"\",入力シート!#REF!)","v":{"$error":"#REF!"}},{"$f":"IF($AC264=\"\",\"\",入力シート!#REF!)","v":{"$error":"#REF!"}},{"$error":"#REF!"}]
[{"$f":"IF(入力シート!#REF!=\"\",\"\",大会コード)","v":{"$error":"#REF!"}},{"$f":"IF(入力シート!#REF!=\"\",\"\",VLOOKUP(入力シート!#REF!,大会データ!$A$5:$F$372,3,FALSE))","v":{"$error":"#REF!"}},{"$f":"IF(入力シート!#REF!=\"\",\"\",VLOOKUP(入力シート!#REF!,大会データ!$A$5:$F$372,4,FALSE))","v":{"$error":"#REF!"}},{"$f":"IF(入力シート!#REF!=\"\",\"\",VLOOKUP(入力シート!#REF!,大会データ!$A$5:$F$372,5,FALSE))","v":{"$error":"#REF!"}},{"$f":"IF(入力シート!#REF!=\"\",\"\",基礎データ!$B$6)","v":{"$error":"#REF!"}},{"$f":"IF(入力シート!#REF!=\"\",\"\",B265)","v":{"$error":"#REF!"}},{"$f":"IF(入力シート!#REF!=\"\",\"\",IF(入力シート!#REF!=\"\",TEXT(入力シート!#REF!,\"00\"),入力シート!#REF!))","v":{"$error":"#REF!"}},null,null,{"$f":"IF(入力シート!#REF!=\"\",\"\",入力シート!#REF!)","v":{"$error":"#REF!"}},null,null,null,null,null,null,null,null,null,null,null,null,null,null,null,null,{"$error":"#REF!"},{"$error":"#REF!"},{"$error":"#REF!"},{"$f":"IF($AC265=\"\",\"\",入力シート!#REF!)","v":{"$error":"#REF!"}},{"$f":"IF($AC265=\"\",\"\",入力シート!#REF!)","v":{"$error":"#REF!"}},{"$f":"IF($AC265=\"\",\"\",入力シート!#REF!)","v":{"$error":"#REF!"}},{"$error":"#REF!"}]
[{"$f":"IF(入力シート!#REF!=\"\",\"\",大会コード)","v":{"$error":"#REF!"}},{"$f":"IF(入力シート!#REF!=\"\",\"\",VLOOKUP(入力シート!#REF!,大会データ!$A$5:$F$372,3,FALSE))","v":{"$error":"#REF!"}},{"$f":"IF(入力シート!#REF!=\"\",\"\",VLOOKUP(入力シート!#REF!,大会データ!$A$5:$F$372,4,FALSE))","v":{"$error":"#REF!"}},{"$f":"IF(入力シート!#REF!=\"\",\"\",VLOOKUP(入力シート!#REF!,大会データ!$A$5:$F$372,5,FALSE))","v":{"$error":"#REF!"}},{"$f":"IF(入力シート!#REF!=\"\",\"\",基礎データ!$B$6)","v":{"$error":"#REF!"}},{"$f":"IF(入力シート!#REF!=\"\",\"\",B266)","v":{"$error":"#REF!"}},{"$f":"IF(入力シート!#REF!=\"\",\"\",IF(入力シート!#REF!=\"\",TEXT(入力シート!#REF!,\"00\"),入力シート!#REF!))","v":{"$error":"#REF!"}},null,null,{"$f":"IF(入力シート!#REF!=\"\",\"\",入力シート!#REF!)","v":{"$error":"#REF!"}},null,null,null,null,null,null,null,null,null,null,null,null,null,null,null,null,{"$error":"#REF!"},{"$error":"#REF!"},{"$error":"#REF!"},{"$f":"IF($AC266=\"\",\"\",入力シート!#REF!)","v":{"$error":"#REF!"}},{"$f":"IF($AC266=\"\",\"\",入力シート!#REF!)","v":{"$error":"#REF!"}},{"$f":"IF($AC266=\"\",\"\",入力シート!#REF!)","v":{"$error":"#REF!"}},{"$error":"#REF!"}]
[{"$f":"IF(入力シート!#REF!=\"\",\"\",大会コード)","v":{"$error":"#REF!"}},{"$f":"IF(入力シート!#REF!=\"\",\"\",VLOOKUP(入力シート!#REF!,大会データ!$A$5:$F$372,3,FALSE))","v":{"$error":"#REF!"}},{"$f":"IF(入力シート!#REF!=\"\",\"\",VLOOKUP(入力シート!#REF!,大会データ!$A$5:$F$372,4,FALSE))","v":{"$error":"#REF!"}},{"$f":"IF(入力シート!#REF!=\"\",\"\",VLOOKUP(入力シート!#REF!,大会データ!$A$5:$F$372,5,FALSE))","v":{"$error":"#REF!"}},{"$f":"IF(入力シート!#REF!=\"\",\"\",基礎データ!$B$6)","v":{"$error":"#REF!"}},{"$f":"IF(入力シート!#REF!=\"\",\"\",B267)","v":{"$error":"#REF!"}},{"$f":"IF(入力シート!#REF!=\"\",\"\",IF(入力シート!#REF!=\"\",TEXT(入力シート!#REF!,\"00\"),入力シート!#REF!))","v":{"$error":"#REF!"}},null,null,{"$f":"IF(入力シート!#REF!=\"\",\"\",入力シート!#REF!)","v":{"$error":"#REF!"}},null,null,null,null,null,null,null,null,null,null,null,null,null,null,null,null,{"$error":"#REF!"},{"$error":"#REF!"},{"$error":"#REF!"},{"$f":"IF($AC267=\"\",\"\",入力シート!#REF!)","v":{"$error":"#REF!"}},{"$f":"IF($AC267=\"\",\"\",入力シート!#REF!)","v":{"$error":"#REF!"}},{"$f":"IF($AC267=\"\",\"\",入力シート!#REF!)","v":{"$error":"#REF!"}},{"$error":"#REF!"}]
[{"$f":"IF(入力シート!#REF!=\"\",\"\",大会コード)","v":{"$error":"#REF!"}},{"$f":"IF(入力シート!#REF!=\"\",\"\",VLOOKUP(入力シート!#REF!,大会データ!$A$5:$F$372,3,FALSE))","v":{"$error":"#REF!"}},{"$f":"IF(入力シート!#REF!=\"\",\"\",VLOOKUP(入力シート!#REF!,大会データ!$A$5:$F$372,4,FALSE))","v":{"$error":"#REF!"}},{"$f":"IF(入力シート!#REF!=\"\",\"\",VLOOKUP(入力シート!#REF!,大会データ!$A$5:$F$372,5,FALSE))","v":{"$error":"#REF!"}},{"$f":"IF(入力シート!#REF!=\"\",\"\",基礎データ!$B$6)","v":{"$error":"#REF!"}},{"$f":"IF(入力シート!#REF!=\"\",\"\",B268)","v":{"$error":"#REF!"}},{"$f":"IF(入力シート!#REF!=\"\",\"\",IF(入力シート!#REF!=\"\",TEXT(入力シート!#REF!,\"00\"),入力シート!#REF!))","v":{"$error":"#REF!"}},null,null,{"$f":"IF(入力シート!#REF!=\"\",\"\",入力シート!#REF!)","v":{"$error":"#REF!"}},null,null,null,null,null,null,null,null,null,null,null,null,null,null,null,null,{"$error":"#REF!"},{"$error":"#REF!"},{"$error":"#REF!"},{"$f":"IF($AC268=\"\",\"\",入力シート!#REF!)","v":{"$error":"#REF!"}},{"$f":"IF($AC268=\"\",\"\",入力シート!#REF!)","v":{"$error":"#REF!"}},{"$f":"IF($AC268=\"\",\"\",入力シート!#REF!)","v":{"$error":"#REF!"}},{"$error":"#REF!"}]
[{"$f":"IF(入力シート!#REF!=\"\",\"\",大会コード)","v":{"$error":"#REF!"}},{"$f":"IF(入力シート!#REF!=\"\",\"\",VLOOKUP(入力シート!#REF!,大会データ!$A$5:$F$372,3,FALSE))","v":{"$error":"#REF!"}},{"$f":"IF(入力シート!#REF!=\"\",\"\",VLOOKUP(入力シート!#REF!,大会データ!$A$5:$F$372,4,FALSE))","v":{"$error":"#REF!"}},{"$f":"IF(入力シート!#REF!=\"\",\"\",VLOOKUP(入力シート!#REF!,大会データ!$A$5:$F$372,5,FALSE))","v":{"$error":"#REF!"}},{"$f":"IF(入力シート!#REF!=\"\",\"\",基礎データ!$B$6)","v":{"$error":"#REF!"}},{"$f":"IF(入力シート!#REF!=\"\",\"\",B269)","v":{"$error":"#REF!"}},{"$f":"IF(入力シート!#REF!=\"\",\"\",IF(入力シート!#REF!=\"\",TEXT(入力シート!#REF!,\"00\"),入力シート!#REF!))","v":{"$error":"#REF!"}},null,null,{"$f":"IF(入力シート!#REF!=\"\",\"\",入力シート!#REF!)","v":{"$error":"#REF!"}},null,null,null,null,null,null,null,null,null,null,null,null,null,null,null,null,{"$error":"#REF!"},{"$error":"#REF!"},{"$error":"#REF!"},{"$f":"IF($AC269=\"\",\"\",入力シート!#REF!)","v":{"$error":"#REF!"}},{"$f":"IF($AC269=\"\",\"\",入力シート!#REF!)","v":{"$error":"#REF!"}},{"$f":"IF($AC269=\"\",\"\",入力シート!#REF!)","v":{"$error":"#REF!"}},{"$error":"#REF!"}]
[{"$f":"IF(入力シート!#REF!=\"\",\"\",大会コード)","v":{"$error":"#REF!"}},{"$f":"IF(入力シート!#REF!=\"\",\"\",VLOOKUP(入力シート!#REF!,大会データ!$A$5:$F$372,3,FALSE))","v":{"$error":"#REF!"}},{"$f":"IF(入力シート!#REF!=\"\",\"\",VLOOKUP(入力シート!#REF!,大会データ!$A$5:$F$372,4,FALSE))","v":{"$error":"#REF!"}},{"$f":"IF(入力シート!#REF!=\"\",\"\",VLOOKUP(入力シート!#REF!,大会データ!$A$5:$F$372,5,FALSE))","v":{"$error":"#REF!"}},{"$f":"IF(入力シート!#REF!=\"\",\"\",基礎データ!$B$6)","v":{"$error":"#REF!"}},{"$f":"IF(入力シート!#REF!=\"\",\"\",B270)","v":{"$error":"#REF!"}},{"$f":"IF(入力シート!#REF!=\"\",\"\",IF(入力シート!#REF!=\"\",TEXT(入力シート!#REF!,\"00\"),入力シート!#REF!))","v":{"$error":"#REF!"}},null,null,{"$f":"IF(入力シート!#REF!=\"\",\"\",入力シート!#REF!)","v":{"$error":"#REF!"}},null,null,null,null,null,null,null,null,null,null,null,null,null,null,null,null,{"$error":"#REF!"},{"$error":"#REF!"},{"$error":"#REF!"},{"$f":"IF($AC270=\"\",\"\",入力シート!#REF!)","v":{"$error":"#REF!"}},{"$f":"IF($AC270=\"\",\"\",入力シート!#REF!)","v":{"$error":"#REF!"}},{"$f":"IF($AC270=\"\",\"\",入力シート!#REF!)","v":{"$error":"#REF!"}},{"$error":"#REF!"}]
[{"$f":"IF(入力シート!#REF!=\"\",\"\",大会コード)","v":{"$error":"#REF!"}},{"$f":"IF(入力シート!#REF!=\"\",\"\",VLOOKUP(入力シート!#REF!,大会データ!$A$5:$F$372,3,FALSE))","v":{"$error":"#REF!"}},{"$f":"IF(入力シート!#REF!=\"\",\"\",VLOOKUP(入力シート!#REF!,大会データ!$A$5:$F$372,4,FALSE))","v":{"$error":"#REF!"}},{"$f":"IF(入力シート!#REF!=\"\",\"\",VLOOKUP(入力シート!#REF!,大会データ!$A$5:$F$372,5,FALSE))","v":{"$error":"#REF!"}},{"$f":"IF(入力シート!#REF!=\"\",\"\",基礎データ!$B$6)","v":{"$error":"#REF!"}},{"$f":"IF(入力シート!#REF!=\"\",\"\",B271)","v":{"$error":"#REF!"}},{"$f":"IF(入力シート!#REF!=\"\",\"\",IF(入力シート!#REF!=\"\",TEXT(入力シート!#REF!,\"00\"),入力シート!#REF!))","v":{"$error":"#REF!"}},null,null,{"$f":"IF(入力シート!#REF!=\"\",\"\",入力シート!#REF!)","v":{"$error":"#REF!"}},null,null,null,null,null,null,null,null,null,null,null,null,null,null,null,null,{"$error":"#REF!"},{"$error":"#REF!"},{"$error":"#REF!"},{"$f":"IF($AC271=\"\",\"\",入力シート!#REF!)","v":{"$error":"#REF!"}},{"$f":"IF($AC271=\"\",\"\",入力シート!#REF!)","v":{"$error":"#REF!"}},{"$f":"IF($AC271=\"\",\"\",入力シート!#REF!)","v":{"$error":"#REF!"}},{"$error":"#REF!"}]
[{"$f":"IF(入力シート!#REF!=\"\",\"\",大会コード)","v":{"$error":"#REF!"}},{"$f":"IF(入力シート!#REF!=\"\",\"\",VLOOKUP(入力シート!#REF!,大会データ!$A$5:$F$372,3,FALSE))","v":{"$error":"#REF!"}},{"$f":"IF(入力シート!#REF!=\"\",\"\",VLOOKUP(入力シート!#REF!,大会データ!$A$5:$F$372,4,FALSE))","v":{"$error":"#REF!"}},{"$f":"IF(入力シート!#REF!=\"\",\"\",VLOOKUP(入力シート!#REF!,大会データ!$A$5:$F$372,5,FALSE))","v":{"$error":"#REF!"}},{"$f":"IF(入力シート!#REF!=\"\",\"\",基礎データ!$B$6)","v":{"$error":"#REF!"}},{"$f":"IF(入力シート!#REF!=\"\",\"\",B272)","v":{"$error":"#REF!"}},{"$f":"IF(入力シート!#REF!=\"\",\"\",IF(入力シート!#REF!=\"\",TEXT(入力シート!#REF!,\"00\"),入力シート!#REF!))","v":{"$error":"#REF!"}},null,null,{"$f":"IF(入力シート!#REF!=\"\",\"\",入力シート!#REF!)","v":{"$error":"#REF!"}},null,null,null,null,null,null,null,null,null,null,null,null,null,null,null,null,{"$error":"#REF!"},{"$error":"#REF!"},{"$error":"#REF!"},{"$f":"IF($AC272=\"\",\"\",入力シート!#REF!)","v":{"$error":"#REF!"}},{"$f":"IF($AC272=\"\",\"\",入力シート!#REF!)","v":{"$error":"#REF!"}},{"$f":"IF($AC272=\"\",\"\",入力シート!#REF!)","v":{"$error":"#REF!"}},{"$error":"#REF!"}]
[{"$f":"IF(入力シート!#REF!=\"\",\"\",大会コード)","v":{"$error":"#REF!"}},{"$f":"IF(入力シート!#REF!=\"\",\"\",VLOOKUP(入力シート!#REF!,大会データ!$A$5:$F$372,3,FALSE))","v":{"$error":"#REF!"}},{"$f":"IF(入力シート!#REF!=\"\",\"\",VLOOKUP(入力シート!#REF!,大会データ!$A$5:$F$372,4,FALSE))","v":{"$error":"#REF!"}},{"$f":"IF(入力シート!#REF!=\"\",\"\",VLOOKUP(入力シート!#REF!,大会データ!$A$5:$F$372,5,FALSE))","v":{"$error":"#REF!"}},{"$f":"IF(入力シート!#REF!=\"\",\"\",基礎データ!$B$6)","v":{"$error":"#REF!"}},{"$f":"IF(入力シート!#REF!=\"\",\"\",B273)","v":{"$error":"#REF!"}},{"$f":"IF(入力シート!#REF!=\"\",\"\",IF(入力シート!#REF!=\"\",TEXT(入力シート!#REF!,\"00\"),入力シート!#REF!))","v":{"$error":"#REF!"}},null,null,{"$f":"IF(入力シート!#REF!=\"\",\"\",入力シート!#REF!)","v":{"$error":"#REF!"}},null,null,null,null,null,null,null,null,null,null,null,null,null,null,null,null,{"$error":"#REF!"},{"$error":"#REF!"},{"$error":"#REF!"},{"$f":"IF($AC273=\"\",\"\",入力シート!#REF!)","v":{"$error":"#REF!"}},{"$f":"IF($AC273=\"\",\"\",入力シート!#REF!)","v":{"$error":"#REF!"}},{"$f":"IF($AC273=\"\",\"\",入力シート!#REF!)","v":{"$error":"#REF!"}},{"$error":"#REF!"}]
[{"$f":"IF(入力シート!#REF!=\"\",\"\",大会コード)","v":{"$error":"#REF!"}},{"$f":"IF(入力シート!#REF!=\"\",\"\",VLOOKUP(入力シート!#REF!,大会データ!$A$5:$F$372,3,FALSE))","v":{"$error":"#REF!"}},{"$f":"IF(入力シート!#REF!=\"\",\"\",VLOOKUP(入力シート!#REF!,大会データ!$A$5:$F$372,4,FALSE))","v":{"$error":"#REF!"}},{"$f":"IF(入力シート!#REF!=\"\",\"\",VLOOKUP(入力シート!#REF!,大会データ!$A$5:$F$372,5,FALSE))","v":{"$error":"#REF!"}},{"$f":"IF(入力シート!#REF!=\"\",\"\",基礎データ!$B$6)","v":{"$error":"#REF!"}},{"$f":"IF(入力シート!#REF!=\"\",\"\",B274)","v":{"$error":"#REF!"}},{"$f":"IF(入力シート!#REF!=\"\",\"\",IF(入力シート!#REF!=\"\",TEXT(入力シート!#REF!,\"00\"),入力シート!#REF!))","v":{"$error":"#REF!"}},null,null,{"$f":"IF(入力シート!#REF!=\"\",\"\",入力シート!#REF!)","v":{"$error":"#REF!"}},null,null,null,null,null,null,null,null,null,null,null,null,null,null,null,null,{"$error":"#REF!"},{"$error":"#REF!"},{"$error":"#REF!"},{"$f":"IF($AC274=\"\",\"\",入力シート!#REF!)","v":{"$error":"#REF!"}},{"$f":"IF($AC274=\"\",\"\",入力シート!#REF!)","v":{"$error":"#REF!"}},{"$f":"IF($AC274=\"\",\"\",入力シート!#REF!)","v":{"$error":"#REF!"}},{"$error":"#REF!"}]
[{"$f":"IF(入力シート!#REF!=\"\",\"\",大会コード)","v":{"$error":"#REF!"}},{"$f":"IF(入力シート!#REF!=\"\",\"\",VLOOKUP(入力シート!#REF!,大会データ!$A$5:$F$372,3,FALSE))","v":{"$error":"#REF!"}},{"$f":"IF(入力シート!#REF!=\"\",\"\",VLOOKUP(入力シート!#REF!,大会データ!$A$5:$F$372,4,FALSE))","v":{"$error":"#REF!"}},{"$f":"IF(入力シート!#REF!=\"\",\"\",VLOOKUP(入力シート!#REF!,大会データ!$A$5:$F$372,5,FALSE))","v":{"$error":"#REF!"}},{"$f":"IF(入力シート!#REF!=\"\",\"\",基礎データ!$B$6)","v":{"$error":"#REF!"}},{"$f":"IF(入力シート!#REF!=\"\",\"\",B275)","v":{"$error":"#REF!"}},{"$f":"IF(入力シート!#REF!=\"\",\"\",IF(入力シート!#REF!=\"\",TEXT(入力シート!#REF!,\"00\"),入力シート!#REF!))","v":{"$error":"#REF!"}},null,null,{"$f":"IF(入力シート!#REF!=\"\",\"\",入力シート!#REF!)","v":{"$error":"#REF!"}},null,null,null,null,null,null,null,null,null,null,null,null,null,null,null,null,{"$error":"#REF!"},{"$error":"#REF!"},{"$error":"#REF!"},{"$f":"IF($AC275=\"\",\"\",入力シート!#REF!)","v":{"$error":"#REF!"}},{"$f":"IF($AC275=\"\",\"\",入力シート!#REF!)","v":{"$error":"#REF!"}},{"$f":"IF($AC275=\"\",\"\",入力シート!#REF!)","v":{"$error":"#REF!"}},{"$error":"#REF!"}]
[{"$f":"IF(入力シート!#REF!=\"\",\"\",大会コード)","v":{"$error":"#REF!"}},{"$f":"IF(入力シート!#REF!=\"\",\"\",VLOOKUP(入力シート!#REF!,大会データ!$A$5:$F$372,3,FALSE))","v":{"$error":"#REF!"}},{"$f":"IF(入力シート!#REF!=\"\",\"\",VLOOKUP(入力シート!#REF!,大会データ!$A$5:$F$372,4,FALSE))","v":{"$error":"#REF!"}},{"$f":"IF(入力シート!#REF!=\"\",\"\",VLOOKUP(入力シート!#REF!,大会データ!$A$5:$F$372,5,FALSE))","v":{"$error":"#REF!"}},{"$f":"IF(入力シート!#REF!=\"\",\"\",基礎データ!$B$6)","v":{"$error":"#REF!"}},{"$f":"IF(入力シート!#REF!=\"\",\"\",B276)","v":{"$error":"#REF!"}},{"$f":"IF(入力シート!#REF!=\"\",\"\",IF(入力シート!#REF!=\"\",TEXT(入力シート!#REF!,\"00\"),入力シート!#REF!))","v":{"$error":"#REF!"}},null,null,{"$f":"IF(入力シート!#REF!=\"\",\"\",入力シート!#REF!)","v":{"$error":"#REF!"}},null,null,null,null,null,null,null,null,null,null,null,null,null,null,null,null,{"$error":"#REF!"},{"$error":"#REF!"},{"$error":"#REF!"},{"$f":"IF($AC276=\"\",\"\",入力シート!#REF!)","v":{"$error":"#REF!"}},{"$f":"IF($AC276=\"\",\"\",入力シート!#REF!)","v":{"$error":"#REF!"}},{"$f":"IF($AC276=\"\",\"\",入力シート!#REF!)","v":{"$error":"#REF!"}},{"$error":"#REF!"}]
[{"$f":"IF(入力シート!#REF!=\"\",\"\",大会コード)","v":{"$error":"#REF!"}},{"$f":"IF(入力シート!#REF!=\"\",\"\",VLOOKUP(入力シート!#REF!,大会データ!$A$5:$F$372,3,FALSE))","v":{"$error":"#REF!"}},{"$f":"IF(入力シート!#REF!=\"\",\"\",VLOOKUP(入力シート!#REF!,大会データ!$A$5:$F$372,4,FALSE))","v":{"$error":"#REF!"}},{"$f":"IF(入力シート!#REF!=\"\",\"\",VLOOKUP(入力シート!#REF!,大会データ!$A$5:$F$372,5,FALSE))","v":{"$error":"#REF!"}},{"$f":"IF(入力シート!#REF!=\"\",\"\",基礎データ!$B$6)","v":{"$error":"#REF!"}},{"$f":"IF(入力シート!#REF!=\"\",\"\",B277)","v":{"$error":"#REF!"}},{"$f":"IF(入力シート!#REF!=\"\",\"\",IF(入力シート!#REF!=\"\",TEXT(入力シート!#REF!,\"00\"),入力シート!#REF!))","v":{"$error":"#REF!"}},null,null,{"$f":"IF(入力シート!#REF!=\"\",\"\",入力シート!#REF!)","v":{"$error":"#REF!"}},null,null,null,null,null,null,null,null,null,null,null,null,null,null,null,null,{"$error":"#REF!"},{"$error":"#REF!"},{"$error":"#REF!"},{"$f":"IF($AC277=\"\",\"\",入力シート!#REF!)","v":{"$error":"#REF!"}},{"$f":"IF($AC277=\"\",\"\",入力シート!#REF!)","v":{"$error":"#REF!"}},{"$f":"IF($AC277=\"\",\"\",入力シート!#REF!)","v":{"$error":"#REF!"}},{"$error":"#REF!"}]
[{"$f":"IF(入力シート!#REF!=\"\",\"\",大会コード)","v":{"$error":"#REF!"}},{"$f":"IF(入力シート!#REF!=\"\",\"\",VLOOKUP(入力シート!#REF!,大会データ!$A$5:$F$372,3,FALSE))","v":{"$error":"#REF!"}},{"$f":"IF(入力シート!#REF!=\"\",\"\",VLOOKUP(入力シート!#REF!,大会データ!$A$5:$F$372,4,FALSE))","v":{"$error":"#REF!"}},{"$f":"IF(入力シート!#REF!=\"\",\"\",VLOOKUP(入力シート!#REF!,大会データ!$A$5:$F$372,5,FALSE))","v":{"$error":"#REF!"}},{"$f":"IF(入力シート!#REF!=\"\",\"\",基礎データ!$B$6)","v":{"$error":"#REF!"}},{"$f":"IF(入力シート!#REF!=\"\",\"\",B278)","v":{"$error":"#REF!"}},{"$f":"IF(入力シート!#REF!=\"\",\"\",IF(入力シート!#REF!=\"\",TEXT(入力シート!#REF!,\"00\"),入力シート!#REF!))","v":{"$error":"#REF!"}},null,null,{"$f":"IF(入力シート!#REF!=\"\",\"\",入力シート!#REF!)","v":{"$error":"#REF!"}},null,null,null,null,null,null,null,null,null,null,null,null,null,null,null,null,{"$error":"#REF!"},{"$error":"#REF!"},{"$error":"#REF!"},{"$f":"IF($AC278=\"\",\"\",入力シート!#REF!)","v":{"$error":"#REF!"}},{"$f":"IF($AC278=\"\",\"\",入力シート!#REF!)","v":{"$error":"#REF!"}},{"$f":"IF($AC278=\"\",\"\",入力シート!#REF!)","v":{"$error":"#REF!"}},{"$error":"#REF!"}]
[{"$f":"IF(入力シート!#REF!=\"\",\"\",大会コード)","v":{"$error":"#REF!"}},{"$f":"IF(入力シート!#REF!=\"\",\"\",VLOOKUP(入力シート!#REF!,大会データ!$A$5:$F$372,3,FALSE))","v":{"$error":"#REF!"}},{"$f":"IF(入力シート!#REF!=\"\",\"\",VLOOKUP(入力シート!#REF!,大会データ!$A$5:$F$372,4,FALSE))","v":{"$error":"#REF!"}},{"$f":"IF(入力シート!#REF!=\"\",\"\",VLOOKUP(入力シート!#REF!,大会データ!$A$5:$F$372,5,FALSE))","v":{"$error":"#REF!"}},{"$f":"IF(入力シート!#REF!=\"\",\"\",基礎データ!$B$6)","v":{"$error":"#REF!"}},{"$f":"IF(入力シート!#REF!=\"\",\"\",B279)","v":{"$error":"#REF!"}},{"$f":"IF(入力シート!#REF!=\"\",\"\",IF(入力シート!#REF!=\"\",TEXT(入力シート!#REF!,\"00\"),入力シート!#REF!))","v":{"$error":"#REF!"}},null,null,{"$f":"IF(入力シート!#REF!=\"\",\"\",入力シート!#REF!)","v":{"$error":"#REF!"}},null,null,null,null,null,null,null,null,null,null,null,null,null,null,null,null,{"$error":"#REF!"},{"$error":"#REF!"},{"$error":"#REF!"},{"$f":"IF($AC279=\"\",\"\",入力シート!#REF!)","v":{"$error":"#REF!"}},{"$f":"IF($AC279=\"\",\"\",入力シート!#REF!)","v":{"$error":"#REF!"}},{"$f":"IF($AC279=\"\",\"\",入力シート!#REF!)","v":{"$error":"#REF!"}},{"$error":"#REF!"}]
[{"$f":"IF(入力シート!#REF!=\"\",\"\",大会コード)","v":{"$error":"#REF!"}},{"$f":"IF(入力シート!#REF!=\"\",\"\",VLOOKUP(入力シート!#REF!,大会データ!$A$5:$F$372,3,FALSE))","v":{"$error":"#REF!"}},{"$f":"IF(入力シート!#REF!=\"\",\"\",VLOOKUP(入力シート!#REF!,大会データ!$A$5:$F$372,4,FALSE))","v":{"$error":"#REF!"}},{"$f":"IF(入力シート!#REF!=\"\",\"\",VLOOKUP(入力シート!#REF!,大会データ!$A$5:$F$372,5,FALSE))","v":{"$error":"#REF!"}},{"$f":"IF(入力シート!#REF!=\"\",\"\",基礎データ!$B$6)","v":{"$error":"#REF!"}},{"$f":"IF(入力シート!#REF!=\"\",\"\",B280)","v":{"$error":"#REF!"}},{"$f":"IF(入力シート!#REF!=\"\",\"\",IF(入力シート!#REF!=\"\",TEXT(入力シート!#REF!,\"00\"),入力シート!#REF!))","v":{"$error":"#REF!"}},null,null,{"$f":"IF(入力シート!#REF!=\"\",\"\",入力シート!#REF!)","v":{"$error":"#REF!"}},null,null,null,null,null,null,null,null,null,null,null,null,null,null,null,null,{"$error":"#REF!"},{"$error":"#REF!"},{"$error":"#REF!"},{"$f":"IF($AC280=\"\",\"\",入力シート!#REF!)","v":{"$error":"#REF!"}},{"$f":"IF($AC280=\"\",\"\",入力シート!#REF!)","v":{"$error":"#REF!"}},{"$f":"IF($AC280=\"\",\"\",入力シート!#REF!)","v":{"$error":"#REF!"}},{"$error":"#REF!"}]
[{"$f":"IF(入力シート!#REF!=\"\",\"\",大会コード)","v":{"$error":"#REF!"}},{"$f":"IF(入力シート!#REF!=\"\",\"\",VLOOKUP(入力シート!#REF!,大会データ!$A$5:$F$372,3,FALSE))","v":{"$error":"#REF!"}},{"$f":"IF(入力シート!#REF!=\"\",\"\",VLOOKUP(入力シート!#REF!,大会データ!$A$5:$F$372,4,FALSE))","v":{"$error":"#REF!"}},{"$f":"IF(入力シート!#REF!=\"\",\"\",VLOOKUP(入力シート!#REF!,大会データ!$A$5:$F$372,5,FALSE))","v":{"$error":"#REF!"}},{"$f":"IF(入力シート!#REF!=\"\",\"\",基礎データ!$B$6)","v":{"$error":"#REF!"}},{"$f":"IF(入力シート!#REF!=\"\",\"\",B281)","v":{"$error":"#REF!"}},{"$f":"IF(入力シート!#REF!=\"\",\"\",IF(入力シート!#REF!=\"\",TEXT(入力シート!#REF!,\"00\"),入力シート!#REF!))","v":{"$error":"#REF!"}},null,null,{"$f":"IF(入力シート!#REF!=\"\",\"\",入力シート!#REF!)","v":{"$error":"#REF!"}},null,null,null,null,null,null,null,null,null,null,null,null,null,null,null,null,{"$error":"#REF!"},{"$error":"#REF!"},{"$error":"#REF!"},{"$f":"IF($AC281=\"\",\"\",入力シート!#REF!)","v":{"$error":"#REF!"}},{"$f":"IF($AC281=\"\",\"\",入力シート!#REF!)","v":{"$error":"#REF!"}},{"$f":"IF($AC281=\"\",\"\",入力シート!#REF!)","v":{"$error":"#REF!"}},{"$error":"#REF!"}]
[{"$f":"IF(入力シート!#REF!=\"\",\"\",大会コード)","v":{"$error":"#REF!"}},{"$f":"IF(入力シート!#REF!=\"\",\"\",VLOOKUP(入力シート!#REF!,大会データ!$A$5:$F$372,3,FALSE))","v":{"$error":"#REF!"}},{"$f":"IF(入力シート!#REF!=\"\",\"\",VLOOKUP(入力シート!#REF!,大会データ!$A$5:$F$372,4,FALSE))","v":{"$error":"#REF!"}},{"$f":"IF(入力シート!#REF!=\"\",\"\",VLOOKUP(入力シート!#REF!,大会データ!$A$5:$F$372,5,FALSE))","v":{"$error":"#REF!"}},{"$f":"IF(入力シート!#REF!=\"\",\"\",基礎データ!$B$6)","v":{"$error":"#REF!"}},{"$f":"IF(入力シート!#REF!=\"\",\"\",B282)","v":{"$error":"#REF!"}},{"$f":"IF(入力シート!#REF!=\"\",\"\",IF(入力シート!#REF!=\"\",TEXT(入力シート!#REF!,\"00\"),入力シート!#REF!))","v":{"$error":"#REF!"}},null,null,{"$f":"IF(入力シート!#REF!=\"\",\"\",入力シート!#REF!)","v":{"$error":"#REF!"}},null,null,null,null,null,null,null,null,null,null,null,null,null,null,null,null,{"$error":"#REF!"},{"$error":"#REF!"},{"$error":"#REF!"},{"$f":"IF($AC282=\"\",\"\",入力シート!#REF!)","v":{"$error":"#REF!"}},{"$f":"IF($AC282=\"\",\"\",入力シート!#REF!)","v":{"$error":"#REF!"}},{"$f":"IF($AC282=\"\",\"\",入力シート!#REF!)","v":{"$error":"#REF!"}},{"$error":"#REF!"}]
[{"$f":"IF(入力シート!#REF!=\"\",\"\",大会コード)","v":{"$error":"#REF!"}},{"$f":"IF(入力シート!#REF!=\"\",\"\",VLOOKUP(入力シート!#REF!,大会データ!$A$5:$F$372,3,FALSE))","v":{"$error":"#REF!"}},{"$f":"IF(入力シート!#REF!=\"\",\"\",VLOOKUP(入力シート!#REF!,大会データ!$A$5:$F$372,4,FALSE))","v":{"$error":"#REF!"}},{"$f":"IF(入力シート!#REF!=\"\",\"\",VLOOKUP(入力シート!#REF!,大会データ!$A$5:$F$372,5,FALSE))","v":{"$error":"#REF!"}},{"$f":"IF(入力シート!#REF!=\"\",\"\",基礎データ!$B$6)","v":{"$error":"#REF!"}},{"$f":"IF(入力シート!#REF!=\"\",\"\",B283)","v":{"$error":"#REF!"}},{"$f":"IF(入力シート!#REF!=\"\",\"\",IF(入力シート!#REF!=\"\",TEXT(入力シート!#REF!,\"00\"),入力シート!#REF!))","v":{"$error":"#REF!"}},null,null,{"$f":"IF(入力シート!#REF!=\"\",\"\",入力シート!#REF!)","v":{"$error":"#REF!"}},null,null,null,null,null,null,null,null,null,null,null,null,null,null,null,null,{"$error":"#REF!"},{"$error":"#REF!"},{"$error":"#REF!"},{"$f":"IF($AC283=\"\",\"\",入力シート!#REF!)","v":{"$error":"#REF!"}},{"$f":"IF($AC283=\"\",\"\",入力シート!#REF!)","v":{"$error":"#REF!"}},{"$f":"IF($AC283=\"\",\"\",入力シート!#REF!)","v":{"$error":"#REF!"}},{"$error":"#REF!"}]
[{"$f":"IF(入力シート!#REF!=\"\",\"\",大会コード)","v":{"$error":"#REF!"}},{"$f":"IF(入力シート!#REF!=\"\",\"\",VLOOKUP(入力シート!#REF!,大会データ!$A$5:$F$372,3,FALSE))","v":{"$error":"#REF!"}},{"$f":"IF(入力シート!#REF!=\"\",\"\",VLOOKUP(入力シート!#REF!,大会データ!$A$5:$F$372,4,FALSE))","v":{"$error":"#REF!"}},{"$f":"IF(入力シート!#REF!=\"\",\"\",VLOOKUP(入力シート!#REF!,大会データ!$A$5:$F$372,5,FALSE))","v":{"$error":"#REF!"}},{"$f":"IF(入力シート!#REF!=\"\",\"\",基礎データ!$B$6)","v":{"$error":"#REF!"}},{"$f":"IF(入力シート!#REF!=\"\",\"\",B284)","v":{"$error":"#REF!"}},{"$f":"IF(入力シート!#REF!=\"\",\"\",IF(入力シート!#REF!=\"\",TEXT(入力シート!#REF!,\"00\"),入力シート!#REF!))","v":{"$error":"#REF!"}},null,null,{"$f":"IF(入力シート!#REF!=\"\",\"\",入力シート!#REF!)","v":{"$error":"#REF!"}},null,null,null,null,null,null,null,null,null,null,null,null,null,null,null,null,{"$error":"#REF!"},{"$error":"#REF!"},{"$error":"#REF!"},{"$f":"IF($AC284=\"\",\"\",入力シート!#REF!)","v":{"$error":"#REF!"}},{"$f":"IF($AC284=\"\",\"\",入力シート!#REF!)","v":{"$error":"#REF!"}},{"$f":"IF($AC284=\"\",\"\",入力シート!#REF!)","v":{"$error":"#REF!"}},{"$error":"#REF!"}]
[{"$f":"IF(入力シート!#REF!=\"\",\"\",大会コード)","v":{"$error":"#REF!"}},{"$f":"IF(入力シート!#REF!=\"\",\"\",VLOOKUP(入力シート!#REF!,大会データ!$A$5:$F$372,3,FALSE))","v":{"$error":"#REF!"}},{"$f":"IF(入力シート!#REF!=\"\",\"\",VLOOKUP(入力シート!#REF!,大会データ!$A$5:$F$372,4,FALSE))","v":{"$error":"#REF!"}},{"$f":"IF(入力シート!#REF!=\"\",\"\",VLOOKUP(入力シート!#REF!,大会データ!$A$5:$F$372,5,FALSE))","v":{"$error":"#REF!"}},{"$f":"IF(入力シート!#REF!=\"\",\"\",基礎データ!$B$6)","v":{"$error":"#REF!"}},{"$f":"IF(入力シート!#REF!=\"\",\"\",B285)","v":{"$error":"#REF!"}},{"$f":"IF(入力シート!#REF!=\"\",\"\",IF(入力シート!#REF!=\"\",TEXT(入力シート!#REF!,\"00\"),入力シート!#REF!))","v":{"$error":"#REF!"}},null,null,{"$f":"IF(入力シート!#REF!=\"\",\"\",入力シート!#REF!)","v":{"$error":"#REF!"}},null,null,null,null,null,null,null,null,null,null,null,null,null,null,null,null,{"$error":"#REF!"},{"$error":"#REF!"},{"$error":"#REF!"},{"$f":"IF($AC285=\"\",\"\",入力シート!#REF!)","v":{"$error":"#REF!"}},{"$f":"IF($AC285=\"\",\"\",入力シート!#REF!)","v":{"$error":"#REF!"}},{"$f":"IF($AC285=\"\",\"\",入力シート!#REF!)","v":{"$error":"#REF!"}},{"$error":"#REF!"}]
[{"$f":"IF(入力シート!#REF!=\"\",\"\",大会コード)","v":{"$error":"#REF!"}},{"$f":"IF(入力シート!#REF!=\"\",\"\",VLOOKUP(入力シート!#REF!,大会データ!$A$5:$F$372,3,FALSE))","v":{"$error":"#REF!"}},{"$f":"IF(入力シート!#REF!=\"\",\"\",VLOOKUP(入力シート!#REF!,大会データ!$A$5:$F$372,4,FALSE))","v":{"$error":"#REF!"}},{"$f":"IF(入力シート!#REF!=\"\",\"\",VLOOKUP(入力シート!#REF!,大会データ!$A$5:$F$372,5,FALSE))","v":{"$error":"#REF!"}},{"$f":"IF(入力シート!#REF!=\"\",\"\",基礎データ!$B$6)","v":{"$error":"#REF!"}},{"$f":"IF(入力シート!#REF!=\"\",\"\",B286)","v":{"$error":"#REF!"}},{"$f":"IF(入力シート!#REF!=\"\",\"\",IF(入力シート!#REF!=\"\",TEXT(入力シート!#REF!,\"00\"),入力シート!#REF!))","v":{"$error":"#REF!"}},null,null,{"$f":"IF(入力シート!#REF!=\"\",\"\",入力シート!#REF!)","v":{"$error":"#REF!"}},null,null,null,null,null,null,null,null,null,null,null,null,null,null,null,null,{"$error":"#REF!"},{"$error":"#REF!"},{"$error":"#REF!"},{"$f":"IF($AC286=\"\",\"\",入力シート!#REF!)","v":{"$error":"#REF!"}},{"$f":"IF($AC286=\"\",\"\",入力シート!#REF!)","v":{"$error":"#REF!"}},{"$f":"IF($AC286=\"\",\"\",入力シート!#REF!)","v":{"$error":"#REF!"}},{"$error":"#REF!"}]
[{"$f":"IF(入力シート!#REF!=\"\",\"\",大会コード)","v":{"$error":"#REF!"}},{"$f":"IF(入力シート!#REF!=\"\",\"\",VLOOKUP(入力シート!#REF!,大会データ!$A$5:$F$372,3,FALSE))","v":{"$error":"#REF!"}},{"$f":"IF(入力シート!#REF!=\"\",\"\",VLOOKUP(入力シート!#REF!,大会データ!$A$5:$F$372,4,FALSE))","v":{"$error":"#REF!"}},{"$f":"IF(入力シート!#REF!=\"\",\"\",VLOOKUP(入力シート!#REF!,大会データ!$A$5:$F$372,5,FALSE))","v":{"$error":"#REF!"}},{"$f":"IF(入力シート!#REF!=\"\",\"\",基礎データ!$B$6)","v":{"$error":"#REF!"}},{"$f":"IF(入力シート!#REF!=\"\",\"\",B287)","v":{"$error":"#REF!"}},{"$f":"IF(入力シート!#REF!=\"\",\"\",IF(入力シート!#REF!=\"\",TEXT(入力シート!#REF!,\"00\"),入力シート!#REF!))","v":{"$error":"#REF!"}},null,null,{"$f":"IF(入力シート!#REF!=\"\",\"\",入力シート!#REF!)","v":{"$error":"#REF!"}},null,null,null,null,null,null,null,null,null,null,null,null,null,null,null,null,{"$error":"#REF!"},{"$error":"#REF!"},{"$error":"#REF!"},{"$f":"IF($AC287=\"\",\"\",入力シート!#REF!)","v":{"$error":"#REF!"}},{"$f":"IF($AC287=\"\",\"\",入力シート!#REF!)","v":{"$error":"#REF!"}},{"$f":"IF($AC287=\"\",\"\",入力シート!#REF!)","v":{"$error":"#REF!"}},{"$error":"#REF!"}]
[{"$f":"IF(入力シート!#REF!=\"\",\"\",大会コード)","v":{"$error":"#REF!"}},{"$f":"IF(入力シート!#REF!=\"\",\"\",VLOOKUP(入力シート!#REF!,大会データ!$A$5:$F$372,3,FALSE))","v":{"$error":"#REF!"}},{"$f":"IF(入力シート!#REF!=\"\",\"\",VLOOKUP(入力シート!#REF!,大会データ!$A$5:$F$372,4,FALSE))","v":{"$error":"#REF!"}},{"$f":"IF(入力シート!#REF!=\"\",\"\",VLOOKUP(入力シート!#REF!,大会データ!$A$5:$F$372,5,FALSE))","v":{"$error":"#REF!"}},{"$f":"IF(入力シート!#REF!=\"\",\"\",基礎データ!$B$6)","v":{"$error":"#REF!"}},{"$f":"IF(入力シート!#REF!=\"\",\"\",B288)","v":{"$error":"#REF!"}},{"$f":"IF(入力シート!#REF!=\"\",\"\",IF(入力シート!#REF!=\"\",TEXT(入力シート!#REF!,\"00\"),入力シート!#REF!))","v":{"$error":"#REF!"}},null,null,{"$f":"IF(入力シート!#REF!=\"\",\"\",入力シート!#REF!)","v":{"$error":"#REF!"}},null,null,null,null,null,null,null,null,null,null,null,null,null,null,null,null,{"$error":"#REF!"},{"$error":"#REF!"},{"$error":"#REF!"},{"$f":"IF($AC288=\"\",\"\",入力シート!#REF!)","v":{"$error":"#REF!"}},{"$f":"IF($AC288=\"\",\"\",入力シート!#REF!)","v":{"$error":"#REF!"}},{"$f":"IF($AC288=\"\",\"\",入力シート!#REF!)","v":{"$error":"#REF!"}},{"$error":"#REF!"}]
[{"$f":"IF(入力シート!#REF!=\"\",\"\",大会コード)","v":{"$error":"#REF!"}},{"$f":"IF(入力シート!#REF!=\"\",\"\",VLOOKUP(入力シート!#REF!,大会データ!$A$5:$F$372,3,FALSE))","v":{"$error":"#REF!"}},{"$f":"IF(入力シート!#REF!=\"\",\"\",VLOOKUP(入力シート!#REF!,大会データ!$A$5:$F$372,4,FALSE))","v":{"$error":"#REF!"}},{"$f":"IF(入力シート!#REF!=\"\",\"\",VLOOKUP(入力シート!#REF!,大会データ!$A$5:$F$372,5,FALSE))","v":{"$error":"#REF!"}},{"$f":"IF(入力シート!#REF!=\"\",\"\",基礎データ!$B$6)","v":{"$error":"#REF!"}},{"$f":"IF(入力シート!#REF!=\"\",\"\",B289)","v":{"$error":"#REF!"}},{"$f":"IF(入力シート!#REF!=\"\",\"\",IF(入力シート!#REF!=\"\",TEXT(入力シート!#REF!,\"00\"),入力シート!#REF!))","v":{"$error":"#REF!"}},null,null,{"$f":"IF(入力シート!#REF!=\"\",\"\",入力シート!#REF!)","v":{"$error":"#REF!"}},null,null,null,null,null,null,null,null,null,null,null,null,null,null,null,null,{"$error":"#REF!"},{"$error":"#REF!"},{"$error":"#REF!"},{"$f":"IF($AC289=\"\",\"\",入力シート!#REF!)","v":{"$error":"#REF!"}},{"$f":"IF($AC289=\"\",\"\",入力シート!#REF!)","v":{"$error":"#REF!"}},{"$f":"IF($AC289=\"\",\"\",入力シート!#REF!)","v":{"$error":"#REF!"}},{"$error":"#REF!"}]
[{"$f":"IF(入力シート!#REF!=\"\",\"\",大会コード)","v":{"$error":"#REF!"}},{"$f":"IF(入力シート!#REF!=\"\",\"\",VLOOKUP(入力シート!#REF!,大会データ!$A$5:$F$372,3,FALSE))","v":{"$error":"#REF!"}},{"$f":"IF(入力シート!#REF!=\"\",\"\",VLOOKUP(入力シート!#REF!,大会データ!$A$5:$F$372,4,FALSE))","v":{"$error":"#REF!"}},{"$f":"IF(入力シート!#REF!=\"\",\"\",VLOOKUP(入力シート!#REF!,大会データ!$A$5:$F$372,5,FALSE))","v":{"$error":"#REF!"}},{"$f":"IF(入力シート!#REF!=\"\",\"\",基礎データ!$B$6)","v":{"$error":"#REF!"}},{"$f":"IF(入力シート!#REF!=\"\",\"\",B290)","v":{"$error":"#REF!"}},{"$f":"IF(入力シート!#REF!=\"\",\"\",IF(入力シート!#REF!=\"\",TEXT(入力シート!#REF!,\"00\"),入力シート!#REF!))","v":{"$error":"#REF!"}},null,null,{"$f":"IF(入力シート!#REF!=\"\",\"\",入力シート!#REF!)","v":{"$error":"#REF!"}},null,null,null,null,null,null,null,null,null,null,null,null,null,null,null,null,{"$error":"#REF!"},{"$error":"#REF!"},{"$error":"#REF!"},{"$f":"IF($AC290=\"\",\"\",入力シート!#REF!)","v":{"$error":"#REF!"}},{"$f":"IF($AC290=\"\",\"\",入力シート!#REF!)","v":{"$error":"#REF!"}},{"$f":"IF($AC290=\"\",\"\",入力シート!#REF!)","v":{"$error":"#REF!"}},{"$error":"#REF!"}]
[{"$f":"IF(入力シート!#REF!=\"\",\"\",大会コード)","v":{"$error":"#REF!"}},{"$f":"IF(入力シート!#REF!=\"\",\"\",VLOOKUP(入力シート!#REF!,大会データ!$A$5:$F$372,3,FALSE))","v":{"$error":"#REF!"}},{"$f":"IF(入力シート!#REF!=\"\",\"\",VLOOKUP(入力シート!#REF!,大会データ!$A$5:$F$372,4,FALSE))","v":{"$error":"#REF!"}},{"$f":"IF(入力シート!#REF!=\"\",\"\",VLOOKUP(入力シート!#REF!,大会データ!$A$5:$F$372,5,FALSE))","v":{"$error":"#REF!"}},{"$f":"IF(入力シート!#REF!=\"\",\"\",基礎データ!$B$6)","v":{"$error":"#REF!"}},{"$f":"IF(入力シート!#REF!=\"\",\"\",B291)","v":{"$error":"#REF!"}},{"$f":"IF(入力シート!#REF!=\"\",\"\",IF(入力シート!#REF!=\"\",TEXT(入力シート!#REF!,\"00\"),入力シート!#REF!))","v":{"$error":"#REF!"}},null,null,{"$f":"IF(入力シート!#REF!=\"\",\"\",入力シート!#REF!)","v":{"$error":"#REF!"}},null,null,null,null,null,null,null,null,null,null,null,null,null,null,null,null,{"$error":"#REF!"},{"$error":"#REF!"},{"$error":"#REF!"},{"$f":"IF($AC291=\"\",\"\",入力シート!#REF!)","v":{"$error":"#REF!"}},{"$f":"IF($AC291=\"\",\"\",入力シート!#REF!)","v":{"$error":"#REF!"}},{"$f":"IF($AC291=\"\",\"\",入力シート!#REF!)","v":{"$error":"#REF!"}},{"$error":"#REF!"}]
[{"$f":"IF(入力シート!#REF!=\"\",\"\",大会コード)","v":{"$error":"#REF!"}},{"$f":"IF(入力シート!#REF!=\"\",\"\",VLOOKUP(入力シート!#REF!,大会データ!$A$5:$F$372,3,FALSE))","v":{"$error":"#REF!"}},{"$f":"IF(入力シート!#REF!=\"\",\"\",VLOOKUP(入力シート!#REF!,大会データ!$A$5:$F$372,4,FALSE))","v":{"$error":"#REF!"}},{"$f":"IF(入力シート!#REF!=\"\",\"\",VLOOKUP(入力シート!#REF!,大会データ!$A$5:$F$372,5,FALSE))","v":{"$error":"#REF!"}},{"$f":"IF(入力シート!#REF!=\"\",\"\",基礎データ!$B$6)","v":{"$error":"#REF!"}},{"$f":"IF(入力シート!#REF!=\"\",\"\",B292)","v":{"$error":"#REF!"}},{"$f":"IF(入力シート!#REF!=\"\",\"\",IF(入力シート!#REF!=\"\",TEXT(入力シート!#REF!,\"00\"),入力シート!#REF!))","v":{"$error":"#REF!"}},null,null,{"$f":"IF(入力シート!#REF!=\"\",\"\",入力シート!#REF!)","v":{"$error":"#REF!"}},null,null,null,null,null,null,null,null,null,null,null,null,null,null,null,null,{"$error":"#REF!"},{"$error":"#REF!"},{"$error":"#REF!"},{"$f":"IF($AC292=\"\",\"\",入力シート!#REF!)","v":{"$error":"#REF!"}},{"$f":"IF($AC292=\"\",\"\",入力シート!#REF!)","v":{"$error":"#REF!"}},{"$f":"IF($AC292=\"\",\"\",入力シート!#REF!)","v":{"$error":"#REF!"}},{"$error":"#REF!"}]
[{"$f":"IF(入力シート!#REF!=\"\",\"\",大会コード)","v":{"$error":"#REF!"}},{"$f":"IF(入力シート!#REF!=\"\",\"\",VLOOKUP(入力シート!#REF!,大会データ!$A$5:$F$372,3,FALSE))","v":{"$error":"#REF!"}},{"$f":"IF(入力シート!#REF!=\"\",\"\",VLOOKUP(入力シート!#REF!,大会データ!$A$5:$F$372,4,FALSE))","v":{"$error":"#REF!"}},{"$f":"IF(入力シート!#REF!=\"\",\"\",VLOOKUP(入力シート!#REF!,大会データ!$A$5:$F$372,5,FALSE))","v":{"$error":"#REF!"}},{"$f":"IF(入力シート!#REF!=\"\",\"\",基礎データ!$B$6)","v":{"$error":"#REF!"}},{"$f":"IF(入力シート!#REF!=\"\",\"\",B293)","v":{"$error":"#REF!"}},{"$f":"IF(入力シート!#REF!=\"\",\"\",IF(入力シート!#REF!=\"\",TEXT(入力シート!#REF!,\"00\"),入力シート!#REF!))","v":{"$error":"#REF!"}},null,null,{"$f":"IF(入力シート!#REF!=\"\",\"\",入力シート!#REF!)","v":{"$error":"#REF!"}},null,null,null,null,null,null,null,null,null,null,null,null,null,null,null,null,{"$error":"#REF!"},{"$error":"#REF!"},{"$error":"#REF!"},{"$f":"IF($AC293=\"\",\"\",入力シート!#REF!)","v":{"$error":"#REF!"}},{"$f":"IF($AC293=\"\",\"\",入力シート!#REF!)","v":{"$error":"#REF!"}},{"$f":"IF($AC293=\"\",\"\",入力シート!#REF!)","v":{"$error":"#REF!"}},{"$error":"#REF!"}]
[{"$f":"IF(入力シート!#REF!=\"\",\"\",大会コード)","v":{"$error":"#REF!"}},{"$f":"IF(入力シート!#REF!=\"\",\"\",VLOOKUP(入力シート!#REF!,大会データ!$A$5:$F$372,3,FALSE))","v":{"$error":"#REF!"}},{"$f":"IF(入力シート!#REF!=\"\",\"\",VLOOKUP(入力シート!#REF!,大会データ!$A$5:$F$372,4,FALSE))","v":{"$error":"#REF!"}},{"$f":"IF(入力シート!#REF!=\"\",\"\",VLOOKUP(入力シート!#REF!,大会データ!$A$5:$F$372,5,FALSE))","v":{"$error":"#REF!"}},{"$f":"IF(入力シート!#REF!=\"\",\"\",基礎データ!$B$6)","v":{"$error":"#REF!"}},{"$f":"IF(入力シート!#REF!=\"\",\"\",B294)","v":{"$error":"#REF!"}},{"$f":"IF(入力シート!#REF!=\"\",\"\",IF(入力シート!#REF!=\"\",TEXT(入力シート!#REF!,\"00\"),入力シート!#REF!))","v":{"$error":"#REF!"}},null,null,{"$f":"IF(入力シート!#REF!=\"\",\"\",入力シート!#REF!)","v":{"$error":"#REF!"}},null,null,null,null,null,null,null,null,null,null,null,null,null,null,null,null,{"$error":"#REF!"},{"$error":"#REF!"},{"$error":"#REF!"},{"$f":"IF($AC294=\"\",\"\",入力シート!#REF!)","v":{"$error":"#REF!"}},{"$f":"IF($AC294=\"\",\"\",入力シート!#REF!)","v":{"$error":"#REF!"}},{"$f":"IF($AC294=\"\",\"\",入力シート!#REF!)","v":{"$error":"#REF!"}},{"$error":"#REF!"}]
[{"$f":"IF(入力シート!#REF!=\"\",\"\",大会コード)","v":{"$error":"#REF!"}},{"$f":"IF(入力シート!#REF!=\"\",\"\",VLOOKUP(入力シート!#REF!,大会データ!$A$5:$F$372,3,FALSE))","v":{"$error":"#REF!"}},{"$f":"IF(入力シート!#REF!=\"\",\"\",VLOOKUP(入力シート!#REF!,大会データ!$A$5:$F$372,4,FALSE))","v":{"$error":"#REF!"}},{"$f":"IF(入力シート!#REF!=\"\",\"\",VLOOKUP(入力シート!#REF!,大会データ!$A$5:$F$372,5,FALSE))","v":{"$error":"#REF!"}},{"$f":"IF(入力シート!#REF!=\"\",\"\",基礎データ!$B$6)","v":{"$error":"#REF!"}},{"$f":"IF(入力シート!#REF!=\"\",\"\",B295)","v":{"$error":"#REF!"}},{"$f":"IF(入力シート!#REF!=\"\",\"\",IF(入力シート!#REF!=\"\",TEXT(入力シート!#REF!,\"00\"),入力シート!#REF!))","v":{"$error":"#REF!"}},null,null,{"$f":"IF(入力シート!#REF!=\"\",\"\",入力シート!#REF!)","v":{"$error":"#REF!"}},null,null,null,null,null,null,null,null,null,null,null,null,null,null,null,null,{"$error":"#REF!"},{"$error":"#REF!"},{"$error":"#REF!"},{"$f":"IF($AC295=\"\",\"\",入力シート!#REF!)","v":{"$error":"#REF!"}},{"$f":"IF($AC295=\"\",\"\",入力シート!#REF!)","v":{"$error":"#REF!"}},{"$f":"IF($AC295=\"\",\"\",入力シート!#REF!)","v":{"$error":"#REF!"}},{"$error":"#REF!"}]
[{"$f":"IF(入力シート!#REF!=\"\",\"\",大会コード)","v":{"$error":"#REF!"}},{"$f":"IF(入力シート!#REF!=\"\",\"\",VLOOKUP(入力シート!#REF!,大会データ!$A$5:$F$372,3,FALSE))","v":{"$error":"#REF!"}},{"$f":"IF(入力シート!#REF!=\"\",\"\",VLOOKUP(入力シート!#REF!,大会データ!$A$5:$F$372,4,FALSE))","v":{"$error":"#REF!"}},{"$f":"IF(入力シート!#REF!=\"\",\"\",VLOOKUP(入力シート!#REF!,大会データ!$A$5:$F$372,5,FALSE))","v":{"$error":"#REF!"}},{"$f":"IF(入力シート!#REF!=\"\",\"\",基礎データ!$B$6)","v":{"$error":"#REF!"}},{"$f":"IF(入力シート!#REF!=\"\",\"\",B296)","v":{"$error":"#REF!"}},{"$f":"IF(入力シート!#REF!=\"\",\"\",IF(入力シート!#REF!=\"\",TEXT(入力シート!#REF!,\"00\"),入力シート!#REF!))","v":{"$error":"#REF!"}},null,null,{"$f":"IF(入力シート!#REF!=\"\",\"\",入力シート!#REF!)","v":{"$error":"#REF!"}},null,null,null,null,null,null,null,null,null,null,null,null,null,null,null,null,{"$error":"#REF!"},{"$error":"#REF!"},{"$error":"#REF!"},{"$f":"IF($AC296=\"\",\"\",入力シート!#REF!)","v":{"$error":"#REF!"}},{"$f":"IF($AC296=\"\",\"\",入力シート!#REF!)","v":{"$error":"#REF!"}},{"$f":"IF($AC296=\"\",\"\",入力シート!#REF!)","v":{"$error":"#REF!"}},{"$error":"#REF!"}]
[{"$f":"IF(入力シート!#REF!=\"\",\"\",大会コード)","v":{"$error":"#REF!"}},{"$f":"IF(入力シート!#REF!=\"\",\"\",VLOOKUP(入力シート!#REF!,大会データ!$A$5:$F$372,3,FALSE))","v":{"$error":"#REF!"}},{"$f":"IF(入力シート!#REF!=\"\",\"\",VLOOKUP(入力シート!#REF!,大会データ!$A$5:$F$372,4,FALSE))","v":{"$error":"#REF!"}},{"$f":"IF(入力シート!#REF!=\"\",\"\",VLOOKUP(入力シート!#REF!,大会データ!$A$5:$F$372,5,FALSE))","v":{"$error":"#REF!"}},{"$f":"IF(入力シート!#REF!=\"\",\"\",基礎データ!$B$6)","v":{"$error":"#REF!"}},{"$f":"IF(入力シート!#REF!=\"\",\"\",B297)","v":{"$error":"#REF!"}},{"$f":"IF(入力シート!#REF!=\"\",\"\",IF(入力シート!#REF!=\"\",TEXT(入力シート!#REF!,\"00\"),入力シート!#REF!))","v":{"$error":"#REF!"}},null,null,{"$f":"IF(入力シート!#REF!=\"\",\"\",入力シート!#REF!)","v":{"$error":"#REF!"}},null,null,null,null,null,null,null,null,null,null,null,null,null,null,null,null,{"$error":"#REF!"},{"$error":"#REF!"},{"$error":"#REF!"},{"$f":"IF($AC297=\"\",\"\",入力シート!#REF!)","v":{"$error":"#REF!"}},{"$f":"IF($AC297=\"\",\"\",入力シート!#REF!)","v":{"$error":"#REF!"}},{"$f":"IF($AC297=\"\",\"\",入力シート!#REF!)","v":{"$error":"#REF!"}},{"$error":"#REF!"}]
[{"$f":"IF(入力シート!#REF!=\"\",\"\",大会コード)","v":{"$error":"#REF!"}},{"$f":"IF(入力シート!#REF!=\"\",\"\",VLOOKUP(入力シート!#REF!,大会データ!$A$5:$F$372,3,FALSE))","v":{"$error":"#REF!"}},{"$f":"IF(入力シート!#REF!=\"\",\"\",VLOOKUP(入力シート!#REF!,大会データ!$A$5:$F$372,4,FALSE))","v":{"$error":"#REF!"}},{"$f":"IF(入力シート!#REF!=\"\",\"\",VLOOKUP(入力シート!#REF!,大会データ!$A$5:$F$372,5,FALSE))","v":{"$error":"#REF!"}},{"$f":"IF(入力シート!#REF!=\"\",\"\",基礎データ!$B$6)","v":{"$error":"#REF!"}},{"$f":"IF(入力シート!#REF!=\"\",\"\",B298)","v":{"$error":"#REF!"}},{"$f":"IF(入力シート!#REF!=\"\",\"\",IF(入力シート!#REF!=\"\",TEXT(入力シート!#REF!,\"00\"),入力シート!#REF!))","v":{"$error":"#REF!"}},null,null,{"$f":"IF(入力シート!#REF!=\"\",\"\",入力シート!#REF!)","v":{"$error":"#REF!"}},null,null,null,null,null,null,null,null,null,null,null,null,null,null,null,null,{"$error":"#REF!"},{"$error":"#REF!"},{"$error":"#REF!"},{"$f":"IF($AC298=\"\",\"\",入力シート!#REF!)","v":{"$error":"#REF!"}},{"$f":"IF($AC298=\"\",\"\",入力シート!#REF!)","v":{"$error":"#REF!"}},{"$f":"IF($AC298=\"\",\"\",入力シート!#REF!)","v":{"$error":"#REF!"}},{"$error":"#REF!"}]
[{"$f":"IF(入力シート!#REF!=\"\",\"\",大会コード)","v":{"$error":"#REF!"}},{"$f":"IF(入力シート!#REF!=\"\",\"\",VLOOKUP(入力シート!#REF!,大会データ!$A$5:$F$372,3,FALSE))","v":{"$error":"#REF!"}},{"$f":"IF(入力シート!#REF!=\"\",\"\",VLOOKUP(入力シート!#REF!,大会データ!$A$5:$F$372,4,FALSE))","v":{"$error":"#REF!"}},{"$f":"IF(入力シート!#REF!=\"\",\"\",VLOOKUP(入力シート!#REF!,大会データ!$A$5:$F$372,5,FALSE))","v":{"$error":"#REF!"}},{"$f":"IF(入力シート!#REF!=\"\",\"\",基礎データ!$B$6)","v":{"$error":"#REF!"}},{"$f":"IF(入力シート!#REF!=\"\",\"\",B299)","v":{"$error":"#REF!"}},{"$f":"IF(入力シート!#REF!=\"\",\"\",IF(入力シート!#REF!=\"\",TEXT(入力シート!#REF!,\"00\"),入力シート!#REF!))","v":{"$error":"#REF!"}},null,null,{"$f":"IF(入力シート!#REF!=\"\",\"\",入力シート!#REF!)","v":{"$error":"#REF!"}},null,null,null,null,null,null,null,null,null,null,null,null,null,null,null,null,{"$error":"#REF!"},{"$error":"#REF!"},{"$error":"#REF!"},{"$f":"IF($AC299=\"\",\"\",入力シート!#REF!)","v":{"$error":"#REF!"}},{"$f":"IF($AC299=\"\",\"\",入力シート!#REF!)","v":{"$error":"#REF!"}},{"$f":"IF($AC299=\"\",\"\",入力シート!#REF!)","v":{"$error":"#REF!"}},{"$error":"#REF!"}]
[{"$f":"IF(入力シート!#REF!=\"\",\"\",大会コード)","v":{"$error":"#REF!"}},{"$f":"IF(入力シート!#REF!=\"\",\"\",VLOOKUP(入力シート!#REF!,大会データ!$A$5:$F$372,3,FALSE))","v":{"$error":"#REF!"}},{"$f":"IF(入力シート!#REF!=\"\",\"\",VLOOKUP(入力シート!#REF!,大会データ!$A$5:$F$372,4,FALSE))","v":{"$error":"#REF!"}},{"$f":"IF(入力シート!#REF!=\"\",\"\",VLOOKUP(入力シート!#REF!,大会データ!$A$5:$F$372,5,FALSE))","v":{"$error":"#REF!"}},{"$f":"IF(入力シート!#REF!=\"\",\"\",基礎データ!$B$6)","v":{"$error":"#REF!"}},{"$f":"IF(入力シート!#REF!=\"\",\"\",B300)","v":{"$error":"#REF!"}},{"$f":"IF(入力シート!#REF!=\"\",\"\",IF(入力シート!#REF!=\"\",TEXT(入力シート!#REF!,\"00\"),入力シート!#REF!))","v":{"$error":"#REF!"}},null,null,{"$f":"IF(入力シート!#REF!=\"\",\"\",入力シート!#REF!)","v":{"$error":"#REF!"}},null,null,null,null,null,null,null,null,null,null,null,null,null,null,null,null,{"$error":"#REF!"},{"$error":"#REF!"},{"$error":"#REF!"},{"$f":"IF($AC300=\"\",\"\",入力シート!#REF!)","v":{"$error":"#REF!"}},{"$f":"IF($AC300=\"\",\"\",入力シート!#REF!)","v":{"$error":"#REF!"}},{"$f":"IF($AC300=\"\",\"\",入力シート!#REF!)","v":{"$error":"#REF!"}},{"$error":"#REF!"}]
[{"$f":"IF(入力シート!#REF!=\"\",\"\",大会コード)","v":{"$error":"#REF!"}},{"$f":"IF(入力シート!#REF!=\"\",\"\",VLOOKUP(入力シート!#REF!,大会データ!$A$5:$F$372,3,FALSE))","v":{"$error":"#REF!"}},{"$f":"IF(入力シート!#REF!=\"\",\"\",VLOOKUP(入力シート!#REF!,大会データ!$A$5:$F$372,4,FALSE))","v":{"$error":"#REF!"}},{"$f":"IF(入力シート!#REF!=\"\",\"\",VLOOKUP(入力シート!#REF!,大会データ!$A$5:$F$372,5,FALSE))","v":{"$error":"#REF!"}},{"$f":"IF(入力シート!#REF!=\"\",\"\",基礎データ!$B$6)","v":{"$error":"#REF!"}},{"$f":"IF(入力シート!#REF!=\"\",\"\",B301)","v":{"$error":"#REF!"}},{"$f":"IF(入力シート!#REF!=\"\",\"\",IF(入力シート!#REF!=\"\",TEXT(入力シート!#REF!,\"00\"),入力シート!#REF!))","v":{"$error":"#REF!"}},null,null,{"$f":"IF(入力シート!#REF!=\"\",\"\",入力シート!#REF!)","v":{"$error":"#REF!"}},null,null,null,null,null,null,null,null,null,null,null,null,null,null,null,null,{"$error":"#REF!"},{"$error":"#REF!"},{"$error":"#REF!"},{"$f":"IF($AC301=\"\",\"\",入力シート!#REF!)","v":{"$error":"#REF!"}},{"$f":"IF($AC301=\"\",\"\",入力シート!#REF!)","v":{"$error":"#REF!"}},{"$f":"IF($AC301=\"\",\"\",入力シート!#REF!)","v":{"$error":"#REF!"}},{"$error":"#REF!"}]
[{"$f":"IF(入力シート!#REF!=\"\",\"\",大会コード)","v":{"$error":"#REF!"}},{"$f":"IF(入力シート!#REF!=\"\",\"\",VLOOKUP(入力シート!#REF!,大会データ!$A$5:$F$372,3,FALSE))","v":{"$error":"#REF!"}},{"$f":"IF(入力シート!#REF!=\"\",\"\",VLOOKUP(入力シート!#REF!,大会データ!$A$5:$F$372,4,FALSE))","v":{"$error":"#REF!"}},{"$f":"IF(入力シート!#REF!=\"\",\"\",VLOOKUP(入力シート!#REF!,大会データ!$A$5:$F$372,5,FALSE))","v":{"$error":"#REF!"}},{"$f":"IF(入力シート!#REF!=\"\",\"\",基礎データ!$B$6)","v":{"$error":"#REF!"}},{"$f":"IF(入力シート!#REF!=\"\",\"\",B302)","v":{"$error":"#REF!"}},{"$f":"IF(入力シート!#REF!=\"\",\"\",IF(入力シート!#REF!=\"\",TEXT(入力シート!#REF!,\"00\"),入力シート!#REF!))","v":{"$error":"#REF!"}},null,null,{"$f":"IF(入力シート!#REF!=\"\",\"\",入力シート!#REF!)","v":{"$error":"#REF!"}},null,null,null,null,null,null,null,null,null,null,null,null,null,null,null,null,{"$error":"#REF!"},{"$error":"#REF!"},{"$error":"#REF!"},{"$f":"IF($AC302=\"\",\"\",入力シート!#REF!)","v":{"$error":"#REF!"}},{"$f":"IF($AC302=\"\",\"\",入力シート!#REF!)","v":{"$error":"#REF!"}},{"$f":"IF($AC302=\"\",\"\",入力シート!#REF!)","v":{"$error":"#REF!"}},{"$error":"#REF!"}]
[{"$f":"IF(入力シート!#REF!=\"\",\"\",大会コード)","v":{"$error":"#REF!"}},{"$f":"IF(入力シート!#REF!=\"\",\"\",VLOOKUP(入力シート!#REF!,大会データ!$A$5:$F$372,3,FALSE))","v":{"$error":"#REF!"}},{"$f":"IF(入力シート!#REF!=\"\",\"\",VLOOKUP(入力シート!#REF!,大会データ!$A$5:$F$372,4,FALSE))","v":{"$error":"#REF!"}},{"$f":"IF(入力シート!#REF!=\"\",\"\",VLOOKUP(入力シート!#REF!,大会データ!$A$5:$F$372,5,FALSE))","v":{"$error":"#REF!"}},{"$f":"IF(入力シート!#REF!=\"\",\"\",基礎データ!$B$6)","v":{"$error":"#REF!"}},{"$f":"IF(入力シート!#REF!=\"\",\"\",B303)","v":{"$error":"#REF!"}},{"$f":"IF(入力シート!#REF!=\"\",\"\",IF(入力シート!#REF!=\"\",TEXT(入力シート!#REF!,\"00\"),入力シート!#REF!))","v":{"$error":"#REF!"}},null,null,{"$f":"IF(入力シート!#REF!=\"\",\"\",入力シート!#REF!)","v":{"$error":"#REF!"}},null,null,null,null,null,null,null,null,null,null,null,null,null,null,null,null,{"$error":"#REF!"},{"$error":"#REF!"},{"$error":"#REF!"},{"$f":"IF($AC303=\"\",\"\",入力シート!#REF!)","v":{"$error":"#REF!"}},{"$f":"IF($AC303=\"\",\"\",入力シート!#REF!)","v":{"$error":"#REF!"}},{"$f":"IF($AC303=\"\",\"\",入力シート!#REF!)","v":{"$error":"#REF!"}},{"$error":"#REF!"}]
[{"$f":"IF(入力シート!#REF!=\"\",\"\",大会コード)","v":{"$error":"#REF!"}},{"$f":"IF(入力シート!#REF!=\"\",\"\",VLOOKUP(入力シート!#REF!,大会データ!$A$5:$F$372,3,FALSE))","v":{"$error":"#REF!"}},{"$f":"IF(入力シート!#REF!=\"\",\"\",VLOOKUP(入力シート!#REF!,大会データ!$A$5:$F$372,4,FALSE))","v":{"$error":"#REF!"}},{"$f":"IF(入力シート!#REF!=\"\",\"\",VLOOKUP(入力シート!#REF!,大会データ!$A$5:$F$372,5,FALSE))","v":{"$error":"#REF!"}},{"$f":"IF(入力シート!#REF!=\"\",\"\",基礎データ!$B$6)","v":{"$error":"#REF!"}},{"$f":"IF(入力シート!#REF!=\"\",\"\",B304)","v":{"$error":"#REF!"}},{"$f":"IF(入力シート!#REF!=\"\",\"\",IF(入力シート!#REF!=\"\",TEXT(入力シート!#REF!,\"00\"),入力シート!#REF!))","v":{"$error":"#REF!"}},null,null,{"$f":"IF(入力シート!#REF!=\"\",\"\",入力シート!#REF!)","v":{"$error":"#REF!"}},null,null,null,null,null,null,null,null,null,null,null,null,null,null,null,null,{"$error":"#REF!"},{"$error":"#REF!"},{"$error":"#REF!"},{"$f":"IF($AC304=\"\",\"\",入力シート!#REF!)","v":{"$error":"#REF!"}},{"$f":"IF($AC304=\"\",\"\",入力シート!#REF!)","v":{"$error":"#REF!"}},{"$f":"IF($AC304=\"\",\"\",入力シート!#REF!)","v":{"$error":"#REF!"}},{"$error":"#REF!"}]
[{"$f":"IF(入力シート!#REF!=\"\",\"\",大会コード)","v":{"$error":"#REF!"}},{"$f":"IF(入力シート!#REF!=\"\",\"\",VLOOKUP(入力シート!#REF!,大会データ!$A$5:$F$372,3,FALSE))","v":{"$error":"#REF!"}},{"$f":"IF(入力シート!#REF!=\"\",\"\",VLOOKUP(入力シート!#REF!,大会データ!$A$5:$F$372,4,FALSE))","v":{"$error":"#REF!"}},{"$f":"IF(入力シート!#REF!=\"\",\"\",VLOOKUP(入力シート!#REF!,大会データ!$A$5:$F$372,5,FALSE))","v":{"$error":"#REF!"}},{"$f":"IF(入力シート!#REF!=\"\",\"\",基礎データ!$B$6)","v":{"$error":"#REF!"}},{"$f":"IF(入力シート!#REF!=\"\",\"\",B305)","v":{"$error":"#REF!"}},{"$f":"IF(入力シート!#REF!=\"\",\"\",IF(入力シート!#REF!=\"\",TEXT(入力シート!#REF!,\"00\"),入力シート!#REF!))","v":{"$error":"#REF!"}},null,null,{"$f":"IF(入力シート!#REF!=\"\",\"\",入力シート!#REF!)","v":{"$error":"#REF!"}},null,null,null,null,null,null,null,null,null,null,null,null,null,null,null,null,{"$error":"#REF!"},{"$error":"#REF!"},{"$error":"#REF!"},{"$f":"IF($AC305=\"\",\"\",入力シート!#REF!)","v":{"$error":"#REF!"}},{"$f":"IF($AC305=\"\",\"\",入力シート!#REF!)","v":{"$error":"#REF!"}},{"$f":"IF($AC305=\"\",\"\",入力シート!#REF!)","v":{"$error":"#REF!"}},{"$error":"#REF!"}]
[{"$f":"IF(入力シート!#REF!=\"\",\"\",大会コード)","v":{"$error":"#REF!"}},{"$f":"IF(入力シート!#REF!=\"\",\"\",VLOOKUP(入力シート!#REF!,大会データ!$A$5:$F$372,3,FALSE))","v":{"$error":"#REF!"}},{"$f":"IF(入力シート!#REF!=\"\",\"\",VLOOKUP(入力シート!#REF!,大会データ!$A$5:$F$372,4,FALSE))","v":{"$error":"#REF!"}},{"$f":"IF(入力シート!#REF!=\"\",\"\",VLOOKUP(入力シート!#REF!,大会データ!$A$5:$F$372,5,FALSE))","v":{"$error":"#REF!"}},{"$f":"IF(入力シート!#REF!=\"\",\"\",基礎データ!$B$6)","v":{"$error":"#REF!"}},{"$f":"IF(入力シート!#REF!=\"\",\"\",B306)","v":{"$error":"#REF!"}},{"$f":"IF(入力シート!#REF!=\"\",\"\",IF(入力シート!#REF!=\"\",TEXT(入力シート!#REF!,\"00\"),入力シート!#REF!))","v":{"$error":"#REF!"}},null,null,{"$f":"IF(入力シート!#REF!=\"\",\"\",入力シート!#REF!)","v":{"$error":"#REF!"}},null,null,null,null,null,null,null,null,null,null,null,null,null,null,null,null,{"$error":"#REF!"},{"$error":"#REF!"},{"$error":"#REF!"},{"$f":"IF($AC306=\"\",\"\",入力シート!#REF!)","v":{"$error":"#REF!"}},{"$f":"IF($AC306=\"\",\"\",入力シート!#REF!)","v":{"$error":"#REF!"}},{"$f":"IF($AC306=\"\",\"\",入力シート!#REF!)","v":{"$error":"#REF!"}},{"$error":"#REF!"}]
[{"$f":"IF(入力シート!#REF!=\"\",\"\",大会コード)","v":{"$error":"#REF!"}},{"$f":"IF(入力シート!#REF!=\"\",\"\",VLOOKUP(入力シート!#REF!,大会データ!$A$5:$F$372,3,FALSE))","v":{"$error":"#REF!"}},{"$f":"IF(入力シート!#REF!=\"\",\"\",VLOOKUP(入力シート!#REF!,大会データ!$A$5:$F$372,4,FALSE))","v":{"$error":"#REF!"}},{"$f":"IF(入力シート!#REF!=\"\",\"\",VLOOKUP(入力シート!#REF!,大会データ!$A$5:$F$372,5,FALSE))","v":{"$error":"#REF!"}},{"$f":"IF(入力シート!#REF!=\"\",\"\",基礎データ!$B$6)","v":{"$error":"#REF!"}},{"$f":"IF(入力シート!#REF!=\"\",\"\",B307)","v":{"$error":"#REF!"}},{"$f":"IF(入力シート!#REF!=\"\",\"\",IF(入力シート!#REF!=\"\",TEXT(入力シート!#REF!,\"00\"),入力シート!#REF!))","v":{"$error":"#REF!"}},null,null,{"$f":"IF(入力シート!#REF!=\"\",\"\",入力シート!#REF!)","v":{"$error":"#REF!"}},null,null,null,null,null,null,null,null,null,null,null,null,null,null,null,null,{"$error":"#REF!"},{"$error":"#REF!"},{"$error":"#REF!"},{"$f":"IF($AC307=\"\",\"\",入力シート!#REF!)","v":{"$error":"#REF!"}},{"$f":"IF($AC307=\"\",\"\",入力シート!#REF!)","v":{"$error":"#REF!"}},{"$f":"IF($AC307=\"\",\"\",入力シート!#REF!)","v":{"$error":"#REF!"}},{"$error":"#REF!"}]
[{"$f":"IF(入力シート!#REF!=\"\",\"\",大会コード)","v":{"$error":"#REF!"}},{"$f":"IF(入力シート!#REF!=\"\",\"\",VLOOKUP(入力シート!#REF!,大会データ!$A$5:$F$372,3,FALSE))","v":{"$error":"#REF!"}},{"$f":"IF(入力シート!#REF!=\"\",\"\",VLOOKUP(入力シート!#REF!,大会データ!$A$5:$F$372,4,FALSE))","v":{"$error":"#REF!"}},{"$f":"IF(入力シート!#REF!=\"\",\"\",VLOOKUP(入力シート!#REF!,大会データ!$A$5:$F$372,5,FALSE))","v":{"$error":"#REF!"}},{"$f":"IF(入力シート!#REF!=\"\",\"\",基礎データ!$B$6)","v":{"$error":"#REF!"}},{"$f":"IF(入力シート!#REF!=\"\",\"\",B308)","v":{"$error":"#REF!"}},{"$f":"IF(入力シート!#REF!=\"\",\"\",IF(入力シート!#REF!=\"\",TEXT(入力シート!#REF!,\"00\"),入力シート!#REF!))","v":{"$error":"#REF!"}},null,null,{"$f":"IF(入力シート!#REF!=\"\",\"\",入力シート!#REF!)","v":{"$error":"#REF!"}},null,null,null,null,null,null,null,null,null,null,null,null,null,null,null,null,{"$error":"#REF!"},{"$error":"#REF!"},{"$error":"#REF!"},{"$f":"IF($AC308=\"\",\"\",入力シート!#REF!)","v":{"$error":"#REF!"}},{"$f":"IF($AC308=\"\",\"\",入力シート!#REF!)","v":{"$error":"#REF!"}},{"$f":"IF($AC308=\"\",\"\",入力シート!#REF!)","v":{"$error":"#REF!"}},{"$error":"#REF!"}]
[{"$f":"IF(入力シート!#REF!=\"\",\"\",大会コード)","v":{"$error":"#REF!"}},{"$f":"IF(入力シート!#REF!=\"\",\"\",VLOOKUP(入力シート!#REF!,大会データ!$A$5:$F$372,3,FALSE))","v":{"$error":"#REF!"}},{"$f":"IF(入力シート!#REF!=\"\",\"\",VLOOKUP(入力シート!#REF!,大会データ!$A$5:$F$372,4,FALSE))","v":{"$error":"#REF!"}},{"$f":"IF(入力シート!#REF!=\"\",\"\",VLOOKUP(入力シート!#REF!,大会データ!$A$5:$F$372,5,FALSE))","v":{"$error":"#REF!"}},{"$f":"IF(入力シート!#REF!=\"\",\"\",基礎データ!$B$6)","v":{"$error":"#REF!"}},{"$f":"IF(入力シート!#REF!=\"\",\"\",B309)","v":{"$error":"#REF!"}},{"$f":"IF(入力シート!#REF!=\"\",\"\",IF(入力シート!#REF!=\"\",TEXT(入力シート!#REF!,\"00\"),入力シート!#REF!))","v":{"$error":"#REF!"}},null,null,{"$f":"IF(入力シート!#REF!=\"\",\"\",入力シート!#REF!)","v":{"$error":"#REF!"}},null,null,null,null,null,null,null,null,null,null,null,null,null,null,null,null,{"$error":"#REF!"},{"$error":"#REF!"},{"$error":"#REF!"},{"$f":"IF($AC309=\"\",\"\",入力シート!#REF!)","v":{"$error":"#REF!"}},{"$f":"IF($AC309=\"\",\"\",入力シート!#REF!)","v":{"$error":"#REF!"}},{"$f":"IF($AC309=\"\",\"\",入力シート!#REF!)","v":{"$error":"#REF!"}},{"$error":"#REF!"}]
[{"$f":"IF(入力シート!#REF!=\"\",\"\",大会コード)","v":{"$error":"#REF!"}},{"$f":"IF(入力シート!#REF!=\"\",\"\",VLOOKUP(入力シート!#REF!,大会データ!$A$5:$F$372,3,FALSE))","v":{"$error":"#REF!"}},{"$f":"IF(入力シート!#REF!=\"\",\"\",VLOOKUP(入力シート!#REF!,大会データ!$A$5:$F$372,4,FALSE))","v":{"$error":"#REF!"}},{"$f":"IF(入力シート!#REF!=\"\",\"\",VLOOKUP(入力シート!#REF!,大会データ!$A$5:$F$372,5,FALSE))","v":{"$error":"#REF!"}},{"$f":"IF(入力シート!#REF!=\"\",\"\",基礎データ!$B$6)","v":{"$error":"#REF!"}},{"$f":"IF(入力シート!#REF!=\"\",\"\",B310)","v":{"$error":"#REF!"}},{"$f":"IF(入力シート!#REF!=\"\",\"\",IF(入力シート!#REF!=\"\",TEXT(入力シート!#REF!,\"00\"),入力シート!#REF!))","v":{"$error":"#REF!"}},null,null,{"$f":"IF(入力シート!#REF!=\"\",\"\",入力シート!#REF!)","v":{"$error":"#REF!"}},null,null,null,null,null,null,null,null,null,null,null,null,null,null,null,null,{"$error":"#REF!"},{"$error":"#REF!"},{"$error":"#REF!"},{"$f":"IF($AC310=\"\",\"\",入力シート!#REF!)","v":{"$error":"#REF!"}},{"$f":"IF($AC310=\"\",\"\",入力シート!#REF!)","v":{"$error":"#REF!"}},{"$f":"IF($AC310=\"\",\"\",入力シート!#REF!)","v":{"$error":"#REF!"}},{"$error":"#REF!"}]
[{"$f":"IF(入力シート!#REF!=\"\",\"\",大会コード)","v":{"$error":"#REF!"}},{"$f":"IF(入力シート!#REF!=\"\",\"\",VLOOKUP(入力シート!#REF!,大会データ!$A$5:$F$372,3,FALSE))","v":{"$error":"#REF!"}},{"$f":"IF(入力シート!#REF!=\"\",\"\",VLOOKUP(入力シート!#REF!,大会データ!$A$5:$F$372,4,FALSE))","v":{"$error":"#REF!"}},{"$f":"IF(入力シート!#REF!=\"\",\"\",VLOOKUP(入力シート!#REF!,大会データ!$A$5:$F$372,5,FALSE))","v":{"$error":"#REF!"}},{"$f":"IF(入力シート!#REF!=\"\",\"\",基礎データ!$B$6)","v":{"$error":"#REF!"}},{"$f":"IF(入力シート!#REF!=\"\",\"\",B311)","v":{"$error":"#REF!"}},{"$f":"IF(入力シート!#REF!=\"\",\"\",IF(入力シート!#REF!=\"\",TEXT(入力シート!#REF!,\"00\"),入力シート!#REF!))","v":{"$error":"#REF!"}},null,null,{"$f":"IF(入力シート!#REF!=\"\",\"\",入力シート!#REF!)","v":{"$error":"#REF!"}},null,null,null,null,null,null,null,null,null,null,null,null,null,null,null,null,{"$error":"#REF!"},{"$error":"#REF!"},{"$error":"#REF!"},{"$f":"IF($AC311=\"\",\"\",入力シート!#REF!)","v":{"$error":"#REF!"}},{"$f":"IF($AC311=\"\",\"\",入力シート!#REF!)","v":{"$error":"#REF!"}},{"$f":"IF($AC311=\"\",\"\",入力シート!#REF!)","v":{"$error":"#REF!"}},{"$error":"#REF!"}]
[{"$f":"IF(入力シート!#REF!=\"\",\"\",大会コード)","v":{"$error":"#REF!"}},{"$f":"IF(入力シート!#REF!=\"\",\"\",VLOOKUP(入力シート!#REF!,大会データ!$A$5:$F$372,3,FALSE))","v":{"$error":"#REF!"}},{"$f":"IF(入力シート!#REF!=\"\",\"\",VLOOKUP(入力シート!#REF!,大会データ!$A$5:$F$372,4,FALSE))","v":{"$error":"#REF!"}},{"$f":"IF(入力シート!#REF!=\"\",\"\",VLOOKUP(入力シート!#REF!,大会データ!$A$5:$F$372,5,FALSE))","v":{"$error":"#REF!"}},{"$f":"IF(入力シート!#REF!=\"\",\"\",基礎データ!$B$6)","v":{"$error":"#REF!"}},{"$f":"IF(入力シート!#REF!=\"\",\"\",B312)","v":{"$error":"#REF!"}},{"$f":"IF(入力シート!#REF!=\"\",\"\",IF(入力シート!#REF!=\"\",TEXT(入力シート!#REF!,\"00\"),入力シート!#REF!))","v":{"$error":"#REF!"}},null,null,{"$f":"IF(入力シート!#REF!=\"\",\"\",入力シート!#REF!)","v":{"$error":"#REF!"}},null,null,null,null,null,null,null,null,null,null,null,null,null,null,null,null,{"$error":"#REF!"},{"$error":"#REF!"},{"$error":"#REF!"},{"$f":"IF($AC312=\"\",\"\",入力シート!#REF!)","v":{"$error":"#REF!"}},{"$f":"IF($AC312=\"\",\"\",入力シート!#REF!)","v":{"$error":"#REF!"}},{"$f":"IF($AC312=\"\",\"\",入力シート!#REF!)","v":{"$error":"#REF!"}},{"$error":"#REF!"}]
[{"$f":"IF(入力シート!#REF!=\"\",\"\",大会コード)","v":{"$error":"#REF!"}},{"$f":"IF(入力シート!#REF!=\"\",\"\",VLOOKUP(入力シート!#REF!,大会データ!$A$5:$F$372,3,FALSE))","v":{"$error":"#REF!"}},{"$f":"IF(入力シート!#REF!=\"\",\"\",VLOOKUP(入力シート!#REF!,大会データ!$A$5:$F$372,4,FALSE))","v":{"$error":"#REF!"}},{"$f":"IF(入力シート!#REF!=\"\",\"\",VLOOKUP(入力シート!#REF!,大会データ!$A$5:$F$372,5,FALSE))","v":{"$error":"#REF!"}},{"$f":"IF(入力シート!#REF!=\"\",\"\",基礎データ!$B$6)","v":{"$error":"#REF!"}},{"$f":"IF(入力シート!#REF!=\"\",\"\",B313)","v":{"$error":"#REF!"}},{"$f":"IF(入力シート!#REF!=\"\",\"\",IF(入力シート!#REF!=\"\",TEXT(入力シート!#REF!,\"00\"),入力シート!#REF!))","v":{"$error":"#REF!"}},null,null,{"$f":"IF(入力シート!#REF!=\"\",\"\",入力シート!#REF!)","v":{"$error":"#REF!"}},null,null,null,null,null,null,null,null,null,null,null,null,null,null,null,null,{"$error":"#REF!"},{"$error":"#REF!"},{"$error":"#REF!"},{"$f":"IF($AC313=\"\",\"\",入力シート!#REF!)","v":{"$error":"#REF!"}},{"$f":"IF($AC313=\"\",\"\",入力シート!#REF!)","v":{"$error":"#REF!"}},{"$f":"IF($AC313=\"\",\"\",入力シート!#REF!)","v":{"$error":"#REF!"}},{"$error":"#REF!"}]
[{"$f":"IF(入力シート!#REF!=\"\",\"\",大会コード)","v":{"$error":"#REF!"}},{"$f":"IF(入力シート!#REF!=\"\",\"\",VLOOKUP(入力シート!#REF!,大会データ!$A$5:$F$372,3,FALSE))","v":{"$error":"#REF!"}},{"$f":"IF(入力シート!#REF!=\"\",\"\",VLOOKUP(入力シート!#REF!,大会データ!$A$5:$F$372,4,FALSE))","v":{"$error":"#REF!"}},{"$f":"IF(入力シート!#REF!=\"\",\"\",VLOOKUP(入力シート!#REF!,大会データ!$A$5:$F$372,5,FALSE))","v":{"$error":"#REF!"}},{"$f":"IF(入力シート!#REF!=\"\",\"\",基礎データ!$B$6)","v":{"$error":"#REF!"}},{"$f":"IF(入力シート!#REF!=\"\",\"\",B314)","v":{"$error":"#REF!"}},{"$f":"IF(入力シート!#REF!=\"\",\"\",IF(入力シート!#REF!=\"\",TEXT(入力シート!#REF!,\"00\"),入力シート!#REF!))","v":{"$error":"#REF!"}},null,null,{"$f":"IF(入力シート!#REF!=\"\",\"\",入力シート!#REF!)","v":{"$error":"#REF!"}},null,null,null,null,null,null,null,null,null,null,null,null,null,null,null,null,{"$error":"#REF!"},{"$error":"#REF!"},{"$error":"#REF!"},{"$f":"IF($AC314=\"\",\"\",入力シート!#REF!)","v":{"$error":"#REF!"}},{"$f":"IF($AC314=\"\",\"\",入力シート!#REF!)","v":{"$error":"#REF!"}},{"$f":"IF($AC314=\"\",\"\",入力シート!#REF!)","v":{"$error":"#REF!"}},{"$error":"#REF!"}]
[{"$f":"IF(入力シート!#REF!=\"\",\"\",大会コード)","v":{"$error":"#REF!"}},{"$f":"IF(入力シート!#REF!=\"\",\"\",VLOOKUP(入力シート!#REF!,大会データ!$A$5:$F$372,3,FALSE))","v":{"$error":"#REF!"}},{"$f":"IF(入力シート!#REF!=\"\",\"\",VLOOKUP(入力シート!#REF!,大会データ!$A$5:$F$372,4,FALSE))","v":{"$error":"#REF!"}},{"$f":"IF(入力シート!#REF!=\"\",\"\",VLOOKUP(入力シート!#REF!,大会データ!$A$5:$F$372,5,FALSE))","v":{"$error":"#REF!"}},{"$f":"IF(入力シート!#REF!=\"\",\"\",基礎データ!$B$6)","v":{"$error":"#REF!"}},{"$f":"IF(入力シート!#REF!=\"\",\"\",B315)","v":{"$error":"#REF!"}},{"$f":"IF(入力シート!#REF!=\"\",\"\",IF(入力シート!#REF!=\"\",TEXT(入力シート!#REF!,\"00\"),入力シート!#REF!))","v":{"$error":"#REF!"}},null,null,{"$f":"IF(入力シート!#REF!=\"\",\"\",入力シート!#REF!)","v":{"$error":"#REF!"}},null,null,null,null,null,null,null,null,null,null,null,null,null,null,null,null,{"$error":"#REF!"},{"$error":"#REF!"},{"$error":"#REF!"},{"$f":"IF($AC315=\"\",\"\",入力シート!#REF!)","v":{"$error":"#REF!"}},{"$f":"IF($AC315=\"\",\"\",入力シート!#REF!)","v":{"$error":"#REF!"}},{"$f":"IF($AC315=\"\",\"\",入力シート!#REF!)","v":{"$error":"#REF!"}},{"$error":"#REF!"}]
[{"$f":"IF(入力シート!#REF!=\"\",\"\",大会コード)","v":{"$error":"#REF!"}},{"$f":"IF(入力シート!#REF!=\"\",\"\",VLOOKUP(入力シート!#REF!,大会データ!$A$5:$F$372,3,FALSE))","v":{"$error":"#REF!"}},{"$f":"IF(入力シート!#REF!=\"\",\"\",VLOOKUP(入力シート!#REF!,大会データ!$A$5:$F$372,4,FALSE))","v":{"$error":"#REF!"}},{"$f":"IF(入力シート!#REF!=\"\",\"\",VLOOKUP(入力シート!#REF!,大会データ!$A$5:$F$372,5,FALSE))","v":{"$error":"#REF!"}},{"$f":"IF(入力シート!#REF!=\"\",\"\",基礎データ!$B$6)","v":{"$error":"#REF!"}},{"$f":"IF(入力シート!#REF!=\"\",\"\",B316)","v":{"$error":"#REF!"}},{"$f":"IF(入力シート!#REF!=\"\",\"\",IF(入力シート!#REF!=\"\",TEXT(入力シート!#REF!,\"00\"),入力シート!#REF!))","v":{"$error":"#REF!"}},null,null,{"$f":"IF(入力シート!#REF!=\"\",\"\",入力シート!#REF!)","v":{"$error":"#REF!"}},null,null,null,null,null,null,null,null,null,null,null,null,null,null,null,null,{"$error":"#REF!"},{"$error":"#REF!"},{"$error":"#REF!"},{"$f":"IF($AC316=\"\",\"\",入力シート!#REF!)","v":{"$error":"#REF!"}},{"$f":"IF($AC316=\"\",\"\",入力シート!#REF!)","v":{"$error":"#REF!"}},{"$f":"IF($AC316=\"\",\"\",入力シート!#REF!)","v":{"$error":"#REF!"}},{"$error":"#REF!"}]
[{"$f":"IF(入力シート!#REF!=\"\",\"\",大会コード)","v":{"$error":"#REF!"}},{"$f":"IF(入力シート!#REF!=\"\",\"\",VLOOKUP(入力シート!#REF!,大会データ!$A$5:$F$372,3,FALSE))","v":{"$error":"#REF!"}},{"$f":"IF(入力シート!#REF!=\"\",\"\",VLOOKUP(入力シート!#REF!,大会データ!$A$5:$F$372,4,FALSE))","v":{"$error":"#REF!"}},{"$f":"IF(入力シート!#REF!=\"\",\"\",VLOOKUP(入力シート!#REF!,大会データ!$A$5:$F$372,5,FALSE))","v":{"$error":"#REF!"}},{"$f":"IF(入力シート!#REF!=\"\",\"\",基礎データ!$B$6)","v":{"$error":"#REF!"}},{"$f":"IF(入力シート!#REF!=\"\",\"\",B317)","v":{"$error":"#REF!"}},{"$f":"IF(入力シート!#REF!=\"\",\"\",IF(入力シート!#REF!=\"\",TEXT(入力シート!#REF!,\"00\"),入力シート!#REF!))","v":{"$error":"#REF!"}},null,null,{"$f":"IF(入力シート!#REF!=\"\",\"\",入力シート!#REF!)","v":{"$error":"#REF!"}},null,null,null,null,null,null,null,null,null,null,null,null,null,null,null,null,{"$error":"#REF!"},{"$error":"#REF!"},{"$error":"#REF!"},{"$f":"IF($AC317=\"\",\"\",入力シート!#REF!)","v":{"$error":"#REF!"}},{"$f":"IF($AC317=\"\",\"\",入力シート!#REF!)","v":{"$error":"#REF!"}},{"$f":"IF($AC317=\"\",\"\",入力シート!#REF!)","v":{"$error":"#REF!"}},{"$error":"#REF!"}]
[{"$f":"IF(入力シート!#REF!=\"\",\"\",大会コード)","v":{"$error":"#REF!"}},{"$f":"IF(入力シート!#REF!=\"\",\"\",VLOOKUP(入力シート!#REF!,大会データ!$A$5:$F$372,3,FALSE))","v":{"$error":"#REF!"}},{"$f":"IF(入力シート!#REF!=\"\",\"\",VLOOKUP(入力シート!#REF!,大会データ!$A$5:$F$372,4,FALSE))","v":{"$error":"#REF!"}},{"$f":"IF(入力シート!#REF!=\"\",\"\",VLOOKUP(入力シート!#REF!,大会データ!$A$5:$F$372,5,FALSE))","v":{"$error":"#REF!"}},{"$f":"IF(入力シート!#REF!=\"\",\"\",基礎データ!$B$6)","v":{"$error":"#REF!"}},{"$f":"IF(入力シート!#REF!=\"\",\"\",B318)","v":{"$error":"#REF!"}},{"$f":"IF(入力シート!#REF!=\"\",\"\",IF(入力シート!#REF!=\"\",TEXT(入力シート!#REF!,\"00\"),入力シート!#REF!))","v":{"$error":"#REF!"}},null,null,{"$f":"IF(入力シート!#REF!=\"\",\"\",入力シート!#REF!)","v":{"$error":"#REF!"}},null,null,null,null,null,null,null,null,null,null,null,null,null,null,null,null,{"$error":"#REF!"},{"$error":"#REF!"},{"$error":"#REF!"},{"$f":"IF($AC318=\"\",\"\",入力シート!#REF!)","v":{"$error":"#REF!"}},{"$f":"IF($AC318=\"\",\"\",入力シート!#REF!)","v":{"$error":"#REF!"}},{"$f":"IF($AC318=\"\",\"\",入力シート!#REF!)","v":{"$error":"#REF!"}},{"$error":"#REF!"}]
[{"$f":"IF(入力シート!#REF!=\"\",\"\",大会コード)","v":{"$error":"#REF!"}},{"$f":"IF(入力シート!#REF!=\"\",\"\",VLOOKUP(入力シート!#REF!,大会データ!$A$5:$F$372,3,FALSE))","v":{"$error":"#REF!"}},{"$f":"IF(入力シート!#REF!=\"\",\"\",VLOOKUP(入力シート!#REF!,大会データ!$A$5:$F$372,4,FALSE))","v":{"$error":"#REF!"}},{"$f":"IF(入力シート!#REF!=\"\",\"\",VLOOKUP(入力シート!#REF!,大会データ!$A$5:$F$372,5,FALSE))","v":{"$error":"#REF!"}},{"$f":"IF(入力シート!#REF!=\"\",\"\",基礎データ!$B$6)","v":{"$error":"#REF!"}},{"$f":"IF(入力シート!#REF!=\"\",\"\",B319)","v":{"$error":"#REF!"}},{"$f":"IF(入力シート!#REF!=\"\",\"\",IF(入力シート!#REF!=\"\",TEXT(入力シート!#REF!,\"00\"),入力シート!#REF!))","v":{"$error":"#REF!"}},null,null,{"$f":"IF(入力シート!#REF!=\"\",\"\",入力シート!#REF!)","v":{"$error":"#REF!"}},null,null,null,null,null,null,null,null,null,null,null,null,null,null,null,null,{"$error":"#REF!"},{"$error":"#REF!"},{"$error":"#REF!"},{"$f":"IF($AC319=\"\",\"\",入力シート!#REF!)","v":{"$error":"#REF!"}},{"$f":"IF($AC319=\"\",\"\",入力シート!#REF!)","v":{"$error":"#REF!"}},{"$f":"IF($AC319=\"\",\"\",入力シート!#REF!)","v":{"$error":"#REF!"}},{"$error":"#REF!"}]
[{"$f":"IF(入力シート!#REF!=\"\",\"\",大会コード)","v":{"$error":"#REF!"}},{"$f":"IF(入力シート!#REF!=\"\",\"\",VLOOKUP(入力シート!#REF!,大会データ!$A$5:$F$372,3,FALSE))","v":{"$error":"#REF!"}},{"$f":"IF(入力シート!#REF!=\"\",\"\",VLOOKUP(入力シート!#REF!,大会データ!$A$5:$F$372,4,FALSE))","v":{"$error":"#REF!"}},{"$f":"IF(入力シート!#REF!=\"\",\"\",VLOOKUP(入力シート!#REF!,大会データ!$A$5:$F$372,5,FALSE))","v":{"$error":"#REF!"}},{"$f":"IF(入力シート!#REF!=\"\",\"\",基礎データ!$B$6)","v":{"$error":"#REF!"}},{"$f":"IF(入力シート!#REF!=\"\",\"\",B320)","v":{"$error":"#REF!"}},{"$f":"IF(入力シート!#REF!=\"\",\"\",IF(入力シート!#REF!=\"\",TEXT(入力シート!#REF!,\"00\"),入力シート!#REF!))","v":{"$error":"#REF!"}},null,null,{"$f":"IF(入力シート!#REF!=\"\",\"\",入力シート!#REF!)","v":{"$error":"#REF!"}},null,null,null,null,null,null,null,null,null,null,null,null,null,null,null,null,{"$error":"#REF!"},{"$error":"#REF!"},{"$error":"#REF!"},{"$f":"IF($AC320=\"\",\"\",入力シート!#REF!)","v":{"$error":"#REF!"}},{"$f":"IF($AC320=\"\",\"\",入力シート!#REF!)","v":{"$error":"#REF!"}},{"$f":"IF($AC320=\"\",\"\",入力シート!#REF!)","v":{"$error":"#REF!"}},{"$error":"#REF!"}]