{"text_format":"1","workbook":"xlsx","n_sheets":4,"sheets":["Sheet1","Sheet2","Sheet3","Sheet4"],"not_rendered":{"charts":0,"images":0,"macros":1,"external_links":0,"defined_names":2,"comments":1,"pivot_tables":0},"unopened":[],"bounds":{"document_bytes":16777216,"sheet_cells":100000,"rows_first":2000,"rows_last":500,"rows_between":2000,"halvings":0,"cell_chars":16384,"cell_head_chars":4096},"cells_cut":0,"cells_raw":0,"read":"whole","date_system":"1900"}

{"sheet":"Sheet1","index":0,"n_rows":222,"n_cols":33,"rows_kept":222,"cut":false,"hidden":false,"merged":[[1,0,1,1],[1,7,1,15],[8,0,8,2],[8,3,8,5],[4,20,4,21],[5,17,5,18],[3,17,3,18],[4,17,4,18],[7,0,7,2],[7,3,7,5],[3,0,3,1],[2,17,2,18],[6,17,6,19],[2,0,2,2],[4,0,4,2],[5,0,5,2],[6,0,6,2],[2,3,2,5],[3,3,3,5],[4,3,4,5],[5,3,5,5],[6,3,6,5],[2,7,6,15],[11,29,11,32],[3,22,3,23],[4,22,4,23],[5,22,5,23],[2,22,2,23],[1,25,2,25],[6,20,6,23],[3,20,3,21],[2,20,2,21],[5,20,5,21]]}
["春季記録会〔県内高校・関西学連以外の団体用〕"]
["１　団体情報",null,null,null,null,null,null,"３　「csvファイル」の作成",null,null,null,null,null,null,null,null,null,"参加料等（自動計算）"]
["団体区分を選んでください：",null,null,"選択して下さい",null,null,{"$f":"VLOOKUP(D3,$G$135:$H$141,2,FALSE)","v":0},"１　団体情報，　２　選手・出場種目情報\nの全ての入力・確認作業が完了してから\n「提出データ作成ボタン」をクリックして\n「csvファイル」を作成してください",null,null,null,null,null,null,null,null,null,null,null,"数","単価",null,"金額小計"]
["検索",null,"団体コード：",null,null,null,null,null,null,null,null,null,null,null,null,null,null,"プロ",null,{"$f":"D8","v":0},{"$f":"VLOOKUP($G$3,Sheet2!$N$2:$T$7,2)","v":{"$error":"#N/A"}},null,{"$f":"T4*U4","v":{"$error":"#N/A"}}]
["団体名：",null,null,null,null,null,null,null,null,null,null,null,null,null,null,null,null,"県内個人",null,{"$f":"SUMIF($I$13:$I$132,\"兵庫\",$Y$13:$Y$132)","v":0},{"$f":"VLOOKUP($G$3,Sheet2!$N$2:$T$7,3)","v":{"$error":"#N/A"}},null,{"$error":"#N/A"}]
["申込責任者氏名：",null,null,null,null,null,null,null,null,null,null,null,null,null,null,null,null,"県外個人",null,{"$f":"SUMIF($I$13:$I$132,\"<>兵庫\",$Y$13:$Y$132)","v":0},{"$f":"VLOOKUP($G$3,Sheet2!$N$2:$T$7,4)","v":{"$error":"#N/A"}},null,{"$error":"#N/A"}]
["緊急連絡先：",null,null,null,null,null,null,null,null,null,null,null,null,null,null,null,null,"合計金額",null,null,{"$f":"SUM(W3:X6)","v":{"$error":"#N/A"}}]
["プログラム冊数："]
["送金日："]
[]
["２　選手・出場種目情報"]
["№","ﾅﾝﾊﾞｰｶｰﾄﾞ\n(中学5桁)","姓","名","ﾌﾘｶﾞﾅ(性)","ﾌﾘｶﾞﾅ(名)","学年","性別","登録\n府県","個人種目１","分","秒\nｍ","1/100\ncm","手動","個人種目２","分","秒\nｍ","1/100\ncm","手動","個人種目３","分","秒\nｍ","1/100\ncm","手動","個人",null,null,null,null,"混成カウント"]
[1,null,null,null,null,null,null,null,null,null,null,null,null,null,null,null,null,null,null,null,null,null,null,null,{"$f":"IF(J13&O13=\"\",\"\",IF(J13=\"\",IF(O13=\"\",\"\",1),IF(O13=\"\",1,2)))","v":""},null,null,null,null,{"$f":"IF(OR(J13=\"十種競技\",J13=\"七種競技\"),1,0)","v":0},{"$f":"IF(OR(O13=\"十種競技\",O13=\"七種競技\"),1,0)","v":0},{"$f":"IF(OR(T13=\"十種競技\",T13=\"七種競技\"),1,0)","v":0},{"$f":"SUM(AD13:AF13)","v":0}]
[2,null,null,null,null,null,null,null,null,null,null,null,null,null,null,null,null,null,null,null,null,null,null,null,{"$f":"IF(J14&O14=\"\",\"\",IF(J14=\"\",IF(O14=\"\",\"\",1),IF(O14=\"\",1,2)))","v":""},null,null,null,null,0,0,0,{"$f":"SUM(AD14:AF14)","v":0}]
[3,null,null,null,null,null,null,null,null,null,null,null,null,null,null,null,null,null,null,null,null,null,null,null,"",null,null,null,null,0,0,0,0]
[4,null,null,null,null,null,null,null,null,null,null,null,null,null,null,null,null,null,null,null,null,null,null,null,"",null,null,null,null,0,0,0,0]
[5,null,null,null,null,null,null,null,null,null,null,null,null,null,null,null,null,null,null,null,null,null,null,null,"",null,null,null,null,0,0,0,0]
[6,null,null,null,null,null,null,null,null,null,null,null,null,null,null,null,null,null,null,null,null,null,null,null,"",null,null,null,null,0,0,0,0]
[7,null,null,null,null,null,null,null,null,null,null,null,null,null,null,null,null,null,null,null,null,null,null,null,"",null,null,null,null,0,0,0,0]
[8,null,null,null,null,null,null,null,null,null,null,null,null,null,null,null,null,null,null,null,null,null,null,null,"",null,null,null,null,0,0,0,0]
[9,null,null,null,null,null,null,null,null,null,null,null,null,null,null,null,null,null,null,null,null,null,null,null,"",null,null,null,null,0,0,0,0]
[10,null,null,null,null,null,null,null,null,null,null,null,null,null,null,null,null,null,null,null,null,null,null,null,"",null,null,null,null,0,0,0,0]
[11,null,null,null,null,null,null,null,null,null,null,null,null,null,null,null,null,null,null,null,null,null,null,null,"",null,null,null,null,0,0,0,0]
[12,null,null,null,null,null,null,null,null,null,null,null,null,null,null,null,null,null,null,null,null,null,null,null,"",null,null,null,null,0,0,0,0]
[13,null,null,null,null,null,null,null,null,null,null,null,null,null,null,null,null,null,null,null,null,null,null,null,"",null,null,null,null,0,0,0,0]
[14,null,null,null,null,null,null,null,null,null,null,null,null,null,null,null,null,null,null,null,null,null,null,null,"",null,null,null,null,0,0,0,0]
[15,null,null,null,null,null,null,null,null,null,null,null,null,null,null,null,null,null,null,null,null,null,null,null,"",null,null,null,null,0,0,0,0]
[16,null,null,null,null,null,null,null,null,null,null,null,null,null,null,null,null,null,null,null,null,null,null,null,"",null,null,null,null,0,0,0,0]
[17,null,null,null,null,null,null,null,null,null,null,null,null,null,null,null,null,null,null,null,null,null,null,null,"",null,null,null,null,0,0,0,0]
[18,null,null,null,null,null,null,null,null,null,null,null,null,null,null,null,null,null,null,null,null,null,null,null,"",null,null,null,null,0,0,0,0]
[19,null,null,null,null,null,null,null,null,null,null,null,null,null,null,null,null,null,null,null,null,null,null,null,"",null,null,null,null,0,0,0,0]
[20,null,null,null,null,null,null,null,null,null,null,null,null,null,null,null,null,null,null,null,null,null,null,null,"",null,null,null,null,0,0,0,0]
[21,null,null,null,null,null,null,null,null,null,null,null,null,null,null,null,null,null,null,null,null,null,null,null,"",null,null,null,null,0,0,0,0]
[22,null,null,null,null,null,null,null,null,null,null,null,null,null,null,null,null,null,null,null,null,null,null,null,"",null,null,null,null,0,0,0,0]
[23,null,null,null,null,null,null,null,null,null,null,null,null,null,null,null,null,null,null,null,null,null,null,null,"",null,null,null,null,0,0,0,0]
[24,null,null,null,null,null,null,null,null,null,null,null,null,null,null,null,null,null,null,null,null,null,null,null,"",null,null,null,null,0,0,0,0]
[25,null,null,null,null,null,null,null,null,null,null,null,null,null,null,null,null,null,null,null,null,null,null,null,"",null,null,null,null,0,0,0,0]
[26,null,null,null,null,null,null,null,null,null,null,null,null,null,null,null,null,null,null,null,null,null,null,null,"",null,null,null,null,0,0,0,0]
[27,null,null,null,null,null,null,null,null,null,null,null,null,null,null,null,null,null,null,null,null,null,null,null,"",null,null,null,null,0,0,0,0]
[28,null,null,null,null,null,null,null,null,null,null,null,null,null,null,null,null,null,null,null,null,null,null,null,"",null,null,null,null,0,0,0,0]
[29,null,null,null,null,null,null,null,null,null,null,null,null,null,null,null,null,null,null,null,null,null,null,null,"",null,null,null,null,0,0,0,0]
[30,null,null,null,null,null,null,null,null,null,null,null,null,null,null,null,null,null,null,null,null,null,null,null,"",null,null,null,null,0,0,0,0]
[31,null,null,null,null,null,null,null,null,null,null,null,null,null,null,null,null,null,null,null,null,null,null,null,"",null,null,null,null,0,0,0,0]
[32,null,null,null,null,null,null,null,null,null,null,null,null,null,null,null,null,null,null,null,null,null,null,null,"",null,null,null,null,0,0,0,0]
[33,null,null,null,null,null,null,null,null,null,null,null,null,null,null,null,null,null,null,null,null,null,null,null,"",null,null,null,null,{"$f":"IF(OR(J45=\"十種競技\",J45=\"七種競技\"),1,0)","v":0},{"$f":"IF(OR(O45=\"十種競技\",O45=\"七種競技\"),1,0)","v":0},{"$f":"IF(OR(T45=\"十種競技\",T45=\"七種競技\"),1,0)","v":0},0]
[34,null,null,null,null,null,null,null,null,null,null,null,null,null,null,null,null,null,null,null,null,null,null,null,"",null,null,null,null,0,0,0,0]
[35,null,null,null,null,null,null,null,null,null,null,null,null,null,null,null,null,null,null,null,null,null,null,null,"",null,null,null,null,0,0,0,0]
[36,null,null,null,null,null,null,null,null,null,null,null,null,null,null,null,null,null,null,null,null,null,null,null,"",null,null,null,null,0,0,0,0]
[37,null,null,null,null,null,null,null,null,null,null,null,null,null,null,null,null,null,null,null,null,null,null,null,"",null,null,null,null,0,0,0,0]
[38,null,null,null,null,null,null,null,null,null,null,null,null,null,null,null,null,null,null,null,null,null,null,null,"",null,null,null,null,0,0,0,0]
[39,null,null,null,null,null,null,null,null,null,null,null,null,null,null,null,null,null,null,null,null,null,null,null,"",null,null,null,null,0,0,0,0]
[40,null,null,null,null,null,null,null,null,null,null,null,null,null,null,null,null,null,null,null,null,null,null,null,"",null,null,null,null,0,0,0,0]
[41,null,null,null,null,null,null,null,null,null,null,null,null,null,null,null,null,null,null,null,null,null,null,null,"",null,null,null,null,0,0,0,0]
[42,null,null,null,null,null,null,null,null,null,null,null,null,null,null,null,null,null,null,null,null,null,null,null,"",null,null,null,null,0,0,0,0]
[43,null,null,null,null,null,null,null,null,null,null,null,null,null,null,null,null,null,null,null,null,null,null,null,"",null,null,null,null,0,0,0,0]
[44,null,null,null,null,null,null,null,null,null,null,null,null,null,null,null,null,null,null,null,null,null,null,null,"",null,null,null,null,0,0,0,0]
[45,null,null,null,null,null,null,null,null,null,null,null,null,null,null,null,null,null,null,null,null,null,null,null,"",null,null,null,null,0,0,0,0]
[46,null,null,null,null,null,null,null,null,null,null,null,null,null,null,null,null,null,null,null,null,null,null,null,"",null,null,null,null,0,0,0,0]
[47,null,null,null,null,null,null,null,null,null,null,null,null,null,null,null,null,null,null,null,null,null,null,null,"",null,null,null,null,0,0,0,0]
[48,null,null,null,null,null,null,null,null,null,null,null,null,null,null,null,null,null,null,null,null,null,null,null,"",null,null,null,null,0,0,0,0]
[49,null,null,null,null,null,null,null,null,null,null,null,null,null,null,null,null,null,null,null,null,null,null,null,"",null,null,null,null,0,0,0,0]
[50,null,null,null,null,null,null,null,null,null,null,null,null,null,null,null,null,null,null,null,null,null,null,null,"",null,null,null,null,0,0,0,0]
[51,null,null,null,null,null,null,null,null,null,null,null,null,null,null,null,null,null,null,null,null,null,null,null,"",null,null,null,null,0,0,0,0]
[52,null,null,null,null,null,null,null,null,null,null,null,null,null,null,null,null,null,null,null,null,null,null,null,"",null,null,null,null,0,0,0,0]
[53,null,null,null,null,null,null,null,null,null,null,null,null,null,null,null,null,null,null,null,null,null,null,null,"",null,null,null,null,0,0,0,0]
[54,null,null,null,null,null,null,null,null,null,null,null,null,null,null,null,null,null,null,null,null,null,null,null,"",null,null,null,null,0,0,0,0]
[55,null,null,null,null,null,null,null,null,null,null,null,null,null,null,null,null,null,null,null,null,null,null,null,"",null,null,null,null,0,0,0,0]
[56,null,null,null,null,null,null,null,null,null,null,null,null,null,null,null,null,null,null,null,null,null,null,null,"",null,null,null,null,0,0,0,0]
[57,null,null,null,null,null,null,null,null,null,null,null,null,null,null,null,null,null,null,null,null,null,null,null,"",null,null,null,null,0,0,0,0]
[58,null,null,null,null,null,null,null,null,null,null,null,null,null,null,null,null,null,null,null,null,null,null,null,"",null,null,null,null,0,0,0,0]
[59,null,null,null,null,null,null,null,null,null,null,null,null,null,null,null,null,null,null,null,null,null,null,null,"",null,null,null,null,0,0,0,0]
[60,null,null,null,null,null,null,null,null,null,null,null,null,null,null,null,null,null,null,null,null,null,null,null,"",null,null,null,null,0,0,0,0]
[61,null,null,null,null,null,null,null,null,null,null,null,null,null,null,null,null,null,null,null,null,null,null,null,"",null,null,null,null,0,0,0,0]
[62,null,null,null,null,null,null,null,null,null,null,null,null,null,null,null,null,null,null,null,null,null,null,null,"",null,null,null,null,0,0,0,0]
[63,null,null,null,null,null,null,null,null,null,null,null,null,null,null,null,null,null,null,null,null,null,null,null,"",null,null,null,null,0,0,0,0]
[64,null,null,null,null,null,null,null,null,null,null,null,null,null,null,null,null,null,null,null,null,null,null,null,"",null,null,null,null,0,0,0,0]
[65,null,null,null,null,null,null,null,null,null,null,null,null,null,null,null,null,null,null,null,null,null,null,null,"",null,null,null,null,{"$f":"IF(OR(J77=\"十種競技\",J77=\"七種競技\"),1,0)","v":0},{"$f":"IF(OR(O77=\"十種競技\",O77=\"七種競技\"),1,0)","v":0},{"$f":"IF(OR(T77=\"十種競技\",T77=\"七種競技\"),1,0)","v":0},0]
[66,null,null,null,null,null,null,null,null,null,null,null,null,null,null,null,null,null,null,null,null,null,null,null,{"$f":"IF(J78&O78=\"\",\"\",IF(J78=\"\",IF(O78=\"\",\"\",1),IF(O78=\"\",1,2)))","v":""},null,null,null,null,0,0,0,{"$f":"SUM(AD78:AF78)","v":0}]
[67,null,null,null,null,null,null,null,null,null,null,null,null,null,null,null,null,null,null,null,null,null,null,null,"",null,null,null,null,0,0,0,0]
[68,null,null,null,null,null,null,null,null,null,null,null,null,null,null,null,null,null,null,null,null,null,null,null,"",null,null,null,null,0,0,0,0]
[69,null,null,null,null,null,null,null,null,null,null,null,null,null,null,null,null,null,null,null,null,null,null,null,"",null,null,null,null,0,0,0,0]
[70,null,null,null,null,null,null,null,null,null,null,null,null,null,null,null,null,null,null,null,null,null,null,null,"",null,null,null,null,0,0,0,0]
[71,null,null,null,null,null,null,null,null,null,null,null,null,null,null,null,null,null,null,null,null,null,null,null,"",null,null,null,null,0,0,0,0]
[72,null,null,null,null,null,null,null,null,null,null,null,null,null,null,null,null,null,null,null,null,null,null,null,"",null,null,null,null,0,0,0,0]
[73,null,null,null,null,null,null,null,null,null,null,null,null,null,null,null,null,null,null,null,null,null,null,null,"",null,null,null,null,0,0,0,0]
[74,null,null,null,null,null,null,null,null,null,null,null,null,null,null,null,null,null,null,null,null,null,null,null,"",null,null,null,null,0,0,0,0]
[75,null,null,null,null,null,null,null,null,null,null,null,null,null,null,null,null,null,null,null,null,null,null,null,"",null,null,null,null,0,0,0,0]
[76,null,null,null,null,null,null,null,null,null,null,null,null,null,null,null,null,null,null,null,null,null,null,null,"",null,null,null,null,0,0,0,0]
[77,null,null,null,null,null,null,null,null,null,null,null,null,null,null,null,null,null,null,null,null,null,null,null,"",null,null,null,null,0,0,0,0]
[78,null,null,null,null,null,null,null,null,null,null,null,null,null,null,null,null,null,null,null,null,null,null,null,"",null,null,null,null,0,0,0,0]
[79,null,null,null,null,null,null,null,null,null,null,null,null,null,null,null,null,null,null,null,null,null,null,null,"",null,null,null,null,0,0,0,0]
[80,null,null,null,null,null,null,null,null,null,null,null,null,null,null,null,null,null,null,null,null,null,null,null,"",null,null,null,null,0,0,0,0]
[81,null,null,null,null,null,null,null,null,null,null,null,null,null,null,null,null,null,null,null,null,null,null,null,"",null,null,null,null,0,0,0,0]
[82,null,null,null,null,null,null,null,null,null,null,null,null,null,null,null,null,null,null,null,null,null,null,null,"",null,null,null,null,0,0,0,0]
[83,null,null,null,null,null,null,null,null,null,null,null,null,null,null,null,null,null,null,null,null,null,null,null,"",null,null,null,null,0,0,0,0]
[84,null,null,null,null,null,null,null,null,null,null,null,null,null,null,null,null,null,null,null,null,null,null,null,"",null,null,null,null,0,0,0,0]
[85,null,null,null,null,null,null,null,null,null,null,null,null,null,null,null,null,null,null,null,null,null,null,null,"",null,null,null,null,0,0,0,0]
[86,null,null,null,null,null,null,null,null,null,null,null,null,null,null,null,null,null,null,null,null,null,null,null,"",null,null,null,null,0,0,0,0]
[87,null,null,null,null,null,null,null,null,null,null,null,null,null,null,null,null,null,null,null,null,null,null,null,"",null,null,null,null,0,0,0,0]
[88,null,null,null,null,null,null,null,null,null,null,null,null,null,null,null,null,null,null,null,null,null,null,null,"",null,null,null,null,0,0,0,0]
[89,null,null,null,null,null,null,null,null,null,null,null,null,null,null,null,null,null,null,null,null,null,null,null,"",null,null,null,null,0,0,0,0]
[90,null,null,null,null,null,null,null,null,null,null,null,null,null,null,null,null,null,null,null,null,null,null,null,"",null,null,null,null,0,0,0,0]
[91,null,null,null,null,null,null,null,null,null,null,null,null,null,null,null,null,null,null,null,null,null,null,null,"",null,null,null,null,0,0,0,0]
[92,null,null,null,null,null,null,null,null,null,null,null,null,null,null,null,null,null,null,null,null,null,null,null,"",null,null,null,null,0,0,0,0]
[93,null,null,null,null,null,null,null,null,null,null,null,null,null,null,null,null,null,null,null,null,null,null,null,"",null,null,null,null,0,0,0,0]
[94,null,null,null,null,null,null,null,null,null,null,null,null,null,null,null,null,null,null,null,null,null,null,null,"",null,null,null,null,0,0,0,0]
[95,null,null,null,null,null,null,null,null,null,null,null,null,null,null,null,null,null,null,null,null,null,null,null,"",null,null,null,null,0,0,0,0]
[96,null,null,null,null,null,null,null,null,null,null,null,null,null,null,null,null,null,null,null,null,null,null,null,"",null,null,null,null,0,0,0,0]
[97,null,null,null,null,null,null,null,null,null,null,null,null,null,null,null,null,null,null,null,null,null,null,null,"",null,null,null,null,{"$f":"IF(OR(J109=\"十種競技\",J109=\"七種競技\"),1,0)","v":0},{"$f":"IF(OR(O109=\"十種競技\",O109=\"七種競技\"),1,0)","v":0},{"$f":"IF(OR(T109=\"十種競技\",T109=\"七種競技\"),1,0)","v":0},0]
[98,null,null,null,null,null,null,null,null,null,null,null,null,null,null,null,null,null,null,null,null,null,null,null,"",null,null,null,null,0,0,0,0]
[99,null,null,null,null,null,null,null,null,null,null,null,null,null,null,null,null,null,null,null,null,null,null,null,"",null,null,null,null,0,0,0,0]
[100,null,null,null,null,null,null,null,null,null,null,null,null,null,null,null,null,null,null,null,null,null,null,null,"",null,null,null,null,0,0,0,0]
[101,null,null,null,null,null,null,null,null,null,null,null,null,null,null,null,null,null,null,null,null,null,null,null,"",null,null,null,null,0,0,0,0]
[102,null,null,null,null,null,null,null,null,null,null,null,null,null,null,null,null,null,null,null,null,null,null,null,"",null,null,null,null,0,0,0,0]
[103,null,null,null,null,null,null,null,null,null,null,null,null,null,null,null,null,null,null,null,null,null,null,null,"",null,null,null,null,0,0,0,0]
[104,null,null,null,null,null,null,null,null,null,null,null,null,null,null,null,null,null,null,null,null,null,null,null,"",null,null,null,null,0,0,0,0]
[105,null,null,null,null,null,null,null,null,null,null,null,null,null,null,null,null,null,null,null,null,null,null,null,"",null,null,null,null,0,0,0,0]
[106,null,null,null,null,null,null,null,null,null,null,null,null,null,null,null,null,null,null,null,null,null,null,null,"",null,null,null,null,0,0,0,0]
[107,null,null,null,null,null,null,null,null,null,null,null,null,null,null,null,null,null,null,null,null,null,null,null,"",null,null,null,null,0,0,0,0]
[108,null,null,null,null,null,null,null,null,null,null,null,null,null,null,null,null,null,null,null,null,null,null,null,"",null,null,null,null,0,0,0,0]
[109,null,null,null,null,null,null,null,null,null,null,null,null,null,null,null,null,null,null,null,null,null,null,null,"",null,null,null,null,0,0,0,0]
[110,null,null,null,null,null,null,null,null,null,null,null,null,null,null,null,null,null,null,null,null,null,null,null,"",null,null,null,null,0,0,0,0]
[111,null,null,null,null,null,null,null,null,null,null,null,null,null,null,null,null,null,null,null,null,null,null,null,"",null,null,null,null,0,0,0,0]
[112,null,null,null,null,null,null,null,null,null,null,null,null,null,null,null,null,null,null,null,null,null,null,null,"",null,null,null,null,0,0,0,0]
[113,null,null,null,null,null,null,null,null,null,null,null,null,null,null,null,null,null,null,null,null,null,null,null,"",null,null,null,null,0,0,0,0]
[114,null,null,null,null,null,null,null,null,null,null,null,null,null,null,null,null,null,null,null,null,null,null,null,"",null,null,null,null,0,0,0,0]
[115,null,null,null,null,null,null,null,null,null,null,null,null,null,null,null,null,null,null,null,null,null,null,null,"",null,null,null,null,0,0,0,0]
[116,null,null,null,null,null,null,null,null,null,null,null,null,null,null,null,null,null,null,null,null,null,null,null,"",null,null,null,null,0,0,0,0]
[117,null,null,null,null,null,null,null,null,null,null,null,null,null,null,null,null,null,null,null,null,null,null,null,"",null,null,null,null,0,0,0,0]
[118,null,null,null,null,null,null,null,null,null,null,null,null,null,null,null,null,null,null,null,null,null,null,null,"",null,null,null,null,0,0,0,0]
[119,null,null,null,null,null,null,null,null,null,null,null,null,null,null,null,null,null,null,null,null,null,null,null,"",null,null,null,null,0,0,0,0]
[120,null,null,null,null,null,null,null,null,null,null,null,null,null,null,null,null,null,null,null,null,null,null,null,"",null,null,null,null,0,0,0,0]
[]
[null,null,null,null,null,null,null,null,{"$f":"IF(Sheet2!F1=\"\",\"\",Sheet2!F1)","v":""}]
[null,{"$f":"IF(Sheet2!A2=\"\",\"\",Sheet2!A2)","v":"100ｍ"},1,"男","手","●","選択して下さい",0,{"$f":"IF(Sheet2!F2=\"\",\"\",Sheet2!F2)","v":"兵庫"}]
[null,{"$f":"IF(Sheet2!A3=\"\",\"\",Sheet2!A3)","v":"200ｍ"},2,"女",null,null,"県内中学",1,{"$f":"IF(Sheet2!F3=\"\",\"\",Sheet2!F3)","v":""}]
[null,{"$f":"IF(Sheet2!A4=\"\",\"\",Sheet2!A4)","v":"400ｍ"},3,null,null,null,"県外中学",2,{"$f":"IF(Sheet2!F4=\"\",\"\",Sheet2!F4)","v":"滋賀"}]
[null,{"$f":"IF(Sheet2!A5=\"\",\"\",Sheet2!A5)","v":"1500ｍ"},4,null,null,null,"県外高校",3,{"$f":"IF(Sheet2!F5=\"\",\"\",Sheet2!F5)","v":"京都"}]
[null,{"$f":"IF(Sheet2!A6=\"\",\"\",Sheet2!A6)","v":"110ｍＨ（男子）"},5,null,null,null,"関西学連以外の大学",4,{"$f":"IF(Sheet2!F6=\"\",\"\",Sheet2!F6)","v":"大阪"}]
[null,{"$f":"IF(Sheet2!A7=\"\",\"\",Sheet2!A7)","v":"100ｍＨ(女子）"},6,null,null,null,"実業団・陸協（県内）",5,{"$f":"IF(Sheet2!F7=\"\",\"\",Sheet2!F7)","v":"奈良"}]
[null,{"$f":"IF(Sheet2!A8=\"\",\"\",Sheet2!A8)","v":"400ｍＨ（男子）"},"M1",null,null,null,"実業団・陸協（県外）",6,{"$f":"IF(Sheet2!F8=\"\",\"\",Sheet2!F8)","v":"和歌山"}]
[null,{"$f":"IF(Sheet2!A9=\"\",\"\",Sheet2!A9)","v":"400ｍＨ（女子）"},"M2",null,null,null,null,null,{"$f":"IF(Sheet2!F9=\"\",\"\",Sheet2!F9)","v":""}]
[null,{"$f":"IF(Sheet2!A10=\"\",\"\",Sheet2!A10)","v":"3000ｍＳＣ（男子）"},"D1",null,null,null,null,null,{"$f":"IF(Sheet2!F10=\"\",\"\",Sheet2!F10)","v":"北海道"}]
[null,{"$f":"IF(Sheet2!A11=\"\",\"\",Sheet2!A11)","v":"走高跳"},"D2",null,null,null,null,null,{"$f":"IF(Sheet2!F11=\"\",\"\",Sheet2!F11)","v":"青森"}]
[null,{"$f":"IF(Sheet2!A12=\"\",\"\",Sheet2!A12)","v":"棒高跳"},"D3",null,null,null,null,null,{"$f":"IF(Sheet2!F12=\"\",\"\",Sheet2!F12)","v":"岩手"}]
[null,{"$f":"IF(Sheet2!A13=\"\",\"\",Sheet2!A13)","v":"走幅跳"},null,null,null,null,null,null,{"$f":"IF(Sheet2!F13=\"\",\"\",Sheet2!F13)","v":"宮城"},{"$f":"IF(Sheet2!I14=\"\",\"\",Sheet2!I14)","v":""}]
[null,{"$f":"IF(Sheet2!A14=\"\",\"\",Sheet2!A14)","v":"三段跳"},null,null,null,null,null,null,{"$f":"IF(Sheet2!F14=\"\",\"\",Sheet2!F14)","v":"秋田"},{"$f":"IF(Sheet2!I15=\"\",\"\",Sheet2!I15)","v":""}]
[null,{"$f":"IF(Sheet2!A15=\"\",\"\",Sheet2!A15)","v":"砲丸投（一般男子）"},null,null,null,null,null,null,{"$f":"IF(Sheet2!F15=\"\",\"\",Sheet2!F15)","v":"山形"},{"$f":"IF(Sheet2!I16=\"\",\"\",Sheet2!I16)","v":""}]
[null,{"$f":"IF(Sheet2!A16=\"\",\"\",Sheet2!A16)","v":"砲丸投（高校男子）"},null,null,null,null,null,null,{"$f":"IF(Sheet2!F16=\"\",\"\",Sheet2!F16)","v":"福島"},{"$f":"IF(Sheet2!I17=\"\",\"\",Sheet2!I17)","v":""}]
[null,{"$f":"IF(Sheet2!A17=\"\",\"\",Sheet2!A17)","v":"砲丸投（女子）"},null,null,null,null,null,null,{"$f":"IF(Sheet2!F17=\"\",\"\",Sheet2!F17)","v":"茨城"},{"$f":"IF(Sheet2!I18=\"\",\"\",Sheet2!I18)","v":""}]
[null,{"$f":"IF(Sheet2!A18=\"\",\"\",Sheet2!A18)","v":"円盤投（一般男子）"},null,null,null,null,null,null,{"$f":"IF(Sheet2!F18=\"\",\"\",Sheet2!F18)","v":"栃木"},{"$f":"IF(Sheet2!I19=\"\",\"\",Sheet2!I19)","v":""}]
[null,{"$f":"IF(Sheet2!A19=\"\",\"\",Sheet2!A19)","v":"円盤投（高校男子）"},null,null,null,null,null,null,{"$f":"IF(Sheet2!F19=\"\",\"\",Sheet2!F19)","v":"群馬"},{"$f":"IF(Sheet2!I20=\"\",\"\",Sheet2!I20)","v":""}]
[null,{"$f":"IF(Sheet2!A20=\"\",\"\",Sheet2!A20)","v":"円盤投（女子）"},null,null,null,null,null,null,{"$f":"IF(Sheet2!F20=\"\",\"\",Sheet2!F20)","v":"埼玉"},{"$f":"IF(Sheet2!I21=\"\",\"\",Sheet2!I21)","v":""}]
[null,{"$f":"IF(Sheet2!A21=\"\",\"\",Sheet2!A21)","v":"ﾊﾝﾏｰ投（一般男子）"},null,null,null,null,null,null,{"$f":"IF(Sheet2!F21=\"\",\"\",Sheet2!F21)","v":"千葉"},{"$f":"IF(Sheet2!I22=\"\",\"\",Sheet2!I22)","v":""}]
[null,{"$f":"IF(Sheet2!A22=\"\",\"\",Sheet2!A22)","v":"ﾊﾝﾏｰ投（高校男子）"},null,null,null,null,null,null,{"$f":"IF(Sheet2!F22=\"\",\"\",Sheet2!F22)","v":"東京"},{"$f":"IF(Sheet2!I23=\"\",\"\",Sheet2!I23)","v":""}]
[null,{"$f":"IF(Sheet2!A23=\"\",\"\",Sheet2!A23)","v":"ﾊﾝﾏｰ投（女子）"},null,null,null,null,null,null,{"$f":"IF(Sheet2!F23=\"\",\"\",Sheet2!F23)","v":"神奈川"},{"$f":"IF(Sheet2!I24=\"\",\"\",Sheet2!I24)","v":""}]
[null,{"$f":"IF(Sheet2!A24=\"\",\"\",Sheet2!A24)","v":"やり投（男子）"},null,null,null,null,null,null,{"$f":"IF(Sheet2!F24=\"\",\"\",Sheet2!F24)","v":"山梨"},{"$f":"IF(Sheet2!I25=\"\",\"\",Sheet2!I25)","v":""}]
[null,{"$f":"IF(Sheet2!A25=\"\",\"\",Sheet2!A25)","v":"やり投（女子）"},null,null,null,null,null,null,{"$f":"IF(Sheet2!F25=\"\",\"\",Sheet2!F25)","v":"新潟"},{"$f":"IF(Sheet2!I26=\"\",\"\",Sheet2!I26)","v":""}]
[null,{"$f":"IF(Sheet2!A26=\"\",\"\",Sheet2!A26)","v":"やり投（女子）"},null,null,null,null,null,null,{"$f":"IF(Sheet2!F26=\"\",\"\",Sheet2!F26)","v":"長野"},{"$f":"IF(Sheet2!I27=\"\",\"\",Sheet2!I27)","v":""}]
[null,{"$f":"IF(Sheet2!A27=\"\",\"\",Sheet2!A27)","v":""},null,null,null,null,null,null,{"$f":"IF(Sheet2!F27=\"\",\"\",Sheet2!F27)","v":"富山"},{"$f":"IF(Sheet2!I28=\"\",\"\",Sheet2!I28)","v":""}]
[null,{"$f":"IF(Sheet2!A28=\"\",\"\",Sheet2!A28)","v":""},null,null,null,null,null,null,{"$f":"IF(Sheet2!F28=\"\",\"\",Sheet2!F28)","v":"石川"},{"$f":"IF(Sheet2!I29=\"\",\"\",Sheet2!I29)","v":""}]
[null,{"$f":"IF(Sheet2!A29=\"\",\"\",Sheet2!A29)","v":""},null,null,null,null,null,null,{"$f":"IF(Sheet2!F29=\"\",\"\",Sheet2!F29)","v":"福井"},{"$f":"IF(Sheet2!I30=\"\",\"\",Sheet2!I30)","v":""}]
[null,{"$f":"IF(Sheet2!A30=\"\",\"\",Sheet2!A30)","v":""},null,null,null,null,null,null,{"$f":"IF(Sheet2!F30=\"\",\"\",Sheet2!F30)","v":"静岡"},{"$f":"IF(Sheet2!I31=\"\",\"\",Sheet2!I31)","v":""}]
[null,{"$f":"IF(Sheet2!A31=\"\",\"\",Sheet2!A31)","v":""},null,null,null,null,null,null,{"$f":"IF(Sheet2!F31=\"\",\"\",Sheet2!F31)","v":"愛知"},{"$f":"IF(Sheet2!I32=\"\",\"\",Sheet2!I32)","v":""}]
[null,{"$f":"IF(Sheet2!A32=\"\",\"\",Sheet2!A32)","v":""},null,null,null,null,null,null,{"$f":"IF(Sheet2!F32=\"\",\"\",Sheet2!F32)","v":"三重"},{"$f":"IF(Sheet2!I33=\"\",\"\",Sheet2!I33)","v":""}]
[null,{"$f":"IF(Sheet2!A33=\"\",\"\",Sheet2!A33)","v":""},null,null,null,null,null,null,{"$f":"IF(Sheet2!F33=\"\",\"\",Sheet2!F33)","v":"岐阜"},{"$f":"IF(Sheet2!I34=\"\",\"\",Sheet2!I34)","v":""}]
[null,{"$f":"IF(Sheet2!A34=\"\",\"\",Sheet2!A34)","v":""},null,null,null,null,null,null,{"$f":"IF(Sheet2!F34=\"\",\"\",Sheet2!F34)","v":"鳥取"},{"$f":"IF(Sheet2!I35=\"\",\"\",Sheet2!I35)","v":""}]
[null,{"$f":"IF(Sheet2!A35=\"\",\"\",Sheet2!A35)","v":""},null,null,null,null,null,null,{"$f":"IF(Sheet2!F35=\"\",\"\",Sheet2!F35)","v":"島根"},{"$f":"IF(Sheet2!I36=\"\",\"\",Sheet2!I36)","v":""}]
[null,null,null,null,null,null,null,null,{"$f":"IF(Sheet2!F36=\"\",\"\",Sheet2!F36)","v":"岡山"},{"$f":"IF(Sheet2!I37=\"\",\"\",Sheet2!I37)","v":""}]
[null,null,null,null,null,null,null,null,{"$f":"IF(Sheet2!F37=\"\",\"\",Sheet2!F37)","v":"広島"},{"$f":"IF(Sheet2!I38=\"\",\"\",Sheet2!I38)","v":""}]
[null,{"$f":"IF(Sheet2!A39=\"\",\"\",Sheet2!A39)","v":""},null,null,null,null,null,null,{"$f":"IF(Sheet2!F38=\"\",\"\",Sheet2!F38)","v":"山口"},{"$f":"IF(Sheet2!I39=\"\",\"\",Sheet2!I39)","v":""}]
[null,{"$f":"IF(Sheet2!A40=\"\",\"\",Sheet2!A40)","v":""},null,null,null,null,null,null,{"$f":"IF(Sheet2!F39=\"\",\"\",Sheet2!F39)","v":"徳島"},{"$f":"IF(Sheet2!I40=\"\",\"\",Sheet2!I40)","v":""}]
[null,null,null,null,null,null,null,null,{"$f":"IF(Sheet2!F40=\"\",\"\",Sheet2!F40)","v":"香川"},{"$f":"IF(Sheet2!I41=\"\",\"\",Sheet2!I41)","v":""}]
[null,null,null,null,null,null,null,null,{"$f":"IF(Sheet2!F41=\"\",\"\",Sheet2!F41)","v":"愛媛"},{"$f":"IF(Sheet2!I42=\"\",\"\",Sheet2!I42)","v":""}]
[null,null,null,null,null,null,null,null,{"$f":"IF(Sheet2!F42=\"\",\"\",Sheet2!F42)","v":"高知"},{"$f":"IF(Sheet2!I43=\"\",\"\",Sheet2!I43)","v":""}]
[null,null,null,null,null,null,null,null,{"$f":"IF(Sheet2!F43=\"\",\"\",Sheet2!F43)","v":"福岡"},{"$f":"IF(Sheet2!I44=\"\",\"\",Sheet2!I44)","v":""}]
[null,null,null,null,null,null,null,null,{"$f":"IF(Sheet2!F44=\"\",\"\",Sheet2!F44)","v":"佐賀"},{"$f":"IF(Sheet2!I45=\"\",\"\",Sheet2!I45)","v":""}]
[null,null,null,null,null,null,null,null,{"$f":"IF(Sheet2!F45=\"\",\"\",Sheet2!F45)","v":"長崎"},{"$f":"IF(Sheet2!I46=\"\",\"\",Sheet2!I46)","v":""}]
[null,null,null,null,null,null,null,null,{"$f":"IF(Sheet2!F46=\"\",\"\",Sheet2!F46)","v":"熊本"},{"$f":"IF(Sheet2!I47=\"\",\"\",Sheet2!I47)","v":""}]
[null,null,null,null,null,null,null,null,{"$f":"IF(Sheet2!F47=\"\",\"\",Sheet2!F47)","v":"大分"},{"$f":"IF(Sheet2!I48=\"\",\"\",Sheet2!I48)","v":""}]
[null,null,null,null,null,null,null,null,{"$f":"IF(Sheet2!F48=\"\",\"\",Sheet2!F48)","v":"宮崎"},{"$f":"IF(Sheet2!I49=\"\",\"\",Sheet2!I49)","v":""}]
[null,null,null,null,null,null,null,null,{"$f":"IF(Sheet2!F49=\"\",\"\",Sheet2!F49)","v":"鹿児島"},{"$f":"IF(Sheet2!I50=\"\",\"\",Sheet2!I50)","v":""}]
[null,null,null,null,null,null,null,null,{"$f":"IF(Sheet2!F50=\"\",\"\",Sheet2!F50)","v":"沖縄"},{"$f":"IF(Sheet2!I51=\"\",\"\",Sheet2!I51)","v":""}]
[null,null,null,null,null,null,null,null,null,{"$f":"IF(Sheet2!I52=\"\",\"\",Sheet2!I52)","v":""}]
[null,null,null,null,null,null,null,null,null,{"$f":"IF(Sheet2!I53=\"\",\"\",Sheet2!I53)","v":""}]
[null,null,null,null,null,null,null,null,null,{"$f":"IF(Sheet2!I54=\"\",\"\",Sheet2!I54)","v":""}]
[null,null,null,null,null,null,null,null,null,{"$f":"IF(Sheet2!I55=\"\",\"\",Sheet2!I55)","v":""}]
[null,null,null,null,null,null,null,null,null,{"$f":"IF(Sheet2!I56=\"\",\"\",Sheet2!I56)","v":""}]
[null,null,null,null,null,null,null,null,null,{"$f":"IF(Sheet2!I57=\"\",\"\",Sheet2!I57)","v":""}]
[null,null,null,null,null,null,null,null,null,{"$f":"IF(Sheet2!I58=\"\",\"\",Sheet2!I58)","v":""}]
[null,null,null,null,null,null,null,null,null,{"$f":"IF(Sheet2!I59=\"\",\"\",Sheet2!I59)","v":""}]
[null,null,null,null,null,null,null,null,null,{"$f":"IF(Sheet2!I60=\"\",\"\",Sheet2!I60)","v":""}]
[null,null,null,null,null,null,null,null,null,{"$f":"IF(Sheet2!I61=\"\",\"\",Sheet2!I61)","v":""}]
[null,null,null,null,null,null,null,null,null,{"$f":"IF(Sheet2!I62=\"\",\"\",Sheet2!I62)","v":""}]
[null,null,null,null,null,null,null,null,null,{"$f":"IF(Sheet2!I63=\"\",\"\",Sheet2!I63)","v":""}]
[null,null,null,null,null,null,null,null,null,{"$f":"IF(Sheet2!I64=\"\",\"\",Sheet2!I64)","v":""}]
[null,null,null,null,null,null,null,null,null,{"$f":"IF(Sheet2!I65=\"\",\"\",Sheet2!I65)","v":""}]
[null,null,null,null,null,null,null,null,null,{"$f":"IF(Sheet2!I66=\"\",\"\",Sheet2!I66)","v":""}]
[null,null,null,null,null,null,null,null,null,{"$f":"IF(Sheet2!I67=\"\",\"\",Sheet2!I67)","v":""}]
[null,null,null,null,null,null,null,null,null,{"$f":"IF(Sheet2!I68=\"\",\"\",Sheet2!I68)","v":""}]
[null,null,null,null,null,null,null,null,null,{"$f":"IF(Sheet2!I69=\"\",\"\",Sheet2!I69)","v":""}]
[null,null,null,null,null,null,null,null,null,{"$f":"IF(Sheet2!I70=\"\",\"\",Sheet2!I70)","v":""}]
[null,null,null,null,null,null,null,null,null,{"$f":"IF(Sheet2!I71=\"\",\"\",Sheet2!I71)","v":""}]
[null,null,null,null,null,null,null,null,null,{"$f":"IF(Sheet2!I72=\"\",\"\",Sheet2!I72)","v":""}]
[null,null,null,null,null,null,null,null,null,{"$f":"IF(Sheet2!I73=\"\",\"\",Sheet2!I73)","v":""}]
[null,null,null,null,null,null,null,null,null,{"$f":"IF(Sheet2!I74=\"\",\"\",Sheet2!I74)","v":""}]
[null,null,null,null,null,null,null,null,null,{"$f":"IF(Sheet2!I75=\"\",\"\",Sheet2!I75)","v":""}]
[null,null,null,null,null,null,null,null,null,{"$f":"IF(Sheet2!I76=\"\",\"\",Sheet2!I76)","v":""}]
[null,null,null,null,null,null,null,null,null,{"$f":"IF(Sheet2!I77=\"\",\"\",Sheet2!I77)","v":""}]
[null,null,null,null,null,null,null,null,null,{"$f":"IF(Sheet2!I78=\"\",\"\",Sheet2!I78)","v":""}]
[null,null,null,null,null,null,null,null,null,{"$f":"IF(Sheet2!I79=\"\",\"\",Sheet2!I79)","v":""}]
[null,null,null,null,null,null,null,null,null,{"$f":"IF(Sheet2!I80=\"\",\"\",Sheet2!I80)","v":""}]
[null,null,null,null,null,null,null,null,null,{"$f":"IF(Sheet2!I81=\"\",\"\",Sheet2!I81)","v":""}]
[null,null,null,null,null,null,null,null,null,{"$f":"IF(Sheet2!I82=\"\",\"\",Sheet2!I82)","v":""}]
[null,null,null,null,null,null,null,null,null,{"$f":"IF(Sheet2!I83=\"\",\"\",Sheet2!I83)","v":""}]
[null,null,null,null,null,null,null,null,null,{"$f":"IF(Sheet2!I84=\"\",\"\",Sheet2!I84)","v":""}]
[null,null,null,null,null,null,null,null,null,{"$f":"IF(Sheet2!I85=\"\",\"\",Sheet2!I85)","v":""}]
[null,null,null,null,null,null,null,null,null,{"$f":"IF(Sheet2!I86=\"\",\"\",Sheet2!I86)","v":""}]
[null,null,null,null,null,null,null,null,null,{"$f":"IF(Sheet2!I87=\"\",\"\",Sheet2!I87)","v":""}]
[null,null,null,null,null,null,null,null,null,{"$f":"IF(Sheet2!I88=\"\",\"\",Sheet2!I88)","v":""}]
[null,null,null,null,null,null,null,null,null,{"$f":"IF(Sheet2!I89=\"\",\"\",Sheet2!I89)","v":""}]
[null,null,null,null,null,null,null,null,null,{"$f":"IF(Sheet2!I90=\"\",\"\",Sheet2!I90)","v":""}]

{"sheet":"Sheet2","index":1,"n_rows":50,"n_cols":25,"rows_kept":50,"cut":false,"hidden":false,"merged":[]}
[null,null,null,null,null,null,null,null,null,null,null,null,null,null,"プロ","個人（県内）","個人（県外）"]
["100ｍ","00200 0",2,null,null,"兵庫",28,null,1,null,"男",null,"県内中学",1,900,1100,1100,null,null,null,null,null,"3000ｍ（女Ａ）","01001 0",10]
["200ｍ","00300 0",3,null,null,null,null,null,"2",null,"女",null,"県外中学",2,900,1100,1100,null,null,null,null,null,"円盤（男少共）","08701 0",87]
["400ｍ","00500 0",5,null,null,"滋賀",25,null,"3",null,null,null,"県外高校",3,900,1100,1100,null,null,null,null,null,"ﾊﾝﾏｰ（男Ａ）","09101 0",91]
["1500ｍ","00800 0",8,null,null,"京都",26,null,"4",null,null,null,"関西学連以外の大学",4,900,1300,1300]
["110ｍＨ（男子）","03400 0",34,null,null,"大阪",27,null,"5",null,null,null,"実業団・陸協（県内）",5,900,1300,1300]
["100ｍＨ(女子）","04400 0",44,null,null,"奈良",29,null,"6",null,null,null,"実業団・陸協（県外）",6,900,1300,1300]
["400ｍＨ（男子）","03700 0",37,null,null,"和歌山",30,null,"M1"]
["400ｍＨ（女子）","04600 0",46,null,null,null,null,null,"M2"]
["3000ｍＳＣ（男子）","05300 0",53,null,null,"北海道",1,null,"D1"]
["走高跳","07100 0",71,null,null,"青森",2,null,"D2"]
["棒高跳","07200 0",72,null,null,"岩手",3,null,"D3"]
["走幅跳","07300 0",73,null,null,"宮城",4]
["三段跳","07400 0",74,null,null,"秋田",5]
["砲丸投（一般男子）","08100 0",81,null,null,"山形",6]
["砲丸投（高校男子）","08204 0",82,null,null,"福島",7]
["砲丸投（女子）","08400 0",84,null,null,"茨城",8]
["円盤投（一般男子）","08600 0",86,null,null,"栃木",9]
["円盤投（高校男子）","08704 0",87,null,null,"群馬",10]
["円盤投（女子）","08800 0",88,null,null,"埼玉",11]
["ﾊﾝﾏｰ投（一般男子）","08900 0",89,null,null,"千葉",12]
["ﾊﾝﾏｰ投（高校男子）","09104 0",90,null,null,"東京",13]
["ﾊﾝﾏｰ投（女子）","09400 0",94,null,null,"神奈川",14]
["やり投（男子）","09200 0",92,null,null,"山梨",15]
["やり投（女子）","09300 0",93,null,null,"新潟",16]
["やり投（女子）","09300 0",93,null,null,"長野",17]
[null,null,null,null,null,"富山",18]
[null,null,null,null,null,"石川",19]
[null,null,null,null,null,"福井",20]
[null,null,null,null,null,"静岡",21]
[null,null,null,null,null,"愛知",22]
[null,null,null,null,null,"三重",23]
[null,null,null,null,null,"岐阜",24]
[null,null,null,null,null,"鳥取",31]
[null,null,null,null,null,"島根",32]
[null,null,null,null,null,"岡山",33]
[null,null,null,null,null,"広島",34]
[null,null,null,null,null,"山口",35]
[null,null,null,null,null,"徳島",36]
[null,null,null,null,null,"香川",37]
[null,null,null,null,null,"愛媛",38]
[null,null,null,null,null,"高知",39]
[null,null,null,null,null,"福岡",40]
[null,null,null,null,null,"佐賀",41]
[null,null,null,null,null,"長崎",42]
[null,null,null,null,null,"熊本",43]
[null,null,null,null,null,"大分",44]
[null,null,null,null,null,"宮崎",45]
[null,null,null,null,null,"鹿児島",46]
[null,null,null,null,null,"沖縄",47]

{"sheet":"Sheet3","index":2,"n_rows":124,"n_cols":10,"rows_kept":124,"cut":false,"hidden":false,"merged":[]}
[{"$f":"Sheet1!D4&\"/\"&Sheet1!D5&\"/\"&Sheet1!D6&\"/\"&Sheet1!D7","v":"///"},"プロ",{"$f":"Sheet1!D8","v":0}]
["DB","N1","N2","SX","KC","MC","ZK","S1","S2","S3"]
[{"$f":"IF(B3=\"\",\"\",D3*100000000+E3*1000000+200000+G3)","v":""},{"$f":"ASC(IF(Sheet1!C13=\"\",\"\",IF(LEN(Sheet1!C13)+LEN(Sheet1!D13)=2,Sheet1!C13&\"      \"&Sheet1!D13&\"(\"&Sheet1!G13&\")\",IF(LEN(Sheet1!C13)+LEN(Sheet1!D13)=3,Sheet1!C13&\"    \"&Sheet1!D13&\"(\"&Sheet1!G13&\")\",IF(LEN(Sheet1!C13)+LEN(Sheet1!D13)=4,Sheet1!C13&\"  \"&Sheet1!D13&\"(\"&Sheet1!G13&\")\",IF(LEN(Sheet1!C13)+LEN(Sheet1!D13)>=5,Sheet1!C13&Sheet1!D13&\"(\"&Sheet1!G13&\")\",\"\"))))))","v":""},{"$f":"ASC(IF(Sheet1!E13=\"\",\"\",Sheet1!E13&\" \"&Sheet1!F13))","v":""},{"$f":"IF(Sheet1!H13=\"\",\"\",IF(Sheet1!H13=\"女\",2,1))","v":""},{"$f":"IF(Sheet1!I13=\"\",\"\",VLOOKUP(Sheet1!I13,Sheet2!$F$2:$G$50,2,FALSE))","v":""},{"$f":"IF(B3=\"\",\"\",IF(Sheet1!$D$4=\"\",Sheet1!$D$5,VALUE(Sheet1!$D$4)))","v":""},{"$f":"IF(Sheet1!B13=\"\",\"\",VALUE(Sheet1!B13))","v":""},{"$f":"IF(Sheet1!J13=\"\",\"\",IF(VLOOKUP(Sheet1!J13,Sheet2!$A$2:$C$44,3,FALSE)>=71,VLOOKUP(Sheet1!J13,Sheet2!$A$2:$C$44,2,FALSE)&TEXT(Sheet1!L13,\"00\")&TEXT(Sheet1!M13,\"00\"),VLOOKUP(Sheet1!J13,Sheet2!$A$2:$C$44,2,FALSE)&TEXT(Sheet1!K13,\"00\")&TEXT(Sheet1!L13,\"00\")&IF(Sheet1!N13=\"手\",TEXT(Sheet1!M13,\"0\"),TEXT(Sheet1!M13,\"00\"))))","v":""},{"$f":"IF(Sheet1!O13=\"\",\"\",IF(VLOOKUP(Sheet1!O13,Sheet2!$A$2:$C$44,3,FALSE)>=71,VLOOKUP(Sheet1!O13,Sheet2!$A$2:$C$44,2,FALSE)&TEXT(Sheet1!Q13,\"00\")&TEXT(Sheet1!R13,\"00\"),VLOOKUP(Sheet1!O13,Sheet2!$A$2:$C$44,2,FALSE)&TEXT(Sheet1!P13,\"00\")&TEXT(Sheet1!Q13,\"00\")&IF(Sheet1!S13=\"手\",TEXT(Sheet1!R13,\"0\"),TEXT(Sheet1!R13,\"00\"))))","v":""},{"$f":"IF(Sheet1!T13=\"\",\"\",IF(VLOOKUP(Sheet1!T13,Sheet2!$A$2:$C$44,3,FALSE)>=71,VLOOKUP(Sheet1!T13,Sheet2!$A$2:$C$44,2,FALSE)&TEXT(Sheet1!V13,\"00\")&TEXT(Sheet1!W13,\"00\"),VLOOKUP(Sheet1!T13,Sheet2!$A$2:$C$44,2,FALSE)&TEXT(Sheet1!U13,\"00\")&TEXT(Sheet1!V13,\"00\")&IF(Sheet1!X13=\"手\",TEXT(Sheet1!W13,\"0\"),TEXT(Sheet1!W13,\"00\"))))","v":""}]
["",{"$f":"ASC(IF(Sheet1!C14=\"\",\"\",IF(LEN(Sheet1!C14)+LEN(Sheet1!D14)=2,Sheet1!C14&\"      \"&Sheet1!D14&\"(\"&Sheet1!G14&\")\",IF(LEN(Sheet1!C14)+LEN(Sheet1!D14)=3,Sheet1!C14&\"    \"&Sheet1!D14&\"(\"&Sheet1!G14&\")\",IF(LEN(Sheet1!C14)+LEN(Sheet1!D14)=4,Sheet1!C14&\"  \"&Sheet1!D14&\"(\"&Sheet1!G14&\")\",IF(LEN(Sheet1!C14)+LEN(Sheet1!D14)>=5,Sheet1!C14&Sheet1!D14&\"(\"&Sheet1!G14&\")\",\"\"))))))","v":""},{"$f":"ASC(IF(Sheet1!E14=\"\",\"\",Sheet1!E14&\" \"&Sheet1!F14))","v":""},{"$f":"IF(Sheet1!H14=\"\",\"\",IF(Sheet1!H14=\"女\",2,1))","v":""},{"$f":"IF(Sheet1!I14=\"\",\"\",VLOOKUP(Sheet1!I14,Sheet2!$F$2:$G$50,2,FALSE))","v":""},{"$f":"IF(B4=\"\",\"\",IF(Sheet1!$D$4=\"\",Sheet1!$D$5,VALUE(Sheet1!$D$4)))","v":""},{"$f":"IF(Sheet1!B14=\"\",\"\",VALUE(Sheet1!B14))","v":""},{"$f":"IF(Sheet1!J14=\"\",\"\",IF(VLOOKUP(Sheet1!J14,Sheet2!$A$2:$C$44,3,FALSE)>=71,VLOOKUP(Sheet1!J14,Sheet2!$A$2:$C$44,2,FALSE)&TEXT(Sheet1!L14,\"00\")&TEXT(Sheet1!M14,\"00\"),VLOOKUP(Sheet1!J14,Sheet2!$A$2:$C$44,2,FALSE)&TEXT(Sheet1!K14,\"00\")&TEXT(Sheet1!L14,\"00\")&IF(Sheet1!N14=\"手\",TEXT(Sheet1!M14,\"0\"),TEXT(Sheet1!M14,\"00\"))))","v":""},{"$f":"IF(Sheet1!O14=\"\",\"\",IF(VLOOKUP(Sheet1!O14,Sheet2!$A$2:$C$44,3,FALSE)>=71,VLOOKUP(Sheet1!O14,Sheet2!$A$2:$C$44,2,FALSE)&TEXT(Sheet1!Q14,\"00\")&TEXT(Sheet1!R14,\"00\"),VLOOKUP(Sheet1!O14,Sheet2!$A$2:$C$44,2,FALSE)&TEXT(Sheet1!P14,\"00\")&TEXT(Sheet1!Q14,\"00\")&IF(Sheet1!S14=\"手\",TEXT(Sheet1!R14,\"0\"),TEXT(Sheet1!R14,\"00\"))))","v":""},{"$f":"IF(Sheet1!T14=\"\",\"\",IF(VLOOKUP(Sheet1!T14,Sheet2!$A$2:$C$44,3,FALSE)>=71,VLOOKUP(Sheet1!T14,Sheet2!$A$2:$C$44,2,FALSE)&TEXT(Sheet1!V14,\"00\")&TEXT(Sheet1!W14,\"00\"),VLOOKUP(Sheet1!T14,Sheet2!$A$2:$C$44,2,FALSE)&TEXT(Sheet1!U14,\"00\")&TEXT(Sheet1!V14,\"00\")&IF(Sheet1!X14=\"手\",TEXT(Sheet1!W14,\"0\"),TEXT(Sheet1!W14,\"00\"))))","v":""}]
["",{"$f":"ASC(IF(Sheet1!C15=\"\",\"\",IF(LEN(Sheet1!C15)+LEN(Sheet1!D15)=2,Sheet1!C15&\"      \"&Sheet1!D15&\"(\"&Sheet1!G15&\")\",IF(LEN(Sheet1!C15)+LEN(Sheet1!D15)=3,Sheet1!C15&\"    \"&Sheet1!D15&\"(\"&Sheet1!G15&\")\",IF(LEN(Sheet1!C15)+LEN(Sheet1!D15)=4,Sheet1!C15&\"  \"&Sheet1!D15&\"(\"&Sheet1!G15&\")\",IF(LEN(Sheet1!C15)+LEN(Sheet1!D15)>=5,Sheet1!C15&Sheet1!D15&\"(\"&Sheet1!G15&\")\",\"\"))))))","v":""},{"$f":"ASC(IF(Sheet1!E15=\"\",\"\",Sheet1!E15&\" \"&Sheet1!F15))","v":""},{"$f":"IF(Sheet1!H15=\"\",\"\",IF(Sheet1!H15=\"女\",2,1))","v":""},{"$f":"IF(Sheet1!I15=\"\",\"\",VLOOKUP(Sheet1!I15,Sheet2!$F$2:$G$50,2,FALSE))","v":""},{"$f":"IF(B5=\"\",\"\",IF(Sheet1!$D$4=\"\",Sheet1!$D$5,VALUE(Sheet1!$D$4)))","v":""},{"$f":"IF(Sheet1!B15=\"\",\"\",VALUE(Sheet1!B15))","v":""},{"$f":"IF(Sheet1!J15=\"\",\"\",IF(VLOOKUP(Sheet1!J15,Sheet2!$A$2:$C$44,3,FALSE)>=71,VLOOKUP(Sheet1!J15,Sheet2!$A$2:$C$44,2,FALSE)&TEXT(Sheet1!L15,\"00\")&TEXT(Sheet1!M15,\"00\"),VLOOKUP(Sheet1!J15,Sheet2!$A$2:$C$44,2,FALSE)&TEXT(Sheet1!K15,\"00\")&TEXT(Sheet1!L15,\"00\")&IF(Sheet1!N15=\"手\",TEXT(Sheet1!M15,\"0\"),TEXT(Sheet1!M15,\"00\"))))","v":""},{"$f":"IF(Sheet1!O15=\"\",\"\",IF(VLOOKUP(Sheet1!O15,Sheet2!$A$2:$C$44,3,FALSE)>=71,VLOOKUP(Sheet1!O15,Sheet2!$A$2:$C$44,2,FALSE)&TEXT(Sheet1!Q15,\"00\")&TEXT(Sheet1!R15,\"00\"),VLOOKUP(Sheet1!O15,Sheet2!$A$2:$C$44,2,FALSE)&TEXT(Sheet1!P15,\"00\")&TEXT(Sheet1!Q15,\"00\")&IF(Sheet1!S15=\"手\",TEXT(Sheet1!R15,\"0\"),TEXT(Sheet1!R15,\"00\"))))","v":""},{"$f":"IF(Sheet1!T15=\"\",\"\",IF(VLOOKUP(Sheet1!T15,Sheet2!$A$2:$C$44,3,FALSE)>=71,VLOOKUP(Sheet1!T15,Sheet2!$A$2:$C$44,2,FALSE)&TEXT(Sheet1!V15,\"00\")&TEXT(Sheet1!W15,\"00\"),VLOOKUP(Sheet1!T15,Sheet2!$A$2:$C$44,2,FALSE)&TEXT(Sheet1!U15,\"00\")&TEXT(Sheet1!V15,\"00\")&IF(Sheet1!X15=\"手\",TEXT(Sheet1!W15,\"0\"),TEXT(Sheet1!W15,\"00\"))))","v":""}]
["",{"$f":"ASC(IF(Sheet1!C16=\"\",\"\",IF(LEN(Sheet1!C16)+LEN(Sheet1!D16)=2,Sheet1!C16&\"      \"&Sheet1!D16&\"(\"&Sheet1!G16&\")\",IF(LEN(Sheet1!C16)+LEN(Sheet1!D16)=3,Sheet1!C16&\"    \"&Sheet1!D16&\"(\"&Sheet1!G16&\")\",IF(LEN(Sheet1!C16)+LEN(Sheet1!D16)=4,Sheet1!C16&\"  \"&Sheet1!D16&\"(\"&Sheet1!G16&\")\",IF(LEN(Sheet1!C16)+LEN(Sheet1!D16)>=5,Sheet1!C16&Sheet1!D16&\"(\"&Sheet1!G16&\")\",\"\"))))))","v":""},{"$f":"ASC(IF(Sheet1!E16=\"\",\"\",Sheet1!E16&\" \"&Sheet1!F16))","v":""},{"$f":"IF(Sheet1!H16=\"\",\"\",IF(Sheet1!H16=\"女\",2,1))","v":""},{"$f":"IF(Sheet1!I16=\"\",\"\",VLOOKUP(Sheet1!I16,Sheet2!$F$2:$G$50,2,FALSE))","v":""},{"$f":"IF(B6=\"\",\"\",IF(Sheet1!$D$4=\"\",Sheet1!$D$5,VALUE(Sheet1!$D$4)))","v":""},{"$f":"IF(Sheet1!B16=\"\",\"\",VALUE(Sheet1!B16))","v":""},{"$f":"IF(Sheet1!J16=\"\",\"\",IF(VLOOKUP(Sheet1!J16,Sheet2!$A$2:$C$44,3,FALSE)>=71,VLOOKUP(Sheet1!J16,Sheet2!$A$2:$C$44,2,FALSE)&TEXT(Sheet1!L16,\"00\")&TEXT(Sheet1!M16,\"00\"),VLOOKUP(Sheet1!J16,Sheet2!$A$2:$C$44,2,FALSE)&TEXT(Sheet1!K16,\"00\")&TEXT(Sheet1!L16,\"00\")&IF(Sheet1!N16=\"手\",TEXT(Sheet1!M16,\"0\"),TEXT(Sheet1!M16,\"00\"))))","v":""},{"$f":"IF(Sheet1!O16=\"\",\"\",IF(VLOOKUP(Sheet1!O16,Sheet2!$A$2:$C$44,3,FALSE)>=71,VLOOKUP(Sheet1!O16,Sheet2!$A$2:$C$44,2,FALSE)&TEXT(Sheet1!Q16,\"00\")&TEXT(Sheet1!R16,\"00\"),VLOOKUP(Sheet1!O16,Sheet2!$A$2:$C$44,2,FALSE)&TEXT(Sheet1!P16,\"00\")&TEXT(Sheet1!Q16,\"00\")&IF(Sheet1!S16=\"手\",TEXT(Sheet1!R16,\"0\"),TEXT(Sheet1!R16,\"00\"))))","v":""},{"$f":"IF(Sheet1!T16=\"\",\"\",IF(VLOOKUP(Sheet1!T16,Sheet2!$A$2:$C$44,3,FALSE)>=71,VLOOKUP(Sheet1!T16,Sheet2!$A$2:$C$44,2,FALSE)&TEXT(Sheet1!V16,\"00\")&TEXT(Sheet1!W16,\"00\"),VLOOKUP(Sheet1!T16,Sheet2!$A$2:$C$44,2,FALSE)&TEXT(Sheet1!U16,\"00\")&TEXT(Sheet1!V16,\"00\")&IF(Sheet1!X16=\"手\",TEXT(Sheet1!W16,\"0\"),TEXT(Sheet1!W16,\"00\"))))","v":""}]
["",{"$f":"ASC(IF(Sheet1!C17=\"\",\"\",IF(LEN(Sheet1!C17)+LEN(Sheet1!D17)=2,Sheet1!C17&\"      \"&Sheet1!D17&\"(\"&Sheet1!G17&\")\",IF(LEN(Sheet1!C17)+LEN(Sheet1!D17)=3,Sheet1!C17&\"    \"&Sheet1!D17&\"(\"&Sheet1!G17&\")\",IF(LEN(Sheet1!C17)+LEN(Sheet1!D17)=4,Sheet1!C17&\"  \"&Sheet1!D17&\"(\"&Sheet1!G17&\")\",IF(LEN(Sheet1!C17)+LEN(Sheet1!D17)>=5,Sheet1!C17&Sheet1!D17&\"(\"&Sheet1!G17&\")\",\"\"))))))","v":""},{"$f":"ASC(IF(Sheet1!E17=\"\",\"\",Sheet1!E17&\" \"&Sheet1!F17))","v":""},{"$f":"IF(Sheet1!H17=\"\",\"\",IF(Sheet1!H17=\"女\",2,1))","v":""},{"$f":"IF(Sheet1!I17=\"\",\"\",VLOOKUP(Sheet1!I17,Sheet2!$F$2:$G$50,2,FALSE))","v":""},{"$f":"IF(B7=\"\",\"\",IF(Sheet1!$D$4=\"\",Sheet1!$D$5,VALUE(Sheet1!$D$4)))","v":""},{"$f":"IF(Sheet1!B17=\"\",\"\",VALUE(Sheet1!B17))","v":""},{"$f":"IF(Sheet1!J17=\"\",\"\",IF(VLOOKUP(Sheet1!J17,Sheet2!$A$2:$C$44,3,FALSE)>=71,VLOOKUP(Sheet1!J17,Sheet2!$A$2:$C$44,2,FALSE)&TEXT(Sheet1!L17,\"00\")&TEXT(Sheet1!M17,\"00\"),VLOOKUP(Sheet1!J17,Sheet2!$A$2:$C$44,2,FALSE)&TEXT(Sheet1!K17,\"00\")&TEXT(Sheet1!L17,\"00\")&IF(Sheet1!N17=\"手\",TEXT(Sheet1!M17,\"0\"),TEXT(Sheet1!M17,\"00\"))))","v":""},{"$f":"IF(Sheet1!O17=\"\",\"\",IF(VLOOKUP(Sheet1!O17,Sheet2!$A$2:$C$44,3,FALSE)>=71,VLOOKUP(Sheet1!O17,Sheet2!$A$2:$C$44,2,FALSE)&TEXT(Sheet1!Q17,\"00\")&TEXT(Sheet1!R17,\"00\"),VLOOKUP(Sheet1!O17,Sheet2!$A$2:$C$44,2,FALSE)&TEXT(Sheet1!P17,\"00\")&TEXT(Sheet1!Q17,\"00\")&IF(Sheet1!S17=\"手\",TEXT(Sheet1!R17,\"0\"),TEXT(Sheet1!R17,\"00\"))))","v":""},{"$f":"IF(Sheet1!T17=\"\",\"\",IF(VLOOKUP(Sheet1!T17,Sheet2!$A$2:$C$44,3,FALSE)>=71,VLOOKUP(Sheet1!T17,Sheet2!$A$2:$C$44,2,FALSE)&TEXT(Sheet1!V17,\"00\")&TEXT(Sheet1!W17,\"00\"),VLOOKUP(Sheet1!T17,Sheet2!$A$2:$C$44,2,FALSE)&TEXT(Sheet1!U17,\"00\")&TEXT(Sheet1!V17,\"00\")&IF(Sheet1!X17=\"手\",TEXT(Sheet1!W17,\"0\"),TEXT(Sheet1!W17,\"00\"))))","v":""}]
["",{"$f":"ASC(IF(Sheet1!C18=\"\",\"\",IF(LEN(Sheet1!C18)+LEN(Sheet1!D18)=2,Sheet1!C18&\"      \"&Sheet1!D18&\"(\"&Sheet1!G18&\")\",IF(LEN(Sheet1!C18)+LEN(Sheet1!D18)=3,Sheet1!C18&\"    \"&Sheet1!D18&\"(\"&Sheet1!G18&\")\",IF(LEN(Sheet1!C18)+LEN(Sheet1!D18)=4,Sheet1!C18&\"  \"&Sheet1!D18&\"(\"&Sheet1!G18&\")\",IF(LEN(Sheet1!C18)+LEN(Sheet1!D18)>=5,Sheet1!C18&Sheet1!D18&\"(\"&Sheet1!G18&\")\",\"\"))))))","v":""},{"$f":"ASC(IF(Sheet1!E18=\"\",\"\",Sheet1!E18&\" \"&Sheet1!F18))","v":""},{"$f":"IF(Sheet1!H18=\"\",\"\",IF(Sheet1!H18=\"女\",2,1))","v":""},{"$f":"IF(Sheet1!I18=\"\",\"\",VLOOKUP(Sheet1!I18,Sheet2!$F$2:$G$50,2,FALSE))","v":""},{"$f":"IF(B8=\"\",\"\",IF(Sheet1!$D$4=\"\",Sheet1!$D$5,VALUE(Sheet1!$D$4)))","v":""},{"$f":"IF(Sheet1!B18=\"\",\"\",VALUE(Sheet1!B18))","v":""},{"$f":"IF(Sheet1!J18=\"\",\"\",IF(VLOOKUP(Sheet1!J18,Sheet2!$A$2:$C$44,3,FALSE)>=71,VLOOKUP(Sheet1!J18,Sheet2!$A$2:$C$44,2,FALSE)&TEXT(Sheet1!L18,\"00\")&TEXT(Sheet1!M18,\"00\"),VLOOKUP(Sheet1!J18,Sheet2!$A$2:$C$44,2,FALSE)&TEXT(Sheet1!K18,\"00\")&TEXT(Sheet1!L18,\"00\")&IF(Sheet1!N18=\"手\",TEXT(Sheet1!M18,\"0\"),TEXT(Sheet1!M18,\"00\"))))","v":""},{"$f":"IF(Sheet1!O18=\"\",\"\",IF(VLOOKUP(Sheet1!O18,Sheet2!$A$2:$C$44,3,FALSE)>=71,VLOOKUP(Sheet1!O18,Sheet2!$A$2:$C$44,2,FALSE)&TEXT(Sheet1!Q18,\"00\")&TEXT(Sheet1!R18,\"00\"),VLOOKUP(Sheet1!O18,Sheet2!$A$2:$C$44,2,FALSE)&TEXT(Sheet1!P18,\"00\")&TEXT(Sheet1!Q18,\"00\")&IF(Sheet1!S18=\"手\",TEXT(Sheet1!R18,\"0\"),TEXT(Sheet1!R18,\"00\"))))","v":""},{"$f":"IF(Sheet1!T18=\"\",\"\",IF(VLOOKUP(Sheet1!T18,Sheet2!$A$2:$C$44,3,FALSE)>=71,VLOOKUP(Sheet1!T18,Sheet2!$A$2:$C$44,2,FALSE)&TEXT(Sheet1!V18,\"00\")&TEXT(Sheet1!W18,\"00\"),VLOOKUP(Sheet1!T18,Sheet2!$A$2:$C$44,2,FALSE)&TEXT(Sheet1!U18,\"00\")&TEXT(Sheet1!V18,\"00\")&IF(Sheet1!X18=\"手\",TEXT(Sheet1!W18,\"0\"),TEXT(Sheet1!W18,\"00\"))))","v":""}]
["",{"$f":"ASC(IF(Sheet1!C19=\"\",\"\",IF(LEN(Sheet1!C19)+LEN(Sheet1!D19)=2,Sheet1!C19&\"      \"&Sheet1!D19&\"(\"&Sheet1!G19&\")\",IF(LEN(Sheet1!C19)+LEN(Sheet1!D19)=3,Sheet1!C19&\"    \"&Sheet1!D19&\"(\"&Sheet1!G19&\")\",IF(LEN(Sheet1!C19)+LEN(Sheet1!D19)=4,Sheet1!C19&\"  \"&Sheet1!D19&\"(\"&Sheet1!G19&\")\",IF(LEN(Sheet1!C19)+LEN(Sheet1!D19)>=5,Sheet1!C19&Sheet1!D19&\"(\"&Sheet1!G19&\")\",\"\"))))))","v":""},{"$f":"ASC(IF(Sheet1!E19=\"\",\"\",Sheet1!E19&\" \"&Sheet1!F19))","v":""},{"$f":"IF(Sheet1!H19=\"\",\"\",IF(Sheet1!H19=\"女\",2,1))","v":""},{"$f":"IF(Sheet1!I19=\"\",\"\",VLOOKUP(Sheet1!I19,Sheet2!$F$2:$G$50,2,FALSE))","v":""},{"$f":"IF(B9=\"\",\"\",IF(Sheet1!$D$4=\"\",Sheet1!$D$5,VALUE(Sheet1!$D$4)))","v":""},{"$f":"IF(Sheet1!B19=\"\",\"\",VALUE(Sheet1!B19))","v":""},{"$f":"IF(Sheet1!J19=\"\",\"\",IF(VLOOKUP(Sheet1!J19,Sheet2!$A$2:$C$44,3,FALSE)>=71,VLOOKUP(Sheet1!J19,Sheet2!$A$2:$C$44,2,FALSE)&TEXT(Sheet1!L19,\"00\")&TEXT(Sheet1!M19,\"00\"),VLOOKUP(Sheet1!J19,Sheet2!$A$2:$C$44,2,FALSE)&TEXT(Sheet1!K19,\"00\")&TEXT(Sheet1!L19,\"00\")&IF(Sheet1!N19=\"手\",TEXT(Sheet1!M19,\"0\"),TEXT(Sheet1!M19,\"00\"))))","v":""},{"$f":"IF(Sheet1!O19=\"\",\"\",IF(VLOOKUP(Sheet1!O19,Sheet2!$A$2:$C$44,3,FALSE)>=71,VLOOKUP(Sheet1!O19,Sheet2!$A$2:$C$44,2,FALSE)&TEXT(Sheet1!Q19,\"00\")&TEXT(Sheet1!R19,\"00\"),VLOOKUP(Sheet1!O19,Sheet2!$A$2:$C$44,2,FALSE)&TEXT(Sheet1!P19,\"00\")&TEXT(Sheet1!Q19,\"00\")&IF(Sheet1!S19=\"手\",TEXT(Sheet1!R19,\"0\"),TEXT(Sheet1!R19,\"00\"))))","v":""},{"$f":"IF(Sheet1!T19=\"\",\"\",IF(VLOOKUP(Sheet1!T19,Sheet2!$A$2:$C$44,3,FALSE)>=71,VLOOKUP(Sheet1!T19,Sheet2!$A$2:$C$44,2,FALSE)&TEXT(Sheet1!V19,\"00\")&TEXT(Sheet1!W19,\"00\"),VLOOKUP(Sheet1!T19,Sheet2!$A$2:$C$44,2,FALSE)&TEXT(Sheet1!U19,\"00\")&TEXT(Sheet1!V19,\"00\")&IF(Sheet1!X19=\"手\",TEXT(Sheet1!W19,\"0\"),TEXT(Sheet1!W19,\"00\"))))","v":""}]
["",{"$f":"ASC(IF(Sheet1!C20=\"\",\"\",IF(LEN(Sheet1!C20)+LEN(Sheet1!D20)=2,Sheet1!C20&\"      \"&Sheet1!D20&\"(\"&Sheet1!G20&\")\",IF(LEN(Sheet1!C20)+LEN(Sheet1!D20)=3,Sheet1!C20&\"    \"&Sheet1!D20&\"(\"&Sheet1!G20&\")\",IF(LEN(Sheet1!C20)+LEN(Sheet1!D20)=4,Sheet1!C20&\"  \"&Sheet1!D20&\"(\"&Sheet1!G20&\")\",IF(LEN(Sheet1!C20)+LEN(Sheet1!D20)>=5,Sheet1!C20&Sheet1!D20&\"(\"&Sheet1!G20&\")\",\"\"))))))","v":""},{"$f":"ASC(IF(Sheet1!E20=\"\",\"\",Sheet1!E20&\" \"&Sheet1!F20))","v":""},{"$f":"IF(Sheet1!H20=\"\",\"\",IF(Sheet1!H20=\"女\",2,1))","v":""},{"$f":"IF(Sheet1!I20=\"\",\"\",VLOOKUP(Sheet1!I20,Sheet2!$F$2:$G$50,2,FALSE))","v":""},{"$f":"IF(B10=\"\",\"\",IF(Sheet1!$D$4=\"\",Sheet1!$D$5,VALUE(Sheet1!$D$4)))","v":""},{"$f":"IF(Sheet1!B20=\"\",\"\",VALUE(Sheet1!B20))","v":""},{"$f":"IF(Sheet1!J20=\"\",\"\",IF(VLOOKUP(Sheet1!J20,Sheet2!$A$2:$C$44,3,FALSE)>=71,VLOOKUP(Sheet1!J20,Sheet2!$A$2:$C$44,2,FALSE)&TEXT(Sheet1!L20,\"00\")&TEXT(Sheet1!M20,\"00\"),VLOOKUP(Sheet1!J20,Sheet2!$A$2:$C$44,2,FALSE)&TEXT(Sheet1!K20,\"00\")&TEXT(Sheet1!L20,\"00\")&IF(Sheet1!N20=\"手\",TEXT(Sheet1!M20,\"0\"),TEXT(Sheet1!M20,\"00\"))))","v":""},{"$f":"IF(Sheet1!O20=\"\",\"\",IF(VLOOKUP(Sheet1!O20,Sheet2!$A$2:$C$44,3,FALSE)>=71,VLOOKUP(Sheet1!O20,Sheet2!$A$2:$C$44,2,FALSE)&TEXT(Sheet1!Q20,\"00\")&TEXT(Sheet1!R20,\"00\"),VLOOKUP(Sheet1!O20,Sheet2!$A$2:$C$44,2,FALSE)&TEXT(Sheet1!P20,\"00\")&TEXT(Sheet1!Q20,\"00\")&IF(Sheet1!S20=\"手\",TEXT(Sheet1!R20,\"0\"),TEXT(Sheet1!R20,\"00\"))))","v":""},{"$f":"IF(Sheet1!T20=\"\",\"\",IF(VLOOKUP(Sheet1!T20,Sheet2!$A$2:$C$44,3,FALSE)>=71,VLOOKUP(Sheet1!T20,Sheet2!$A$2:$C$44,2,FALSE)&TEXT(Sheet1!V20,\"00\")&TEXT(Sheet1!W20,\"00\"),VLOOKUP(Sheet1!T20,Sheet2!$A$2:$C$44,2,FALSE)&TEXT(Sheet1!U20,\"00\")&TEXT(Sheet1!V20,\"00\")&IF(Sheet1!X20=\"手\",TEXT(Sheet1!W20,\"0\"),TEXT(Sheet1!W20,\"00\"))))","v":""}]
["",{"$f":"ASC(IF(Sheet1!C21=\"\",\"\",IF(LEN(Sheet1!C21)+LEN(Sheet1!D21)=2,Sheet1!C21&\"      \"&Sheet1!D21&\"(\"&Sheet1!G21&\")\",IF(LEN(Sheet1!C21)+LEN(Sheet1!D21)=3,Sheet1!C21&\"    \"&Sheet1!D21&\"(\"&Sheet1!G21&\")\",IF(LEN(Sheet1!C21)+LEN(Sheet1!D21)=4,Sheet1!C21&\"  \"&Sheet1!D21&\"(\"&Sheet1!G21&\")\",IF(LEN(Sheet1!C21)+LEN(Sheet1!D21)>=5,Sheet1!C21&Sheet1!D21&\"(\"&Sheet1!G21&\")\",\"\"))))))","v":""},{"$f":"ASC(IF(Sheet1!E21=\"\",\"\",Sheet1!E21&\" \"&Sheet1!F21))","v":""},{"$f":"IF(Sheet1!H21=\"\",\"\",IF(Sheet1!H21=\"女\",2,1))","v":""},{"$f":"IF(Sheet1!I21=\"\",\"\",VLOOKUP(Sheet1!I21,Sheet2!$F$2:$G$50,2,FALSE))","v":""},{"$f":"IF(B11=\"\",\"\",IF(Sheet1!$D$4=\"\",Sheet1!$D$5,VALUE(Sheet1!$D$4)))","v":""},{"$f":"IF(Sheet1!B21=\"\",\"\",VALUE(Sheet1!B21))","v":""},{"$f":"IF(Sheet1!J21=\"\",\"\",IF(VLOOKUP(Sheet1!J21,Sheet2!$A$2:$C$44,3,FALSE)>=71,VLOOKUP(Sheet1!J21,Sheet2!$A$2:$C$44,2,FALSE)&TEXT(Sheet1!L21,\"00\")&TEXT(Sheet1!M21,\"00\"),VLOOKUP(Sheet1!J21,Sheet2!$A$2:$C$44,2,FALSE)&TEXT(Sheet1!K21,\"00\")&TEXT(Sheet1!L21,\"00\")&IF(Sheet1!N21=\"手\",TEXT(Sheet1!M21,\"0\"),TEXT(Sheet1!M21,\"00\"))))","v":""},{"$f":"IF(Sheet1!O21=\"\",\"\",IF(VLOOKUP(Sheet1!O21,Sheet2!$A$2:$C$44,3,FALSE)>=71,VLOOKUP(Sheet1!O21,Sheet2!$A$2:$C$44,2,FALSE)&TEXT(Sheet1!Q21,\"00\")&TEXT(Sheet1!R21,\"00\"),VLOOKUP(Sheet1!O21,Sheet2!$A$2:$C$44,2,FALSE)&TEXT(Sheet1!P21,\"00\")&TEXT(Sheet1!Q21,\"00\")&IF(Sheet1!S21=\"手\",TEXT(Sheet1!R21,\"0\"),TEXT(Sheet1!R21,\"00\"))))","v":""},{"$f":"IF(Sheet1!T21=\"\",\"\",IF(VLOOKUP(Sheet1!T21,Sheet2!$A$2:$C$44,3,FALSE)>=71,VLOOKUP(Sheet1!T21,Sheet2!$A$2:$C$44,2,FALSE)&TEXT(Sheet1!V21,\"00\")&TEXT(Sheet1!W21,\"00\"),VLOOKUP(Sheet1!T21,Sheet2!$A$2:$C$44,2,FALSE)&TEXT(Sheet1!U21,\"00\")&TEXT(Sheet1!V21,\"00\")&IF(Sheet1!X21=\"手\",TEXT(Sheet1!W21,\"0\"),TEXT(Sheet1!W21,\"00\"))))","v":""}]
["",{"$f":"ASC(IF(Sheet1!C22=\"\",\"\",IF(LEN(Sheet1!C22)+LEN(Sheet1!D22)=2,Sheet1!C22&\"      \"&Sheet1!D22&\"(\"&Sheet1!G22&\")\",IF(LEN(Sheet1!C22)+LEN(Sheet1!D22)=3,Sheet1!C22&\"    \"&Sheet1!D22&\"(\"&Sheet1!G22&\")\",IF(LEN(Sheet1!C22)+LEN(Sheet1!D22)=4,Sheet1!C22&\"  \"&Sheet1!D22&\"(\"&Sheet1!G22&\")\",IF(LEN(Sheet1!C22)+LEN(Sheet1!D22)>=5,Sheet1!C22&Sheet1!D22&\"(\"&Sheet1!G22&\")\",\"\"))))))","v":""},{"$f":"ASC(IF(Sheet1!E22=\"\",\"\",Sheet1!E22&\" \"&Sheet1!F22))","v":""},{"$f":"IF(Sheet1!H22=\"\",\"\",IF(Sheet1!H22=\"女\",2,1))","v":""},{"$f":"IF(Sheet1!I22=\"\",\"\",VLOOKUP(Sheet1!I22,Sheet2!$F$2:$G$50,2,FALSE))","v":""},{"$f":"IF(B12=\"\",\"\",IF(Sheet1!$D$4=\"\",Sheet1!$D$5,VALUE(Sheet1!$D$4)))","v":""},{"$f":"IF(Sheet1!B22=\"\",\"\",VALUE(Sheet1!B22))","v":""},{"$f":"IF(Sheet1!J22=\"\",\"\",IF(VLOOKUP(Sheet1!J22,Sheet2!$A$2:$C$44,3,FALSE)>=71,VLOOKUP(Sheet1!J22,Sheet2!$A$2:$C$44,2,FALSE)&TEXT(Sheet1!L22,\"00\")&TEXT(Sheet1!M22,\"00\"),VLOOKUP(Sheet1!J22,Sheet2!$A$2:$C$44,2,FALSE)&TEXT(Sheet1!K22,\"00\")&TEXT(Sheet1!L22,\"00\")&IF(Sheet1!N22=\"手\",TEXT(Sheet1!M22,\"0\"),TEXT(Sheet1!M22,\"00\"))))","v":""},{"$f":"IF(Sheet1!O22=\"\",\"\",IF(VLOOKUP(Sheet1!O22,Sheet2!$A$2:$C$44,3,FALSE)>=71,VLOOKUP(Sheet1!O22,Sheet2!$A$2:$C$44,2,FALSE)&TEXT(Sheet1!Q22,\"00\")&TEXT(Sheet1!R22,\"00\"),VLOOKUP(Sheet1!O22,Sheet2!$A$2:$C$44,2,FALSE)&TEXT(Sheet1!P22,\"00\")&TEXT(Sheet1!Q22,\"00\")&IF(Sheet1!S22=\"手\",TEXT(Sheet1!R22,\"0\"),TEXT(Sheet1!R22,\"00\"))))","v":""},{"$f":"IF(Sheet1!T22=\"\",\"\",IF(VLOOKUP(Sheet1!T22,Sheet2!$A$2:$C$44,3,FALSE)>=71,VLOOKUP(Sheet1!T22,Sheet2!$A$2:$C$44,2,FALSE)&TEXT(Sheet1!V22,\"00\")&TEXT(Sheet1!W22,\"00\"),VLOOKUP(Sheet1!T22,Sheet2!$A$2:$C$44,2,FALSE)&TEXT(Sheet1!U22,\"00\")&TEXT(Sheet1!V22,\"00\")&IF(Sheet1!X22=\"手\",TEXT(Sheet1!W22,\"0\"),TEXT(Sheet1!W22,\"00\"))))","v":""}]
["",{"$f":"ASC(IF(Sheet1!C23=\"\",\"\",IF(LEN(Sheet1!C23)+LEN(Sheet1!D23)=2,Sheet1!C23&\"      \"&Sheet1!D23&\"(\"&Sheet1!G23&\")\",IF(LEN(Sheet1!C23)+LEN(Sheet1!D23)=3,Sheet1!C23&\"    \"&Sheet1!D23&\"(\"&Sheet1!G23&\")\",IF(LEN(Sheet1!C23)+LEN(Sheet1!D23)=4,Sheet1!C23&\"  \"&Sheet1!D23&\"(\"&Sheet1!G23&\")\",IF(LEN(Sheet1!C23)+LEN(Sheet1!D23)>=5,Sheet1!C23&Sheet1!D23&\"(\"&Sheet1!G23&\")\",\"\"))))))","v":""},{"$f":"ASC(IF(Sheet1!E23=\"\",\"\",Sheet1!E23&\" \"&Sheet1!F23))","v":""},{"$f":"IF(Sheet1!H23=\"\",\"\",IF(Sheet1!H23=\"女\",2,1))","v":""},{"$f":"IF(Sheet1!I23=\"\",\"\",VLOOKUP(Sheet1!I23,Sheet2!$F$2:$G$50,2,FALSE))","v":""},{"$f":"IF(B13=\"\",\"\",IF(Sheet1!$D$4=\"\",Sheet1!$D$5,VALUE(Sheet1!$D$4)))","v":""},{"$f":"IF(Sheet1!B23=\"\",\"\",VALUE(Sheet1!B23))","v":""},{"$f":"IF(Sheet1!J23=\"\",\"\",IF(VLOOKUP(Sheet1!J23,Sheet2!$A$2:$C$44,3,FALSE)>=71,VLOOKUP(Sheet1!J23,Sheet2!$A$2:$C$44,2,FALSE)&TEXT(Sheet1!L23,\"00\")&TEXT(Sheet1!M23,\"00\"),VLOOKUP(Sheet1!J23,Sheet2!$A$2:$C$44,2,FALSE)&TEXT(Sheet1!K23,\"00\")&TEXT(Sheet1!L23,\"00\")&IF(Sheet1!N23=\"手\",TEXT(Sheet1!M23,\"0\"),TEXT(Sheet1!M23,\"00\"))))","v":""},{"$f":"IF(Sheet1!O23=\"\",\"\",IF(VLOOKUP(Sheet1!O23,Sheet2!$A$2:$C$44,3,FALSE)>=71,VLOOKUP(Sheet1!O23,Sheet2!$A$2:$C$44,2,FALSE)&TEXT(Sheet1!Q23,\"00\")&TEXT(Sheet1!R23,\"00\"),VLOOKUP(Sheet1!O23,Sheet2!$A$2:$C$44,2,FALSE)&TEXT(Sheet1!P23,\"00\")&TEXT(Sheet1!Q23,\"00\")&IF(Sheet1!S23=\"手\",TEXT(Sheet1!R23,\"0\"),TEXT(Sheet1!R23,\"00\"))))","v":""},{"$f":"IF(Sheet1!T23=\"\",\"\",IF(VLOOKUP(Sheet1!T23,Sheet2!$A$2:$C$44,3,FALSE)>=71,VLOOKUP(Sheet1!T23,Sheet2!$A$2:$C$44,2,FALSE)&TEXT(Sheet1!V23,\"00\")&TEXT(Sheet1!W23,\"00\"),VLOOKUP(Sheet1!T23,Sheet2!$A$2:$C$44,2,FALSE)&TEXT(Sheet1!U23,\"00\")&TEXT(Sheet1!V23,\"00\")&IF(Sheet1!X23=\"手\",TEXT(Sheet1!W23,\"0\"),TEXT(Sheet1!W23,\"00\"))))","v":""}]
["",{"$f":"ASC(IF(Sheet1!C24=\"\",\"\",IF(LEN(Sheet1!C24)+LEN(Sheet1!D24)=2,Sheet1!C24&\"      \"&Sheet1!D24&\"(\"&Sheet1!G24&\")\",IF(LEN(Sheet1!C24)+LEN(Sheet1!D24)=3,Sheet1!C24&\"    \"&Sheet1!D24&\"(\"&Sheet1!G24&\")\",IF(LEN(Sheet1!C24)+LEN(Sheet1!D24)=4,Sheet1!C24&\"  \"&Sheet1!D24&\"(\"&Sheet1!G24&\")\",IF(LEN(Sheet1!C24)+LEN(Sheet1!D24)>=5,Sheet1!C24&Sheet1!D24&\"(\"&Sheet1!G24&\")\",\"\"))))))","v":""},{"$f":"ASC(IF(Sheet1!E24=\"\",\"\",Sheet1!E24&\" \"&Sheet1!F24))","v":""},{"$f":"IF(Sheet1!H24=\"\",\"\",IF(Sheet1!H24=\"女\",2,1))","v":""},{"$f":"IF(Sheet1!I24=\"\",\"\",VLOOKUP(Sheet1!I24,Sheet2!$F$2:$G$50,2,FALSE))","v":""},{"$f":"IF(B14=\"\",\"\",IF(Sheet1!$D$4=\"\",Sheet1!$D$5,VALUE(Sheet1!$D$4)))","v":""},{"$f":"IF(Sheet1!B24=\"\",\"\",VALUE(Sheet1!B24))","v":""},{"$f":"IF(Sheet1!J24=\"\",\"\",IF(VLOOKUP(Sheet1!J24,Sheet2!$A$2:$C$44,3,FALSE)>=71,VLOOKUP(Sheet1!J24,Sheet2!$A$2:$C$44,2,FALSE)&TEXT(Sheet1!L24,\"00\")&TEXT(Sheet1!M24,\"00\"),VLOOKUP(Sheet1!J24,Sheet2!$A$2:$C$44,2,FALSE)&TEXT(Sheet1!K24,\"00\")&TEXT(Sheet1!L24,\"00\")&IF(Sheet1!N24=\"手\",TEXT(Sheet1!M24,\"0\"),TEXT(Sheet1!M24,\"00\"))))","v":""},{"$f":"IF(Sheet1!O24=\"\",\"\",IF(VLOOKUP(Sheet1!O24,Sheet2!$A$2:$C$44,3,FALSE)>=71,VLOOKUP(Sheet1!O24,Sheet2!$A$2:$C$44,2,FALSE)&TEXT(Sheet1!Q24,\"00\")&TEXT(Sheet1!R24,\"00\"),VLOOKUP(Sheet1!O24,Sheet2!$A$2:$C$44,2,FALSE)&TEXT(Sheet1!P24,\"00\")&TEXT(Sheet1!Q24,\"00\")&IF(Sheet1!S24=\"手\",TEXT(Sheet1!R24,\"0\"),TEXT(Sheet1!R24,\"00\"))))","v":""},{"$f":"IF(Sheet1!T24=\"\",\"\",IF(VLOOKUP(Sheet1!T24,Sheet2!$A$2:$C$44,3,FALSE)>=71,VLOOKUP(Sheet1!T24,Sheet2!$A$2:$C$44,2,FALSE)&TEXT(Sheet1!V24,\"00\")&TEXT(Sheet1!W24,\"00\"),VLOOKUP(Sheet1!T24,Sheet2!$A$2:$C$44,2,FALSE)&TEXT(Sheet1!U24,\"00\")&TEXT(Sheet1!V24,\"00\")&IF(Sheet1!X24=\"手\",TEXT(Sheet1!W24,\"0\"),TEXT(Sheet1!W24,\"00\"))))","v":""}]
["",{"$f":"ASC(IF(Sheet1!C25=\"\",\"\",IF(LEN(Sheet1!C25)+LEN(Sheet1!D25)=2,Sheet1!C25&\"      \"&Sheet1!D25&\"(\"&Sheet1!G25&\")\",IF(LEN(Sheet1!C25)+LEN(Sheet1!D25)=3,Sheet1!C25&\"    \"&Sheet1!D25&\"(\"&Sheet1!G25&\")\",IF(LEN(Sheet1!C25)+LEN(Sheet1!D25)=4,Sheet1!C25&\"  \"&Sheet1!D25&\"(\"&Sheet1!G25&\")\",IF(LEN(Sheet1!C25)+LEN(Sheet1!D25)>=5,Sheet1!C25&Sheet1!D25&\"(\"&Sheet1!G25&\")\",\"\"))))))","v":""},{"$f":"ASC(IF(Sheet1!E25=\"\",\"\",Sheet1!E25&\" \"&Sheet1!F25))","v":""},{"$f":"IF(Sheet1!H25=\"\",\"\",IF(Sheet1!H25=\"女\",2,1))","v":""},{"$f":"IF(Sheet1!I25=\"\",\"\",VLOOKUP(Sheet1!I25,Sheet2!$F$2:$G$50,2,FALSE))","v":""},{"$f":"IF(B15=\"\",\"\",IF(Sheet1!$D$4=\"\",Sheet1!$D$5,VALUE(Sheet1!$D$4)))","v":""},{"$f":"IF(Sheet1!B25=\"\",\"\",VALUE(Sheet1!B25))","v":""},{"$f":"IF(Sheet1!J25=\"\",\"\",IF(VLOOKUP(Sheet1!J25,Sheet2!$A$2:$C$44,3,FALSE)>=71,VLOOKUP(Sheet1!J25,Sheet2!$A$2:$C$44,2,FALSE)&TEXT(Sheet1!L25,\"00\")&TEXT(Sheet1!M25,\"00\"),VLOOKUP(Sheet1!J25,Sheet2!$A$2:$C$44,2,FALSE)&TEXT(Sheet1!K25,\"00\")&TEXT(Sheet1!L25,\"00\")&IF(Sheet1!N25=\"手\",TEXT(Sheet1!M25,\"0\"),TEXT(Sheet1!M25,\"00\"))))","v":""},{"$f":"IF(Sheet1!O25=\"\",\"\",IF(VLOOKUP(Sheet1!O25,Sheet2!$A$2:$C$44,3,FALSE)>=71,VLOOKUP(Sheet1!O25,Sheet2!$A$2:$C$44,2,FALSE)&TEXT(Sheet1!Q25,\"00\")&TEXT(Sheet1!R25,\"00\"),VLOOKUP(Sheet1!O25,Sheet2!$A$2:$C$44,2,FALSE)&TEXT(Sheet1!P25,\"00\")&TEXT(Sheet1!Q25,\"00\")&IF(Sheet1!S25=\"手\",TEXT(Sheet1!R25,\"0\"),TEXT(Sheet1!R25,\"00\"))))","v":""},{"$f":"IF(Sheet1!T25=\"\",\"\",IF(VLOOKUP(Sheet1!T25,Sheet2!$A$2:$C$44,3,FALSE)>=71,VLOOKUP(Sheet1!T25,Sheet2!$A$2:$C$44,2,FALSE)&TEXT(Sheet1!V25,\"00\")&TEXT(Sheet1!W25,\"00\"),VLOOKUP(Sheet1!T25,Sheet2!$A$2:$C$44,2,FALSE)&TEXT(Sheet1!U25,\"00\")&TEXT(Sheet1!V25,\"00\")&IF(Sheet1!X25=\"手\",TEXT(Sheet1!W25,\"0\"),TEXT(Sheet1!W25,\"00\"))))","v":""}]
["",{"$f":"ASC(IF(Sheet1!C26=\"\",\"\",IF(LEN(Sheet1!C26)+LEN(Sheet1!D26)=2,Sheet1!C26&\"      \"&Sheet1!D26&\"(\"&Sheet1!G26&\")\",IF(LEN(Sheet1!C26)+LEN(Sheet1!D26)=3,Sheet1!C26&\"    \"&Sheet1!D26&\"(\"&Sheet1!G26&\")\",IF(LEN(Sheet1!C26)+LEN(Sheet1!D26)=4,Sheet1!C26&\"  \"&Sheet1!D26&\"(\"&Sheet1!G26&\")\",IF(LEN(Sheet1!C26)+LEN(Sheet1!D26)>=5,Sheet1!C26&Sheet1!D26&\"(\"&Sheet1!G26&\")\",\"\"))))))","v":""},{"$f":"ASC(IF(Sheet1!E26=\"\",\"\",Sheet1!E26&\" \"&Sheet1!F26))","v":""},{"$f":"IF(Sheet1!H26=\"\",\"\",IF(Sheet1!H26=\"女\",2,1))","v":""},{"$f":"IF(Sheet1!I26=\"\",\"\",VLOOKUP(Sheet1!I26,Sheet2!$F$2:$G$50,2,FALSE))","v":""},{"$f":"IF(B16=\"\",\"\",IF(Sheet1!$D$4=\"\",Sheet1!$D$5,VALUE(Sheet1!$D$4)))","v":""},{"$f":"IF(Sheet1!B26=\"\",\"\",VALUE(Sheet1!B26))","v":""},{"$f":"IF(Sheet1!J26=\"\",\"\",IF(VLOOKUP(Sheet1!J26,Sheet2!$A$2:$C$44,3,FALSE)>=71,VLOOKUP(Sheet1!J26,Sheet2!$A$2:$C$44,2,FALSE)&TEXT(Sheet1!L26,\"00\")&TEXT(Sheet1!M26,\"00\"),VLOOKUP(Sheet1!J26,Sheet2!$A$2:$C$44,2,FALSE)&TEXT(Sheet1!K26,\"00\")&TEXT(Sheet1!L26,\"00\")&IF(Sheet1!N26=\"手\",TEXT(Sheet1!M26,\"0\"),TEXT(Sheet1!M26,\"00\"))))","v":""},{"$f":"IF(Sheet1!O26=\"\",\"\",IF(VLOOKUP(Sheet1!O26,Sheet2!$A$2:$C$44,3,FALSE)>=71,VLOOKUP(Sheet1!O26,Sheet2!$A$2:$C$44,2,FALSE)&TEXT(Sheet1!Q26,\"00\")&TEXT(Sheet1!R26,\"00\"),VLOOKUP(Sheet1!O26,Sheet2!$A$2:$C$44,2,FALSE)&TEXT(Sheet1!P26,\"00\")&TEXT(Sheet1!Q26,\"00\")&IF(Sheet1!S26=\"手\",TEXT(Sheet1!R26,\"0\"),TEXT(Sheet1!R26,\"00\"))))","v":""},{"$f":"IF(Sheet1!T26=\"\",\"\",IF(VLOOKUP(Sheet1!T26,Sheet2!$A$2:$C$44,3,FALSE)>=71,VLOOKUP(Sheet1!T26,Sheet2!$A$2:$C$44,2,FALSE)&TEXT(Sheet1!V26,\"00\")&TEXT(Sheet1!W26,\"00\"),VLOOKUP(Sheet1!T26,Sheet2!$A$2:$C$44,2,FALSE)&TEXT(Sheet1!U26,\"00\")&TEXT(Sheet1!V26,\"00\")&IF(Sheet1!X26=\"手\",TEXT(Sheet1!W26,\"0\"),TEXT(Sheet1!W26,\"00\"))))","v":""}]
["",{"$f":"ASC(IF(Sheet1!C27=\"\",\"\",IF(LEN(Sheet1!C27)+LEN(Sheet1!D27)=2,Sheet1!C27&\"      \"&Sheet1!D27&\"(\"&Sheet1!G27&\")\",IF(LEN(Sheet1!C27)+LEN(Sheet1!D27)=3,Sheet1!C27&\"    \"&Sheet1!D27&\"(\"&Sheet1!G27&\")\",IF(LEN(Sheet1!C27)+LEN(Sheet1!D27)=4,Sheet1!C27&\"  \"&Sheet1!D27&\"(\"&Sheet1!G27&\")\",IF(LEN(Sheet1!C27)+LEN(Sheet1!D27)>=5,Sheet1!C27&Sheet1!D27&\"(\"&Sheet1!G27&\")\",\"\"))))))","v":""},{"$f":"ASC(IF(Sheet1!E27=\"\",\"\",Sheet1!E27&\" \"&Sheet1!F27))","v":""},{"$f":"IF(Sheet1!H27=\"\",\"\",IF(Sheet1!H27=\"女\",2,1))","v":""},{"$f":"IF(Sheet1!I27=\"\",\"\",VLOOKUP(Sheet1!I27,Sheet2!$F$2:$G$50,2,FALSE))","v":""},{"$f":"IF(B17=\"\",\"\",IF(Sheet1!$D$4=\"\",Sheet1!$D$5,VALUE(Sheet1!$D$4)))","v":""},{"$f":"IF(Sheet1!B27=\"\",\"\",VALUE(Sheet1!B27))","v":""},{"$f":"IF(Sheet1!J27=\"\",\"\",IF(VLOOKUP(Sheet1!J27,Sheet2!$A$2:$C$44,3,FALSE)>=71,VLOOKUP(Sheet1!J27,Sheet2!$A$2:$C$44,2,FALSE)&TEXT(Sheet1!L27,\"00\")&TEXT(Sheet1!M27,\"00\"),VLOOKUP(Sheet1!J27,Sheet2!$A$2:$C$44,2,FALSE)&TEXT(Sheet1!K27,\"00\")&TEXT(Sheet1!L27,\"00\")&IF(Sheet1!N27=\"手\",TEXT(Sheet1!M27,\"0\"),TEXT(Sheet1!M27,\"00\"))))","v":""},{"$f":"IF(Sheet1!O27=\"\",\"\",IF(VLOOKUP(Sheet1!O27,Sheet2!$A$2:$C$44,3,FALSE)>=71,VLOOKUP(Sheet1!O27,Sheet2!$A$2:$C$44,2,FALSE)&TEXT(Sheet1!Q27,\"00\")&TEXT(Sheet1!R27,\"00\"),VLOOKUP(Sheet1!O27,Sheet2!$A$2:$C$44,2,FALSE)&TEXT(Sheet1!P27,\"00\")&TEXT(Sheet1!Q27,\"00\")&IF(Sheet1!S27=\"手\",TEXT(Sheet1!R27,\"0\"),TEXT(Sheet1!R27,\"00\"))))","v":""},{"$f":"IF(Sheet1!T27=\"\",\"\",IF(VLOOKUP(Sheet1!T27,Sheet2!$A$2:$C$44,3,FALSE)>=71,VLOOKUP(Sheet1!T27,Sheet2!$A$2:$C$44,2,FALSE)&TEXT(Sheet1!V27,\"00\")&TEXT(Sheet1!W27,\"00\"),VLOOKUP(Sheet1!T27,Sheet2!$A$2:$C$44,2,FALSE)&TEXT(Sheet1!U27,\"00\")&TEXT(Sheet1!V27,\"00\")&IF(Sheet1!X27=\"手\",TEXT(Sheet1!W27,\"0\"),TEXT(Sheet1!W27,\"00\"))))","v":""}]
["",{"$f":"ASC(IF(Sheet1!C28=\"\",\"\",IF(LEN(Sheet1!C28)+LEN(Sheet1!D28)=2,Sheet1!C28&\"      \"&Sheet1!D28&\"(\"&Sheet1!G28&\")\",IF(LEN(Sheet1!C28)+LEN(Sheet1!D28)=3,Sheet1!C28&\"    \"&Sheet1!D28&\"(\"&Sheet1!G28&\")\",IF(LEN(Sheet1!C28)+LEN(Sheet1!D28)=4,Sheet1!C28&\"  \"&Sheet1!D28&\"(\"&Sheet1!G28&\")\",IF(LEN(Sheet1!C28)+LEN(Sheet1!D28)>=5,Sheet1!C28&Sheet1!D28&\"(\"&Sheet1!G28&\")\",\"\"))))))","v":""},{"$f":"ASC(IF(Sheet1!E28=\"\",\"\",Sheet1!E28&\" \"&Sheet1!F28))","v":""},{"$f":"IF(Sheet1!H28=\"\",\"\",IF(Sheet1!H28=\"女\",2,1))","v":""},{"$f":"IF(Sheet1!I28=\"\",\"\",VLOOKUP(Sheet1!I28,Sheet2!$F$2:$G$50,2,FALSE))","v":""},{"$f":"IF(B18=\"\",\"\",IF(Sheet1!$D$4=\"\",Sheet1!$D$5,VALUE(Sheet1!$D$4)))","v":""},{"$f":"IF(Sheet1!B28=\"\",\"\",VALUE(Sheet1!B28))","v":""},{"$f":"IF(Sheet1!J28=\"\",\"\",IF(VLOOKUP(Sheet1!J28,Sheet2!$A$2:$C$44,3,FALSE)>=71,VLOOKUP(Sheet1!J28,Sheet2!$A$2:$C$44,2,FALSE)&TEXT(Sheet1!L28,\"00\")&TEXT(Sheet1!M28,\"00\"),VLOOKUP(Sheet1!J28,Sheet2!$A$2:$C$44,2,FALSE)&TEXT(Sheet1!K28,\"00\")&TEXT(Sheet1!L28,\"00\")&IF(Sheet1!N28=\"手\",TEXT(Sheet1!M28,\"0\"),TEXT(Sheet1!M28,\"00\"))))","v":""},{"$f":"IF(Sheet1!O28=\"\",\"\",IF(VLOOKUP(Sheet1!O28,Sheet2!$A$2:$C$44,3,FALSE)>=71,VLOOKUP(Sheet1!O28,Sheet2!$A$2:$C$44,2,FALSE)&TEXT(Sheet1!Q28,\"00\")&TEXT(Sheet1!R28,\"00\"),VLOOKUP(Sheet1!O28,Sheet2!$A$2:$C$44,2,FALSE)&TEXT(Sheet1!P28,\"00\")&TEXT(Sheet1!Q28,\"00\")&IF(Sheet1!S28=\"手\",TEXT(Sheet1!R28,\"0\"),TEXT(Sheet1!R28,\"00\"))))","v":""},{"$f":"IF(Sheet1!T28=\"\",\"\",IF(VLOOKUP(Sheet1!T28,Sheet2!$A$2:$C$44,3,FALSE)>=71,VLOOKUP(Sheet1!T28,Sheet2!$A$2:$C$44,2,FALSE)&TEXT(Sheet1!V28,\"00\")&TEXT(Sheet1!W28,\"00\"),VLOOKUP(Sheet1!T28,Sheet2!$A$2:$C$44,2,FALSE)&TEXT(Sheet1!U28,\"00\")&TEXT(Sheet1!V28,\"00\")&IF(Sheet1!X28=\"手\",TEXT(Sheet1!W28,\"0\"),TEXT(Sheet1!W28,\"00\"))))","v":""}]
["",{"$f":"ASC(IF(Sheet1!C29=\"\",\"\",IF(LEN(Sheet1!C29)+LEN(Sheet1!D29)=2,Sheet1!C29&\"      \"&Sheet1!D29&\"(\"&Sheet1!G29&\")\",IF(LEN(Sheet1!C29)+LEN(Sheet1!D29)=3,Sheet1!C29&\"    \"&Sheet1!D29&\"(\"&Sheet1!G29&\")\",IF(LEN(Sheet1!C29)+LEN(Sheet1!D29)=4,Sheet1!C29&\"  \"&Sheet1!D29&\"(\"&Sheet1!G29&\")\",IF(LEN(Sheet1!C29)+LEN(Sheet1!D29)>=5,Sheet1!C29&Sheet1!D29&\"(\"&Sheet1!G29&\")\",\"\"))))))","v":""},{"$f":"ASC(IF(Sheet1!E29=\"\",\"\",Sheet1!E29&\" \"&Sheet1!F29))","v":""},{"$f":"IF(Sheet1!H29=\"\",\"\",IF(Sheet1!H29=\"女\",2,1))","v":""},{"$f":"IF(Sheet1!I29=\"\",\"\",VLOOKUP(Sheet1!I29,Sheet2!$F$2:$G$50,2,FALSE))","v":""},{"$f":"IF(B19=\"\",\"\",IF(Sheet1!$D$4=\"\",Sheet1!$D$5,VALUE(Sheet1!$D$4)))","v":""},{"$f":"IF(Sheet1!B29=\"\",\"\",VALUE(Sheet1!B29))","v":""},{"$f":"IF(Sheet1!J29=\"\",\"\",IF(VLOOKUP(Sheet1!J29,Sheet2!$A$2:$C$44,3,FALSE)>=71,VLOOKUP(Sheet1!J29,Sheet2!$A$2:$C$44,2,FALSE)&TEXT(Sheet1!L29,\"00\")&TEXT(Sheet1!M29,\"00\"),VLOOKUP(Sheet1!J29,Sheet2!$A$2:$C$44,2,FALSE)&TEXT(Sheet1!K29,\"00\")&TEXT(Sheet1!L29,\"00\")&IF(Sheet1!N29=\"手\",TEXT(Sheet1!M29,\"0\"),TEXT(Sheet1!M29,\"00\"))))","v":""},{"$f":"IF(Sheet1!O29=\"\",\"\",IF(VLOOKUP(Sheet1!O29,Sheet2!$A$2:$C$44,3,FALSE)>=71,VLOOKUP(Sheet1!O29,Sheet2!$A$2:$C$44,2,FALSE)&TEXT(Sheet1!Q29,\"00\")&TEXT(Sheet1!R29,\"00\"),VLOOKUP(Sheet1!O29,Sheet2!$A$2:$C$44,2,FALSE)&TEXT(Sheet1!P29,\"00\")&TEXT(Sheet1!Q29,\"00\")&IF(Sheet1!S29=\"手\",TEXT(Sheet1!R29,\"0\"),TEXT(Sheet1!R29,\"00\"))))","v":""},{"$f":"IF(Sheet1!T29=\"\",\"\",IF(VLOOKUP(Sheet1!T29,Sheet2!$A$2:$C$44,3,FALSE)>=71,VLOOKUP(Sheet1!T29,Sheet2!$A$2:$C$44,2,FALSE)&TEXT(Sheet1!V29,\"00\")&TEXT(Sheet1!W29,\"00\"),VLOOKUP(Sheet1!T29,Sheet2!$A$2:$C$44,2,FALSE)&TEXT(Sheet1!U29,\"00\")&TEXT(Sheet1!V29,\"00\")&IF(Sheet1!X29=\"手\",TEXT(Sheet1!W29,\"0\"),TEXT(Sheet1!W29,\"00\"))))","v":""}]
["",{"$f":"ASC(IF(Sheet1!C30=\"\",\"\",IF(LEN(Sheet1!C30)+LEN(Sheet1!D30)=2,Sheet1!C30&\"      \"&Sheet1!D30&\"(\"&Sheet1!G30&\")\",IF(LEN(Sheet1!C30)+LEN(Sheet1!D30)=3,Sheet1!C30&\"    \"&Sheet1!D30&\"(\"&Sheet1!G30&\")\",IF(LEN(Sheet1!C30)+LEN(Sheet1!D30)=4,Sheet1!C30&\"  \"&Sheet1!D30&\"(\"&Sheet1!G30&\")\",IF(LEN(Sheet1!C30)+LEN(Sheet1!D30)>=5,Sheet1!C30&Sheet1!D30&\"(\"&Sheet1!G30&\")\",\"\"))))))","v":""},{"$f":"ASC(IF(Sheet1!E30=\"\",\"\",Sheet1!E30&\" \"&Sheet1!F30))","v":""},{"$f":"IF(Sheet1!H30=\"\",\"\",IF(Sheet1!H30=\"女\",2,1))","v":""},{"$f":"IF(Sheet1!I30=\"\",\"\",VLOOKUP(Sheet1!I30,Sheet2!$F$2:$G$50,2,FALSE))","v":""},{"$f":"IF(B20=\"\",\"\",IF(Sheet1!$D$4=\"\",Sheet1!$D$5,VALUE(Sheet1!$D$4)))","v":""},{"$f":"IF(Sheet1!B30=\"\",\"\",VALUE(Sheet1!B30))","v":""},{"$f":"IF(Sheet1!J30=\"\",\"\",IF(VLOOKUP(Sheet1!J30,Sheet2!$A$2:$C$44,3,FALSE)>=71,VLOOKUP(Sheet1!J30,Sheet2!$A$2:$C$44,2,FALSE)&TEXT(Sheet1!L30,\"00\")&TEXT(Sheet1!M30,\"00\"),VLOOKUP(Sheet1!J30,Sheet2!$A$2:$C$44,2,FALSE)&TEXT(Sheet1!K30,\"00\")&TEXT(Sheet1!L30,\"00\")&IF(Sheet1!N30=\"手\",TEXT(Sheet1!M30,\"0\"),TEXT(Sheet1!M30,\"00\"))))","v":""},{"$f":"IF(Sheet1!O30=\"\",\"\",IF(VLOOKUP(Sheet1!O30,Sheet2!$A$2:$C$44,3,FALSE)>=71,VLOOKUP(Sheet1!O30,Sheet2!$A$2:$C$44,2,FALSE)&TEXT(Sheet1!Q30,\"00\")&TEXT(Sheet1!R30,\"00\"),VLOOKUP(Sheet1!O30,Sheet2!$A$2:$C$44,2,FALSE)&TEXT(Sheet1!P30,\"00\")&TEXT(Sheet1!Q30,\"00\")&IF(Sheet1!S30=\"手\",TEXT(Sheet1!R30,\"0\"),TEXT(Sheet1!R30,\"00\"))))","v":""},{"$f":"IF(Sheet1!T30=\"\",\"\",IF(VLOOKUP(Sheet1!T30,Sheet2!$A$2:$C$44,3,FALSE)>=71,VLOOKUP(Sheet1!T30,Sheet2!$A$2:$C$44,2,FALSE)&TEXT(Sheet1!V30,\"00\")&TEXT(Sheet1!W30,\"00\"),VLOOKUP(Sheet1!T30,Sheet2!$A$2:$C$44,2,FALSE)&TEXT(Sheet1!U30,\"00\")&TEXT(Sheet1!V30,\"00\")&IF(Sheet1!X30=\"手\",TEXT(Sheet1!W30,\"0\"),TEXT(Sheet1!W30,\"00\"))))","v":""}]
["",{"$f":"ASC(IF(Sheet1!C31=\"\",\"\",IF(LEN(Sheet1!C31)+LEN(Sheet1!D31)=2,Sheet1!C31&\"      \"&Sheet1!D31&\"(\"&Sheet1!G31&\")\",IF(LEN(Sheet1!C31)+LEN(Sheet1!D31)=3,Sheet1!C31&\"    \"&Sheet1!D31&\"(\"&Sheet1!G31&\")\",IF(LEN(Sheet1!C31)+LEN(Sheet1!D31)=4,Sheet1!C31&\"  \"&Sheet1!D31&\"(\"&Sheet1!G31&\")\",IF(LEN(Sheet1!C31)+LEN(Sheet1!D31)>=5,Sheet1!C31&Sheet1!D31&\"(\"&Sheet1!G31&\")\",\"\"))))))","v":""},{"$f":"ASC(IF(Sheet1!E31=\"\",\"\",Sheet1!E31&\" \"&Sheet1!F31))","v":""},{"$f":"IF(Sheet1!H31=\"\",\"\",IF(Sheet1!H31=\"女\",2,1))","v":""},{"$f":"IF(Sheet1!I31=\"\",\"\",VLOOKUP(Sheet1!I31,Sheet2!$F$2:$G$50,2,FALSE))","v":""},{"$f":"IF(B21=\"\",\"\",IF(Sheet1!$D$4=\"\",Sheet1!$D$5,VALUE(Sheet1!$D$4)))","v":""},{"$f":"IF(Sheet1!B31=\"\",\"\",VALUE(Sheet1!B31))","v":""},{"$f":"IF(Sheet1!J31=\"\",\"\",IF(VLOOKUP(Sheet1!J31,Sheet2!$A$2:$C$44,3,FALSE)>=71,VLOOKUP(Sheet1!J31,Sheet2!$A$2:$C$44,2,FALSE)&TEXT(Sheet1!L31,\"00\")&TEXT(Sheet1!M31,\"00\"),VLOOKUP(Sheet1!J31,Sheet2!$A$2:$C$44,2,FALSE)&TEXT(Sheet1!K31,\"00\")&TEXT(Sheet1!L31,\"00\")&IF(Sheet1!N31=\"手\",TEXT(Sheet1!M31,\"0\"),TEXT(Sheet1!M31,\"00\"))))","v":""},{"$f":"IF(Sheet1!O31=\"\",\"\",IF(VLOOKUP(Sheet1!O31,Sheet2!$A$2:$C$44,3,FALSE)>=71,VLOOKUP(Sheet1!O31,Sheet2!$A$2:$C$44,2,FALSE)&TEXT(Sheet1!Q31,\"00\")&TEXT(Sheet1!R31,\"00\"),VLOOKUP(Sheet1!O31,Sheet2!$A$2:$C$44,2,FALSE)&TEXT(Sheet1!P31,\"00\")&TEXT(Sheet1!Q31,\"00\")&IF(Sheet1!S31=\"手\",TEXT(Sheet1!R31,\"0\"),TEXT(Sheet1!R31,\"00\"))))","v":""},{"$f":"IF(Sheet1!T31=\"\",\"\",IF(VLOOKUP(Sheet1!T31,Sheet2!$A$2:$C$44,3,FALSE)>=71,VLOOKUP(Sheet1!T31,Sheet2!$A$2:$C$44,2,FALSE)&TEXT(Sheet1!V31,\"00\")&TEXT(Sheet1!W31,\"00\"),VLOOKUP(Sheet1!T31,Sheet2!$A$2:$C$44,2,FALSE)&TEXT(Sheet1!U31,\"00\")&TEXT(Sheet1!V31,\"00\")&IF(Sheet1!X31=\"手\",TEXT(Sheet1!W31,\"0\"),TEXT(Sheet1!W31,\"00\"))))","v":""}]
["",{"$f":"ASC(IF(Sheet1!C32=\"\",\"\",IF(LEN(Sheet1!C32)+LEN(Sheet1!D32)=2,Sheet1!C32&\"      \"&Sheet1!D32&\"(\"&Sheet1!G32&\")\",IF(LEN(Sheet1!C32)+LEN(Sheet1!D32)=3,Sheet1!C32&\"    \"&Sheet1!D32&\"(\"&Sheet1!G32&\")\",IF(LEN(Sheet1!C32)+LEN(Sheet1!D32)=4,Sheet1!C32&\"  \"&Sheet1!D32&\"(\"&Sheet1!G32&\")\",IF(LEN(Sheet1!C32)+LEN(Sheet1!D32)>=5,Sheet1!C32&Sheet1!D32&\"(\"&Sheet1!G32&\")\",\"\"))))))","v":""},{"$f":"ASC(IF(Sheet1!E32=\"\",\"\",Sheet1!E32&\" \"&Sheet1!F32))","v":""},{"$f":"IF(Sheet1!H32=\"\",\"\",IF(Sheet1!H32=\"女\",2,1))","v":""},{"$f":"IF(Sheet1!I32=\"\",\"\",VLOOKUP(Sheet1!I32,Sheet2!$F$2:$G$50,2,FALSE))","v":""},{"$f":"IF(B22=\"\",\"\",IF(Sheet1!$D$4=\"\",Sheet1!$D$5,VALUE(Sheet1!$D$4)))","v":""},{"$f":"IF(Sheet1!B32=\"\",\"\",VALUE(Sheet1!B32))","v":""},{"$f":"IF(Sheet1!J32=\"\",\"\",IF(VLOOKUP(Sheet1!J32,Sheet2!$A$2:$C$44,3,FALSE)>=71,VLOOKUP(Sheet1!J32,Sheet2!$A$2:$C$44,2,FALSE)&TEXT(Sheet1!L32,\"00\")&TEXT(Sheet1!M32,\"00\"),VLOOKUP(Sheet1!J32,Sheet2!$A$2:$C$44,2,FALSE)&TEXT(Sheet1!K32,\"00\")&TEXT(Sheet1!L32,\"00\")&IF(Sheet1!N32=\"手\",TEXT(Sheet1!M32,\"0\"),TEXT(Sheet1!M32,\"00\"))))","v":""},{"$f":"IF(Sheet1!O32=\"\",\"\",IF(VLOOKUP(Sheet1!O32,Sheet2!$A$2:$C$44,3,FALSE)>=71,VLOOKUP(Sheet1!O32,Sheet2!$A$2:$C$44,2,FALSE)&TEXT(Sheet1!Q32,\"00\")&TEXT(Sheet1!R32,\"00\"),VLOOKUP(Sheet1!O32,Sheet2!$A$2:$C$44,2,FALSE)&TEXT(Sheet1!P32,\"00\")&TEXT(Sheet1!Q32,\"00\")&IF(Sheet1!S32=\"手\",TEXT(Sheet1!R32,\"0\"),TEXT(Sheet1!R32,\"00\"))))","v":""},{"$f":"IF(Sheet1!T32=\"\",\"\",IF(VLOOKUP(Sheet1!T32,Sheet2!$A$2:$C$44,3,FALSE)>=71,VLOOKUP(Sheet1!T32,Sheet2!$A$2:$C$44,2,FALSE)&TEXT(Sheet1!V32,\"00\")&TEXT(Sheet1!W32,\"00\"),VLOOKUP(Sheet1!T32,Sheet2!$A$2:$C$44,2,FALSE)&TEXT(Sheet1!U32,\"00\")&TEXT(Sheet1!V32,\"00\")&IF(Sheet1!X32=\"手\",TEXT(Sheet1!W32,\"0\"),TEXT(Sheet1!W32,\"00\"))))","v":""}]
["",{"$f":"ASC(IF(Sheet1!C33=\"\",\"\",IF(LEN(Sheet1!C33)+LEN(Sheet1!D33)=2,Sheet1!C33&\"      \"&Sheet1!D33&\"(\"&Sheet1!G33&\")\",IF(LEN(Sheet1!C33)+LEN(Sheet1!D33)=3,Sheet1!C33&\"    \"&Sheet1!D33&\"(\"&Sheet1!G33&\")\",IF(LEN(Sheet1!C33)+LEN(Sheet1!D33)=4,Sheet1!C33&\"  \"&Sheet1!D33&\"(\"&Sheet1!G33&\")\",IF(LEN(Sheet1!C33)+LEN(Sheet1!D33)>=5,Sheet1!C33&Sheet1!D33&\"(\"&Sheet1!G33&\")\",\"\"))))))","v":""},{"$f":"ASC(IF(Sheet1!E33=\"\",\"\",Sheet1!E33&\" \"&Sheet1!F33))","v":""},{"$f":"IF(Sheet1!H33=\"\",\"\",IF(Sheet1!H33=\"女\",2,1))","v":""},{"$f":"IF(Sheet1!I33=\"\",\"\",VLOOKUP(Sheet1!I33,Sheet2!$F$2:$G$50,2,FALSE))","v":""},{"$f":"IF(B23=\"\",\"\",IF(Sheet1!$D$4=\"\",Sheet1!$D$5,VALUE(Sheet1!$D$4)))","v":""},{"$f":"IF(Sheet1!B33=\"\",\"\",VALUE(Sheet1!B33))","v":""},{"$f":"IF(Sheet1!J33=\"\",\"\",IF(VLOOKUP(Sheet1!J33,Sheet2!$A$2:$C$44,3,FALSE)>=71,VLOOKUP(Sheet1!J33,Sheet2!$A$2:$C$44,2,FALSE)&TEXT(Sheet1!L33,\"00\")&TEXT(Sheet1!M33,\"00\"),VLOOKUP(Sheet1!J33,Sheet2!$A$2:$C$44,2,FALSE)&TEXT(Sheet1!K33,\"00\")&TEXT(Sheet1!L33,\"00\")&IF(Sheet1!N33=\"手\",TEXT(Sheet1!M33,\"0\"),TEXT(Sheet1!M33,\"00\"))))","v":""},{"$f":"IF(Sheet1!O33=\"\",\"\",IF(VLOOKUP(Sheet1!O33,Sheet2!$A$2:$C$44,3,FALSE)>=71,VLOOKUP(Sheet1!O33,Sheet2!$A$2:$C$44,2,FALSE)&TEXT(Sheet1!Q33,\"00\")&TEXT(Sheet1!R33,\"00\"),VLOOKUP(Sheet1!O33,Sheet2!$A$2:$C$44,2,FALSE)&TEXT(Sheet1!P33,\"00\")&TEXT(Sheet1!Q33,\"00\")&IF(Sheet1!S33=\"手\",TEXT(Sheet1!R33,\"0\"),TEXT(Sheet1!R33,\"00\"))))","v":""},{"$f":"IF(Sheet1!T33=\"\",\"\",IF(VLOOKUP(Sheet1!T33,Sheet2!$A$2:$C$44,3,FALSE)>=71,VLOOKUP(Sheet1!T33,Sheet2!$A$2:$C$44,2,FALSE)&TEXT(Sheet1!V33,\"00\")&TEXT(Sheet1!W33,\"00\"),VLOOKUP(Sheet1!T33,Sheet2!$A$2:$C$44,2,FALSE)&TEXT(Sheet1!U33,\"00\")&TEXT(Sheet1!V33,\"00\")&IF(Sheet1!X33=\"手\",TEXT(Sheet1!W33,\"0\"),TEXT(Sheet1!W33,\"00\"))))","v":""}]
["",{"$f":"ASC(IF(Sheet1!C34=\"\",\"\",IF(LEN(Sheet1!C34)+LEN(Sheet1!D34)=2,Sheet1!C34&\"      \"&Sheet1!D34&\"(\"&Sheet1!G34&\")\",IF(LEN(Sheet1!C34)+LEN(Sheet1!D34)=3,Sheet1!C34&\"    \"&Sheet1!D34&\"(\"&Sheet1!G34&\")\",IF(LEN(Sheet1!C34)+LEN(Sheet1!D34)=4,Sheet1!C34&\"  \"&Sheet1!D34&\"(\"&Sheet1!G34&\")\",IF(LEN(Sheet1!C34)+LEN(Sheet1!D34)>=5,Sheet1!C34&Sheet1!D34&\"(\"&Sheet1!G34&\")\",\"\"))))))","v":""},{"$f":"ASC(IF(Sheet1!E34=\"\",\"\",Sheet1!E34&\" \"&Sheet1!F34))","v":""},{"$f":"IF(Sheet1!H34=\"\",\"\",IF(Sheet1!H34=\"女\",2,1))","v":""},{"$f":"IF(Sheet1!I34=\"\",\"\",VLOOKUP(Sheet1!I34,Sheet2!$F$2:$G$50,2,FALSE))","v":""},{"$f":"IF(B24=\"\",\"\",IF(Sheet1!$D$4=\"\",Sheet1!$D$5,VALUE(Sheet1!$D$4)))","v":""},{"$f":"IF(Sheet1!B34=\"\",\"\",VALUE(Sheet1!B34))","v":""},{"$f":"IF(Sheet1!J34=\"\",\"\",IF(VLOOKUP(Sheet1!J34,Sheet2!$A$2:$C$44,3,FALSE)>=71,VLOOKUP(Sheet1!J34,Sheet2!$A$2:$C$44,2,FALSE)&TEXT(Sheet1!L34,\"00\")&TEXT(Sheet1!M34,\"00\"),VLOOKUP(Sheet1!J34,Sheet2!$A$2:$C$44,2,FALSE)&TEXT(Sheet1!K34,\"00\")&TEXT(Sheet1!L34,\"00\")&IF(Sheet1!N34=\"手\",TEXT(Sheet1!M34,\"0\"),TEXT(Sheet1!M34,\"00\"))))","v":""},{"$f":"IF(Sheet1!O34=\"\",\"\",IF(VLOOKUP(Sheet1!O34,Sheet2!$A$2:$C$44,3,FALSE)>=71,VLOOKUP(Sheet1!O34,Sheet2!$A$2:$C$44,2,FALSE)&TEXT(Sheet1!Q34,\"00\")&TEXT(Sheet1!R34,\"00\"),VLOOKUP(Sheet1!O34,Sheet2!$A$2:$C$44,2,FALSE)&TEXT(Sheet1!P34,\"00\")&TEXT(Sheet1!Q34,\"00\")&IF(Sheet1!S34=\"手\",TEXT(Sheet1!R34,\"0\"),TEXT(Sheet1!R34,\"00\"))))","v":""},{"$f":"IF(Sheet1!T34=\"\",\"\",IF(VLOOKUP(Sheet1!T34,Sheet2!$A$2:$C$44,3,FALSE)>=71,VLOOKUP(Sheet1!T34,Sheet2!$A$2:$C$44,2,FALSE)&TEXT(Sheet1!V34,\"00\")&TEXT(Sheet1!W34,\"00\"),VLOOKUP(Sheet1!T34,Sheet2!$A$2:$C$44,2,FALSE)&TEXT(Sheet1!U34,\"00\")&TEXT(Sheet1!V34,\"00\")&IF(Sheet1!X34=\"手\",TEXT(Sheet1!W34,\"0\"),TEXT(Sheet1!W34,\"00\"))))","v":""}]
["",{"$f":"ASC(IF(Sheet1!C35=\"\",\"\",IF(LEN(Sheet1!C35)+LEN(Sheet1!D35)=2,Sheet1!C35&\"      \"&Sheet1!D35&\"(\"&Sheet1!G35&\")\",IF(LEN(Sheet1!C35)+LEN(Sheet1!D35)=3,Sheet1!C35&\"    \"&Sheet1!D35&\"(\"&Sheet1!G35&\")\",IF(LEN(Sheet1!C35)+LEN(Sheet1!D35)=4,Sheet1!C35&\"  \"&Sheet1!D35&\"(\"&Sheet1!G35&\")\",IF(LEN(Sheet1!C35)+LEN(Sheet1!D35)>=5,Sheet1!C35&Sheet1!D35&\"(\"&Sheet1!G35&\")\",\"\"))))))","v":""},{"$f":"ASC(IF(Sheet1!E35=\"\",\"\",Sheet1!E35&\" \"&Sheet1!F35))","v":""},{"$f":"IF(Sheet1!H35=\"\",\"\",IF(Sheet1!H35=\"女\",2,1))","v":""},{"$f":"IF(Sheet1!I35=\"\",\"\",VLOOKUP(Sheet1!I35,Sheet2!$F$2:$G$50,2,FALSE))","v":""},{"$f":"IF(B25=\"\",\"\",IF(Sheet1!$D$4=\"\",Sheet1!$D$5,VALUE(Sheet1!$D$4)))","v":""},{"$f":"IF(Sheet1!B35=\"\",\"\",VALUE(Sheet1!B35))","v":""},{"$f":"IF(Sheet1!J35=\"\",\"\",IF(VLOOKUP(Sheet1!J35,Sheet2!$A$2:$C$44,3,FALSE)>=71,VLOOKUP(Sheet1!J35,Sheet2!$A$2:$C$44,2,FALSE)&TEXT(Sheet1!L35,\"00\")&TEXT(Sheet1!M35,\"00\"),VLOOKUP(Sheet1!J35,Sheet2!$A$2:$C$44,2,FALSE)&TEXT(Sheet1!K35,\"00\")&TEXT(Sheet1!L35,\"00\")&IF(Sheet1!N35=\"手\",TEXT(Sheet1!M35,\"0\"),TEXT(Sheet1!M35,\"00\"))))","v":""},{"$f":"IF(Sheet1!O35=\"\",\"\",IF(VLOOKUP(Sheet1!O35,Sheet2!$A$2:$C$44,3,FALSE)>=71,VLOOKUP(Sheet1!O35,Sheet2!$A$2:$C$44,2,FALSE)&TEXT(Sheet1!Q35,\"00\")&TEXT(Sheet1!R35,\"00\"),VLOOKUP(Sheet1!O35,Sheet2!$A$2:$C$44,2,FALSE)&TEXT(Sheet1!P35,\"00\")&TEXT(Sheet1!Q35,\"00\")&IF(Sheet1!S35=\"手\",TEXT(Sheet1!R35,\"0\"),TEXT(Sheet1!R35,\"00\"))))","v":""},{"$f":"IF(Sheet1!T35=\"\",\"\",IF(VLOOKUP(Sheet1!T35,Sheet2!$A$2:$C$44,3,FALSE)>=71,VLOOKUP(Sheet1!T35,Sheet2!$A$2:$C$44,2,FALSE)&TEXT(Sheet1!V35,\"00\")&TEXT(Sheet1!W35,\"00\"),VLOOKUP(Sheet1!T35,Sheet2!$A$2:$C$44,2,FALSE)&TEXT(Sheet1!U35,\"00\")&TEXT(Sheet1!V35,\"00\")&IF(Sheet1!X35=\"手\",TEXT(Sheet1!W35,\"0\"),TEXT(Sheet1!W35,\"00\"))))","v":""}]
["",{"$f":"ASC(IF(Sheet1!C36=\"\",\"\",IF(LEN(Sheet1!C36)+LEN(Sheet1!D36)=2,Sheet1!C36&\"      \"&Sheet1!D36&\"(\"&Sheet1!G36&\")\",IF(LEN(Sheet1!C36)+LEN(Sheet1!D36)=3,Sheet1!C36&\"    \"&Sheet1!D36&\"(\"&Sheet1!G36&\")\",IF(LEN(Sheet1!C36)+LEN(Sheet1!D36)=4,Sheet1!C36&\"  \"&Sheet1!D36&\"(\"&Sheet1!G36&\")\",IF(LEN(Sheet1!C36)+LEN(Sheet1!D36)>=5,Sheet1!C36&Sheet1!D36&\"(\"&Sheet1!G36&\")\",\"\"))))))","v":""},{"$f":"ASC(IF(Sheet1!E36=\"\",\"\",Sheet1!E36&\" \"&Sheet1!F36))","v":""},{"$f":"IF(Sheet1!H36=\"\",\"\",IF(Sheet1!H36=\"女\",2,1))","v":""},{"$f":"IF(Sheet1!I36=\"\",\"\",VLOOKUP(Sheet1!I36,Sheet2!$F$2:$G$50,2,FALSE))","v":""},{"$f":"IF(B26=\"\",\"\",IF(Sheet1!$D$4=\"\",Sheet1!$D$5,VALUE(Sheet1!$D$4)))","v":""},{"$f":"IF(Sheet1!B36=\"\",\"\",VALUE(Sheet1!B36))","v":""},{"$f":"IF(Sheet1!J36=\"\",\"\",IF(VLOOKUP(Sheet1!J36,Sheet2!$A$2:$C$44,3,FALSE)>=71,VLOOKUP(Sheet1!J36,Sheet2!$A$2:$C$44,2,FALSE)&TEXT(Sheet1!L36,\"00\")&TEXT(Sheet1!M36,\"00\"),VLOOKUP(Sheet1!J36,Sheet2!$A$2:$C$44,2,FALSE)&TEXT(Sheet1!K36,\"00\")&TEXT(Sheet1!L36,\"00\")&IF(Sheet1!N36=\"手\",TEXT(Sheet1!M36,\"0\"),TEXT(Sheet1!M36,\"00\"))))","v":""},{"$f":"IF(Sheet1!O36=\"\",\"\",IF(VLOOKUP(Sheet1!O36,Sheet2!$A$2:$C$44,3,FALSE)>=71,VLOOKUP(Sheet1!O36,Sheet2!$A$2:$C$44,2,FALSE)&TEXT(Sheet1!Q36,\"00\")&TEXT(Sheet1!R36,\"00\"),VLOOKUP(Sheet1!O36,Sheet2!$A$2:$C$44,2,FALSE)&TEXT(Sheet1!P36,\"00\")&TEXT(Sheet1!Q36,\"00\")&IF(Sheet1!S36=\"手\",TEXT(Sheet1!R36,\"0\"),TEXT(Sheet1!R36,\"00\"))))","v":""},{"$f":"IF(Sheet1!T36=\"\",\"\",IF(VLOOKUP(Sheet1!T36,Sheet2!$A$2:$C$44,3,FALSE)>=71,VLOOKUP(Sheet1!T36,Sheet2!$A$2:$C$44,2,FALSE)&TEXT(Sheet1!V36,\"00\")&TEXT(Sheet1!W36,\"00\"),VLOOKUP(Sheet1!T36,Sheet2!$A$2:$C$44,2,FALSE)&TEXT(Sheet1!U36,\"00\")&TEXT(Sheet1!V36,\"00\")&IF(Sheet1!X36=\"手\",TEXT(Sheet1!W36,\"0\"),TEXT(Sheet1!W36,\"00\"))))","v":""}]
["",{"$f":"ASC(IF(Sheet1!C37=\"\",\"\",IF(LEN(Sheet1!C37)+LEN(Sheet1!D37)=2,Sheet1!C37&\"      \"&Sheet1!D37&\"(\"&Sheet1!G37&\")\",IF(LEN(Sheet1!C37)+LEN(Sheet1!D37)=3,Sheet1!C37&\"    \"&Sheet1!D37&\"(\"&Sheet1!G37&\")\",IF(LEN(Sheet1!C37)+LEN(Sheet1!D37)=4,Sheet1!C37&\"  \"&Sheet1!D37&\"(\"&Sheet1!G37&\")\",IF(LEN(Sheet1!C37)+LEN(Sheet1!D37)>=5,Sheet1!C37&Sheet1!D37&\"(\"&Sheet1!G37&\")\",\"\"))))))","v":""},{"$f":"ASC(IF(Sheet1!E37=\"\",\"\",Sheet1!E37&\" \"&Sheet1!F37))","v":""},{"$f":"IF(Sheet1!H37=\"\",\"\",IF(Sheet1!H37=\"女\",2,1))","v":""},{"$f":"IF(Sheet1!I37=\"\",\"\",VLOOKUP(Sheet1!I37,Sheet2!$F$2:$G$50,2,FALSE))","v":""},{"$f":"IF(B27=\"\",\"\",IF(Sheet1!$D$4=\"\",Sheet1!$D$5,VALUE(Sheet1!$D$4)))","v":""},{"$f":"IF(Sheet1!B37=\"\",\"\",VALUE(Sheet1!B37))","v":""},{"$f":"IF(Sheet1!J37=\"\",\"\",IF(VLOOKUP(Sheet1!J37,Sheet2!$A$2:$C$44,3,FALSE)>=71,VLOOKUP(Sheet1!J37,Sheet2!$A$2:$C$44,2,FALSE)&TEXT(Sheet1!L37,\"00\")&TEXT(Sheet1!M37,\"00\"),VLOOKUP(Sheet1!J37,Sheet2!$A$2:$C$44,2,FALSE)&TEXT(Sheet1!K37,\"00\")&TEXT(Sheet1!L37,\"00\")&IF(Sheet1!N37=\"手\",TEXT(Sheet1!M37,\"0\"),TEXT(Sheet1!M37,\"00\"))))","v":""},{"$f":"IF(Sheet1!O37=\"\",\"\",IF(VLOOKUP(Sheet1!O37,Sheet2!$A$2:$C$44,3,FALSE)>=71,VLOOKUP(Sheet1!O37,Sheet2!$A$2:$C$44,2,FALSE)&TEXT(Sheet1!Q37,\"00\")&TEXT(Sheet1!R37,\"00\"),VLOOKUP(Sheet1!O37,Sheet2!$A$2:$C$44,2,FALSE)&TEXT(Sheet1!P37,\"00\")&TEXT(Sheet1!Q37,\"00\")&IF(Sheet1!S37=\"手\",TEXT(Sheet1!R37,\"0\"),TEXT(Sheet1!R37,\"00\"))))","v":""},{"$f":"IF(Sheet1!T37=\"\",\"\",IF(VLOOKUP(Sheet1!T37,Sheet2!$A$2:$C$44,3,FALSE)>=71,VLOOKUP(Sheet1!T37,Sheet2!$A$2:$C$44,2,FALSE)&TEXT(Sheet1!V37,\"00\")&TEXT(Sheet1!W37,\"00\"),VLOOKUP(Sheet1!T37,Sheet2!$A$2:$C$44,2,FALSE)&TEXT(Sheet1!U37,\"00\")&TEXT(Sheet1!V37,\"00\")&IF(Sheet1!X37=\"手\",TEXT(Sheet1!W37,\"0\"),TEXT(Sheet1!W37,\"00\"))))","v":""}]
["",{"$f":"ASC(IF(Sheet1!C38=\"\",\"\",IF(LEN(Sheet1!C38)+LEN(Sheet1!D38)=2,Sheet1!C38&\"      \"&Sheet1!D38&\"(\"&Sheet1!G38&\")\",IF(LEN(Sheet1!C38)+LEN(Sheet1!D38)=3,Sheet1!C38&\"    \"&Sheet1!D38&\"(\"&Sheet1!G38&\")\",IF(LEN(Sheet1!C38)+LEN(Sheet1!D38)=4,Sheet1!C38&\"  \"&Sheet1!D38&\"(\"&Sheet1!G38&\")\",IF(LEN(Sheet1!C38)+LEN(Sheet1!D38)>=5,Sheet1!C38&Sheet1!D38&\"(\"&Sheet1!G38&\")\",\"\"))))))","v":""},{"$f":"ASC(IF(Sheet1!E38=\"\",\"\",Sheet1!E38&\" \"&Sheet1!F38))","v":""},{"$f":"IF(Sheet1!H38=\"\",\"\",IF(Sheet1!H38=\"女\",2,1))","v":""},{"$f":"IF(Sheet1!I38=\"\",\"\",VLOOKUP(Sheet1!I38,Sheet2!$F$2:$G$50,2,FALSE))","v":""},{"$f":"IF(B28=\"\",\"\",IF(Sheet1!$D$4=\"\",Sheet1!$D$5,VALUE(Sheet1!$D$4)))","v":""},{"$f":"IF(Sheet1!B38=\"\",\"\",VALUE(Sheet1!B38))","v":""},{"$f":"IF(Sheet1!J38=\"\",\"\",IF(VLOOKUP(Sheet1!J38,Sheet2!$A$2:$C$44,3,FALSE)>=71,VLOOKUP(Sheet1!J38,Sheet2!$A$2:$C$44,2,FALSE)&TEXT(Sheet1!L38,\"00\")&TEXT(Sheet1!M38,\"00\"),VLOOKUP(Sheet1!J38,Sheet2!$A$2:$C$44,2,FALSE)&TEXT(Sheet1!K38,\"00\")&TEXT(Sheet1!L38,\"00\")&IF(Sheet1!N38=\"手\",TEXT(Sheet1!M38,\"0\"),TEXT(Sheet1!M38,\"00\"))))","v":""},{"$f":"IF(Sheet1!O38=\"\",\"\",IF(VLOOKUP(Sheet1!O38,Sheet2!$A$2:$C$44,3,FALSE)>=71,VLOOKUP(Sheet1!O38,Sheet2!$A$2:$C$44,2,FALSE)&TEXT(Sheet1!Q38,\"00\")&TEXT(Sheet1!R38,\"00\"),VLOOKUP(Sheet1!O38,Sheet2!$A$2:$C$44,2,FALSE)&TEXT(Sheet1!P38,\"00\")&TEXT(Sheet1!Q38,\"00\")&IF(Sheet1!S38=\"手\",TEXT(Sheet1!R38,\"0\"),TEXT(Sheet1!R38,\"00\"))))","v":""},{"$f":"IF(Sheet1!T38=\"\",\"\",IF(VLOOKUP(Sheet1!T38,Sheet2!$A$2:$C$44,3,FALSE)>=71,VLOOKUP(Sheet1!T38,Sheet2!$A$2:$C$44,2,FALSE)&TEXT(Sheet1!V38,\"00\")&TEXT(Sheet1!W38,\"00\"),VLOOKUP(Sheet1!T38,Sheet2!$A$2:$C$44,2,FALSE)&TEXT(Sheet1!U38,\"00\")&TEXT(Sheet1!V38,\"00\")&IF(Sheet1!X38=\"手\",TEXT(Sheet1!W38,\"0\"),TEXT(Sheet1!W38,\"00\"))))","v":""}]
["",{"$f":"ASC(IF(Sheet1!C39=\"\",\"\",IF(LEN(Sheet1!C39)+LEN(Sheet1!D39)=2,Sheet1!C39&\"      \"&Sheet1!D39&\"(\"&Sheet1!G39&\")\",IF(LEN(Sheet1!C39)+LEN(Sheet1!D39)=3,Sheet1!C39&\"    \"&Sheet1!D39&\"(\"&Sheet1!G39&\")\",IF(LEN(Sheet1!C39)+LEN(Sheet1!D39)=4,Sheet1!C39&\"  \"&Sheet1!D39&\"(\"&Sheet1!G39&\")\",IF(LEN(Sheet1!C39)+LEN(Sheet1!D39)>=5,Sheet1!C39&Sheet1!D39&\"(\"&Sheet1!G39&\")\",\"\"))))))","v":""},{"$f":"ASC(IF(Sheet1!E39=\"\",\"\",Sheet1!E39&\" \"&Sheet1!F39))","v":""},{"$f":"IF(Sheet1!H39=\"\",\"\",IF(Sheet1!H39=\"女\",2,1))","v":""},{"$f":"IF(Sheet1!I39=\"\",\"\",VLOOKUP(Sheet1!I39,Sheet2!$F$2:$G$50,2,FALSE))","v":""},{"$f":"IF(B29=\"\",\"\",IF(Sheet1!$D$4=\"\",Sheet1!$D$5,VALUE(Sheet1!$D$4)))","v":""},{"$f":"IF(Sheet1!B39=\"\",\"\",VALUE(Sheet1!B39))","v":""},{"$f":"IF(Sheet1!J39=\"\",\"\",IF(VLOOKUP(Sheet1!J39,Sheet2!$A$2:$C$44,3,FALSE)>=71,VLOOKUP(Sheet1!J39,Sheet2!$A$2:$C$44,2,FALSE)&TEXT(Sheet1!L39,\"00\")&TEXT(Sheet1!M39,\"00\"),VLOOKUP(Sheet1!J39,Sheet2!$A$2:$C$44,2,FALSE)&TEXT(Sheet1!K39,\"00\")&TEXT(Sheet1!L39,\"00\")&IF(Sheet1!N39=\"手\",TEXT(Sheet1!M39,\"0\"),TEXT(Sheet1!M39,\"00\"))))","v":""},{"$f":"IF(Sheet1!O39=\"\",\"\",IF(VLOOKUP(Sheet1!O39,Sheet2!$A$2:$C$44,3,FALSE)>=71,VLOOKUP(Sheet1!O39,Sheet2!$A$2:$C$44,2,FALSE)&TEXT(Sheet1!Q39,\"00\")&TEXT(Sheet1!R39,\"00\"),VLOOKUP(Sheet1!O39,Sheet2!$A$2:$C$44,2,FALSE)&TEXT(Sheet1!P39,\"00\")&TEXT(Sheet1!Q39,\"00\")&IF(Sheet1!S39=\"手\",TEXT(Sheet1!R39,\"0\"),TEXT(Sheet1!R39,\"00\"))))","v":""},{"$f":"IF(Sheet1!T39=\"\",\"\",IF(VLOOKUP(Sheet1!T39,Sheet2!$A$2:$C$44,3,FALSE)>=71,VLOOKUP(Sheet1!T39,Sheet2!$A$2:$C$44,2,FALSE)&TEXT(Sheet1!V39,\"00\")&TEXT(Sheet1!W39,\"00\"),VLOOKUP(Sheet1!T39,Sheet2!$A$2:$C$44,2,FALSE)&TEXT(Sheet1!U39,\"00\")&TEXT(Sheet1!V39,\"00\")&IF(Sheet1!X39=\"手\",TEXT(Sheet1!W39,\"0\"),TEXT(Sheet1!W39,\"00\"))))","v":""}]
["",{"$f":"ASC(IF(Sheet1!C40=\"\",\"\",IF(LEN(Sheet1!C40)+LEN(Sheet1!D40)=2,Sheet1!C40&\"      \"&Sheet1!D40&\"(\"&Sheet1!G40&\")\",IF(LEN(Sheet1!C40)+LEN(Sheet1!D40)=3,Sheet1!C40&\"    \"&Sheet1!D40&\"(\"&Sheet1!G40&\")\",IF(LEN(Sheet1!C40)+LEN(Sheet1!D40)=4,Sheet1!C40&\"  \"&Sheet1!D40&\"(\"&Sheet1!G40&\")\",IF(LEN(Sheet1!C40)+LEN(Sheet1!D40)>=5,Sheet1!C40&Sheet1!D40&\"(\"&Sheet1!G40&\")\",\"\"))))))","v":""},{"$f":"ASC(IF(Sheet1!E40=\"\",\"\",Sheet1!E40&\" \"&Sheet1!F40))","v":""},{"$f":"IF(Sheet1!H40=\"\",\"\",IF(Sheet1!H40=\"女\",2,1))","v":""},{"$f":"IF(Sheet1!I40=\"\",\"\",VLOOKUP(Sheet1!I40,Sheet2!$F$2:$G$50,2,FALSE))","v":""},{"$f":"IF(B30=\"\",\"\",IF(Sheet1!$D$4=\"\",Sheet1!$D$5,VALUE(Sheet1!$D$4)))","v":""},{"$f":"IF(Sheet1!B40=\"\",\"\",VALUE(Sheet1!B40))","v":""},{"$f":"IF(Sheet1!J40=\"\",\"\",IF(VLOOKUP(Sheet1!J40,Sheet2!$A$2:$C$44,3,FALSE)>=71,VLOOKUP(Sheet1!J40,Sheet2!$A$2:$C$44,2,FALSE)&TEXT(Sheet1!L40,\"00\")&TEXT(Sheet1!M40,\"00\"),VLOOKUP(Sheet1!J40,Sheet2!$A$2:$C$44,2,FALSE)&TEXT(Sheet1!K40,\"00\")&TEXT(Sheet1!L40,\"00\")&IF(Sheet1!N40=\"手\",TEXT(Sheet1!M40,\"0\"),TEXT(Sheet1!M40,\"00\"))))","v":""},{"$f":"IF(Sheet1!O40=\"\",\"\",IF(VLOOKUP(Sheet1!O40,Sheet2!$A$2:$C$44,3,FALSE)>=71,VLOOKUP(Sheet1!O40,Sheet2!$A$2:$C$44,2,FALSE)&TEXT(Sheet1!Q40,\"00\")&TEXT(Sheet1!R40,\"00\"),VLOOKUP(Sheet1!O40,Sheet2!$A$2:$C$44,2,FALSE)&TEXT(Sheet1!P40,\"00\")&TEXT(Sheet1!Q40,\"00\")&IF(Sheet1!S40=\"手\",TEXT(Sheet1!R40,\"0\"),TEXT(Sheet1!R40,\"00\"))))","v":""},{"$f":"IF(Sheet1!T40=\"\",\"\",IF(VLOOKUP(Sheet1!T40,Sheet2!$A$2:$C$44,3,FALSE)>=71,VLOOKUP(Sheet1!T40,Sheet2!$A$2:$C$44,2,FALSE)&TEXT(Sheet1!V40,\"00\")&TEXT(Sheet1!W40,\"00\"),VLOOKUP(Sheet1!T40,Sheet2!$A$2:$C$44,2,FALSE)&TEXT(Sheet1!U40,\"00\")&TEXT(Sheet1!V40,\"00\")&IF(Sheet1!X40=\"手\",TEXT(Sheet1!W40,\"0\"),TEXT(Sheet1!W40,\"00\"))))","v":""}]
["",{"$f":"ASC(IF(Sheet1!C41=\"\",\"\",IF(LEN(Sheet1!C41)+LEN(Sheet1!D41)=2,Sheet1!C41&\"      \"&Sheet1!D41&\"(\"&Sheet1!G41&\")\",IF(LEN(Sheet1!C41)+LEN(Sheet1!D41)=3,Sheet1!C41&\"    \"&Sheet1!D41&\"(\"&Sheet1!G41&\")\",IF(LEN(Sheet1!C41)+LEN(Sheet1!D41)=4,Sheet1!C41&\"  \"&Sheet1!D41&\"(\"&Sheet1!G41&\")\",IF(LEN(Sheet1!C41)+LEN(Sheet1!D41)>=5,Sheet1!C41&Sheet1!D41&\"(\"&Sheet1!G41&\")\",\"\"))))))","v":""},{"$f":"ASC(IF(Sheet1!E41=\"\",\"\",Sheet1!E41&\" \"&Sheet1!F41))","v":""},{"$f":"IF(Sheet1!H41=\"\",\"\",IF(Sheet1!H41=\"女\",2,1))","v":""},{"$f":"IF(Sheet1!I41=\"\",\"\",VLOOKUP(Sheet1!I41,Sheet2!$F$2:$G$50,2,FALSE))","v":""},{"$f":"IF(B31=\"\",\"\",IF(Sheet1!$D$4=\"\",Sheet1!$D$5,VALUE(Sheet1!$D$4)))","v":""},{"$f":"IF(Sheet1!B41=\"\",\"\",VALUE(Sheet1!B41))","v":""},{"$f":"IF(Sheet1!J41=\"\",\"\",IF(VLOOKUP(Sheet1!J41,Sheet2!$A$2:$C$44,3,FALSE)>=71,VLOOKUP(Sheet1!J41,Sheet2!$A$2:$C$44,2,FALSE)&TEXT(Sheet1!L41,\"00\")&TEXT(Sheet1!M41,\"00\"),VLOOKUP(Sheet1!J41,Sheet2!$A$2:$C$44,2,FALSE)&TEXT(Sheet1!K41,\"00\")&TEXT(Sheet1!L41,\"00\")&IF(Sheet1!N41=\"手\",TEXT(Sheet1!M41,\"0\"),TEXT(Sheet1!M41,\"00\"))))","v":""},{"$f":"IF(Sheet1!O41=\"\",\"\",IF(VLOOKUP(Sheet1!O41,Sheet2!$A$2:$C$44,3,FALSE)>=71,VLOOKUP(Sheet1!O41,Sheet2!$A$2:$C$44,2,FALSE)&TEXT(Sheet1!Q41,\"00\")&TEXT(Sheet1!R41,\"00\"),VLOOKUP(Sheet1!O41,Sheet2!$A$2:$C$44,2,FALSE)&TEXT(Sheet1!P41,\"00\")&TEXT(Sheet1!Q41,\"00\")&IF(Sheet1!S41=\"手\",TEXT(Sheet1!R41,\"0\"),TEXT(Sheet1!R41,\"00\"))))","v":""},{"$f":"IF(Sheet1!T41=\"\",\"\",IF(VLOOKUP(Sheet1!T41,Sheet2!$A$2:$C$44,3,FALSE)>=71,VLOOKUP(Sheet1!T41,Sheet2!$A$2:$C$44,2,FALSE)&TEXT(Sheet1!V41,\"00\")&TEXT(Sheet1!W41,\"00\"),VLOOKUP(Sheet1!T41,Sheet2!$A$2:$C$44,2,FALSE)&TEXT(Sheet1!U41,\"00\")&TEXT(Sheet1!V41,\"00\")&IF(Sheet1!X41=\"手\",TEXT(Sheet1!W41,\"0\"),TEXT(Sheet1!W41,\"00\"))))","v":""}]
["",{"$f":"ASC(IF(Sheet1!C42=\"\",\"\",IF(LEN(Sheet1!C42)+LEN(Sheet1!D42)=2,Sheet1!C42&\"      \"&Sheet1!D42&\"(\"&Sheet1!G42&\")\",IF(LEN(Sheet1!C42)+LEN(Sheet1!D42)=3,Sheet1!C42&\"    \"&Sheet1!D42&\"(\"&Sheet1!G42&\")\",IF(LEN(Sheet1!C42)+LEN(Sheet1!D42)=4,Sheet1!C42&\"  \"&Sheet1!D42&\"(\"&Sheet1!G42&\")\",IF(LEN(Sheet1!C42)+LEN(Sheet1!D42)>=5,Sheet1!C42&Sheet1!D42&\"(\"&Sheet1!G42&\")\",\"\"))))))","v":""},{"$f":"ASC(IF(Sheet1!E42=\"\",\"\",Sheet1!E42&\" \"&Sheet1!F42))","v":""},{"$f":"IF(Sheet1!H42=\"\",\"\",IF(Sheet1!H42=\"女\",2,1))","v":""},{"$f":"IF(Sheet1!I42=\"\",\"\",VLOOKUP(Sheet1!I42,Sheet2!$F$2:$G$50,2,FALSE))","v":""},{"$f":"IF(B32=\"\",\"\",IF(Sheet1!$D$4=\"\",Sheet1!$D$5,VALUE(Sheet1!$D$4)))","v":""},{"$f":"IF(Sheet1!B42=\"\",\"\",VALUE(Sheet1!B42))","v":""},{"$f":"IF(Sheet1!J42=\"\",\"\",IF(VLOOKUP(Sheet1!J42,Sheet2!$A$2:$C$44,3,FALSE)>=71,VLOOKUP(Sheet1!J42,Sheet2!$A$2:$C$44,2,FALSE)&TEXT(Sheet1!L42,\"00\")&TEXT(Sheet1!M42,\"00\"),VLOOKUP(Sheet1!J42,Sheet2!$A$2:$C$44,2,FALSE)&TEXT(Sheet1!K42,\"00\")&TEXT(Sheet1!L42,\"00\")&IF(Sheet1!N42=\"手\",TEXT(Sheet1!M42,\"0\"),TEXT(Sheet1!M42,\"00\"))))","v":""},{"$f":"IF(Sheet1!O42=\"\",\"\",IF(VLOOKUP(Sheet1!O42,Sheet2!$A$2:$C$44,3,FALSE)>=71,VLOOKUP(Sheet1!O42,Sheet2!$A$2:$C$44,2,FALSE)&TEXT(Sheet1!Q42,\"00\")&TEXT(Sheet1!R42,\"00\"),VLOOKUP(Sheet1!O42,Sheet2!$A$2:$C$44,2,FALSE)&TEXT(Sheet1!P42,\"00\")&TEXT(Sheet1!Q42,\"00\")&IF(Sheet1!S42=\"手\",TEXT(Sheet1!R42,\"0\"),TEXT(Sheet1!R42,\"00\"))))","v":""},{"$f":"IF(Sheet1!T42=\"\",\"\",IF(VLOOKUP(Sheet1!T42,Sheet2!$A$2:$C$44,3,FALSE)>=71,VLOOKUP(Sheet1!T42,Sheet2!$A$2:$C$44,2,FALSE)&TEXT(Sheet1!V42,\"00\")&TEXT(Sheet1!W42,\"00\"),VLOOKUP(Sheet1!T42,Sheet2!$A$2:$C$44,2,FALSE)&TEXT(Sheet1!U42,\"00\")&TEXT(Sheet1!V42,\"00\")&IF(Sheet1!X42=\"手\",TEXT(Sheet1!W42,\"0\"),TEXT(Sheet1!W42,\"00\"))))","v":""}]
["",{"$f":"ASC(IF(Sheet1!C43=\"\",\"\",IF(LEN(Sheet1!C43)+LEN(Sheet1!D43)=2,Sheet1!C43&\"      \"&Sheet1!D43&\"(\"&Sheet1!G43&\")\",IF(LEN(Sheet1!C43)+LEN(Sheet1!D43)=3,Sheet1!C43&\"    \"&Sheet1!D43&\"(\"&Sheet1!G43&\")\",IF(LEN(Sheet1!C43)+LEN(Sheet1!D43)=4,Sheet1!C43&\"  \"&Sheet1!D43&\"(\"&Sheet1!G43&\")\",IF(LEN(Sheet1!C43)+LEN(Sheet1!D43)>=5,Sheet1!C43&Sheet1!D43&\"(\"&Sheet1!G43&\")\",\"\"))))))","v":""},{"$f":"ASC(IF(Sheet1!E43=\"\",\"\",Sheet1!E43&\" \"&Sheet1!F43))","v":""},{"$f":"IF(Sheet1!H43=\"\",\"\",IF(Sheet1!H43=\"女\",2,1))","v":""},{"$f":"IF(Sheet1!I43=\"\",\"\",VLOOKUP(Sheet1!I43,Sheet2!$F$2:$G$50,2,FALSE))","v":""},{"$f":"IF(B33=\"\",\"\",IF(Sheet1!$D$4=\"\",Sheet1!$D$5,VALUE(Sheet1!$D$4)))","v":""},{"$f":"IF(Sheet1!B43=\"\",\"\",VALUE(Sheet1!B43))","v":""},{"$f":"IF(Sheet1!J43=\"\",\"\",IF(VLOOKUP(Sheet1!J43,Sheet2!$A$2:$C$44,3,FALSE)>=71,VLOOKUP(Sheet1!J43,Sheet2!$A$2:$C$44,2,FALSE)&TEXT(Sheet1!L43,\"00\")&TEXT(Sheet1!M43,\"00\"),VLOOKUP(Sheet1!J43,Sheet2!$A$2:$C$44,2,FALSE)&TEXT(Sheet1!K43,\"00\")&TEXT(Sheet1!L43,\"00\")&IF(Sheet1!N43=\"手\",TEXT(Sheet1!M43,\"0\"),TEXT(Sheet1!M43,\"00\"))))","v":""},{"$f":"IF(Sheet1!O43=\"\",\"\",IF(VLOOKUP(Sheet1!O43,Sheet2!$A$2:$C$44,3,FALSE)>=71,VLOOKUP(Sheet1!O43,Sheet2!$A$2:$C$44,2,FALSE)&TEXT(Sheet1!Q43,\"00\")&TEXT(Sheet1!R43,\"00\"),VLOOKUP(Sheet1!O43,Sheet2!$A$2:$C$44,2,FALSE)&TEXT(Sheet1!P43,\"00\")&TEXT(Sheet1!Q43,\"00\")&IF(Sheet1!S43=\"手\",TEXT(Sheet1!R43,\"0\"),TEXT(Sheet1!R43,\"00\"))))","v":""},{"$f":"IF(Sheet1!T43=\"\",\"\",IF(VLOOKUP(Sheet1!T43,Sheet2!$A$2:$C$44,3,FALSE)>=71,VLOOKUP(Sheet1!T43,Sheet2!$A$2:$C$44,2,FALSE)&TEXT(Sheet1!V43,\"00\")&TEXT(Sheet1!W43,\"00\"),VLOOKUP(Sheet1!T43,Sheet2!$A$2:$C$44,2,FALSE)&TEXT(Sheet1!U43,\"00\")&TEXT(Sheet1!V43,\"00\")&IF(Sheet1!X43=\"手\",TEXT(Sheet1!W43,\"0\"),TEXT(Sheet1!W43,\"00\"))))","v":""}]
["",{"$f":"ASC(IF(Sheet1!C44=\"\",\"\",IF(LEN(Sheet1!C44)+LEN(Sheet1!D44)=2,Sheet1!C44&\"      \"&Sheet1!D44&\"(\"&Sheet1!G44&\")\",IF(LEN(Sheet1!C44)+LEN(Sheet1!D44)=3,Sheet1!C44&\"    \"&Sheet1!D44&\"(\"&Sheet1!G44&\")\",IF(LEN(Sheet1!C44)+LEN(Sheet1!D44)=4,Sheet1!C44&\"  \"&Sheet1!D44&\"(\"&Sheet1!G44&\")\",IF(LEN(Sheet1!C44)+LEN(Sheet1!D44)>=5,Sheet1!C44&Sheet1!D44&\"(\"&Sheet1!G44&\")\",\"\"))))))","v":""},{"$f":"ASC(IF(Sheet1!E44=\"\",\"\",Sheet1!E44&\" \"&Sheet1!F44))","v":""},{"$f":"IF(Sheet1!H44=\"\",\"\",IF(Sheet1!H44=\"女\",2,1))","v":""},{"$f":"IF(Sheet1!I44=\"\",\"\",VLOOKUP(Sheet1!I44,Sheet2!$F$2:$G$50,2,FALSE))","v":""},{"$f":"IF(B34=\"\",\"\",IF(Sheet1!$D$4=\"\",Sheet1!$D$5,VALUE(Sheet1!$D$4)))","v":""},{"$f":"IF(Sheet1!B44=\"\",\"\",VALUE(Sheet1!B44))","v":""},{"$f":"IF(Sheet1!J44=\"\",\"\",IF(VLOOKUP(Sheet1!J44,Sheet2!$A$2:$C$44,3,FALSE)>=71,VLOOKUP(Sheet1!J44,Sheet2!$A$2:$C$44,2,FALSE)&TEXT(Sheet1!L44,\"00\")&TEXT(Sheet1!M44,\"00\"),VLOOKUP(Sheet1!J44,Sheet2!$A$2:$C$44,2,FALSE)&TEXT(Sheet1!K44,\"00\")&TEXT(Sheet1!L44,\"00\")&IF(Sheet1!N44=\"手\",TEXT(Sheet1!M44,\"0\"),TEXT(Sheet1!M44,\"00\"))))","v":""},{"$f":"IF(Sheet1!O44=\"\",\"\",IF(VLOOKUP(Sheet1!O44,Sheet2!$A$2:$C$44,3,FALSE)>=71,VLOOKUP(Sheet1!O44,Sheet2!$A$2:$C$44,2,FALSE)&TEXT(Sheet1!Q44,\"00\")&TEXT(Sheet1!R44,\"00\"),VLOOKUP(Sheet1!O44,Sheet2!$A$2:$C$44,2,FALSE)&TEXT(Sheet1!P44,\"00\")&TEXT(Sheet1!Q44,\"00\")&IF(Sheet1!S44=\"手\",TEXT(Sheet1!R44,\"0\"),TEXT(Sheet1!R44,\"00\"))))","v":""},{"$f":"IF(Sheet1!T44=\"\",\"\",IF(VLOOKUP(Sheet1!T44,Sheet2!$A$2:$C$44,3,FALSE)>=71,VLOOKUP(Sheet1!T44,Sheet2!$A$2:$C$44,2,FALSE)&TEXT(Sheet1!V44,\"00\")&TEXT(Sheet1!W44,\"00\"),VLOOKUP(Sheet1!T44,Sheet2!$A$2:$C$44,2,FALSE)&TEXT(Sheet1!U44,\"00\")&TEXT(Sheet1!V44,\"00\")&IF(Sheet1!X44=\"手\",TEXT(Sheet1!W44,\"0\"),TEXT(Sheet1!W44,\"00\"))))","v":""}]
[{"$f":"IF(B35=\"\",\"\",D35*100000000+E35*1000000+200000+G35)","v":""},{"$f":"ASC(IF(Sheet1!C45=\"\",\"\",IF(LEN(Sheet1!C45)+LEN(Sheet1!D45)=2,Sheet1!C45&\"      \"&Sheet1!D45&\"(\"&Sheet1!G45&\")\",IF(LEN(Sheet1!C45)+LEN(Sheet1!D45)=3,Sheet1!C45&\"    \"&Sheet1!D45&\"(\"&Sheet1!G45&\")\",IF(LEN(Sheet1!C45)+LEN(Sheet1!D45)=4,Sheet1!C45&\"  \"&Sheet1!D45&\"(\"&Sheet1!G45&\")\",IF(LEN(Sheet1!C45)+LEN(Sheet1!D45)>=5,Sheet1!C45&Sheet1!D45&\"(\"&Sheet1!G45&\")\",\"\"))))))","v":""},{"$f":"ASC(IF(Sheet1!E45=\"\",\"\",Sheet1!E45&\" \"&Sheet1!F45))","v":""},{"$f":"IF(Sheet1!H45=\"\",\"\",IF(Sheet1!H45=\"女\",2,1))","v":""},{"$f":"IF(Sheet1!I45=\"\",\"\",VLOOKUP(Sheet1!I45,Sheet2!$F$2:$G$50,2,FALSE))","v":""},{"$f":"IF(B35=\"\",\"\",IF(Sheet1!$D$4=\"\",Sheet1!$D$5,VALUE(Sheet1!$D$4)))","v":""},{"$f":"IF(Sheet1!B45=\"\",\"\",VALUE(Sheet1!B45))","v":""},{"$f":"IF(Sheet1!J45=\"\",\"\",IF(VLOOKUP(Sheet1!J45,Sheet2!$A$2:$C$44,3,FALSE)>=71,VLOOKUP(Sheet1!J45,Sheet2!$A$2:$C$44,2,FALSE)&TEXT(Sheet1!L45,\"00\")&TEXT(Sheet1!M45,\"00\"),VLOOKUP(Sheet1!J45,Sheet2!$A$2:$C$44,2,FALSE)&TEXT(Sheet1!K45,\"00\")&TEXT(Sheet1!L45,\"00\")&IF(Sheet1!N45=\"手\",TEXT(Sheet1!M45,\"0\"),TEXT(Sheet1!M45,\"00\"))))","v":""},{"$f":"IF(Sheet1!O45=\"\",\"\",IF(VLOOKUP(Sheet1!O45,Sheet2!$A$2:$C$44,3,FALSE)>=71,VLOOKUP(Sheet1!O45,Sheet2!$A$2:$C$44,2,FALSE)&TEXT(Sheet1!Q45,\"00\")&TEXT(Sheet1!R45,\"00\"),VLOOKUP(Sheet1!O45,Sheet2!$A$2:$C$44,2,FALSE)&TEXT(Sheet1!P45,\"00\")&TEXT(Sheet1!Q45,\"00\")&IF(Sheet1!S45=\"手\",TEXT(Sheet1!R45,\"0\"),TEXT(Sheet1!R45,\"00\"))))","v":""},{"$f":"IF(Sheet1!T45=\"\",\"\",IF(VLOOKUP(Sheet1!T45,Sheet2!$A$2:$C$44,3,FALSE)>=71,VLOOKUP(Sheet1!T45,Sheet2!$A$2:$C$44,2,FALSE)&TEXT(Sheet1!V45,\"00\")&TEXT(Sheet1!W45,\"00\"),VLOOKUP(Sheet1!T45,Sheet2!$A$2:$C$44,2,FALSE)&TEXT(Sheet1!U45,\"00\")&TEXT(Sheet1!V45,\"00\")&IF(Sheet1!X45=\"手\",TEXT(Sheet1!W45,\"0\"),TEXT(Sheet1!W45,\"00\"))))","v":""}]
["",{"$f":"ASC(IF(Sheet1!C46=\"\",\"\",IF(LEN(Sheet1!C46)+LEN(Sheet1!D46)=2,Sheet1!C46&\"      \"&Sheet1!D46&\"(\"&Sheet1!G46&\")\",IF(LEN(Sheet1!C46)+LEN(Sheet1!D46)=3,Sheet1!C46&\"    \"&Sheet1!D46&\"(\"&Sheet1!G46&\")\",IF(LEN(Sheet1!C46)+LEN(Sheet1!D46)=4,Sheet1!C46&\"  \"&Sheet1!D46&\"(\"&Sheet1!G46&\")\",IF(LEN(Sheet1!C46)+LEN(Sheet1!D46)>=5,Sheet1!C46&Sheet1!D46&\"(\"&Sheet1!G46&\")\",\"\"))))))","v":""},{"$f":"ASC(IF(Sheet1!E46=\"\",\"\",Sheet1!E46&\" \"&Sheet1!F46))","v":""},{"$f":"IF(Sheet1!H46=\"\",\"\",IF(Sheet1!H46=\"女\",2,1))","v":""},{"$f":"IF(Sheet1!I46=\"\",\"\",VLOOKUP(Sheet1!I46,Sheet2!$F$2:$G$50,2,FALSE))","v":""},{"$f":"IF(B36=\"\",\"\",IF(Sheet1!$D$4=\"\",Sheet1!$D$5,VALUE(Sheet1!$D$4)))","v":""},{"$f":"IF(Sheet1!B46=\"\",\"\",VALUE(Sheet1!B46))","v":""},{"$f":"IF(Sheet1!J46=\"\",\"\",IF(VLOOKUP(Sheet1!J46,Sheet2!$A$2:$C$44,3,FALSE)>=71,VLOOKUP(Sheet1!J46,Sheet2!$A$2:$C$44,2,FALSE)&TEXT(Sheet1!L46,\"00\")&TEXT(Sheet1!M46,\"00\"),VLOOKUP(Sheet1!J46,Sheet2!$A$2:$C$44,2,FALSE)&TEXT(Sheet1!K46,\"00\")&TEXT(Sheet1!L46,\"00\")&IF(Sheet1!N46=\"手\",TEXT(Sheet1!M46,\"0\"),TEXT(Sheet1!M46,\"00\"))))","v":""},{"$f":"IF(Sheet1!O46=\"\",\"\",IF(VLOOKUP(Sheet1!O46,Sheet2!$A$2:$C$44,3,FALSE)>=71,VLOOKUP(Sheet1!O46,Sheet2!$A$2:$C$44,2,FALSE)&TEXT(Sheet1!Q46,\"00\")&TEXT(Sheet1!R46,\"00\"),VLOOKUP(Sheet1!O46,Sheet2!$A$2:$C$44,2,FALSE)&TEXT(Sheet1!P46,\"00\")&TEXT(Sheet1!Q46,\"00\")&IF(Sheet1!S46=\"手\",TEXT(Sheet1!R46,\"0\"),TEXT(Sheet1!R46,\"00\"))))","v":""},{"$f":"IF(Sheet1!T46=\"\",\"\",IF(VLOOKUP(Sheet1!T46,Sheet2!$A$2:$C$44,3,FALSE)>=71,VLOOKUP(Sheet1!T46,Sheet2!$A$2:$C$44,2,FALSE)&TEXT(Sheet1!V46,\"00\")&TEXT(Sheet1!W46,\"00\"),VLOOKUP(Sheet1!T46,Sheet2!$A$2:$C$44,2,FALSE)&TEXT(Sheet1!U46,\"00\")&TEXT(Sheet1!V46,\"00\")&IF(Sheet1!X46=\"手\",TEXT(Sheet1!W46,\"0\"),TEXT(Sheet1!W46,\"00\"))))","v":""}]
["",{"$f":"ASC(IF(Sheet1!C47=\"\",\"\",IF(LEN(Sheet1!C47)+LEN(Sheet1!D47)=2,Sheet1!C47&\"      \"&Sheet1!D47&\"(\"&Sheet1!G47&\")\",IF(LEN(Sheet1!C47)+LEN(Sheet1!D47)=3,Sheet1!C47&\"    \"&Sheet1!D47&\"(\"&Sheet1!G47&\")\",IF(LEN(Sheet1!C47)+LEN(Sheet1!D47)=4,Sheet1!C47&\"  \"&Sheet1!D47&\"(\"&Sheet1!G47&\")\",IF(LEN(Sheet1!C47)+LEN(Sheet1!D47)>=5,Sheet1!C47&Sheet1!D47&\"(\"&Sheet1!G47&\")\",\"\"))))))","v":""},{"$f":"ASC(IF(Sheet1!E47=\"\",\"\",Sheet1!E47&\" \"&Sheet1!F47))","v":""},{"$f":"IF(Sheet1!H47=\"\",\"\",IF(Sheet1!H47=\"女\",2,1))","v":""},{"$f":"IF(Sheet1!I47=\"\",\"\",VLOOKUP(Sheet1!I47,Sheet2!$F$2:$G$50,2,FALSE))","v":""},{"$f":"IF(B37=\"\",\"\",IF(Sheet1!$D$4=\"\",Sheet1!$D$5,VALUE(Sheet1!$D$4)))","v":""},{"$f":"IF(Sheet1!B47=\"\",\"\",VALUE(Sheet1!B47))","v":""},{"$f":"IF(Sheet1!J47=\"\",\"\",IF(VLOOKUP(Sheet1!J47,Sheet2!$A$2:$C$44,3,FALSE)>=71,VLOOKUP(Sheet1!J47,Sheet2!$A$2:$C$44,2,FALSE)&TEXT(Sheet1!L47,\"00\")&TEXT(Sheet1!M47,\"00\"),VLOOKUP(Sheet1!J47,Sheet2!$A$2:$C$44,2,FALSE)&TEXT(Sheet1!K47,\"00\")&TEXT(Sheet1!L47,\"00\")&IF(Sheet1!N47=\"手\",TEXT(Sheet1!M47,\"0\"),TEXT(Sheet1!M47,\"00\"))))","v":""},{"$f":"IF(Sheet1!O47=\"\",\"\",IF(VLOOKUP(Sheet1!O47,Sheet2!$A$2:$C$44,3,FALSE)>=71,VLOOKUP(Sheet1!O47,Sheet2!$A$2:$C$44,2,FALSE)&TEXT(Sheet1!Q47,\"00\")&TEXT(Sheet1!R47,\"00\"),VLOOKUP(Sheet1!O47,Sheet2!$A$2:$C$44,2,FALSE)&TEXT(Sheet1!P47,\"00\")&TEXT(Sheet1!Q47,\"00\")&IF(Sheet1!S47=\"手\",TEXT(Sheet1!R47,\"0\"),TEXT(Sheet1!R47,\"00\"))))","v":""},{"$f":"IF(Sheet1!T47=\"\",\"\",IF(VLOOKUP(Sheet1!T47,Sheet2!$A$2:$C$44,3,FALSE)>=71,VLOOKUP(Sheet1!T47,Sheet2!$A$2:$C$44,2,FALSE)&TEXT(Sheet1!V47,\"00\")&TEXT(Sheet1!W47,\"00\"),VLOOKUP(Sheet1!T47,Sheet2!$A$2:$C$44,2,FALSE)&TEXT(Sheet1!U47,\"00\")&TEXT(Sheet1!V47,\"00\")&IF(Sheet1!X47=\"手\",TEXT(Sheet1!W47,\"0\"),TEXT(Sheet1!W47,\"00\"))))","v":""}]
["",{"$f":"ASC(IF(Sheet1!C48=\"\",\"\",IF(LEN(Sheet1!C48)+LEN(Sheet1!D48)=2,Sheet1!C48&\"      \"&Sheet1!D48&\"(\"&Sheet1!G48&\")\",IF(LEN(Sheet1!C48)+LEN(Sheet1!D48)=3,Sheet1!C48&\"    \"&Sheet1!D48&\"(\"&Sheet1!G48&\")\",IF(LEN(Sheet1!C48)+LEN(Sheet1!D48)=4,Sheet1!C48&\"  \"&Sheet1!D48&\"(\"&Sheet1!G48&\")\",IF(LEN(Sheet1!C48)+LEN(Sheet1!D48)>=5,Sheet1!C48&Sheet1!D48&\"(\"&Sheet1!G48&\")\",\"\"))))))","v":""},{"$f":"ASC(IF(Sheet1!E48=\"\",\"\",Sheet1!E48&\" \"&Sheet1!F48))","v":""},{"$f":"IF(Sheet1!H48=\"\",\"\",IF(Sheet1!H48=\"女\",2,1))","v":""},{"$f":"IF(Sheet1!I48=\"\",\"\",VLOOKUP(Sheet1!I48,Sheet2!$F$2:$G$50,2,FALSE))","v":""},{"$f":"IF(B38=\"\",\"\",IF(Sheet1!$D$4=\"\",Sheet1!$D$5,VALUE(Sheet1!$D$4)))","v":""},{"$f":"IF(Sheet1!B48=\"\",\"\",VALUE(Sheet1!B48))","v":""},{"$f":"IF(Sheet1!J48=\"\",\"\",IF(VLOOKUP(Sheet1!J48,Sheet2!$A$2:$C$44,3,FALSE)>=71,VLOOKUP(Sheet1!J48,Sheet2!$A$2:$C$44,2,FALSE)&TEXT(Sheet1!L48,\"00\")&TEXT(Sheet1!M48,\"00\"),VLOOKUP(Sheet1!J48,Sheet2!$A$2:$C$44,2,FALSE)&TEXT(Sheet1!K48,\"00\")&TEXT(Sheet1!L48,\"00\")&IF(Sheet1!N48=\"手\",TEXT(Sheet1!M48,\"0\"),TEXT(Sheet1!M48,\"00\"))))","v":""},{"$f":"IF(Sheet1!O48=\"\",\"\",IF(VLOOKUP(Sheet1!O48,Sheet2!$A$2:$C$44,3,FALSE)>=71,VLOOKUP(Sheet1!O48,Sheet2!$A$2:$C$44,2,FALSE)&TEXT(Sheet1!Q48,\"00\")&TEXT(Sheet1!R48,\"00\"),VLOOKUP(Sheet1!O48,Sheet2!$A$2:$C$44,2,FALSE)&TEXT(Sheet1!P48,\"00\")&TEXT(Sheet1!Q48,\"00\")&IF(Sheet1!S48=\"手\",TEXT(Sheet1!R48,\"0\"),TEXT(Sheet1!R48,\"00\"))))","v":""},{"$f":"IF(Sheet1!T48=\"\",\"\",IF(VLOOKUP(Sheet1!T48,Sheet2!$A$2:$C$44,3,FALSE)>=71,VLOOKUP(Sheet1!T48,Sheet2!$A$2:$C$44,2,FALSE)&TEXT(Sheet1!V48,\"00\")&TEXT(Sheet1!W48,\"00\"),VLOOKUP(Sheet1!T48,Sheet2!$A$2:$C$44,2,FALSE)&TEXT(Sheet1!U48,\"00\")&TEXT(Sheet1!V48,\"00\")&IF(Sheet1!X48=\"手\",TEXT(Sheet1!W48,\"0\"),TEXT(Sheet1!W48,\"00\"))))","v":""}]
["",{"$f":"ASC(IF(Sheet1!C49=\"\",\"\",IF(LEN(Sheet1!C49)+LEN(Sheet1!D49)=2,Sheet1!C49&\"      \"&Sheet1!D49&\"(\"&Sheet1!G49&\")\",IF(LEN(Sheet1!C49)+LEN(Sheet1!D49)=3,Sheet1!C49&\"    \"&Sheet1!D49&\"(\"&Sheet1!G49&\")\",IF(LEN(Sheet1!C49)+LEN(Sheet1!D49)=4,Sheet1!C49&\"  \"&Sheet1!D49&\"(\"&Sheet1!G49&\")\",IF(LEN(Sheet1!C49)+LEN(Sheet1!D49)>=5,Sheet1!C49&Sheet1!D49&\"(\"&Sheet1!G49&\")\",\"\"))))))","v":""},{"$f":"ASC(IF(Sheet1!E49=\"\",\"\",Sheet1!E49&\" \"&Sheet1!F49))","v":""},{"$f":"IF(Sheet1!H49=\"\",\"\",IF(Sheet1!H49=\"女\",2,1))","v":""},{"$f":"IF(Sheet1!I49=\"\",\"\",VLOOKUP(Sheet1!I49,Sheet2!$F$2:$G$50,2,FALSE))","v":""},{"$f":"IF(B39=\"\",\"\",IF(Sheet1!$D$4=\"\",Sheet1!$D$5,VALUE(Sheet1!$D$4)))","v":""},{"$f":"IF(Sheet1!B49=\"\",\"\",VALUE(Sheet1!B49))","v":""},{"$f":"IF(Sheet1!J49=\"\",\"\",IF(VLOOKUP(Sheet1!J49,Sheet2!$A$2:$C$44,3,FALSE)>=71,VLOOKUP(Sheet1!J49,Sheet2!$A$2:$C$44,2,FALSE)&TEXT(Sheet1!L49,\"00\")&TEXT(Sheet1!M49,\"00\"),VLOOKUP(Sheet1!J49,Sheet2!$A$2:$C$44,2,FALSE)&TEXT(Sheet1!K49,\"00\")&TEXT(Sheet1!L49,\"00\")&IF(Sheet1!N49=\"手\",TEXT(Sheet1!M49,\"0\"),TEXT(Sheet1!M49,\"00\"))))","v":""},{"$f":"IF(Sheet1!O49=\"\",\"\",IF(VLOOKUP(Sheet1!O49,Sheet2!$A$2:$C$44,3,FALSE)>=71,VLOOKUP(Sheet1!O49,Sheet2!$A$2:$C$44,2,FALSE)&TEXT(Sheet1!Q49,\"00\")&TEXT(Sheet1!R49,\"00\"),VLOOKUP(Sheet1!O49,Sheet2!$A$2:$C$44,2,FALSE)&TEXT(Sheet1!P49,\"00\")&TEXT(Sheet1!Q49,\"00\")&IF(Sheet1!S49=\"手\",TEXT(Sheet1!R49,\"0\"),TEXT(Sheet1!R49,\"00\"))))","v":""},{"$f":"IF(Sheet1!T49=\"\",\"\",IF(VLOOKUP(Sheet1!T49,Sheet2!$A$2:$C$44,3,FALSE)>=71,VLOOKUP(Sheet1!T49,Sheet2!$A$2:$C$44,2,FALSE)&TEXT(Sheet1!V49,\"00\")&TEXT(Sheet1!W49,\"00\"),VLOOKUP(Sheet1!T49,Sheet2!$A$2:$C$44,2,FALSE)&TEXT(Sheet1!U49,\"00\")&TEXT(Sheet1!V49,\"00\")&IF(Sheet1!X49=\"手\",TEXT(Sheet1!W49,\"0\"),TEXT(Sheet1!W49,\"00\"))))","v":""}]
["",{"$f":"ASC(IF(Sheet1!C50=\"\",\"\",IF(LEN(Sheet1!C50)+LEN(Sheet1!D50)=2,Sheet1!C50&\"      \"&Sheet1!D50&\"(\"&Sheet1!G50&\")\",IF(LEN(Sheet1!C50)+LEN(Sheet1!D50)=3,Sheet1!C50&\"    \"&Sheet1!D50&\"(\"&Sheet1!G50&\")\",IF(LEN(Sheet1!C50)+LEN(Sheet1!D50)=4,Sheet1!C50&\"  \"&Sheet1!D50&\"(\"&Sheet1!G50&\")\",IF(LEN(Sheet1!C50)+LEN(Sheet1!D50)>=5,Sheet1!C50&Sheet1!D50&\"(\"&Sheet1!G50&\")\",\"\"))))))","v":""},{"$f":"ASC(IF(Sheet1!E50=\"\",\"\",Sheet1!E50&\" \"&Sheet1!F50))","v":""},{"$f":"IF(Sheet1!H50=\"\",\"\",IF(Sheet1!H50=\"女\",2,1))","v":""},{"$f":"IF(Sheet1!I50=\"\",\"\",VLOOKUP(Sheet1!I50,Sheet2!$F$2:$G$50,2,FALSE))","v":""},{"$f":"IF(B40=\"\",\"\",IF(Sheet1!$D$4=\"\",Sheet1!$D$5,VALUE(Sheet1!$D$4)))","v":""},{"$f":"IF(Sheet1!B50=\"\",\"\",VALUE(Sheet1!B50))","v":""},{"$f":"IF(Sheet1!J50=\"\",\"\",IF(VLOOKUP(Sheet1!J50,Sheet2!$A$2:$C$44,3,FALSE)>=71,VLOOKUP(Sheet1!J50,Sheet2!$A$2:$C$44,2,FALSE)&TEXT(Sheet1!L50,\"00\")&TEXT(Sheet1!M50,\"00\"),VLOOKUP(Sheet1!J50,Sheet2!$A$2:$C$44,2,FALSE)&TEXT(Sheet1!K50,\"00\")&TEXT(Sheet1!L50,\"00\")&IF(Sheet1!N50=\"手\",TEXT(Sheet1!M50,\"0\"),TEXT(Sheet1!M50,\"00\"))))","v":""},{"$f":"IF(Sheet1!O50=\"\",\"\",IF(VLOOKUP(Sheet1!O50,Sheet2!$A$2:$C$44,3,FALSE)>=71,VLOOKUP(Sheet1!O50,Sheet2!$A$2:$C$44,2,FALSE)&TEXT(Sheet1!Q50,\"00\")&TEXT(Sheet1!R50,\"00\"),VLOOKUP(Sheet1!O50,Sheet2!$A$2:$C$44,2,FALSE)&TEXT(Sheet1!P50,\"00\")&TEXT(Sheet1!Q50,\"00\")&IF(Sheet1!S50=\"手\",TEXT(Sheet1!R50,\"0\"),TEXT(Sheet1!R50,\"00\"))))","v":""},{"$f":"IF(Sheet1!T50=\"\",\"\",IF(VLOOKUP(Sheet1!T50,Sheet2!$A$2:$C$44,3,FALSE)>=71,VLOOKUP(Sheet1!T50,Sheet2!$A$2:$C$44,2,FALSE)&TEXT(Sheet1!V50,\"00\")&TEXT(Sheet1!W50,\"00\"),VLOOKUP(Sheet1!T50,Sheet2!$A$2:$C$44,2,FALSE)&TEXT(Sheet1!U50,\"00\")&TEXT(Sheet1!V50,\"00\")&IF(Sheet1!X50=\"手\",TEXT(Sheet1!W50,\"0\"),TEXT(Sheet1!W50,\"00\"))))","v":""}]
["",{"$f":"ASC(IF(Sheet1!C51=\"\",\"\",IF(LEN(Sheet1!C51)+LEN(Sheet1!D51)=2,Sheet1!C51&\"      \"&Sheet1!D51&\"(\"&Sheet1!G51&\")\",IF(LEN(Sheet1!C51)+LEN(Sheet1!D51)=3,Sheet1!C51&\"    \"&Sheet1!D51&\"(\"&Sheet1!G51&\")\",IF(LEN(Sheet1!C51)+LEN(Sheet1!D51)=4,Sheet1!C51&\"  \"&Sheet1!D51&\"(\"&Sheet1!G51&\")\",IF(LEN(Sheet1!C51)+LEN(Sheet1!D51)>=5,Sheet1!C51&Sheet1!D51&\"(\"&Sheet1!G51&\")\",\"\"))))))","v":""},{"$f":"ASC(IF(Sheet1!E51=\"\",\"\",Sheet1!E51&\" \"&Sheet1!F51))","v":""},{"$f":"IF(Sheet1!H51=\"\",\"\",IF(Sheet1!H51=\"女\",2,1))","v":""},{"$f":"IF(Sheet1!I51=\"\",\"\",VLOOKUP(Sheet1!I51,Sheet2!$F$2:$G$50,2,FALSE))","v":""},{"$f":"IF(B41=\"\",\"\",IF(Sheet1!$D$4=\"\",Sheet1!$D$5,VALUE(Sheet1!$D$4)))","v":""},{"$f":"IF(Sheet1!B51=\"\",\"\",VALUE(Sheet1!B51))","v":""},{"$f":"IF(Sheet1!J51=\"\",\"\",IF(VLOOKUP(Sheet1!J51,Sheet2!$A$2:$C$44,3,FALSE)>=71,VLOOKUP(Sheet1!J51,Sheet2!$A$2:$C$44,2,FALSE)&TEXT(Sheet1!L51,\"00\")&TEXT(Sheet1!M51,\"00\"),VLOOKUP(Sheet1!J51,Sheet2!$A$2:$C$44,2,FALSE)&TEXT(Sheet1!K51,\"00\")&TEXT(Sheet1!L51,\"00\")&IF(Sheet1!N51=\"手\",TEXT(Sheet1!M51,\"0\"),TEXT(Sheet1!M51,\"00\"))))","v":""},{"$f":"IF(Sheet1!O51=\"\",\"\",IF(VLOOKUP(Sheet1!O51,Sheet2!$A$2:$C$44,3,FALSE)>=71,VLOOKUP(Sheet1!O51,Sheet2!$A$2:$C$44,2,FALSE)&TEXT(Sheet1!Q51,\"00\")&TEXT(Sheet1!R51,\"00\"),VLOOKUP(Sheet1!O51,Sheet2!$A$2:$C$44,2,FALSE)&TEXT(Sheet1!P51,\"00\")&TEXT(Sheet1!Q51,\"00\")&IF(Sheet1!S51=\"手\",TEXT(Sheet1!R51,\"0\"),TEXT(Sheet1!R51,\"00\"))))","v":""},{"$f":"IF(Sheet1!T51=\"\",\"\",IF(VLOOKUP(Sheet1!T51,Sheet2!$A$2:$C$44,3,FALSE)>=71,VLOOKUP(Sheet1!T51,Sheet2!$A$2:$C$44,2,FALSE)&TEXT(Sheet1!V51,\"00\")&TEXT(Sheet1!W51,\"00\"),VLOOKUP(Sheet1!T51,Sheet2!$A$2:$C$44,2,FALSE)&TEXT(Sheet1!U51,\"00\")&TEXT(Sheet1!V51,\"00\")&IF(Sheet1!X51=\"手\",TEXT(Sheet1!W51,\"0\"),TEXT(Sheet1!W51,\"00\"))))","v":""}]
["",{"$f":"ASC(IF(Sheet1!C52=\"\",\"\",IF(LEN(Sheet1!C52)+LEN(Sheet1!D52)=2,Sheet1!C52&\"      \"&Sheet1!D52&\"(\"&Sheet1!G52&\")\",IF(LEN(Sheet1!C52)+LEN(Sheet1!D52)=3,Sheet1!C52&\"    \"&Sheet1!D52&\"(\"&Sheet1!G52&\")\",IF(LEN(Sheet1!C52)+LEN(Sheet1!D52)=4,Sheet1!C52&\"  \"&Sheet1!D52&\"(\"&Sheet1!G52&\")\",IF(LEN(Sheet1!C52)+LEN(Sheet1!D52)>=5,Sheet1!C52&Sheet1!D52&\"(\"&Sheet1!G52&\")\",\"\"))))))","v":""},{"$f":"ASC(IF(Sheet1!E52=\"\",\"\",Sheet1!E52&\" \"&Sheet1!F52))","v":""},{"$f":"IF(Sheet1!H52=\"\",\"\",IF(Sheet1!H52=\"女\",2,1))","v":""},{"$f":"IF(Sheet1!I52=\"\",\"\",VLOOKUP(Sheet1!I52,Sheet2!$F$2:$G$50,2,FALSE))","v":""},{"$f":"IF(B42=\"\",\"\",IF(Sheet1!$D$4=\"\",Sheet1!$D$5,VALUE(Sheet1!$D$4)))","v":""},{"$f":"IF(Sheet1!B52=\"\",\"\",VALUE(Sheet1!B52))","v":""},{"$f":"IF(Sheet1!J52=\"\",\"\",IF(VLOOKUP(Sheet1!J52,Sheet2!$A$2:$C$44,3,FALSE)>=71,VLOOKUP(Sheet1!J52,Sheet2!$A$2:$C$44,2,FALSE)&TEXT(Sheet1!L52,\"00\")&TEXT(Sheet1!M52,\"00\"),VLOOKUP(Sheet1!J52,Sheet2!$A$2:$C$44,2,FALSE)&TEXT(Sheet1!K52,\"00\")&TEXT(Sheet1!L52,\"00\")&IF(Sheet1!N52=\"手\",TEXT(Sheet1!M52,\"0\"),TEXT(Sheet1!M52,\"00\"))))","v":""},{"$f":"IF(Sheet1!O52=\"\",\"\",IF(VLOOKUP(Sheet1!O52,Sheet2!$A$2:$C$44,3,FALSE)>=71,VLOOKUP(Sheet1!O52,Sheet2!$A$2:$C$44,2,FALSE)&TEXT(Sheet1!Q52,\"00\")&TEXT(Sheet1!R52,\"00\"),VLOOKUP(Sheet1!O52,Sheet2!$A$2:$C$44,2,FALSE)&TEXT(Sheet1!P52,\"00\")&TEXT(Sheet1!Q52,\"00\")&IF(Sheet1!S52=\"手\",TEXT(Sheet1!R52,\"0\"),TEXT(Sheet1!R52,\"00\"))))","v":""},{"$f":"IF(Sheet1!T52=\"\",\"\",IF(VLOOKUP(Sheet1!T52,Sheet2!$A$2:$C$44,3,FALSE)>=71,VLOOKUP(Sheet1!T52,Sheet2!$A$2:$C$44,2,FALSE)&TEXT(Sheet1!V52,\"00\")&TEXT(Sheet1!W52,\"00\"),VLOOKUP(Sheet1!T52,Sheet2!$A$2:$C$44,2,FALSE)&TEXT(Sheet1!U52,\"00\")&TEXT(Sheet1!V52,\"00\")&IF(Sheet1!X52=\"手\",TEXT(Sheet1!W52,\"0\"),TEXT(Sheet1!W52,\"00\"))))","v":""}]
["",{"$f":"ASC(IF(Sheet1!C53=\"\",\"\",IF(LEN(Sheet1!C53)+LEN(Sheet1!D53)=2,Sheet1!C53&\"      \"&Sheet1!D53&\"(\"&Sheet1!G53&\")\",IF(LEN(Sheet1!C53)+LEN(Sheet1!D53)=3,Sheet1!C53&\"    \"&Sheet1!D53&\"(\"&Sheet1!G53&\")\",IF(LEN(Sheet1!C53)+LEN(Sheet1!D53)=4,Sheet1!C53&\"  \"&Sheet1!D53&\"(\"&Sheet1!G53&\")\",IF(LEN(Sheet1!C53)+LEN(Sheet1!D53)>=5,Sheet1!C53&Sheet1!D53&\"(\"&Sheet1!G53&\")\",\"\"))))))","v":""},{"$f":"ASC(IF(Sheet1!E53=\"\",\"\",Sheet1!E53&\" \"&Sheet1!F53))","v":""},{"$f":"IF(Sheet1!H53=\"\",\"\",IF(Sheet1!H53=\"女\",2,1))","v":""},{"$f":"IF(Sheet1!I53=\"\",\"\",VLOOKUP(Sheet1!I53,Sheet2!$F$2:$G$50,2,FALSE))","v":""},{"$f":"IF(B43=\"\",\"\",IF(Sheet1!$D$4=\"\",Sheet1!$D$5,VALUE(Sheet1!$D$4)))","v":""},{"$f":"IF(Sheet1!B53=\"\",\"\",VALUE(Sheet1!B53))","v":""},{"$f":"IF(Sheet1!J53=\"\",\"\",IF(VLOOKUP(Sheet1!J53,Sheet2!$A$2:$C$44,3,FALSE)>=71,VLOOKUP(Sheet1!J53,Sheet2!$A$2:$C$44,2,FALSE)&TEXT(Sheet1!L53,\"00\")&TEXT(Sheet1!M53,\"00\"),VLOOKUP(Sheet1!J53,Sheet2!$A$2:$C$44,2,FALSE)&TEXT(Sheet1!K53,\"00\")&TEXT(Sheet1!L53,\"00\")&IF(Sheet1!N53=\"手\",TEXT(Sheet1!M53,\"0\"),TEXT(Sheet1!M53,\"00\"))))","v":""},{"$f":"IF(Sheet1!O53=\"\",\"\",IF(VLOOKUP(Sheet1!O53,Sheet2!$A$2:$C$44,3,FALSE)>=71,VLOOKUP(Sheet1!O53,Sheet2!$A$2:$C$44,2,FALSE)&TEXT(Sheet1!Q53,\"00\")&TEXT(Sheet1!R53,\"00\"),VLOOKUP(Sheet1!O53,Sheet2!$A$2:$C$44,2,FALSE)&TEXT(Sheet1!P53,\"00\")&TEXT(Sheet1!Q53,\"00\")&IF(Sheet1!S53=\"手\",TEXT(Sheet1!R53,\"0\"),TEXT(Sheet1!R53,\"00\"))))","v":""},{"$f":"IF(Sheet1!T53=\"\",\"\",IF(VLOOKUP(Sheet1!T53,Sheet2!$A$2:$C$44,3,FALSE)>=71,VLOOKUP(Sheet1!T53,Sheet2!$A$2:$C$44,2,FALSE)&TEXT(Sheet1!V53,\"00\")&TEXT(Sheet1!W53,\"00\"),VLOOKUP(Sheet1!T53,Sheet2!$A$2:$C$44,2,FALSE)&TEXT(Sheet1!U53,\"00\")&TEXT(Sheet1!V53,\"00\")&IF(Sheet1!X53=\"手\",TEXT(Sheet1!W53,\"0\"),TEXT(Sheet1!W53,\"00\"))))","v":""}]
["",{"$f":"ASC(IF(Sheet1!C54=\"\",\"\",IF(LEN(Sheet1!C54)+LEN(Sheet1!D54)=2,Sheet1!C54&\"      \"&Sheet1!D54&\"(\"&Sheet1!G54&\")\",IF(LEN(Sheet1!C54)+LEN(Sheet1!D54)=3,Sheet1!C54&\"    \"&Sheet1!D54&\"(\"&Sheet1!G54&\")\",IF(LEN(Sheet1!C54)+LEN(Sheet1!D54)=4,Sheet1!C54&\"  \"&Sheet1!D54&\"(\"&Sheet1!G54&\")\",IF(LEN(Sheet1!C54)+LEN(Sheet1!D54)>=5,Sheet1!C54&Sheet1!D54&\"(\"&Sheet1!G54&\")\",\"\"))))))","v":""},{"$f":"ASC(IF(Sheet1!E54=\"\",\"\",Sheet1!E54&\" \"&Sheet1!F54))","v":""},{"$f":"IF(Sheet1!H54=\"\",\"\",IF(Sheet1!H54=\"女\",2,1))","v":""},{"$f":"IF(Sheet1!I54=\"\",\"\",VLOOKUP(Sheet1!I54,Sheet2!$F$2:$G$50,2,FALSE))","v":""},{"$f":"IF(B44=\"\",\"\",IF(Sheet1!$D$4=\"\",Sheet1!$D$5,VALUE(Sheet1!$D$4)))","v":""},{"$f":"IF(Sheet1!B54=\"\",\"\",VALUE(Sheet1!B54))","v":""},{"$f":"IF(Sheet1!J54=\"\",\"\",IF(VLOOKUP(Sheet1!J54,Sheet2!$A$2:$C$44,3,FALSE)>=71,VLOOKUP(Sheet1!J54,Sheet2!$A$2:$C$44,2,FALSE)&TEXT(Sheet1!L54,\"00\")&TEXT(Sheet1!M54,\"00\"),VLOOKUP(Sheet1!J54,Sheet2!$A$2:$C$44,2,FALSE)&TEXT(Sheet1!K54,\"00\")&TEXT(Sheet1!L54,\"00\")&IF(Sheet1!N54=\"手\",TEXT(Sheet1!M54,\"0\"),TEXT(Sheet1!M54,\"00\"))))","v":""},{"$f":"IF(Sheet1!O54=\"\",\"\",IF(VLOOKUP(Sheet1!O54,Sheet2!$A$2:$C$44,3,FALSE)>=71,VLOOKUP(Sheet1!O54,Sheet2!$A$2:$C$44,2,FALSE)&TEXT(Sheet1!Q54,\"00\")&TEXT(Sheet1!R54,\"00\"),VLOOKUP(Sheet1!O54,Sheet2!$A$2:$C$44,2,FALSE)&TEXT(Sheet1!P54,\"00\")&TEXT(Sheet1!Q54,\"00\")&IF(Sheet1!S54=\"手\",TEXT(Sheet1!R54,\"0\"),TEXT(Sheet1!R54,\"00\"))))","v":""},{"$f":"IF(Sheet1!T54=\"\",\"\",IF(VLOOKUP(Sheet1!T54,Sheet2!$A$2:$C$44,3,FALSE)>=71,VLOOKUP(Sheet1!T54,Sheet2!$A$2:$C$44,2,FALSE)&TEXT(Sheet1!V54,\"00\")&TEXT(Sheet1!W54,\"00\"),VLOOKUP(Sheet1!T54,Sheet2!$A$2:$C$44,2,FALSE)&TEXT(Sheet1!U54,\"00\")&TEXT(Sheet1!V54,\"00\")&IF(Sheet1!X54=\"手\",TEXT(Sheet1!W54,\"0\"),TEXT(Sheet1!W54,\"00\"))))","v":""}]
["",{"$f":"ASC(IF(Sheet1!C55=\"\",\"\",IF(LEN(Sheet1!C55)+LEN(Sheet1!D55)=2,Sheet1!C55&\"      \"&Sheet1!D55&\"(\"&Sheet1!G55&\")\",IF(LEN(Sheet1!C55)+LEN(Sheet1!D55)=3,Sheet1!C55&\"    \"&Sheet1!D55&\"(\"&Sheet1!G55&\")\",IF(LEN(Sheet1!C55)+LEN(Sheet1!D55)=4,Sheet1!C55&\"  \"&Sheet1!D55&\"(\"&Sheet1!G55&\")\",IF(LEN(Sheet1!C55)+LEN(Sheet1!D55)>=5,Sheet1!C55&Sheet1!D55&\"(\"&Sheet1!G55&\")\",\"\"))))))","v":""},{"$f":"ASC(IF(Sheet1!E55=\"\",\"\",Sheet1!E55&\" \"&Sheet1!F55))","v":""},{"$f":"IF(Sheet1!H55=\"\",\"\",IF(Sheet1!H55=\"女\",2,1))","v":""},{"$f":"IF(Sheet1!I55=\"\",\"\",VLOOKUP(Sheet1!I55,Sheet2!$F$2:$G$50,2,FALSE))","v":""},{"$f":"IF(B45=\"\",\"\",IF(Sheet1!$D$4=\"\",Sheet1!$D$5,VALUE(Sheet1!$D$4)))","v":""},{"$f":"IF(Sheet1!B55=\"\",\"\",VALUE(Sheet1!B55))","v":""},{"$f":"IF(Sheet1!J55=\"\",\"\",IF(VLOOKUP(Sheet1!J55,Sheet2!$A$2:$C$44,3,FALSE)>=71,VLOOKUP(Sheet1!J55,Sheet2!$A$2:$C$44,2,FALSE)&TEXT(Sheet1!L55,\"00\")&TEXT(Sheet1!M55,\"00\"),VLOOKUP(Sheet1!J55,Sheet2!$A$2:$C$44,2,FALSE)&TEXT(Sheet1!K55,\"00\")&TEXT(Sheet1!L55,\"00\")&IF(Sheet1!N55=\"手\",TEXT(Sheet1!M55,\"0\"),TEXT(Sheet1!M55,\"00\"))))","v":""},{"$f":"IF(Sheet1!O55=\"\",\"\",IF(VLOOKUP(Sheet1!O55,Sheet2!$A$2:$C$44,3,FALSE)>=71,VLOOKUP(Sheet1!O55,Sheet2!$A$2:$C$44,2,FALSE)&TEXT(Sheet1!Q55,\"00\")&TEXT(Sheet1!R55,\"00\"),VLOOKUP(Sheet1!O55,Sheet2!$A$2:$C$44,2,FALSE)&TEXT(Sheet1!P55,\"00\")&TEXT(Sheet1!Q55,\"00\")&IF(Sheet1!S55=\"手\",TEXT(Sheet1!R55,\"0\"),TEXT(Sheet1!R55,\"00\"))))","v":""},{"$f":"IF(Sheet1!T55=\"\",\"\",IF(VLOOKUP(Sheet1!T55,Sheet2!$A$2:$C$44,3,FALSE)>=71,VLOOKUP(Sheet1!T55,Sheet2!$A$2:$C$44,2,FALSE)&TEXT(Sheet1!V55,\"00\")&TEXT(Sheet1!W55,\"00\"),VLOOKUP(Sheet1!T55,Sheet2!$A$2:$C$44,2,FALSE)&TEXT(Sheet1!U55,\"00\")&TEXT(Sheet1!V55,\"00\")&IF(Sheet1!X55=\"手\",TEXT(Sheet1!W55,\"0\"),TEXT(Sheet1!W55,\"00\"))))","v":""}]
["",{"$f":"ASC(IF(Sheet1!C56=\"\",\"\",IF(LEN(Sheet1!C56)+LEN(Sheet1!D56)=2,Sheet1!C56&\"      \"&Sheet1!D56&\"(\"&Sheet1!G56&\")\",IF(LEN(Sheet1!C56)+LEN(Sheet1!D56)=3,Sheet1!C56&\"    \"&Sheet1!D56&\"(\"&Sheet1!G56&\")\",IF(LEN(Sheet1!C56)+LEN(Sheet1!D56)=4,Sheet1!C56&\"  \"&Sheet1!D56&\"(\"&Sheet1!G56&\")\",IF(LEN(Sheet1!C56)+LEN(Sheet1!D56)>=5,Sheet1!C56&Sheet1!D56&\"(\"&Sheet1!G56&\")\",\"\"))))))","v":""},{"$f":"ASC(IF(Sheet1!E56=\"\",\"\",Sheet1!E56&\" \"&Sheet1!F56))","v":""},{"$f":"IF(Sheet1!H56=\"\",\"\",IF(Sheet1!H56=\"女\",2,1))","v":""},{"$f":"IF(Sheet1!I56=\"\",\"\",VLOOKUP(Sheet1!I56,Sheet2!$F$2:$G$50,2,FALSE))","v":""},{"$f":"IF(B46=\"\",\"\",IF(Sheet1!$D$4=\"\",Sheet1!$D$5,VALUE(Sheet1!$D$4)))","v":""},{"$f":"IF(Sheet1!B56=\"\",\"\",VALUE(Sheet1!B56))","v":""},{"$f":"IF(Sheet1!J56=\"\",\"\",IF(VLOOKUP(Sheet1!J56,Sheet2!$A$2:$C$44,3,FALSE)>=71,VLOOKUP(Sheet1!J56,Sheet2!$A$2:$C$44,2,FALSE)&TEXT(Sheet1!L56,\"00\")&TEXT(Sheet1!M56,\"00\"),VLOOKUP(Sheet1!J56,Sheet2!$A$2:$C$44,2,FALSE)&TEXT(Sheet1!K56,\"00\")&TEXT(Sheet1!L56,\"00\")&IF(Sheet1!N56=\"手\",TEXT(Sheet1!M56,\"0\"),TEXT(Sheet1!M56,\"00\"))))","v":""},{"$f":"IF(Sheet1!O56=\"\",\"\",IF(VLOOKUP(Sheet1!O56,Sheet2!$A$2:$C$44,3,FALSE)>=71,VLOOKUP(Sheet1!O56,Sheet2!$A$2:$C$44,2,FALSE)&TEXT(Sheet1!Q56,\"00\")&TEXT(Sheet1!R56,\"00\"),VLOOKUP(Sheet1!O56,Sheet2!$A$2:$C$44,2,FALSE)&TEXT(Sheet1!P56,\"00\")&TEXT(Sheet1!Q56,\"00\")&IF(Sheet1!S56=\"手\",TEXT(Sheet1!R56,\"0\"),TEXT(Sheet1!R56,\"00\"))))","v":""},{"$f":"IF(Sheet1!T56=\"\",\"\",IF(VLOOKUP(Sheet1!T56,Sheet2!$A$2:$C$44,3,FALSE)>=71,VLOOKUP(Sheet1!T56,Sheet2!$A$2:$C$44,2,FALSE)&TEXT(Sheet1!V56,\"00\")&TEXT(Sheet1!W56,\"00\"),VLOOKUP(Sheet1!T56,Sheet2!$A$2:$C$44,2,FALSE)&TEXT(Sheet1!U56,\"00\")&TEXT(Sheet1!V56,\"00\")&IF(Sheet1!X56=\"手\",TEXT(Sheet1!W56,\"0\"),TEXT(Sheet1!W56,\"00\"))))","v":""}]
["",{"$f":"ASC(IF(Sheet1!C57=\"\",\"\",IF(LEN(Sheet1!C57)+LEN(Sheet1!D57)=2,Sheet1!C57&\"      \"&Sheet1!D57&\"(\"&Sheet1!G57&\")\",IF(LEN(Sheet1!C57)+LEN(Sheet1!D57)=3,Sheet1!C57&\"    \"&Sheet1!D57&\"(\"&Sheet1!G57&\")\",IF(LEN(Sheet1!C57)+LEN(Sheet1!D57)=4,Sheet1!C57&\"  \"&Sheet1!D57&\"(\"&Sheet1!G57&\")\",IF(LEN(Sheet1!C57)+LEN(Sheet1!D57)>=5,Sheet1!C57&Sheet1!D57&\"(\"&Sheet1!G57&\")\",\"\"))))))","v":""},{"$f":"ASC(IF(Sheet1!E57=\"\",\"\",Sheet1!E57&\" \"&Sheet1!F57))","v":""},{"$f":"IF(Sheet1!H57=\"\",\"\",IF(Sheet1!H57=\"女\",2,1))","v":""},{"$f":"IF(Sheet1!I57=\"\",\"\",VLOOKUP(Sheet1!I57,Sheet2!$F$2:$G$50,2,FALSE))","v":""},{"$f":"IF(B47=\"\",\"\",IF(Sheet1!$D$4=\"\",Sheet1!$D$5,VALUE(Sheet1!$D$4)))","v":""},{"$f":"IF(Sheet1!B57=\"\",\"\",VALUE(Sheet1!B57))","v":""},{"$f":"IF(Sheet1!J57=\"\",\"\",IF(VLOOKUP(Sheet1!J57,Sheet2!$A$2:$C$44,3,FALSE)>=71,VLOOKUP(Sheet1!J57,Sheet2!$A$2:$C$44,2,FALSE)&TEXT(Sheet1!L57,\"00\")&TEXT(Sheet1!M57,\"00\"),VLOOKUP(Sheet1!J57,Sheet2!$A$2:$C$44,2,FALSE)&TEXT(Sheet1!K57,\"00\")&TEXT(Sheet1!L57,\"00\")&IF(Sheet1!N57=\"手\",TEXT(Sheet1!M57,\"0\"),TEXT(Sheet1!M57,\"00\"))))","v":""},{"$f":"IF(Sheet1!O57=\"\",\"\",IF(VLOOKUP(Sheet1!O57,Sheet2!$A$2:$C$44,3,FALSE)>=71,VLOOKUP(Sheet1!O57,Sheet2!$A$2:$C$44,2,FALSE)&TEXT(Sheet1!Q57,\"00\")&TEXT(Sheet1!R57,\"00\"),VLOOKUP(Sheet1!O57,Sheet2!$A$2:$C$44,2,FALSE)&TEXT(Sheet1!P57,\"00\")&TEXT(Sheet1!Q57,\"00\")&IF(Sheet1!S57=\"手\",TEXT(Sheet1!R57,\"0\"),TEXT(Sheet1!R57,\"00\"))))","v":""},{"$f":"IF(Sheet1!T57=\"\",\"\",IF(VLOOKUP(Sheet1!T57,Sheet2!$A$2:$C$44,3,FALSE)>=71,VLOOKUP(Sheet1!T57,Sheet2!$A$2:$C$44,2,FALSE)&TEXT(Sheet1!V57,\"00\")&TEXT(Sheet1!W57,\"00\"),VLOOKUP(Sheet1!T57,Sheet2!$A$2:$C$44,2,FALSE)&TEXT(Sheet1!U57,\"00\")&TEXT(Sheet1!V57,\"00\")&IF(Sheet1!X57=\"手\",TEXT(Sheet1!W57,\"0\"),TEXT(Sheet1!W57,\"00\"))))","v":""}]
["",{"$f":"ASC(IF(Sheet1!C58=\"\",\"\",IF(LEN(Sheet1!C58)+LEN(Sheet1!D58)=2,Sheet1!C58&\"      \"&Sheet1!D58&\"(\"&Sheet1!G58&\")\",IF(LEN(Sheet1!C58)+LEN(Sheet1!D58)=3,Sheet1!C58&\"    \"&Sheet1!D58&\"(\"&Sheet1!G58&\")\",IF(LEN(Sheet1!C58)+LEN(Sheet1!D58)=4,Sheet1!C58&\"  \"&Sheet1!D58&\"(\"&Sheet1!G58&\")\",IF(LEN(Sheet1!C58)+LEN(Sheet1!D58)>=5,Sheet1!C58&Sheet1!D58&\"(\"&Sheet1!G58&\")\",\"\"))))))","v":""},{"$f":"ASC(IF(Sheet1!E58=\"\",\"\",Sheet1!E58&\" \"&Sheet1!F58))","v":""},{"$f":"IF(Sheet1!H58=\"\",\"\",IF(Sheet1!H58=\"女\",2,1))","v":""},{"$f":"IF(Sheet1!I58=\"\",\"\",VLOOKUP(Sheet1!I58,Sheet2!$F$2:$G$50,2,FALSE))","v":""},{"$f":"IF(B48=\"\",\"\",IF(Sheet1!$D$4=\"\",Sheet1!$D$5,VALUE(Sheet1!$D$4)))","v":""},{"$f":"IF(Sheet1!B58=\"\",\"\",VALUE(Sheet1!B58))","v":""},{"$f":"IF(Sheet1!J58=\"\",\"\",IF(VLOOKUP(Sheet1!J58,Sheet2!$A$2:$C$44,3,FALSE)>=71,VLOOKUP(Sheet1!J58,Sheet2!$A$2:$C$44,2,FALSE)&TEXT(Sheet1!L58,\"00\")&TEXT(Sheet1!M58,\"00\"),VLOOKUP(Sheet1!J58,Sheet2!$A$2:$C$44,2,FALSE)&TEXT(Sheet1!K58,\"00\")&TEXT(Sheet1!L58,\"00\")&IF(Sheet1!N58=\"手\",TEXT(Sheet1!M58,\"0\"),TEXT(Sheet1!M58,\"00\"))))","v":""},{"$f":"IF(Sheet1!O58=\"\",\"\",IF(VLOOKUP(Sheet1!O58,Sheet2!$A$2:$C$44,3,FALSE)>=71,VLOOKUP(Sheet1!O58,Sheet2!$A$2:$C$44,2,FALSE)&TEXT(Sheet1!Q58,\"00\")&TEXT(Sheet1!R58,\"00\"),VLOOKUP(Sheet1!O58,Sheet2!$A$2:$C$44,2,FALSE)&TEXT(Sheet1!P58,\"00\")&TEXT(Sheet1!Q58,\"00\")&IF(Sheet1!S58=\"手\",TEXT(Sheet1!R58,\"0\"),TEXT(Sheet1!R58,\"00\"))))","v":""},{"$f":"IF(Sheet1!T58=\"\",\"\",IF(VLOOKUP(Sheet1!T58,Sheet2!$A$2:$C$44,3,FALSE)>=71,VLOOKUP(Sheet1!T58,Sheet2!$A$2:$C$44,2,FALSE)&TEXT(Sheet1!V58,\"00\")&TEXT(Sheet1!W58,\"00\"),VLOOKUP(Sheet1!T58,Sheet2!$A$2:$C$44,2,FALSE)&TEXT(Sheet1!U58,\"00\")&TEXT(Sheet1!V58,\"00\")&IF(Sheet1!X58=\"手\",TEXT(Sheet1!W58,\"0\"),TEXT(Sheet1!W58,\"00\"))))","v":""}]
["",{"$f":"ASC(IF(Sheet1!C59=\"\",\"\",IF(LEN(Sheet1!C59)+LEN(Sheet1!D59)=2,Sheet1!C59&\"      \"&Sheet1!D59&\"(\"&Sheet1!G59&\")\",IF(LEN(Sheet1!C59)+LEN(Sheet1!D59)=3,Sheet1!C59&\"    \"&Sheet1!D59&\"(\"&Sheet1!G59&\")\",IF(LEN(Sheet1!C59)+LEN(Sheet1!D59)=4,Sheet1!C59&\"  \"&Sheet1!D59&\"(\"&Sheet1!G59&\")\",IF(LEN(Sheet1!C59)+LEN(Sheet1!D59)>=5,Sheet1!C59&Sheet1!D59&\"(\"&Sheet1!G59&\")\",\"\"))))))","v":""},{"$f":"ASC(IF(Sheet1!E59=\"\",\"\",Sheet1!E59&\" \"&Sheet1!F59))","v":""},{"$f":"IF(Sheet1!H59=\"\",\"\",IF(Sheet1!H59=\"女\",2,1))","v":""},{"$f":"IF(Sheet1!I59=\"\",\"\",VLOOKUP(Sheet1!I59,Sheet2!$F$2:$G$50,2,FALSE))","v":""},{"$f":"IF(B49=\"\",\"\",IF(Sheet1!$D$4=\"\",Sheet1!$D$5,VALUE(Sheet1!$D$4)))","v":""},{"$f":"IF(Sheet1!B59=\"\",\"\",VALUE(Sheet1!B59))","v":""},{"$f":"IF(Sheet1!J59=\"\",\"\",IF(VLOOKUP(Sheet1!J59,Sheet2!$A$2:$C$44,3,FALSE)>=71,VLOOKUP(Sheet1!J59,Sheet2!$A$2:$C$44,2,FALSE)&TEXT(Sheet1!L59,\"00\")&TEXT(Sheet1!M59,\"00\"),VLOOKUP(Sheet1!J59,Sheet2!$A$2:$C$44,2,FALSE)&TEXT(Sheet1!K59,\"00\")&TEXT(Sheet1!L59,\"00\")&IF(Sheet1!N59=\"手\",TEXT(Sheet1!M59,\"0\"),TEXT(Sheet1!M59,\"00\"))))","v":""},{"$f":"IF(Sheet1!O59=\"\",\"\",IF(VLOOKUP(Sheet1!O59,Sheet2!$A$2:$C$44,3,FALSE)>=71,VLOOKUP(Sheet1!O59,Sheet2!$A$2:$C$44,2,FALSE)&TEXT(Sheet1!Q59,\"00\")&TEXT(Sheet1!R59,\"00\"),VLOOKUP(Sheet1!O59,Sheet2!$A$2:$C$44,2,FALSE)&TEXT(Sheet1!P59,\"00\")&TEXT(Sheet1!Q59,\"00\")&IF(Sheet1!S59=\"手\",TEXT(Sheet1!R59,\"0\"),TEXT(Sheet1!R59,\"00\"))))","v":""},{"$f":"IF(Sheet1!T59=\"\",\"\",IF(VLOOKUP(Sheet1!T59,Sheet2!$A$2:$C$44,3,FALSE)>=71,VLOOKUP(Sheet1!T59,Sheet2!$A$2:$C$44,2,FALSE)&TEXT(Sheet1!V59,\"00\")&TEXT(Sheet1!W59,\"00\"),VLOOKUP(Sheet1!T59,Sheet2!$A$2:$C$44,2,FALSE)&TEXT(Sheet1!U59,\"00\")&TEXT(Sheet1!V59,\"00\")&IF(Sheet1!X59=\"手\",TEXT(Sheet1!W59,\"0\"),TEXT(Sheet1!W59,\"00\"))))","v":""}]
["",{"$f":"ASC(IF(Sheet1!C60=\"\",\"\",IF(LEN(Sheet1!C60)+LEN(Sheet1!D60)=2,Sheet1!C60&\"      \"&Sheet1!D60&\"(\"&Sheet1!G60&\")\",IF(LEN(Sheet1!C60)+LEN(Sheet1!D60)=3,Sheet1!C60&\"    \"&Sheet1!D60&\"(\"&Sheet1!G60&\")\",IF(LEN(Sheet1!C60)+LEN(Sheet1!D60)=4,Sheet1!C60&\"  \"&Sheet1!D60&\"(\"&Sheet1!G60&\")\",IF(LEN(Sheet1!C60)+LEN(Sheet1!D60)>=5,Sheet1!C60&Sheet1!D60&\"(\"&Sheet1!G60&\")\",\"\"))))))","v":""},{"$f":"ASC(IF(Sheet1!E60=\"\",\"\",Sheet1!E60&\" \"&Sheet1!F60))","v":""},{"$f":"IF(Sheet1!H60=\"\",\"\",IF(Sheet1!H60=\"女\",2,1))","v":""},{"$f":"IF(Sheet1!I60=\"\",\"\",VLOOKUP(Sheet1!I60,Sheet2!$F$2:$G$50,2,FALSE))","v":""},{"$f":"IF(B50=\"\",\"\",IF(Sheet1!$D$4=\"\",Sheet1!$D$5,VALUE(Sheet1!$D$4)))","v":""},{"$f":"IF(Sheet1!B60=\"\",\"\",VALUE(Sheet1!B60))","v":""},{"$f":"IF(Sheet1!J60=\"\",\"\",IF(VLOOKUP(Sheet1!J60,Sheet2!$A$2:$C$44,3,FALSE)>=71,VLOOKUP(Sheet1!J60,Sheet2!$A$2:$C$44,2,FALSE)&TEXT(Sheet1!L60,\"00\")&TEXT(Sheet1!M60,\"00\"),VLOOKUP(Sheet1!J60,Sheet2!$A$2:$C$44,2,FALSE)&TEXT(Sheet1!K60,\"00\")&TEXT(Sheet1!L60,\"00\")&IF(Sheet1!N60=\"手\",TEXT(Sheet1!M60,\"0\"),TEXT(Sheet1!M60,\"00\"))))","v":""},{"$f":"IF(Sheet1!O60=\"\",\"\",IF(VLOOKUP(Sheet1!O60,Sheet2!$A$2:$C$44,3,FALSE)>=71,VLOOKUP(Sheet1!O60,Sheet2!$A$2:$C$44,2,FALSE)&TEXT(Sheet1!Q60,\"00\")&TEXT(Sheet1!R60,\"00\"),VLOOKUP(Sheet1!O60,Sheet2!$A$2:$C$44,2,FALSE)&TEXT(Sheet1!P60,\"00\")&TEXT(Sheet1!Q60,\"00\")&IF(Sheet1!S60=\"手\",TEXT(Sheet1!R60,\"0\"),TEXT(Sheet1!R60,\"00\"))))","v":""},{"$f":"IF(Sheet1!T60=\"\",\"\",IF(VLOOKUP(Sheet1!T60,Sheet2!$A$2:$C$44,3,FALSE)>=71,VLOOKUP(Sheet1!T60,Sheet2!$A$2:$C$44,2,FALSE)&TEXT(Sheet1!V60,\"00\")&TEXT(Sheet1!W60,\"00\"),VLOOKUP(Sheet1!T60,Sheet2!$A$2:$C$44,2,FALSE)&TEXT(Sheet1!U60,\"00\")&TEXT(Sheet1!V60,\"00\")&IF(Sheet1!X60=\"手\",TEXT(Sheet1!W60,\"0\"),TEXT(Sheet1!W60,\"00\"))))","v":""}]
["",{"$f":"ASC(IF(Sheet1!C61=\"\",\"\",IF(LEN(Sheet1!C61)+LEN(Sheet1!D61)=2,Sheet1!C61&\"      \"&Sheet1!D61&\"(\"&Sheet1!G61&\")\",IF(LEN(Sheet1!C61)+LEN(Sheet1!D61)=3,Sheet1!C61&\"    \"&Sheet1!D61&\"(\"&Sheet1!G61&\")\",IF(LEN(Sheet1!C61)+LEN(Sheet1!D61)=4,Sheet1!C61&\"  \"&Sheet1!D61&\"(\"&Sheet1!G61&\")\",IF(LEN(Sheet1!C61)+LEN(Sheet1!D61)>=5,Sheet1!C61&Sheet1!D61&\"(\"&Sheet1!G61&\")\",\"\"))))))","v":""},{"$f":"ASC(IF(Sheet1!E61=\"\",\"\",Sheet1!E61&\" \"&Sheet1!F61))","v":""},{"$f":"IF(Sheet1!H61=\"\",\"\",IF(Sheet1!H61=\"女\",2,1))","v":""},{"$f":"IF(Sheet1!I61=\"\",\"\",VLOOKUP(Sheet1!I61,Sheet2!$F$2:$G$50,2,FALSE))","v":""},{"$f":"IF(B51=\"\",\"\",IF(Sheet1!$D$4=\"\",Sheet1!$D$5,VALUE(Sheet1!$D$4)))","v":""},{"$f":"IF(Sheet1!B61=\"\",\"\",VALUE(Sheet1!B61))","v":""},{"$f":"IF(Sheet1!J61=\"\",\"\",IF(VLOOKUP(Sheet1!J61,Sheet2!$A$2:$C$44,3,FALSE)>=71,VLOOKUP(Sheet1!J61,Sheet2!$A$2:$C$44,2,FALSE)&TEXT(Sheet1!L61,\"00\")&TEXT(Sheet1!M61,\"00\"),VLOOKUP(Sheet1!J61,Sheet2!$A$2:$C$44,2,FALSE)&TEXT(Sheet1!K61,\"00\")&TEXT(Sheet1!L61,\"00\")&IF(Sheet1!N61=\"手\",TEXT(Sheet1!M61,\"0\"),TEXT(Sheet1!M61,\"00\"))))","v":""},{"$f":"IF(Sheet1!O61=\"\",\"\",IF(VLOOKUP(Sheet1!O61,Sheet2!$A$2:$C$44,3,FALSE)>=71,VLOOKUP(Sheet1!O61,Sheet2!$A$2:$C$44,2,FALSE)&TEXT(Sheet1!Q61,\"00\")&TEXT(Sheet1!R61,\"00\"),VLOOKUP(Sheet1!O61,Sheet2!$A$2:$C$44,2,FALSE)&TEXT(Sheet1!P61,\"00\")&TEXT(Sheet1!Q61,\"00\")&IF(Sheet1!S61=\"手\",TEXT(Sheet1!R61,\"0\"),TEXT(Sheet1!R61,\"00\"))))","v":""},{"$f":"IF(Sheet1!T61=\"\",\"\",IF(VLOOKUP(Sheet1!T61,Sheet2!$A$2:$C$44,3,FALSE)>=71,VLOOKUP(Sheet1!T61,Sheet2!$A$2:$C$44,2,FALSE)&TEXT(Sheet1!V61,\"00\")&TEXT(Sheet1!W61,\"00\"),VLOOKUP(Sheet1!T61,Sheet2!$A$2:$C$44,2,FALSE)&TEXT(Sheet1!U61,\"00\")&TEXT(Sheet1!V61,\"00\")&IF(Sheet1!X61=\"手\",TEXT(Sheet1!W61,\"0\"),TEXT(Sheet1!W61,\"00\"))))","v":""}]
["",{"$f":"ASC(IF(Sheet1!C62=\"\",\"\",IF(LEN(Sheet1!C62)+LEN(Sheet1!D62)=2,Sheet1!C62&\"      \"&Sheet1!D62&\"(\"&Sheet1!G62&\")\",IF(LEN(Sheet1!C62)+LEN(Sheet1!D62)=3,Sheet1!C62&\"    \"&Sheet1!D62&\"(\"&Sheet1!G62&\")\",IF(LEN(Sheet1!C62)+LEN(Sheet1!D62)=4,Sheet1!C62&\"  \"&Sheet1!D62&\"(\"&Sheet1!G62&\")\",IF(LEN(Sheet1!C62)+LEN(Sheet1!D62)>=5,Sheet1!C62&Sheet1!D62&\"(\"&Sheet1!G62&\")\",\"\"))))))","v":""},{"$f":"ASC(IF(Sheet1!E62=\"\",\"\",Sheet1!E62&\" \"&Sheet1!F62))","v":""},{"$f":"IF(Sheet1!H62=\"\",\"\",IF(Sheet1!H62=\"女\",2,1))","v":""},{"$f":"IF(Sheet1!I62=\"\",\"\",VLOOKUP(Sheet1!I62,Sheet2!$F$2:$G$50,2,FALSE))","v":""},{"$f":"IF(B52=\"\",\"\",IF(Sheet1!$D$4=\"\",Sheet1!$D$5,VALUE(Sheet1!$D$4)))","v":""},{"$f":"IF(Sheet1!B62=\"\",\"\",VALUE(Sheet1!B62))","v":""},{"$f":"IF(Sheet1!J62=\"\",\"\",IF(VLOOKUP(Sheet1!J62,Sheet2!$A$2:$C$44,3,FALSE)>=71,VLOOKUP(Sheet1!J62,Sheet2!$A$2:$C$44,2,FALSE)&TEXT(Sheet1!L62,\"00\")&TEXT(Sheet1!M62,\"00\"),VLOOKUP(Sheet1!J62,Sheet2!$A$2:$C$44,2,FALSE)&TEXT(Sheet1!K62,\"00\")&TEXT(Sheet1!L62,\"00\")&IF(Sheet1!N62=\"手\",TEXT(Sheet1!M62,\"0\"),TEXT(Sheet1!M62,\"00\"))))","v":""},{"$f":"IF(Sheet1!O62=\"\",\"\",IF(VLOOKUP(Sheet1!O62,Sheet2!$A$2:$C$44,3,FALSE)>=71,VLOOKUP(Sheet1!O62,Sheet2!$A$2:$C$44,2,FALSE)&TEXT(Sheet1!Q62,\"00\")&TEXT(Sheet1!R62,\"00\"),VLOOKUP(Sheet1!O62,Sheet2!$A$2:$C$44,2,FALSE)&TEXT(Sheet1!P62,\"00\")&TEXT(Sheet1!Q62,\"00\")&IF(Sheet1!S62=\"手\",TEXT(Sheet1!R62,\"0\"),TEXT(Sheet1!R62,\"00\"))))","v":""},{"$f":"IF(Sheet1!T62=\"\",\"\",IF(VLOOKUP(Sheet1!T62,Sheet2!$A$2:$C$44,3,FALSE)>=71,VLOOKUP(Sheet1!T62,Sheet2!$A$2:$C$44,2,FALSE)&TEXT(Sheet1!V62,\"00\")&TEXT(Sheet1!W62,\"00\"),VLOOKUP(Sheet1!T62,Sheet2!$A$2:$C$44,2,FALSE)&TEXT(Sheet1!U62,\"00\")&TEXT(Sheet1!V62,\"00\")&IF(Sheet1!X62=\"手\",TEXT(Sheet1!W62,\"0\"),TEXT(Sheet1!W62,\"00\"))))","v":""}]
["",{"$f":"ASC(IF(Sheet1!C63=\"\",\"\",IF(LEN(Sheet1!C63)+LEN(Sheet1!D63)=2,Sheet1!C63&\"      \"&Sheet1!D63&\"(\"&Sheet1!G63&\")\",IF(LEN(Sheet1!C63)+LEN(Sheet1!D63)=3,Sheet1!C63&\"    \"&Sheet1!D63&\"(\"&Sheet1!G63&\")\",IF(LEN(Sheet1!C63)+LEN(Sheet1!D63)=4,Sheet1!C63&\"  \"&Sheet1!D63&\"(\"&Sheet1!G63&\")\",IF(LEN(Sheet1!C63)+LEN(Sheet1!D63)>=5,Sheet1!C63&Sheet1!D63&\"(\"&Sheet1!G63&\")\",\"\"))))))","v":""},{"$f":"ASC(IF(Sheet1!E63=\"\",\"\",Sheet1!E63&\" \"&Sheet1!F63))","v":""},{"$f":"IF(Sheet1!H63=\"\",\"\",IF(Sheet1!H63=\"女\",2,1))","v":""},{"$f":"IF(Sheet1!I63=\"\",\"\",VLOOKUP(Sheet1!I63,Sheet2!$F$2:$G$50,2,FALSE))","v":""},{"$f":"IF(B53=\"\",\"\",IF(Sheet1!$D$4=\"\",Sheet1!$D$5,VALUE(Sheet1!$D$4)))","v":""},{"$f":"IF(Sheet1!B63=\"\",\"\",VALUE(Sheet1!B63))","v":""},{"$f":"IF(Sheet1!J63=\"\",\"\",IF(VLOOKUP(Sheet1!J63,Sheet2!$A$2:$C$44,3,FALSE)>=71,VLOOKUP(Sheet1!J63,Sheet2!$A$2:$C$44,2,FALSE)&TEXT(Sheet1!L63,\"00\")&TEXT(Sheet1!M63,\"00\"),VLOOKUP(Sheet1!J63,Sheet2!$A$2:$C$44,2,FALSE)&TEXT(Sheet1!K63,\"00\")&TEXT(Sheet1!L63,\"00\")&IF(Sheet1!N63=\"手\",TEXT(Sheet1!M63,\"0\"),TEXT(Sheet1!M63,\"00\"))))","v":""},{"$f":"IF(Sheet1!O63=\"\",\"\",IF(VLOOKUP(Sheet1!O63,Sheet2!$A$2:$C$44,3,FALSE)>=71,VLOOKUP(Sheet1!O63,Sheet2!$A$2:$C$44,2,FALSE)&TEXT(Sheet1!Q63,\"00\")&TEXT(Sheet1!R63,\"00\"),VLOOKUP(Sheet1!O63,Sheet2!$A$2:$C$44,2,FALSE)&TEXT(Sheet1!P63,\"00\")&TEXT(Sheet1!Q63,\"00\")&IF(Sheet1!S63=\"手\",TEXT(Sheet1!R63,\"0\"),TEXT(Sheet1!R63,\"00\"))))","v":""},{"$f":"IF(Sheet1!T63=\"\",\"\",IF(VLOOKUP(Sheet1!T63,Sheet2!$A$2:$C$44,3,FALSE)>=71,VLOOKUP(Sheet1!T63,Sheet2!$A$2:$C$44,2,FALSE)&TEXT(Sheet1!V63,\"00\")&TEXT(Sheet1!W63,\"00\"),VLOOKUP(Sheet1!T63,Sheet2!$A$2:$C$44,2,FALSE)&TEXT(Sheet1!U63,\"00\")&TEXT(Sheet1!V63,\"00\")&IF(Sheet1!X63=\"手\",TEXT(Sheet1!W63,\"0\"),TEXT(Sheet1!W63,\"00\"))))","v":""}]
["",{"$f":"ASC(IF(Sheet1!C64=\"\",\"\",IF(LEN(Sheet1!C64)+LEN(Sheet1!D64)=2,Sheet1!C64&\"      \"&Sheet1!D64&\"(\"&Sheet1!G64&\")\",IF(LEN(Sheet1!C64)+LEN(Sheet1!D64)=3,Sheet1!C64&\"    \"&Sheet1!D64&\"(\"&Sheet1!G64&\")\",IF(LEN(Sheet1!C64)+LEN(Sheet1!D64)=4,Sheet1!C64&\"  \"&Sheet1!D64&\"(\"&Sheet1!G64&\")\",IF(LEN(Sheet1!C64)+LEN(Sheet1!D64)>=5,Sheet1!C64&Sheet1!D64&\"(\"&Sheet1!G64&\")\",\"\"))))))","v":""},{"$f":"ASC(IF(Sheet1!E64=\"\",\"\",Sheet1!E64&\" \"&Sheet1!F64))","v":""},{"$f":"IF(Sheet1!H64=\"\",\"\",IF(Sheet1!H64=\"女\",2,1))","v":""},{"$f":"IF(Sheet1!I64=\"\",\"\",VLOOKUP(Sheet1!I64,Sheet2!$F$2:$G$50,2,FALSE))","v":""},{"$f":"IF(B54=\"\",\"\",IF(Sheet1!$D$4=\"\",Sheet1!$D$5,VALUE(Sheet1!$D$4)))","v":""},{"$f":"IF(Sheet1!B64=\"\",\"\",VALUE(Sheet1!B64))","v":""},{"$f":"IF(Sheet1!J64=\"\",\"\",IF(VLOOKUP(Sheet1!J64,Sheet2!$A$2:$C$44,3,FALSE)>=71,VLOOKUP(Sheet1!J64,Sheet2!$A$2:$C$44,2,FALSE)&TEXT(Sheet1!L64,\"00\")&TEXT(Sheet1!M64,\"00\"),VLOOKUP(Sheet1!J64,Sheet2!$A$2:$C$44,2,FALSE)&TEXT(Sheet1!K64,\"00\")&TEXT(Sheet1!L64,\"00\")&IF(Sheet1!N64=\"手\",TEXT(Sheet1!M64,\"0\"),TEXT(Sheet1!M64,\"00\"))))","v":""},{"$f":"IF(Sheet1!O64=\"\",\"\",IF(VLOOKUP(Sheet1!O64,Sheet2!$A$2:$C$44,3,FALSE)>=71,VLOOKUP(Sheet1!O64,Sheet2!$A$2:$C$44,2,FALSE)&TEXT(Sheet1!Q64,\"00\")&TEXT(Sheet1!R64,\"00\"),VLOOKUP(Sheet1!O64,Sheet2!$A$2:$C$44,2,FALSE)&TEXT(Sheet1!P64,\"00\")&TEXT(Sheet1!Q64,\"00\")&IF(Sheet1!S64=\"手\",TEXT(Sheet1!R64,\"0\"),TEXT(Sheet1!R64,\"00\"))))","v":""},{"$f":"IF(Sheet1!T64=\"\",\"\",IF(VLOOKUP(Sheet1!T64,Sheet2!$A$2:$C$44,3,FALSE)>=71,VLOOKUP(Sheet1!T64,Sheet2!$A$2:$C$44,2,FALSE)&TEXT(Sheet1!V64,\"00\")&TEXT(Sheet1!W64,\"00\"),VLOOKUP(Sheet1!T64,Sheet2!$A$2:$C$44,2,FALSE)&TEXT(Sheet1!U64,\"00\")&TEXT(Sheet1!V64,\"00\")&IF(Sheet1!X64=\"手\",TEXT(Sheet1!W64,\"0\"),TEXT(Sheet1!W64,\"00\"))))","v":""}]
["",{"$f":"ASC(IF(Sheet1!C65=\"\",\"\",IF(LEN(Sheet1!C65)+LEN(Sheet1!D65)=2,Sheet1!C65&\"      \"&Sheet1!D65&\"(\"&Sheet1!G65&\")\",IF(LEN(Sheet1!C65)+LEN(Sheet1!D65)=3,Sheet1!C65&\"    \"&Sheet1!D65&\"(\"&Sheet1!G65&\")\",IF(LEN(Sheet1!C65)+LEN(Sheet1!D65)=4,Sheet1!C65&\"  \"&Sheet1!D65&\"(\"&Sheet1!G65&\")\",IF(LEN(Sheet1!C65)+LEN(Sheet1!D65)>=5,Sheet1!C65&Sheet1!D65&\"(\"&Sheet1!G65&\")\",\"\"))))))","v":""},{"$f":"ASC(IF(Sheet1!E65=\"\",\"\",Sheet1!E65&\" \"&Sheet1!F65))","v":""},{"$f":"IF(Sheet1!H65=\"\",\"\",IF(Sheet1!H65=\"女\",2,1))","v":""},{"$f":"IF(Sheet1!I65=\"\",\"\",VLOOKUP(Sheet1!I65,Sheet2!$F$2:$G$50,2,FALSE))","v":""},{"$f":"IF(B55=\"\",\"\",IF(Sheet1!$D$4=\"\",Sheet1!$D$5,VALUE(Sheet1!$D$4)))","v":""},{"$f":"IF(Sheet1!B65=\"\",\"\",VALUE(Sheet1!B65))","v":""},{"$f":"IF(Sheet1!J65=\"\",\"\",IF(VLOOKUP(Sheet1!J65,Sheet2!$A$2:$C$44,3,FALSE)>=71,VLOOKUP(Sheet1!J65,Sheet2!$A$2:$C$44,2,FALSE)&TEXT(Sheet1!L65,\"00\")&TEXT(Sheet1!M65,\"00\"),VLOOKUP(Sheet1!J65,Sheet2!$A$2:$C$44,2,FALSE)&TEXT(Sheet1!K65,\"00\")&TEXT(Sheet1!L65,\"00\")&IF(Sheet1!N65=\"手\",TEXT(Sheet1!M65,\"0\"),TEXT(Sheet1!M65,\"00\"))))","v":""},{"$f":"IF(Sheet1!O65=\"\",\"\",IF(VLOOKUP(Sheet1!O65,Sheet2!$A$2:$C$44,3,FALSE)>=71,VLOOKUP(Sheet1!O65,Sheet2!$A$2:$C$44,2,FALSE)&TEXT(Sheet1!Q65,\"00\")&TEXT(Sheet1!R65,\"00\"),VLOOKUP(Sheet1!O65,Sheet2!$A$2:$C$44,2,FALSE)&TEXT(Sheet1!P65,\"00\")&TEXT(Sheet1!Q65,\"00\")&IF(Sheet1!S65=\"手\",TEXT(Sheet1!R65,\"0\"),TEXT(Sheet1!R65,\"00\"))))","v":""},{"$f":"IF(Sheet1!T65=\"\",\"\",IF(VLOOKUP(Sheet1!T65,Sheet2!$A$2:$C$44,3,FALSE)>=71,VLOOKUP(Sheet1!T65,Sheet2!$A$2:$C$44,2,FALSE)&TEXT(Sheet1!V65,\"00\")&TEXT(Sheet1!W65,\"00\"),VLOOKUP(Sheet1!T65,Sheet2!$A$2:$C$44,2,FALSE)&TEXT(Sheet1!U65,\"00\")&TEXT(Sheet1!V65,\"00\")&IF(Sheet1!X65=\"手\",TEXT(Sheet1!W65,\"0\"),TEXT(Sheet1!W65,\"00\"))))","v":""}]
["",{"$f":"ASC(IF(Sheet1!C66=\"\",\"\",IF(LEN(Sheet1!C66)+LEN(Sheet1!D66)=2,Sheet1!C66&\"      \"&Sheet1!D66&\"(\"&Sheet1!G66&\")\",IF(LEN(Sheet1!C66)+LEN(Sheet1!D66)=3,Sheet1!C66&\"    \"&Sheet1!D66&\"(\"&Sheet1!G66&\")\",IF(LEN(Sheet1!C66)+LEN(Sheet1!D66)=4,Sheet1!C66&\"  \"&Sheet1!D66&\"(\"&Sheet1!G66&\")\",IF(LEN(Sheet1!C66)+LEN(Sheet1!D66)>=5,Sheet1!C66&Sheet1!D66&\"(\"&Sheet1!G66&\")\",\"\"))))))","v":""},{"$f":"ASC(IF(Sheet1!E66=\"\",\"\",Sheet1!E66&\" \"&Sheet1!F66))","v":""},{"$f":"IF(Sheet1!H66=\"\",\"\",IF(Sheet1!H66=\"女\",2,1))","v":""},{"$f":"IF(Sheet1!I66=\"\",\"\",VLOOKUP(Sheet1!I66,Sheet2!$F$2:$G$50,2,FALSE))","v":""},{"$f":"IF(B56=\"\",\"\",IF(Sheet1!$D$4=\"\",Sheet1!$D$5,VALUE(Sheet1!$D$4)))","v":""},{"$f":"IF(Sheet1!B66=\"\",\"\",VALUE(Sheet1!B66))","v":""},{"$f":"IF(Sheet1!J66=\"\",\"\",IF(VLOOKUP(Sheet1!J66,Sheet2!$A$2:$C$44,3,FALSE)>=71,VLOOKUP(Sheet1!J66,Sheet2!$A$2:$C$44,2,FALSE)&TEXT(Sheet1!L66,\"00\")&TEXT(Sheet1!M66,\"00\"),VLOOKUP(Sheet1!J66,Sheet2!$A$2:$C$44,2,FALSE)&TEXT(Sheet1!K66,\"00\")&TEXT(Sheet1!L66,\"00\")&IF(Sheet1!N66=\"手\",TEXT(Sheet1!M66,\"0\"),TEXT(Sheet1!M66,\"00\"))))","v":""},{"$f":"IF(Sheet1!O66=\"\",\"\",IF(VLOOKUP(Sheet1!O66,Sheet2!$A$2:$C$44,3,FALSE)>=71,VLOOKUP(Sheet1!O66,Sheet2!$A$2:$C$44,2,FALSE)&TEXT(Sheet1!Q66,\"00\")&TEXT(Sheet1!R66,\"00\"),VLOOKUP(Sheet1!O66,Sheet2!$A$2:$C$44,2,FALSE)&TEXT(Sheet1!P66,\"00\")&TEXT(Sheet1!Q66,\"00\")&IF(Sheet1!S66=\"手\",TEXT(Sheet1!R66,\"0\"),TEXT(Sheet1!R66,\"00\"))))","v":""},{"$f":"IF(Sheet1!T66=\"\",\"\",IF(VLOOKUP(Sheet1!T66,Sheet2!$A$2:$C$44,3,FALSE)>=71,VLOOKUP(Sheet1!T66,Sheet2!$A$2:$C$44,2,FALSE)&TEXT(Sheet1!V66,\"00\")&TEXT(Sheet1!W66,\"00\"),VLOOKUP(Sheet1!T66,Sheet2!$A$2:$C$44,2,FALSE)&TEXT(Sheet1!U66,\"00\")&TEXT(Sheet1!V66,\"00\")&IF(Sheet1!X66=\"手\",TEXT(Sheet1!W66,\"0\"),TEXT(Sheet1!W66,\"00\"))))","v":""}]
["",{"$f":"ASC(IF(Sheet1!C67=\"\",\"\",IF(LEN(Sheet1!C67)+LEN(Sheet1!D67)=2,Sheet1!C67&\"      \"&Sheet1!D67&\"(\"&Sheet1!G67&\")\",IF(LEN(Sheet1!C67)+LEN(Sheet1!D67)=3,Sheet1!C67&\"    \"&Sheet1!D67&\"(\"&Sheet1!G67&\")\",IF(LEN(Sheet1!C67)+LEN(Sheet1!D67)=4,Sheet1!C67&\"  \"&Sheet1!D67&\"(\"&Sheet1!G67&\")\",IF(LEN(Sheet1!C67)+LEN(Sheet1!D67)>=5,Sheet1!C67&Sheet1!D67&\"(\"&Sheet1!G67&\")\",\"\"))))))","v":""},{"$f":"ASC(IF(Sheet1!E67=\"\",\"\",Sheet1!E67&\" \"&Sheet1!F67))","v":""},{"$f":"IF(Sheet1!H67=\"\",\"\",IF(Sheet1!H67=\"女\",2,1))","v":""},{"$f":"IF(Sheet1!I67=\"\",\"\",VLOOKUP(Sheet1!I67,Sheet2!$F$2:$G$50,2,FALSE))","v":""},{"$f":"IF(B57=\"\",\"\",IF(Sheet1!$D$4=\"\",Sheet1!$D$5,VALUE(Sheet1!$D$4)))","v":""},{"$f":"IF(Sheet1!B67=\"\",\"\",VALUE(Sheet1!B67))","v":""},{"$f":"IF(Sheet1!J67=\"\",\"\",IF(VLOOKUP(Sheet1!J67,Sheet2!$A$2:$C$44,3,FALSE)>=71,VLOOKUP(Sheet1!J67,Sheet2!$A$2:$C$44,2,FALSE)&TEXT(Sheet1!L67,\"00\")&TEXT(Sheet1!M67,\"00\"),VLOOKUP(Sheet1!J67,Sheet2!$A$2:$C$44,2,FALSE)&TEXT(Sheet1!K67,\"00\")&TEXT(Sheet1!L67,\"00\")&IF(Sheet1!N67=\"手\",TEXT(Sheet1!M67,\"0\"),TEXT(Sheet1!M67,\"00\"))))","v":""},{"$f":"IF(Sheet1!O67=\"\",\"\",IF(VLOOKUP(Sheet1!O67,Sheet2!$A$2:$C$44,3,FALSE)>=71,VLOOKUP(Sheet1!O67,Sheet2!$A$2:$C$44,2,FALSE)&TEXT(Sheet1!Q67,\"00\")&TEXT(Sheet1!R67,\"00\"),VLOOKUP(Sheet1!O67,Sheet2!$A$2:$C$44,2,FALSE)&TEXT(Sheet1!P67,\"00\")&TEXT(Sheet1!Q67,\"00\")&IF(Sheet1!S67=\"手\",TEXT(Sheet1!R67,\"0\"),TEXT(Sheet1!R67,\"00\"))))","v":""},{"$f":"IF(Sheet1!T67=\"\",\"\",IF(VLOOKUP(Sheet1!T67,Sheet2!$A$2:$C$44,3,FALSE)>=71,VLOOKUP(Sheet1!T67,Sheet2!$A$2:$C$44,2,FALSE)&TEXT(Sheet1!V67,\"00\")&TEXT(Sheet1!W67,\"00\"),VLOOKUP(Sheet1!T67,Sheet2!$A$2:$C$44,2,FALSE)&TEXT(Sheet1!U67,\"00\")&TEXT(Sheet1!V67,\"00\")&IF(Sheet1!X67=\"手\",TEXT(Sheet1!W67,\"0\"),TEXT(Sheet1!W67,\"00\"))))","v":""}]
["",{"$f":"ASC(IF(Sheet1!C68=\"\",\"\",IF(LEN(Sheet1!C68)+LEN(Sheet1!D68)=2,Sheet1!C68&\"      \"&Sheet1!D68&\"(\"&Sheet1!G68&\")\",IF(LEN(Sheet1!C68)+LEN(Sheet1!D68)=3,Sheet1!C68&\"    \"&Sheet1!D68&\"(\"&Sheet1!G68&\")\",IF(LEN(Sheet1!C68)+LEN(Sheet1!D68)=4,Sheet1!C68&\"  \"&Sheet1!D68&\"(\"&Sheet1!G68&\")\",IF(LEN(Sheet1!C68)+LEN(Sheet1!D68)>=5,Sheet1!C68&Sheet1!D68&\"(\"&Sheet1!G68&\")\",\"\"))))))","v":""},{"$f":"ASC(IF(Sheet1!E68=\"\",\"\",Sheet1!E68&\" \"&Sheet1!F68))","v":""},{"$f":"IF(Sheet1!H68=\"\",\"\",IF(Sheet1!H68=\"女\",2,1))","v":""},{"$f":"IF(Sheet1!I68=\"\",\"\",VLOOKUP(Sheet1!I68,Sheet2!$F$2:$G$50,2,FALSE))","v":""},{"$f":"IF(B58=\"\",\"\",IF(Sheet1!$D$4=\"\",Sheet1!$D$5,VALUE(Sheet1!$D$4)))","v":""},{"$f":"IF(Sheet1!B68=\"\",\"\",VALUE(Sheet1!B68))","v":""},{"$f":"IF(Sheet1!J68=\"\",\"\",IF(VLOOKUP(Sheet1!J68,Sheet2!$A$2:$C$44,3,FALSE)>=71,VLOOKUP(Sheet1!J68,Sheet2!$A$2:$C$44,2,FALSE)&TEXT(Sheet1!L68,\"00\")&TEXT(Sheet1!M68,\"00\"),VLOOKUP(Sheet1!J68,Sheet2!$A$2:$C$44,2,FALSE)&TEXT(Sheet1!K68,\"00\")&TEXT(Sheet1!L68,\"00\")&IF(Sheet1!N68=\"手\",TEXT(Sheet1!M68,\"0\"),TEXT(Sheet1!M68,\"00\"))))","v":""},{"$f":"IF(Sheet1!O68=\"\",\"\",IF(VLOOKUP(Sheet1!O68,Sheet2!$A$2:$C$44,3,FALSE)>=71,VLOOKUP(Sheet1!O68,Sheet2!$A$2:$C$44,2,FALSE)&TEXT(Sheet1!Q68,\"00\")&TEXT(Sheet1!R68,\"00\"),VLOOKUP(Sheet1!O68,Sheet2!$A$2:$C$44,2,FALSE)&TEXT(Sheet1!P68,\"00\")&TEXT(Sheet1!Q68,\"00\")&IF(Sheet1!S68=\"手\",TEXT(Sheet1!R68,\"0\"),TEXT(Sheet1!R68,\"00\"))))","v":""},{"$f":"IF(Sheet1!T68=\"\",\"\",IF(VLOOKUP(Sheet1!T68,Sheet2!$A$2:$C$44,3,FALSE)>=71,VLOOKUP(Sheet1!T68,Sheet2!$A$2:$C$44,2,FALSE)&TEXT(Sheet1!V68,\"00\")&TEXT(Sheet1!W68,\"00\"),VLOOKUP(Sheet1!T68,Sheet2!$A$2:$C$44,2,FALSE)&TEXT(Sheet1!U68,\"00\")&TEXT(Sheet1!V68,\"00\")&IF(Sheet1!X68=\"手\",TEXT(Sheet1!W68,\"0\"),TEXT(Sheet1!W68,\"00\"))))","v":""}]
["",{"$f":"ASC(IF(Sheet1!C69=\"\",\"\",IF(LEN(Sheet1!C69)+LEN(Sheet1!D69)=2,Sheet1!C69&\"      \"&Sheet1!D69&\"(\"&Sheet1!G69&\")\",IF(LEN(Sheet1!C69)+LEN(Sheet1!D69)=3,Sheet1!C69&\"    \"&Sheet1!D69&\"(\"&Sheet1!G69&\")\",IF(LEN(Sheet1!C69)+LEN(Sheet1!D69)=4,Sheet1!C69&\"  \"&Sheet1!D69&\"(\"&Sheet1!G69&\")\",IF(LEN(Sheet1!C69)+LEN(Sheet1!D69)>=5,Sheet1!C69&Sheet1!D69&\"(\"&Sheet1!G69&\")\",\"\"))))))","v":""},{"$f":"ASC(IF(Sheet1!E69=\"\",\"\",Sheet1!E69&\" \"&Sheet1!F69))","v":""},{"$f":"IF(Sheet1!H69=\"\",\"\",IF(Sheet1!H69=\"女\",2,1))","v":""},{"$f":"IF(Sheet1!I69=\"\",\"\",VLOOKUP(Sheet1!I69,Sheet2!$F$2:$G$50,2,FALSE))","v":""},{"$f":"IF(B59=\"\",\"\",IF(Sheet1!$D$4=\"\",Sheet1!$D$5,VALUE(Sheet1!$D$4)))","v":""},{"$f":"IF(Sheet1!B69=\"\",\"\",VALUE(Sheet1!B69))","v":""},{"$f":"IF(Sheet1!J69=\"\",\"\",IF(VLOOKUP(Sheet1!J69,Sheet2!$A$2:$C$44,3,FALSE)>=71,VLOOKUP(Sheet1!J69,Sheet2!$A$2:$C$44,2,FALSE)&TEXT(Sheet1!L69,\"00\")&TEXT(Sheet1!M69,\"00\"),VLOOKUP(Sheet1!J69,Sheet2!$A$2:$C$44,2,FALSE)&TEXT(Sheet1!K69,\"00\")&TEXT(Sheet1!L69,\"00\")&IF(Sheet1!N69=\"手\",TEXT(Sheet1!M69,\"0\"),TEXT(Sheet1!M69,\"00\"))))","v":""},{"$f":"IF(Sheet1!O69=\"\",\"\",IF(VLOOKUP(Sheet1!O69,Sheet2!$A$2:$C$44,3,FALSE)>=71,VLOOKUP(Sheet1!O69,Sheet2!$A$2:$C$44,2,FALSE)&TEXT(Sheet1!Q69,\"00\")&TEXT(Sheet1!R69,\"00\"),VLOOKUP(Sheet1!O69,Sheet2!$A$2:$C$44,2,FALSE)&TEXT(Sheet1!P69,\"00\")&TEXT(Sheet1!Q69,\"00\")&IF(Sheet1!S69=\"手\",TEXT(Sheet1!R69,\"0\"),TEXT(Sheet1!R69,\"00\"))))","v":""},{"$f":"IF(Sheet1!T69=\"\",\"\",IF(VLOOKUP(Sheet1!T69,Sheet2!$A$2:$C$44,3,FALSE)>=71,VLOOKUP(Sheet1!T69,Sheet2!$A$2:$C$44,2,FALSE)&TEXT(Sheet1!V69,\"00\")&TEXT(Sheet1!W69,\"00\"),VLOOKUP(Sheet1!T69,Sheet2!$A$2:$C$44,2,FALSE)&TEXT(Sheet1!U69,\"00\")&TEXT(Sheet1!V69,\"00\")&IF(Sheet1!X69=\"手\",TEXT(Sheet1!W69,\"0\"),TEXT(Sheet1!W69,\"00\"))))","v":""}]
["",{"$f":"ASC(IF(Sheet1!C70=\"\",\"\",IF(LEN(Sheet1!C70)+LEN(Sheet1!D70)=2,Sheet1!C70&\"      \"&Sheet1!D70&\"(\"&Sheet1!G70&\")\",IF(LEN(Sheet1!C70)+LEN(Sheet1!D70)=3,Sheet1!C70&\"    \"&Sheet1!D70&\"(\"&Sheet1!G70&\")\",IF(LEN(Sheet1!C70)+LEN(Sheet1!D70)=4,Sheet1!C70&\"  \"&Sheet1!D70&\"(\"&Sheet1!G70&\")\",IF(LEN(Sheet1!C70)+LEN(Sheet1!D70)>=5,Sheet1!C70&Sheet1!D70&\"(\"&Sheet1!G70&\")\",\"\"))))))","v":""},{"$f":"ASC(IF(Sheet1!E70=\"\",\"\",Sheet1!E70&\" \"&Sheet1!F70))","v":""},{"$f":"IF(Sheet1!H70=\"\",\"\",IF(Sheet1!H70=\"女\",2,1))","v":""},{"$f":"IF(Sheet1!I70=\"\",\"\",VLOOKUP(Sheet1!I70,Sheet2!$F$2:$G$50,2,FALSE))","v":""},{"$f":"IF(B60=\"\",\"\",IF(Sheet1!$D$4=\"\",Sheet1!$D$5,VALUE(Sheet1!$D$4)))","v":""},{"$f":"IF(Sheet1!B70=\"\",\"\",VALUE(Sheet1!B70))","v":""},{"$f":"IF(Sheet1!J70=\"\",\"\",IF(VLOOKUP(Sheet1!J70,Sheet2!$A$2:$C$44,3,FALSE)>=71,VLOOKUP(Sheet1!J70,Sheet2!$A$2:$C$44,2,FALSE)&TEXT(Sheet1!L70,\"00\")&TEXT(Sheet1!M70,\"00\"),VLOOKUP(Sheet1!J70,Sheet2!$A$2:$C$44,2,FALSE)&TEXT(Sheet1!K70,\"00\")&TEXT(Sheet1!L70,\"00\")&IF(Sheet1!N70=\"手\",TEXT(Sheet1!M70,\"0\"),TEXT(Sheet1!M70,\"00\"))))","v":""},{"$f":"IF(Sheet1!O70=\"\",\"\",IF(VLOOKUP(Sheet1!O70,Sheet2!$A$2:$C$44,3,FALSE)>=71,VLOOKUP(Sheet1!O70,Sheet2!$A$2:$C$44,2,FALSE)&TEXT(Sheet1!Q70,\"00\")&TEXT(Sheet1!R70,\"00\"),VLOOKUP(Sheet1!O70,Sheet2!$A$2:$C$44,2,FALSE)&TEXT(Sheet1!P70,\"00\")&TEXT(Sheet1!Q70,\"00\")&IF(Sheet1!S70=\"手\",TEXT(Sheet1!R70,\"0\"),TEXT(Sheet1!R70,\"00\"))))","v":""},{"$f":"IF(Sheet1!T70=\"\",\"\",IF(VLOOKUP(Sheet1!T70,Sheet2!$A$2:$C$44,3,FALSE)>=71,VLOOKUP(Sheet1!T70,Sheet2!$A$2:$C$44,2,FALSE)&TEXT(Sheet1!V70,\"00\")&TEXT(Sheet1!W70,\"00\"),VLOOKUP(Sheet1!T70,Sheet2!$A$2:$C$44,2,FALSE)&TEXT(Sheet1!U70,\"00\")&TEXT(Sheet1!V70,\"00\")&IF(Sheet1!X70=\"手\",TEXT(Sheet1!W70,\"0\"),TEXT(Sheet1!W70,\"00\"))))","v":""}]
["",{"$f":"ASC(IF(Sheet1!C71=\"\",\"\",IF(LEN(Sheet1!C71)+LEN(Sheet1!D71)=2,Sheet1!C71&\"      \"&Sheet1!D71&\"(\"&Sheet1!G71&\")\",IF(LEN(Sheet1!C71)+LEN(Sheet1!D71)=3,Sheet1!C71&\"    \"&Sheet1!D71&\"(\"&Sheet1!G71&\")\",IF(LEN(Sheet1!C71)+LEN(Sheet1!D71)=4,Sheet1!C71&\"  \"&Sheet1!D71&\"(\"&Sheet1!G71&\")\",IF(LEN(Sheet1!C71)+LEN(Sheet1!D71)>=5,Sheet1!C71&Sheet1!D71&\"(\"&Sheet1!G71&\")\",\"\"))))))","v":""},{"$f":"ASC(IF(Sheet1!E71=\"\",\"\",Sheet1!E71&\" \"&Sheet1!F71))","v":""},{"$f":"IF(Sheet1!H71=\"\",\"\",IF(Sheet1!H71=\"女\",2,1))","v":""},{"$f":"IF(Sheet1!I71=\"\",\"\",VLOOKUP(Sheet1!I71,Sheet2!$F$2:$G$50,2,FALSE))","v":""},{"$f":"IF(B61=\"\",\"\",IF(Sheet1!$D$4=\"\",Sheet1!$D$5,VALUE(Sheet1!$D$4)))","v":""},{"$f":"IF(Sheet1!B71=\"\",\"\",VALUE(Sheet1!B71))","v":""},{"$f":"IF(Sheet1!J71=\"\",\"\",IF(VLOOKUP(Sheet1!J71,Sheet2!$A$2:$C$44,3,FALSE)>=71,VLOOKUP(Sheet1!J71,Sheet2!$A$2:$C$44,2,FALSE)&TEXT(Sheet1!L71,\"00\")&TEXT(Sheet1!M71,\"00\"),VLOOKUP(Sheet1!J71,Sheet2!$A$2:$C$44,2,FALSE)&TEXT(Sheet1!K71,\"00\")&TEXT(Sheet1!L71,\"00\")&IF(Sheet1!N71=\"手\",TEXT(Sheet1!M71,\"0\"),TEXT(Sheet1!M71,\"00\"))))","v":""},{"$f":"IF(Sheet1!O71=\"\",\"\",IF(VLOOKUP(Sheet1!O71,Sheet2!$A$2:$C$44,3,FALSE)>=71,VLOOKUP(Sheet1!O71,Sheet2!$A$2:$C$44,2,FALSE)&TEXT(Sheet1!Q71,\"00\")&TEXT(Sheet1!R71,\"00\"),VLOOKUP(Sheet1!O71,Sheet2!$A$2:$C$44,2,FALSE)&TEXT(Sheet1!P71,\"00\")&TEXT(Sheet1!Q71,\"00\")&IF(Sheet1!S71=\"手\",TEXT(Sheet1!R71,\"0\"),TEXT(Sheet1!R71,\"00\"))))","v":""},{"$f":"IF(Sheet1!T71=\"\",\"\",IF(VLOOKUP(Sheet1!T71,Sheet2!$A$2:$C$44,3,FALSE)>=71,VLOOKUP(Sheet1!T71,Sheet2!$A$2:$C$44,2,FALSE)&TEXT(Sheet1!V71,\"00\")&TEXT(Sheet1!W71,\"00\"),VLOOKUP(Sheet1!T71,Sheet2!$A$2:$C$44,2,FALSE)&TEXT(Sheet1!U71,\"00\")&TEXT(Sheet1!V71,\"00\")&IF(Sheet1!X71=\"手\",TEXT(Sheet1!W71,\"0\"),TEXT(Sheet1!W71,\"00\"))))","v":""}]
["",{"$f":"ASC(IF(Sheet1!C72=\"\",\"\",IF(LEN(Sheet1!C72)+LEN(Sheet1!D72)=2,Sheet1!C72&\"      \"&Sheet1!D72&\"(\"&Sheet1!G72&\")\",IF(LEN(Sheet1!C72)+LEN(Sheet1!D72)=3,Sheet1!C72&\"    \"&Sheet1!D72&\"(\"&Sheet1!G72&\")\",IF(LEN(Sheet1!C72)+LEN(Sheet1!D72)=4,Sheet1!C72&\"  \"&Sheet1!D72&\"(\"&Sheet1!G72&\")\",IF(LEN(Sheet1!C72)+LEN(Sheet1!D72)>=5,Sheet1!C72&Sheet1!D72&\"(\"&Sheet1!G72&\")\",\"\"))))))","v":""},{"$f":"ASC(IF(Sheet1!E72=\"\",\"\",Sheet1!E72&\" \"&Sheet1!F72))","v":""},{"$f":"IF(Sheet1!H72=\"\",\"\",IF(Sheet1!H72=\"女\",2,1))","v":""},{"$f":"IF(Sheet1!I72=\"\",\"\",VLOOKUP(Sheet1!I72,Sheet2!$F$2:$G$50,2,FALSE))","v":""},{"$f":"IF(B62=\"\",\"\",IF(Sheet1!$D$4=\"\",Sheet1!$D$5,VALUE(Sheet1!$D$4)))","v":""},{"$f":"IF(Sheet1!B72=\"\",\"\",VALUE(Sheet1!B72))","v":""},{"$f":"IF(Sheet1!J72=\"\",\"\",IF(VLOOKUP(Sheet1!J72,Sheet2!$A$2:$C$44,3,FALSE)>=71,VLOOKUP(Sheet1!J72,Sheet2!$A$2:$C$44,2,FALSE)&TEXT(Sheet1!L72,\"00\")&TEXT(Sheet1!M72,\"00\"),VLOOKUP(Sheet1!J72,Sheet2!$A$2:$C$44,2,FALSE)&TEXT(Sheet1!K72,\"00\")&TEXT(Sheet1!L72,\"00\")&IF(Sheet1!N72=\"手\",TEXT(Sheet1!M72,\"0\"),TEXT(Sheet1!M72,\"00\"))))","v":""},{"$f":"IF(Sheet1!O72=\"\",\"\",IF(VLOOKUP(Sheet1!O72,Sheet2!$A$2:$C$44,3,FALSE)>=71,VLOOKUP(Sheet1!O72,Sheet2!$A$2:$C$44,2,FALSE)&TEXT(Sheet1!Q72,\"00\")&TEXT(Sheet1!R72,\"00\"),VLOOKUP(Sheet1!O72,Sheet2!$A$2:$C$44,2,FALSE)&TEXT(Sheet1!P72,\"00\")&TEXT(Sheet1!Q72,\"00\")&IF(Sheet1!S72=\"手\",TEXT(Sheet1!R72,\"0\"),TEXT(Sheet1!R72,\"00\"))))","v":""},{"$f":"IF(Sheet1!T72=\"\",\"\",IF(VLOOKUP(Sheet1!T72,Sheet2!$A$2:$C$44,3,FALSE)>=71,VLOOKUP(Sheet1!T72,Sheet2!$A$2:$C$44,2,FALSE)&TEXT(Sheet1!V72,\"00\")&TEXT(Sheet1!W72,\"00\"),VLOOKUP(Sheet1!T72,Sheet2!$A$2:$C$44,2,FALSE)&TEXT(Sheet1!U72,\"00\")&TEXT(Sheet1!V72,\"00\")&IF(Sheet1!X72=\"手\",TEXT(Sheet1!W72,\"0\"),TEXT(Sheet1!W72,\"00\"))))","v":""}]
["",{"$f":"ASC(IF(Sheet1!C73=\"\",\"\",IF(LEN(Sheet1!C73)+LEN(Sheet1!D73)=2,Sheet1!C73&\"      \"&Sheet1!D73&\"(\"&Sheet1!G73&\")\",IF(LEN(Sheet1!C73)+LEN(Sheet1!D73)=3,Sheet1!C73&\"    \"&Sheet1!D73&\"(\"&Sheet1!G73&\")\",IF(LEN(Sheet1!C73)+LEN(Sheet1!D73)=4,Sheet1!C73&\"  \"&Sheet1!D73&\"(\"&Sheet1!G73&\")\",IF(LEN(Sheet1!C73)+LEN(Sheet1!D73)>=5,Sheet1!C73&Sheet1!D73&\"(\"&Sheet1!G73&\")\",\"\"))))))","v":""},{"$f":"ASC(IF(Sheet1!E73=\"\",\"\",Sheet1!E73&\" \"&Sheet1!F73))","v":""},{"$f":"IF(Sheet1!H73=\"\",\"\",IF(Sheet1!H73=\"女\",2,1))","v":""},{"$f":"IF(Sheet1!I73=\"\",\"\",VLOOKUP(Sheet1!I73,Sheet2!$F$2:$G$50,2,FALSE))","v":""},{"$f":"IF(B63=\"\",\"\",IF(Sheet1!$D$4=\"\",Sheet1!$D$5,VALUE(Sheet1!$D$4)))","v":""},{"$f":"IF(Sheet1!B73=\"\",\"\",VALUE(Sheet1!B73))","v":""},{"$f":"IF(Sheet1!J73=\"\",\"\",IF(VLOOKUP(Sheet1!J73,Sheet2!$A$2:$C$44,3,FALSE)>=71,VLOOKUP(Sheet1!J73,Sheet2!$A$2:$C$44,2,FALSE)&TEXT(Sheet1!L73,\"00\")&TEXT(Sheet1!M73,\"00\"),VLOOKUP(Sheet1!J73,Sheet2!$A$2:$C$44,2,FALSE)&TEXT(Sheet1!K73,\"00\")&TEXT(Sheet1!L73,\"00\")&IF(Sheet1!N73=\"手\",TEXT(Sheet1!M73,\"0\"),TEXT(Sheet1!M73,\"00\"))))","v":""},{"$f":"IF(Sheet1!O73=\"\",\"\",IF(VLOOKUP(Sheet1!O73,Sheet2!$A$2:$C$44,3,FALSE)>=71,VLOOKUP(Sheet1!O73,Sheet2!$A$2:$C$44,2,FALSE)&TEXT(Sheet1!Q73,\"00\")&TEXT(Sheet1!R73,\"00\"),VLOOKUP(Sheet1!O73,Sheet2!$A$2:$C$44,2,FALSE)&TEXT(Sheet1!P73,\"00\")&TEXT(Sheet1!Q73,\"00\")&IF(Sheet1!S73=\"手\",TEXT(Sheet1!R73,\"0\"),TEXT(Sheet1!R73,\"00\"))))","v":""},{"$f":"IF(Sheet1!T73=\"\",\"\",IF(VLOOKUP(Sheet1!T73,Sheet2!$A$2:$C$44,3,FALSE)>=71,VLOOKUP(Sheet1!T73,Sheet2!$A$2:$C$44,2,FALSE)&TEXT(Sheet1!V73,\"00\")&TEXT(Sheet1!W73,\"00\"),VLOOKUP(Sheet1!T73,Sheet2!$A$2:$C$44,2,FALSE)&TEXT(Sheet1!U73,\"00\")&TEXT(Sheet1!V73,\"00\")&IF(Sheet1!X73=\"手\",TEXT(Sheet1!W73,\"0\"),TEXT(Sheet1!W73,\"00\"))))","v":""}]
["",{"$f":"ASC(IF(Sheet1!C74=\"\",\"\",IF(LEN(Sheet1!C74)+LEN(Sheet1!D74)=2,Sheet1!C74&\"      \"&Sheet1!D74&\"(\"&Sheet1!G74&\")\",IF(LEN(Sheet1!C74)+LEN(Sheet1!D74)=3,Sheet1!C74&\"    \"&Sheet1!D74&\"(\"&Sheet1!G74&\")\",IF(LEN(Sheet1!C74)+LEN(Sheet1!D74)=4,Sheet1!C74&\"  \"&Sheet1!D74&\"(\"&Sheet1!G74&\")\",IF(LEN(Sheet1!C74)+LEN(Sheet1!D74)>=5,Sheet1!C74&Sheet1!D74&\"(\"&Sheet1!G74&\")\",\"\"))))))","v":""},{"$f":"ASC(IF(Sheet1!E74=\"\",\"\",Sheet1!E74&\" \"&Sheet1!F74))","v":""},{"$f":"IF(Sheet1!H74=\"\",\"\",IF(Sheet1!H74=\"女\",2,1))","v":""},{"$f":"IF(Sheet1!I74=\"\",\"\",VLOOKUP(Sheet1!I74,Sheet2!$F$2:$G$50,2,FALSE))","v":""},{"$f":"IF(B64=\"\",\"\",IF(Sheet1!$D$4=\"\",Sheet1!$D$5,VALUE(Sheet1!$D$4)))","v":""},{"$f":"IF(Sheet1!B74=\"\",\"\",VALUE(Sheet1!B74))","v":""},{"$f":"IF(Sheet1!J74=\"\",\"\",IF(VLOOKUP(Sheet1!J74,Sheet2!$A$2:$C$44,3,FALSE)>=71,VLOOKUP(Sheet1!J74,Sheet2!$A$2:$C$44,2,FALSE)&TEXT(Sheet1!L74,\"00\")&TEXT(Sheet1!M74,\"00\"),VLOOKUP(Sheet1!J74,Sheet2!$A$2:$C$44,2,FALSE)&TEXT(Sheet1!K74,\"00\")&TEXT(Sheet1!L74,\"00\")&IF(Sheet1!N74=\"手\",TEXT(Sheet1!M74,\"0\"),TEXT(Sheet1!M74,\"00\"))))","v":""},{"$f":"IF(Sheet1!O74=\"\",\"\",IF(VLOOKUP(Sheet1!O74,Sheet2!$A$2:$C$44,3,FALSE)>=71,VLOOKUP(Sheet1!O74,Sheet2!$A$2:$C$44,2,FALSE)&TEXT(Sheet1!Q74,\"00\")&TEXT(Sheet1!R74,\"00\"),VLOOKUP(Sheet1!O74,Sheet2!$A$2:$C$44,2,FALSE)&TEXT(Sheet1!P74,\"00\")&TEXT(Sheet1!Q74,\"00\")&IF(Sheet1!S74=\"手\",TEXT(Sheet1!R74,\"0\"),TEXT(Sheet1!R74,\"00\"))))","v":""},{"$f":"IF(Sheet1!T74=\"\",\"\",IF(VLOOKUP(Sheet1!T74,Sheet2!$A$2:$C$44,3,FALSE)>=71,VLOOKUP(Sheet1!T74,Sheet2!$A$2:$C$44,2,FALSE)&TEXT(Sheet1!V74,\"00\")&TEXT(Sheet1!W74,\"00\"),VLOOKUP(Sheet1!T74,Sheet2!$A$2:$C$44,2,FALSE)&TEXT(Sheet1!U74,\"00\")&TEXT(Sheet1!V74,\"00\")&IF(Sheet1!X74=\"手\",TEXT(Sheet1!W74,\"0\"),TEXT(Sheet1!W74,\"00\"))))","v":""}]
["",{"$f":"ASC(IF(Sheet1!C75=\"\",\"\",IF(LEN(Sheet1!C75)+LEN(Sheet1!D75)=2,Sheet1!C75&\"      \"&Sheet1!D75&\"(\"&Sheet1!G75&\")\",IF(LEN(Sheet1!C75)+LEN(Sheet1!D75)=3,Sheet1!C75&\"    \"&Sheet1!D75&\"(\"&Sheet1!G75&\")\",IF(LEN(Sheet1!C75)+LEN(Sheet1!D75)=4,Sheet1!C75&\"  \"&Sheet1!D75&\"(\"&Sheet1!G75&\")\",IF(LEN(Sheet1!C75)+LEN(Sheet1!D75)>=5,Sheet1!C75&Sheet1!D75&\"(\"&Sheet1!G75&\")\",\"\"))))))","v":""},{"$f":"ASC(IF(Sheet1!E75=\"\",\"\",Sheet1!E75&\" \"&Sheet1!F75))","v":""},{"$f":"IF(Sheet1!H75=\"\",\"\",IF(Sheet1!H75=\"女\",2,1))","v":""},{"$f":"IF(Sheet1!I75=\"\",\"\",VLOOKUP(Sheet1!I75,Sheet2!$F$2:$G$50,2,FALSE))","v":""},{"$f":"IF(B65=\"\",\"\",IF(Sheet1!$D$4=\"\",Sheet1!$D$5,VALUE(Sheet1!$D$4)))","v":""},{"$f":"IF(Sheet1!B75=\"\",\"\",VALUE(Sheet1!B75))","v":""},{"$f":"IF(Sheet1!J75=\"\",\"\",IF(VLOOKUP(Sheet1!J75,Sheet2!$A$2:$C$44,3,FALSE)>=71,VLOOKUP(Sheet1!J75,Sheet2!$A$2:$C$44,2,FALSE)&TEXT(Sheet1!L75,\"00\")&TEXT(Sheet1!M75,\"00\"),VLOOKUP(Sheet1!J75,Sheet2!$A$2:$C$44,2,FALSE)&TEXT(Sheet1!K75,\"00\")&TEXT(Sheet1!L75,\"00\")&IF(Sheet1!N75=\"手\",TEXT(Sheet1!M75,\"0\"),TEXT(Sheet1!M75,\"00\"))))","v":""},{"$f":"IF(Sheet1!O75=\"\",\"\",IF(VLOOKUP(Sheet1!O75,Sheet2!$A$2:$C$44,3,FALSE)>=71,VLOOKUP(Sheet1!O75,Sheet2!$A$2:$C$44,2,FALSE)&TEXT(Sheet1!Q75,\"00\")&TEXT(Sheet1!R75,\"00\"),VLOOKUP(Sheet1!O75,Sheet2!$A$2:$C$44,2,FALSE)&TEXT(Sheet1!P75,\"00\")&TEXT(Sheet1!Q75,\"00\")&IF(Sheet1!S75=\"手\",TEXT(Sheet1!R75,\"0\"),TEXT(Sheet1!R75,\"00\"))))","v":""},{"$f":"IF(Sheet1!T75=\"\",\"\",IF(VLOOKUP(Sheet1!T75,Sheet2!$A$2:$C$44,3,FALSE)>=71,VLOOKUP(Sheet1!T75,Sheet2!$A$2:$C$44,2,FALSE)&TEXT(Sheet1!V75,\"00\")&TEXT(Sheet1!W75,\"00\"),VLOOKUP(Sheet1!T75,Sheet2!$A$2:$C$44,2,FALSE)&TEXT(Sheet1!U75,\"00\")&TEXT(Sheet1!V75,\"00\")&IF(Sheet1!X75=\"手\",TEXT(Sheet1!W75,\"0\"),TEXT(Sheet1!W75,\"00\"))))","v":""}]
["",{"$f":"ASC(IF(Sheet1!C76=\"\",\"\",IF(LEN(Sheet1!C76)+LEN(Sheet1!D76)=2,Sheet1!C76&\"      \"&Sheet1!D76&\"(\"&Sheet1!G76&\")\",IF(LEN(Sheet1!C76)+LEN(Sheet1!D76)=3,Sheet1!C76&\"    \"&Sheet1!D76&\"(\"&Sheet1!G76&\")\",IF(LEN(Sheet1!C76)+LEN(Sheet1!D76)=4,Sheet1!C76&\"  \"&Sheet1!D76&\"(\"&Sheet1!G76&\")\",IF(LEN(Sheet1!C76)+LEN(Sheet1!D76)>=5,Sheet1!C76&Sheet1!D76&\"(\"&Sheet1!G76&\")\",\"\"))))))","v":""},{"$f":"ASC(IF(Sheet1!E76=\"\",\"\",Sheet1!E76&\" \"&Sheet1!F76))","v":""},{"$f":"IF(Sheet1!H76=\"\",\"\",IF(Sheet1!H76=\"女\",2,1))","v":""},{"$f":"IF(Sheet1!I76=\"\",\"\",VLOOKUP(Sheet1!I76,Sheet2!$F$2:$G$50,2,FALSE))","v":""},{"$f":"IF(B66=\"\",\"\",IF(Sheet1!$D$4=\"\",Sheet1!$D$5,VALUE(Sheet1!$D$4)))","v":""},{"$f":"IF(Sheet1!B76=\"\",\"\",VALUE(Sheet1!B76))","v":""},{"$f":"IF(Sheet1!J76=\"\",\"\",IF(VLOOKUP(Sheet1!J76,Sheet2!$A$2:$C$44,3,FALSE)>=71,VLOOKUP(Sheet1!J76,Sheet2!$A$2:$C$44,2,FALSE)&TEXT(Sheet1!L76,\"00\")&TEXT(Sheet1!M76,\"00\"),VLOOKUP(Sheet1!J76,Sheet2!$A$2:$C$44,2,FALSE)&TEXT(Sheet1!K76,\"00\")&TEXT(Sheet1!L76,\"00\")&IF(Sheet1!N76=\"手\",TEXT(Sheet1!M76,\"0\"),TEXT(Sheet1!M76,\"00\"))))","v":""},{"$f":"IF(Sheet1!O76=\"\",\"\",IF(VLOOKUP(Sheet1!O76,Sheet2!$A$2:$C$44,3,FALSE)>=71,VLOOKUP(Sheet1!O76,Sheet2!$A$2:$C$44,2,FALSE)&TEXT(Sheet1!Q76,\"00\")&TEXT(Sheet1!R76,\"00\"),VLOOKUP(Sheet1!O76,Sheet2!$A$2:$C$44,2,FALSE)&TEXT(Sheet1!P76,\"00\")&TEXT(Sheet1!Q76,\"00\")&IF(Sheet1!S76=\"手\",TEXT(Sheet1!R76,\"0\"),TEXT(Sheet1!R76,\"00\"))))","v":""},{"$f":"IF(Sheet1!T76=\"\",\"\",IF(VLOOKUP(Sheet1!T76,Sheet2!$A$2:$C$44,3,FALSE)>=71,VLOOKUP(Sheet1!T76,Sheet2!$A$2:$C$44,2,FALSE)&TEXT(Sheet1!V76,\"00\")&TEXT(Sheet1!W76,\"00\"),VLOOKUP(Sheet1!T76,Sheet2!$A$2:$C$44,2,FALSE)&TEXT(Sheet1!U76,\"00\")&TEXT(Sheet1!V76,\"00\")&IF(Sheet1!X76=\"手\",TEXT(Sheet1!W76,\"0\"),TEXT(Sheet1!W76,\"00\"))))","v":""}]
[{"$f":"IF(B67=\"\",\"\",D67*100000000+E67*1000000+200000+G67)","v":""},{"$f":"ASC(IF(Sheet1!C77=\"\",\"\",IF(LEN(Sheet1!C77)+LEN(Sheet1!D77)=2,Sheet1!C77&\"      \"&Sheet1!D77&\"(\"&Sheet1!G77&\")\",IF(LEN(Sheet1!C77)+LEN(Sheet1!D77)=3,Sheet1!C77&\"    \"&Sheet1!D77&\"(\"&Sheet1!G77&\")\",IF(LEN(Sheet1!C77)+LEN(Sheet1!D77)=4,Sheet1!C77&\"  \"&Sheet1!D77&\"(\"&Sheet1!G77&\")\",IF(LEN(Sheet1!C77)+LEN(Sheet1!D77)>=5,Sheet1!C77&Sheet1!D77&\"(\"&Sheet1!G77&\")\",\"\"))))))","v":""},{"$f":"ASC(IF(Sheet1!E77=\"\",\"\",Sheet1!E77&\" \"&Sheet1!F77))","v":""},{"$f":"IF(Sheet1!H77=\"\",\"\",IF(Sheet1!H77=\"女\",2,1))","v":""},{"$f":"IF(Sheet1!I77=\"\",\"\",VLOOKUP(Sheet1!I77,Sheet2!$F$2:$G$50,2,FALSE))","v":""},{"$f":"IF(B67=\"\",\"\",IF(Sheet1!$D$4=\"\",Sheet1!$D$5,VALUE(Sheet1!$D$4)))","v":""},{"$f":"IF(Sheet1!B77=\"\",\"\",VALUE(Sheet1!B77))","v":""},{"$f":"IF(Sheet1!J77=\"\",\"\",IF(VLOOKUP(Sheet1!J77,Sheet2!$A$2:$C$44,3,FALSE)>=71,VLOOKUP(Sheet1!J77,Sheet2!$A$2:$C$44,2,FALSE)&TEXT(Sheet1!L77,\"00\")&TEXT(Sheet1!M77,\"00\"),VLOOKUP(Sheet1!J77,Sheet2!$A$2:$C$44,2,FALSE)&TEXT(Sheet1!K77,\"00\")&TEXT(Sheet1!L77,\"00\")&IF(Sheet1!N77=\"手\",TEXT(Sheet1!M77,\"0\"),TEXT(Sheet1!M77,\"00\"))))","v":""},{"$f":"IF(Sheet1!O77=\"\",\"\",IF(VLOOKUP(Sheet1!O77,Sheet2!$A$2:$C$44,3,FALSE)>=71,VLOOKUP(Sheet1!O77,Sheet2!$A$2:$C$44,2,FALSE)&TEXT(Sheet1!Q77,\"00\")&TEXT(Sheet1!R77,\"00\"),VLOOKUP(Sheet1!O77,Sheet2!$A$2:$C$44,2,FALSE)&TEXT(Sheet1!P77,\"00\")&TEXT(Sheet1!Q77,\"00\")&IF(Sheet1!S77=\"手\",TEXT(Sheet1!R77,\"0\"),TEXT(Sheet1!R77,\"00\"))))","v":""},{"$f":"IF(Sheet1!T77=\"\",\"\",IF(VLOOKUP(Sheet1!T77,Sheet2!$A$2:$C$44,3,FALSE)>=71,VLOOKUP(Sheet1!T77,Sheet2!$A$2:$C$44,2,FALSE)&TEXT(Sheet1!V77,\"00\")&TEXT(Sheet1!W77,\"00\"),VLOOKUP(Sheet1!T77,Sheet2!$A$2:$C$44,2,FALSE)&TEXT(Sheet1!U77,\"00\")&TEXT(Sheet1!V77,\"00\")&IF(Sheet1!X77=\"手\",TEXT(Sheet1!W77,\"0\"),TEXT(Sheet1!W77,\"00\"))))","v":""}]
["",{"$f":"ASC(IF(Sheet1!C78=\"\",\"\",IF(LEN(Sheet1!C78)+LEN(Sheet1!D78)=2,Sheet1!C78&\"      \"&Sheet1!D78&\"(\"&Sheet1!G78&\")\",IF(LEN(Sheet1!C78)+LEN(Sheet1!D78)=3,Sheet1!C78&\"    \"&Sheet1!D78&\"(\"&Sheet1!G78&\")\",IF(LEN(Sheet1!C78)+LEN(Sheet1!D78)=4,Sheet1!C78&\"  \"&Sheet1!D78&\"(\"&Sheet1!G78&\")\",IF(LEN(Sheet1!C78)+LEN(Sheet1!D78)>=5,Sheet1!C78&Sheet1!D78&\"(\"&Sheet1!G78&\")\",\"\"))))))","v":""},{"$f":"ASC(IF(Sheet1!E78=\"\",\"\",Sheet1!E78&\" \"&Sheet1!F78))","v":""},{"$f":"IF(Sheet1!H78=\"\",\"\",IF(Sheet1!H78=\"女\",2,1))","v":""},{"$f":"IF(Sheet1!I78=\"\",\"\",VLOOKUP(Sheet1!I78,Sheet2!$F$2:$G$50,2,FALSE))","v":""},{"$f":"IF(B68=\"\",\"\",IF(Sheet1!$D$4=\"\",Sheet1!$D$5,VALUE(Sheet1!$D$4)))","v":""},{"$f":"IF(Sheet1!B78=\"\",\"\",VALUE(Sheet1!B78))","v":""},{"$f":"IF(Sheet1!J78=\"\",\"\",IF(VLOOKUP(Sheet1!J78,Sheet2!$A$2:$C$44,3,FALSE)>=71,VLOOKUP(Sheet1!J78,Sheet2!$A$2:$C$44,2,FALSE)&TEXT(Sheet1!L78,\"00\")&TEXT(Sheet1!M78,\"00\"),VLOOKUP(Sheet1!J78,Sheet2!$A$2:$C$44,2,FALSE)&TEXT(Sheet1!K78,\"00\")&TEXT(Sheet1!L78,\"00\")&IF(Sheet1!N78=\"手\",TEXT(Sheet1!M78,\"0\"),TEXT(Sheet1!M78,\"00\"))))","v":""},{"$f":"IF(Sheet1!O78=\"\",\"\",IF(VLOOKUP(Sheet1!O78,Sheet2!$A$2:$C$44,3,FALSE)>=71,VLOOKUP(Sheet1!O78,Sheet2!$A$2:$C$44,2,FALSE)&TEXT(Sheet1!Q78,\"00\")&TEXT(Sheet1!R78,\"00\"),VLOOKUP(Sheet1!O78,Sheet2!$A$2:$C$44,2,FALSE)&TEXT(Sheet1!P78,\"00\")&TEXT(Sheet1!Q78,\"00\")&IF(Sheet1!S78=\"手\",TEXT(Sheet1!R78,\"0\"),TEXT(Sheet1!R78,\"00\"))))","v":""},{"$f":"IF(Sheet1!T78=\"\",\"\",IF(VLOOKUP(Sheet1!T78,Sheet2!$A$2:$C$44,3,FALSE)>=71,VLOOKUP(Sheet1!T78,Sheet2!$A$2:$C$44,2,FALSE)&TEXT(Sheet1!V78,\"00\")&TEXT(Sheet1!W78,\"00\"),VLOOKUP(Sheet1!T78,Sheet2!$A$2:$C$44,2,FALSE)&TEXT(Sheet1!U78,\"00\")&TEXT(Sheet1!V78,\"00\")&IF(Sheet1!X78=\"手\",TEXT(Sheet1!W78,\"0\"),TEXT(Sheet1!W78,\"00\"))))","v":""}]
["",{"$f":"ASC(IF(Sheet1!C79=\"\",\"\",IF(LEN(Sheet1!C79)+LEN(Sheet1!D79)=2,Sheet1!C79&\"      \"&Sheet1!D79&\"(\"&Sheet1!G79&\")\",IF(LEN(Sheet1!C79)+LEN(Sheet1!D79)=3,Sheet1!C79&\"    \"&Sheet1!D79&\"(\"&Sheet1!G79&\")\",IF(LEN(Sheet1!C79)+LEN(Sheet1!D79)=4,Sheet1!C79&\"  \"&Sheet1!D79&\"(\"&Sheet1!G79&\")\",IF(LEN(Sheet1!C79)+LEN(Sheet1!D79)>=5,Sheet1!C79&Sheet1!D79&\"(\"&Sheet1!G79&\")\",\"\"))))))","v":""},{"$f":"ASC(IF(Sheet1!E79=\"\",\"\",Sheet1!E79&\" \"&Sheet1!F79))","v":""},{"$f":"IF(Sheet1!H79=\"\",\"\",IF(Sheet1!H79=\"女\",2,1))","v":""},{"$f":"IF(Sheet1!I79=\"\",\"\",VLOOKUP(Sheet1!I79,Sheet2!$F$2:$G$50,2,FALSE))","v":""},{"$f":"IF(B69=\"\",\"\",IF(Sheet1!$D$4=\"\",Sheet1!$D$5,VALUE(Sheet1!$D$4)))","v":""},{"$f":"IF(Sheet1!B79=\"\",\"\",VALUE(Sheet1!B79))","v":""},{"$f":"IF(Sheet1!J79=\"\",\"\",IF(VLOOKUP(Sheet1!J79,Sheet2!$A$2:$C$44,3,FALSE)>=71,VLOOKUP(Sheet1!J79,Sheet2!$A$2:$C$44,2,FALSE)&TEXT(Sheet1!L79,\"00\")&TEXT(Sheet1!M79,\"00\"),VLOOKUP(Sheet1!J79,Sheet2!$A$2:$C$44,2,FALSE)&TEXT(Sheet1!K79,\"00\")&TEXT(Sheet1!L79,\"00\")&IF(Sheet1!N79=\"手\",TEXT(Sheet1!M79,\"0\"),TEXT(Sheet1!M79,\"00\"))))","v":""},{"$f":"IF(Sheet1!O79=\"\",\"\",IF(VLOOKUP(Sheet1!O79,Sheet2!$A$2:$C$44,3,FALSE)>=71,VLOOKUP(Sheet1!O79,Sheet2!$A$2:$C$44,2,FALSE)&TEXT(Sheet1!Q79,\"00\")&TEXT(Sheet1!R79,\"00\"),VLOOKUP(Sheet1!O79,Sheet2!$A$2:$C$44,2,FALSE)&TEXT(Sheet1!P79,\"00\")&TEXT(Sheet1!Q79,\"00\")&IF(Sheet1!S79=\"手\",TEXT(Sheet1!R79,\"0\"),TEXT(Sheet1!R79,\"00\"))))","v":""},{"$f":"IF(Sheet1!T79=\"\",\"\",IF(VLOOKUP(Sheet1!T79,Sheet2!$A$2:$C$44,3,FALSE)>=71,VLOOKUP(Sheet1!T79,Sheet2!$A$2:$C$44,2,FALSE)&TEXT(Sheet1!V79,\"00\")&TEXT(Sheet1!W79,\"00\"),VLOOKUP(Sheet1!T79,Sheet2!$A$2:$C$44,2,FALSE)&TEXT(Sheet1!U79,\"00\")&TEXT(Sheet1!V79,\"00\")&IF(Sheet1!X79=\"手\",TEXT(Sheet1!W79,\"0\"),TEXT(Sheet1!W79,\"00\"))))","v":""}]
["",{"$f":"ASC(IF(Sheet1!C80=\"\",\"\",IF(LEN(Sheet1!C80)+LEN(Sheet1!D80)=2,Sheet1!C80&\"      \"&Sheet1!D80&\"(\"&Sheet1!G80&\")\",IF(LEN(Sheet1!C80)+LEN(Sheet1!D80)=3,Sheet1!C80&\"    \"&Sheet1!D80&\"(\"&Sheet1!G80&\")\",IF(LEN(Sheet1!C80)+LEN(Sheet1!D80)=4,Sheet1!C80&\"  \"&Sheet1!D80&\"(\"&Sheet1!G80&\")\",IF(LEN(Sheet1!C80)+LEN(Sheet1!D80)>=5,Sheet1!C80&Sheet1!D80&\"(\"&Sheet1!G80&\")\",\"\"))))))","v":""},{"$f":"ASC(IF(Sheet1!E80=\"\",\"\",Sheet1!E80&\" \"&Sheet1!F80))","v":""},{"$f":"IF(Sheet1!H80=\"\",\"\",IF(Sheet1!H80=\"女\",2,1))","v":""},{"$f":"IF(Sheet1!I80=\"\",\"\",VLOOKUP(Sheet1!I80,Sheet2!$F$2:$G$50,2,FALSE))","v":""},{"$f":"IF(B70=\"\",\"\",IF(Sheet1!$D$4=\"\",Sheet1!$D$5,VALUE(Sheet1!$D$4)))","v":""},{"$f":"IF(Sheet1!B80=\"\",\"\",VALUE(Sheet1!B80))","v":""},{"$f":"IF(Sheet1!J80=\"\",\"\",IF(VLOOKUP(Sheet1!J80,Sheet2!$A$2:$C$44,3,FALSE)>=71,VLOOKUP(Sheet1!J80,Sheet2!$A$2:$C$44,2,FALSE)&TEXT(Sheet1!L80,\"00\")&TEXT(Sheet1!M80,\"00\"),VLOOKUP(Sheet1!J80,Sheet2!$A$2:$C$44,2,FALSE)&TEXT(Sheet1!K80,\"00\")&TEXT(Sheet1!L80,\"00\")&IF(Sheet1!N80=\"手\",TEXT(Sheet1!M80,\"0\"),TEXT(Sheet1!M80,\"00\"))))","v":""},{"$f":"IF(Sheet1!O80=\"\",\"\",IF(VLOOKUP(Sheet1!O80,Sheet2!$A$2:$C$44,3,FALSE)>=71,VLOOKUP(Sheet1!O80,Sheet2!$A$2:$C$44,2,FALSE)&TEXT(Sheet1!Q80,\"00\")&TEXT(Sheet1!R80,\"00\"),VLOOKUP(Sheet1!O80,Sheet2!$A$2:$C$44,2,FALSE)&TEXT(Sheet1!P80,\"00\")&TEXT(Sheet1!Q80,\"00\")&IF(Sheet1!S80=\"手\",TEXT(Sheet1!R80,\"0\"),TEXT(Sheet1!R80,\"00\"))))","v":""},{"$f":"IF(Sheet1!T80=\"\",\"\",IF(VLOOKUP(Sheet1!T80,Sheet2!$A$2:$C$44,3,FALSE)>=71,VLOOKUP(Sheet1!T80,Sheet2!$A$2:$C$44,2,FALSE)&TEXT(Sheet1!V80,\"00\")&TEXT(Sheet1!W80,\"00\"),VLOOKUP(Sheet1!T80,Sheet2!$A$2:$C$44,2,FALSE)&TEXT(Sheet1!U80,\"00\")&TEXT(Sheet1!V80,\"00\")&IF(Sheet1!X80=\"手\",TEXT(Sheet1!W80,\"0\"),TEXT(Sheet1!W80,\"00\"))))","v":""}]
["",{"$f":"ASC(IF(Sheet1!C81=\"\",\"\",IF(LEN(Sheet1!C81)+LEN(Sheet1!D81)=2,Sheet1!C81&\"      \"&Sheet1!D81&\"(\"&Sheet1!G81&\")\",IF(LEN(Sheet1!C81)+LEN(Sheet1!D81)=3,Sheet1!C81&\"    \"&Sheet1!D81&\"(\"&Sheet1!G81&\")\",IF(LEN(Sheet1!C81)+LEN(Sheet1!D81)=4,Sheet1!C81&\"  \"&Sheet1!D81&\"(\"&Sheet1!G81&\")\",IF(LEN(Sheet1!C81)+LEN(Sheet1!D81)>=5,Sheet1!C81&Sheet1!D81&\"(\"&Sheet1!G81&\")\",\"\"))))))","v":""},{"$f":"ASC(IF(Sheet1!E81=\"\",\"\",Sheet1!E81&\" \"&Sheet1!F81))","v":""},{"$f":"IF(Sheet1!H81=\"\",\"\",IF(Sheet1!H81=\"女\",2,1))","v":""},{"$f":"IF(Sheet1!I81=\"\",\"\",VLOOKUP(Sheet1!I81,Sheet2!$F$2:$G$50,2,FALSE))","v":""},{"$f":"IF(B71=\"\",\"\",IF(Sheet1!$D$4=\"\",Sheet1!$D$5,VALUE(Sheet1!$D$4)))","v":""},{"$f":"IF(Sheet1!B81=\"\",\"\",VALUE(Sheet1!B81))","v":""},{"$f":"IF(Sheet1!J81=\"\",\"\",IF(VLOOKUP(Sheet1!J81,Sheet2!$A$2:$C$44,3,FALSE)>=71,VLOOKUP(Sheet1!J81,Sheet2!$A$2:$C$44,2,FALSE)&TEXT(Sheet1!L81,\"00\")&TEXT(Sheet1!M81,\"00\"),VLOOKUP(Sheet1!J81,Sheet2!$A$2:$C$44,2,FALSE)&TEXT(Sheet1!K81,\"00\")&TEXT(Sheet1!L81,\"00\")&IF(Sheet1!N81=\"手\",TEXT(Sheet1!M81,\"0\"),TEXT(Sheet1!M81,\"00\"))))","v":""},{"$f":"IF(Sheet1!O81=\"\",\"\",IF(VLOOKUP(Sheet1!O81,Sheet2!$A$2:$C$44,3,FALSE)>=71,VLOOKUP(Sheet1!O81,Sheet2!$A$2:$C$44,2,FALSE)&TEXT(Sheet1!Q81,\"00\")&TEXT(Sheet1!R81,\"00\"),VLOOKUP(Sheet1!O81,Sheet2!$A$2:$C$44,2,FALSE)&TEXT(Sheet1!P81,\"00\")&TEXT(Sheet1!Q81,\"00\")&IF(Sheet1!S81=\"手\",TEXT(Sheet1!R81,\"0\"),TEXT(Sheet1!R81,\"00\"))))","v":""},{"$f":"IF(Sheet1!T81=\"\",\"\",IF(VLOOKUP(Sheet1!T81,Sheet2!$A$2:$C$44,3,FALSE)>=71,VLOOKUP(Sheet1!T81,Sheet2!$A$2:$C$44,2,FALSE)&TEXT(Sheet1!V81,\"00\")&TEXT(Sheet1!W81,\"00\"),VLOOKUP(Sheet1!T81,Sheet2!$A$2:$C$44,2,FALSE)&TEXT(Sheet1!U81,\"00\")&TEXT(Sheet1!V81,\"00\")&IF(Sheet1!X81=\"手\",TEXT(Sheet1!W81,\"0\"),TEXT(Sheet1!W81,\"00\"))))","v":""}]
["",{"$f":"ASC(IF(Sheet1!C82=\"\",\"\",IF(LEN(Sheet1!C82)+LEN(Sheet1!D82)=2,Sheet1!C82&\"      \"&Sheet1!D82&\"(\"&Sheet1!G82&\")\",IF(LEN(Sheet1!C82)+LEN(Sheet1!D82)=3,Sheet1!C82&\"    \"&Sheet1!D82&\"(\"&Sheet1!G82&\")\",IF(LEN(Sheet1!C82)+LEN(Sheet1!D82)=4,Sheet1!C82&\"  \"&Sheet1!D82&\"(\"&Sheet1!G82&\")\",IF(LEN(Sheet1!C82)+LEN(Sheet1!D82)>=5,Sheet1!C82&Sheet1!D82&\"(\"&Sheet1!G82&\")\",\"\"))))))","v":""},{"$f":"ASC(IF(Sheet1!E82=\"\",\"\",Sheet1!E82&\" \"&Sheet1!F82))","v":""},{"$f":"IF(Sheet1!H82=\"\",\"\",IF(Sheet1!H82=\"女\",2,1))","v":""},{"$f":"IF(Sheet1!I82=\"\",\"\",VLOOKUP(Sheet1!I82,Sheet2!$F$2:$G$50,2,FALSE))","v":""},{"$f":"IF(B72=\"\",\"\",IF(Sheet1!$D$4=\"\",Sheet1!$D$5,VALUE(Sheet1!$D$4)))","v":""},{"$f":"IF(Sheet1!B82=\"\",\"\",VALUE(Sheet1!B82))","v":""},{"$f":"IF(Sheet1!J82=\"\",\"\",IF(VLOOKUP(Sheet1!J82,Sheet2!$A$2:$C$44,3,FALSE)>=71,VLOOKUP(Sheet1!J82,Sheet2!$A$2:$C$44,2,FALSE)&TEXT(Sheet1!L82,\"00\")&TEXT(Sheet1!M82,\"00\"),VLOOKUP(Sheet1!J82,Sheet2!$A$2:$C$44,2,FALSE)&TEXT(Sheet1!K82,\"00\")&TEXT(Sheet1!L82,\"00\")&IF(Sheet1!N82=\"手\",TEXT(Sheet1!M82,\"0\"),TEXT(Sheet1!M82,\"00\"))))","v":""},{"$f":"IF(Sheet1!O82=\"\",\"\",IF(VLOOKUP(Sheet1!O82,Sheet2!$A$2:$C$44,3,FALSE)>=71,VLOOKUP(Sheet1!O82,Sheet2!$A$2:$C$44,2,FALSE)&TEXT(Sheet1!Q82,\"00\")&TEXT(Sheet1!R82,\"00\"),VLOOKUP(Sheet1!O82,Sheet2!$A$2:$C$44,2,FALSE)&TEXT(Sheet1!P82,\"00\")&TEXT(Sheet1!Q82,\"00\")&IF(Sheet1!S82=\"手\",TEXT(Sheet1!R82,\"0\"),TEXT(Sheet1!R82,\"00\"))))","v":""},{"$f":"IF(Sheet1!T82=\"\",\"\",IF(VLOOKUP(Sheet1!T82,Sheet2!$A$2:$C$44,3,FALSE)>=71,VLOOKUP(Sheet1!T82,Sheet2!$A$2:$C$44,2,FALSE)&TEXT(Sheet1!V82,\"00\")&TEXT(Sheet1!W82,\"00\"),VLOOKUP(Sheet1!T82,Sheet2!$A$2:$C$44,2,FALSE)&TEXT(Sheet1!U82,\"00\")&TEXT(Sheet1!V82,\"00\")&IF(Sheet1!X82=\"手\",TEXT(Sheet1!W82,\"0\"),TEXT(Sheet1!W82,\"00\"))))","v":""}]
["",{"$f":"ASC(IF(Sheet1!C83=\"\",\"\",IF(LEN(Sheet1!C83)+LEN(Sheet1!D83)=2,Sheet1!C83&\"      \"&Sheet1!D83&\"(\"&Sheet1!G83&\")\",IF(LEN(Sheet1!C83)+LEN(Sheet1!D83)=3,Sheet1!C83&\"    \"&Sheet1!D83&\"(\"&Sheet1!G83&\")\",IF(LEN(Sheet1!C83)+LEN(Sheet1!D83)=4,Sheet1!C83&\"  \"&Sheet1!D83&\"(\"&Sheet1!G83&\")\",IF(LEN(Sheet1!C83)+LEN(Sheet1!D83)>=5,Sheet1!C83&Sheet1!D83&\"(\"&Sheet1!G83&\")\",\"\"))))))","v":""},{"$f":"ASC(IF(Sheet1!E83=\"\",\"\",Sheet1!E83&\" \"&Sheet1!F83))","v":""},{"$f":"IF(Sheet1!H83=\"\",\"\",IF(Sheet1!H83=\"女\",2,1))","v":""},{"$f":"IF(Sheet1!I83=\"\",\"\",VLOOKUP(Sheet1!I83,Sheet2!$F$2:$G$50,2,FALSE))","v":""},{"$f":"IF(B73=\"\",\"\",IF(Sheet1!$D$4=\"\",Sheet1!$D$5,VALUE(Sheet1!$D$4)))","v":""},{"$f":"IF(Sheet1!B83=\"\",\"\",VALUE(Sheet1!B83))","v":""},{"$f":"IF(Sheet1!J83=\"\",\"\",IF(VLOOKUP(Sheet1!J83,Sheet2!$A$2:$C$44,3,FALSE)>=71,VLOOKUP(Sheet1!J83,Sheet2!$A$2:$C$44,2,FALSE)&TEXT(Sheet1!L83,\"00\")&TEXT(Sheet1!M83,\"00\"),VLOOKUP(Sheet1!J83,Sheet2!$A$2:$C$44,2,FALSE)&TEXT(Sheet1!K83,\"00\")&TEXT(Sheet1!L83,\"00\")&IF(Sheet1!N83=\"手\",TEXT(Sheet1!M83,\"0\"),TEXT(Sheet1!M83,\"00\"))))","v":""},{"$f":"IF(Sheet1!O83=\"\",\"\",IF(VLOOKUP(Sheet1!O83,Sheet2!$A$2:$C$44,3,FALSE)>=71,VLOOKUP(Sheet1!O83,Sheet2!$A$2:$C$44,2,FALSE)&TEXT(Sheet1!Q83,\"00\")&TEXT(Sheet1!R83,\"00\"),VLOOKUP(Sheet1!O83,Sheet2!$A$2:$C$44,2,FALSE)&TEXT(Sheet1!P83,\"00\")&TEXT(Sheet1!Q83,\"00\")&IF(Sheet1!S83=\"手\",TEXT(Sheet1!R83,\"0\"),TEXT(Sheet1!R83,\"00\"))))","v":""},{"$f":"IF(Sheet1!T83=\"\",\"\",IF(VLOOKUP(Sheet1!T83,Sheet2!$A$2:$C$44,3,FALSE)>=71,VLOOKUP(Sheet1!T83,Sheet2!$A$2:$C$44,2,FALSE)&TEXT(Sheet1!V83,\"00\")&TEXT(Sheet1!W83,\"00\"),VLOOKUP(Sheet1!T83,Sheet2!$A$2:$C$44,2,FALSE)&TEXT(Sheet1!U83,\"00\")&TEXT(Sheet1!V83,\"00\")&IF(Sheet1!X83=\"手\",TEXT(Sheet1!W83,\"0\"),TEXT(Sheet1!W83,\"00\"))))","v":""}]
["",{"$f":"ASC(IF(Sheet1!C84=\"\",\"\",IF(LEN(Sheet1!C84)+LEN(Sheet1!D84)=2,Sheet1!C84&\"      \"&Sheet1!D84&\"(\"&Sheet1!G84&\")\",IF(LEN(Sheet1!C84)+LEN(Sheet1!D84)=3,Sheet1!C84&\"    \"&Sheet1!D84&\"(\"&Sheet1!G84&\")\",IF(LEN(Sheet1!C84)+LEN(Sheet1!D84)=4,Sheet1!C84&\"  \"&Sheet1!D84&\"(\"&Sheet1!G84&\")\",IF(LEN(Sheet1!C84)+LEN(Sheet1!D84)>=5,Sheet1!C84&Sheet1!D84&\"(\"&Sheet1!G84&\")\",\"\"))))))","v":""},{"$f":"ASC(IF(Sheet1!E84=\"\",\"\",Sheet1!E84&\" \"&Sheet1!F84))","v":""},{"$f":"IF(Sheet1!H84=\"\",\"\",IF(Sheet1!H84=\"女\",2,1))","v":""},{"$f":"IF(Sheet1!I84=\"\",\"\",VLOOKUP(Sheet1!I84,Sheet2!$F$2:$G$50,2,FALSE))","v":""},{"$f":"IF(B74=\"\",\"\",IF(Sheet1!$D$4=\"\",Sheet1!$D$5,VALUE(Sheet1!$D$4)))","v":""},{"$f":"IF(Sheet1!B84=\"\",\"\",VALUE(Sheet1!B84))","v":""},{"$f":"IF(Sheet1!J84=\"\",\"\",IF(VLOOKUP(Sheet1!J84,Sheet2!$A$2:$C$44,3,FALSE)>=71,VLOOKUP(Sheet1!J84,Sheet2!$A$2:$C$44,2,FALSE)&TEXT(Sheet1!L84,\"00\")&TEXT(Sheet1!M84,\"00\"),VLOOKUP(Sheet1!J84,Sheet2!$A$2:$C$44,2,FALSE)&TEXT(Sheet1!K84,\"00\")&TEXT(Sheet1!L84,\"00\")&IF(Sheet1!N84=\"手\",TEXT(Sheet1!M84,\"0\"),TEXT(Sheet1!M84,\"00\"))))","v":""},{"$f":"IF(Sheet1!O84=\"\",\"\",IF(VLOOKUP(Sheet1!O84,Sheet2!$A$2:$C$44,3,FALSE)>=71,VLOOKUP(Sheet1!O84,Sheet2!$A$2:$C$44,2,FALSE)&TEXT(Sheet1!Q84,\"00\")&TEXT(Sheet1!R84,\"00\"),VLOOKUP(Sheet1!O84,Sheet2!$A$2:$C$44,2,FALSE)&TEXT(Sheet1!P84,\"00\")&TEXT(Sheet1!Q84,\"00\")&IF(Sheet1!S84=\"手\",TEXT(Sheet1!R84,\"0\"),TEXT(Sheet1!R84,\"00\"))))","v":""},{"$f":"IF(Sheet1!T84=\"\",\"\",IF(VLOOKUP(Sheet1!T84,Sheet2!$A$2:$C$44,3,FALSE)>=71,VLOOKUP(Sheet1!T84,Sheet2!$A$2:$C$44,2,FALSE)&TEXT(Sheet1!V84,\"00\")&TEXT(Sheet1!W84,\"00\"),VLOOKUP(Sheet1!T84,Sheet2!$A$2:$C$44,2,FALSE)&TEXT(Sheet1!U84,\"00\")&TEXT(Sheet1!V84,\"00\")&IF(Sheet1!X84=\"手\",TEXT(Sheet1!W84,\"0\"),TEXT(Sheet1!W84,\"00\"))))","v":""}]
["",{"$f":"ASC(IF(Sheet1!C85=\"\",\"\",IF(LEN(Sheet1!C85)+LEN(Sheet1!D85)=2,Sheet1!C85&\"      \"&Sheet1!D85&\"(\"&Sheet1!G85&\")\",IF(LEN(Sheet1!C85)+LEN(Sheet1!D85)=3,Sheet1!C85&\"    \"&Sheet1!D85&\"(\"&Sheet1!G85&\")\",IF(LEN(Sheet1!C85)+LEN(Sheet1!D85)=4,Sheet1!C85&\"  \"&Sheet1!D85&\"(\"&Sheet1!G85&\")\",IF(LEN(Sheet1!C85)+LEN(Sheet1!D85)>=5,Sheet1!C85&Sheet1!D85&\"(\"&Sheet1!G85&\")\",\"\"))))))","v":""},{"$f":"ASC(IF(Sheet1!E85=\"\",\"\",Sheet1!E85&\" \"&Sheet1!F85))","v":""},{"$f":"IF(Sheet1!H85=\"\",\"\",IF(Sheet1!H85=\"女\",2,1))","v":""},{"$f":"IF(Sheet1!I85=\"\",\"\",VLOOKUP(Sheet1!I85,Sheet2!$F$2:$G$50,2,FALSE))","v":""},{"$f":"IF(B75=\"\",\"\",IF(Sheet1!$D$4=\"\",Sheet1!$D$5,VALUE(Sheet1!$D$4)))","v":""},{"$f":"IF(Sheet1!B85=\"\",\"\",VALUE(Sheet1!B85))","v":""},{"$f":"IF(Sheet1!J85=\"\",\"\",IF(VLOOKUP(Sheet1!J85,Sheet2!$A$2:$C$44,3,FALSE)>=71,VLOOKUP(Sheet1!J85,Sheet2!$A$2:$C$44,2,FALSE)&TEXT(Sheet1!L85,\"00\")&TEXT(Sheet1!M85,\"00\"),VLOOKUP(Sheet1!J85,Sheet2!$A$2:$C$44,2,FALSE)&TEXT(Sheet1!K85,\"00\")&TEXT(Sheet1!L85,\"00\")&IF(Sheet1!N85=\"手\",TEXT(Sheet1!M85,\"0\"),TEXT(Sheet1!M85,\"00\"))))","v":""},{"$f":"IF(Sheet1!O85=\"\",\"\",IF(VLOOKUP(Sheet1!O85,Sheet2!$A$2:$C$44,3,FALSE)>=71,VLOOKUP(Sheet1!O85,Sheet2!$A$2:$C$44,2,FALSE)&TEXT(Sheet1!Q85,\"00\")&TEXT(Sheet1!R85,\"00\"),VLOOKUP(Sheet1!O85,Sheet2!$A$2:$C$44,2,FALSE)&TEXT(Sheet1!P85,\"00\")&TEXT(Sheet1!Q85,\"00\")&IF(Sheet1!S85=\"手\",TEXT(Sheet1!R85,\"0\"),TEXT(Sheet1!R85,\"00\"))))","v":""},{"$f":"IF(Sheet1!T85=\"\",\"\",IF(VLOOKUP(Sheet1!T85,Sheet2!$A$2:$C$44,3,FALSE)>=71,VLOOKUP(Sheet1!T85,Sheet2!$A$2:$C$44,2,FALSE)&TEXT(Sheet1!V85,\"00\")&TEXT(Sheet1!W85,\"00\"),VLOOKUP(Sheet1!T85,Sheet2!$A$2:$C$44,2,FALSE)&TEXT(Sheet1!U85,\"00\")&TEXT(Sheet1!V85,\"00\")&IF(Sheet1!X85=\"手\",TEXT(Sheet1!W85,\"0\"),TEXT(Sheet1!W85,\"00\"))))","v":""}]
["",{"$f":"ASC(IF(Sheet1!C86=\"\",\"\",IF(LEN(Sheet1!C86)+LEN(Sheet1!D86)=2,Sheet1!C86&\"      \"&Sheet1!D86&\"(\"&Sheet1!G86&\")\",IF(LEN(Sheet1!C86)+LEN(Sheet1!D86)=3,Sheet1!C86&\"    \"&Sheet1!D86&\"(\"&Sheet1!G86&\")\",IF(LEN(Sheet1!C86)+LEN(Sheet1!D86)=4,Sheet1!C86&\"  \"&Sheet1!D86&\"(\"&Sheet1!G86&\")\",IF(LEN(Sheet1!C86)+LEN(Sheet1!D86)>=5,Sheet1!C86&Sheet1!D86&\"(\"&Sheet1!G86&\")\",\"\"))))))","v":""},{"$f":"ASC(IF(Sheet1!E86=\"\",\"\",Sheet1!E86&\" \"&Sheet1!F86))","v":""},{"$f":"IF(Sheet1!H86=\"\",\"\",IF(Sheet1!H86=\"女\",2,1))","v":""},{"$f":"IF(Sheet1!I86=\"\",\"\",VLOOKUP(Sheet1!I86,Sheet2!$F$2:$G$50,2,FALSE))","v":""},{"$f":"IF(B76=\"\",\"\",IF(Sheet1!$D$4=\"\",Sheet1!$D$5,VALUE(Sheet1!$D$4)))","v":""},{"$f":"IF(Sheet1!B86=\"\",\"\",VALUE(Sheet1!B86))","v":""},{"$f":"IF(Sheet1!J86=\"\",\"\",IF(VLOOKUP(Sheet1!J86,Sheet2!$A$2:$C$44,3,FALSE)>=71,VLOOKUP(Sheet1!J86,Sheet2!$A$2:$C$44,2,FALSE)&TEXT(Sheet1!L86,\"00\")&TEXT(Sheet1!M86,\"00\"),VLOOKUP(Sheet1!J86,Sheet2!$A$2:$C$44,2,FALSE)&TEXT(Sheet1!K86,\"00\")&TEXT(Sheet1!L86,\"00\")&IF(Sheet1!N86=\"手\",TEXT(Sheet1!M86,\"0\"),TEXT(Sheet1!M86,\"00\"))))","v":""},{"$f":"IF(Sheet1!O86=\"\",\"\",IF(VLOOKUP(Sheet1!O86,Sheet2!$A$2:$C$44,3,FALSE)>=71,VLOOKUP(Sheet1!O86,Sheet2!$A$2:$C$44,2,FALSE)&TEXT(Sheet1!Q86,\"00\")&TEXT(Sheet1!R86,\"00\"),VLOOKUP(Sheet1!O86,Sheet2!$A$2:$C$44,2,FALSE)&TEXT(Sheet1!P86,\"00\")&TEXT(Sheet1!Q86,\"00\")&IF(Sheet1!S86=\"手\",TEXT(Sheet1!R86,\"0\"),TEXT(Sheet1!R86,\"00\"))))","v":""},{"$f":"IF(Sheet1!T86=\"\",\"\",IF(VLOOKUP(Sheet1!T86,Sheet2!$A$2:$C$44,3,FALSE)>=71,VLOOKUP(Sheet1!T86,Sheet2!$A$2:$C$44,2,FALSE)&TEXT(Sheet1!V86,\"00\")&TEXT(Sheet1!W86,\"00\"),VLOOKUP(Sheet1!T86,Sheet2!$A$2:$C$44,2,FALSE)&TEXT(Sheet1!U86,\"00\")&TEXT(Sheet1!V86,\"00\")&IF(Sheet1!X86=\"手\",TEXT(Sheet1!W86,\"0\"),TEXT(Sheet1!W86,\"00\"))))","v":""}]
["",{"$f":"ASC(IF(Sheet1!C87=\"\",\"\",IF(LEN(Sheet1!C87)+LEN(Sheet1!D87)=2,Sheet1!C87&\"      \"&Sheet1!D87&\"(\"&Sheet1!G87&\")\",IF(LEN(Sheet1!C87)+LEN(Sheet1!D87)=3,Sheet1!C87&\"    \"&Sheet1!D87&\"(\"&Sheet1!G87&\")\",IF(LEN(Sheet1!C87)+LEN(Sheet1!D87)=4,Sheet1!C87&\"  \"&Sheet1!D87&\"(\"&Sheet1!G87&\")\",IF(LEN(Sheet1!C87)+LEN(Sheet1!D87)>=5,Sheet1!C87&Sheet1!D87&\"(\"&Sheet1!G87&\")\",\"\"))))))","v":""},{"$f":"ASC(IF(Sheet1!E87=\"\",\"\",Sheet1!E87&\" \"&Sheet1!F87))","v":""},{"$f":"IF(Sheet1!H87=\"\",\"\",IF(Sheet1!H87=\"女\",2,1))","v":""},{"$f":"IF(Sheet1!I87=\"\",\"\",VLOOKUP(Sheet1!I87,Sheet2!$F$2:$G$50,2,FALSE))","v":""},{"$f":"IF(B77=\"\",\"\",IF(Sheet1!$D$4=\"\",Sheet1!$D$5,VALUE(Sheet1!$D$4)))","v":""},{"$f":"IF(Sheet1!B87=\"\",\"\",VALUE(Sheet1!B87))","v":""},{"$f":"IF(Sheet1!J87=\"\",\"\",IF(VLOOKUP(Sheet1!J87,Sheet2!$A$2:$C$44,3,FALSE)>=71,VLOOKUP(Sheet1!J87,Sheet2!$A$2:$C$44,2,FALSE)&TEXT(Sheet1!L87,\"00\")&TEXT(Sheet1!M87,\"00\"),VLOOKUP(Sheet1!J87,Sheet2!$A$2:$C$44,2,FALSE)&TEXT(Sheet1!K87,\"00\")&TEXT(Sheet1!L87,\"00\")&IF(Sheet1!N87=\"手\",TEXT(Sheet1!M87,\"0\"),TEXT(Sheet1!M87,\"00\"))))","v":""},{"$f":"IF(Sheet1!O87=\"\",\"\",IF(VLOOKUP(Sheet1!O87,Sheet2!$A$2:$C$44,3,FALSE)>=71,VLOOKUP(Sheet1!O87,Sheet2!$A$2:$C$44,2,FALSE)&TEXT(Sheet1!Q87,\"00\")&TEXT(Sheet1!R87,\"00\"),VLOOKUP(Sheet1!O87,Sheet2!$A$2:$C$44,2,FALSE)&TEXT(Sheet1!P87,\"00\")&TEXT(Sheet1!Q87,\"00\")&IF(Sheet1!S87=\"手\",TEXT(Sheet1!R87,\"0\"),TEXT(Sheet1!R87,\"00\"))))","v":""},{"$f":"IF(Sheet1!T87=\"\",\"\",IF(VLOOKUP(Sheet1!T87,Sheet2!$A$2:$C$44,3,FALSE)>=71,VLOOKUP(Sheet1!T87,Sheet2!$A$2:$C$44,2,FALSE)&TEXT(Sheet1!V87,\"00\")&TEXT(Sheet1!W87,\"00\"),VLOOKUP(Sheet1!T87,Sheet2!$A$2:$C$44,2,FALSE)&TEXT(Sheet1!U87,\"00\")&TEXT(Sheet1!V87,\"00\")&IF(Sheet1!X87=\"手\",TEXT(Sheet1!W87,\"0\"),TEXT(Sheet1!W87,\"00\"))))","v":""}]
["",{"$f":"ASC(IF(Sheet1!C88=\"\",\"\",IF(LEN(Sheet1!C88)+LEN(Sheet1!D88)=2,Sheet1!C88&\"      \"&Sheet1!D88&\"(\"&Sheet1!G88&\")\",IF(LEN(Sheet1!C88)+LEN(Sheet1!D88)=3,Sheet1!C88&\"    \"&Sheet1!D88&\"(\"&Sheet1!G88&\")\",IF(LEN(Sheet1!C88)+LEN(Sheet1!D88)=4,Sheet1!C88&\"  \"&Sheet1!D88&\"(\"&Sheet1!G88&\")\",IF(LEN(Sheet1!C88)+LEN(Sheet1!D88)>=5,Sheet1!C88&Sheet1!D88&\"(\"&Sheet1!G88&\")\",\"\"))))))","v":""},{"$f":"ASC(IF(Sheet1!E88=\"\",\"\",Sheet1!E88&\" \"&Sheet1!F88))","v":""},{"$f":"IF(Sheet1!H88=\"\",\"\",IF(Sheet1!H88=\"女\",2,1))","v":""},{"$f":"IF(Sheet1!I88=\"\",\"\",VLOOKUP(Sheet1!I88,Sheet2!$F$2:$G$50,2,FALSE))","v":""},{"$f":"IF(B78=\"\",\"\",IF(Sheet1!$D$4=\"\",Sheet1!$D$5,VALUE(Sheet1!$D$4)))","v":""},{"$f":"IF(Sheet1!B88=\"\",\"\",VALUE(Sheet1!B88))","v":""},{"$f":"IF(Sheet1!J88=\"\",\"\",IF(VLOOKUP(Sheet1!J88,Sheet2!$A$2:$C$44,3,FALSE)>=71,VLOOKUP(Sheet1!J88,Sheet2!$A$2:$C$44,2,FALSE)&TEXT(Sheet1!L88,\"00\")&TEXT(Sheet1!M88,\"00\"),VLOOKUP(Sheet1!J88,Sheet2!$A$2:$C$44,2,FALSE)&TEXT(Sheet1!K88,\"00\")&TEXT(Sheet1!L88,\"00\")&IF(Sheet1!N88=\"手\",TEXT(Sheet1!M88,\"0\"),TEXT(Sheet1!M88,\"00\"))))","v":""},{"$f":"IF(Sheet1!O88=\"\",\"\",IF(VLOOKUP(Sheet1!O88,Sheet2!$A$2:$C$44,3,FALSE)>=71,VLOOKUP(Sheet1!O88,Sheet2!$A$2:$C$44,2,FALSE)&TEXT(Sheet1!Q88,\"00\")&TEXT(Sheet1!R88,\"00\"),VLOOKUP(Sheet1!O88,Sheet2!$A$2:$C$44,2,FALSE)&TEXT(Sheet1!P88,\"00\")&TEXT(Sheet1!Q88,\"00\")&IF(Sheet1!S88=\"手\",TEXT(Sheet1!R88,\"0\"),TEXT(Sheet1!R88,\"00\"))))","v":""},{"$f":"IF(Sheet1!T88=\"\",\"\",IF(VLOOKUP(Sheet1!T88,Sheet2!$A$2:$C$44,3,FALSE)>=71,VLOOKUP(Sheet1!T88,Sheet2!$A$2:$C$44,2,FALSE)&TEXT(Sheet1!V88,\"00\")&TEXT(Sheet1!W88,\"00\"),VLOOKUP(Sheet1!T88,Sheet2!$A$2:$C$44,2,FALSE)&TEXT(Sheet1!U88,\"00\")&TEXT(Sheet1!V88,\"00\")&IF(Sheet1!X88=\"手\",TEXT(Sheet1!W88,\"0\"),TEXT(Sheet1!W88,\"00\"))))","v":""}]
["",{"$f":"ASC(IF(Sheet1!C89=\"\",\"\",IF(LEN(Sheet1!C89)+LEN(Sheet1!D89)=2,Sheet1!C89&\"      \"&Sheet1!D89&\"(\"&Sheet1!G89&\")\",IF(LEN(Sheet1!C89)+LEN(Sheet1!D89)=3,Sheet1!C89&\"    \"&Sheet1!D89&\"(\"&Sheet1!G89&\")\",IF(LEN(Sheet1!C89)+LEN(Sheet1!D89)=4,Sheet1!C89&\"  \"&Sheet1!D89&\"(\"&Sheet1!G89&\")\",IF(LEN(Sheet1!C89)+LEN(Sheet1!D89)>=5,Sheet1!C89&Sheet1!D89&\"(\"&Sheet1!G89&\")\",\"\"))))))","v":""},{"$f":"ASC(IF(Sheet1!E89=\"\",\"\",Sheet1!E89&\" \"&Sheet1!F89))","v":""},{"$f":"IF(Sheet1!H89=\"\",\"\",IF(Sheet1!H89=\"女\",2,1))","v":""},{"$f":"IF(Sheet1!I89=\"\",\"\",VLOOKUP(Sheet1!I89,Sheet2!$F$2:$G$50,2,FALSE))","v":""},{"$f":"IF(B79=\"\",\"\",IF(Sheet1!$D$4=\"\",Sheet1!$D$5,VALUE(Sheet1!$D$4)))","v":""},{"$f":"IF(Sheet1!B89=\"\",\"\",VALUE(Sheet1!B89))","v":""},{"$f":"IF(Sheet1!J89=\"\",\"\",IF(VLOOKUP(Sheet1!J89,Sheet2!$A$2:$C$44,3,FALSE)>=71,VLOOKUP(Sheet1!J89,Sheet2!$A$2:$C$44,2,FALSE)&TEXT(Sheet1!L89,\"00\")&TEXT(Sheet1!M89,\"00\"),VLOOKUP(Sheet1!J89,Sheet2!$A$2:$C$44,2,FALSE)&TEXT(Sheet1!K89,\"00\")&TEXT(Sheet1!L89,\"00\")&IF(Sheet1!N89=\"手\",TEXT(Sheet1!M89,\"0\"),TEXT(Sheet1!M89,\"00\"))))","v":""},{"$f":"IF(Sheet1!O89=\"\",\"\",IF(VLOOKUP(Sheet1!O89,Sheet2!$A$2:$C$44,3,FALSE)>=71,VLOOKUP(Sheet1!O89,Sheet2!$A$2:$C$44,2,FALSE)&TEXT(Sheet1!Q89,\"00\")&TEXT(Sheet1!R89,\"00\"),VLOOKUP(Sheet1!O89,Sheet2!$A$2:$C$44,2,FALSE)&TEXT(Sheet1!P89,\"00\")&TEXT(Sheet1!Q89,\"00\")&IF(Sheet1!S89=\"手\",TEXT(Sheet1!R89,\"0\"),TEXT(Sheet1!R89,\"00\"))))","v":""},{"$f":"IF(Sheet1!T89=\"\",\"\",IF(VLOOKUP(Sheet1!T89,Sheet2!$A$2:$C$44,3,FALSE)>=71,VLOOKUP(Sheet1!T89,Sheet2!$A$2:$C$44,2,FALSE)&TEXT(Sheet1!V89,\"00\")&TEXT(Sheet1!W89,\"00\"),VLOOKUP(Sheet1!T89,Sheet2!$A$2:$C$44,2,FALSE)&TEXT(Sheet1!U89,\"00\")&TEXT(Sheet1!V89,\"00\")&IF(Sheet1!X89=\"手\",TEXT(Sheet1!W89,\"0\"),TEXT(Sheet1!W89,\"00\"))))","v":""}]
["",{"$f":"ASC(IF(Sheet1!C90=\"\",\"\",IF(LEN(Sheet1!C90)+LEN(Sheet1!D90)=2,Sheet1!C90&\"      \"&Sheet1!D90&\"(\"&Sheet1!G90&\")\",IF(LEN(Sheet1!C90)+LEN(Sheet1!D90)=3,Sheet1!C90&\"    \"&Sheet1!D90&\"(\"&Sheet1!G90&\")\",IF(LEN(Sheet1!C90)+LEN(Sheet1!D90)=4,Sheet1!C90&\"  \"&Sheet1!D90&\"(\"&Sheet1!G90&\")\",IF(LEN(Sheet1!C90)+LEN(Sheet1!D90)>=5,Sheet1!C90&Sheet1!D90&\"(\"&Sheet1!G90&\")\",\"\"))))))","v":""},{"$f":"ASC(IF(Sheet1!E90=\"\",\"\",Sheet1!E90&\" \"&Sheet1!F90))","v":""},{"$f":"IF(Sheet1!H90=\"\",\"\",IF(Sheet1!H90=\"女\",2,1))","v":""},{"$f":"IF(Sheet1!I90=\"\",\"\",VLOOKUP(Sheet1!I90,Sheet2!$F$2:$G$50,2,FALSE))","v":""},{"$f":"IF(B80=\"\",\"\",IF(Sheet1!$D$4=\"\",Sheet1!$D$5,VALUE(Sheet1!$D$4)))","v":""},{"$f":"IF(Sheet1!B90=\"\",\"\",VALUE(Sheet1!B90))","v":""},{"$f":"IF(Sheet1!J90=\"\",\"\",IF(VLOOKUP(Sheet1!J90,Sheet2!$A$2:$C$44,3,FALSE)>=71,VLOOKUP(Sheet1!J90,Sheet2!$A$2:$C$44,2,FALSE)&TEXT(Sheet1!L90,\"00\")&TEXT(Sheet1!M90,\"00\"),VLOOKUP(Sheet1!J90,Sheet2!$A$2:$C$44,2,FALSE)&TEXT(Sheet1!K90,\"00\")&TEXT(Sheet1!L90,\"00\")&IF(Sheet1!N90=\"手\",TEXT(Sheet1!M90,\"0\"),TEXT(Sheet1!M90,\"00\"))))","v":""},{"$f":"IF(Sheet1!O90=\"\",\"\",IF(VLOOKUP(Sheet1!O90,Sheet2!$A$2:$C$44,3,FALSE)>=71,VLOOKUP(Sheet1!O90,Sheet2!$A$2:$C$44,2,FALSE)&TEXT(Sheet1!Q90,\"00\")&TEXT(Sheet1!R90,\"00\"),VLOOKUP(Sheet1!O90,Sheet2!$A$2:$C$44,2,FALSE)&TEXT(Sheet1!P90,\"00\")&TEXT(Sheet1!Q90,\"00\")&IF(Sheet1!S90=\"手\",TEXT(Sheet1!R90,\"0\"),TEXT(Sheet1!R90,\"00\"))))","v":""},{"$f":"IF(Sheet1!T90=\"\",\"\",IF(VLOOKUP(Sheet1!T90,Sheet2!$A$2:$C$44,3,FALSE)>=71,VLOOKUP(Sheet1!T90,Sheet2!$A$2:$C$44,2,FALSE)&TEXT(Sheet1!V90,\"00\")&TEXT(Sheet1!W90,\"00\"),VLOOKUP(Sheet1!T90,Sheet2!$A$2:$C$44,2,FALSE)&TEXT(Sheet1!U90,\"00\")&TEXT(Sheet1!V90,\"00\")&IF(Sheet1!X90=\"手\",TEXT(Sheet1!W90,\"0\"),TEXT(Sheet1!W90,\"00\"))))","v":""}]
["",{"$f":"ASC(IF(Sheet1!C91=\"\",\"\",IF(LEN(Sheet1!C91)+LEN(Sheet1!D91)=2,Sheet1!C91&\"      \"&Sheet1!D91&\"(\"&Sheet1!G91&\")\",IF(LEN(Sheet1!C91)+LEN(Sheet1!D91)=3,Sheet1!C91&\"    \"&Sheet1!D91&\"(\"&Sheet1!G91&\")\",IF(LEN(Sheet1!C91)+LEN(Sheet1!D91)=4,Sheet1!C91&\"  \"&Sheet1!D91&\"(\"&Sheet1!G91&\")\",IF(LEN(Sheet1!C91)+LEN(Sheet1!D91)>=5,Sheet1!C91&Sheet1!D91&\"(\"&Sheet1!G91&\")\",\"\"))))))","v":""},{"$f":"ASC(IF(Sheet1!E91=\"\",\"\",Sheet1!E91&\" \"&Sheet1!F91))","v":""},{"$f":"IF(Sheet1!H91=\"\",\"\",IF(Sheet1!H91=\"女\",2,1))","v":""},{"$f":"IF(Sheet1!I91=\"\",\"\",VLOOKUP(Sheet1!I91,Sheet2!$F$2:$G$50,2,FALSE))","v":""},{"$f":"IF(B81=\"\",\"\",IF(Sheet1!$D$4=\"\",Sheet1!$D$5,VALUE(Sheet1!$D$4)))","v":""},{"$f":"IF(Sheet1!B91=\"\",\"\",VALUE(Sheet1!B91))","v":""},{"$f":"IF(Sheet1!J91=\"\",\"\",IF(VLOOKUP(Sheet1!J91,Sheet2!$A$2:$C$44,3,FALSE)>=71,VLOOKUP(Sheet1!J91,Sheet2!$A$2:$C$44,2,FALSE)&TEXT(Sheet1!L91,\"00\")&TEXT(Sheet1!M91,\"00\"),VLOOKUP(Sheet1!J91,Sheet2!$A$2:$C$44,2,FALSE)&TEXT(Sheet1!K91,\"00\")&TEXT(Sheet1!L91,\"00\")&IF(Sheet1!N91=\"手\",TEXT(Sheet1!M91,\"0\"),TEXT(Sheet1!M91,\"00\"))))","v":""},{"$f":"IF(Sheet1!O91=\"\",\"\",IF(VLOOKUP(Sheet1!O91,Sheet2!$A$2:$C$44,3,FALSE)>=71,VLOOKUP(Sheet1!O91,Sheet2!$A$2:$C$44,2,FALSE)&TEXT(Sheet1!Q91,\"00\")&TEXT(Sheet1!R91,\"00\"),VLOOKUP(Sheet1!O91,Sheet2!$A$2:$C$44,2,FALSE)&TEXT(Sheet1!P91,\"00\")&TEXT(Sheet1!Q91,\"00\")&IF(Sheet1!S91=\"手\",TEXT(Sheet1!R91,\"0\"),TEXT(Sheet1!R91,\"00\"))))","v":""},{"$f":"IF(Sheet1!T91=\"\",\"\",IF(VLOOKUP(Sheet1!T91,Sheet2!$A$2:$C$44,3,FALSE)>=71,VLOOKUP(Sheet1!T91,Sheet2!$A$2:$C$44,2,FALSE)&TEXT(Sheet1!V91,\"00\")&TEXT(Sheet1!W91,\"00\"),VLOOKUP(Sheet1!T91,Sheet2!$A$2:$C$44,2,FALSE)&TEXT(Sheet1!U91,\"00\")&TEXT(Sheet1!V91,\"00\")&IF(Sheet1!X91=\"手\",TEXT(Sheet1!W91,\"0\"),TEXT(Sheet1!W91,\"00\"))))","v":""}]
["",{"$f":"ASC(IF(Sheet1!C92=\"\",\"\",IF(LEN(Sheet1!C92)+LEN(Sheet1!D92)=2,Sheet1!C92&\"      \"&Sheet1!D92&\"(\"&Sheet1!G92&\")\",IF(LEN(Sheet1!C92)+LEN(Sheet1!D92)=3,Sheet1!C92&\"    \"&Sheet1!D92&\"(\"&Sheet1!G92&\")\",IF(LEN(Sheet1!C92)+LEN(Sheet1!D92)=4,Sheet1!C92&\"  \"&Sheet1!D92&\"(\"&Sheet1!G92&\")\",IF(LEN(Sheet1!C92)+LEN(Sheet1!D92)>=5,Sheet1!C92&Sheet1!D92&\"(\"&Sheet1!G92&\")\",\"\"))))))","v":""},{"$f":"ASC(IF(Sheet1!E92=\"\",\"\",Sheet1!E92&\" \"&Sheet1!F92))","v":""},{"$f":"IF(Sheet1!H92=\"\",\"\",IF(Sheet1!H92=\"女\",2,1))","v":""},{"$f":"IF(Sheet1!I92=\"\",\"\",VLOOKUP(Sheet1!I92,Sheet2!$F$2:$G$50,2,FALSE))","v":""},{"$f":"IF(B82=\"\",\"\",IF(Sheet1!$D$4=\"\",Sheet1!$D$5,VALUE(Sheet1!$D$4)))","v":""},{"$f":"IF(Sheet1!B92=\"\",\"\",VALUE(Sheet1!B92))","v":""},{"$f":"IF(Sheet1!J92=\"\",\"\",IF(VLOOKUP(Sheet1!J92,Sheet2!$A$2:$C$44,3,FALSE)>=71,VLOOKUP(Sheet1!J92,Sheet2!$A$2:$C$44,2,FALSE)&TEXT(Sheet1!L92,\"00\")&TEXT(Sheet1!M92,\"00\"),VLOOKUP(Sheet1!J92,Sheet2!$A$2:$C$44,2,FALSE)&TEXT(Sheet1!K92,\"00\")&TEXT(Sheet1!L92,\"00\")&IF(Sheet1!N92=\"手\",TEXT(Sheet1!M92,\"0\"),TEXT(Sheet1!M92,\"00\"))))","v":""},{"$f":"IF(Sheet1!O92=\"\",\"\",IF(VLOOKUP(Sheet1!O92,Sheet2!$A$2:$C$44,3,FALSE)>=71,VLOOKUP(Sheet1!O92,Sheet2!$A$2:$C$44,2,FALSE)&TEXT(Sheet1!Q92,\"00\")&TEXT(Sheet1!R92,\"00\"),VLOOKUP(Sheet1!O92,Sheet2!$A$2:$C$44,2,FALSE)&TEXT(Sheet1!P92,\"00\")&TEXT(Sheet1!Q92,\"00\")&IF(Sheet1!S92=\"手\",TEXT(Sheet1!R92,\"0\"),TEXT(Sheet1!R92,\"00\"))))","v":""},{"$f":"IF(Sheet1!T92=\"\",\"\",IF(VLOOKUP(Sheet1!T92,Sheet2!$A$2:$C$44,3,FALSE)>=71,VLOOKUP(Sheet1!T92,Sheet2!$A$2:$C$44,2,FALSE)&TEXT(Sheet1!V92,\"00\")&TEXT(Sheet1!W92,\"00\"),VLOOKUP(Sheet1!T92,Sheet2!$A$2:$C$44,2,FALSE)&TEXT(Sheet1!U92,\"00\")&TEXT(Sheet1!V92,\"00\")&IF(Sheet1!X92=\"手\",TEXT(Sheet1!W92,\"0\"),TEXT(Sheet1!W92,\"00\"))))","v":""}]
["",{"$f":"ASC(IF(Sheet1!C93=\"\",\"\",IF(LEN(Sheet1!C93)+LEN(Sheet1!D93)=2,Sheet1!C93&\"      \"&Sheet1!D93&\"(\"&Sheet1!G93&\")\",IF(LEN(Sheet1!C93)+LEN(Sheet1!D93)=3,Sheet1!C93&\"    \"&Sheet1!D93&\"(\"&Sheet1!G93&\")\",IF(LEN(Sheet1!C93)+LEN(Sheet1!D93)=4,Sheet1!C93&\"  \"&Sheet1!D93&\"(\"&Sheet1!G93&\")\",IF(LEN(Sheet1!C93)+LEN(Sheet1!D93)>=5,Sheet1!C93&Sheet1!D93&\"(\"&Sheet1!G93&\")\",\"\"))))))","v":""},{"$f":"ASC(IF(Sheet1!E93=\"\",\"\",Sheet1!E93&\" \"&Sheet1!F93))","v":""},{"$f":"IF(Sheet1!H93=\"\",\"\",IF(Sheet1!H93=\"女\",2,1))","v":""},{"$f":"IF(Sheet1!I93=\"\",\"\",VLOOKUP(Sheet1!I93,Sheet2!$F$2:$G$50,2,FALSE))","v":""},{"$f":"IF(B83=\"\",\"\",IF(Sheet1!$D$4=\"\",Sheet1!$D$5,VALUE(Sheet1!$D$4)))","v":""},{"$f":"IF(Sheet1!B93=\"\",\"\",VALUE(Sheet1!B93))","v":""},{"$f":"IF(Sheet1!J93=\"\",\"\",IF(VLOOKUP(Sheet1!J93,Sheet2!$A$2:$C$44,3,FALSE)>=71,VLOOKUP(Sheet1!J93,Sheet2!$A$2:$C$44,2,FALSE)&TEXT(Sheet1!L93,\"00\")&TEXT(Sheet1!M93,\"00\"),VLOOKUP(Sheet1!J93,Sheet2!$A$2:$C$44,2,FALSE)&TEXT(Sheet1!K93,\"00\")&TEXT(Sheet1!L93,\"00\")&IF(Sheet1!N93=\"手\",TEXT(Sheet1!M93,\"0\"),TEXT(Sheet1!M93,\"00\"))))","v":""},{"$f":"IF(Sheet1!O93=\"\",\"\",IF(VLOOKUP(Sheet1!O93,Sheet2!$A$2:$C$44,3,FALSE)>=71,VLOOKUP(Sheet1!O93,Sheet2!$A$2:$C$44,2,FALSE)&TEXT(Sheet1!Q93,\"00\")&TEXT(Sheet1!R93,\"00\"),VLOOKUP(Sheet1!O93,Sheet2!$A$2:$C$44,2,FALSE)&TEXT(Sheet1!P93,\"00\")&TEXT(Sheet1!Q93,\"00\")&IF(Sheet1!S93=\"手\",TEXT(Sheet1!R93,\"0\"),TEXT(Sheet1!R93,\"00\"))))","v":""},{"$f":"IF(Sheet1!T93=\"\",\"\",IF(VLOOKUP(Sheet1!T93,Sheet2!$A$2:$C$44,3,FALSE)>=71,VLOOKUP(Sheet1!T93,Sheet2!$A$2:$C$44,2,FALSE)&TEXT(Sheet1!V93,\"00\")&TEXT(Sheet1!W93,\"00\"),VLOOKUP(Sheet1!T93,Sheet2!$A$2:$C$44,2,FALSE)&TEXT(Sheet1!U93,\"00\")&TEXT(Sheet1!V93,\"00\")&IF(Sheet1!X93=\"手\",TEXT(Sheet1!W93,\"0\"),TEXT(Sheet1!W93,\"00\"))))","v":""}]
["",{"$f":"ASC(IF(Sheet1!C94=\"\",\"\",IF(LEN(Sheet1!C94)+LEN(Sheet1!D94)=2,Sheet1!C94&\"      \"&Sheet1!D94&\"(\"&Sheet1!G94&\")\",IF(LEN(Sheet1!C94)+LEN(Sheet1!D94)=3,Sheet1!C94&\"    \"&Sheet1!D94&\"(\"&Sheet1!G94&\")\",IF(LEN(Sheet1!C94)+LEN(Sheet1!D94)=4,Sheet1!C94&\"  \"&Sheet1!D94&\"(\"&Sheet1!G94&\")\",IF(LEN(Sheet1!C94)+LEN(Sheet1!D94)>=5,Sheet1!C94&Sheet1!D94&\"(\"&Sheet1!G94&\")\",\"\"))))))","v":""},{"$f":"ASC(IF(Sheet1!E94=\"\",\"\",Sheet1!E94&\" \"&Sheet1!F94))","v":""},{"$f":"IF(Sheet1!H94=\"\",\"\",IF(Sheet1!H94=\"女\",2,1))","v":""},{"$f":"IF(Sheet1!I94=\"\",\"\",VLOOKUP(Sheet1!I94,Sheet2!$F$2:$G$50,2,FALSE))","v":""},{"$f":"IF(B84=\"\",\"\",IF(Sheet1!$D$4=\"\",Sheet1!$D$5,VALUE(Sheet1!$D$4)))","v":""},{"$f":"IF(Sheet1!B94=\"\",\"\",VALUE(Sheet1!B94))","v":""},{"$f":"IF(Sheet1!J94=\"\",\"\",IF(VLOOKUP(Sheet1!J94,Sheet2!$A$2:$C$44,3,FALSE)>=71,VLOOKUP(Sheet1!J94,Sheet2!$A$2:$C$44,2,FALSE)&TEXT(Sheet1!L94,\"00\")&TEXT(Sheet1!M94,\"00\"),VLOOKUP(Sheet1!J94,Sheet2!$A$2:$C$44,2,FALSE)&TEXT(Sheet1!K94,\"00\")&TEXT(Sheet1!L94,\"00\")&IF(Sheet1!N94=\"手\",TEXT(Sheet1!M94,\"0\"),TEXT(Sheet1!M94,\"00\"))))","v":""},{"$f":"IF(Sheet1!O94=\"\",\"\",IF(VLOOKUP(Sheet1!O94,Sheet2!$A$2:$C$44,3,FALSE)>=71,VLOOKUP(Sheet1!O94,Sheet2!$A$2:$C$44,2,FALSE)&TEXT(Sheet1!Q94,\"00\")&TEXT(Sheet1!R94,\"00\"),VLOOKUP(Sheet1!O94,Sheet2!$A$2:$C$44,2,FALSE)&TEXT(Sheet1!P94,\"00\")&TEXT(Sheet1!Q94,\"00\")&IF(Sheet1!S94=\"手\",TEXT(Sheet1!R94,\"0\"),TEXT(Sheet1!R94,\"00\"))))","v":""},{"$f":"IF(Sheet1!T94=\"\",\"\",IF(VLOOKUP(Sheet1!T94,Sheet2!$A$2:$C$44,3,FALSE)>=71,VLOOKUP(Sheet1!T94,Sheet2!$A$2:$C$44,2,FALSE)&TEXT(Sheet1!V94,\"00\")&TEXT(Sheet1!W94,\"00\"),VLOOKUP(Sheet1!T94,Sheet2!$A$2:$C$44,2,FALSE)&TEXT(Sheet1!U94,\"00\")&TEXT(Sheet1!V94,\"00\")&IF(Sheet1!X94=\"手\",TEXT(Sheet1!W94,\"0\"),TEXT(Sheet1!W94,\"00\"))))","v":""}]
["",{"$f":"ASC(IF(Sheet1!C95=\"\",\"\",IF(LEN(Sheet1!C95)+LEN(Sheet1!D95)=2,Sheet1!C95&\"      \"&Sheet1!D95&\"(\"&Sheet1!G95&\")\",IF(LEN(Sheet1!C95)+LEN(Sheet1!D95)=3,Sheet1!C95&\"    \"&Sheet1!D95&\"(\"&Sheet1!G95&\")\",IF(LEN(Sheet1!C95)+LEN(Sheet1!D95)=4,Sheet1!C95&\"  \"&Sheet1!D95&\"(\"&Sheet1!G95&\")\",IF(LEN(Sheet1!C95)+LEN(Sheet1!D95)>=5,Sheet1!C95&Sheet1!D95&\"(\"&Sheet1!G95&\")\",\"\"))))))","v":""},{"$f":"ASC(IF(Sheet1!E95=\"\",\"\",Sheet1!E95&\" \"&Sheet1!F95))","v":""},{"$f":"IF(Sheet1!H95=\"\",\"\",IF(Sheet1!H95=\"女\",2,1))","v":""},{"$f":"IF(Sheet1!I95=\"\",\"\",VLOOKUP(Sheet1!I95,Sheet2!$F$2:$G$50,2,FALSE))","v":""},{"$f":"IF(B85=\"\",\"\",IF(Sheet1!$D$4=\"\",Sheet1!$D$5,VALUE(Sheet1!$D$4)))","v":""},{"$f":"IF(Sheet1!B95=\"\",\"\",VALUE(Sheet1!B95))","v":""},{"$f":"IF(Sheet1!J95=\"\",\"\",IF(VLOOKUP(Sheet1!J95,Sheet2!$A$2:$C$44,3,FALSE)>=71,VLOOKUP(Sheet1!J95,Sheet2!$A$2:$C$44,2,FALSE)&TEXT(Sheet1!L95,\"00\")&TEXT(Sheet1!M95,\"00\"),VLOOKUP(Sheet1!J95,Sheet2!$A$2:$C$44,2,FALSE)&TEXT(Sheet1!K95,\"00\")&TEXT(Sheet1!L95,\"00\")&IF(Sheet1!N95=\"手\",TEXT(Sheet1!M95,\"0\"),TEXT(Sheet1!M95,\"00\"))))","v":""},{"$f":"IF(Sheet1!O95=\"\",\"\",IF(VLOOKUP(Sheet1!O95,Sheet2!$A$2:$C$44,3,FALSE)>=71,VLOOKUP(Sheet1!O95,Sheet2!$A$2:$C$44,2,FALSE)&TEXT(Sheet1!Q95,\"00\")&TEXT(Sheet1!R95,\"00\"),VLOOKUP(Sheet1!O95,Sheet2!$A$2:$C$44,2,FALSE)&TEXT(Sheet1!P95,\"00\")&TEXT(Sheet1!Q95,\"00\")&IF(Sheet1!S95=\"手\",TEXT(Sheet1!R95,\"0\"),TEXT(Sheet1!R95,\"00\"))))","v":""},{"$f":"IF(Sheet1!T95=\"\",\"\",IF(VLOOKUP(Sheet1!T95,Sheet2!$A$2:$C$44,3,FALSE)>=71,VLOOKUP(Sheet1!T95,Sheet2!$A$2:$C$44,2,FALSE)&TEXT(Sheet1!V95,\"00\")&TEXT(Sheet1!W95,\"00\"),VLOOKUP(Sheet1!T95,Sheet2!$A$2:$C$44,2,FALSE)&TEXT(Sheet1!U95,\"00\")&TEXT(Sheet1!V95,\"00\")&IF(Sheet1!X95=\"手\",TEXT(Sheet1!W95,\"0\"),TEXT(Sheet1!W95,\"00\"))))","v":""}]
["",{"$f":"ASC(IF(Sheet1!C96=\"\",\"\",IF(LEN(Sheet1!C96)+LEN(Sheet1!D96)=2,Sheet1!C96&\"      \"&Sheet1!D96&\"(\"&Sheet1!G96&\")\",IF(LEN(Sheet1!C96)+LEN(Sheet1!D96)=3,Sheet1!C96&\"    \"&Sheet1!D96&\"(\"&Sheet1!G96&\")\",IF(LEN(Sheet1!C96)+LEN(Sheet1!D96)=4,Sheet1!C96&\"  \"&Sheet1!D96&\"(\"&Sheet1!G96&\")\",IF(LEN(Sheet1!C96)+LEN(Sheet1!D96)>=5,Sheet1!C96&Sheet1!D96&\"(\"&Sheet1!G96&\")\",\"\"))))))","v":""},{"$f":"ASC(IF(Sheet1!E96=\"\",\"\",Sheet1!E96&\" \"&Sheet1!F96))","v":""},{"$f":"IF(Sheet1!H96=\"\",\"\",IF(Sheet1!H96=\"女\",2,1))","v":""},{"$f":"IF(Sheet1!I96=\"\",\"\",VLOOKUP(Sheet1!I96,Sheet2!$F$2:$G$50,2,FALSE))","v":""},{"$f":"IF(B86=\"\",\"\",IF(Sheet1!$D$4=\"\",Sheet1!$D$5,VALUE(Sheet1!$D$4)))","v":""},{"$f":"IF(Sheet1!B96=\"\",\"\",VALUE(Sheet1!B96))","v":""},{"$f":"IF(Sheet1!J96=\"\",\"\",IF(VLOOKUP(Sheet1!J96,Sheet2!$A$2:$C$44,3,FALSE)>=71,VLOOKUP(Sheet1!J96,Sheet2!$A$2:$C$44,2,FALSE)&TEXT(Sheet1!L96,\"00\")&TEXT(Sheet1!M96,\"00\"),VLOOKUP(Sheet1!J96,Sheet2!$A$2:$C$44,2,FALSE)&TEXT(Sheet1!K96,\"00\")&TEXT(Sheet1!L96,\"00\")&IF(Sheet1!N96=\"手\",TEXT(Sheet1!M96,\"0\"),TEXT(Sheet1!M96,\"00\"))))","v":""},{"$f":"IF(Sheet1!O96=\"\",\"\",IF(VLOOKUP(Sheet1!O96,Sheet2!$A$2:$C$44,3,FALSE)>=71,VLOOKUP(Sheet1!O96,Sheet2!$A$2:$C$44,2,FALSE)&TEXT(Sheet1!Q96,\"00\")&TEXT(Sheet1!R96,\"00\"),VLOOKUP(Sheet1!O96,Sheet2!$A$2:$C$44,2,FALSE)&TEXT(Sheet1!P96,\"00\")&TEXT(Sheet1!Q96,\"00\")&IF(Sheet1!S96=\"手\",TEXT(Sheet1!R96,\"0\"),TEXT(Sheet1!R96,\"00\"))))","v":""},{"$f":"IF(Sheet1!T96=\"\",\"\",IF(VLOOKUP(Sheet1!T96,Sheet2!$A$2:$C$44,3,FALSE)>=71,VLOOKUP(Sheet1!T96,Sheet2!$A$2:$C$44,2,FALSE)&TEXT(Sheet1!V96,\"00\")&TEXT(Sheet1!W96,\"00\"),VLOOKUP(Sheet1!T96,Sheet2!$A$2:$C$44,2,FALSE)&TEXT(Sheet1!U96,\"00\")&TEXT(Sheet1!V96,\"00\")&IF(Sheet1!X96=\"手\",TEXT(Sheet1!W96,\"0\"),TEXT(Sheet1!W96,\"00\"))))","v":""}]
["",{"$f":"ASC(IF(Sheet1!C97=\"\",\"\",IF(LEN(Sheet1!C97)+LEN(Sheet1!D97)=2,Sheet1!C97&\"      \"&Sheet1!D97&\"(\"&Sheet1!G97&\")\",IF(LEN(Sheet1!C97)+LEN(Sheet1!D97)=3,Sheet1!C97&\"    \"&Sheet1!D97&\"(\"&Sheet1!G97&\")\",IF(LEN(Sheet1!C97)+LEN(Sheet1!D97)=4,Sheet1!C97&\"  \"&Sheet1!D97&\"(\"&Sheet1!G97&\")\",IF(LEN(Sheet1!C97)+LEN(Sheet1!D97)>=5,Sheet1!C97&Sheet1!D97&\"(\"&Sheet1!G97&\")\",\"\"))))))","v":""},{"$f":"ASC(IF(Sheet1!E97=\"\",\"\",Sheet1!E97&\" \"&Sheet1!F97))","v":""},{"$f":"IF(Sheet1!H97=\"\",\"\",IF(Sheet1!H97=\"女\",2,1))","v":""},{"$f":"IF(Sheet1!I97=\"\",\"\",VLOOKUP(Sheet1!I97,Sheet2!$F$2:$G$50,2,FALSE))","v":""},{"$f":"IF(B87=\"\",\"\",IF(Sheet1!$D$4=\"\",Sheet1!$D$5,VALUE(Sheet1!$D$4)))","v":""},{"$f":"IF(Sheet1!B97=\"\",\"\",VALUE(Sheet1!B97))","v":""},{"$f":"IF(Sheet1!J97=\"\",\"\",IF(VLOOKUP(Sheet1!J97,Sheet2!$A$2:$C$44,3,FALSE)>=71,VLOOKUP(Sheet1!J97,Sheet2!$A$2:$C$44,2,FALSE)&TEXT(Sheet1!L97,\"00\")&TEXT(Sheet1!M97,\"00\"),VLOOKUP(Sheet1!J97,Sheet2!$A$2:$C$44,2,FALSE)&TEXT(Sheet1!K97,\"00\")&TEXT(Sheet1!L97,\"00\")&IF(Sheet1!N97=\"手\",TEXT(Sheet1!M97,\"0\"),TEXT(Sheet1!M97,\"00\"))))","v":""},{"$f":"IF(Sheet1!O97=\"\",\"\",IF(VLOOKUP(Sheet1!O97,Sheet2!$A$2:$C$44,3,FALSE)>=71,VLOOKUP(Sheet1!O97,Sheet2!$A$2:$C$44,2,FALSE)&TEXT(Sheet1!Q97,\"00\")&TEXT(Sheet1!R97,\"00\"),VLOOKUP(Sheet1!O97,Sheet2!$A$2:$C$44,2,FALSE)&TEXT(Sheet1!P97,\"00\")&TEXT(Sheet1!Q97,\"00\")&IF(Sheet1!S97=\"手\",TEXT(Sheet1!R97,\"0\"),TEXT(Sheet1!R97,\"00\"))))","v":""},{"$f":"IF(Sheet1!T97=\"\",\"\",IF(VLOOKUP(Sheet1!T97,Sheet2!$A$2:$C$44,3,FALSE)>=71,VLOOKUP(Sheet1!T97,Sheet2!$A$2:$C$44,2,FALSE)&TEXT(Sheet1!V97,\"00\")&TEXT(Sheet1!W97,\"00\"),VLOOKUP(Sheet1!T97,Sheet2!$A$2:$C$44,2,FALSE)&TEXT(Sheet1!U97,\"00\")&TEXT(Sheet1!V97,\"00\")&IF(Sheet1!X97=\"手\",TEXT(Sheet1!W97,\"0\"),TEXT(Sheet1!W97,\"00\"))))","v":""}]
["",{"$f":"ASC(IF(Sheet1!C98=\"\",\"\",IF(LEN(Sheet1!C98)+LEN(Sheet1!D98)=2,Sheet1!C98&\"      \"&Sheet1!D98&\"(\"&Sheet1!G98&\")\",IF(LEN(Sheet1!C98)+LEN(Sheet1!D98)=3,Sheet1!C98&\"    \"&Sheet1!D98&\"(\"&Sheet1!G98&\")\",IF(LEN(Sheet1!C98)+LEN(Sheet1!D98)=4,Sheet1!C98&\"  \"&Sheet1!D98&\"(\"&Sheet1!G98&\")\",IF(LEN(Sheet1!C98)+LEN(Sheet1!D98)>=5,Sheet1!C98&Sheet1!D98&\"(\"&Sheet1!G98&\")\",\"\"))))))","v":""},{"$f":"ASC(IF(Sheet1!E98=\"\",\"\",Sheet1!E98&\" \"&Sheet1!F98))","v":""},{"$f":"IF(Sheet1!H98=\"\",\"\",IF(Sheet1!H98=\"女\",2,1))","v":""},{"$f":"IF(Sheet1!I98=\"\",\"\",VLOOKUP(Sheet1!I98,Sheet2!$F$2:$G$50,2,FALSE))","v":""},{"$f":"IF(B88=\"\",\"\",IF(Sheet1!$D$4=\"\",Sheet1!$D$5,VALUE(Sheet1!$D$4)))","v":""},{"$f":"IF(Sheet1!B98=\"\",\"\",VALUE(Sheet1!B98))","v":""},{"$f":"IF(Sheet1!J98=\"\",\"\",IF(VLOOKUP(Sheet1!J98,Sheet2!$A$2:$C$44,3,FALSE)>=71,VLOOKUP(Sheet1!J98,Sheet2!$A$2:$C$44,2,FALSE)&TEXT(Sheet1!L98,\"00\")&TEXT(Sheet1!M98,\"00\"),VLOOKUP(Sheet1!J98,Sheet2!$A$2:$C$44,2,FALSE)&TEXT(Sheet1!K98,\"00\")&TEXT(Sheet1!L98,\"00\")&IF(Sheet1!N98=\"手\",TEXT(Sheet1!M98,\"0\"),TEXT(Sheet1!M98,\"00\"))))","v":""},{"$f":"IF(Sheet1!O98=\"\",\"\",IF(VLOOKUP(Sheet1!O98,Sheet2!$A$2:$C$44,3,FALSE)>=71,VLOOKUP(Sheet1!O98,Sheet2!$A$2:$C$44,2,FALSE)&TEXT(Sheet1!Q98,\"00\")&TEXT(Sheet1!R98,\"00\"),VLOOKUP(Sheet1!O98,Sheet2!$A$2:$C$44,2,FALSE)&TEXT(Sheet1!P98,\"00\")&TEXT(Sheet1!Q98,\"00\")&IF(Sheet1!S98=\"手\",TEXT(Sheet1!R98,\"0\"),TEXT(Sheet1!R98,\"00\"))))","v":""},{"$f":"IF(Sheet1!T98=\"\",\"\",IF(VLOOKUP(Sheet1!T98,Sheet2!$A$2:$C$44,3,FALSE)>=71,VLOOKUP(Sheet1!T98,Sheet2!$A$2:$C$44,2,FALSE)&TEXT(Sheet1!V98,\"00\")&TEXT(Sheet1!W98,\"00\"),VLOOKUP(Sheet1!T98,Sheet2!$A$2:$C$44,2,FALSE)&TEXT(Sheet1!U98,\"00\")&TEXT(Sheet1!V98,\"00\")&IF(Sheet1!X98=\"手\",TEXT(Sheet1!W98,\"0\"),TEXT(Sheet1!W98,\"00\"))))","v":""}]
["",{"$f":"ASC(IF(Sheet1!C99=\"\",\"\",IF(LEN(Sheet1!C99)+LEN(Sheet1!D99)=2,Sheet1!C99&\"      \"&Sheet1!D99&\"(\"&Sheet1!G99&\")\",IF(LEN(Sheet1!C99)+LEN(Sheet1!D99)=3,Sheet1!C99&\"    \"&Sheet1!D99&\"(\"&Sheet1!G99&\")\",IF(LEN(Sheet1!C99)+LEN(Sheet1!D99)=4,Sheet1!C99&\"  \"&Sheet1!D99&\"(\"&Sheet1!G99&\")\",IF(LEN(Sheet1!C99)+LEN(Sheet1!D99)>=5,Sheet1!C99&Sheet1!D99&\"(\"&Sheet1!G99&\")\",\"\"))))))","v":""},{"$f":"ASC(IF(Sheet1!E99=\"\",\"\",Sheet1!E99&\" \"&Sheet1!F99))","v":""},{"$f":"IF(Sheet1!H99=\"\",\"\",IF(Sheet1!H99=\"女\",2,1))","v":""},{"$f":"IF(Sheet1!I99=\"\",\"\",VLOOKUP(Sheet1!I99,Sheet2!$F$2:$G$50,2,FALSE))","v":""},{"$f":"IF(B89=\"\",\"\",IF(Sheet1!$D$4=\"\",Sheet1!$D$5,VALUE(Sheet1!$D$4)))","v":""},{"$f":"IF(Sheet1!B99=\"\",\"\",VALUE(Sheet1!B99))","v":""},{"$f":"IF(Sheet1!J99=\"\",\"\",IF(VLOOKUP(Sheet1!J99,Sheet2!$A$2:$C$44,3,FALSE)>=71,VLOOKUP(Sheet1!J99,Sheet2!$A$2:$C$44,2,FALSE)&TEXT(Sheet1!L99,\"00\")&TEXT(Sheet1!M99,\"00\"),VLOOKUP(Sheet1!J99,Sheet2!$A$2:$C$44,2,FALSE)&TEXT(Sheet1!K99,\"00\")&TEXT(Sheet1!L99,\"00\")&IF(Sheet1!N99=\"手\",TEXT(Sheet1!M99,\"0\"),TEXT(Sheet1!M99,\"00\"))))","v":""},{"$f":"IF(Sheet1!O99=\"\",\"\",IF(VLOOKUP(Sheet1!O99,Sheet2!$A$2:$C$44,3,FALSE)>=71,VLOOKUP(Sheet1!O99,Sheet2!$A$2:$C$44,2,FALSE)&TEXT(Sheet1!Q99,\"00\")&TEXT(Sheet1!R99,\"00\"),VLOOKUP(Sheet1!O99,Sheet2!$A$2:$C$44,2,FALSE)&TEXT(Sheet1!P99,\"00\")&TEXT(Sheet1!Q99,\"00\")&IF(Sheet1!S99=\"手\",TEXT(Sheet1!R99,\"0\"),TEXT(Sheet1!R99,\"00\"))))","v":""},{"$f":"IF(Sheet1!T99=\"\",\"\",IF(VLOOKUP(Sheet1!T99,Sheet2!$A$2:$C$44,3,FALSE)>=71,VLOOKUP(Sheet1!T99,Sheet2!$A$2:$C$44,2,FALSE)&TEXT(Sheet1!V99,\"00\")&TEXT(Sheet1!W99,\"00\"),VLOOKUP(Sheet1!T99,Sheet2!$A$2:$C$44,2,FALSE)&TEXT(Sheet1!U99,\"00\")&TEXT(Sheet1!V99,\"00\")&IF(Sheet1!X99=\"手\",TEXT(Sheet1!W99,\"0\"),TEXT(Sheet1!W99,\"00\"))))","v":""}]
["",{"$f":"ASC(IF(Sheet1!C100=\"\",\"\",IF(LEN(Sheet1!C100)+LEN(Sheet1!D100)=2,Sheet1!C100&\"      \"&Sheet1!D100&\"(\"&Sheet1!G100&\")\",IF(LEN(Sheet1!C100)+LEN(Sheet1!D100)=3,Sheet1!C100&\"    \"&Sheet1!D100&\"(\"&Sheet1!G100&\")\",IF(LEN(Sheet1!C100)+LEN(Sheet1!D100)=4,Sheet1!C100&\"  \"&Sheet1!D100&\"(\"&Sheet1!G100&\")\",IF(LEN(Sheet1!C100)+LEN(Sheet1!D100)>=5,Sheet1!C100&Sheet1!D100&\"(\"&Sheet1!G100&\")\",\"\"))))))","v":""},{"$f":"ASC(IF(Sheet1!E100=\"\",\"\",Sheet1!E100&\" \"&Sheet1!F100))","v":""},{"$f":"IF(Sheet1!H100=\"\",\"\",IF(Sheet1!H100=\"女\",2,1))","v":""},{"$f":"IF(Sheet1!I100=\"\",\"\",VLOOKUP(Sheet1!I100,Sheet2!$F$2:$G$50,2,FALSE))","v":""},{"$f":"IF(B90=\"\",\"\",IF(Sheet1!$D$4=\"\",Sheet1!$D$5,VALUE(Sheet1!$D$4)))","v":""},{"$f":"IF(Sheet1!B100=\"\",\"\",VALUE(Sheet1!B100))","v":""},{"$f":"IF(Sheet1!J100=\"\",\"\",IF(VLOOKUP(Sheet1!J100,Sheet2!$A$2:$C$44,3,FALSE)>=71,VLOOKUP(Sheet1!J100,Sheet2!$A$2:$C$44,2,FALSE)&TEXT(Sheet1!L100,\"00\")&TEXT(Sheet1!M100,\"00\"),VLOOKUP(Sheet1!J100,Sheet2!$A$2:$C$44,2,FALSE)&TEXT(Sheet1!K100,\"00\")&TEXT(Sheet1!L100,\"00\")&IF(Sheet1!N100=\"手\",TEXT(Sheet1!M100,\"0\"),TEXT(Sheet1!M100,\"00\"))))","v":""},{"$f":"IF(Sheet1!O100=\"\",\"\",IF(VLOOKUP(Sheet1!O100,Sheet2!$A$2:$C$44,3,FALSE)>=71,VLOOKUP(Sheet1!O100,Sheet2!$A$2:$C$44,2,FALSE)&TEXT(Sheet1!Q100,\"00\")&TEXT(Sheet1!R100,\"00\"),VLOOKUP(Sheet1!O100,Sheet2!$A$2:$C$44,2,FALSE)&TEXT(Sheet1!P100,\"00\")&TEXT(Sheet1!Q100,\"00\")&IF(Sheet1!S100=\"手\",TEXT(Sheet1!R100,\"0\"),TEXT(Sheet1!R100,\"00\"))))","v":""},{"$f":"IF(Sheet1!T100=\"\",\"\",IF(VLOOKUP(Sheet1!T100,Sheet2!$A$2:$C$44,3,FALSE)>=71,VLOOKUP(Sheet1!T100,Sheet2!$A$2:$C$44,2,FALSE)&TEXT(Sheet1!V100,\"00\")&TEXT(Sheet1!W100,\"00\"),VLOOKUP(Sheet1!T100,Sheet2!$A$2:$C$44,2,FALSE)&TEXT(Sheet1!U100,\"00\")&TEXT(Sheet1!V100,\"00\")&IF(Sheet1!X100=\"手\",TEXT(Sheet1!W100,\"0\"),TEXT(Sheet1!W100,\"00\"))))","v":""}]
["",{"$f":"ASC(IF(Sheet1!C101=\"\",\"\",IF(LEN(Sheet1!C101)+LEN(Sheet1!D101)=2,Sheet1!C101&\"      \"&Sheet1!D101&\"(\"&Sheet1!G101&\")\",IF(LEN(Sheet1!C101)+LEN(Sheet1!D101)=3,Sheet1!C101&\"    \"&Sheet1!D101&\"(\"&Sheet1!G101&\")\",IF(LEN(Sheet1!C101)+LEN(Sheet1!D101)=4,Sheet1!C101&\"  \"&Sheet1!D101&\"(\"&Sheet1!G101&\")\",IF(LEN(Sheet1!C101)+LEN(Sheet1!D101)>=5,Sheet1!C101&Sheet1!D101&\"(\"&Sheet1!G101&\")\",\"\"))))))","v":""},{"$f":"ASC(IF(Sheet1!E101=\"\",\"\",Sheet1!E101&\" \"&Sheet1!F101))","v":""},{"$f":"IF(Sheet1!H101=\"\",\"\",IF(Sheet1!H101=\"女\",2,1))","v":""},{"$f":"IF(Sheet1!I101=\"\",\"\",VLOOKUP(Sheet1!I101,Sheet2!$F$2:$G$50,2,FALSE))","v":""},{"$f":"IF(B91=\"\",\"\",IF(Sheet1!$D$4=\"\",Sheet1!$D$5,VALUE(Sheet1!$D$4)))","v":""},{"$f":"IF(Sheet1!B101=\"\",\"\",VALUE(Sheet1!B101))","v":""},{"$f":"IF(Sheet1!J101=\"\",\"\",IF(VLOOKUP(Sheet1!J101,Sheet2!$A$2:$C$44,3,FALSE)>=71,VLOOKUP(Sheet1!J101,Sheet2!$A$2:$C$44,2,FALSE)&TEXT(Sheet1!L101,\"00\")&TEXT(Sheet1!M101,\"00\"),VLOOKUP(Sheet1!J101,Sheet2!$A$2:$C$44,2,FALSE)&TEXT(Sheet1!K101,\"00\")&TEXT(Sheet1!L101,\"00\")&IF(Sheet1!N101=\"手\",TEXT(Sheet1!M101,\"0\"),TEXT(Sheet1!M101,\"00\"))))","v":""},{"$f":"IF(Sheet1!O101=\"\",\"\",IF(VLOOKUP(Sheet1!O101,Sheet2!$A$2:$C$44,3,FALSE)>=71,VLOOKUP(Sheet1!O101,Sheet2!$A$2:$C$44,2,FALSE)&TEXT(Sheet1!Q101,\"00\")&TEXT(Sheet1!R101,\"00\"),VLOOKUP(Sheet1!O101,Sheet2!$A$2:$C$44,2,FALSE)&TEXT(Sheet1!P101,\"00\")&TEXT(Sheet1!Q101,\"00\")&IF(Sheet1!S101=\"手\",TEXT(Sheet1!R101,\"0\"),TEXT(Sheet1!R101,\"00\"))))","v":""},{"$f":"IF(Sheet1!T101=\"\",\"\",IF(VLOOKUP(Sheet1!T101,Sheet2!$A$2:$C$44,3,FALSE)>=71,VLOOKUP(Sheet1!T101,Sheet2!$A$2:$C$44,2,FALSE)&TEXT(Sheet1!V101,\"00\")&TEXT(Sheet1!W101,\"00\"),VLOOKUP(Sheet1!T101,Sheet2!$A$2:$C$44,2,FALSE)&TEXT(Sheet1!U101,\"00\")&TEXT(Sheet1!V101,\"00\")&IF(Sheet1!X101=\"手\",TEXT(Sheet1!W101,\"0\"),TEXT(Sheet1!W101,\"00\"))))","v":""}]
["",{"$f":"ASC(IF(Sheet1!C102=\"\",\"\",IF(LEN(Sheet1!C102)+LEN(Sheet1!D102)=2,Sheet1!C102&\"      \"&Sheet1!D102&\"(\"&Sheet1!G102&\")\",IF(LEN(Sheet1!C102)+LEN(Sheet1!D102)=3,Sheet1!C102&\"    \"&Sheet1!D102&\"(\"&Sheet1!G102&\")\",IF(LEN(Sheet1!C102)+LEN(Sheet1!D102)=4,Sheet1!C102&\"  \"&Sheet1!D102&\"(\"&Sheet1!G102&\")\",IF(LEN(Sheet1!C102)+LEN(Sheet1!D102)>=5,Sheet1!C102&Sheet1!D102&\"(\"&Sheet1!G102&\")\",\"\"))))))","v":""},{"$f":"ASC(IF(Sheet1!E102=\"\",\"\",Sheet1!E102&\" \"&Sheet1!F102))","v":""},{"$f":"IF(Sheet1!H102=\"\",\"\",IF(Sheet1!H102=\"女\",2,1))","v":""},{"$f":"IF(Sheet1!I102=\"\",\"\",VLOOKUP(Sheet1!I102,Sheet2!$F$2:$G$50,2,FALSE))","v":""},{"$f":"IF(B92=\"\",\"\",IF(Sheet1!$D$4=\"\",Sheet1!$D$5,VALUE(Sheet1!$D$4)))","v":""},{"$f":"IF(Sheet1!B102=\"\",\"\",VALUE(Sheet1!B102))","v":""},{"$f":"IF(Sheet1!J102=\"\",\"\",IF(VLOOKUP(Sheet1!J102,Sheet2!$A$2:$C$44,3,FALSE)>=71,VLOOKUP(Sheet1!J102,Sheet2!$A$2:$C$44,2,FALSE)&TEXT(Sheet1!L102,\"00\")&TEXT(Sheet1!M102,\"00\"),VLOOKUP(Sheet1!J102,Sheet2!$A$2:$C$44,2,FALSE)&TEXT(Sheet1!K102,\"00\")&TEXT(Sheet1!L102,\"00\")&IF(Sheet1!N102=\"手\",TEXT(Sheet1!M102,\"0\"),TEXT(Sheet1!M102,\"00\"))))","v":""},{"$f":"IF(Sheet1!O102=\"\",\"\",IF(VLOOKUP(Sheet1!O102,Sheet2!$A$2:$C$44,3,FALSE)>=71,VLOOKUP(Sheet1!O102,Sheet2!$A$2:$C$44,2,FALSE)&TEXT(Sheet1!Q102,\"00\")&TEXT(Sheet1!R102,\"00\"),VLOOKUP(Sheet1!O102,Sheet2!$A$2:$C$44,2,FALSE)&TEXT(Sheet1!P102,\"00\")&TEXT(Sheet1!Q102,\"00\")&IF(Sheet1!S102=\"手\",TEXT(Sheet1!R102,\"0\"),TEXT(Sheet1!R102,\"00\"))))","v":""},{"$f":"IF(Sheet1!T102=\"\",\"\",IF(VLOOKUP(Sheet1!T102,Sheet2!$A$2:$C$44,3,FALSE)>=71,VLOOKUP(Sheet1!T102,Sheet2!$A$2:$C$44,2,FALSE)&TEXT(Sheet1!V102,\"00\")&TEXT(Sheet1!W102,\"00\"),VLOOKUP(Sheet1!T102,Sheet2!$A$2:$C$44,2,FALSE)&TEXT(Sheet1!U102,\"00\")&TEXT(Sheet1!V102,\"00\")&IF(Sheet1!X102=\"手\",TEXT(Sheet1!W102,\"0\"),TEXT(Sheet1!W102,\"00\"))))","v":""}]
["",{"$f":"ASC(IF(Sheet1!C103=\"\",\"\",IF(LEN(Sheet1!C103)+LEN(Sheet1!D103)=2,Sheet1!C103&\"      \"&Sheet1!D103&\"(\"&Sheet1!G103&\")\",IF(LEN(Sheet1!C103)+LEN(Sheet1!D103)=3,Sheet1!C103&\"    \"&Sheet1!D103&\"(\"&Sheet1!G103&\")\",IF(LEN(Sheet1!C103)+LEN(Sheet1!D103)=4,Sheet1!C103&\"  \"&Sheet1!D103&\"(\"&Sheet1!G103&\")\",IF(LEN(Sheet1!C103)+LEN(Sheet1!D103)>=5,Sheet1!C103&Sheet1!D103&\"(\"&Sheet1!G103&\")\",\"\"))))))","v":""},{"$f":"ASC(IF(Sheet1!E103=\"\",\"\",Sheet1!E103&\" \"&Sheet1!F103))","v":""},{"$f":"IF(Sheet1!H103=\"\",\"\",IF(Sheet1!H103=\"女\",2,1))","v":""},{"$f":"IF(Sheet1!I103=\"\",\"\",VLOOKUP(Sheet1!I103,Sheet2!$F$2:$G$50,2,FALSE))","v":""},{"$f":"IF(B93=\"\",\"\",IF(Sheet1!$D$4=\"\",Sheet1!$D$5,VALUE(Sheet1!$D$4)))","v":""},{"$f":"IF(Sheet1!B103=\"\",\"\",VALUE(Sheet1!B103))","v":""},{"$f":"IF(Sheet1!J103=\"\",\"\",IF(VLOOKUP(Sheet1!J103,Sheet2!$A$2:$C$44,3,FALSE)>=71,VLOOKUP(Sheet1!J103,Sheet2!$A$2:$C$44,2,FALSE)&TEXT(Sheet1!L103,\"00\")&TEXT(Sheet1!M103,\"00\"),VLOOKUP(Sheet1!J103,Sheet2!$A$2:$C$44,2,FALSE)&TEXT(Sheet1!K103,\"00\")&TEXT(Sheet1!L103,\"00\")&IF(Sheet1!N103=\"手\",TEXT(Sheet1!M103,\"0\"),TEXT(Sheet1!M103,\"00\"))))","v":""},{"$f":"IF(Sheet1!O103=\"\",\"\",IF(VLOOKUP(Sheet1!O103,Sheet2!$A$2:$C$44,3,FALSE)>=71,VLOOKUP(Sheet1!O103,Sheet2!$A$2:$C$44,2,FALSE)&TEXT(Sheet1!Q103,\"00\")&TEXT(Sheet1!R103,\"00\"),VLOOKUP(Sheet1!O103,Sheet2!$A$2:$C$44,2,FALSE)&TEXT(Sheet1!P103,\"00\")&TEXT(Sheet1!Q103,\"00\")&IF(Sheet1!S103=\"手\",TEXT(Sheet1!R103,\"0\"),TEXT(Sheet1!R103,\"00\"))))","v":""},{"$f":"IF(Sheet1!T103=\"\",\"\",IF(VLOOKUP(Sheet1!T103,Sheet2!$A$2:$C$44,3,FALSE)>=71,VLOOKUP(Sheet1!T103,Sheet2!$A$2:$C$44,2,FALSE)&TEXT(Sheet1!V103,\"00\")&TEXT(Sheet1!W103,\"00\"),VLOOKUP(Sheet1!T103,Sheet2!$A$2:$C$44,2,FALSE)&TEXT(Sheet1!U103,\"00\")&TEXT(Sheet1!V103,\"00\")&IF(Sheet1!X103=\"手\",TEXT(Sheet1!W103,\"0\"),TEXT(Sheet1!W103,\"00\"))))","v":""}]
["",{"$f":"ASC(IF(Sheet1!C104=\"\",\"\",IF(LEN(Sheet1!C104)+LEN(Sheet1!D104)=2,Sheet1!C104&\"      \"&Sheet1!D104&\"(\"&Sheet1!G104&\")\",IF(LEN(Sheet1!C104)+LEN(Sheet1!D104)=3,Sheet1!C104&\"    \"&Sheet1!D104&\"(\"&Sheet1!G104&\")\",IF(LEN(Sheet1!C104)+LEN(Sheet1!D104)=4,Sheet1!C104&\"  \"&Sheet1!D104&\"(\"&Sheet1!G104&\")\",IF(LEN(Sheet1!C104)+LEN(Sheet1!D104)>=5,Sheet1!C104&Sheet1!D104&\"(\"&Sheet1!G104&\")\",\"\"))))))","v":""},{"$f":"ASC(IF(Sheet1!E104=\"\",\"\",Sheet1!E104&\" \"&Sheet1!F104))","v":""},{"$f":"IF(Sheet1!H104=\"\",\"\",IF(Sheet1!H104=\"女\",2,1))","v":""},{"$f":"IF(Sheet1!I104=\"\",\"\",VLOOKUP(Sheet1!I104,Sheet2!$F$2:$G$50,2,FALSE))","v":""},{"$f":"IF(B94=\"\",\"\",IF(Sheet1!$D$4=\"\",Sheet1!$D$5,VALUE(Sheet1!$D$4)))","v":""},{"$f":"IF(Sheet1!B104=\"\",\"\",VALUE(Sheet1!B104))","v":""},{"$f":"IF(Sheet1!J104=\"\",\"\",IF(VLOOKUP(Sheet1!J104,Sheet2!$A$2:$C$44,3,FALSE)>=71,VLOOKUP(Sheet1!J104,Sheet2!$A$2:$C$44,2,FALSE)&TEXT(Sheet1!L104,\"00\")&TEXT(Sheet1!M104,\"00\"),VLOOKUP(Sheet1!J104,Sheet2!$A$2:$C$44,2,FALSE)&TEXT(Sheet1!K104,\"00\")&TEXT(Sheet1!L104,\"00\")&IF(Sheet1!N104=\"手\",TEXT(Sheet1!M104,\"0\"),TEXT(Sheet1!M104,\"00\"))))","v":""},{"$f":"IF(Sheet1!O104=\"\",\"\",IF(VLOOKUP(Sheet1!O104,Sheet2!$A$2:$C$44,3,FALSE)>=71,VLOOKUP(Sheet1!O104,Sheet2!$A$2:$C$44,2,FALSE)&TEXT(Sheet1!Q104,\"00\")&TEXT(Sheet1!R104,\"00\"),VLOOKUP(Sheet1!O104,Sheet2!$A$2:$C$44,2,FALSE)&TEXT(Sheet1!P104,\"00\")&TEXT(Sheet1!Q104,\"00\")&IF(Sheet1!S104=\"手\",TEXT(Sheet1!R104,\"0\"),TEXT(Sheet1!R104,\"00\"))))","v":""},{"$f":"IF(Sheet1!T104=\"\",\"\",IF(VLOOKUP(Sheet1!T104,Sheet2!$A$2:$C$44,3,FALSE)>=71,VLOOKUP(Sheet1!T104,Sheet2!$A$2:$C$44,2,FALSE)&TEXT(Sheet1!V104,\"00\")&TEXT(Sheet1!W104,\"00\"),VLOOKUP(Sheet1!T104,Sheet2!$A$2:$C$44,2,FALSE)&TEXT(Sheet1!U104,\"00\")&TEXT(Sheet1!V104,\"00\")&IF(Sheet1!X104=\"手\",TEXT(Sheet1!W104,\"0\"),TEXT(Sheet1!W104,\"00\"))))","v":""}]
["",{"$f":"ASC(IF(Sheet1!C105=\"\",\"\",IF(LEN(Sheet1!C105)+LEN(Sheet1!D105)=2,Sheet1!C105&\"      \"&Sheet1!D105&\"(\"&Sheet1!G105&\")\",IF(LEN(Sheet1!C105)+LEN(Sheet1!D105)=3,Sheet1!C105&\"    \"&Sheet1!D105&\"(\"&Sheet1!G105&\")\",IF(LEN(Sheet1!C105)+LEN(Sheet1!D105)=4,Sheet1!C105&\"  \"&Sheet1!D105&\"(\"&Sheet1!G105&\")\",IF(LEN(Sheet1!C105)+LEN(Sheet1!D105)>=5,Sheet1!C105&Sheet1!D105&\"(\"&Sheet1!G105&\")\",\"\"))))))","v":""},{"$f":"ASC(IF(Sheet1!E105=\"\",\"\",Sheet1!E105&\" \"&Sheet1!F105))","v":""},{"$f":"IF(Sheet1!H105=\"\",\"\",IF(Sheet1!H105=\"女\",2,1))","v":""},{"$f":"IF(Sheet1!I105=\"\",\"\",VLOOKUP(Sheet1!I105,Sheet2!$F$2:$G$50,2,FALSE))","v":""},{"$f":"IF(B95=\"\",\"\",IF(Sheet1!$D$4=\"\",Sheet1!$D$5,VALUE(Sheet1!$D$4)))","v":""},{"$f":"IF(Sheet1!B105=\"\",\"\",VALUE(Sheet1!B105))","v":""},{"$f":"IF(Sheet1!J105=\"\",\"\",IF(VLOOKUP(Sheet1!J105,Sheet2!$A$2:$C$44,3,FALSE)>=71,VLOOKUP(Sheet1!J105,Sheet2!$A$2:$C$44,2,FALSE)&TEXT(Sheet1!L105,\"00\")&TEXT(Sheet1!M105,\"00\"),VLOOKUP(Sheet1!J105,Sheet2!$A$2:$C$44,2,FALSE)&TEXT(Sheet1!K105,\"00\")&TEXT(Sheet1!L105,\"00\")&IF(Sheet1!N105=\"手\",TEXT(Sheet1!M105,\"0\"),TEXT(Sheet1!M105,\"00\"))))","v":""},{"$f":"IF(Sheet1!O105=\"\",\"\",IF(VLOOKUP(Sheet1!O105,Sheet2!$A$2:$C$44,3,FALSE)>=71,VLOOKUP(Sheet1!O105,Sheet2!$A$2:$C$44,2,FALSE)&TEXT(Sheet1!Q105,\"00\")&TEXT(Sheet1!R105,\"00\"),VLOOKUP(Sheet1!O105,Sheet2!$A$2:$C$44,2,FALSE)&TEXT(Sheet1!P105,\"00\")&TEXT(Sheet1!Q105,\"00\")&IF(Sheet1!S105=\"手\",TEXT(Sheet1!R105,\"0\"),TEXT(Sheet1!R105,\"00\"))))","v":""},{"$f":"IF(Sheet1!T105=\"\",\"\",IF(VLOOKUP(Sheet1!T105,Sheet2!$A$2:$C$44,3,FALSE)>=71,VLOOKUP(Sheet1!T105,Sheet2!$A$2:$C$44,2,FALSE)&TEXT(Sheet1!V105,\"00\")&TEXT(Sheet1!W105,\"00\"),VLOOKUP(Sheet1!T105,Sheet2!$A$2:$C$44,2,FALSE)&TEXT(Sheet1!U105,\"00\")&TEXT(Sheet1!V105,\"00\")&IF(Sheet1!X105=\"手\",TEXT(Sheet1!W105,\"0\"),TEXT(Sheet1!W105,\"00\"))))","v":""}]
["",{"$f":"ASC(IF(Sheet1!C106=\"\",\"\",IF(LEN(Sheet1!C106)+LEN(Sheet1!D106)=2,Sheet1!C106&\"      \"&Sheet1!D106&\"(\"&Sheet1!G106&\")\",IF(LEN(Sheet1!C106)+LEN(Sheet1!D106)=3,Sheet1!C106&\"    \"&Sheet1!D106&\"(\"&Sheet1!G106&\")\",IF(LEN(Sheet1!C106)+LEN(Sheet1!D106)=4,Sheet1!C106&\"  \"&Sheet1!D106&\"(\"&Sheet1!G106&\")\",IF(LEN(Sheet1!C106)+LEN(Sheet1!D106)>=5,Sheet1!C106&Sheet1!D106&\"(\"&Sheet1!G106&\")\",\"\"))))))","v":""},{"$f":"ASC(IF(Sheet1!E106=\"\",\"\",Sheet1!E106&\" \"&Sheet1!F106))","v":""},{"$f":"IF(Sheet1!H106=\"\",\"\",IF(Sheet1!H106=\"女\",2,1))","v":""},{"$f":"IF(Sheet1!I106=\"\",\"\",VLOOKUP(Sheet1!I106,Sheet2!$F$2:$G$50,2,FALSE))","v":""},{"$f":"IF(B96=\"\",\"\",IF(Sheet1!$D$4=\"\",Sheet1!$D$5,VALUE(Sheet1!$D$4)))","v":""},{"$f":"IF(Sheet1!B106=\"\",\"\",VALUE(Sheet1!B106))","v":""},{"$f":"IF(Sheet1!J106=\"\",\"\",IF(VLOOKUP(Sheet1!J106,Sheet2!$A$2:$C$44,3,FALSE)>=71,VLOOKUP(Sheet1!J106,Sheet2!$A$2:$C$44,2,FALSE)&TEXT(Sheet1!L106,\"00\")&TEXT(Sheet1!M106,\"00\"),VLOOKUP(Sheet1!J106,Sheet2!$A$2:$C$44,2,FALSE)&TEXT(Sheet1!K106,\"00\")&TEXT(Sheet1!L106,\"00\")&IF(Sheet1!N106=\"手\",TEXT(Sheet1!M106,\"0\"),TEXT(Sheet1!M106,\"00\"))))","v":""},{"$f":"IF(Sheet1!O106=\"\",\"\",IF(VLOOKUP(Sheet1!O106,Sheet2!$A$2:$C$44,3,FALSE)>=71,VLOOKUP(Sheet1!O106,Sheet2!$A$2:$C$44,2,FALSE)&TEXT(Sheet1!Q106,\"00\")&TEXT(Sheet1!R106,\"00\"),VLOOKUP(Sheet1!O106,Sheet2!$A$2:$C$44,2,FALSE)&TEXT(Sheet1!P106,\"00\")&TEXT(Sheet1!Q106,\"00\")&IF(Sheet1!S106=\"手\",TEXT(Sheet1!R106,\"0\"),TEXT(Sheet1!R106,\"00\"))))","v":""},{"$f":"IF(Sheet1!T106=\"\",\"\",IF(VLOOKUP(Sheet1!T106,Sheet2!$A$2:$C$44,3,FALSE)>=71,VLOOKUP(Sheet1!T106,Sheet2!$A$2:$C$44,2,FALSE)&TEXT(Sheet1!V106,\"00\")&TEXT(Sheet1!W106,\"00\"),VLOOKUP(Sheet1!T106,Sheet2!$A$2:$C$44,2,FALSE)&TEXT(Sheet1!U106,\"00\")&TEXT(Sheet1!V106,\"00\")&IF(Sheet1!X106=\"手\",TEXT(Sheet1!W106,\"0\"),TEXT(Sheet1!W106,\"00\"))))","v":""}]
["",{"$f":"ASC(IF(Sheet1!C107=\"\",\"\",IF(LEN(Sheet1!C107)+LEN(Sheet1!D107)=2,Sheet1!C107&\"      \"&Sheet1!D107&\"(\"&Sheet1!G107&\")\",IF(LEN(Sheet1!C107)+LEN(Sheet1!D107)=3,Sheet1!C107&\"    \"&Sheet1!D107&\"(\"&Sheet1!G107&\")\",IF(LEN(Sheet1!C107)+LEN(Sheet1!D107)=4,Sheet1!C107&\"  \"&Sheet1!D107&\"(\"&Sheet1!G107&\")\",IF(LEN(Sheet1!C107)+LEN(Sheet1!D107)>=5,Sheet1!C107&Sheet1!D107&\"(\"&Sheet1!G107&\")\",\"\"))))))","v":""},{"$f":"ASC(IF(Sheet1!E107=\"\",\"\",Sheet1!E107&\" \"&Sheet1!F107))","v":""},{"$f":"IF(Sheet1!H107=\"\",\"\",IF(Sheet1!H107=\"女\",2,1))","v":""},{"$f":"IF(Sheet1!I107=\"\",\"\",VLOOKUP(Sheet1!I107,Sheet2!$F$2:$G$50,2,FALSE))","v":""},{"$f":"IF(B97=\"\",\"\",IF(Sheet1!$D$4=\"\",Sheet1!$D$5,VALUE(Sheet1!$D$4)))","v":""},{"$f":"IF(Sheet1!B107=\"\",\"\",VALUE(Sheet1!B107))","v":""},{"$f":"IF(Sheet1!J107=\"\",\"\",IF(VLOOKUP(Sheet1!J107,Sheet2!$A$2:$C$44,3,FALSE)>=71,VLOOKUP(Sheet1!J107,Sheet2!$A$2:$C$44,2,FALSE)&TEXT(Sheet1!L107,\"00\")&TEXT(Sheet1!M107,\"00\"),VLOOKUP(Sheet1!J107,Sheet2!$A$2:$C$44,2,FALSE)&TEXT(Sheet1!K107,\"00\")&TEXT(Sheet1!L107,\"00\")&IF(Sheet1!N107=\"手\",TEXT(Sheet1!M107,\"0\"),TEXT(Sheet1!M107,\"00\"))))","v":""},{"$f":"IF(Sheet1!O107=\"\",\"\",IF(VLOOKUP(Sheet1!O107,Sheet2!$A$2:$C$44,3,FALSE)>=71,VLOOKUP(Sheet1!O107,Sheet2!$A$2:$C$44,2,FALSE)&TEXT(Sheet1!Q107,\"00\")&TEXT(Sheet1!R107,\"00\"),VLOOKUP(Sheet1!O107,Sheet2!$A$2:$C$44,2,FALSE)&TEXT(Sheet1!P107,\"00\")&TEXT(Sheet1!Q107,\"00\")&IF(Sheet1!S107=\"手\",TEXT(Sheet1!R107,\"0\"),TEXT(Sheet1!R107,\"00\"))))","v":""},{"$f":"IF(Sheet1!T107=\"\",\"\",IF(VLOOKUP(Sheet1!T107,Sheet2!$A$2:$C$44,3,FALSE)>=71,VLOOKUP(Sheet1!T107,Sheet2!$A$2:$C$44,2,FALSE)&TEXT(Sheet1!V107,\"00\")&TEXT(Sheet1!W107,\"00\"),VLOOKUP(Sheet1!T107,Sheet2!$A$2:$C$44,2,FALSE)&TEXT(Sheet1!U107,\"00\")&TEXT(Sheet1!V107,\"00\")&IF(Sheet1!X107=\"手\",TEXT(Sheet1!W107,\"0\"),TEXT(Sheet1!W107,\"00\"))))","v":""}]
["",{"$f":"ASC(IF(Sheet1!C108=\"\",\"\",IF(LEN(Sheet1!C108)+LEN(Sheet1!D108)=2,Sheet1!C108&\"      \"&Sheet1!D108&\"(\"&Sheet1!G108&\")\",IF(LEN(Sheet1!C108)+LEN(Sheet1!D108)=3,Sheet1!C108&\"    \"&Sheet1!D108&\"(\"&Sheet1!G108&\")\",IF(LEN(Sheet1!C108)+LEN(Sheet1!D108)=4,Sheet1!C108&\"  \"&Sheet1!D108&\"(\"&Sheet1!G108&\")\",IF(LEN(Sheet1!C108)+LEN(Sheet1!D108)>=5,Sheet1!C108&Sheet1!D108&\"(\"&Sheet1!G108&\")\",\"\"))))))","v":""},{"$f":"ASC(IF(Sheet1!E108=\"\",\"\",Sheet1!E108&\" \"&Sheet1!F108))","v":""},{"$f":"IF(Sheet1!H108=\"\",\"\",IF(Sheet1!H108=\"女\",2,1))","v":""},{"$f":"IF(Sheet1!I108=\"\",\"\",VLOOKUP(Sheet1!I108,Sheet2!$F$2:$G$50,2,FALSE))","v":""},{"$f":"IF(B98=\"\",\"\",IF(Sheet1!$D$4=\"\",Sheet1!$D$5,VALUE(Sheet1!$D$4)))","v":""},{"$f":"IF(Sheet1!B108=\"\",\"\",VALUE(Sheet1!B108))","v":""},{"$f":"IF(Sheet1!J108=\"\",\"\",IF(VLOOKUP(Sheet1!J108,Sheet2!$A$2:$C$44,3,FALSE)>=71,VLOOKUP(Sheet1!J108,Sheet2!$A$2:$C$44,2,FALSE)&TEXT(Sheet1!L108,\"00\")&TEXT(Sheet1!M108,\"00\"),VLOOKUP(Sheet1!J108,Sheet2!$A$2:$C$44,2,FALSE)&TEXT(Sheet1!K108,\"00\")&TEXT(Sheet1!L108,\"00\")&IF(Sheet1!N108=\"手\",TEXT(Sheet1!M108,\"0\"),TEXT(Sheet1!M108,\"00\"))))","v":""},{"$f":"IF(Sheet1!O108=\"\",\"\",IF(VLOOKUP(Sheet1!O108,Sheet2!$A$2:$C$44,3,FALSE)>=71,VLOOKUP(Sheet1!O108,Sheet2!$A$2:$C$44,2,FALSE)&TEXT(Sheet1!Q108,\"00\")&TEXT(Sheet1!R108,\"00\"),VLOOKUP(Sheet1!O108,Sheet2!$A$2:$C$44,2,FALSE)&TEXT(Sheet1!P108,\"00\")&TEXT(Sheet1!Q108,\"00\")&IF(Sheet1!S108=\"手\",TEXT(Sheet1!R108,\"0\"),TEXT(Sheet1!R108,\"00\"))))","v":""},{"$f":"IF(Sheet1!T108=\"\",\"\",IF(VLOOKUP(Sheet1!T108,Sheet2!$A$2:$C$44,3,FALSE)>=71,VLOOKUP(Sheet1!T108,Sheet2!$A$2:$C$44,2,FALSE)&TEXT(Sheet1!V108,\"00\")&TEXT(Sheet1!W108,\"00\"),VLOOKUP(Sheet1!T108,Sheet2!$A$2:$C$44,2,FALSE)&TEXT(Sheet1!U108,\"00\")&TEXT(Sheet1!V108,\"00\")&IF(Sheet1!X108=\"手\",TEXT(Sheet1!W108,\"0\"),TEXT(Sheet1!W108,\"00\"))))","v":""}]
[{"$f":"IF(B99=\"\",\"\",D99*100000000+E99*1000000+200000+G99)","v":""},{"$f":"ASC(IF(Sheet1!C109=\"\",\"\",IF(LEN(Sheet1!C109)+LEN(Sheet1!D109)=2,Sheet1!C109&\"      \"&Sheet1!D109&\"(\"&Sheet1!G109&\")\",IF(LEN(Sheet1!C109)+LEN(Sheet1!D109)=3,Sheet1!C109&\"    \"&Sheet1!D109&\"(\"&Sheet1!G109&\")\",IF(LEN(Sheet1!C109)+LEN(Sheet1!D109)=4,Sheet1!C109&\"  \"&Sheet1!D109&\"(\"&Sheet1!G109&\")\",IF(LEN(Sheet1!C109)+LEN(Sheet1!D109)>=5,Sheet1!C109&Sheet1!D109&\"(\"&Sheet1!G109&\")\",\"\"))))))","v":""},{"$f":"ASC(IF(Sheet1!E109=\"\",\"\",Sheet1!E109&\" \"&Sheet1!F109))","v":""},{"$f":"IF(Sheet1!H109=\"\",\"\",IF(Sheet1!H109=\"女\",2,1))","v":""},{"$f":"IF(Sheet1!I109=\"\",\"\",VLOOKUP(Sheet1!I109,Sheet2!$F$2:$G$50,2,FALSE))","v":""},{"$f":"IF(B99=\"\",\"\",IF(Sheet1!$D$4=\"\",Sheet1!$D$5,VALUE(Sheet1!$D$4)))","v":""},{"$f":"IF(Sheet1!B109=\"\",\"\",VALUE(Sheet1!B109))","v":""},{"$f":"IF(Sheet1!J109=\"\",\"\",IF(VLOOKUP(Sheet1!J109,Sheet2!$A$2:$C$44,3,FALSE)>=71,VLOOKUP(Sheet1!J109,Sheet2!$A$2:$C$44,2,FALSE)&TEXT(Sheet1!L109,\"00\")&TEXT(Sheet1!M109,\"00\"),VLOOKUP(Sheet1!J109,Sheet2!$A$2:$C$44,2,FALSE)&TEXT(Sheet1!K109,\"00\")&TEXT(Sheet1!L109,\"00\")&IF(Sheet1!N109=\"手\",TEXT(Sheet1!M109,\"0\"),TEXT(Sheet1!M109,\"00\"))))","v":""},{"$f":"IF(Sheet1!O109=\"\",\"\",IF(VLOOKUP(Sheet1!O109,Sheet2!$A$2:$C$44,3,FALSE)>=71,VLOOKUP(Sheet1!O109,Sheet2!$A$2:$C$44,2,FALSE)&TEXT(Sheet1!Q109,\"00\")&TEXT(Sheet1!R109,\"00\"),VLOOKUP(Sheet1!O109,Sheet2!$A$2:$C$44,2,FALSE)&TEXT(Sheet1!P109,\"00\")&TEXT(Sheet1!Q109,\"00\")&IF(Sheet1!S109=\"手\",TEXT(Sheet1!R109,\"0\"),TEXT(Sheet1!R109,\"00\"))))","v":""},{"$f":"IF(Sheet1!T109=\"\",\"\",IF(VLOOKUP(Sheet1!T109,Sheet2!$A$2:$C$44,3,FALSE)>=71,VLOOKUP(Sheet1!T109,Sheet2!$A$2:$C$44,2,FALSE)&TEXT(Sheet1!V109,\"00\")&TEXT(Sheet1!W109,\"00\"),VLOOKUP(Sheet1!T109,Sheet2!$A$2:$C$44,2,FALSE)&TEXT(Sheet1!U109,\"00\")&TEXT(Sheet1!V109,\"00\")&IF(Sheet1!X109=\"手\",TEXT(Sheet1!W109,\"0\"),TEXT(Sheet1!W109,\"00\"))))","v":""}]
["",{"$f":"ASC(IF(Sheet1!C110=\"\",\"\",IF(LEN(Sheet1!C110)+LEN(Sheet1!D110)=2,Sheet1!C110&\"      \"&Sheet1!D110&\"(\"&Sheet1!G110&\")\",IF(LEN(Sheet1!C110)+LEN(Sheet1!D110)=3,Sheet1!C110&\"    \"&Sheet1!D110&\"(\"&Sheet1!G110&\")\",IF(LEN(Sheet1!C110)+LEN(Sheet1!D110)=4,Sheet1!C110&\"  \"&Sheet1!D110&\"(\"&Sheet1!G110&\")\",IF(LEN(Sheet1!C110)+LEN(Sheet1!D110)>=5,Sheet1!C110&Sheet1!D110&\"(\"&Sheet1!G110&\")\",\"\"))))))","v":""},{"$f":"ASC(IF(Sheet1!E110=\"\",\"\",Sheet1!E110&\" \"&Sheet1!F110))","v":""},{"$f":"IF(Sheet1!H110=\"\",\"\",IF(Sheet1!H110=\"女\",2,1))","v":""},{"$f":"IF(Sheet1!I110=\"\",\"\",VLOOKUP(Sheet1!I110,Sheet2!$F$2:$G$50,2,FALSE))","v":""},{"$f":"IF(B100=\"\",\"\",IF(Sheet1!$D$4=\"\",Sheet1!$D$5,VALUE(Sheet1!$D$4)))","v":""},{"$f":"IF(Sheet1!B110=\"\",\"\",VALUE(Sheet1!B110))","v":""},{"$f":"IF(Sheet1!J110=\"\",\"\",IF(VLOOKUP(Sheet1!J110,Sheet2!$A$2:$C$44,3,FALSE)>=71,VLOOKUP(Sheet1!J110,Sheet2!$A$2:$C$44,2,FALSE)&TEXT(Sheet1!L110,\"00\")&TEXT(Sheet1!M110,\"00\"),VLOOKUP(Sheet1!J110,Sheet2!$A$2:$C$44,2,FALSE)&TEXT(Sheet1!K110,\"00\")&TEXT(Sheet1!L110,\"00\")&IF(Sheet1!N110=\"手\",TEXT(Sheet1!M110,\"0\"),TEXT(Sheet1!M110,\"00\"))))","v":""},{"$f":"IF(Sheet1!O110=\"\",\"\",IF(VLOOKUP(Sheet1!O110,Sheet2!$A$2:$C$44,3,FALSE)>=71,VLOOKUP(Sheet1!O110,Sheet2!$A$2:$C$44,2,FALSE)&TEXT(Sheet1!Q110,\"00\")&TEXT(Sheet1!R110,\"00\"),VLOOKUP(Sheet1!O110,Sheet2!$A$2:$C$44,2,FALSE)&TEXT(Sheet1!P110,\"00\")&TEXT(Sheet1!Q110,\"00\")&IF(Sheet1!S110=\"手\",TEXT(Sheet1!R110,\"0\"),TEXT(Sheet1!R110,\"00\"))))","v":""},{"$f":"IF(Sheet1!T110=\"\",\"\",IF(VLOOKUP(Sheet1!T110,Sheet2!$A$2:$C$44,3,FALSE)>=71,VLOOKUP(Sheet1!T110,Sheet2!$A$2:$C$44,2,FALSE)&TEXT(Sheet1!V110,\"00\")&TEXT(Sheet1!W110,\"00\"),VLOOKUP(Sheet1!T110,Sheet2!$A$2:$C$44,2,FALSE)&TEXT(Sheet1!U110,\"00\")&TEXT(Sheet1!V110,\"00\")&IF(Sheet1!X110=\"手\",TEXT(Sheet1!W110,\"0\"),TEXT(Sheet1!W110,\"00\"))))","v":""}]
["",{"$f":"ASC(IF(Sheet1!C111=\"\",\"\",IF(LEN(Sheet1!C111)+LEN(Sheet1!D111)=2,Sheet1!C111&\"      \"&Sheet1!D111&\"(\"&Sheet1!G111&\")\",IF(LEN(Sheet1!C111)+LEN(Sheet1!D111)=3,Sheet1!C111&\"    \"&Sheet1!D111&\"(\"&Sheet1!G111&\")\",IF(LEN(Sheet1!C111)+LEN(Sheet1!D111)=4,Sheet1!C111&\"  \"&Sheet1!D111&\"(\"&Sheet1!G111&\")\",IF(LEN(Sheet1!C111)+LEN(Sheet1!D111)>=5,Sheet1!C111&Sheet1!D111&\"(\"&Sheet1!G111&\")\",\"\"))))))","v":""},{"$f":"ASC(IF(Sheet1!E111=\"\",\"\",Sheet1!E111&\" \"&Sheet1!F111))","v":""},{"$f":"IF(Sheet1!H111=\"\",\"\",IF(Sheet1!H111=\"女\",2,1))","v":""},{"$f":"IF(Sheet1!I111=\"\",\"\",VLOOKUP(Sheet1!I111,Sheet2!$F$2:$G$50,2,FALSE))","v":""},{"$f":"IF(B101=\"\",\"\",IF(Sheet1!$D$4=\"\",Sheet1!$D$5,VALUE(Sheet1!$D$4)))","v":""},{"$f":"IF(Sheet1!B111=\"\",\"\",VALUE(Sheet1!B111))","v":""},{"$f":"IF(Sheet1!J111=\"\",\"\",IF(VLOOKUP(Sheet1!J111,Sheet2!$A$2:$C$44,3,FALSE)>=71,VLOOKUP(Sheet1!J111,Sheet2!$A$2:$C$44,2,FALSE)&TEXT(Sheet1!L111,\"00\")&TEXT(Sheet1!M111,\"00\"),VLOOKUP(Sheet1!J111,Sheet2!$A$2:$C$44,2,FALSE)&TEXT(Sheet1!K111,\"00\")&TEXT(Sheet1!L111,\"00\")&IF(Sheet1!N111=\"手\",TEXT(Sheet1!M111,\"0\"),TEXT(Sheet1!M111,\"00\"))))","v":""},{"$f":"IF(Sheet1!O111=\"\",\"\",IF(VLOOKUP(Sheet1!O111,Sheet2!$A$2:$C$44,3,FALSE)>=71,VLOOKUP(Sheet1!O111,Sheet2!$A$2:$C$44,2,FALSE)&TEXT(Sheet1!Q111,\"00\")&TEXT(Sheet1!R111,\"00\"),VLOOKUP(Sheet1!O111,Sheet2!$A$2:$C$44,2,FALSE)&TEXT(Sheet1!P111,\"00\")&TEXT(Sheet1!Q111,\"00\")&IF(Sheet1!S111=\"手\",TEXT(Sheet1!R111,\"0\"),TEXT(Sheet1!R111,\"00\"))))","v":""},{"$f":"IF(Sheet1!T111=\"\",\"\",IF(VLOOKUP(Sheet1!T111,Sheet2!$A$2:$C$44,3,FALSE)>=71,VLOOKUP(Sheet1!T111,Sheet2!$A$2:$C$44,2,FALSE)&TEXT(Sheet1!V111,\"00\")&TEXT(Sheet1!W111,\"00\"),VLOOKUP(Sheet1!T111,Sheet2!$A$2:$C$44,2,FALSE)&TEXT(Sheet1!U111,\"00\")&TEXT(Sheet1!V111,\"00\")&IF(Sheet1!X111=\"手\",TEXT(Sheet1!W111,\"0\"),TEXT(Sheet1!W111,\"00\"))))","v":""}]
["",{"$f":"ASC(IF(Sheet1!C112=\"\",\"\",IF(LEN(Sheet1!C112)+LEN(Sheet1!D112)=2,Sheet1!C112&\"      \"&Sheet1!D112&\"(\"&Sheet1!G112&\")\",IF(LEN(Sheet1!C112)+LEN(Sheet1!D112)=3,Sheet1!C112&\"    \"&Sheet1!D112&\"(\"&Sheet1!G112&\")\",IF(LEN(Sheet1!C112)+LEN(Sheet1!D112)=4,Sheet1!C112&\"  \"&Sheet1!D112&\"(\"&Sheet1!G112&\")\",IF(LEN(Sheet1!C112)+LEN(Sheet1!D112)>=5,Sheet1!C112&Sheet1!D112&\"(\"&Sheet1!G112&\")\",\"\"))))))","v":""},{"$f":"ASC(IF(Sheet1!E112=\"\",\"\",Sheet1!E112&\" \"&Sheet1!F112))","v":""},{"$f":"IF(Sheet1!H112=\"\",\"\",IF(Sheet1!H112=\"女\",2,1))","v":""},{"$f":"IF(Sheet1!I112=\"\",\"\",VLOOKUP(Sheet1!I112,Sheet2!$F$2:$G$50,2,FALSE))","v":""},{"$f":"IF(B102=\"\",\"\",IF(Sheet1!$D$4=\"\",Sheet1!$D$5,VALUE(Sheet1!$D$4)))","v":""},{"$f":"IF(Sheet1!B112=\"\",\"\",VALUE(Sheet1!B112))","v":""},{"$f":"IF(Sheet1!J112=\"\",\"\",IF(VLOOKUP(Sheet1!J112,Sheet2!$A$2:$C$44,3,FALSE)>=71,VLOOKUP(Sheet1!J112,Sheet2!$A$2:$C$44,2,FALSE)&TEXT(Sheet1!L112,\"00\")&TEXT(Sheet1!M112,\"00\"),VLOOKUP(Sheet1!J112,Sheet2!$A$2:$C$44,2,FALSE)&TEXT(Sheet1!K112,\"00\")&TEXT(Sheet1!L112,\"00\")&IF(Sheet1!N112=\"手\",TEXT(Sheet1!M112,\"0\"),TEXT(Sheet1!M112,\"00\"))))","v":""},{"$f":"IF(Sheet1!O112=\"\",\"\",IF(VLOOKUP(Sheet1!O112,Sheet2!$A$2:$C$44,3,FALSE)>=71,VLOOKUP(Sheet1!O112,Sheet2!$A$2:$C$44,2,FALSE)&TEXT(Sheet1!Q112,\"00\")&TEXT(Sheet1!R112,\"00\"),VLOOKUP(Sheet1!O112,Sheet2!$A$2:$C$44,2,FALSE)&TEXT(Sheet1!P112,\"00\")&TEXT(Sheet1!Q112,\"00\")&IF(Sheet1!S112=\"手\",TEXT(Sheet1!R112,\"0\"),TEXT(Sheet1!R112,\"00\"))))","v":""},{"$f":"IF(Sheet1!T112=\"\",\"\",IF(VLOOKUP(Sheet1!T112,Sheet2!$A$2:$C$44,3,FALSE)>=71,VLOOKUP(Sheet1!T112,Sheet2!$A$2:$C$44,2,FALSE)&TEXT(Sheet1!V112,\"00\")&TEXT(Sheet1!W112,\"00\"),VLOOKUP(Sheet1!T112,Sheet2!$A$2:$C$44,2,FALSE)&TEXT(Sheet1!U112,\"00\")&TEXT(Sheet1!V112,\"00\")&IF(Sheet1!X112=\"手\",TEXT(Sheet1!W112,\"0\"),TEXT(Sheet1!W112,\"00\"))))","v":""}]
["",{"$f":"ASC(IF(Sheet1!C113=\"\",\"\",IF(LEN(Sheet1!C113)+LEN(Sheet1!D113)=2,Sheet1!C113&\"      \"&Sheet1!D113&\"(\"&Sheet1!G113&\")\",IF(LEN(Sheet1!C113)+LEN(Sheet1!D113)=3,Sheet1!C113&\"    \"&Sheet1!D113&\"(\"&Sheet1!G113&\")\",IF(LEN(Sheet1!C113)+LEN(Sheet1!D113)=4,Sheet1!C113&\"  \"&Sheet1!D113&\"(\"&Sheet1!G113&\")\",IF(LEN(Sheet1!C113)+LEN(Sheet1!D113)>=5,Sheet1!C113&Sheet1!D113&\"(\"&Sheet1!G113&\")\",\"\"))))))","v":""},{"$f":"ASC(IF(Sheet1!E113=\"\",\"\",Sheet1!E113&\" \"&Sheet1!F113))","v":""},{"$f":"IF(Sheet1!H113=\"\",\"\",IF(Sheet1!H113=\"女\",2,1))","v":""},{"$f":"IF(Sheet1!I113=\"\",\"\",VLOOKUP(Sheet1!I113,Sheet2!$F$2:$G$50,2,FALSE))","v":""},{"$f":"IF(B103=\"\",\"\",IF(Sheet1!$D$4=\"\",Sheet1!$D$5,VALUE(Sheet1!$D$4)))","v":""},{"$f":"IF(Sheet1!B113=\"\",\"\",VALUE(Sheet1!B113))","v":""},{"$f":"IF(Sheet1!J113=\"\",\"\",IF(VLOOKUP(Sheet1!J113,Sheet2!$A$2:$C$44,3,FALSE)>=71,VLOOKUP(Sheet1!J113,Sheet2!$A$2:$C$44,2,FALSE)&TEXT(Sheet1!L113,\"00\")&TEXT(Sheet1!M113,\"00\"),VLOOKUP(Sheet1!J113,Sheet2!$A$2:$C$44,2,FALSE)&TEXT(Sheet1!K113,\"00\")&TEXT(Sheet1!L113,\"00\")&IF(Sheet1!N113=\"手\",TEXT(Sheet1!M113,\"0\"),TEXT(Sheet1!M113,\"00\"))))","v":""},{"$f":"IF(Sheet1!O113=\"\",\"\",IF(VLOOKUP(Sheet1!O113,Sheet2!$A$2:$C$44,3,FALSE)>=71,VLOOKUP(Sheet1!O113,Sheet2!$A$2:$C$44,2,FALSE)&TEXT(Sheet1!Q113,\"00\")&TEXT(Sheet1!R113,\"00\"),VLOOKUP(Sheet1!O113,Sheet2!$A$2:$C$44,2,FALSE)&TEXT(Sheet1!P113,\"00\")&TEXT(Sheet1!Q113,\"00\")&IF(Sheet1!S113=\"手\",TEXT(Sheet1!R113,\"0\"),TEXT(Sheet1!R113,\"00\"))))","v":""},{"$f":"IF(Sheet1!T113=\"\",\"\",IF(VLOOKUP(Sheet1!T113,Sheet2!$A$2:$C$44,3,FALSE)>=71,VLOOKUP(Sheet1!T113,Sheet2!$A$2:$C$44,2,FALSE)&TEXT(Sheet1!V113,\"00\")&TEXT(Sheet1!W113,\"00\"),VLOOKUP(Sheet1!T113,Sheet2!$A$2:$C$44,2,FALSE)&TEXT(Sheet1!U113,\"00\")&TEXT(Sheet1!V113,\"00\")&IF(Sheet1!X113=\"手\",TEXT(Sheet1!W113,\"0\"),TEXT(Sheet1!W113,\"00\"))))","v":""}]
["",{"$f":"ASC(IF(Sheet1!C114=\"\",\"\",IF(LEN(Sheet1!C114)+LEN(Sheet1!D114)=2,Sheet1!C114&\"      \"&Sheet1!D114&\"(\"&Sheet1!G114&\")\",IF(LEN(Sheet1!C114)+LEN(Sheet1!D114)=3,Sheet1!C114&\"    \"&Sheet1!D114&\"(\"&Sheet1!G114&\")\",IF(LEN(Sheet1!C114)+LEN(Sheet1!D114)=4,Sheet1!C114&\"  \"&Sheet1!D114&\"(\"&Sheet1!G114&\")\",IF(LEN(Sheet1!C114)+LEN(Sheet1!D114)>=5,Sheet1!C114&Sheet1!D114&\"(\"&Sheet1!G114&\")\",\"\"))))))","v":""},{"$f":"ASC(IF(Sheet1!E114=\"\",\"\",Sheet1!E114&\" \"&Sheet1!F114))","v":""},{"$f":"IF(Sheet1!H114=\"\",\"\",IF(Sheet1!H114=\"女\",2,1))","v":""},{"$f":"IF(Sheet1!I114=\"\",\"\",VLOOKUP(Sheet1!I114,Sheet2!$F$2:$G$50,2,FALSE))","v":""},{"$f":"IF(B104=\"\",\"\",IF(Sheet1!$D$4=\"\",Sheet1!$D$5,VALUE(Sheet1!$D$4)))","v":""},{"$f":"IF(Sheet1!B114=\"\",\"\",VALUE(Sheet1!B114))","v":""},{"$f":"IF(Sheet1!J114=\"\",\"\",IF(VLOOKUP(Sheet1!J114,Sheet2!$A$2:$C$44,3,FALSE)>=71,VLOOKUP(Sheet1!J114,Sheet2!$A$2:$C$44,2,FALSE)&TEXT(Sheet1!L114,\"00\")&TEXT(Sheet1!M114,\"00\"),VLOOKUP(Sheet1!J114,Sheet2!$A$2:$C$44,2,FALSE)&TEXT(Sheet1!K114,\"00\")&TEXT(Sheet1!L114,\"00\")&IF(Sheet1!N114=\"手\",TEXT(Sheet1!M114,\"0\"),TEXT(Sheet1!M114,\"00\"))))","v":""},{"$f":"IF(Sheet1!O114=\"\",\"\",IF(VLOOKUP(Sheet1!O114,Sheet2!$A$2:$C$44,3,FALSE)>=71,VLOOKUP(Sheet1!O114,Sheet2!$A$2:$C$44,2,FALSE)&TEXT(Sheet1!Q114,\"00\")&TEXT(Sheet1!R114,\"00\"),VLOOKUP(Sheet1!O114,Sheet2!$A$2:$C$44,2,FALSE)&TEXT(Sheet1!P114,\"00\")&TEXT(Sheet1!Q114,\"00\")&IF(Sheet1!S114=\"手\",TEXT(Sheet1!R114,\"0\"),TEXT(Sheet1!R114,\"00\"))))","v":""},{"$f":"IF(Sheet1!T114=\"\",\"\",IF(VLOOKUP(Sheet1!T114,Sheet2!$A$2:$C$44,3,FALSE)>=71,VLOOKUP(Sheet1!T114,Sheet2!$A$2:$C$44,2,FALSE)&TEXT(Sheet1!V114,\"00\")&TEXT(Sheet1!W114,\"00\"),VLOOKUP(Sheet1!T114,Sheet2!$A$2:$C$44,2,FALSE)&TEXT(Sheet1!U114,\"00\")&TEXT(Sheet1!V114,\"00\")&IF(Sheet1!X114=\"手\",TEXT(Sheet1!W114,\"0\"),TEXT(Sheet1!W114,\"00\"))))","v":""}]
["",{"$f":"ASC(IF(Sheet1!C115=\"\",\"\",IF(LEN(Sheet1!C115)+LEN(Sheet1!D115)=2,Sheet1!C115&\"      \"&Sheet1!D115&\"(\"&Sheet1!G115&\")\",IF(LEN(Sheet1!C115)+LEN(Sheet1!D115)=3,Sheet1!C115&\"    \"&Sheet1!D115&\"(\"&Sheet1!G115&\")\",IF(LEN(Sheet1!C115)+LEN(Sheet1!D115)=4,Sheet1!C115&\"  \"&Sheet1!D115&\"(\"&Sheet1!G115&\")\",IF(LEN(Sheet1!C115)+LEN(Sheet1!D115)>=5,Sheet1!C115&Sheet1!D115&\"(\"&Sheet1!G115&\")\",\"\"))))))","v":""},{"$f":"ASC(IF(Sheet1!E115=\"\",\"\",Sheet1!E115&\" \"&Sheet1!F115))","v":""},{"$f":"IF(Sheet1!H115=\"\",\"\",IF(Sheet1!H115=\"女\",2,1))","v":""},{"$f":"IF(Sheet1!I115=\"\",\"\",VLOOKUP(Sheet1!I115,Sheet2!$F$2:$G$50,2,FALSE))","v":""},{"$f":"IF(B105=\"\",\"\",IF(Sheet1!$D$4=\"\",Sheet1!$D$5,VALUE(Sheet1!$D$4)))","v":""},{"$f":"IF(Sheet1!B115=\"\",\"\",VALUE(Sheet1!B115))","v":""},{"$f":"IF(Sheet1!J115=\"\",\"\",IF(VLOOKUP(Sheet1!J115,Sheet2!$A$2:$C$44,3,FALSE)>=71,VLOOKUP(Sheet1!J115,Sheet2!$A$2:$C$44,2,FALSE)&TEXT(Sheet1!L115,\"00\")&TEXT(Sheet1!M115,\"00\"),VLOOKUP(Sheet1!J115,Sheet2!$A$2:$C$44,2,FALSE)&TEXT(Sheet1!K115,\"00\")&TEXT(Sheet1!L115,\"00\")&IF(Sheet1!N115=\"手\",TEXT(Sheet1!M115,\"0\"),TEXT(Sheet1!M115,\"00\"))))","v":""},{"$f":"IF(Sheet1!O115=\"\",\"\",IF(VLOOKUP(Sheet1!O115,Sheet2!$A$2:$C$44,3,FALSE)>=71,VLOOKUP(Sheet1!O115,Sheet2!$A$2:$C$44,2,FALSE)&TEXT(Sheet1!Q115,\"00\")&TEXT(Sheet1!R115,\"00\"),VLOOKUP(Sheet1!O115,Sheet2!$A$2:$C$44,2,FALSE)&TEXT(Sheet1!P115,\"00\")&TEXT(Sheet1!Q115,\"00\")&IF(Sheet1!S115=\"手\",TEXT(Sheet1!R115,\"0\"),TEXT(Sheet1!R115,\"00\"))))","v":""},{"$f":"IF(Sheet1!T115=\"\",\"\",IF(VLOOKUP(Sheet1!T115,Sheet2!$A$2:$C$44,3,FALSE)>=71,VLOOKUP(Sheet1!T115,Sheet2!$A$2:$C$44,2,FALSE)&TEXT(Sheet1!V115,\"00\")&TEXT(Sheet1!W115,\"00\"),VLOOKUP(Sheet1!T115,Sheet2!$A$2:$C$44,2,FALSE)&TEXT(Sheet1!U115,\"00\")&TEXT(Sheet1!V115,\"00\")&IF(Sheet1!X115=\"手\",TEXT(Sheet1!W115,\"0\"),TEXT(Sheet1!W115,\"00\"))))","v":""}]
["",{"$f":"ASC(IF(Sheet1!C116=\"\",\"\",IF(LEN(Sheet1!C116)+LEN(Sheet1!D116)=2,Sheet1!C116&\"      \"&Sheet1!D116&\"(\"&Sheet1!G116&\")\",IF(LEN(Sheet1!C116)+LEN(Sheet1!D116)=3,Sheet1!C116&\"    \"&Sheet1!D116&\"(\"&Sheet1!G116&\")\",IF(LEN(Sheet1!C116)+LEN(Sheet1!D116)=4,Sheet1!C116&\"  \"&Sheet1!D116&\"(\"&Sheet1!G116&\")\",IF(LEN(Sheet1!C116)+LEN(Sheet1!D116)>=5,Sheet1!C116&Sheet1!D116&\"(\"&Sheet1!G116&\")\",\"\"))))))","v":""},{"$f":"ASC(IF(Sheet1!E116=\"\",\"\",Sheet1!E116&\" \"&Sheet1!F116))","v":""},{"$f":"IF(Sheet1!H116=\"\",\"\",IF(Sheet1!H116=\"女\",2,1))","v":""},{"$f":"IF(Sheet1!I116=\"\",\"\",VLOOKUP(Sheet1!I116,Sheet2!$F$2:$G$50,2,FALSE))","v":""},{"$f":"IF(B106=\"\",\"\",IF(Sheet1!$D$4=\"\",Sheet1!$D$5,VALUE(Sheet1!$D$4)))","v":""},{"$f":"IF(Sheet1!B116=\"\",\"\",VALUE(Sheet1!B116))","v":""},{"$f":"IF(Sheet1!J116=\"\",\"\",IF(VLOOKUP(Sheet1!J116,Sheet2!$A$2:$C$44,3,FALSE)>=71,VLOOKUP(Sheet1!J116,Sheet2!$A$2:$C$44,2,FALSE)&TEXT(Sheet1!L116,\"00\")&TEXT(Sheet1!M116,\"00\"),VLOOKUP(Sheet1!J116,Sheet2!$A$2:$C$44,2,FALSE)&TEXT(Sheet1!K116,\"00\")&TEXT(Sheet1!L116,\"00\")&IF(Sheet1!N116=\"手\",TEXT(Sheet1!M116,\"0\"),TEXT(Sheet1!M116,\"00\"))))","v":""},{"$f":"IF(Sheet1!O116=\"\",\"\",IF(VLOOKUP(Sheet1!O116,Sheet2!$A$2:$C$44,3,FALSE)>=71,VLOOKUP(Sheet1!O116,Sheet2!$A$2:$C$44,2,FALSE)&TEXT(Sheet1!Q116,\"00\")&TEXT(Sheet1!R116,\"00\"),VLOOKUP(Sheet1!O116,Sheet2!$A$2:$C$44,2,FALSE)&TEXT(Sheet1!P116,\"00\")&TEXT(Sheet1!Q116,\"00\")&IF(Sheet1!S116=\"手\",TEXT(Sheet1!R116,\"0\"),TEXT(Sheet1!R116,\"00\"))))","v":""},{"$f":"IF(Sheet1!T116=\"\",\"\",IF(VLOOKUP(Sheet1!T116,Sheet2!$A$2:$C$44,3,FALSE)>=71,VLOOKUP(Sheet1!T116,Sheet2!$A$2:$C$44,2,FALSE)&TEXT(Sheet1!V116,\"00\")&TEXT(Sheet1!W116,\"00\"),VLOOKUP(Sheet1!T116,Sheet2!$A$2:$C$44,2,FALSE)&TEXT(Sheet1!U116,\"00\")&TEXT(Sheet1!V116,\"00\")&IF(Sheet1!X116=\"手\",TEXT(Sheet1!W116,\"0\"),TEXT(Sheet1!W116,\"00\"))))","v":""}]
["",{"$f":"ASC(IF(Sheet1!C117=\"\",\"\",IF(LEN(Sheet1!C117)+LEN(Sheet1!D117)=2,Sheet1!C117&\"      \"&Sheet1!D117&\"(\"&Sheet1!G117&\")\",IF(LEN(Sheet1!C117)+LEN(Sheet1!D117)=3,Sheet1!C117&\"    \"&Sheet1!D117&\"(\"&Sheet1!G117&\")\",IF(LEN(Sheet1!C117)+LEN(Sheet1!D117)=4,Sheet1!C117&\"  \"&Sheet1!D117&\"(\"&Sheet1!G117&\")\",IF(LEN(Sheet1!C117)+LEN(Sheet1!D117)>=5,Sheet1!C117&Sheet1!D117&\"(\"&Sheet1!G117&\")\",\"\"))))))","v":""},{"$f":"ASC(IF(Sheet1!E117=\"\",\"\",Sheet1!E117&\" \"&Sheet1!F117))","v":""},{"$f":"IF(Sheet1!H117=\"\",\"\",IF(Sheet1!H117=\"女\",2,1))","v":""},{"$f":"IF(Sheet1!I117=\"\",\"\",VLOOKUP(Sheet1!I117,Sheet2!$F$2:$G$50,2,FALSE))","v":""},{"$f":"IF(B107=\"\",\"\",IF(Sheet1!$D$4=\"\",Sheet1!$D$5,VALUE(Sheet1!$D$4)))","v":""},{"$f":"IF(Sheet1!B117=\"\",\"\",VALUE(Sheet1!B117))","v":""},{"$f":"IF(Sheet1!J117=\"\",\"\",IF(VLOOKUP(Sheet1!J117,Sheet2!$A$2:$C$44,3,FALSE)>=71,VLOOKUP(Sheet1!J117,Sheet2!$A$2:$C$44,2,FALSE)&TEXT(Sheet1!L117,\"00\")&TEXT(Sheet1!M117,\"00\"),VLOOKUP(Sheet1!J117,Sheet2!$A$2:$C$44,2,FALSE)&TEXT(Sheet1!K117,\"00\")&TEXT(Sheet1!L117,\"00\")&IF(Sheet1!N117=\"手\",TEXT(Sheet1!M117,\"0\"),TEXT(Sheet1!M117,\"00\"))))","v":""},{"$f":"IF(Sheet1!O117=\"\",\"\",IF(VLOOKUP(Sheet1!O117,Sheet2!$A$2:$C$44,3,FALSE)>=71,VLOOKUP(Sheet1!O117,Sheet2!$A$2:$C$44,2,FALSE)&TEXT(Sheet1!Q117,\"00\")&TEXT(Sheet1!R117,\"00\"),VLOOKUP(Sheet1!O117,Sheet2!$A$2:$C$44,2,FALSE)&TEXT(Sheet1!P117,\"00\")&TEXT(Sheet1!Q117,\"00\")&IF(Sheet1!S117=\"手\",TEXT(Sheet1!R117,\"0\"),TEXT(Sheet1!R117,\"00\"))))","v":""},{"$f":"IF(Sheet1!T117=\"\",\"\",IF(VLOOKUP(Sheet1!T117,Sheet2!$A$2:$C$44,3,FALSE)>=71,VLOOKUP(Sheet1!T117,Sheet2!$A$2:$C$44,2,FALSE)&TEXT(Sheet1!V117,\"00\")&TEXT(Sheet1!W117,\"00\"),VLOOKUP(Sheet1!T117,Sheet2!$A$2:$C$44,2,FALSE)&TEXT(Sheet1!U117,\"00\")&TEXT(Sheet1!V117,\"00\")&IF(Sheet1!X117=\"手\",TEXT(Sheet1!W117,\"0\"),TEXT(Sheet1!W117,\"00\"))))","v":""}]
["",{"$f":"ASC(IF(Sheet1!C118=\"\",\"\",IF(LEN(Sheet1!C118)+LEN(Sheet1!D118)=2,Sheet1!C118&\"      \"&Sheet1!D118&\"(\"&Sheet1!G118&\")\",IF(LEN(Sheet1!C118)+LEN(Sheet1!D118)=3,Sheet1!C118&\"    \"&Sheet1!D118&\"(\"&Sheet1!G118&\")\",IF(LEN(Sheet1!C118)+LEN(Sheet1!D118)=4,Sheet1!C118&\"  \"&Sheet1!D118&\"(\"&Sheet1!G118&\")\",IF(LEN(Sheet1!C118)+LEN(Sheet1!D118)>=5,Sheet1!C118&Sheet1!D118&\"(\"&Sheet1!G118&\")\",\"\"))))))","v":""},{"$f":"ASC(IF(Sheet1!E118=\"\",\"\",Sheet1!E118&\" \"&Sheet1!F118))","v":""},{"$f":"IF(Sheet1!H118=\"\",\"\",IF(Sheet1!H118=\"女\",2,1))","v":""},{"$f":"IF(Sheet1!I118=\"\",\"\",VLOOKUP(Sheet1!I118,Sheet2!$F$2:$G$50,2,FALSE))","v":""},{"$f":"IF(B108=\"\",\"\",IF(Sheet1!$D$4=\"\",Sheet1!$D$5,VALUE(Sheet1!$D$4)))","v":""},{"$f":"IF(Sheet1!B118=\"\",\"\",VALUE(Sheet1!B118))","v":""},{"$f":"IF(Sheet1!J118=\"\",\"\",IF(VLOOKUP(Sheet1!J118,Sheet2!$A$2:$C$44,3,FALSE)>=71,VLOOKUP(Sheet1!J118,Sheet2!$A$2:$C$44,2,FALSE)&TEXT(Sheet1!L118,\"00\")&TEXT(Sheet1!M118,\"00\"),VLOOKUP(Sheet1!J118,Sheet2!$A$2:$C$44,2,FALSE)&TEXT(Sheet1!K118,\"00\")&TEXT(Sheet1!L118,\"00\")&IF(Sheet1!N118=\"手\",TEXT(Sheet1!M118,\"0\"),TEXT(Sheet1!M118,\"00\"))))","v":""},{"$f":"IF(Sheet1!O118=\"\",\"\",IF(VLOOKUP(Sheet1!O118,Sheet2!$A$2:$C$44,3,FALSE)>=71,VLOOKUP(Sheet1!O118,Sheet2!$A$2:$C$44,2,FALSE)&TEXT(Sheet1!Q118,\"00\")&TEXT(Sheet1!R118,\"00\"),VLOOKUP(Sheet1!O118,Sheet2!$A$2:$C$44,2,FALSE)&TEXT(Sheet1!P118,\"00\")&TEXT(Sheet1!Q118,\"00\")&IF(Sheet1!S118=\"手\",TEXT(Sheet1!R118,\"0\"),TEXT(Sheet1!R118,\"00\"))))","v":""},{"$f":"IF(Sheet1!T118=\"\",\"\",IF(VLOOKUP(Sheet1!T118,Sheet2!$A$2:$C$44,3,FALSE)>=71,VLOOKUP(Sheet1!T118,Sheet2!$A$2:$C$44,2,FALSE)&TEXT(Sheet1!V118,\"00\")&TEXT(Sheet1!W118,\"00\"),VLOOKUP(Sheet1!T118,Sheet2!$A$2:$C$44,2,FALSE)&TEXT(Sheet1!U118,\"00\")&TEXT(Sheet1!V118,\"00\")&IF(Sheet1!X118=\"手\",TEXT(Sheet1!W118,\"0\"),TEXT(Sheet1!W118,\"00\"))))","v":""}]
["",{"$f":"ASC(IF(Sheet1!C119=\"\",\"\",IF(LEN(Sheet1!C119)+LEN(Sheet1!D119)=2,Sheet1!C119&\"      \"&Sheet1!D119&\"(\"&Sheet1!G119&\")\",IF(LEN(Sheet1!C119)+LEN(Sheet1!D119)=3,Sheet1!C119&\"    \"&Sheet1!D119&\"(\"&Sheet1!G119&\")\",IF(LEN(Sheet1!C119)+LEN(Sheet1!D119)=4,Sheet1!C119&\"  \"&Sheet1!D119&\"(\"&Sheet1!G119&\")\",IF(LEN(Sheet1!C119)+LEN(Sheet1!D119)>=5,Sheet1!C119&Sheet1!D119&\"(\"&Sheet1!G119&\")\",\"\"))))))","v":""},{"$f":"ASC(IF(Sheet1!E119=\"\",\"\",Sheet1!E119&\" \"&Sheet1!F119))","v":""},{"$f":"IF(Sheet1!H119=\"\",\"\",IF(Sheet1!H119=\"女\",2,1))","v":""},{"$f":"IF(Sheet1!I119=\"\",\"\",VLOOKUP(Sheet1!I119,Sheet2!$F$2:$G$50,2,FALSE))","v":""},{"$f":"IF(B109=\"\",\"\",IF(Sheet1!$D$4=\"\",Sheet1!$D$5,VALUE(Sheet1!$D$4)))","v":""},{"$f":"IF(Sheet1!B119=\"\",\"\",VALUE(Sheet1!B119))","v":""},{"$f":"IF(Sheet1!J119=\"\",\"\",IF(VLOOKUP(Sheet1!J119,Sheet2!$A$2:$C$44,3,FALSE)>=71,VLOOKUP(Sheet1!J119,Sheet2!$A$2:$C$44,2,FALSE)&TEXT(Sheet1!L119,\"00\")&TEXT(Sheet1!M119,\"00\"),VLOOKUP(Sheet1!J119,Sheet2!$A$2:$C$44,2,FALSE)&TEXT(Sheet1!K119,\"00\")&TEXT(Sheet1!L119,\"00\")&IF(Sheet1!N119=\"手\",TEXT(Sheet1!M119,\"0\"),TEXT(Sheet1!M119,\"00\"))))","v":""},{"$f":"IF(Sheet1!O119=\"\",\"\",IF(VLOOKUP(Sheet1!O119,Sheet2!$A$2:$C$44,3,FALSE)>=71,VLOOKUP(Sheet1!O119,Sheet2!$A$2:$C$44,2,FALSE)&TEXT(Sheet1!Q119,\"00\")&TEXT(Sheet1!R119,\"00\"),VLOOKUP(Sheet1!O119,Sheet2!$A$2:$C$44,2,FALSE)&TEXT(Sheet1!P119,\"00\")&TEXT(Sheet1!Q119,\"00\")&IF(Sheet1!S119=\"手\",TEXT(Sheet1!R119,\"0\"),TEXT(Sheet1!R119,\"00\"))))","v":""},{"$f":"IF(Sheet1!T119=\"\",\"\",IF(VLOOKUP(Sheet1!T119,Sheet2!$A$2:$C$44,3,FALSE)>=71,VLOOKUP(Sheet1!T119,Sheet2!$A$2:$C$44,2,FALSE)&TEXT(Sheet1!V119,\"00\")&TEXT(Sheet1!W119,\"00\"),VLOOKUP(Sheet1!T119,Sheet2!$A$2:$C$44,2,FALSE)&TEXT(Sheet1!U119,\"00\")&TEXT(Sheet1!V119,\"00\")&IF(Sheet1!X119=\"手\",TEXT(Sheet1!W119,\"0\"),TEXT(Sheet1!W119,\"00\"))))","v":""}]
["",{"$f":"ASC(IF(Sheet1!C120=\"\",\"\",IF(LEN(Sheet1!C120)+LEN(Sheet1!D120)=2,Sheet1!C120&\"      \"&Sheet1!D120&\"(\"&Sheet1!G120&\")\",IF(LEN(Sheet1!C120)+LEN(Sheet1!D120)=3,Sheet1!C120&\"    \"&Sheet1!D120&\"(\"&Sheet1!G120&\")\",IF(LEN(Sheet1!C120)+LEN(Sheet1!D120)=4,Sheet1!C120&\"  \"&Sheet1!D120&\"(\"&Sheet1!G120&\")\",IF(LEN(Sheet1!C120)+LEN(Sheet1!D120)>=5,Sheet1!C120&Sheet1!D120&\"(\"&Sheet1!G120&\")\",\"\"))))))","v":""},{"$f":"ASC(IF(Sheet1!E120=\"\",\"\",Sheet1!E120&\" \"&Sheet1!F120))","v":""},{"$f":"IF(Sheet1!H120=\"\",\"\",IF(Sheet1!H120=\"女\",2,1))","v":""},{"$f":"IF(Sheet1!I120=\"\",\"\",VLOOKUP(Sheet1!I120,Sheet2!$F$2:$G$50,2,FALSE))","v":""},{"$f":"IF(B110=\"\",\"\",IF(Sheet1!$D$4=\"\",Sheet1!$D$5,VALUE(Sheet1!$D$4)))","v":""},{"$f":"IF(Sheet1!B120=\"\",\"\",VALUE(Sheet1!B120))","v":""},{"$f":"IF(Sheet1!J120=\"\",\"\",IF(VLOOKUP(Sheet1!J120,Sheet2!$A$2:$C$44,3,FALSE)>=71,VLOOKUP(Sheet1!J120,Sheet2!$A$2:$C$44,2,FALSE)&TEXT(Sheet1!L120,\"00\")&TEXT(Sheet1!M120,\"00\"),VLOOKUP(Sheet1!J120,Sheet2!$A$2:$C$44,2,FALSE)&TEXT(Sheet1!K120,\"00\")&TEXT(Sheet1!L120,\"00\")&IF(Sheet1!N120=\"手\",TEXT(Sheet1!M120,\"0\"),TEXT(Sheet1!M120,\"00\"))))","v":""},{"$f":"IF(Sheet1!O120=\"\",\"\",IF(VLOOKUP(Sheet1!O120,Sheet2!$A$2:$C$44,3,FALSE)>=71,VLOOKUP(Sheet1!O120,Sheet2!$A$2:$C$44,2,FALSE)&TEXT(Sheet1!Q120,\"00\")&TEXT(Sheet1!R120,\"00\"),VLOOKUP(Sheet1!O120,Sheet2!$A$2:$C$44,2,FALSE)&TEXT(Sheet1!P120,\"00\")&TEXT(Sheet1!Q120,\"00\")&IF(Sheet1!S120=\"手\",TEXT(Sheet1!R120,\"0\"),TEXT(Sheet1!R120,\"00\"))))","v":""},{"$f":"IF(Sheet1!T120=\"\",\"\",IF(VLOOKUP(Sheet1!T120,Sheet2!$A$2:$C$44,3,FALSE)>=71,VLOOKUP(Sheet1!T120,Sheet2!$A$2:$C$44,2,FALSE)&TEXT(Sheet1!V120,\"00\")&TEXT(Sheet1!W120,\"00\"),VLOOKUP(Sheet1!T120,Sheet2!$A$2:$C$44,2,FALSE)&TEXT(Sheet1!U120,\"00\")&TEXT(Sheet1!V120,\"00\")&IF(Sheet1!X120=\"手\",TEXT(Sheet1!W120,\"0\"),TEXT(Sheet1!W120,\"00\"))))","v":""}]
["",{"$f":"ASC(IF(Sheet1!C121=\"\",\"\",IF(LEN(Sheet1!C121)+LEN(Sheet1!D121)=2,Sheet1!C121&\"      \"&Sheet1!D121&\"(\"&Sheet1!G121&\")\",IF(LEN(Sheet1!C121)+LEN(Sheet1!D121)=3,Sheet1!C121&\"    \"&Sheet1!D121&\"(\"&Sheet1!G121&\")\",IF(LEN(Sheet1!C121)+LEN(Sheet1!D121)=4,Sheet1!C121&\"  \"&Sheet1!D121&\"(\"&Sheet1!G121&\")\",IF(LEN(Sheet1!C121)+LEN(Sheet1!D121)>=5,Sheet1!C121&Sheet1!D121&\"(\"&Sheet1!G121&\")\",\"\"))))))","v":""},{"$f":"ASC(IF(Sheet1!E121=\"\",\"\",Sheet1!E121&\" \"&Sheet1!F121))","v":""},{"$f":"IF(Sheet1!H121=\"\",\"\",IF(Sheet1!H121=\"女\",2,1))","v":""},{"$f":"IF(Sheet1!I121=\"\",\"\",VLOOKUP(Sheet1!I121,Sheet2!$F$2:$G$50,2,FALSE))","v":""},{"$f":"IF(B111=\"\",\"\",IF(Sheet1!$D$4=\"\",Sheet1!$D$5,VALUE(Sheet1!$D$4)))","v":""},{"$f":"IF(Sheet1!B121=\"\",\"\",VALUE(Sheet1!B121))","v":""},{"$f":"IF(Sheet1!J121=\"\",\"\",IF(VLOOKUP(Sheet1!J121,Sheet2!$A$2:$C$44,3,FALSE)>=71,VLOOKUP(Sheet1!J121,Sheet2!$A$2:$C$44,2,FALSE)&TEXT(Sheet1!L121,\"00\")&TEXT(Sheet1!M121,\"00\"),VLOOKUP(Sheet1!J121,Sheet2!$A$2:$C$44,2,FALSE)&TEXT(Sheet1!K121,\"00\")&TEXT(Sheet1!L121,\"00\")&IF(Sheet1!N121=\"手\",TEXT(Sheet1!M121,\"0\"),TEXT(Sheet1!M121,\"00\"))))","v":""},{"$f":"IF(Sheet1!O121=\"\",\"\",IF(VLOOKUP(Sheet1!O121,Sheet2!$A$2:$C$44,3,FALSE)>=71,VLOOKUP(Sheet1!O121,Sheet2!$A$2:$C$44,2,FALSE)&TEXT(Sheet1!Q121,\"00\")&TEXT(Sheet1!R121,\"00\"),VLOOKUP(Sheet1!O121,Sheet2!$A$2:$C$44,2,FALSE)&TEXT(Sheet1!P121,\"00\")&TEXT(Sheet1!Q121,\"00\")&IF(Sheet1!S121=\"手\",TEXT(Sheet1!R121,\"0\"),TEXT(Sheet1!R121,\"00\"))))","v":""},{"$f":"IF(Sheet1!T121=\"\",\"\",IF(VLOOKUP(Sheet1!T121,Sheet2!$A$2:$C$44,3,FALSE)>=71,VLOOKUP(Sheet1!T121,Sheet2!$A$2:$C$44,2,FALSE)&TEXT(Sheet1!V121,\"00\")&TEXT(Sheet1!W121,\"00\"),VLOOKUP(Sheet1!T121,Sheet2!$A$2:$C$44,2,FALSE)&TEXT(Sheet1!U121,\"00\")&TEXT(Sheet1!V121,\"00\")&IF(Sheet1!X121=\"手\",TEXT(Sheet1!W121,\"0\"),TEXT(Sheet1!W121,\"00\"))))","v":""}]
["",{"$f":"ASC(IF(Sheet1!C122=\"\",\"\",IF(LEN(Sheet1!C122)+LEN(Sheet1!D122)=2,Sheet1!C122&\"      \"&Sheet1!D122&\"(\"&Sheet1!G122&\")\",IF(LEN(Sheet1!C122)+LEN(Sheet1!D122)=3,Sheet1!C122&\"    \"&Sheet1!D122&\"(\"&Sheet1!G122&\")\",IF(LEN(Sheet1!C122)+LEN(Sheet1!D122)=4,Sheet1!C122&\"  \"&Sheet1!D122&\"(\"&Sheet1!G122&\")\",IF(LEN(Sheet1!C122)+LEN(Sheet1!D122)>=5,Sheet1!C122&Sheet1!D122&\"(\"&Sheet1!G122&\")\",\"\"))))))","v":""},{"$f":"ASC(IF(Sheet1!E122=\"\",\"\",Sheet1!E122&\" \"&Sheet1!F122))","v":""},{"$f":"IF(Sheet1!H122=\"\",\"\",IF(Sheet1!H122=\"女\",2,1))","v":""},{"$f":"IF(Sheet1!I122=\"\",\"\",VLOOKUP(Sheet1!I122,Sheet2!$F$2:$G$50,2,FALSE))","v":""},{"$f":"IF(B112=\"\",\"\",IF(Sheet1!$D$4=\"\",Sheet1!$D$5,VALUE(Sheet1!$D$4)))","v":""},{"$f":"IF(Sheet1!B122=\"\",\"\",VALUE(Sheet1!B122))","v":""},{"$f":"IF(Sheet1!J122=\"\",\"\",IF(VLOOKUP(Sheet1!J122,Sheet2!$A$2:$C$44,3,FALSE)>=71,VLOOKUP(Sheet1!J122,Sheet2!$A$2:$C$44,2,FALSE)&TEXT(Sheet1!L122,\"00\")&TEXT(Sheet1!M122,\"00\"),VLOOKUP(Sheet1!J122,Sheet2!$A$2:$C$44,2,FALSE)&TEXT(Sheet1!K122,\"00\")&TEXT(Sheet1!L122,\"00\")&IF(Sheet1!N122=\"手\",TEXT(Sheet1!M122,\"0\"),TEXT(Sheet1!M122,\"00\"))))","v":""},{"$f":"IF(Sheet1!O122=\"\",\"\",IF(VLOOKUP(Sheet1!O122,Sheet2!$A$2:$C$44,3,FALSE)>=71,VLOOKUP(Sheet1!O122,Sheet2!$A$2:$C$44,2,FALSE)&TEXT(Sheet1!Q122,\"00\")&TEXT(Sheet1!R122,\"00\"),VLOOKUP(Sheet1!O122,Sheet2!$A$2:$C$44,2,FALSE)&TEXT(Sheet1!P122,\"00\")&TEXT(Sheet1!Q122,\"00\")&IF(Sheet1!S122=\"手\",TEXT(Sheet1!R122,\"0\"),TEXT(Sheet1!R122,\"00\"))))","v":""},{"$f":"IF(Sheet1!T122=\"\",\"\",IF(VLOOKUP(Sheet1!T122,Sheet2!$A$2:$C$44,3,FALSE)>=71,VLOOKUP(Sheet1!T122,Sheet2!$A$2:$C$44,2,FALSE)&TEXT(Sheet1!V122,\"00\")&TEXT(Sheet1!W122,\"00\"),VLOOKUP(Sheet1!T122,Sheet2!$A$2:$C$44,2,FALSE)&TEXT(Sheet1!U122,\"00\")&TEXT(Sheet1!V122,\"00\")&IF(Sheet1!X122=\"手\",TEXT(Sheet1!W122,\"0\"),TEXT(Sheet1!W122,\"00\"))))","v":""}]
["",{"$f":"ASC(IF(Sheet1!C123=\"\",\"\",IF(LEN(Sheet1!C123)+LEN(Sheet1!D123)=2,Sheet1!C123&\"      \"&Sheet1!D123&\"(\"&Sheet1!G123&\")\",IF(LEN(Sheet1!C123)+LEN(Sheet1!D123)=3,Sheet1!C123&\"    \"&Sheet1!D123&\"(\"&Sheet1!G123&\")\",IF(LEN(Sheet1!C123)+LEN(Sheet1!D123)=4,Sheet1!C123&\"  \"&Sheet1!D123&\"(\"&Sheet1!G123&\")\",IF(LEN(Sheet1!C123)+LEN(Sheet1!D123)>=5,Sheet1!C123&Sheet1!D123&\"(\"&Sheet1!G123&\")\",\"\"))))))","v":""},{"$f":"ASC(IF(Sheet1!E123=\"\",\"\",Sheet1!E123&\" \"&Sheet1!F123))","v":""},{"$f":"IF(Sheet1!H123=\"\",\"\",IF(Sheet1!H123=\"女\",2,1))","v":""},{"$f":"IF(Sheet1!I123=\"\",\"\",VLOOKUP(Sheet1!I123,Sheet2!$F$2:$G$50,2,FALSE))","v":""},{"$f":"IF(B113=\"\",\"\",IF(Sheet1!$D$4=\"\",Sheet1!$D$5,VALUE(Sheet1!$D$4)))","v":""},{"$f":"IF(Sheet1!B123=\"\",\"\",VALUE(Sheet1!B123))","v":""},{"$f":"IF(Sheet1!J123=\"\",\"\",IF(VLOOKUP(Sheet1!J123,Sheet2!$A$2:$C$44,3,FALSE)>=71,VLOOKUP(Sheet1!J123,Sheet2!$A$2:$C$44,2,FALSE)&TEXT(Sheet1!L123,\"00\")&TEXT(Sheet1!M123,\"00\"),VLOOKUP(Sheet1!J123,Sheet2!$A$2:$C$44,2,FALSE)&TEXT(Sheet1!K123,\"00\")&TEXT(Sheet1!L123,\"00\")&IF(Sheet1!N123=\"手\",TEXT(Sheet1!M123,\"0\"),TEXT(Sheet1!M123,\"00\"))))","v":""},{"$f":"IF(Sheet1!O123=\"\",\"\",IF(VLOOKUP(Sheet1!O123,Sheet2!$A$2:$C$44,3,FALSE)>=71,VLOOKUP(Sheet1!O123,Sheet2!$A$2:$C$44,2,FALSE)&TEXT(Sheet1!Q123,\"00\")&TEXT(Sheet1!R123,\"00\"),VLOOKUP(Sheet1!O123,Sheet2!$A$2:$C$44,2,FALSE)&TEXT(Sheet1!P123,\"00\")&TEXT(Sheet1!Q123,\"00\")&IF(Sheet1!S123=\"手\",TEXT(Sheet1!R123,\"0\"),TEXT(Sheet1!R123,\"00\"))))","v":""},{"$f":"IF(Sheet1!T123=\"\",\"\",IF(VLOOKUP(Sheet1!T123,Sheet2!$A$2:$C$44,3,FALSE)>=71,VLOOKUP(Sheet1!T123,Sheet2!$A$2:$C$44,2,FALSE)&TEXT(Sheet1!V123,\"00\")&TEXT(Sheet1!W123,\"00\"),VLOOKUP(Sheet1!T123,Sheet2!$A$2:$C$44,2,FALSE)&TEXT(Sheet1!U123,\"00\")&TEXT(Sheet1!V123,\"00\")&IF(Sheet1!X123=\"手\",TEXT(Sheet1!W123,\"0\"),TEXT(Sheet1!W123,\"00\"))))","v":""}]
["",{"$f":"ASC(IF(Sheet1!C124=\"\",\"\",IF(LEN(Sheet1!C124)+LEN(Sheet1!D124)=2,Sheet1!C124&\"      \"&Sheet1!D124&\"(\"&Sheet1!G124&\")\",IF(LEN(Sheet1!C124)+LEN(Sheet1!D124)=3,Sheet1!C124&\"    \"&Sheet1!D124&\"(\"&Sheet1!G124&\")\",IF(LEN(Sheet1!C124)+LEN(Sheet1!D124)=4,Sheet1!C124&\"  \"&Sheet1!D124&\"(\"&Sheet1!G124&\")\",IF(LEN(Sheet1!C124)+LEN(Sheet1!D124)>=5,Sheet1!C124&Sheet1!D124&\"(\"&Sheet1!G124&\")\",\"\"))))))","v":""},{"$f":"ASC(IF(Sheet1!E124=\"\",\"\",Sheet1!E124&\" \"&Sheet1!F124))","v":""},{"$f":"IF(Sheet1!H124=\"\",\"\",IF(Sheet1!H124=\"女\",2,1))","v":""},{"$f":"IF(Sheet1!I124=\"\",\"\",VLOOKUP(Sheet1!I124,Sheet2!$F$2:$G$50,2,FALSE))","v":""},{"$f":"IF(B114=\"\",\"\",IF(Sheet1!$D$4=\"\",Sheet1!$D$5,VALUE(Sheet1!$D$4)))","v":""},{"$f":"IF(Sheet1!B124=\"\",\"\",VALUE(Sheet1!B124))","v":""},{"$f":"IF(Sheet1!J124=\"\",\"\",IF(VLOOKUP(Sheet1!J124,Sheet2!$A$2:$C$44,3,FALSE)>=71,VLOOKUP(Sheet1!J124,Sheet2!$A$2:$C$44,2,FALSE)&TEXT(Sheet1!L124,\"00\")&TEXT(Sheet1!M124,\"00\"),VLOOKUP(Sheet1!J124,Sheet2!$A$2:$C$44,2,FALSE)&TEXT(Sheet1!K124,\"00\")&TEXT(Sheet1!L124,\"00\")&IF(Sheet1!N124=\"手\",TEXT(Sheet1!M124,\"0\"),TEXT(Sheet1!M124,\"00\"))))","v":""},{"$f":"IF(Sheet1!O124=\"\",\"\",IF(VLOOKUP(Sheet1!O124,Sheet2!$A$2:$C$44,3,FALSE)>=71,VLOOKUP(Sheet1!O124,Sheet2!$A$2:$C$44,2,FALSE)&TEXT(Sheet1!Q124,\"00\")&TEXT(Sheet1!R124,\"00\"),VLOOKUP(Sheet1!O124,Sheet2!$A$2:$C$44,2,FALSE)&TEXT(Sheet1!P124,\"00\")&TEXT(Sheet1!Q124,\"00\")&IF(Sheet1!S124=\"手\",TEXT(Sheet1!R124,\"0\"),TEXT(Sheet1!R124,\"00\"))))","v":""},{"$f":"IF(Sheet1!T124=\"\",\"\",IF(VLOOKUP(Sheet1!T124,Sheet2!$A$2:$C$44,3,FALSE)>=71,VLOOKUP(Sheet1!T124,Sheet2!$A$2:$C$44,2,FALSE)&TEXT(Sheet1!V124,\"00\")&TEXT(Sheet1!W124,\"00\"),VLOOKUP(Sheet1!T124,Sheet2!$A$2:$C$44,2,FALSE)&TEXT(Sheet1!U124,\"00\")&TEXT(Sheet1!V124,\"00\")&IF(Sheet1!X124=\"手\",TEXT(Sheet1!W124,\"0\"),TEXT(Sheet1!W124,\"00\"))))","v":""}]
["",{"$f":"ASC(IF(Sheet1!C125=\"\",\"\",IF(LEN(Sheet1!C125)+LEN(Sheet1!D125)=2,Sheet1!C125&\"      \"&Sheet1!D125&\"(\"&Sheet1!G125&\")\",IF(LEN(Sheet1!C125)+LEN(Sheet1!D125)=3,Sheet1!C125&\"    \"&Sheet1!D125&\"(\"&Sheet1!G125&\")\",IF(LEN(Sheet1!C125)+LEN(Sheet1!D125)=4,Sheet1!C125&\"  \"&Sheet1!D125&\"(\"&Sheet1!G125&\")\",IF(LEN(Sheet1!C125)+LEN(Sheet1!D125)>=5,Sheet1!C125&Sheet1!D125&\"(\"&Sheet1!G125&\")\",\"\"))))))","v":""},{"$f":"ASC(IF(Sheet1!E125=\"\",\"\",Sheet1!E125&\" \"&Sheet1!F125))","v":""},{"$f":"IF(Sheet1!H125=\"\",\"\",IF(Sheet1!H125=\"女\",2,1))","v":""},{"$f":"IF(Sheet1!I125=\"\",\"\",VLOOKUP(Sheet1!I125,Sheet2!$F$2:$G$50,2,FALSE))","v":""},{"$f":"IF(B115=\"\",\"\",IF(Sheet1!$D$4=\"\",Sheet1!$D$5,VALUE(Sheet1!$D$4)))","v":""},{"$f":"IF(Sheet1!B125=\"\",\"\",VALUE(Sheet1!B125))","v":""},{"$f":"IF(Sheet1!J125=\"\",\"\",IF(VLOOKUP(Sheet1!J125,Sheet2!$A$2:$C$44,3,FALSE)>=71,VLOOKUP(Sheet1!J125,Sheet2!$A$2:$C$44,2,FALSE)&TEXT(Sheet1!L125,\"00\")&TEXT(Sheet1!M125,\"00\"),VLOOKUP(Sheet1!J125,Sheet2!$A$2:$C$44,2,FALSE)&TEXT(Sheet1!K125,\"00\")&TEXT(Sheet1!L125,\"00\")&IF(Sheet1!N125=\"手\",TEXT(Sheet1!M125,\"0\"),TEXT(Sheet1!M125,\"00\"))))","v":""},{"$f":"IF(Sheet1!O125=\"\",\"\",IF(VLOOKUP(Sheet1!O125,Sheet2!$A$2:$C$44,3,FALSE)>=71,VLOOKUP(Sheet1!O125,Sheet2!$A$2:$C$44,2,FALSE)&TEXT(Sheet1!Q125,\"00\")&TEXT(Sheet1!R125,\"00\"),VLOOKUP(Sheet1!O125,Sheet2!$A$2:$C$44,2,FALSE)&TEXT(Sheet1!P125,\"00\")&TEXT(Sheet1!Q125,\"00\")&IF(Sheet1!S125=\"手\",TEXT(Sheet1!R125,\"0\"),TEXT(Sheet1!R125,\"00\"))))","v":""},{"$f":"IF(Sheet1!T125=\"\",\"\",IF(VLOOKUP(Sheet1!T125,Sheet2!$A$2:$C$44,3,FALSE)>=71,VLOOKUP(Sheet1!T125,Sheet2!$A$2:$C$44,2,FALSE)&TEXT(Sheet1!V125,\"00\")&TEXT(Sheet1!W125,\"00\"),VLOOKUP(Sheet1!T125,Sheet2!$A$2:$C$44,2,FALSE)&TEXT(Sheet1!U125,\"00\")&TEXT(Sheet1!V125,\"00\")&IF(Sheet1!X125=\"手\",TEXT(Sheet1!W125,\"0\"),TEXT(Sheet1!W125,\"00\"))))","v":""}]
["",{"$f":"ASC(IF(Sheet1!C126=\"\",\"\",IF(LEN(Sheet1!C126)+LEN(Sheet1!D126)=2,Sheet1!C126&\"      \"&Sheet1!D126&\"(\"&Sheet1!G126&\")\",IF(LEN(Sheet1!C126)+LEN(Sheet1!D126)=3,Sheet1!C126&\"    \"&Sheet1!D126&\"(\"&Sheet1!G126&\")\",IF(LEN(Sheet1!C126)+LEN(Sheet1!D126)=4,Sheet1!C126&\"  \"&Sheet1!D126&\"(\"&Sheet1!G126&\")\",IF(LEN(Sheet1!C126)+LEN(Sheet1!D126)>=5,Sheet1!C126&Sheet1!D126&\"(\"&Sheet1!G126&\")\",\"\"))))))","v":""},{"$f":"ASC(IF(Sheet1!E126=\"\",\"\",Sheet1!E126&\" \"&Sheet1!F126))","v":""},{"$f":"IF(Sheet1!H126=\"\",\"\",IF(Sheet1!H126=\"女\",2,1))","v":""},{"$f":"IF(Sheet1!I126=\"\",\"\",VLOOKUP(Sheet1!I126,Sheet2!$F$2:$G$50,2,FALSE))","v":""},{"$f":"IF(B116=\"\",\"\",IF(Sheet1!$D$4=\"\",Sheet1!$D$5,VALUE(Sheet1!$D$4)))","v":""},{"$f":"IF(Sheet1!B126=\"\",\"\",VALUE(Sheet1!B126))","v":""},{"$f":"IF(Sheet1!J126=\"\",\"\",IF(VLOOKUP(Sheet1!J126,Sheet2!$A$2:$C$44,3,FALSE)>=71,VLOOKUP(Sheet1!J126,Sheet2!$A$2:$C$44,2,FALSE)&TEXT(Sheet1!L126,\"00\")&TEXT(Sheet1!M126,\"00\"),VLOOKUP(Sheet1!J126,Sheet2!$A$2:$C$44,2,FALSE)&TEXT(Sheet1!K126,\"00\")&TEXT(Sheet1!L126,\"00\")&IF(Sheet1!N126=\"手\",TEXT(Sheet1!M126,\"0\"),TEXT(Sheet1!M126,\"00\"))))","v":""},{"$f":"IF(Sheet1!O126=\"\",\"\",IF(VLOOKUP(Sheet1!O126,Sheet2!$A$2:$C$44,3,FALSE)>=71,VLOOKUP(Sheet1!O126,Sheet2!$A$2:$C$44,2,FALSE)&TEXT(Sheet1!Q126,\"00\")&TEXT(Sheet1!R126,\"00\"),VLOOKUP(Sheet1!O126,Sheet2!$A$2:$C$44,2,FALSE)&TEXT(Sheet1!P126,\"00\")&TEXT(Sheet1!Q126,\"00\")&IF(Sheet1!S126=\"手\",TEXT(Sheet1!R126,\"0\"),TEXT(Sheet1!R126,\"00\"))))","v":""},{"$f":"IF(Sheet1!T126=\"\",\"\",IF(VLOOKUP(Sheet1!T126,Sheet2!$A$2:$C$44,3,FALSE)>=71,VLOOKUP(Sheet1!T126,Sheet2!$A$2:$C$44,2,FALSE)&TEXT(Sheet1!V126,\"00\")&TEXT(Sheet1!W126,\"00\"),VLOOKUP(Sheet1!T126,Sheet2!$A$2:$C$44,2,FALSE)&TEXT(Sheet1!U126,\"00\")&TEXT(Sheet1!V126,\"00\")&IF(Sheet1!X126=\"手\",TEXT(Sheet1!W126,\"0\"),TEXT(Sheet1!W126,\"00\"))))","v":""}]
["",{"$f":"ASC(IF(Sheet1!C127=\"\",\"\",IF(LEN(Sheet1!C127)+LEN(Sheet1!D127)=2,Sheet1!C127&\"      \"&Sheet1!D127&\"(\"&Sheet1!G127&\")\",IF(LEN(Sheet1!C127)+LEN(Sheet1!D127)=3,Sheet1!C127&\"    \"&Sheet1!D127&\"(\"&Sheet1!G127&\")\",IF(LEN(Sheet1!C127)+LEN(Sheet1!D127)=4,Sheet1!C127&\"  \"&Sheet1!D127&\"(\"&Sheet1!G127&\")\",IF(LEN(Sheet1!C127)+LEN(Sheet1!D127)>=5,Sheet1!C127&Sheet1!D127&\"(\"&Sheet1!G127&\")\",\"\"))))))","v":""},{"$f":"ASC(IF(Sheet1!E127=\"\",\"\",Sheet1!E127&\" \"&Sheet1!F127))","v":""},{"$f":"IF(Sheet1!H127=\"\",\"\",IF(Sheet1!H127=\"女\",2,1))","v":""},{"$f":"IF(Sheet1!I127=\"\",\"\",VLOOKUP(Sheet1!I127,Sheet2!$F$2:$G$50,2,FALSE))","v":""},{"$f":"IF(B117=\"\",\"\",IF(Sheet1!$D$4=\"\",Sheet1!$D$5,VALUE(Sheet1!$D$4)))","v":""},{"$f":"IF(Sheet1!B127=\"\",\"\",VALUE(Sheet1!B127))","v":""},{"$f":"IF(Sheet1!J127=\"\",\"\",IF(VLOOKUP(Sheet1!J127,Sheet2!$A$2:$C$44,3,FALSE)>=71,VLOOKUP(Sheet1!J127,Sheet2!$A$2:$C$44,2,FALSE)&TEXT(Sheet1!L127,\"00\")&TEXT(Sheet1!M127,\"00\"),VLOOKUP(Sheet1!J127,Sheet2!$A$2:$C$44,2,FALSE)&TEXT(Sheet1!K127,\"00\")&TEXT(Sheet1!L127,\"00\")&IF(Sheet1!N127=\"手\",TEXT(Sheet1!M127,\"0\"),TEXT(Sheet1!M127,\"00\"))))","v":""},{"$f":"IF(Sheet1!O127=\"\",\"\",IF(VLOOKUP(Sheet1!O127,Sheet2!$A$2:$C$44,3,FALSE)>=71,VLOOKUP(Sheet1!O127,Sheet2!$A$2:$C$44,2,FALSE)&TEXT(Sheet1!Q127,\"00\")&TEXT(Sheet1!R127,\"00\"),VLOOKUP(Sheet1!O127,Sheet2!$A$2:$C$44,2,FALSE)&TEXT(Sheet1!P127,\"00\")&TEXT(Sheet1!Q127,\"00\")&IF(Sheet1!S127=\"手\",TEXT(Sheet1!R127,\"0\"),TEXT(Sheet1!R127,\"00\"))))","v":""},{"$f":"IF(Sheet1!T127=\"\",\"\",IF(VLOOKUP(Sheet1!T127,Sheet2!$A$2:$C$44,3,FALSE)>=71,VLOOKUP(Sheet1!T127,Sheet2!$A$2:$C$44,2,FALSE)&TEXT(Sheet1!V127,\"00\")&TEXT(Sheet1!W127,\"00\"),VLOOKUP(Sheet1!T127,Sheet2!$A$2:$C$44,2,FALSE)&TEXT(Sheet1!U127,\"00\")&TEXT(Sheet1!V127,\"00\")&IF(Sheet1!X127=\"手\",TEXT(Sheet1!W127,\"0\"),TEXT(Sheet1!W127,\"00\"))))","v":""}]
["",{"$f":"ASC(IF(Sheet1!C128=\"\",\"\",IF(LEN(Sheet1!C128)+LEN(Sheet1!D128)=2,Sheet1!C128&\"      \"&Sheet1!D128&\"(\"&Sheet1!G128&\")\",IF(LEN(Sheet1!C128)+LEN(Sheet1!D128)=3,Sheet1!C128&\"    \"&Sheet1!D128&\"(\"&Sheet1!G128&\")\",IF(LEN(Sheet1!C128)+LEN(Sheet1!D128)=4,Sheet1!C128&\"  \"&Sheet1!D128&\"(\"&Sheet1!G128&\")\",IF(LEN(Sheet1!C128)+LEN(Sheet1!D128)>=5,Sheet1!C128&Sheet1!D128&\"(\"&Sheet1!G128&\")\",\"\"))))))","v":""},{"$f":"ASC(IF(Sheet1!E128=\"\",\"\",Sheet1!E128&\" \"&Sheet1!F128))","v":""},{"$f":"IF(Sheet1!H128=\"\",\"\",IF(Sheet1!H128=\"女\",2,1))","v":""},{"$f":"IF(Sheet1!I128=\"\",\"\",VLOOKUP(Sheet1!I128,Sheet2!$F$2:$G$50,2,FALSE))","v":""},{"$f":"IF(B118=\"\",\"\",IF(Sheet1!$D$4=\"\",Sheet1!$D$5,VALUE(Sheet1!$D$4)))","v":""},{"$f":"IF(Sheet1!B128=\"\",\"\",VALUE(Sheet1!B128))","v":""},{"$f":"IF(Sheet1!J128=\"\",\"\",IF(VLOOKUP(Sheet1!J128,Sheet2!$A$2:$C$44,3,FALSE)>=71,VLOOKUP(Sheet1!J128,Sheet2!$A$2:$C$44,2,FALSE)&TEXT(Sheet1!L128,\"00\")&TEXT(Sheet1!M128,\"00\"),VLOOKUP(Sheet1!J128,Sheet2!$A$2:$C$44,2,FALSE)&TEXT(Sheet1!K128,\"00\")&TEXT(Sheet1!L128,\"00\")&IF(Sheet1!N128=\"手\",TEXT(Sheet1!M128,\"0\"),TEXT(Sheet1!M128,\"00\"))))","v":""},{"$f":"IF(Sheet1!O128=\"\",\"\",IF(VLOOKUP(Sheet1!O128,Sheet2!$A$2:$C$44,3,FALSE)>=71,VLOOKUP(Sheet1!O128,Sheet2!$A$2:$C$44,2,FALSE)&TEXT(Sheet1!Q128,\"00\")&TEXT(Sheet1!R128,\"00\"),VLOOKUP(Sheet1!O128,Sheet2!$A$2:$C$44,2,FALSE)&TEXT(Sheet1!P128,\"00\")&TEXT(Sheet1!Q128,\"00\")&IF(Sheet1!S128=\"手\",TEXT(Sheet1!R128,\"0\"),TEXT(Sheet1!R128,\"00\"))))","v":""},{"$f":"IF(Sheet1!T128=\"\",\"\",IF(VLOOKUP(Sheet1!T128,Sheet2!$A$2:$C$44,3,FALSE)>=71,VLOOKUP(Sheet1!T128,Sheet2!$A$2:$C$44,2,FALSE)&TEXT(Sheet1!V128,\"00\")&TEXT(Sheet1!W128,\"00\"),VLOOKUP(Sheet1!T128,Sheet2!$A$2:$C$44,2,FALSE)&TEXT(Sheet1!U128,\"00\")&TEXT(Sheet1!V128,\"00\")&IF(Sheet1!X128=\"手\",TEXT(Sheet1!W128,\"0\"),TEXT(Sheet1!W128,\"00\"))))","v":""}]
["",{"$f":"ASC(IF(Sheet1!C129=\"\",\"\",IF(LEN(Sheet1!C129)+LEN(Sheet1!D129)=2,Sheet1!C129&\"      \"&Sheet1!D129&\"(\"&Sheet1!G129&\")\",IF(LEN(Sheet1!C129)+LEN(Sheet1!D129)=3,Sheet1!C129&\"    \"&Sheet1!D129&\"(\"&Sheet1!G129&\")\",IF(LEN(Sheet1!C129)+LEN(Sheet1!D129)=4,Sheet1!C129&\"  \"&Sheet1!D129&\"(\"&Sheet1!G129&\")\",IF(LEN(Sheet1!C129)+LEN(Sheet1!D129)>=5,Sheet1!C129&Sheet1!D129&\"(\"&Sheet1!G129&\")\",\"\"))))))","v":""},{"$f":"ASC(IF(Sheet1!E129=\"\",\"\",Sheet1!E129&\" \"&Sheet1!F129))","v":""},{"$f":"IF(Sheet1!H129=\"\",\"\",IF(Sheet1!H129=\"女\",2,1))","v":""},{"$f":"IF(Sheet1!I129=\"\",\"\",VLOOKUP(Sheet1!I129,Sheet2!$F$2:$G$50,2,FALSE))","v":""},{"$f":"IF(B119=\"\",\"\",IF(Sheet1!$D$4=\"\",Sheet1!$D$5,VALUE(Sheet1!$D$4)))","v":""},{"$f":"IF(Sheet1!B129=\"\",\"\",VALUE(Sheet1!B129))","v":""},{"$f":"IF(Sheet1!J129=\"\",\"\",IF(VLOOKUP(Sheet1!J129,Sheet2!$A$2:$C$44,3,FALSE)>=71,VLOOKUP(Sheet1!J129,Sheet2!$A$2:$C$44,2,FALSE)&TEXT(Sheet1!L129,\"00\")&TEXT(Sheet1!M129,\"00\"),VLOOKUP(Sheet1!J129,Sheet2!$A$2:$C$44,2,FALSE)&TEXT(Sheet1!K129,\"00\")&TEXT(Sheet1!L129,\"00\")&IF(Sheet1!N129=\"手\",TEXT(Sheet1!M129,\"0\"),TEXT(Sheet1!M129,\"00\"))))","v":""},{"$f":"IF(Sheet1!O129=\"\",\"\",IF(VLOOKUP(Sheet1!O129,Sheet2!$A$2:$C$44,3,FALSE)>=71,VLOOKUP(Sheet1!O129,Sheet2!$A$2:$C$44,2,FALSE)&TEXT(Sheet1!Q129,\"00\")&TEXT(Sheet1!R129,\"00\"),VLOOKUP(Sheet1!O129,Sheet2!$A$2:$C$44,2,FALSE)&TEXT(Sheet1!P129,\"00\")&TEXT(Sheet1!Q129,\"00\")&IF(Sheet1!S129=\"手\",TEXT(Sheet1!R129,\"0\"),TEXT(Sheet1!R129,\"00\"))))","v":""},{"$f":"IF(Sheet1!T129=\"\",\"\",IF(VLOOKUP(Sheet1!T129,Sheet2!$A$2:$C$44,3,FALSE)>=71,VLOOKUP(Sheet1!T129,Sheet2!$A$2:$C$44,2,FALSE)&TEXT(Sheet1!V129,\"00\")&TEXT(Sheet1!W129,\"00\"),VLOOKUP(Sheet1!T129,Sheet2!$A$2:$C$44,2,FALSE)&TEXT(Sheet1!U129,\"00\")&TEXT(Sheet1!V129,\"00\")&IF(Sheet1!X129=\"手\",TEXT(Sheet1!W129,\"0\"),TEXT(Sheet1!W129,\"00\"))))","v":""}]
["",{"$f":"ASC(IF(Sheet1!C130=\"\",\"\",IF(LEN(Sheet1!C130)+LEN(Sheet1!D130)=2,Sheet1!C130&\"      \"&Sheet1!D130&\"(\"&Sheet1!G130&\")\",IF(LEN(Sheet1!C130)+LEN(Sheet1!D130)=3,Sheet1!C130&\"    \"&Sheet1!D130&\"(\"&Sheet1!G130&\")\",IF(LEN(Sheet1!C130)+LEN(Sheet1!D130)=4,Sheet1!C130&\"  \"&Sheet1!D130&\"(\"&Sheet1!G130&\")\",IF(LEN(Sheet1!C130)+LEN(Sheet1!D130)>=5,Sheet1!C130&Sheet1!D130&\"(\"&Sheet1!G130&\")\",\"\"))))))","v":""},{"$f":"ASC(IF(Sheet1!E130=\"\",\"\",Sheet1!E130&\" \"&Sheet1!F130))","v":""},{"$f":"IF(Sheet1!H130=\"\",\"\",IF(Sheet1!H130=\"女\",2,1))","v":""},{"$f":"IF(Sheet1!I130=\"\",\"\",VLOOKUP(Sheet1!I130,Sheet2!$F$2:$G$50,2,FALSE))","v":""},{"$f":"IF(B120=\"\",\"\",IF(Sheet1!$D$4=\"\",Sheet1!$D$5,VALUE(Sheet1!$D$4)))","v":""},{"$f":"IF(Sheet1!B130=\"\",\"\",VALUE(Sheet1!B130))","v":""},{"$f":"IF(Sheet1!J130=\"\",\"\",IF(VLOOKUP(Sheet1!J130,Sheet2!$A$2:$C$44,3,FALSE)>=71,VLOOKUP(Sheet1!J130,Sheet2!$A$2:$C$44,2,FALSE)&TEXT(Sheet1!L130,\"00\")&TEXT(Sheet1!M130,\"00\"),VLOOKUP(Sheet1!J130,Sheet2!$A$2:$C$44,2,FALSE)&TEXT(Sheet1!K130,\"00\")&TEXT(Sheet1!L130,\"00\")&IF(Sheet1!N130=\"手\",TEXT(Sheet1!M130,\"0\"),TEXT(Sheet1!M130,\"00\"))))","v":""},{"$f":"IF(Sheet1!O130=\"\",\"\",IF(VLOOKUP(Sheet1!O130,Sheet2!$A$2:$C$44,3,FALSE)>=71,VLOOKUP(Sheet1!O130,Sheet2!$A$2:$C$44,2,FALSE)&TEXT(Sheet1!Q130,\"00\")&TEXT(Sheet1!R130,\"00\"),VLOOKUP(Sheet1!O130,Sheet2!$A$2:$C$44,2,FALSE)&TEXT(Sheet1!P130,\"00\")&TEXT(Sheet1!Q130,\"00\")&IF(Sheet1!S130=\"手\",TEXT(Sheet1!R130,\"0\"),TEXT(Sheet1!R130,\"00\"))))","v":""},{"$f":"IF(Sheet1!T130=\"\",\"\",IF(VLOOKUP(Sheet1!T130,Sheet2!$A$2:$C$44,3,FALSE)>=71,VLOOKUP(Sheet1!T130,Sheet2!$A$2:$C$44,2,FALSE)&TEXT(Sheet1!V130,\"00\")&TEXT(Sheet1!W130,\"00\"),VLOOKUP(Sheet1!T130,Sheet2!$A$2:$C$44,2,FALSE)&TEXT(Sheet1!U130,\"00\")&TEXT(Sheet1!V130,\"00\")&IF(Sheet1!X130=\"手\",TEXT(Sheet1!W130,\"0\"),TEXT(Sheet1!W130,\"00\"))))","v":""}]
["",{"$f":"ASC(IF(Sheet1!C131=\"\",\"\",IF(LEN(Sheet1!C131)+LEN(Sheet1!D131)=2,Sheet1!C131&\"      \"&Sheet1!D131&\"(\"&Sheet1!G131&\")\",IF(LEN(Sheet1!C131)+LEN(Sheet1!D131)=3,Sheet1!C131&\"    \"&Sheet1!D131&\"(\"&Sheet1!G131&\")\",IF(LEN(Sheet1!C131)+LEN(Sheet1!D131)=4,Sheet1!C131&\"  \"&Sheet1!D131&\"(\"&Sheet1!G131&\")\",IF(LEN(Sheet1!C131)+LEN(Sheet1!D131)>=5,Sheet1!C131&Sheet1!D131&\"(\"&Sheet1!G131&\")\",\"\"))))))","v":""},{"$f":"ASC(IF(Sheet1!E131=\"\",\"\",Sheet1!E131&\" \"&Sheet1!F131))","v":""},{"$f":"IF(Sheet1!H131=\"\",\"\",IF(Sheet1!H131=\"女\",2,1))","v":""},{"$f":"IF(Sheet1!I131=\"\",\"\",VLOOKUP(Sheet1!I131,Sheet2!$F$2:$G$50,2,FALSE))","v":""},{"$f":"IF(B121=\"\",\"\",IF(Sheet1!$D$4=\"\",Sheet1!$D$5,VALUE(Sheet1!$D$4)))","v":""},{"$f":"IF(Sheet1!B131=\"\",\"\",VALUE(Sheet1!B131))","v":""},{"$f":"IF(Sheet1!J131=\"\",\"\",IF(VLOOKUP(Sheet1!J131,Sheet2!$A$2:$C$44,3,FALSE)>=71,VLOOKUP(Sheet1!J131,Sheet2!$A$2:$C$44,2,FALSE)&TEXT(Sheet1!L131,\"00\")&TEXT(Sheet1!M131,\"00\"),VLOOKUP(Sheet1!J131,Sheet2!$A$2:$C$44,2,FALSE)&TEXT(Sheet1!K131,\"00\")&TEXT(Sheet1!L131,\"00\")&IF(Sheet1!N131=\"手\",TEXT(Sheet1!M131,\"0\"),TEXT(Sheet1!M131,\"00\"))))","v":""},{"$f":"IF(Sheet1!O131=\"\",\"\",IF(VLOOKUP(Sheet1!O131,Sheet2!$A$2:$C$44,3,FALSE)>=71,VLOOKUP(Sheet1!O131,Sheet2!$A$2:$C$44,2,FALSE)&TEXT(Sheet1!Q131,\"00\")&TEXT(Sheet1!R131,\"00\"),VLOOKUP(Sheet1!O131,Sheet2!$A$2:$C$44,2,FALSE)&TEXT(Sheet1!P131,\"00\")&TEXT(Sheet1!Q131,\"00\")&IF(Sheet1!S131=\"手\",TEXT(Sheet1!R131,\"0\"),TEXT(Sheet1!R131,\"00\"))))","v":""},{"$f":"IF(Sheet1!T131=\"\",\"\",IF(VLOOKUP(Sheet1!T131,Sheet2!$A$2:$C$44,3,FALSE)>=71,VLOOKUP(Sheet1!T131,Sheet2!$A$2:$C$44,2,FALSE)&TEXT(Sheet1!V131,\"00\")&TEXT(Sheet1!W131,\"00\"),VLOOKUP(Sheet1!T131,Sheet2!$A$2:$C$44,2,FALSE)&TEXT(Sheet1!U131,\"00\")&TEXT(Sheet1!V131,\"00\")&IF(Sheet1!X131=\"手\",TEXT(Sheet1!W131,\"0\"),TEXT(Sheet1!W131,\"00\"))))","v":""}]
["",{"$f":"ASC(IF(Sheet1!C132=\"\",\"\",IF(LEN(Sheet1!C132)+LEN(Sheet1!D132)=2,Sheet1!C132&\"      \"&Sheet1!D132&\"(\"&Sheet1!G132&\")\",IF(LEN(Sheet1!C132)+LEN(Sheet1!D132)=3,Sheet1!C132&\"    \"&Sheet1!D132&\"(\"&Sheet1!G132&\")\",IF(LEN(Sheet1!C132)+LEN(Sheet1!D132)=4,Sheet1!C132&\"  \"&Sheet1!D132&\"(\"&Sheet1!G132&\")\",IF(LEN(Sheet1!C132)+LEN(Sheet1!D132)>=5,Sheet1!C132&Sheet1!D132&\"(\"&Sheet1!G132&\")\",\"\"))))))","v":""},{"$f":"ASC(IF(Sheet1!E132=\"\",\"\",Sheet1!E132&\" \"&Sheet1!F132))","v":""},{"$f":"IF(Sheet1!H132=\"\",\"\",IF(Sheet1!H132=\"女\",2,1))","v":""},{"$f":"IF(Sheet1!I132=\"\",\"\",VLOOKUP(Sheet1!I132,Sheet2!$F$2:$G$50,2,FALSE))","v":""},{"$f":"IF(B122=\"\",\"\",IF(Sheet1!$D$4=\"\",Sheet1!$D$5,VALUE(Sheet1!$D$4)))","v":""},{"$f":"IF(Sheet1!B132=\"\",\"\",VALUE(Sheet1!B132))","v":""},{"$f":"IF(Sheet1!J132=\"\",\"\",IF(VLOOKUP(Sheet1!J132,Sheet2!$A$2:$C$44,3,FALSE)>=71,VLOOKUP(Sheet1!J132,Sheet2!$A$2:$C$44,2,FALSE)&TEXT(Sheet1!L132,\"00\")&TEXT(Sheet1!M132,\"00\"),VLOOKUP(Sheet1!J132,Sheet2!$A$2:$C$44,2,FALSE)&TEXT(Sheet1!K132,\"00\")&TEXT(Sheet1!L132,\"00\")&IF(Sheet1!N132=\"手\",TEXT(Sheet1!M132,\"0\"),TEXT(Sheet1!M132,\"00\"))))","v":""},{"$f":"IF(Sheet1!O132=\"\",\"\",IF(VLOOKUP(Sheet1!O132,Sheet2!$A$2:$C$44,3,FALSE)>=71,VLOOKUP(Sheet1!O132,Sheet2!$A$2:$C$44,2,FALSE)&TEXT(Sheet1!Q132,\"00\")&TEXT(Sheet1!R132,\"00\"),VLOOKUP(Sheet1!O132,Sheet2!$A$2:$C$44,2,FALSE)&TEXT(Sheet1!P132,\"00\")&TEXT(Sheet1!Q132,\"00\")&IF(Sheet1!S132=\"手\",TEXT(Sheet1!R132,\"0\"),TEXT(Sheet1!R132,\"00\"))))","v":""},{"$f":"IF(Sheet1!T132=\"\",\"\",IF(VLOOKUP(Sheet1!T132,Sheet2!$A$2:$C$44,3,FALSE)>=71,VLOOKUP(Sheet1!T132,Sheet2!$A$2:$C$44,2,FALSE)&TEXT(Sheet1!V132,\"00\")&TEXT(Sheet1!W132,\"00\"),VLOOKUP(Sheet1!T132,Sheet2!$A$2:$C$44,2,FALSE)&TEXT(Sheet1!U132,\"00\")&TEXT(Sheet1!V132,\"00\")&IF(Sheet1!X132=\"手\",TEXT(Sheet1!W132,\"0\"),TEXT(Sheet1!W132,\"00\"))))","v":""}]
["",{"$f":"ASC(IF(Sheet1!C133=\"\",\"\",IF(LEN(Sheet1!C133)+LEN(Sheet1!D133)=2,Sheet1!C133&\"      \"&Sheet1!D133&\"(\"&Sheet1!G133&\")\",IF(LEN(Sheet1!C133)+LEN(Sheet1!D133)=3,Sheet1!C133&\"    \"&Sheet1!D133&\"(\"&Sheet1!G133&\")\",IF(LEN(Sheet1!C133)+LEN(Sheet1!D133)=4,Sheet1!C133&\"  \"&Sheet1!D133&\"(\"&Sheet1!G133&\")\",IF(LEN(Sheet1!C133)+LEN(Sheet1!D133)>=5,Sheet1!C133&Sheet1!D133&\"(\"&Sheet1!G133&\")\",\"\"))))))","v":""},{"$f":"ASC(IF(Sheet1!E133=\"\",\"\",Sheet1!E133&\" \"&Sheet1!F133))","v":""}]
["",{"$f":"ASC(IF(Sheet1!C134=\"\",\"\",IF(LEN(Sheet1!C134)+LEN(Sheet1!D134)=2,Sheet1!C134&\"      \"&Sheet1!D134&\"(\"&Sheet1!G134&\")\",IF(LEN(Sheet1!C134)+LEN(Sheet1!D134)=3,Sheet1!C134&\"    \"&Sheet1!D134&\"(\"&Sheet1!G134&\")\",IF(LEN(Sheet1!C134)+LEN(Sheet1!D134)=4,Sheet1!C134&\"  \"&Sheet1!D134&\"(\"&Sheet1!G134&\")\",IF(LEN(Sheet1!C134)+LEN(Sheet1!D134)>=5,Sheet1!C134&Sheet1!D134&\"(\"&Sheet1!G134&\")\",\"\"))))))","v":""},{"$f":"ASC(IF(Sheet1!E134=\"\",\"\",Sheet1!E134&\" \"&Sheet1!F134))","v":""}]

{"sheet":"Sheet4","index":3,"n_rows":179,"n_cols":3,"rows_kept":179,"cut":false,"hidden":false,"merged":[[0,0,0,2],[1,0,1,2]]}
["入力画面に戻る"]
["下の表に掲載されていない団体は、\n団体コード欄には何も入力しないでください。"]
["加入団体","クラブチーム","団体コード"]
["尼崎市陸上競技協会",null,280001]
[null,"タイモスポーツ陸上競技部",280101]
[null,"尼崎ナイトランナーズ",280102]
[null,"上ヶ原アスリートクラブ",280103]
[null,"鳩印G＆T",280104]
[null,"ＮＭＲ",280105]
[null,"KOBE ALL FREE",280106]
[null,"裏六甲サブスリー会",280107]
[null,"team AMTC",280108]
[null,"園田学園女子大学AC",280109]
[null,"OHMI T&F CLUB",280110]
[null,"武庫総ＡＣ",280111]
[null,"洸勝ＭＹＴ",280112]
[null,"Ｇｒlab兵庫",280113]
[null,"FIRE. Amagasaki",280114]
[null,"長谷川体育施設",280115]
[null,"ハナパラ",280116]
[null,"三菱電機　紅菱会",280117]
[null,"ＮＤ　28ＡＣ",280118]
[null,"ランバース",280119]
[null,"ミズノ",280120]
[null,"ＦＳＲ",280121]
[null,"シバタ工業株式会社",280122]
[null,"RUN JOURNEY",280123]
[null,"zUKIX",280124]
[null,"ＡＫＣ",280125]
[null,"ＡＭＡＣＴ",280126]
[null,"王子コーエンズ",280127]
[null,"KAGOTANI",280128]
[null,"三菱電機",280129]
[null,"ＣＯＲＤ",280130]
[null,"ミライトテクノ",280131]
["川西市陸上競技協会",null,280002]
[null,"森野ＡＣ",280201]
["川辺郡陸上競技協会",null,280003]
["伊丹市陸上競技協会",null,280004]
[null,"住電ランニングクラブ",280401]
[null,"住友電工",280402]
[null,"自衛隊伊丹",280403]
[null,"兵庫ハンモックAC",280404]
["宝塚市陸上競技協会",null,280005]
["西宮市陸上競技協会",null,280006]
[null,"甲子園ＨＲＣ",280601]
[null,"ＮＰＯ法人武庫川スポーツクラブ",280602]
[null,"兵庫医科大学ＡＣ",280603]
[null,"Ｓ.Ｔ.Ｔ.",280604]
[null,"えびすＲＣ",280605]
[null,"まっすんプロジェクト",280606]
[null,"ＢａＳＲＣ",280607]
[null,"廣川建設株式会社",280608]
["芦屋市陸上競技協会",null,280007]
[null,"芦屋浜アスリートクラブ",280701]
[null,"Ｘａｖｉｅ",280702]
[null,"サウルスジャパン",280703]
["神戸市陸上競技協会",null,280008]
[null,"三菱重工神戸",280801]
[null,"鈴蘭台AC",280802]
[null,"関大陸友会",280803]
[null,"兵庫県警察",280804]
[null,"神戸PIJC",280805]
[null,"神戸市水道局ランニングクラブ",280806]
[null,"兵庫マスターズ陸上競技連盟",280807]
[null,"茗友クラブ",280808]
[null,"凌霜ＡＣ",280809]
[null,"神戸市教員クラブ",280810]
[null,"神戸市高体連クラブ",280811]
[null,"ノーリツ女子陸上競技部",280812]
[null,"明石大橋AC",280813]
[null,"神戸ＴＦＣ",280814]
[null,"ユニバースポーツクラブ",280815]
[null,"アシックス陸上競技部",280816]
[null,"ウダカスポーツアスリートクラブ",280817]
[null,"甲南学園アスレチッククラブ",280818]
[null,"神戸高専TFC",280819]
[null,"アシックスランニングラボ",280820]
[null,"阪急電鉄陸上部",280821]
[null,"Bacchus",280822]
[null,"神戸学院大AC",280823]
[null,"PUMAランニングクラブ神戸",280824]
[null,"team APEX nikko",280825]
[null,"T&F.netKOBE",280826]
[null,"Sparkle Run",280827]
[null,"HYOGO TFC",280828]
[null,"鈴蘭NAC",280829]
[null,"神戸市消防局",280830]
[null,"シスメックス",280831]
[null,"TIC valley",280832]
[null,"西川ランニング教室",280833]
[null,"KOBE ATHLETE CLUB ",280834]
[null,"ReRun Running Club",280835]
[null,"ＴＯＫＩＷＡランナーズ",280836]
[null,"有野台ＮＡＣ",280837]
[null,"コンドーテック陸上部",280838]
[null,"Kobe Customs Runners Club",280839]
[null,"Kenko Long distance Club",280840]
[null,"神戸えーしー",280841]
[null,"さくら組",280842]
[null,"神戸学院大ＲＣ",280843]
[null,"絆ﾗﾝﾆﾝｸﾞｸﾗﾌﾞ",280844]
[null,"神大かけっこ",280845]
[null,"ｺﾏﾈﾁﾗﾝﾆﾝｸﾞｸﾗﾌﾞ",280846]
[null,"ﾁｰﾑ壁",280847]
[null,"Frontier athlete club",280848]
[null,"関大ランナーズ兵庫",280849]
[null,"UNDER TWO MINUTES",280850]
[null,"GRAND STONE",280851]
["明石市陸上競技協会",null,280009]
[null,"川崎重工",280901]
[null,"明石高専AC",280902]
[null,"めいなんＡＣ",280903]
[null,"兵庫ＲＣ",280904]
["加古郡陸上競技協会",null,280010]
["加古川市陸上競技協会",null,280011]
[null,"ウィンドアップAC",281101]
[null,"神鋼加古川",281102]
[null,"兵庫ヤクルト販売",281103]
[null,"兵庫投擲倶楽部加古川",281104]
[null,"復刻アスリートクラブ",281105]
[null,"Blue Wave AC",281106]
[null,"浜の宮ＡＣ",281107]
[null,"ビオラ",281108]
["高砂市陸上競技協会",null,280012]
[null,"三菱重工高砂",281201]
[null,"カネカ高砂",281202]
[null,"Aura",281203]
["三木市陸上競技協会",null,280013]
[null,"三木ランニングクラブ",281301]
["加東市陸上競技協会",null,280014]
["小野市陸上競技協会",null,280015]
[null,"トクセン工業",281501]
[null,"アスレックＲＣ",281502]
[null,"新明和工業RC",281503]
[null,"ＭＤホームズランニングクラブ",281504]
[null,"豊田自動織機Track club",281505]
["加西市陸上競技協会",null,280016]
["西脇市陸上競技協会",null,280017]
["多可郡陸上競技協会",null,280018]
["姫路市陸上競技協会",null,280019]
[null,"兵庫アスリート",281901]
[null,"日本製鉄広畑",281902]
[null,"山陽特殊製鋼",281903]
[null,"姫路自衛隊",281904]
[null,"ＩＲＣ",281905]
[null,"こさみアスリート",281906]
[null,"ＡＭＵＲＯ ＲＣ",281907]
[null,"三菱電機姫路製作所ランニング部",281908]
[null,"budouAC",281909]
[null,"ＮＩＫE　ＴＯＫＹＯ ＴＣ",281910]
[null,"播磨KOC",281911]
[null,"姫路ＨＡＣ",281912]
["神崎郡陸上競技協会",null,280020]
["揖保郡陸上競技協会",null,280021]
["たつの市陸上競技協会",null,280022]
["相生市陸上競技協会",null,280023]
["赤穂市陸上競技協会",null,280024]
["赤穂郡陸上競技協会",null,280025]
["宍粟市",null,280026]
["佐用郡陸上競技協会",null,280027]
["三田市陸上競技協会",null,280028]
[null,"ウッディRC",282801]
[null,"三田アスリートX",282802]
["篠山市陸上競技協会",null,280029]
["丹波市陸上競技協会",null,280030]
["豊岡市陸上競技協会",null,280031]
[null,"Sub Zero TOYOOKA",283101]
[null,"CREVAS(クレバス)",283102]
["美方郡陸上競技協会",null,280032]
["養父市陸上競技協会",null,280033]
["朝来市陸上競技協会",null,280034]
[null,"但馬ＡＣ",283401]
[null,"ASAGO T&F",283402]
["洲本市陸上競技協会",null,280035]
[null,"新川投てきクラブ",283501]
["淡路市陸上競技協会",null,280036]
[null,"淡路陸上教室",283601]
["南あわじ市陸上競技協会",null,280037]