{"text_format":"1","workbook":"xlsx","n_sheets":3,"sheets":["Sheet1","Sheet2","Sheet3"],"not_rendered":{"charts":0,"images":0,"macros":1,"external_links":0,"defined_names":2,"comments":1,"pivot_tables":0},"unopened":[],"bounds":{"document_bytes":16777216,"sheet_cells":100000,"rows_first":2000,"rows_last":500,"rows_between":2000,"halvings":0,"cell_chars":16384,"cell_head_chars":4096},"cells_cut":0,"cells_raw":0,"read":"whole","date_system":"1900"}

{"sheet":"Sheet1","index":0,"n_rows":384,"n_cols":41,"rows_kept":384,"cut":false,"hidden":false,"merged":[[10,20,10,22],[9,20,9,21],[7,29,8,32],[2,0,2,1],[4,4,4,7],[5,4,5,7],[6,4,6,7],[9,0,9,7],[3,0,3,3],[4,0,4,3],[3,4,3,7],[5,0,5,3],[6,0,6,3],[10,0,10,3],[2,9,2,18],[11,0,11,3],[4,23,4,24],[8,23,8,24],[3,23,3,24],[6,23,6,24],[7,20,7,21],[8,20,8,21],[5,23,5,24],[6,20,6,21],[7,23,7,24],[4,20,4,21],[5,20,5,21],[3,20,3,21],[8,9,11,18],[9,23,9,24],[3,9,7,18],[14,37,14,40],[4,25,4,26],[5,25,5,26],[6,25,6,26],[7,25,7,26],[8,25,8,26],[3,31,4,31],[3,32,4,32],[9,25,9,26],[3,25,3,26],[2,33,3,33],[3,29,4,29],[3,30,4,30],[10,23,10,26]]}
["兵庫選手権〔関西学連盟校用〕"]
[]
["１　団体情報",null,null,null,null,null,null,null,null,"４　提出データ（csvファイル）の作成",null,null,null,null,null,null,null,null,null,null,"参加料等（自動計算）",null,null,null,null,null,null,null,null,"リレーチーム数（自動計算）"]
["団体名（個人は陸協名）：",null,null,null,"選択して下さい",null,null,null,null,"１　団体情報，２　リレー記録，３　選手・出場種目情報\n全ての入力・確認作業が完了してから，\n「提出データ作成ボタン」をクリックして，\n提出データ(csvファイル）を作成してください。",null,null,null,null,null,null,null,null,null,null,null,null,"数","単価",null,"金額小計",null,null,null,"男\n400R","男\n1600R","女\n400R","女\n1600R"]
["申込責任者氏名：",null,null,null,null,null,null,null,null,null,null,null,null,null,null,null,null,null,null,null,"プロ",null,{"$f":"E7","v":0},900,null,{"$f":"W5*X5","v":0}]
["緊急連絡先：",null,null,null,null,null,null,null,null,null,null,null,null,null,null,null,null,null,null,null,"リレー",null,{"$f":"SUM(AD6:AG6)","v":0},2900,null,0,null,null,null,{"$f":"INT(COUNTIF(AD16:AD135,\"●\")/4)","v":0},{"$f":"INT(COUNTIF(AE16:AE135,\"▲\")/4)","v":0},{"$f":"INT(COUNTIF(AF16:AF135,\"★\")/4)","v":0},{"$f":"INT(COUNTIF(AG16:AG135,\"▼\")/4)","v":0}]
["プログラム冊数：",null,null,null,null,null,null,null,null,null,null,null,null,null,null,null,null,null,null,null,"県内個人",null,{"$f":"SUMIF($K$16:$K$135,\"兵庫\",$AB$16:$AB$135)","v":0},2000,null,0]
[null,null,null,null,null,null,null,null,null,null,null,null,null,null,null,null,null,null,null,null,"県外個人",null,{"$f":"SUMIF($K$16:$K$135,\"<>兵庫\",$AB$16:$AB$135)","v":0},2000,null,0]
[null,null,null,null,null,null,null,null,null,null,null,null,null,null,null,null,null,null,null,null,"県内混成",null,{"$f":"SUMIF($K$16:$K$135,\"兵庫\",$AC$16:$AC$135)","v":0},3400,null,0]
["２　リレー記録（出場チームのみ）",null,null,null,null,null,null,null,null,null,null,null,null,null,null,null,null,null,null,null,"県外混成",null,{"$f":"SUMIF($K$16:$K$135,\"<>兵庫\",$AC$16:$AC$135)","v":0},3400,null,0]
["種目：",null,null,null,"●男400R","▲男1600R","★女400R","▼女1600R",null,null,null,null,null,null,null,null,null,null,null,null,"合計金額",null,null,{"$f":"SUM(Z4:AA10)","v":0}]
["記録（4桁or5桁数値）："]
[null,null,null,null,null,null,null,null,"↓生年西暦下2桁",null,null,"↓日本以外の場合のみ入力",null,null,null,"↓十種・七種の得点は秒m欄に上2桁，1/100cm欄に下2桁を入力",null,null,null,null,null,null,null,null,null,null,null,null,null,"↓各チーム4～6名を登録"]
["３　選手・出場種目情報"]
["№","ﾅﾝﾊﾞｰｶｰﾄﾞ\n(中学5桁)","姓","名","ﾌﾘｶﾞﾅ(性)","ﾌﾘｶﾞﾅ(名)","英表記(姓) \n例 HYOGO","英表記（名)\n例 Taro","生年","性別","登録\n府県","国籍\n（日本以外）","個人種目１","分","秒\nｍ","1/100\ncm","手動","個人種目２\n個人種目４","分","秒\nｍ","1/100\ncm","手動","個人種目３\n個人種目５","分","秒\nｍ","1/100\ncm","手動","個人","混成","男\n400R","男1600R","女\n400R","女\n1600R","選手名\n（確認用）",null,null,null,"混成カウント"]
[1,null,null,null,null,null,null,null,null,null,null,null,null,null,null,null,null,null,null,null,null,null,null,null,null,null,null,{"$f":"IF(M16&R16=\"\",\"\",COUNTA(M16,R16,W16)-AO16)","v":""},{"$f":"IF(M16&R16=\"\",\"\",AO16)","v":""},null,null,null,null,{"$f":"C16&D16","v":""},null,null,null,{"$f":"IF(OR(M16=\"十種競技\",M16=\"七種競技\"),1,0)","v":0},{"$f":"IF(OR(R16=\"十種競技\",R16=\"七種競技\"),1,0)","v":0},{"$f":"IF(OR(W16=\"十種競技\",W16=\"七種競技\"),1,0)","v":0},{"$f":"SUM(AL16:AN16)","v":0}]
[2,null,null,null,null,null,null,null,null,null,"",null,null,null,null,null,null,null,null,null,null,null,null,null,null,null,null,"",{"$f":"IF(M17&R17=\"\",\"\",AO17)","v":""},null,null,null,null,{"$f":"C17&D17","v":""},null,null,null,0,0,0,{"$f":"SUM(AL17:AN17)","v":0}]
[3,null,null,null,null,null,null,null,null,null,"",null,null,null,null,null,null,null,null,null,null,null,null,null,null,null,null,"","",null,null,null,null,"",null,null,null,0,0,0,0]
[4,null,null,null,null,null,null,null,null,null,"",null,null,null,null,null,null,null,null,null,null,null,null,null,null,null,null,"","",null,null,null,null,"",null,null,null,0,0,0,0]
[5,null,null,null,null,null,null,null,null,null,"",null,null,null,null,null,null,null,null,null,null,null,null,null,null,null,null,"","",null,null,null,null,"",null,null,null,0,0,0,0]
[6,null,null,null,null,null,null,null,null,null,"",null,null,null,null,null,null,null,null,null,null,null,null,null,null,null,null,"","",null,null,null,null,"",null,null,null,0,0,0,0]
[7,null,null,null,null,null,null,null,null,null,"",null,null,null,null,null,null,null,null,null,null,null,null,null,null,null,null,"","",null,null,null,null,"",null,null,null,0,0,0,0]
[8,null,null,null,null,null,null,null,null,null,"",null,null,null,null,null,null,null,null,null,null,null,null,null,null,null,null,"","",null,null,null,null,"",null,null,null,0,0,0,0]
[9,null,null,null,null,null,null,null,null,null,"",null,null,null,null,null,null,null,null,null,null,null,null,null,null,null,null,"","",null,null,null,null,"",null,null,null,0,0,0,0]
[10,null,null,null,null,null,null,null,null,null,"",null,null,null,null,null,null,null,null,null,null,null,null,null,null,null,null,"","",null,null,null,null,"",null,null,null,0,0,0,0]
[11,null,null,null,null,null,null,null,null,null,"",null,null,null,null,null,null,null,null,null,null,null,null,null,null,null,null,"","",null,null,null,null,"",null,null,null,0,0,0,0]
[12,null,null,null,null,null,null,null,null,null,"",null,null,null,null,null,null,null,null,null,null,null,null,null,null,null,null,"","",null,null,null,null,"",null,null,null,0,0,0,0]
[13,null,null,null,null,null,null,null,null,null,"",null,null,null,null,null,null,null,null,null,null,null,null,null,null,null,null,"","",null,null,null,null,"",null,null,null,0,0,0,0]
[14,null,null,null,null,null,null,null,null,null,"",null,null,null,null,null,null,null,null,null,null,null,null,null,null,null,null,"","",null,null,null,null,"",null,null,null,0,0,0,0]
[15,null,null,null,null,null,null,null,null,null,"",null,null,null,null,null,null,null,null,null,null,null,null,null,null,null,null,"","",null,null,null,null,"",null,null,null,0,0,0,0]
[16,null,null,null,null,null,null,null,null,null,"",null,null,null,null,null,null,null,null,null,null,null,null,null,null,null,null,"","",null,null,null,null,"",null,null,null,0,0,0,0]
[17,null,null,null,null,null,null,null,null,null,"",null,null,null,null,null,null,null,null,null,null,null,null,null,null,null,null,"","",null,null,null,null,"",null,null,null,0,0,0,0]
[18,null,null,null,null,null,null,null,null,null,"",null,null,null,null,null,null,null,null,null,null,null,null,null,null,null,null,"","",null,null,null,null,"",null,null,null,0,0,0,0]
[19,null,null,null,null,null,null,null,null,null,"",null,null,null,null,null,null,null,null,null,null,null,null,null,null,null,null,"","",null,null,null,null,"",null,null,null,0,0,0,0]
[20,null,null,null,null,null,null,null,null,null,"",null,null,null,null,null,null,null,null,null,null,null,null,null,null,null,null,"","",null,null,null,null,"",null,null,null,0,0,0,0]
[21,null,null,null,null,null,null,null,null,null,"",null,null,null,null,null,null,null,null,null,null,null,null,null,null,null,null,"","",null,null,null,null,"",null,null,null,0,0,0,0]
[22,null,null,null,null,null,null,null,null,null,"",null,null,null,null,null,null,null,null,null,null,null,null,null,null,null,null,"","",null,null,null,null,"",null,null,null,0,0,0,0]
[23,null,null,null,null,null,null,null,null,null,"",null,null,null,null,null,null,null,null,null,null,null,null,null,null,null,null,"","",null,null,null,null,"",null,null,null,0,0,0,0]
[24,null,null,null,null,null,null,null,null,null,"",null,null,null,null,null,null,null,null,null,null,null,null,null,null,null,null,"","",null,null,null,null,"",null,null,null,0,0,0,0]
[25,null,null,null,null,null,null,null,null,null,"",null,null,null,null,null,null,null,null,null,null,null,null,null,null,null,null,"","",null,null,null,null,"",null,null,null,0,0,0,0]
[26,null,null,null,null,null,null,null,null,null,"",null,null,null,null,null,null,null,null,null,null,null,null,null,null,null,null,"","",null,null,null,null,"",null,null,null,0,0,0,0]
[27,null,null,null,null,null,null,null,null,null,"",null,null,null,null,null,null,null,null,null,null,null,null,null,null,null,null,"","",null,null,null,null,"",null,null,null,0,0,0,0]
[28,null,null,null,null,null,null,null,null,null,"",null,null,null,null,null,null,null,null,null,null,null,null,null,null,null,null,"","",null,null,null,null,"",null,null,null,0,0,0,0]
[29,null,null,null,null,null,null,null,null,null,"",null,null,null,null,null,null,null,null,null,null,null,null,null,null,null,null,"","",null,null,null,null,"",null,null,null,0,0,0,0]
[30,null,null,null,null,null,null,null,null,null,"",null,null,null,null,null,null,null,null,null,null,null,null,null,null,null,null,"","",null,null,null,null,"",null,null,null,0,0,0,0]
[31,null,null,null,null,null,null,null,null,null,"",null,null,null,null,null,null,null,null,null,null,null,null,null,null,null,null,"","",null,null,null,null,"",null,null,null,0,0,0,0]
[32,null,null,null,null,null,null,null,null,null,"",null,null,null,null,null,null,null,null,null,null,null,null,null,null,null,null,"","",null,null,null,null,"",null,null,null,0,0,0,0]
[33,null,null,null,null,null,null,null,null,null,"",null,null,null,null,null,null,null,null,null,null,null,null,null,null,null,null,{"$f":"IF(M48&R48=\"\",\"\",COUNTA(M48,R48,W48)-AO48)","v":""},{"$f":"IF(M48&R48=\"\",\"\",AO48)","v":""},null,null,null,null,"",null,null,null,{"$f":"IF(OR(M48=\"十種競技\",M48=\"七種競技\"),1,0)","v":0},{"$f":"IF(OR(R48=\"十種競技\",R48=\"七種競技\"),1,0)","v":0},{"$f":"IF(OR(W48=\"十種競技\",W48=\"七種競技\"),1,0)","v":0},0]
[34,null,null,null,null,null,null,null,null,null,"",null,null,null,null,null,null,null,null,null,null,null,null,null,null,null,null,"","",null,null,null,null,"",null,null,null,0,0,0,0]
[35,null,null,null,null,null,null,null,null,null,"",null,null,null,null,null,null,null,null,null,null,null,null,null,null,null,null,"","",null,null,null,null,"",null,null,null,0,0,0,0]
[36,null,null,null,null,null,null,null,null,null,"",null,null,null,null,null,null,null,null,null,null,null,null,null,null,null,null,"","",null,null,null,null,"",null,null,null,0,0,0,0]
[37,null,null,null,null,null,null,null,null,null,"",null,null,null,null,null,null,null,null,null,null,null,null,null,null,null,null,"","",null,null,null,null,"",null,null,null,0,0,0,0]
[38,null,null,null,null,null,null,null,null,null,"",null,null,null,null,null,null,null,null,null,null,null,null,null,null,null,null,"","",null,null,null,null,"",null,null,null,0,0,0,0]
[39,null,null,null,null,null,null,null,null,null,"",null,null,null,null,null,null,null,null,null,null,null,null,null,null,null,null,"","",null,null,null,null,"",null,null,null,0,0,0,0]
[40,null,null,null,null,null,null,null,null,null,"",null,null,null,null,null,null,null,null,null,null,null,null,null,null,null,null,"","",null,null,null,null,"",null,null,null,0,0,0,0]
[41,null,null,null,null,null,null,null,null,null,"",null,null,null,null,null,null,null,null,null,null,null,null,null,null,null,null,"","",null,null,null,null,"",null,null,null,0,0,0,0]
[42,null,null,null,null,null,null,null,null,null,"",null,null,null,null,null,null,null,null,null,null,null,null,null,null,null,null,"","",null,null,null,null,"",null,null,null,0,0,0,0]
[43,null,null,null,null,null,null,null,null,null,"",null,null,null,null,null,null,null,null,null,null,null,null,null,null,null,null,"","",null,null,null,null,"",null,null,null,0,0,0,0]
[44,null,null,null,null,null,null,null,null,null,"",null,null,null,null,null,null,null,null,null,null,null,null,null,null,null,null,"","",null,null,null,null,"",null,null,null,0,0,0,0]
[45,null,null,null,null,null,null,null,null,null,"",null,null,null,null,null,null,null,null,null,null,null,null,null,null,null,null,"","",null,null,null,null,"",null,null,null,0,0,0,0]
[46,null,null,null,null,null,null,null,null,null,"",null,null,null,null,null,null,null,null,null,null,null,null,null,null,null,null,"","",null,null,null,null,"",null,null,null,0,0,0,0]
[47,null,null,null,null,null,null,null,null,null,"",null,null,null,null,null,null,null,null,null,null,null,null,null,null,null,null,"","",null,null,null,null,"",null,null,null,0,0,0,0]
[48,null,null,null,null,null,null,null,null,null,"",null,null,null,null,null,null,null,null,null,null,null,null,null,null,null,null,"","",null,null,null,null,"",null,null,null,0,0,0,0]
[49,null,null,null,null,null,null,null,null,null,"",null,null,null,null,null,null,null,null,null,null,null,null,null,null,null,null,"","",null,null,null,null,"",null,null,null,0,0,0,0]
[50,null,null,null,null,null,null,null,null,null,"",null,null,null,null,null,null,null,null,null,null,null,null,null,null,null,null,"","",null,null,null,null,"",null,null,null,0,0,0,0]
[51,null,null,null,null,null,null,null,null,null,"",null,null,null,null,null,null,null,null,null,null,null,null,null,null,null,null,"","",null,null,null,null,"",null,null,null,0,0,0,0]
[52,null,null,null,null,null,null,null,null,null,"",null,null,null,null,null,null,null,null,null,null,null,null,null,null,null,null,"","",null,null,null,null,"",null,null,null,0,0,0,0]
[53,null,null,null,null,null,null,null,null,null,"",null,null,null,null,null,null,null,null,null,null,null,null,null,null,null,null,"","",null,null,null,null,"",null,null,null,0,0,0,0]
[54,null,null,null,null,null,null,null,null,null,"",null,null,null,null,null,null,null,null,null,null,null,null,null,null,null,null,"","",null,null,null,null,"",null,null,null,0,0,0,0]
[55,null,null,null,null,null,null,null,null,null,"",null,null,null,null,null,null,null,null,null,null,null,null,null,null,null,null,"","",null,null,null,null,"",null,null,null,0,0,0,0]
[56,null,null,null,null,null,null,null,null,null,"",null,null,null,null,null,null,null,null,null,null,null,null,null,null,null,null,"","",null,null,null,null,"",null,null,null,0,0,0,0]
[57,null,null,null,null,null,null,null,null,null,"",null,null,null,null,null,null,null,null,null,null,null,null,null,null,null,null,"","",null,null,null,null,"",null,null,null,0,0,0,0]
[58,null,null,null,null,null,null,null,null,null,"",null,null,null,null,null,null,null,null,null,null,null,null,null,null,null,null,"","",null,null,null,null,"",null,null,null,0,0,0,0]
[59,null,null,null,null,null,null,null,null,null,"",null,null,null,null,null,null,null,null,null,null,null,null,null,null,null,null,"","",null,null,null,null,"",null,null,null,0,0,0,0]
[60,null,null,null,null,null,null,null,null,null,"",null,null,null,null,null,null,null,null,null,null,null,null,null,null,null,null,"","",null,null,null,null,"",null,null,null,0,0,0,0]
[61,null,null,null,null,null,null,null,null,null,"",null,null,null,null,null,null,null,null,null,null,null,null,null,null,null,null,"","",null,null,null,null,"",null,null,null,0,0,0,0]
[62,null,null,null,null,null,null,null,null,null,"",null,null,null,null,null,null,null,null,null,null,null,null,null,null,null,null,"","",null,null,null,null,"",null,null,null,0,0,0,0]
[63,null,null,null,null,null,null,null,null,null,"",null,null,null,null,null,null,null,null,null,null,null,null,null,null,null,null,"","",null,null,null,null,"",null,null,null,0,0,0,0]
[64,null,null,null,null,null,null,null,null,null,"",null,null,null,null,null,null,null,null,null,null,null,null,null,null,null,null,"","",null,null,null,null,"",null,null,null,0,0,0,0]
[65,null,null,null,null,null,null,null,null,null,"",null,null,null,null,null,null,null,null,null,null,null,null,null,null,null,null,{"$f":"IF(M80&R80=\"\",\"\",COUNTA(M80,R80,W80)-AO80)","v":""},{"$f":"IF(M80&R80=\"\",\"\",AO80)","v":""},null,null,null,null,"",null,null,null,{"$f":"IF(OR(M80=\"十種競技\",M80=\"七種競技\"),1,0)","v":0},{"$f":"IF(OR(R80=\"十種競技\",R80=\"七種競技\"),1,0)","v":0},{"$f":"IF(OR(W80=\"十種競技\",W80=\"七種競技\"),1,0)","v":0},0]
[66,null,null,null,null,null,null,null,null,null,"",null,null,null,null,null,null,null,null,null,null,null,null,null,null,null,null,"","",null,null,null,null,{"$f":"C81&D81","v":""},null,null,null,0,0,0,{"$f":"SUM(AL81:AN81)","v":0}]
[67,null,null,null,null,null,null,null,null,null,"",null,null,null,null,null,null,null,null,null,null,null,null,null,null,null,null,"","",null,null,null,null,"",null,null,null,0,0,0,0]
[68,null,null,null,null,null,null,null,null,null,"",null,null,null,null,null,null,null,null,null,null,null,null,null,null,null,null,"","",null,null,null,null,"",null,null,null,0,0,0,0]
[69,null,null,null,null,null,null,null,null,null,"",null,null,null,null,null,null,null,null,null,null,null,null,null,null,null,null,"","",null,null,null,null,"",null,null,null,0,0,0,0]
[70,null,null,null,null,null,null,null,null,null,"",null,null,null,null,null,null,null,null,null,null,null,null,null,null,null,null,"","",null,null,null,null,"",null,null,null,0,0,0,0]
[71,null,null,null,null,null,null,null,null,null,"",null,null,null,null,null,null,null,null,null,null,null,null,null,null,null,null,"","",null,null,null,null,"",null,null,null,0,0,0,0]
[72,null,null,null,null,null,null,null,null,null,"",null,null,null,null,null,null,null,null,null,null,null,null,null,null,null,null,"","",null,null,null,null,"",null,null,null,0,0,0,0]
[73,null,null,null,null,null,null,null,null,null,"",null,null,null,null,null,null,null,null,null,null,null,null,null,null,null,null,"","",null,null,null,null,"",null,null,null,0,0,0,0]
[74,null,null,null,null,null,null,null,null,null,"",null,null,null,null,null,null,null,null,null,null,null,null,null,null,null,null,"","",null,null,null,null,"",null,null,null,0,0,0,0]
[75,null,null,null,null,null,null,null,null,null,"",null,null,null,null,null,null,null,null,null,null,null,null,null,null,null,null,"","",null,null,null,null,"",null,null,null,0,0,0,0]
[76,null,null,null,null,null,null,null,null,null,"",null,null,null,null,null,null,null,null,null,null,null,null,null,null,null,null,"","",null,null,null,null,"",null,null,null,0,0,0,0]
[77,null,null,null,null,null,null,null,null,null,"",null,null,null,null,null,null,null,null,null,null,null,null,null,null,null,null,"","",null,null,null,null,"",null,null,null,0,0,0,0]
[78,null,null,null,null,null,null,null,null,null,"",null,null,null,null,null,null,null,null,null,null,null,null,null,null,null,null,"","",null,null,null,null,"",null,null,null,0,0,0,0]
[79,null,null,null,null,null,null,null,null,null,"",null,null,null,null,null,null,null,null,null,null,null,null,null,null,null,null,"","",null,null,null,null,"",null,null,null,0,0,0,0]
[80,null,null,null,null,null,null,null,null,null,"",null,null,null,null,null,null,null,null,null,null,null,null,null,null,null,null,"","",null,null,null,null,"",null,null,null,0,0,0,0]
[81,null,null,null,null,null,null,null,null,null,"",null,null,null,null,null,null,null,null,null,null,null,null,null,null,null,null,"","",null,null,null,null,"",null,null,null,0,0,0,0]
[82,null,null,null,null,null,null,null,null,null,"",null,null,null,null,null,null,null,null,null,null,null,null,null,null,null,null,"","",null,null,null,null,"",null,null,null,0,0,0,0]
[83,null,null,null,null,null,null,null,null,null,"",null,null,null,null,null,null,null,null,null,null,null,null,null,null,null,null,"","",null,null,null,null,"",null,null,null,0,0,0,0]
[84,null,null,null,null,null,null,null,null,null,"",null,null,null,null,null,null,null,null,null,null,null,null,null,null,null,null,"","",null,null,null,null,"",null,null,null,0,0,0,0]
[85,null,null,null,null,null,null,null,null,null,"",null,null,null,null,null,null,null,null,null,null,null,null,null,null,null,null,"","",null,null,null,null,"",null,null,null,0,0,0,0]
[86,null,null,null,null,null,null,null,null,null,"",null,null,null,null,null,null,null,null,null,null,null,null,null,null,null,null,"","",null,null,null,null,"",null,null,null,0,0,0,0]
[87,null,null,null,null,null,null,null,null,null,"",null,null,null,null,null,null,null,null,null,null,null,null,null,null,null,null,"","",null,null,null,null,"",null,null,null,0,0,0,0]
[88,null,null,null,null,null,null,null,null,null,"",null,null,null,null,null,null,null,null,null,null,null,null,null,null,null,null,"","",null,null,null,null,"",null,null,null,0,0,0,0]
[89,null,null,null,null,null,null,null,null,null,"",null,null,null,null,null,null,null,null,null,null,null,null,null,null,null,null,"","",null,null,null,null,"",null,null,null,0,0,0,0]
[90,null,null,null,null,null,null,null,null,null,"",null,null,null,null,null,null,null,null,null,null,null,null,null,null,null,null,"","",null,null,null,null,"",null,null,null,0,0,0,0]
[91,null,null,null,null,null,null,null,null,null,"",null,null,null,null,null,null,null,null,null,null,null,null,null,null,null,null,"","",null,null,null,null,"",null,null,null,0,0,0,0]
[92,null,null,null,null,null,null,null,null,null,"",null,null,null,null,null,null,null,null,null,null,null,null,null,null,null,null,"","",null,null,null,null,"",null,null,null,0,0,0,0]
[93,null,null,null,null,null,null,null,null,null,"",null,null,null,null,null,null,null,null,null,null,null,null,null,null,null,null,"","",null,null,null,null,"",null,null,null,0,0,0,0]
[94,null,null,null,null,null,null,null,null,null,"",null,null,null,null,null,null,null,null,null,null,null,null,null,null,null,null,"","",null,null,null,null,"",null,null,null,0,0,0,0]
[95,null,null,null,null,null,null,null,null,null,"",null,null,null,null,null,null,null,null,null,null,null,null,null,null,null,null,"","",null,null,null,null,"",null,null,null,0,0,0,0]
[96,null,null,null,null,null,null,null,null,null,"",null,null,null,null,null,null,null,null,null,null,null,null,null,null,null,null,"","",null,null,null,null,"",null,null,null,0,0,0,0]
[97,null,null,null,null,null,null,null,null,null,"",null,null,null,null,null,null,null,null,null,null,null,null,null,null,null,null,{"$f":"IF(M112&R112=\"\",\"\",COUNTA(M112,R112,W112)-AO112)","v":""},{"$f":"IF(M112&R112=\"\",\"\",AO112)","v":""},null,null,null,null,"",null,null,null,{"$f":"IF(OR(M112=\"十種競技\",M112=\"七種競技\"),1,0)","v":0},{"$f":"IF(OR(R112=\"十種競技\",R112=\"七種競技\"),1,0)","v":0},{"$f":"IF(OR(W112=\"十種競技\",W112=\"七種競技\"),1,0)","v":0},0]
[98,null,null,null,null,null,null,null,null,null,"",null,null,null,null,null,null,null,null,null,null,null,null,null,null,null,null,"","",null,null,null,null,"",null,null,null,0,0,0,0]
[99,null,null,null,null,null,null,null,null,null,"",null,null,null,null,null,null,null,null,null,null,null,null,null,null,null,null,"","",null,null,null,null,"",null,null,null,0,0,0,0]
[100,null,null,null,null,null,null,null,null,null,"",null,null,null,null,null,null,null,null,null,null,null,null,null,null,null,null,"","",null,null,null,null,"",null,null,null,0,0,0,0]
[101,null,null,null,null,null,null,null,null,null,"",null,null,null,null,null,null,null,null,null,null,null,null,null,null,null,null,"","",null,null,null,null,"",null,null,null,0,0,0,0]
[102,null,null,null,null,null,null,null,null,null,"",null,null,null,null,null,null,null,null,null,null,null,null,null,null,null,null,"","",null,null,null,null,"",null,null,null,0,0,0,0]
[103,null,null,null,null,null,null,null,null,null,"",null,null,null,null,null,null,null,null,null,null,null,null,null,null,null,null,"","",null,null,null,null,"",null,null,null,0,0,0,0]
[104,null,null,null,null,null,null,null,null,null,"",null,null,null,null,null,null,null,null,null,null,null,null,null,null,null,null,"","",null,null,null,null,"",null,null,null,0,0,0,0]
[105,null,null,null,null,null,null,null,null,null,"",null,null,null,null,null,null,null,null,null,null,null,null,null,null,null,null,"","",null,null,null,null,"",null,null,null,0,0,0,0]
[106,null,null,null,null,null,null,null,null,null,"",null,null,null,null,null,null,null,null,null,null,null,null,null,null,null,null,"","",null,null,null,null,"",null,null,null,0,0,0,0]
[107,null,null,null,null,null,null,null,null,null,"",null,null,null,null,null,null,null,null,null,null,null,null,null,null,null,null,"","",null,null,null,null,"",null,null,null,0,0,0,0]
[108,null,null,null,null,null,null,null,null,null,"",null,null,null,null,null,null,null,null,null,null,null,null,null,null,null,null,"","",null,null,null,null,"",null,null,null,0,0,0,0]
[109,null,null,null,null,null,null,null,null,null,"",null,null,null,null,null,null,null,null,null,null,null,null,null,null,null,null,"","",null,null,null,null,"",null,null,null,0,0,0,0]
[110,null,null,null,null,null,null,null,null,null,"",null,null,null,null,null,null,null,null,null,null,null,null,null,null,null,null,"","",null,null,null,null,"",null,null,null,0,0,0,0]
[111,null,null,null,null,null,null,null,null,null,"",null,null,null,null,null,null,null,null,null,null,null,null,null,null,null,null,"","",null,null,null,null,"",null,null,null,0,0,0,0]
[112,null,null,null,null,null,null,null,null,null,"",null,null,null,null,null,null,null,null,null,null,null,null,null,null,null,null,"","",null,null,null,null,"",null,null,null,0,0,0,0]
[113,null,null,null,null,null,null,null,null,null,"",null,null,null,null,null,null,null,null,null,null,null,null,null,null,null,null,"","",null,null,null,null,"",null,null,null,0,0,0,0]
[114,null,null,null,null,null,null,null,null,null,"",null,null,null,null,null,null,null,null,null,null,null,null,null,null,null,null,"","",null,null,null,null,"",null,null,null,0,0,0,0]
[115,null,null,null,null,null,null,null,null,null,"",null,null,null,null,null,null,null,null,null,null,null,null,null,null,null,null,"","",null,null,null,null,"",null,null,null,0,0,0,0]
[116,null,null,null,null,null,null,null,null,null,"",null,null,null,null,null,null,null,null,null,null,null,null,null,null,null,null,"","",null,null,null,null,"",null,null,null,0,0,0,0]
[117,null,null,null,null,null,null,null,null,null,"",null,null,null,null,null,null,null,null,null,null,null,null,null,null,null,null,"","",null,null,null,null,"",null,null,null,0,0,0,0]
[118,null,null,null,null,null,null,null,null,null,"",null,null,null,null,null,null,null,null,null,null,null,null,null,null,null,null,"","",null,null,null,null,"",null,null,null,0,0,0,0]
[119,null,null,null,null,null,null,null,null,null,"",null,null,null,null,null,null,null,null,null,null,null,null,null,null,null,null,"","",null,null,null,null,"",null,null,null,0,0,0,0]
[120,null,null,null,null,null,null,null,null,null,"",null,null,null,null,null,null,null,null,null,null,null,null,null,null,null,null,"","",null,null,null,null,"",null,null,null,0,0,0,0]
[]
[null,null,null,null,null,null,null,null,null,null,{"$f":"IF(Sheet2!F1=\"\",\"\",Sheet2!F1)","v":""}]
[null,{"$f":"IF(Sheet2!A2=\"\",\"\",Sheet2!A2)","v":"100ｍ"},1,"男","手","●","▲","★",null,0,{"$f":"IF(Sheet2!F2=\"\",\"\",Sheet2!F2)","v":"兵庫"},1,{"$f":"IF(Sheet2!I3=\"\",\"\",Sheet2!I3)","v":"09"},null,null,null,null,{"$f":"IF(Sheet2!M1=\"\",\"\",Sheet2!M1)","v":"選択して下さい"}]
[null,{"$f":"IF(Sheet2!A3=\"\",\"\",Sheet2!A3)","v":"200ｍ"},2,"女",null,null,null,null,null,1,{"$f":"IF(Sheet2!F3=\"\",\"\",Sheet2!F3)","v":""},2,{"$f":"IF(Sheet2!I4=\"\",\"\",Sheet2!I4)","v":"08"},null,null,null,null,{"$f":"IF(Sheet2!M2=\"\",\"\",Sheet2!M2)","v":"〔兵庫〕　"}]
[null,{"$f":"IF(Sheet2!A4=\"\",\"\",Sheet2!A4)","v":"400ｍ"},3,null,null,null,null,"▼",null,2,{"$f":"IF(Sheet2!F4=\"\",\"\",Sheet2!F4)","v":"滋賀"},3,{"$f":"IF(Sheet2!I5=\"\",\"\",Sheet2!I5)","v":"07"},null,null,null,null,{"$f":"IF(Sheet2!M3=\"\",\"\",Sheet2!M3)","v":"490054　神戸大学"}]
[null,{"$f":"IF(Sheet2!A5=\"\",\"\",Sheet2!A5)","v":"800ｍ"},4,null,null,null,null,null,null,3,{"$f":"IF(Sheet2!F5=\"\",\"\",Sheet2!F5)","v":"京都"},4,{"$f":"IF(Sheet2!I6=\"\",\"\",Sheet2!I6)","v":"06"},null,null,null,null,{"$f":"IF(Sheet2!M4=\"\",\"\",Sheet2!M4)","v":"490092　兵庫教育大学"}]
[null,{"$f":"IF(Sheet2!A6=\"\",\"\",Sheet2!A6)","v":"1500ｍ"},5,null,null,null,null,null,null,4,{"$f":"IF(Sheet2!F6=\"\",\"\",Sheet2!F6)","v":"大阪"},5,{"$f":"IF(Sheet2!I7=\"\",\"\",Sheet2!I7)","v":"05"},null,null,null,null,{"$f":"IF(Sheet2!M5=\"\",\"\",Sheet2!M5)","v":"490094　近畿福祉大学"}]
[null,{"$f":"IF(Sheet2!A7=\"\",\"\",Sheet2!A7)","v":"5000ｍ"},6,null,null,null,null,null,null,5,{"$f":"IF(Sheet2!F7=\"\",\"\",Sheet2!F7)","v":"奈良"},6,{"$f":"IF(Sheet2!I8=\"\",\"\",Sheet2!I8)","v":"04"},null,null,null,null,{"$f":"IF(Sheet2!M6=\"\",\"\",Sheet2!M6)","v":"490111　夙川学院短大"}]
[null,{"$f":"IF(Sheet2!A8=\"\",\"\",Sheet2!A8)","v":"10000ｍ"},"M1",null,null,null,null,null,null,6,{"$f":"IF(Sheet2!F8=\"\",\"\",Sheet2!F8)","v":"和歌山"},"M1",{"$f":"IF(Sheet2!I9=\"\",\"\",Sheet2!I9)","v":"03"},null,null,null,null,{"$f":"IF(Sheet2!M7=\"\",\"\",Sheet2!M7)","v":"491021　兵庫県立大学"}]
[null,{"$f":"IF(Sheet2!A9=\"\",\"\",Sheet2!A9)","v":"110Ｈ男"},"M2",null,null,null,null,null,null,null,{"$f":"IF(Sheet2!F9=\"\",\"\",Sheet2!F9)","v":""},"M2",{"$f":"IF(Sheet2!I10=\"\",\"\",Sheet2!I10)","v":"02"},null,null,null,null,{"$f":"IF(Sheet2!M8=\"\",\"\",Sheet2!M8)","v":"492232　関西学院大学"}]
[null,{"$f":"IF(Sheet2!A10=\"\",\"\",Sheet2!A10)","v":"100H女"},"D1",null,null,null,null,null,null,null,{"$f":"IF(Sheet2!F10=\"\",\"\",Sheet2!F10)","v":"北海道"},"D1",{"$f":"IF(Sheet2!I11=\"\",\"\",Sheet2!I11)","v":"01"},null,null,null,null,{"$f":"IF(Sheet2!M9=\"\",\"\",Sheet2!M9)","v":"492233　甲子園大学"}]
[null,{"$f":"IF(Sheet2!A11=\"\",\"\",Sheet2!A11)","v":"400Ｈ男"},"D2",null,null,null,null,null,null,null,{"$f":"IF(Sheet2!F11=\"\",\"\",Sheet2!F11)","v":"青森"},"D2",{"$f":"IF(Sheet2!I12=\"\",\"\",Sheet2!I12)","v":"00"},null,null,null,null,{"$f":"IF(Sheet2!M10=\"\",\"\",Sheet2!M10)","v":"492234　甲南大学"}]
[null,{"$f":"IF(Sheet2!A12=\"\",\"\",Sheet2!A12)","v":"400Ｈ女"},"D3",null,null,null,null,null,null,null,{"$f":"IF(Sheet2!F12=\"\",\"\",Sheet2!F12)","v":"岩手"},"D3",{"$f":"IF(Sheet2!I13=\"\",\"\",Sheet2!I13)","v":99},null,null,null,null,{"$f":"IF(Sheet2!M11=\"\",\"\",Sheet2!M11)","v":"492235　甲南女子大学"}]
[null,{"$f":"IF(Sheet2!A13=\"\",\"\",Sheet2!A13)","v":"3000SC男"},null,null,null,null,null,null,null,null,{"$f":"IF(Sheet2!F13=\"\",\"\",Sheet2!F13)","v":"宮城"},null,{"$f":"IF(Sheet2!I14=\"\",\"\",Sheet2!I14)","v":98},null,null,null,null,{"$f":"IF(Sheet2!M12=\"\",\"\",Sheet2!M12)","v":"492237　神戸学院大学"}]
[null,{"$f":"IF(Sheet2!A14=\"\",\"\",Sheet2!A14)","v":"3000SC女"},null,null,null,null,null,null,null,null,{"$f":"IF(Sheet2!F14=\"\",\"\",Sheet2!F14)","v":"秋田"},null,{"$f":"IF(Sheet2!I15=\"\",\"\",Sheet2!I15)","v":97},null,null,null,null,{"$f":"IF(Sheet2!M13=\"\",\"\",Sheet2!M13)","v":"492239　神戸女子大学"}]
[null,{"$f":"IF(Sheet2!A15=\"\",\"\",Sheet2!A15)","v":"5000Ｗ"},null,null,null,null,null,null,null,null,{"$f":"IF(Sheet2!F15=\"\",\"\",Sheet2!F15)","v":"山形"},null,{"$f":"IF(Sheet2!I16=\"\",\"\",Sheet2!I16)","v":96},null,null,null,null,{"$f":"IF(Sheet2!M14=\"\",\"\",Sheet2!M14)","v":"492245　兵庫医科大学"}]
[null,{"$f":"IF(Sheet2!A16=\"\",\"\",Sheet2!A16)","v":"走高跳"},null,null,null,null,null,null,null,null,{"$f":"IF(Sheet2!F16=\"\",\"\",Sheet2!F16)","v":"福島"},null,{"$f":"IF(Sheet2!I17=\"\",\"\",Sheet2!I17)","v":95},null,null,null,null,{"$f":"IF(Sheet2!M15=\"\",\"\",Sheet2!M15)","v":"492246　武庫川女子大学"}]
[null,{"$f":"IF(Sheet2!A17=\"\",\"\",Sheet2!A17)","v":"棒高跳"},null,null,null,null,null,null,null,null,{"$f":"IF(Sheet2!F17=\"\",\"\",Sheet2!F17)","v":"茨城"},null,{"$f":"IF(Sheet2!I18=\"\",\"\",Sheet2!I18)","v":94},null,null,null,null,{"$f":"IF(Sheet2!M16=\"\",\"\",Sheet2!M16)","v":"492247　神戸国際大学"}]
[null,{"$f":"IF(Sheet2!A18=\"\",\"\",Sheet2!A18)","v":"走幅跳"},null,null,null,null,null,null,null,null,{"$f":"IF(Sheet2!F18=\"\",\"\",Sheet2!F18)","v":"栃木"},null,{"$f":"IF(Sheet2!I19=\"\",\"\",Sheet2!I19)","v":93},null,null,null,null,{"$f":"IF(Sheet2!M17=\"\",\"\",Sheet2!M17)","v":"492342　姫路獨協大学"}]
[null,{"$f":"IF(Sheet2!A19=\"\",\"\",Sheet2!A19)","v":"三段跳"},null,null,null,null,null,null,null,null,{"$f":"IF(Sheet2!F19=\"\",\"\",Sheet2!F19)","v":"群馬"},null,{"$f":"IF(Sheet2!I20=\"\",\"\",Sheet2!I20)","v":92},null,null,null,null,{"$f":"IF(Sheet2!M18=\"\",\"\",Sheet2!M18)","v":"492356　流通科学大学"}]
[null,{"$f":"IF(Sheet2!A20=\"\",\"\",Sheet2!A20)","v":"砲丸(男)"},null,null,null,null,null,null,null,null,{"$f":"IF(Sheet2!F20=\"\",\"\",Sheet2!F20)","v":"埼玉"},null,{"$f":"IF(Sheet2!I21=\"\",\"\",Sheet2!I21)","v":91},null,null,null,null,{"$f":"IF(Sheet2!M19=\"\",\"\",Sheet2!M19)","v":"496060　大手前大学"}]
[null,{"$f":"IF(Sheet2!A21=\"\",\"\",Sheet2!A21)","v":"砲丸(女)"},null,null,null,null,null,null,null,null,{"$f":"IF(Sheet2!F21=\"\",\"\",Sheet2!F21)","v":"千葉"},null,{"$f":"IF(Sheet2!I22=\"\",\"\",Sheet2!I22)","v":90},null,null,null,null,{"$f":"IF(Sheet2!M20=\"\",\"\",Sheet2!M20)","v":"499084　神戸親和女子大学"}]
[null,{"$f":"IF(Sheet2!A22=\"\",\"\",Sheet2!A22)","v":"円盤(男)"},null,null,null,null,null,null,null,null,{"$f":"IF(Sheet2!F22=\"\",\"\",Sheet2!F22)","v":"東京"},null,{"$f":"IF(Sheet2!I23=\"\",\"\",Sheet2!I23)","v":89},null,null,null,null,{"$f":"IF(Sheet2!M21=\"\",\"\",Sheet2!M21)","v":"499089　兵庫大学"}]
[null,{"$f":"IF(Sheet2!A23=\"\",\"\",Sheet2!A23)","v":"円盤(女)"},null,null,null,null,null,null,null,null,{"$f":"IF(Sheet2!F23=\"\",\"\",Sheet2!F23)","v":"神奈川"},null,{"$f":"IF(Sheet2!I24=\"\",\"\",Sheet2!I24)","v":88},null,null,null,null,{"$f":"IF(Sheet2!M22=\"\",\"\",Sheet2!M22)","v":"499100　関西福祉大学"}]
[null,{"$f":"IF(Sheet2!A24=\"\",\"\",Sheet2!A24)","v":"ﾊﾝﾏｰ(男)"},null,null,null,null,null,null,null,null,{"$f":"IF(Sheet2!F24=\"\",\"\",Sheet2!F24)","v":"山梨"},null,{"$f":"IF(Sheet2!I25=\"\",\"\",Sheet2!I25)","v":87},null,null,null,null,{"$f":"IF(Sheet2!M23=\"\",\"\",Sheet2!M23)","v":"499128　園田学園女子大学"}]
[null,{"$f":"IF(Sheet2!A25=\"\",\"\",Sheet2!A25)","v":"ﾊﾝﾏｰ(女)"},null,null,null,null,null,null,null,null,{"$f":"IF(Sheet2!F25=\"\",\"\",Sheet2!F25)","v":"新潟"},null,{"$f":"IF(Sheet2!I26=\"\",\"\",Sheet2!I26)","v":86},null,null,null,null,{"$f":"IF(Sheet2!M24=\"\",\"\",Sheet2!M24)","v":""}]
[null,{"$f":"IF(Sheet2!A26=\"\",\"\",Sheet2!A26)","v":"やり(男)"},null,null,null,null,null,null,null,null,{"$f":"IF(Sheet2!F26=\"\",\"\",Sheet2!F26)","v":"長野"},null,{"$f":"IF(Sheet2!I27=\"\",\"\",Sheet2!I27)","v":85},null,null,null,null,{"$f":"IF(Sheet2!M25=\"\",\"\",Sheet2!M25)","v":"〔滋賀〕　"}]
[null,{"$f":"IF(Sheet2!A27=\"\",\"\",Sheet2!A27)","v":"やり(女)"},null,null,null,null,null,null,null,null,{"$f":"IF(Sheet2!F27=\"\",\"\",Sheet2!F27)","v":"富山"},null,{"$f":"IF(Sheet2!I28=\"\",\"\",Sheet2!I28)","v":84},null,null,null,null,{"$f":"IF(Sheet2!M26=\"\",\"\",Sheet2!M26)","v":"490047　滋賀大学"}]
[null,{"$f":"IF(Sheet2!A28=\"\",\"\",Sheet2!A28)","v":"十種競技"},null,null,null,null,null,null,null,null,{"$f":"IF(Sheet2!F28=\"\",\"\",Sheet2!F28)","v":"石川"},null,{"$f":"IF(Sheet2!I29=\"\",\"\",Sheet2!I29)","v":83},null,null,null,null,{"$f":"IF(Sheet2!M27=\"\",\"\",Sheet2!M27)","v":"490080　滋賀医科大学"}]
[null,{"$f":"IF(Sheet2!A29=\"\",\"\",Sheet2!A29)","v":"七種競技"},null,null,null,null,null,null,null,null,{"$f":"IF(Sheet2!F29=\"\",\"\",Sheet2!F29)","v":"福井"},null,{"$f":"IF(Sheet2!I30=\"\",\"\",Sheet2!I30)","v":82},null,null,null,null,{"$f":"IF(Sheet2!M28=\"\",\"\",Sheet2!M28)","v":"490108　びわこ成蹊スポーツ大学"}]
[null,{"$f":"IF(Sheet2!A30=\"\",\"\",Sheet2!A30)","v":"少A300m"},null,null,null,null,null,null,null,null,{"$f":"IF(Sheet2!F30=\"\",\"\",Sheet2!F30)","v":"静岡"},null,{"$f":"IF(Sheet2!I31=\"\",\"\",Sheet2!I31)","v":81},null,null,null,null,{"$f":"IF(Sheet2!M29=\"\",\"\",Sheet2!M29)","v":"490108　びわこ成蹊大"}]
[null,{"$f":"IF(Sheet2!A31=\"\",\"\",Sheet2!A31)","v":"少A300H男"},null,null,null,null,null,null,null,null,{"$f":"IF(Sheet2!F31=\"\",\"\",Sheet2!F31)","v":"愛知"},null,{"$f":"IF(Sheet2!I32=\"\",\"\",Sheet2!I32)","v":80},null,null,null,null,{"$f":"IF(Sheet2!M30=\"\",\"\",Sheet2!M30)","v":"499063　滋賀県立大学"}]
[null,{"$f":"IF(Sheet2!A32=\"\",\"\",Sheet2!A32)","v":"少A300H女"},null,null,null,null,null,null,null,null,{"$f":"IF(Sheet2!F32=\"\",\"\",Sheet2!F32)","v":"三重"},null,{"$f":"IF(Sheet2!I33=\"\",\"\",Sheet2!I33)","v":79},null,null,null,null,{"$f":"IF(Sheet2!M31=\"\",\"\",Sheet2!M31)","v":""}]
[null,{"$f":"IF(Sheet2!A33=\"\",\"\",Sheet2!A33)","v":"少Aﾊﾝﾏｰ男"},null,null,null,null,null,null,null,null,{"$f":"IF(Sheet2!F33=\"\",\"\",Sheet2!F33)","v":"岐阜"},null,{"$f":"IF(Sheet2!I34=\"\",\"\",Sheet2!I34)","v":78},null,null,null,null,{"$f":"IF(Sheet2!M32=\"\",\"\",Sheet2!M32)","v":"〔京都〕　"}]
[null,{"$f":"IF(Sheet2!A34=\"\",\"\",Sheet2!A34)","v":"少B3000男"},null,null,null,null,null,null,null,null,{"$f":"IF(Sheet2!F34=\"\",\"\",Sheet2!F34)","v":"鳥取"},null,{"$f":"IF(Sheet2!I35=\"\",\"\",Sheet2!I35)","v":77},null,null,null,null,{"$f":"IF(Sheet2!M33=\"\",\"\",Sheet2!M33)","v":"490048　京都大学"}]
[null,{"$f":"IF(Sheet2!A35=\"\",\"\",Sheet2!A35)","v":"少B110Ｈ男"},null,null,null,null,null,null,null,null,{"$f":"IF(Sheet2!F35=\"\",\"\",Sheet2!F35)","v":"島根"},null,{"$f":"IF(Sheet2!I36=\"\",\"\",Sheet2!I36)","v":76},null,null,null,null,{"$f":"IF(Sheet2!M34=\"\",\"\",Sheet2!M34)","v":"490049　京都教育大学"}]
[null,{"$f":"IF(Sheet2!A36=\"\",\"\",Sheet2!A36)","v":"少B100H女"},null,null,null,null,null,null,null,null,{"$f":"IF(Sheet2!F36=\"\",\"\",Sheet2!F36)","v":"岡山"},null,{"$f":"IF(Sheet2!I37=\"\",\"\",Sheet2!I37)","v":75},null,null,null,null,{"$f":"IF(Sheet2!M35=\"\",\"\",Sheet2!M35)","v":"490050　京都工芸繊維大学"}]
[null,{"$f":"IF(Sheet2!A37=\"\",\"\",Sheet2!A37)","v":"少B円盤(男)"},null,null,null,null,null,null,null,null,{"$f":"IF(Sheet2!F37=\"\",\"\",Sheet2!F37)","v":"広島"},null,{"$f":"IF(Sheet2!I38=\"\",\"\",Sheet2!I38)","v":74},null,null,null,null,{"$f":"IF(Sheet2!M36=\"\",\"\",Sheet2!M36)","v":"490098　京都創成大学"}]
[null,{"$f":"IF(Sheet2!A38=\"\",\"\",Sheet2!A38)","v":""},null,null,null,null,null,null,null,null,{"$f":"IF(Sheet2!F38=\"\",\"\",Sheet2!F38)","v":"山口"},null,{"$f":"IF(Sheet2!I39=\"\",\"\",Sheet2!I39)","v":73},null,null,null,null,{"$f":"IF(Sheet2!M37=\"\",\"\",Sheet2!M37)","v":"490124　同志社女子大学"}]
[null,{"$f":"IF(Sheet2!A40=\"\",\"\",Sheet2!A40)","v":""},null,null,null,null,null,null,null,null,{"$f":"IF(Sheet2!F39=\"\",\"\",Sheet2!F39)","v":"徳島"},null,{"$f":"IF(Sheet2!I40=\"\",\"\",Sheet2!I40)","v":72},null,null,null,null,{"$f":"IF(Sheet2!M38=\"\",\"\",Sheet2!M38)","v":"491015　京都府立大学"}]
[null,null,null,null,null,null,null,null,null,null,{"$f":"IF(Sheet2!F40=\"\",\"\",Sheet2!F40)","v":"香川"},null,{"$f":"IF(Sheet2!I41=\"\",\"\",Sheet2!I41)","v":71},null,null,null,null,{"$f":"IF(Sheet2!M39=\"\",\"\",Sheet2!M39)","v":"491016　京都府立医科大学"}]
[null,null,null,null,null,null,null,null,null,null,{"$f":"IF(Sheet2!F41=\"\",\"\",Sheet2!F41)","v":"愛媛"},null,{"$f":"IF(Sheet2!I42=\"\",\"\",Sheet2!I42)","v":70},null,null,null,null,{"$f":"IF(Sheet2!M40=\"\",\"\",Sheet2!M40)","v":"492186　大谷大学"}]
[null,null,null,null,null,null,null,null,null,null,{"$f":"IF(Sheet2!F42=\"\",\"\",Sheet2!F42)","v":"高知"},null,{"$f":"IF(Sheet2!I43=\"\",\"\",Sheet2!I43)","v":69},null,null,null,null,{"$f":"IF(Sheet2!M41=\"\",\"\",Sheet2!M41)","v":"492187　京都外国語大学"}]
[null,null,null,null,null,null,null,null,null,null,{"$f":"IF(Sheet2!F43=\"\",\"\",Sheet2!F43)","v":"福岡"},null,{"$f":"IF(Sheet2!I44=\"\",\"\",Sheet2!I44)","v":68},null,null,null,null,{"$f":"IF(Sheet2!M42=\"\",\"\",Sheet2!M42)","v":"492188　京都学園大学"}]
[null,null,null,null,null,null,null,null,null,null,{"$f":"IF(Sheet2!F44=\"\",\"\",Sheet2!F44)","v":"佐賀"},null,{"$f":"IF(Sheet2!I45=\"\",\"\",Sheet2!I45)","v":67},null,null,null,null,{"$f":"IF(Sheet2!M43=\"\",\"\",Sheet2!M43)","v":"492189　京都産業大学"}]
[null,null,null,null,null,null,null,null,null,null,{"$f":"IF(Sheet2!F45=\"\",\"\",Sheet2!F45)","v":"長崎"},null,{"$f":"IF(Sheet2!I46=\"\",\"\",Sheet2!I46)","v":66},null,null,null,null,{"$f":"IF(Sheet2!M44=\"\",\"\",Sheet2!M44)","v":"492190　京都女子大学"}]
[null,null,null,null,null,null,null,null,null,null,{"$f":"IF(Sheet2!F46=\"\",\"\",Sheet2!F46)","v":"熊本"},null,{"$f":"IF(Sheet2!I47=\"\",\"\",Sheet2!I47)","v":65},null,null,null,null,{"$f":"IF(Sheet2!M45=\"\",\"\",Sheet2!M45)","v":"492191　京都薬科大学"}]
[null,null,null,null,null,null,null,null,null,null,{"$f":"IF(Sheet2!F47=\"\",\"\",Sheet2!F47)","v":"大分"},null,{"$f":"IF(Sheet2!I48=\"\",\"\",Sheet2!I48)","v":64},null,null,null,null,{"$f":"IF(Sheet2!M46=\"\",\"\",Sheet2!M46)","v":"492194　京都橘女子大学"}]
[null,null,null,null,null,null,null,null,null,null,{"$f":"IF(Sheet2!F48=\"\",\"\",Sheet2!F48)","v":"宮崎"},null,{"$f":"IF(Sheet2!I49=\"\",\"\",Sheet2!I49)","v":63},null,null,null,null,{"$f":"IF(Sheet2!M47=\"\",\"\",Sheet2!M47)","v":"492195　同志社大学"}]
[null,null,null,null,null,null,null,null,null,null,{"$f":"IF(Sheet2!F49=\"\",\"\",Sheet2!F49)","v":"鹿児島"},null,{"$f":"IF(Sheet2!I50=\"\",\"\",Sheet2!I50)","v":62},null,null,null,null,{"$f":"IF(Sheet2!M48=\"\",\"\",Sheet2!M48)","v":"492199　佛教大学"}]
[null,null,null,null,null,null,null,null,null,null,{"$f":"IF(Sheet2!F50=\"\",\"\",Sheet2!F50)","v":"沖縄"},null,{"$f":"IF(Sheet2!I51=\"\",\"\",Sheet2!I51)","v":61},null,null,null,null,{"$f":"IF(Sheet2!M49=\"\",\"\",Sheet2!M49)","v":"492200　立命館大学"}]
[null,null,null,null,null,null,null,null,null,null,null,null,{"$f":"IF(Sheet2!I52=\"\",\"\",Sheet2!I52)","v":60},null,null,null,null,{"$f":"IF(Sheet2!M50=\"\",\"\",Sheet2!M50)","v":"492201　龍谷大学"}]
[null,null,null,null,null,null,null,null,null,null,null,null,{"$f":"IF(Sheet2!I53=\"\",\"\",Sheet2!I53)","v":59},null,null,null,null,{"$f":"IF(Sheet2!M51=\"\",\"\",Sheet2!M51)","v":"492216　大谷女子大学"}]
[null,null,null,null,null,null,null,null,null,null,null,null,{"$f":"IF(Sheet2!I54=\"\",\"\",Sheet2!I54)","v":58},null,null,null,null,{"$f":"IF(Sheet2!M52=\"\",\"\",Sheet2!M52)","v":"492317　京都精華大学"}]
[null,null,null,null,null,null,null,null,null,null,null,null,{"$f":"IF(Sheet2!I55=\"\",\"\",Sheet2!I55)","v":57},null,null,null,null,{"$f":"IF(Sheet2!M53=\"\",\"\",Sheet2!M53)","v":"492329　明治国際医療大学"}]
[null,null,null,null,null,null,null,null,null,null,null,null,{"$f":"IF(Sheet2!I56=\"\",\"\",Sheet2!I56)","v":56},null,null,null,null,{"$f":"IF(Sheet2!M54=\"\",\"\",Sheet2!M54)","v":"495253　華頂短期大学"}]
[null,null,null,null,null,null,null,null,null,null,null,null,{"$f":"IF(Sheet2!I57=\"\",\"\",Sheet2!I57)","v":55},null,null,null,null,{"$f":"IF(Sheet2!M55=\"\",\"\",Sheet2!M55)","v":"499111　京都文教大"}]
[null,null,null,null,null,null,null,null,null,null,null,null,{"$f":"IF(Sheet2!I58=\"\",\"\",Sheet2!I58)","v":54},null,null,null,null,{"$f":"IF(Sheet2!M56=\"\",\"\",Sheet2!M56)","v":"499138　京都光華女大"}]
[null,null,null,null,null,null,null,null,null,null,null,null,{"$f":"IF(Sheet2!I59=\"\",\"\",Sheet2!I59)","v":53},null,null,null,null,{"$f":"IF(Sheet2!M57=\"\",\"\",Sheet2!M57)","v":""}]
[null,null,null,null,null,null,null,null,null,null,null,null,{"$f":"IF(Sheet2!I60=\"\",\"\",Sheet2!I60)","v":52},null,null,null,null,{"$f":"IF(Sheet2!M58=\"\",\"\",Sheet2!M58)","v":"〔大阪〕　"}]
[null,null,null,null,null,null,null,null,null,null,null,null,{"$f":"IF(Sheet2!I61=\"\",\"\",Sheet2!I61)","v":51},null,null,null,null,{"$f":"IF(Sheet2!M59=\"\",\"\",Sheet2!M59)","v":"490051　大阪大学"}]
[null,null,null,null,null,null,null,null,null,null,null,null,{"$f":"IF(Sheet2!I62=\"\",\"\",Sheet2!I62)","v":50},null,null,null,null,{"$f":"IF(Sheet2!M60=\"\",\"\",Sheet2!M60)","v":"490052　大阪外国語大学"}]
[null,null,null,null,null,null,null,null,null,null,null,null,{"$f":"IF(Sheet2!I63=\"\",\"\",Sheet2!I63)","v":49},null,null,null,null,{"$f":"IF(Sheet2!M61=\"\",\"\",Sheet2!M61)","v":"490053　大阪教育大学"}]
[null,null,null,null,null,null,null,null,null,null,null,null,{"$f":"IF(Sheet2!I64=\"\",\"\",Sheet2!I64)","v":48},null,null,null,null,{"$f":"IF(Sheet2!M62=\"\",\"\",Sheet2!M62)","v":"490112　太成学院大学"}]
[null,null,null,null,null,null,null,null,null,null,null,null,{"$f":"IF(Sheet2!I65=\"\",\"\",Sheet2!I65)","v":47},null,null,null,null,{"$f":"IF(Sheet2!M63=\"\",\"\",Sheet2!M63)","v":"490120　大阪女子大学"}]
[null,null,null,null,null,null,null,null,null,null,null,null,{"$f":"IF(Sheet2!I66=\"\",\"\",Sheet2!I66)","v":46},null,null,null,null,{"$f":"IF(Sheet2!M64=\"\",\"\",Sheet2!M64)","v":"491018　大阪市立大学"}]
[null,null,null,null,null,null,null,null,null,null,null,null,{"$f":"IF(Sheet2!I67=\"\",\"\",Sheet2!I67)","v":45},null,null,null,null,{"$f":"IF(Sheet2!M65=\"\",\"\",Sheet2!M65)","v":"491019　大阪府立大学"}]
[null,null,null,null,null,null,null,null,null,null,null,null,{"$f":"IF(Sheet2!I68=\"\",\"\",Sheet2!I68)","v":44},null,null,null,null,{"$f":"IF(Sheet2!M66=\"\",\"\",Sheet2!M66)","v":"492202　大阪医科大学"}]
[null,null,null,null,null,null,null,null,null,null,null,null,{"$f":"IF(Sheet2!I69=\"\",\"\",Sheet2!I69)","v":43},null,null,null,null,{"$f":"IF(Sheet2!M67=\"\",\"\",Sheet2!M67)","v":"492204　大阪学院大学"}]
[null,null,null,null,null,null,null,null,null,null,null,null,{"$f":"IF(Sheet2!I70=\"\",\"\",Sheet2!I70)","v":42},null,null,null,null,{"$f":"IF(Sheet2!M68=\"\",\"\",Sheet2!M68)","v":"492205　大阪経済大学"}]
[null,null,null,null,null,null,null,null,null,null,null,null,{"$f":"IF(Sheet2!I71=\"\",\"\",Sheet2!I71)","v":41},null,null,null,null,{"$f":"IF(Sheet2!M69=\"\",\"\",Sheet2!M69)","v":"492206　大阪経済法科大学"}]
[null,null,null,null,null,null,null,null,null,null,null,null,{"$f":"IF(Sheet2!I72=\"\",\"\",Sheet2!I72)","v":40},null,null,null,null,{"$f":"IF(Sheet2!M70=\"\",\"\",Sheet2!M70)","v":"492208　大阪工業大学"}]
[null,null,null,null,null,null,null,null,null,null,null,null,{"$f":"IF(Sheet2!I73=\"\",\"\",Sheet2!I73)","v":39},null,null,null,null,{"$f":"IF(Sheet2!M71=\"\",\"\",Sheet2!M71)","v":"492209　大阪産業大学"}]
[null,null,null,null,null,null,null,null,null,null,null,null,{"$f":"IF(Sheet2!I74=\"\",\"\",Sheet2!I74)","v":38},null,null,null,null,{"$f":"IF(Sheet2!M72=\"\",\"\",Sheet2!M72)","v":"492210　大阪歯科大学"}]
[null,null,null,null,null,null,null,null,null,null,null,null,{"$f":"IF(Sheet2!I75=\"\",\"\",Sheet2!I75)","v":37},null,null,null,null,{"$f":"IF(Sheet2!M73=\"\",\"\",Sheet2!M73)","v":"492212　大阪商業大学"}]
[null,null,null,null,null,null,null,null,null,null,null,null,{"$f":"IF(Sheet2!I76=\"\",\"\",Sheet2!I76)","v":36},null,null,null,null,{"$f":"IF(Sheet2!M74=\"\",\"\",Sheet2!M74)","v":"492213　大阪体育大学"}]
[null,null,null,null,null,null,null,null,null,null,null,null,{"$f":"IF(Sheet2!I77=\"\",\"\",Sheet2!I77)","v":35},null,null,null,null,{"$f":"IF(Sheet2!M75=\"\",\"\",Sheet2!M75)","v":"492214　大阪電気通信大学"}]
[null,null,null,null,null,null,null,null,null,null,null,null,{"$f":"IF(Sheet2!I78=\"\",\"\",Sheet2!I78)","v":34},null,null,null,null,{"$f":"IF(Sheet2!M76=\"\",\"\",Sheet2!M76)","v":"492217　追手門学院大学"}]
[null,null,null,null,null,null,null,null,null,null,null,null,{"$f":"IF(Sheet2!I79=\"\",\"\",Sheet2!I79)","v":33},null,null,null,null,{"$f":"IF(Sheet2!M77=\"\",\"\",Sheet2!M77)","v":"492218　関西大学"}]
[null,null,null,null,null,null,null,null,null,null,null,null,{"$f":"IF(Sheet2!I80=\"\",\"\",Sheet2!I80)","v":32},null,null,null,null,{"$f":"IF(Sheet2!M78=\"\",\"\",Sheet2!M78)","v":"492219　関西医科大学"}]
[null,null,null,null,null,null,null,null,null,null,null,null,{"$f":"IF(Sheet2!I81=\"\",\"\",Sheet2!I81)","v":31},null,null,null,null,{"$f":"IF(Sheet2!M79=\"\",\"\",Sheet2!M79)","v":"492220　関西外国語大学"}]
[null,null,null,null,null,null,null,null,null,null,null,null,{"$f":"IF(Sheet2!I82=\"\",\"\",Sheet2!I82)","v":30},null,null,null,null,{"$f":"IF(Sheet2!M80=\"\",\"\",Sheet2!M80)","v":"492221　近畿大学"}]
[null,null,null,null,null,null,null,null,null,null,null,null,{"$f":"IF(Sheet2!I83=\"\",\"\",Sheet2!I83)","v":29},null,null,null,null,{"$f":"IF(Sheet2!M81=\"\",\"\",Sheet2!M81)","v":"492222　四天王寺国際仏教大学"}]
[null,null,null,null,null,null,null,null,null,null,null,null,{"$f":"IF(Sheet2!I84=\"\",\"\",Sheet2!I84)","v":28},null,null,null,null,{"$f":"IF(Sheet2!M82=\"\",\"\",Sheet2!M82)","v":"492224　大阪国際大学"}]
[null,null,null,null,null,null,null,null,null,null,null,null,{"$f":"IF(Sheet2!I85=\"\",\"\",Sheet2!I85)","v":27},null,null,null,null,{"$f":"IF(Sheet2!M83=\"\",\"\",Sheet2!M83)","v":"492226　梅花女子大学"}]
[null,null,null,null,null,null,null,null,null,null,null,null,{"$f":"IF(Sheet2!I86=\"\",\"\",Sheet2!I86)","v":26},null,null,null,null,{"$f":"IF(Sheet2!M84=\"\",\"\",Sheet2!M84)","v":"492227　阪南大学"}]
[null,null,null,null,null,null,null,null,null,null,null,null,{"$f":"IF(Sheet2!I87=\"\",\"\",Sheet2!I87)","v":25},null,null,null,null,{"$f":"IF(Sheet2!M85=\"\",\"\",Sheet2!M85)","v":"492228　桃山学院大学"}]
[null,null,null,null,null,null,null,null,null,null,null,null,{"$f":"IF(Sheet2!I88=\"\",\"\",Sheet2!I88)","v":24},null,null,null,null,{"$f":"IF(Sheet2!M86=\"\",\"\",Sheet2!M86)","v":"492248　帝塚山大学"}]
[null,null,null,null,null,null,null,null,null,null,null,null,{"$f":"IF(Sheet2!I89=\"\",\"\",Sheet2!I89)","v":23},null,null,null,null,{"$f":"IF(Sheet2!M87=\"\",\"\",Sheet2!M87)","v":"492302　摂南大学"}]
[null,null,null,null,null,null,null,null,null,null,null,null,{"$f":"IF(Sheet2!I90=\"\",\"\",Sheet2!I90)","v":22},null,null,null,null,{"$f":"IF(Sheet2!M88=\"\",\"\",Sheet2!M88)","v":"492553　大阪成蹊大学"}]
[null,null,null,null,null,null,null,null,null,null,null,null,null,null,null,null,null,{"$f":"IF(Sheet2!M89=\"\",\"\",Sheet2!M89)","v":"492578　森ノ宮医療大学"}]
[null,null,null,null,null,null,null,null,null,null,null,null,null,null,null,null,null,{"$f":"IF(Sheet2!M90=\"\",\"\",Sheet2!M90)","v":"495270　大阪人間科学大学"}]
[null,null,null,null,null,null,null,null,null,null,null,null,null,null,null,null,null,{"$f":"IF(Sheet2!M91=\"\",\"\",Sheet2!M91)","v":"495278　大阪成蹊短期大学"}]
[null,null,null,null,null,null,null,null,null,null,null,null,null,null,null,null,null,{"$f":"IF(Sheet2!M92=\"\",\"\",Sheet2!M92)","v":"499090　南大阪大学"}]
[null,null,null,null,null,null,null,null,null,null,null,null,null,null,null,null,null,{"$f":"IF(Sheet2!M93=\"\",\"\",Sheet2!M93)","v":"499919　東大阪大学"}]
[null,null,null,null,null,null,null,null,null,null,null,null,null,null,null,null,null,{"$f":"IF(Sheet2!M94=\"\",\"\",Sheet2!M94)","v":"〔奈良〕　"}]
[null,null,null,null,null,null,null,null,null,null,null,null,null,null,null,null,null,{"$f":"IF(Sheet2!M95=\"\",\"\",Sheet2!M95)","v":"490056　奈良教育大学"}]
[null,null,null,null,null,null,null,null,null,null,null,null,null,null,null,null,null,{"$f":"IF(Sheet2!M96=\"\",\"\",Sheet2!M96)","v":"490057　奈良女子大学"}]
[null,null,null,null,null,null,null,null,null,null,null,null,null,null,null,null,null,{"$f":"IF(Sheet2!M97=\"\",\"\",Sheet2!M97)","v":"491023　奈良県立医科大学"}]
[null,null,null,null,null,null,null,null,null,null,null,null,null,null,null,null,null,{"$f":"IF(Sheet2!M98=\"\",\"\",Sheet2!M98)","v":"492248　帝塚山大"}]
[null,null,null,null,null,null,null,null,null,null,null,null,null,null,null,null,null,{"$f":"IF(Sheet2!M99=\"\",\"\",Sheet2!M99)","v":"492249　天理大学"}]
[null,null,null,null,null,null,null,null,null,null,null,null,null,null,null,null,null,{"$f":"IF(Sheet2!M100=\"\",\"\",Sheet2!M100)","v":"492250　奈良大学"}]
[null,null,null,null,null,null,null,null,null,null,null,null,null,null,null,null,null,{"$f":"IF(Sheet2!M101=\"\",\"\",Sheet2!M101)","v":"492332　奈良産業大学"}]
[null,null,null,null,null,null,null,null,null,null,null,null,null,null,null,null,null,{"$f":"IF(Sheet2!M102=\"\",\"\",Sheet2!M102)","v":""}]
[null,null,null,null,null,null,null,null,null,null,null,null,null,null,null,null,null,{"$f":"IF(Sheet2!M103=\"\",\"\",Sheet2!M103)","v":"〔和歌山〕　"}]
[null,null,null,null,null,null,null,null,null,null,null,null,null,null,null,null,null,{"$f":"IF(Sheet2!M104=\"\",\"\",Sheet2!M104)","v":"490058　和歌山大学"}]
[null,null,null,null,null,null,null,null,null,null,null,null,null,null,null,null,null,{"$f":"IF(Sheet2!M105=\"\",\"\",Sheet2!M105)","v":""}]
[null,null,null,null,null,null,null,null,null,null,null,null,null,null,null,null,null,{"$f":"IF(Sheet2!M106=\"\",\"\",Sheet2!M106)","v":""}]
[null,null,null,null,null,null,null,null,null,null,null,null,null,null,null,null,null,{"$f":"IF(Sheet2!M107=\"\",\"\",Sheet2!M107)","v":""}]
[null,null,null,null,null,null,null,null,null,null,null,null,null,null,null,null,null,{"$f":"IF(Sheet2!M108=\"\",\"\",Sheet2!M108)","v":""}]
[null,null,null,null,null,null,null,null,null,null,null,null,null,null,null,null,null,{"$f":"IF(Sheet2!M109=\"\",\"\",Sheet2!M109)","v":""}]
[null,null,null,null,null,null,null,null,null,null,null,null,null,null,null,null,null,{"$f":"IF(Sheet2!M110=\"\",\"\",Sheet2!M110)","v":""}]
[null,null,null,null,null,null,null,null,null,null,null,null,null,null,null,null,null,{"$f":"IF(Sheet2!M111=\"\",\"\",Sheet2!M111)","v":""}]
[null,null,null,null,null,null,null,null,null,null,null,null,null,null,null,null,null,{"$f":"IF(Sheet2!M112=\"\",\"\",Sheet2!M112)","v":""}]
[null,null,null,null,null,null,null,null,null,null,null,null,null,null,null,null,null,{"$f":"IF(Sheet2!M113=\"\",\"\",Sheet2!M113)","v":""}]
[null,null,null,null,null,null,null,null,null,null,null,null,null,null,null,null,null,{"$f":"IF(Sheet2!M114=\"\",\"\",Sheet2!M114)","v":""}]
[null,null,null,null,null,null,null,null,null,null,null,null,null,null,null,null,null,{"$f":"IF(Sheet2!M115=\"\",\"\",Sheet2!M115)","v":""}]
[null,null,null,null,null,null,null,null,null,null,null,null,null,null,null,null,null,{"$f":"IF(Sheet2!M116=\"\",\"\",Sheet2!M116)","v":""}]
[null,null,null,null,null,null,null,null,null,null,null,null,null,null,null,null,null,{"$f":"IF(Sheet2!M117=\"\",\"\",Sheet2!M117)","v":""}]
[null,null,null,null,null,null,null,null,null,null,null,null,null,null,null,null,null,{"$f":"IF(Sheet2!M118=\"\",\"\",Sheet2!M118)","v":""}]
[null,null,null,null,null,null,null,null,null,null,null,null,null,null,null,null,null,{"$f":"IF(Sheet2!M119=\"\",\"\",Sheet2!M119)","v":""}]
[null,null,null,null,null,null,null,null,null,null,null,null,null,null,null,null,null,{"$f":"IF(Sheet2!M120=\"\",\"\",Sheet2!M120)","v":""}]
[null,null,null,null,null,null,null,null,null,null,null,null,null,null,null,null,null,{"$f":"IF(Sheet2!M121=\"\",\"\",Sheet2!M121)","v":""}]
[null,null,null,null,null,null,null,null,null,null,null,null,null,null,null,null,null,{"$f":"IF(Sheet2!M122=\"\",\"\",Sheet2!M122)","v":""}]
[null,null,null,null,null,null,null,null,null,null,null,null,null,null,null,null,null,{"$f":"IF(Sheet2!M123=\"\",\"\",Sheet2!M123)","v":""}]
[null,null,null,null,null,null,null,null,null,null,null,null,null,null,null,null,null,{"$f":"IF(Sheet2!M124=\"\",\"\",Sheet2!M124)","v":""}]
[null,null,null,null,null,null,null,null,null,null,null,null,null,null,null,null,null,{"$f":"IF(Sheet2!M125=\"\",\"\",Sheet2!M125)","v":""}]
[null,null,null,null,null,null,null,null,null,null,null,null,null,null,null,null,null,{"$f":"IF(Sheet2!M126=\"\",\"\",Sheet2!M126)","v":""}]
[null,null,null,null,null,null,null,null,null,null,null,null,null,null,null,null,null,{"$f":"IF(Sheet2!M127=\"\",\"\",Sheet2!M127)","v":""}]
[null,null,null,null,null,null,null,null,null,null,null,null,null,null,null,null,null,{"$f":"IF(Sheet2!M128=\"\",\"\",Sheet2!M128)","v":""}]
[null,null,null,null,null,null,null,null,null,null,null,null,null,null,null,null,null,{"$f":"IF(Sheet2!M129=\"\",\"\",Sheet2!M129)","v":""}]
[null,null,null,null,null,null,null,null,null,null,null,null,null,null,null,null,null,{"$f":"IF(Sheet2!M130=\"\",\"\",Sheet2!M130)","v":""}]
[null,null,null,null,null,null,null,null,null,null,null,null,null,null,null,null,null,{"$f":"IF(Sheet2!M131=\"\",\"\",Sheet2!M131)","v":""}]
[null,null,null,null,null,null,null,null,null,null,null,null,null,null,null,null,null,{"$f":"IF(Sheet2!M132=\"\",\"\",Sheet2!M132)","v":""}]
[null,null,null,null,null,null,null,null,null,null,null,null,null,null,null,null,null,{"$f":"IF(Sheet2!M133=\"\",\"\",Sheet2!M133)","v":""}]
[null,null,null,null,null,null,null,null,null,null,null,null,null,null,null,null,null,{"$f":"IF(Sheet2!M134=\"\",\"\",Sheet2!M134)","v":""}]
[null,null,null,null,null,null,null,null,null,null,null,null,null,null,null,null,null,{"$f":"IF(Sheet2!M135=\"\",\"\",Sheet2!M135)","v":""}]
[null,null,null,null,null,null,null,null,null,null,null,null,null,null,null,null,null,{"$f":"IF(Sheet2!M136=\"\",\"\",Sheet2!M136)","v":""}]
[null,null,null,null,null,null,null,null,null,null,null,null,null,null,null,null,null,{"$f":"IF(Sheet2!M137=\"\",\"\",Sheet2!M137)","v":""}]
[null,null,null,null,null,null,null,null,null,null,null,null,null,null,null,null,null,{"$f":"IF(Sheet2!M138=\"\",\"\",Sheet2!M138)","v":""}]
[null,null,null,null,null,null,null,null,null,null,null,null,null,null,null,null,null,{"$f":"IF(Sheet2!M139=\"\",\"\",Sheet2!M139)","v":""}]
[null,null,null,null,null,null,null,null,null,null,null,null,null,null,null,null,null,{"$f":"IF(Sheet2!M140=\"\",\"\",Sheet2!M140)","v":""}]
[null,null,null,null,null,null,null,null,null,null,null,null,null,null,null,null,null,{"$f":"IF(Sheet2!M141=\"\",\"\",Sheet2!M141)","v":""}]
[null,null,null,null,null,null,null,null,null,null,null,null,null,null,null,null,null,{"$f":"IF(Sheet2!M142=\"\",\"\",Sheet2!M142)","v":""}]
[null,null,null,null,null,null,null,null,null,null,null,null,null,null,null,null,null,{"$f":"IF(Sheet2!M143=\"\",\"\",Sheet2!M143)","v":""}]
[null,null,null,null,null,null,null,null,null,null,null,null,null,null,null,null,null,{"$f":"IF(Sheet2!M144=\"\",\"\",Sheet2!M144)","v":""}]
[null,null,null,null,null,null,null,null,null,null,null,null,null,null,null,null,null,{"$f":"IF(Sheet2!M145=\"\",\"\",Sheet2!M145)","v":""}]
[null,null,null,null,null,null,null,null,null,null,null,null,null,null,null,null,null,{"$f":"IF(Sheet2!M146=\"\",\"\",Sheet2!M146)","v":""}]
[null,null,null,null,null,null,null,null,null,null,null,null,null,null,null,null,null,{"$f":"IF(Sheet2!M147=\"\",\"\",Sheet2!M147)","v":""}]
[null,null,null,null,null,null,null,null,null,null,null,null,null,null,null,null,null,{"$f":"IF(Sheet2!M148=\"\",\"\",Sheet2!M148)","v":""}]
[null,null,null,null,null,null,null,null,null,null,null,null,null,null,null,null,null,{"$f":"IF(Sheet2!M149=\"\",\"\",Sheet2!M149)","v":""}]
[null,null,null,null,null,null,null,null,null,null,null,null,null,null,null,null,null,{"$f":"IF(Sheet2!M150=\"\",\"\",Sheet2!M150)","v":""}]
[null,null,null,null,null,null,null,null,null,null,null,null,null,null,null,null,null,{"$f":"IF(Sheet2!M151=\"\",\"\",Sheet2!M151)","v":""}]
[null,null,null,null,null,null,null,null,null,null,null,null,null,null,null,null,null,{"$f":"IF(Sheet2!M152=\"\",\"\",Sheet2!M152)","v":""}]
[null,null,null,null,null,null,null,null,null,null,null,null,null,null,null,null,null,{"$f":"IF(Sheet2!M153=\"\",\"\",Sheet2!M153)","v":""}]
[null,null,null,null,null,null,null,null,null,null,null,null,null,null,null,null,null,{"$f":"IF(Sheet2!M154=\"\",\"\",Sheet2!M154)","v":""}]
[null,null,null,null,null,null,null,null,null,null,null,null,null,null,null,null,null,{"$f":"IF(Sheet2!M155=\"\",\"\",Sheet2!M155)","v":""}]
[null,null,null,null,null,null,null,null,null,null,null,null,null,null,null,null,null,{"$f":"IF(Sheet2!M156=\"\",\"\",Sheet2!M156)","v":""}]
[null,null,null,null,null,null,null,null,null,null,null,null,null,null,null,null,null,{"$f":"IF(Sheet2!M157=\"\",\"\",Sheet2!M157)","v":""}]
[null,null,null,null,null,null,null,null,null,null,null,null,null,null,null,null,null,{"$f":"IF(Sheet2!M158=\"\",\"\",Sheet2!M158)","v":""}]
[null,null,null,null,null,null,null,null,null,null,null,null,null,null,null,null,null,{"$f":"IF(Sheet2!M159=\"\",\"\",Sheet2!M159)","v":""}]
[null,null,null,null,null,null,null,null,null,null,null,null,null,null,null,null,null,{"$f":"IF(Sheet2!M160=\"\",\"\",Sheet2!M160)","v":""}]
[null,null,null,null,null,null,null,null,null,null,null,null,null,null,null,null,null,{"$f":"IF(Sheet2!M161=\"\",\"\",Sheet2!M161)","v":""}]
[null,null,null,null,null,null,null,null,null,null,null,null,null,null,null,null,null,{"$f":"IF(Sheet2!M162=\"\",\"\",Sheet2!M162)","v":""}]
[null,null,null,null,null,null,null,null,null,null,null,null,null,null,null,null,null,{"$f":"IF(Sheet2!M163=\"\",\"\",Sheet2!M163)","v":""}]
[null,null,null,null,null,null,null,null,null,null,null,null,null,null,null,null,null,{"$f":"IF(Sheet2!M164=\"\",\"\",Sheet2!M164)","v":""}]
[null,null,null,null,null,null,null,null,null,null,null,null,null,null,null,null,null,{"$f":"IF(Sheet2!M165=\"\",\"\",Sheet2!M165)","v":""}]
[null,null,null,null,null,null,null,null,null,null,null,null,null,null,null,null,null,{"$f":"IF(Sheet2!M166=\"\",\"\",Sheet2!M166)","v":""}]
[null,null,null,null,null,null,null,null,null,null,null,null,null,null,null,null,null,{"$f":"IF(Sheet2!M167=\"\",\"\",Sheet2!M167)","v":""}]
[null,null,null,null,null,null,null,null,null,null,null,null,null,null,null,null,null,{"$f":"IF(Sheet2!M168=\"\",\"\",Sheet2!M168)","v":""}]
[null,null,null,null,null,null,null,null,null,null,null,null,null,null,null,null,null,{"$f":"IF(Sheet2!M169=\"\",\"\",Sheet2!M169)","v":""}]
[null,null,null,null,null,null,null,null,null,null,null,null,null,null,null,null,null,{"$f":"IF(Sheet2!M170=\"\",\"\",Sheet2!M170)","v":""}]
[null,null,null,null,null,null,null,null,null,null,null,null,null,null,null,null,null,{"$f":"IF(Sheet2!M171=\"\",\"\",Sheet2!M171)","v":""}]
[null,null,null,null,null,null,null,null,null,null,null,null,null,null,null,null,null,{"$f":"IF(Sheet2!M172=\"\",\"\",Sheet2!M172)","v":""}]
[null,null,null,null,null,null,null,null,null,null,null,null,null,null,null,null,null,{"$f":"IF(Sheet2!M173=\"\",\"\",Sheet2!M173)","v":""}]
[null,null,null,null,null,null,null,null,null,null,null,null,null,null,null,null,null,{"$f":"IF(Sheet2!M174=\"\",\"\",Sheet2!M174)","v":""}]
[null,null,null,null,null,null,null,null,null,null,null,null,null,null,null,null,null,{"$f":"IF(Sheet2!M175=\"\",\"\",Sheet2!M175)","v":""}]
[null,null,null,null,null,null,null,null,null,null,null,null,null,null,null,null,null,{"$f":"IF(Sheet2!M176=\"\",\"\",Sheet2!M176)","v":""}]
[null,null,null,null,null,null,null,null,null,null,null,null,null,null,null,null,null,{"$f":"IF(Sheet2!M177=\"\",\"\",Sheet2!M177)","v":""}]
[null,null,null,null,null,null,null,null,null,null,null,null,null,null,null,null,null,{"$f":"IF(Sheet2!M178=\"\",\"\",Sheet2!M178)","v":""}]
[null,null,null,null,null,null,null,null,null,null,null,null,null,null,null,null,null,{"$f":"IF(Sheet2!M179=\"\",\"\",Sheet2!M179)","v":""}]
[null,null,null,null,null,null,null,null,null,null,null,null,null,null,null,null,null,{"$f":"IF(Sheet2!M180=\"\",\"\",Sheet2!M180)","v":""}]
[null,null,null,null,null,null,null,null,null,null,null,null,null,null,null,null,null,{"$f":"IF(Sheet2!M181=\"\",\"\",Sheet2!M181)","v":""}]
[null,null,null,null,null,null,null,null,null,null,null,null,null,null,null,null,null,{"$f":"IF(Sheet2!M182=\"\",\"\",Sheet2!M182)","v":""}]
[null,null,null,null,null,null,null,null,null,null,null,null,null,null,null,null,null,{"$f":"IF(Sheet2!M183=\"\",\"\",Sheet2!M183)","v":""}]
[null,null,null,null,null,null,null,null,null,null,null,null,null,null,null,null,null,{"$f":"IF(Sheet2!M184=\"\",\"\",Sheet2!M184)","v":""}]
[null,null,null,null,null,null,null,null,null,null,null,null,null,null,null,null,null,{"$f":"IF(Sheet2!M185=\"\",\"\",Sheet2!M185)","v":""}]
[null,null,null,null,null,null,null,null,null,null,null,null,null,null,null,null,null,{"$f":"IF(Sheet2!M186=\"\",\"\",Sheet2!M186)","v":""}]
[null,null,null,null,null,null,null,null,null,null,null,null,null,null,null,null,null,{"$f":"IF(Sheet2!M187=\"\",\"\",Sheet2!M187)","v":""}]
[null,null,null,null,null,null,null,null,null,null,null,null,null,null,null,null,null,{"$f":"IF(Sheet2!M188=\"\",\"\",Sheet2!M188)","v":""}]
[null,null,null,null,null,null,null,null,null,null,null,null,null,null,null,null,null,{"$f":"IF(Sheet2!M189=\"\",\"\",Sheet2!M189)","v":""}]
[null,null,null,null,null,null,null,null,null,null,null,null,null,null,null,null,null,{"$f":"IF(Sheet2!M190=\"\",\"\",Sheet2!M190)","v":""}]
[null,null,null,null,null,null,null,null,null,null,null,null,null,null,null,null,null,{"$f":"IF(Sheet2!M191=\"\",\"\",Sheet2!M191)","v":""}]
[null,null,null,null,null,null,null,null,null,null,null,null,null,null,null,null,null,{"$f":"IF(Sheet2!M192=\"\",\"\",Sheet2!M192)","v":""}]
[null,null,null,null,null,null,null,null,null,null,null,null,null,null,null,null,null,{"$f":"IF(Sheet2!M193=\"\",\"\",Sheet2!M193)","v":""}]
[null,null,null,null,null,null,null,null,null,null,null,null,null,null,null,null,null,{"$f":"IF(Sheet2!M194=\"\",\"\",Sheet2!M194)","v":""}]
[null,null,null,null,null,null,null,null,null,null,null,null,null,null,null,null,null,{"$f":"IF(Sheet2!M195=\"\",\"\",Sheet2!M195)","v":""}]
[null,null,null,null,null,null,null,null,null,null,null,null,null,null,null,null,null,{"$f":"IF(Sheet2!M196=\"\",\"\",Sheet2!M196)","v":""}]
[null,null,null,null,null,null,null,null,null,null,null,null,null,null,null,null,null,{"$f":"IF(Sheet2!M197=\"\",\"\",Sheet2!M197)","v":""}]
[null,null,null,null,null,null,null,null,null,null,null,null,null,null,null,null,null,{"$f":"IF(Sheet2!M198=\"\",\"\",Sheet2!M198)","v":""}]
[null,null,null,null,null,null,null,null,null,null,null,null,null,null,null,null,null,{"$f":"IF(Sheet2!M199=\"\",\"\",Sheet2!M199)","v":""}]
[null,null,null,null,null,null,null,null,null,null,null,null,null,null,null,null,null,{"$f":"IF(Sheet2!M200=\"\",\"\",Sheet2!M200)","v":""}]
[null,null,null,null,null,null,null,null,null,null,null,null,null,null,null,null,null,{"$f":"IF(Sheet2!M201=\"\",\"\",Sheet2!M201)","v":""}]
[null,null,null,null,null,null,null,null,null,null,null,null,null,null,null,null,null,{"$f":"IF(Sheet2!M202=\"\",\"\",Sheet2!M202)","v":""}]
[null,null,null,null,null,null,null,null,null,null,null,null,null,null,null,null,null,{"$f":"IF(Sheet2!M203=\"\",\"\",Sheet2!M203)","v":""}]
[null,null,null,null,null,null,null,null,null,null,null,null,null,null,null,null,null,{"$f":"IF(Sheet2!M204=\"\",\"\",Sheet2!M204)","v":""}]
[null,null,null,null,null,null,null,null,null,null,null,null,null,null,null,null,null,{"$f":"IF(Sheet2!M205=\"\",\"\",Sheet2!M205)","v":""}]
[null,null,null,null,null,null,null,null,null,null,null,null,null,null,null,null,null,{"$f":"IF(Sheet2!M206=\"\",\"\",Sheet2!M206)","v":""}]
[null,null,null,null,null,null,null,null,null,null,null,null,null,null,null,null,null,{"$f":"IF(Sheet2!M207=\"\",\"\",Sheet2!M207)","v":""}]
[null,null,null,null,null,null,null,null,null,null,null,null,null,null,null,null,null,{"$f":"IF(Sheet2!M208=\"\",\"\",Sheet2!M208)","v":""}]
[null,null,null,null,null,null,null,null,null,null,null,null,null,null,null,null,null,{"$f":"IF(Sheet2!M209=\"\",\"\",Sheet2!M209)","v":""}]
[null,null,null,null,null,null,null,null,null,null,null,null,null,null,null,null,null,{"$f":"IF(Sheet2!M210=\"\",\"\",Sheet2!M210)","v":""}]
[null,null,null,null,null,null,null,null,null,null,null,null,null,null,null,null,null,{"$f":"IF(Sheet2!M211=\"\",\"\",Sheet2!M211)","v":""}]
[null,null,null,null,null,null,null,null,null,null,null,null,null,null,null,null,null,{"$f":"IF(Sheet2!M212=\"\",\"\",Sheet2!M212)","v":""}]
[null,null,null,null,null,null,null,null,null,null,null,null,null,null,null,null,null,{"$f":"IF(Sheet2!M213=\"\",\"\",Sheet2!M213)","v":""}]
[null,null,null,null,null,null,null,null,null,null,null,null,null,null,null,null,null,{"$f":"IF(Sheet2!M214=\"\",\"\",Sheet2!M214)","v":""}]
[null,null,null,null,null,null,null,null,null,null,null,null,null,null,null,null,null,{"$f":"IF(Sheet2!M215=\"\",\"\",Sheet2!M215)","v":""}]
[null,null,null,null,null,null,null,null,null,null,null,null,null,null,null,null,null,{"$f":"IF(Sheet2!M216=\"\",\"\",Sheet2!M216)","v":""}]
[null,null,null,null,null,null,null,null,null,null,null,null,null,null,null,null,null,{"$f":"IF(Sheet2!M217=\"\",\"\",Sheet2!M217)","v":""}]
[null,null,null,null,null,null,null,null,null,null,null,null,null,null,null,null,null,{"$f":"IF(Sheet2!M218=\"\",\"\",Sheet2!M218)","v":""}]
[null,null,null,null,null,null,null,null,null,null,null,null,null,null,null,null,null,{"$f":"IF(Sheet2!M219=\"\",\"\",Sheet2!M219)","v":""}]
[null,null,null,null,null,null,null,null,null,null,null,null,null,null,null,null,null,{"$f":"IF(Sheet2!M220=\"\",\"\",Sheet2!M220)","v":""}]
[null,null,null,null,null,null,null,null,null,null,null,null,null,null,null,null,null,{"$f":"IF(Sheet2!M221=\"\",\"\",Sheet2!M221)","v":""}]
[null,null,null,null,null,null,null,null,null,null,null,null,null,null,null,null,null,{"$f":"IF(Sheet2!M222=\"\",\"\",Sheet2!M222)","v":""}]
[null,null,null,null,null,null,null,null,null,null,null,null,null,null,null,null,null,{"$f":"IF(Sheet2!M223=\"\",\"\",Sheet2!M223)","v":""}]
[null,null,null,null,null,null,null,null,null,null,null,null,null,null,null,null,null,{"$f":"IF(Sheet2!M224=\"\",\"\",Sheet2!M224)","v":""}]
[null,null,null,null,null,null,null,null,null,null,null,null,null,null,null,null,null,{"$f":"IF(Sheet2!M225=\"\",\"\",Sheet2!M225)","v":""}]
[null,null,null,null,null,null,null,null,null,null,null,null,null,null,null,null,null,{"$f":"IF(Sheet2!M226=\"\",\"\",Sheet2!M226)","v":""}]
[null,null,null,null,null,null,null,null,null,null,null,null,null,null,null,null,null,{"$f":"IF(Sheet2!M227=\"\",\"\",Sheet2!M227)","v":""}]
[null,null,null,null,null,null,null,null,null,null,null,null,null,null,null,null,null,{"$f":"IF(Sheet2!M228=\"\",\"\",Sheet2!M228)","v":""}]
[null,null,null,null,null,null,null,null,null,null,null,null,null,null,null,null,null,{"$f":"IF(Sheet2!M229=\"\",\"\",Sheet2!M229)","v":""}]
[null,null,null,null,null,null,null,null,null,null,null,null,null,null,null,null,null,{"$f":"IF(Sheet2!M230=\"\",\"\",Sheet2!M230)","v":""}]
[null,null,null,null,null,null,null,null,null,null,null,null,null,null,null,null,null,{"$f":"IF(Sheet2!M231=\"\",\"\",Sheet2!M231)","v":""}]
[null,null,null,null,null,null,null,null,null,null,null,null,null,null,null,null,null,{"$f":"IF(Sheet2!M232=\"\",\"\",Sheet2!M232)","v":""}]
[null,null,null,null,null,null,null,null,null,null,null,null,null,null,null,null,null,{"$f":"IF(Sheet2!M233=\"\",\"\",Sheet2!M233)","v":""}]
[null,null,null,null,null,null,null,null,null,null,null,null,null,null,null,null,null,{"$f":"IF(Sheet2!M234=\"\",\"\",Sheet2!M234)","v":""}]
[null,null,null,null,null,null,null,null,null,null,null,null,null,null,null,null,null,{"$f":"IF(Sheet2!M235=\"\",\"\",Sheet2!M235)","v":""}]
[null,null,null,null,null,null,null,null,null,null,null,null,null,null,null,null,null,{"$f":"IF(Sheet2!M236=\"\",\"\",Sheet2!M236)","v":""}]
[null,null,null,null,null,null,null,null,null,null,null,null,null,null,null,null,null,{"$f":"IF(Sheet2!M237=\"\",\"\",Sheet2!M237)","v":""}]
[null,null,null,null,null,null,null,null,null,null,null,null,null,null,null,null,null,{"$f":"IF(Sheet2!M238=\"\",\"\",Sheet2!M238)","v":""}]
[null,null,null,null,null,null,null,null,null,null,null,null,null,null,null,null,null,{"$f":"IF(Sheet2!M239=\"\",\"\",Sheet2!M239)","v":""}]
[null,null,null,null,null,null,null,null,null,null,null,null,null,null,null,null,null,{"$f":"IF(Sheet2!M240=\"\",\"\",Sheet2!M240)","v":""}]
[null,null,null,null,null,null,null,null,null,null,null,null,null,null,null,null,null,{"$f":"IF(Sheet2!M241=\"\",\"\",Sheet2!M241)","v":""}]
[null,null,null,null,null,null,null,null,null,null,null,null,null,null,null,null,null,{"$f":"IF(Sheet2!M242=\"\",\"\",Sheet2!M242)","v":""}]
[null,null,null,null,null,null,null,null,null,null,null,null,null,null,null,null,null,{"$f":"IF(Sheet2!M243=\"\",\"\",Sheet2!M243)","v":""}]
[null,null,null,null,null,null,null,null,null,null,null,null,null,null,null,null,null,{"$f":"IF(Sheet2!M244=\"\",\"\",Sheet2!M244)","v":""}]
[null,null,null,null,null,null,null,null,null,null,null,null,null,null,null,null,null,{"$f":"IF(Sheet2!M245=\"\",\"\",Sheet2!M245)","v":""}]
[null,null,null,null,null,null,null,null,null,null,null,null,null,null,null,null,null,{"$f":"IF(Sheet2!M246=\"\",\"\",Sheet2!M246)","v":""}]
[null,null,null,null,null,null,null,null,null,null,null,null,null,null,null,null,null,{"$f":"IF(Sheet2!M247=\"\",\"\",Sheet2!M247)","v":""}]

{"sheet":"Sheet2","index":1,"n_rows":104,"n_cols":25,"rows_kept":104,"cut":false,"hidden":false,"merged":[]}
[null,null,null,null,null,null,null,null,null,null,null,null,"選択して下さい"]
["100ｍ","00200 0",2,1,null,"兵庫",28,null,10,null,"男",null,"〔兵庫〕　",null,null,null,null,null,null,null,null,null,"3000ｍ（女Ａ）","01001 0",10]
["200ｍ","00300 0",3,1,null,null,null,null,"09",null,"女",null,"490054　神戸大学",null,null,null,null,null,null,null,null,null,"円盤（男少共）","08701 0",87]
["400ｍ","00500 0",5,1,null,"滋賀",25,null,"08",null,null,null,"490092　兵庫教育大学",null,null,null,null,null,null,null,null,null,"ﾊﾝﾏｰ（男Ａ）","09101 0",91]
["800ｍ","00600 0",6,1,null,"京都",26,null,"07",null,null,null,"490094　近畿福祉大学"]
["1500ｍ","00800 0",8,1,null,"大阪",27,null,"06",null,null,null,"490111　夙川学院短大"]
["5000ｍ","01100 0",11,1,null,"奈良",29,null,"05",null,null,null,"491021　兵庫県立大学"]
["10000ｍ","01200 0",12,1,null,"和歌山",30,null,"04",null,null,null,"492232　関西学院大学"]
["110Ｈ男","03400 0",34,1,null,null,null,null,"03",null,null,null,"492233　甲子園大学"]
["100H女","04400 0",44,1,null,"北海道",1,null,"02",null,null,null,"492234　甲南大学"]
["400Ｈ男","03700 0",37,1,null,"青森",2,null,"01",null,null,null,"492235　甲南女子大学"]
["400Ｈ女","04600 0",46,1,null,"岩手",3,null,"00",null,null,null,"492237　神戸学院大学"]
["3000SC男","05300 0",53,1,null,"宮城",4,null,99,null,null,null,"492239　神戸女子大学"]
["3000SC女","05400 0",54,1,null,"秋田",5,null,98,null,null,null,"492245　兵庫医科大学"]
["5000Ｗ","06100 0",61,1,null,"山形",6,null,97,null,null,null,"492246　武庫川女子大学"]
["走高跳","07100 0",71,1,null,"福島",7,null,96,null,null,null,"492247　神戸国際大学"]
["棒高跳","07200 0",72,1,null,"茨城",8,null,95,null,null,null,"492342　姫路獨協大学"]
["走幅跳","07300 0",73,1,null,"栃木",9,null,94,null,null,null,"492356　流通科学大学"]
["三段跳","07400 0",74,1,null,"群馬",10,null,93,null,null,null,"496060　大手前大学"]
["砲丸(男)","08100 0",81,1,null,"埼玉",11,null,92,null,null,null,"499084　神戸親和女子大学"]
["砲丸(女)","08400 0",84,1,null,"千葉",12,null,91,null,null,null,"499089　兵庫大学"]
["円盤(男)","08600 0",86,1,null,"東京",13,null,90,null,null,null,"499100　関西福祉大学"]
["円盤(女)","08800 0",88,1,null,"神奈川",14,null,89,null,null,null,"499128　園田学園女子大学"]
["ﾊﾝﾏｰ(男)","08900 0",89,1,null,"山梨",15,null,88]
["ﾊﾝﾏｰ(女)","09400 0",94,1,null,"新潟",16,null,87,null,null,null,"〔滋賀〕　"]
["やり(男)","09200 0",92,1,null,"長野",17,null,86,null,null,null,"490047　滋賀大学"]
["やり(女)","09300 0",93,1,null,"富山",18,null,85,null,null,null,"490080　滋賀医科大学"]
["十種競技","20100 0",201,1,null,"石川",19,null,84,null,null,null,"490108　びわこ成蹊スポーツ大学"]
["七種競技","20200 0",202,1,null,"福井",20,null,83,null,null,null,"490108　びわこ成蹊大"]
["少A300m","00401 0",4,1,null,"静岡",21,null,82,null,null,null,"499063　滋賀県立大学"]
["少A300H男","03801 0",38,1,null,"愛知",22,null,81]
["少A300H女","04701 0",47,1,null,"三重",23,null,80,null,null,null,"〔京都〕　"]
["少Aﾊﾝﾏｰ男","09101 0",91,1,null,"岐阜",24,null,79,null,null,null,"490048　京都大学"]
["少B3000男","01002 0",10,1,null,"鳥取",31,null,78,null,null,null,"490049　京都教育大学"]
["少B110Ｈ男","03302 0",33,1,null,"島根",32,null,77,null,null,null,"490050　京都工芸繊維大学"]
["少B100H女","04302 0",43,1,null,"岡山",33,null,76,null,null,null,"490098　京都創成大学"]
["少B円盤(男)","08702 0",87,1,null,"広島",34,null,75,null,null,null,"490124　同志社女子大学"]
[null,null,null,null,null,"山口",35,null,74,null,null,null,"491015　京都府立大学"]
[null,null,null,null,null,"徳島",36,null,73,null,null,null,"491016　京都府立医科大学"]
[null,null,null,null,null,"香川",37,null,72,null,null,null,"492186　大谷大学"]
[null,null,null,null,null,"愛媛",38,null,71,null,null,null,"492187　京都外国語大学"]
[null,null,null,null,null,"高知",39,null,70,null,null,null,"492188　京都学園大学"]
[null,null,null,null,null,"福岡",40,null,69,null,null,null,"492189　京都産業大学"]
[null,null,null,null,null,"佐賀",41,null,68,null,null,null,"492190　京都女子大学"]
[null,null,null,null,null,"長崎",42,null,67,null,null,null,"492191　京都薬科大学"]
[null,null,null,null,null,"熊本",43,null,66,null,null,null,"492194　京都橘女子大学"]
[null,null,null,null,null,"大分",44,null,65,null,null,null,"492195　同志社大学"]
[null,null,null,null,null,"宮崎",45,null,64,null,null,null,"492199　佛教大学"]
[null,null,null,null,null,"鹿児島",46,null,63,null,null,null,"492200　立命館大学"]
[null,null,null,null,null,"沖縄",47,null,62,null,null,null,"492201　龍谷大学"]
[null,null,null,null,null,null,null,null,61,null,null,null,"492216　大谷女子大学"]
[null,null,null,null,null,null,null,null,60,null,null,null,"492317　京都精華大学"]
[null,null,null,null,null,null,null,null,59,null,null,null,"492329　明治国際医療大学"]
[null,null,null,null,null,null,null,null,58,null,null,null,"495253　華頂短期大学"]
[null,null,null,null,null,null,null,null,57,null,null,null,"499111　京都文教大"]
[null,null,null,null,null,null,null,null,56,null,null,null,"499138　京都光華女大"]
[null,null,null,null,null,null,null,null,55]
[null,null,null,null,null,null,null,null,54,null,null,null,"〔大阪〕　"]
[null,null,null,null,null,null,null,null,53,null,null,null,"490051　大阪大学"]
[null,null,null,null,null,null,null,null,52,null,null,null,"490052　大阪外国語大学"]
[null,null,null,null,null,null,null,null,51,null,null,null,"490053　大阪教育大学"]
[null,null,null,null,null,null,null,null,50,null,null,null,"490112　太成学院大学"]
[null,null,null,null,null,null,null,null,49,null,null,null,"490120　大阪女子大学"]
[null,null,null,null,null,null,null,null,48,null,null,null,"491018　大阪市立大学"]
[null,null,null,null,null,null,null,null,47,null,null,null,"491019　大阪府立大学"]
[null,null,null,null,null,null,null,null,46,null,null,null,"492202　大阪医科大学"]
[null,null,null,null,null,null,null,null,45,null,null,null,"492204　大阪学院大学"]
[null,null,null,null,null,null,null,null,44,null,null,null,"492205　大阪経済大学"]
[null,null,null,null,null,null,null,null,43,null,null,null,"492206　大阪経済法科大学"]
[null,null,null,null,null,null,null,null,42,null,null,null,"492208　大阪工業大学"]
[null,null,null,null,null,null,null,null,41,null,null,null,"492209　大阪産業大学"]
[null,null,null,null,null,null,null,null,40,null,null,null,"492210　大阪歯科大学"]
[null,null,null,null,null,null,null,null,39,null,null,null,"492212　大阪商業大学"]
[null,null,null,null,null,null,null,null,38,null,null,null,"492213　大阪体育大学"]
[null,null,null,null,null,null,null,null,37,null,null,null,"492214　大阪電気通信大学"]
[null,null,null,null,null,null,null,null,36,null,null,null,"492217　追手門学院大学"]
[null,null,null,null,null,null,null,null,35,null,null,null,"492218　関西大学"]
[null,null,null,null,null,null,null,null,34,null,null,null,"492219　関西医科大学"]
[null,null,null,null,null,null,null,null,33,null,null,null,"492220　関西外国語大学"]
[null,null,null,null,null,null,null,null,32,null,null,null,"492221　近畿大学"]
[null,null,null,null,null,null,null,null,31,null,null,null,"492222　四天王寺国際仏教大学"]
[null,null,null,null,null,null,null,null,30,null,null,null,"492224　大阪国際大学"]
[null,null,null,null,null,null,null,null,29,null,null,null,"492226　梅花女子大学"]
[null,null,null,null,null,null,null,null,28,null,null,null,"492227　阪南大学"]
[null,null,null,null,null,null,null,null,27,null,null,null,"492228　桃山学院大学"]
[null,null,null,null,null,null,null,null,26,null,null,null,"492248　帝塚山大学"]
[null,null,null,null,null,null,null,null,25,null,null,null,"492302　摂南大学"]
[null,null,null,null,null,null,null,null,24,null,null,null,"492553　大阪成蹊大学"]
[null,null,null,null,null,null,null,null,23,null,null,null,"492578　森ノ宮医療大学"]
[null,null,null,null,null,null,null,null,22,null,null,null,"495270　大阪人間科学大学"]
[null,null,null,null,null,null,null,null,21,null,null,null,"495278　大阪成蹊短期大学"]
[null,null,null,null,null,null,null,null,null,null,null,null,"499090　南大阪大学"]
[null,null,null,null,null,null,null,null,null,null,null,null,"499919　東大阪大学"]
[null,null,null,null,null,null,null,null,null,null,null,null,"〔奈良〕　"]
[null,null,null,null,null,null,null,null,null,null,null,null,"490056　奈良教育大学"]
[null,null,null,null,null,null,null,null,null,null,null,null,"490057　奈良女子大学"]
[null,null,null,null,null,null,null,null,null,null,null,null,"491023　奈良県立医科大学"]
[null,null,null,null,null,null,null,null,null,null,null,null,"492248　帝塚山大"]
[null,null,null,null,null,null,null,null,null,null,null,null,"492249　天理大学"]
[null,null,null,null,null,null,null,null,null,null,null,null,"492250　奈良大学"]
[null,null,null,null,null,null,null,null,null,null,null,null,"492332　奈良産業大学"]
[]
[null,null,null,null,null,null,null,null,null,null,null,null,"〔和歌山〕　"]
[null,null,null,null,null,null,null,null,null,null,null,null,"490058　和歌山大学"]

{"sheet":"Sheet3","index":2,"n_rows":124,"n_cols":16,"rows_kept":124,"cut":false,"hidden":false,"merged":[]}
[{"$f":"Sheet1!E4&\"/\"&Sheet1!E5&\"/\"&Sheet1!E6","v":"選択して下さい//"},"プロ",{"$f":"Sheet1!E7","v":0},null,null,null,null,null,null,null,null,"リレー記録",{"$f":"IF(Sheet1!E12=\"\",\"\",\"0\"&Sheet1!E12)","v":""},{"$f":"IF(Sheet1!F12=\"\",\"\",Sheet1!F12)","v":""},{"$f":"IF(Sheet1!G12=\"\",\"\",\"0\"&Sheet1!G12)","v":""},{"$f":"IF(Sheet1!H12=\"\",\"\",Sheet1!H12)","v":""}]
["DB","N1","N2","N3","SX","KC","NT","MC","ZK","S1","S2","S3","m4*1","m4*4","w4*1","w4*4"]
[{"$f":"IF(B3=\"\",\"\",E3*100000000+F3*1000000+200000+I3)","v":""},{"$f":"ASC(IF(Sheet1!C16=\"\",\"\",IF(LEN(Sheet1!C16)+LEN(Sheet1!D16)=2,Sheet1!C16&\"      \"&Sheet1!D16&\"(\"&Sheet1!I16&\")\",IF(LEN(Sheet1!C16)+LEN(Sheet1!D16)=3,Sheet1!C16&\"    \"&Sheet1!D16&\"(\"&Sheet1!I16&\")\",IF(LEN(Sheet1!C16)+LEN(Sheet1!D16)=4,Sheet1!C16&\"  \"&Sheet1!D16&\"(\"&Sheet1!I16&\")\",IF(LEN(Sheet1!C16)+LEN(Sheet1!D16)>=5,Sheet1!C16&Sheet1!D16&\"(\"&Sheet1!I16&\")\",\"\"))))))","v":""},{"$f":"ASC(IF(Sheet1!E16=\"\",\"\",Sheet1!E16&\" \"&Sheet1!F16))","v":""},{"$f":"ASC(IF(Sheet1!G16=\"\",\"\",UPPER(Sheet1!G16)&\" \"&PROPER(Sheet1!H16)&\"(\"&Sheet1!I16&\")\"))","v":""},{"$f":"IF(Sheet1!J16=\"\",\"\",IF(Sheet1!J16=\"女\",2,1))","v":""},{"$f":"IF(Sheet1!K16=\"\",\"\",VLOOKUP(Sheet1!K16,Sheet2!$F$2:$G$50,2,FALSE))","v":""},{"$f":"IF(Sheet1!L16=\"\",\"\",(Sheet1!L16))","v":""},{"$f":"IF(B3=\"\",\"\",VALUE(LEFT(Sheet1!E$4,6)))","v":""},{"$f":"IF(Sheet1!B16=\"\",\"\",VALUE(Sheet1!B16))","v":""},{"$f":"IF(Sheet1!M16=\"\",\"\",IF(VLOOKUP(Sheet1!M16,Sheet2!$A$2:$C$44,3,FALSE)>=71,VLOOKUP(Sheet1!M16,Sheet2!$A$2:$C$44,2,FALSE)&TEXT(Sheet1!O16,\"00\")&TEXT(Sheet1!P16,\"00\"),VLOOKUP(Sheet1!M16,Sheet2!$A$2:$C$44,2,FALSE)&TEXT(Sheet1!N16,\"00\")&TEXT(Sheet1!O16,\"00\")&IF(Sheet1!Q16=\"手\",TEXT(Sheet1!P16,\"0\"),TEXT(Sheet1!P16,\"00\"))))","v":""},{"$f":"IF(Sheet1!R16=\"\",\"\",IF(VLOOKUP(Sheet1!R16,Sheet2!$A$2:$C$44,3,FALSE)>=71,VLOOKUP(Sheet1!R16,Sheet2!$A$2:$C$44,2,FALSE)&TEXT(Sheet1!T16,\"00\")&TEXT(Sheet1!U16,\"00\"),VLOOKUP(Sheet1!R16,Sheet2!$A$2:$C$44,2,FALSE)&TEXT(Sheet1!S16,\"00\")&TEXT(Sheet1!T16,\"00\")&IF(Sheet1!V16=\"手\",TEXT(Sheet1!U16,\"0\"),TEXT(Sheet1!U16,\"00\"))))","v":""},{"$f":"IF(Sheet1!W16=\"\",\"\",IF(VLOOKUP(Sheet1!W16,Sheet2!$A$2:$C$44,3,FALSE)>=71,VLOOKUP(Sheet1!W16,Sheet2!$A$2:$C$44,2,FALSE)&TEXT(Sheet1!Y16,\"00\")&TEXT(Sheet1!Z16,\"00\"),VLOOKUP(Sheet1!W16,Sheet2!$A$2:$C$44,2,FALSE)&TEXT(Sheet1!X16,\"00\")&TEXT(Sheet1!Y16,\"00\")&IF(Sheet1!AA16=\"手\",TEXT(Sheet1!Z16,\"0\"),TEXT(Sheet1!Z16,\"00\"))))","v":""},{"$f":"IF(Sheet1!AD16=\"\",\"\",\"●\")","v":""},{"$f":"IF(Sheet1!AE16=\"\",\"\",\"▲\")","v":""},{"$f":"IF(Sheet1!AF16=\"\",\"\",\"★\")","v":""},{"$f":"IF(Sheet1!AG16=\"\",\"\",\"▼\")","v":""}]
[{"$f":"IF(B4=\"\",\"\",E4*100000000+F4*1000000+200000+I4)","v":""},{"$f":"ASC(IF(Sheet1!C17=\"\",\"\",IF(LEN(Sheet1!C17)+LEN(Sheet1!D17)=2,Sheet1!C17&\"      \"&Sheet1!D17&\"(\"&Sheet1!I17&\")\",IF(LEN(Sheet1!C17)+LEN(Sheet1!D17)=3,Sheet1!C17&\"    \"&Sheet1!D17&\"(\"&Sheet1!I17&\")\",IF(LEN(Sheet1!C17)+LEN(Sheet1!D17)=4,Sheet1!C17&\"  \"&Sheet1!D17&\"(\"&Sheet1!I17&\")\",IF(LEN(Sheet1!C17)+LEN(Sheet1!D17)>=5,Sheet1!C17&Sheet1!D17&\"(\"&Sheet1!I17&\")\",\"\"))))))","v":""},{"$f":"ASC(IF(Sheet1!E17=\"\",\"\",Sheet1!E17&\" \"&Sheet1!F17))","v":""},{"$f":"ASC(IF(Sheet1!G17=\"\",\"\",UPPER(Sheet1!G17)&\" \"&PROPER(Sheet1!H17)&\"(\"&Sheet1!I17&\")\"))","v":""},{"$f":"IF(Sheet1!J17=\"\",\"\",IF(Sheet1!J17=\"女\",2,1))","v":""},{"$f":"IF(Sheet1!K17=\"\",\"\",VLOOKUP(Sheet1!K17,Sheet2!$F$2:$G$50,2,FALSE))","v":""},{"$f":"IF(Sheet1!L17=\"\",\"\",(Sheet1!L17))","v":""},{"$f":"IF(B4=\"\",\"\",VALUE(LEFT(Sheet1!E$4,6)))","v":""},{"$f":"IF(Sheet1!B17=\"\",\"\",VALUE(Sheet1!B17))","v":""},{"$f":"IF(Sheet1!M17=\"\",\"\",IF(VLOOKUP(Sheet1!M17,Sheet2!$A$2:$C$44,3,FALSE)>=71,VLOOKUP(Sheet1!M17,Sheet2!$A$2:$C$44,2,FALSE)&TEXT(Sheet1!O17,\"00\")&TEXT(Sheet1!P17,\"00\"),VLOOKUP(Sheet1!M17,Sheet2!$A$2:$C$44,2,FALSE)&TEXT(Sheet1!N17,\"00\")&TEXT(Sheet1!O17,\"00\")&IF(Sheet1!Q17=\"手\",TEXT(Sheet1!P17,\"0\"),TEXT(Sheet1!P17,\"00\"))))","v":""},{"$f":"IF(Sheet1!R17=\"\",\"\",IF(VLOOKUP(Sheet1!R17,Sheet2!$A$2:$C$44,3,FALSE)>=71,VLOOKUP(Sheet1!R17,Sheet2!$A$2:$C$44,2,FALSE)&TEXT(Sheet1!T17,\"00\")&TEXT(Sheet1!U17,\"00\"),VLOOKUP(Sheet1!R17,Sheet2!$A$2:$C$44,2,FALSE)&TEXT(Sheet1!S17,\"00\")&TEXT(Sheet1!T17,\"00\")&IF(Sheet1!V17=\"手\",TEXT(Sheet1!U17,\"0\"),TEXT(Sheet1!U17,\"00\"))))","v":""},{"$f":"IF(Sheet1!W17=\"\",\"\",IF(VLOOKUP(Sheet1!W17,Sheet2!$A$2:$C$44,3,FALSE)>=71,VLOOKUP(Sheet1!W17,Sheet2!$A$2:$C$44,2,FALSE)&TEXT(Sheet1!Y17,\"00\")&TEXT(Sheet1!Z17,\"00\"),VLOOKUP(Sheet1!W17,Sheet2!$A$2:$C$44,2,FALSE)&TEXT(Sheet1!X17,\"00\")&TEXT(Sheet1!Y17,\"00\")&IF(Sheet1!AA17=\"手\",TEXT(Sheet1!Z17,\"0\"),TEXT(Sheet1!Z17,\"00\"))))","v":""},{"$f":"IF(Sheet1!AD17=\"\",\"\",\"●\")","v":""},{"$f":"IF(Sheet1!AE17=\"\",\"\",\"▲\")","v":""},{"$f":"IF(Sheet1!AF17=\"\",\"\",\"★\")","v":""},{"$f":"IF(Sheet1!AG17=\"\",\"\",\"▼\")","v":""}]
["",{"$f":"ASC(IF(Sheet1!C18=\"\",\"\",IF(LEN(Sheet1!C18)+LEN(Sheet1!D18)=2,Sheet1!C18&\"      \"&Sheet1!D18&\"(\"&Sheet1!I18&\")\",IF(LEN(Sheet1!C18)+LEN(Sheet1!D18)=3,Sheet1!C18&\"    \"&Sheet1!D18&\"(\"&Sheet1!I18&\")\",IF(LEN(Sheet1!C18)+LEN(Sheet1!D18)=4,Sheet1!C18&\"  \"&Sheet1!D18&\"(\"&Sheet1!I18&\")\",IF(LEN(Sheet1!C18)+LEN(Sheet1!D18)>=5,Sheet1!C18&Sheet1!D18&\"(\"&Sheet1!I18&\")\",\"\"))))))","v":""},{"$f":"ASC(IF(Sheet1!E18=\"\",\"\",Sheet1!E18&\" \"&Sheet1!F18))","v":""},{"$f":"ASC(IF(Sheet1!G18=\"\",\"\",UPPER(Sheet1!G18)&\" \"&PROPER(Sheet1!H18)&\"(\"&Sheet1!I18&\")\"))","v":""},{"$f":"IF(Sheet1!J18=\"\",\"\",IF(Sheet1!J18=\"女\",2,1))","v":""},{"$f":"IF(Sheet1!K18=\"\",\"\",VLOOKUP(Sheet1!K18,Sheet2!$F$2:$G$50,2,FALSE))","v":""},{"$f":"IF(Sheet1!L18=\"\",\"\",(Sheet1!L18))","v":""},{"$f":"IF(B5=\"\",\"\",VALUE(LEFT(Sheet1!E$4,6)))","v":""},{"$f":"IF(Sheet1!B18=\"\",\"\",VALUE(Sheet1!B18))","v":""},{"$f":"IF(Sheet1!M18=\"\",\"\",IF(VLOOKUP(Sheet1!M18,Sheet2!$A$2:$C$44,3,FALSE)>=71,VLOOKUP(Sheet1!M18,Sheet2!$A$2:$C$44,2,FALSE)&TEXT(Sheet1!O18,\"00\")&TEXT(Sheet1!P18,\"00\"),VLOOKUP(Sheet1!M18,Sheet2!$A$2:$C$44,2,FALSE)&TEXT(Sheet1!N18,\"00\")&TEXT(Sheet1!O18,\"00\")&IF(Sheet1!Q18=\"手\",TEXT(Sheet1!P18,\"0\"),TEXT(Sheet1!P18,\"00\"))))","v":""},{"$f":"IF(Sheet1!R18=\"\",\"\",IF(VLOOKUP(Sheet1!R18,Sheet2!$A$2:$C$44,3,FALSE)>=71,VLOOKUP(Sheet1!R18,Sheet2!$A$2:$C$44,2,FALSE)&TEXT(Sheet1!T18,\"00\")&TEXT(Sheet1!U18,\"00\"),VLOOKUP(Sheet1!R18,Sheet2!$A$2:$C$44,2,FALSE)&TEXT(Sheet1!S18,\"00\")&TEXT(Sheet1!T18,\"00\")&IF(Sheet1!V18=\"手\",TEXT(Sheet1!U18,\"0\"),TEXT(Sheet1!U18,\"00\"))))","v":""},{"$f":"IF(Sheet1!W18=\"\",\"\",IF(VLOOKUP(Sheet1!W18,Sheet2!$A$2:$C$44,3,FALSE)>=71,VLOOKUP(Sheet1!W18,Sheet2!$A$2:$C$44,2,FALSE)&TEXT(Sheet1!Y18,\"00\")&TEXT(Sheet1!Z18,\"00\"),VLOOKUP(Sheet1!W18,Sheet2!$A$2:$C$44,2,FALSE)&TEXT(Sheet1!X18,\"00\")&TEXT(Sheet1!Y18,\"00\")&IF(Sheet1!AA18=\"手\",TEXT(Sheet1!Z18,\"0\"),TEXT(Sheet1!Z18,\"00\"))))","v":""},{"$f":"IF(Sheet1!AD18=\"\",\"\",\"●\")","v":""},{"$f":"IF(Sheet1!AE18=\"\",\"\",\"▲\")","v":""},{"$f":"IF(Sheet1!AF18=\"\",\"\",\"★\")","v":""},{"$f":"IF(Sheet1!AG18=\"\",\"\",\"▼\")","v":""}]
["",{"$f":"ASC(IF(Sheet1!C19=\"\",\"\",IF(LEN(Sheet1!C19)+LEN(Sheet1!D19)=2,Sheet1!C19&\"      \"&Sheet1!D19&\"(\"&Sheet1!I19&\")\",IF(LEN(Sheet1!C19)+LEN(Sheet1!D19)=3,Sheet1!C19&\"    \"&Sheet1!D19&\"(\"&Sheet1!I19&\")\",IF(LEN(Sheet1!C19)+LEN(Sheet1!D19)=4,Sheet1!C19&\"  \"&Sheet1!D19&\"(\"&Sheet1!I19&\")\",IF(LEN(Sheet1!C19)+LEN(Sheet1!D19)>=5,Sheet1!C19&Sheet1!D19&\"(\"&Sheet1!I19&\")\",\"\"))))))","v":""},{"$f":"ASC(IF(Sheet1!E19=\"\",\"\",Sheet1!E19&\" \"&Sheet1!F19))","v":""},{"$f":"ASC(IF(Sheet1!G19=\"\",\"\",UPPER(Sheet1!G19)&\" \"&PROPER(Sheet1!H19)&\"(\"&Sheet1!I19&\")\"))","v":""},{"$f":"IF(Sheet1!J19=\"\",\"\",IF(Sheet1!J19=\"女\",2,1))","v":""},{"$f":"IF(Sheet1!K19=\"\",\"\",VLOOKUP(Sheet1!K19,Sheet2!$F$2:$G$50,2,FALSE))","v":""},{"$f":"IF(Sheet1!L19=\"\",\"\",(Sheet1!L19))","v":""},{"$f":"IF(B6=\"\",\"\",VALUE(LEFT(Sheet1!E$4,6)))","v":""},{"$f":"IF(Sheet1!B19=\"\",\"\",VALUE(Sheet1!B19))","v":""},{"$f":"IF(Sheet1!M19=\"\",\"\",IF(VLOOKUP(Sheet1!M19,Sheet2!$A$2:$C$44,3,FALSE)>=71,VLOOKUP(Sheet1!M19,Sheet2!$A$2:$C$44,2,FALSE)&TEXT(Sheet1!O19,\"00\")&TEXT(Sheet1!P19,\"00\"),VLOOKUP(Sheet1!M19,Sheet2!$A$2:$C$44,2,FALSE)&TEXT(Sheet1!N19,\"00\")&TEXT(Sheet1!O19,\"00\")&IF(Sheet1!Q19=\"手\",TEXT(Sheet1!P19,\"0\"),TEXT(Sheet1!P19,\"00\"))))","v":""},{"$f":"IF(Sheet1!R19=\"\",\"\",IF(VLOOKUP(Sheet1!R19,Sheet2!$A$2:$C$44,3,FALSE)>=71,VLOOKUP(Sheet1!R19,Sheet2!$A$2:$C$44,2,FALSE)&TEXT(Sheet1!T19,\"00\")&TEXT(Sheet1!U19,\"00\"),VLOOKUP(Sheet1!R19,Sheet2!$A$2:$C$44,2,FALSE)&TEXT(Sheet1!S19,\"00\")&TEXT(Sheet1!T19,\"00\")&IF(Sheet1!V19=\"手\",TEXT(Sheet1!U19,\"0\"),TEXT(Sheet1!U19,\"00\"))))","v":""},{"$f":"IF(Sheet1!W19=\"\",\"\",IF(VLOOKUP(Sheet1!W19,Sheet2!$A$2:$C$44,3,FALSE)>=71,VLOOKUP(Sheet1!W19,Sheet2!$A$2:$C$44,2,FALSE)&TEXT(Sheet1!Y19,\"00\")&TEXT(Sheet1!Z19,\"00\"),VLOOKUP(Sheet1!W19,Sheet2!$A$2:$C$44,2,FALSE)&TEXT(Sheet1!X19,\"00\")&TEXT(Sheet1!Y19,\"00\")&IF(Sheet1!AA19=\"手\",TEXT(Sheet1!Z19,\"0\"),TEXT(Sheet1!Z19,\"00\"))))","v":""},{"$f":"IF(Sheet1!AD19=\"\",\"\",\"●\")","v":""},{"$f":"IF(Sheet1!AE19=\"\",\"\",\"▲\")","v":""},{"$f":"IF(Sheet1!AF19=\"\",\"\",\"★\")","v":""},{"$f":"IF(Sheet1!AG19=\"\",\"\",\"▼\")","v":""}]
["",{"$f":"ASC(IF(Sheet1!C20=\"\",\"\",IF(LEN(Sheet1!C20)+LEN(Sheet1!D20)=2,Sheet1!C20&\"      \"&Sheet1!D20&\"(\"&Sheet1!I20&\")\",IF(LEN(Sheet1!C20)+LEN(Sheet1!D20)=3,Sheet1!C20&\"    \"&Sheet1!D20&\"(\"&Sheet1!I20&\")\",IF(LEN(Sheet1!C20)+LEN(Sheet1!D20)=4,Sheet1!C20&\"  \"&Sheet1!D20&\"(\"&Sheet1!I20&\")\",IF(LEN(Sheet1!C20)+LEN(Sheet1!D20)>=5,Sheet1!C20&Sheet1!D20&\"(\"&Sheet1!I20&\")\",\"\"))))))","v":""},{"$f":"ASC(IF(Sheet1!E20=\"\",\"\",Sheet1!E20&\" \"&Sheet1!F20))","v":""},{"$f":"ASC(IF(Sheet1!G20=\"\",\"\",UPPER(Sheet1!G20)&\" \"&PROPER(Sheet1!H20)&\"(\"&Sheet1!I20&\")\"))","v":""},{"$f":"IF(Sheet1!J20=\"\",\"\",IF(Sheet1!J20=\"女\",2,1))","v":""},{"$f":"IF(Sheet1!K20=\"\",\"\",VLOOKUP(Sheet1!K20,Sheet2!$F$2:$G$50,2,FALSE))","v":""},{"$f":"IF(Sheet1!L20=\"\",\"\",(Sheet1!L20))","v":""},{"$f":"IF(B7=\"\",\"\",VALUE(LEFT(Sheet1!E$4,6)))","v":""},{"$f":"IF(Sheet1!B20=\"\",\"\",VALUE(Sheet1!B20))","v":""},{"$f":"IF(Sheet1!M20=\"\",\"\",IF(VLOOKUP(Sheet1!M20,Sheet2!$A$2:$C$44,3,FALSE)>=71,VLOOKUP(Sheet1!M20,Sheet2!$A$2:$C$44,2,FALSE)&TEXT(Sheet1!O20,\"00\")&TEXT(Sheet1!P20,\"00\"),VLOOKUP(Sheet1!M20,Sheet2!$A$2:$C$44,2,FALSE)&TEXT(Sheet1!N20,\"00\")&TEXT(Sheet1!O20,\"00\")&IF(Sheet1!Q20=\"手\",TEXT(Sheet1!P20,\"0\"),TEXT(Sheet1!P20,\"00\"))))","v":""},{"$f":"IF(Sheet1!R20=\"\",\"\",IF(VLOOKUP(Sheet1!R20,Sheet2!$A$2:$C$44,3,FALSE)>=71,VLOOKUP(Sheet1!R20,Sheet2!$A$2:$C$44,2,FALSE)&TEXT(Sheet1!T20,\"00\")&TEXT(Sheet1!U20,\"00\"),VLOOKUP(Sheet1!R20,Sheet2!$A$2:$C$44,2,FALSE)&TEXT(Sheet1!S20,\"00\")&TEXT(Sheet1!T20,\"00\")&IF(Sheet1!V20=\"手\",TEXT(Sheet1!U20,\"0\"),TEXT(Sheet1!U20,\"00\"))))","v":""},{"$f":"IF(Sheet1!W20=\"\",\"\",IF(VLOOKUP(Sheet1!W20,Sheet2!$A$2:$C$44,3,FALSE)>=71,VLOOKUP(Sheet1!W20,Sheet2!$A$2:$C$44,2,FALSE)&TEXT(Sheet1!Y20,\"00\")&TEXT(Sheet1!Z20,\"00\"),VLOOKUP(Sheet1!W20,Sheet2!$A$2:$C$44,2,FALSE)&TEXT(Sheet1!X20,\"00\")&TEXT(Sheet1!Y20,\"00\")&IF(Sheet1!AA20=\"手\",TEXT(Sheet1!Z20,\"0\"),TEXT(Sheet1!Z20,\"00\"))))","v":""},{"$f":"IF(Sheet1!AD20=\"\",\"\",\"●\")","v":""},{"$f":"IF(Sheet1!AE20=\"\",\"\",\"▲\")","v":""},{"$f":"IF(Sheet1!AF20=\"\",\"\",\"★\")","v":""},{"$f":"IF(Sheet1!AG20=\"\",\"\",\"▼\")","v":""}]
["",{"$f":"ASC(IF(Sheet1!C21=\"\",\"\",IF(LEN(Sheet1!C21)+LEN(Sheet1!D21)=2,Sheet1!C21&\"      \"&Sheet1!D21&\"(\"&Sheet1!I21&\")\",IF(LEN(Sheet1!C21)+LEN(Sheet1!D21)=3,Sheet1!C21&\"    \"&Sheet1!D21&\"(\"&Sheet1!I21&\")\",IF(LEN(Sheet1!C21)+LEN(Sheet1!D21)=4,Sheet1!C21&\"  \"&Sheet1!D21&\"(\"&Sheet1!I21&\")\",IF(LEN(Sheet1!C21)+LEN(Sheet1!D21)>=5,Sheet1!C21&Sheet1!D21&\"(\"&Sheet1!I21&\")\",\"\"))))))","v":""},{"$f":"ASC(IF(Sheet1!E21=\"\",\"\",Sheet1!E21&\" \"&Sheet1!F21))","v":""},{"$f":"ASC(IF(Sheet1!G21=\"\",\"\",UPPER(Sheet1!G21)&\" \"&PROPER(Sheet1!H21)&\"(\"&Sheet1!I21&\")\"))","v":""},{"$f":"IF(Sheet1!J21=\"\",\"\",IF(Sheet1!J21=\"女\",2,1))","v":""},{"$f":"IF(Sheet1!K21=\"\",\"\",VLOOKUP(Sheet1!K21,Sheet2!$F$2:$G$50,2,FALSE))","v":""},{"$f":"IF(Sheet1!L21=\"\",\"\",(Sheet1!L21))","v":""},{"$f":"IF(B8=\"\",\"\",VALUE(LEFT(Sheet1!E$4,6)))","v":""},{"$f":"IF(Sheet1!B21=\"\",\"\",VALUE(Sheet1!B21))","v":""},{"$f":"IF(Sheet1!M21=\"\",\"\",IF(VLOOKUP(Sheet1!M21,Sheet2!$A$2:$C$44,3,FALSE)>=71,VLOOKUP(Sheet1!M21,Sheet2!$A$2:$C$44,2,FALSE)&TEXT(Sheet1!O21,\"00\")&TEXT(Sheet1!P21,\"00\"),VLOOKUP(Sheet1!M21,Sheet2!$A$2:$C$44,2,FALSE)&TEXT(Sheet1!N21,\"00\")&TEXT(Sheet1!O21,\"00\")&IF(Sheet1!Q21=\"手\",TEXT(Sheet1!P21,\"0\"),TEXT(Sheet1!P21,\"00\"))))","v":""},{"$f":"IF(Sheet1!R21=\"\",\"\",IF(VLOOKUP(Sheet1!R21,Sheet2!$A$2:$C$44,3,FALSE)>=71,VLOOKUP(Sheet1!R21,Sheet2!$A$2:$C$44,2,FALSE)&TEXT(Sheet1!T21,\"00\")&TEXT(Sheet1!U21,\"00\"),VLOOKUP(Sheet1!R21,Sheet2!$A$2:$C$44,2,FALSE)&TEXT(Sheet1!S21,\"00\")&TEXT(Sheet1!T21,\"00\")&IF(Sheet1!V21=\"手\",TEXT(Sheet1!U21,\"0\"),TEXT(Sheet1!U21,\"00\"))))","v":""},{"$f":"IF(Sheet1!W21=\"\",\"\",IF(VLOOKUP(Sheet1!W21,Sheet2!$A$2:$C$44,3,FALSE)>=71,VLOOKUP(Sheet1!W21,Sheet2!$A$2:$C$44,2,FALSE)&TEXT(Sheet1!Y21,\"00\")&TEXT(Sheet1!Z21,\"00\"),VLOOKUP(Sheet1!W21,Sheet2!$A$2:$C$44,2,FALSE)&TEXT(Sheet1!X21,\"00\")&TEXT(Sheet1!Y21,\"00\")&IF(Sheet1!AA21=\"手\",TEXT(Sheet1!Z21,\"0\"),TEXT(Sheet1!Z21,\"00\"))))","v":""},{"$f":"IF(Sheet1!AD21=\"\",\"\",\"●\")","v":""},{"$f":"IF(Sheet1!AE21=\"\",\"\",\"▲\")","v":""},{"$f":"IF(Sheet1!AF21=\"\",\"\",\"★\")","v":""},{"$f":"IF(Sheet1!AG21=\"\",\"\",\"▼\")","v":""}]
["",{"$f":"ASC(IF(Sheet1!C22=\"\",\"\",IF(LEN(Sheet1!C22)+LEN(Sheet1!D22)=2,Sheet1!C22&\"      \"&Sheet1!D22&\"(\"&Sheet1!I22&\")\",IF(LEN(Sheet1!C22)+LEN(Sheet1!D22)=3,Sheet1!C22&\"    \"&Sheet1!D22&\"(\"&Sheet1!I22&\")\",IF(LEN(Sheet1!C22)+LEN(Sheet1!D22)=4,Sheet1!C22&\"  \"&Sheet1!D22&\"(\"&Sheet1!I22&\")\",IF(LEN(Sheet1!C22)+LEN(Sheet1!D22)>=5,Sheet1!C22&Sheet1!D22&\"(\"&Sheet1!I22&\")\",\"\"))))))","v":""},{"$f":"ASC(IF(Sheet1!E22=\"\",\"\",Sheet1!E22&\" \"&Sheet1!F22))","v":""},{"$f":"ASC(IF(Sheet1!G22=\"\",\"\",UPPER(Sheet1!G22)&\" \"&PROPER(Sheet1!H22)&\"(\"&Sheet1!I22&\")\"))","v":""},{"$f":"IF(Sheet1!J22=\"\",\"\",IF(Sheet1!J22=\"女\",2,1))","v":""},{"$f":"IF(Sheet1!K22=\"\",\"\",VLOOKUP(Sheet1!K22,Sheet2!$F$2:$G$50,2,FALSE))","v":""},{"$f":"IF(Sheet1!L22=\"\",\"\",(Sheet1!L22))","v":""},{"$f":"IF(B9=\"\",\"\",VALUE(LEFT(Sheet1!E$4,6)))","v":""},{"$f":"IF(Sheet1!B22=\"\",\"\",VALUE(Sheet1!B22))","v":""},{"$f":"IF(Sheet1!M22=\"\",\"\",IF(VLOOKUP(Sheet1!M22,Sheet2!$A$2:$C$44,3,FALSE)>=71,VLOOKUP(Sheet1!M22,Sheet2!$A$2:$C$44,2,FALSE)&TEXT(Sheet1!O22,\"00\")&TEXT(Sheet1!P22,\"00\"),VLOOKUP(Sheet1!M22,Sheet2!$A$2:$C$44,2,FALSE)&TEXT(Sheet1!N22,\"00\")&TEXT(Sheet1!O22,\"00\")&IF(Sheet1!Q22=\"手\",TEXT(Sheet1!P22,\"0\"),TEXT(Sheet1!P22,\"00\"))))","v":""},{"$f":"IF(Sheet1!R22=\"\",\"\",IF(VLOOKUP(Sheet1!R22,Sheet2!$A$2:$C$44,3,FALSE)>=71,VLOOKUP(Sheet1!R22,Sheet2!$A$2:$C$44,2,FALSE)&TEXT(Sheet1!T22,\"00\")&TEXT(Sheet1!U22,\"00\"),VLOOKUP(Sheet1!R22,Sheet2!$A$2:$C$44,2,FALSE)&TEXT(Sheet1!S22,\"00\")&TEXT(Sheet1!T22,\"00\")&IF(Sheet1!V22=\"手\",TEXT(Sheet1!U22,\"0\"),TEXT(Sheet1!U22,\"00\"))))","v":""},{"$f":"IF(Sheet1!W22=\"\",\"\",IF(VLOOKUP(Sheet1!W22,Sheet2!$A$2:$C$44,3,FALSE)>=71,VLOOKUP(Sheet1!W22,Sheet2!$A$2:$C$44,2,FALSE)&TEXT(Sheet1!Y22,\"00\")&TEXT(Sheet1!Z22,\"00\"),VLOOKUP(Sheet1!W22,Sheet2!$A$2:$C$44,2,FALSE)&TEXT(Sheet1!X22,\"00\")&TEXT(Sheet1!Y22,\"00\")&IF(Sheet1!AA22=\"手\",TEXT(Sheet1!Z22,\"0\"),TEXT(Sheet1!Z22,\"00\"))))","v":""},{"$f":"IF(Sheet1!AD22=\"\",\"\",\"●\")","v":""},{"$f":"IF(Sheet1!AE22=\"\",\"\",\"▲\")","v":""},{"$f":"IF(Sheet1!AF22=\"\",\"\",\"★\")","v":""},{"$f":"IF(Sheet1!AG22=\"\",\"\",\"▼\")","v":""}]
["",{"$f":"ASC(IF(Sheet1!C23=\"\",\"\",IF(LEN(Sheet1!C23)+LEN(Sheet1!D23)=2,Sheet1!C23&\"      \"&Sheet1!D23&\"(\"&Sheet1!I23&\")\",IF(LEN(Sheet1!C23)+LEN(Sheet1!D23)=3,Sheet1!C23&\"    \"&Sheet1!D23&\"(\"&Sheet1!I23&\")\",IF(LEN(Sheet1!C23)+LEN(Sheet1!D23)=4,Sheet1!C23&\"  \"&Sheet1!D23&\"(\"&Sheet1!I23&\")\",IF(LEN(Sheet1!C23)+LEN(Sheet1!D23)>=5,Sheet1!C23&Sheet1!D23&\"(\"&Sheet1!I23&\")\",\"\"))))))","v":""},{"$f":"ASC(IF(Sheet1!E23=\"\",\"\",Sheet1!E23&\" \"&Sheet1!F23))","v":""},{"$f":"ASC(IF(Sheet1!G23=\"\",\"\",UPPER(Sheet1!G23)&\" \"&PROPER(Sheet1!H23)&\"(\"&Sheet1!I23&\")\"))","v":""},{"$f":"IF(Sheet1!J23=\"\",\"\",IF(Sheet1!J23=\"女\",2,1))","v":""},{"$f":"IF(Sheet1!K23=\"\",\"\",VLOOKUP(Sheet1!K23,Sheet2!$F$2:$G$50,2,FALSE))","v":""},{"$f":"IF(Sheet1!L23=\"\",\"\",(Sheet1!L23))","v":""},{"$f":"IF(B10=\"\",\"\",VALUE(LEFT(Sheet1!E$4,6)))","v":""},{"$f":"IF(Sheet1!B23=\"\",\"\",VALUE(Sheet1!B23))","v":""},{"$f":"IF(Sheet1!M23=\"\",\"\",IF(VLOOKUP(Sheet1!M23,Sheet2!$A$2:$C$44,3,FALSE)>=71,VLOOKUP(Sheet1!M23,Sheet2!$A$2:$C$44,2,FALSE)&TEXT(Sheet1!O23,\"00\")&TEXT(Sheet1!P23,\"00\"),VLOOKUP(Sheet1!M23,Sheet2!$A$2:$C$44,2,FALSE)&TEXT(Sheet1!N23,\"00\")&TEXT(Sheet1!O23,\"00\")&IF(Sheet1!Q23=\"手\",TEXT(Sheet1!P23,\"0\"),TEXT(Sheet1!P23,\"00\"))))","v":""},{"$f":"IF(Sheet1!R23=\"\",\"\",IF(VLOOKUP(Sheet1!R23,Sheet2!$A$2:$C$44,3,FALSE)>=71,VLOOKUP(Sheet1!R23,Sheet2!$A$2:$C$44,2,FALSE)&TEXT(Sheet1!T23,\"00\")&TEXT(Sheet1!U23,\"00\"),VLOOKUP(Sheet1!R23,Sheet2!$A$2:$C$44,2,FALSE)&TEXT(Sheet1!S23,\"00\")&TEXT(Sheet1!T23,\"00\")&IF(Sheet1!V23=\"手\",TEXT(Sheet1!U23,\"0\"),TEXT(Sheet1!U23,\"00\"))))","v":""},{"$f":"IF(Sheet1!W23=\"\",\"\",IF(VLOOKUP(Sheet1!W23,Sheet2!$A$2:$C$44,3,FALSE)>=71,VLOOKUP(Sheet1!W23,Sheet2!$A$2:$C$44,2,FALSE)&TEXT(Sheet1!Y23,\"00\")&TEXT(Sheet1!Z23,\"00\"),VLOOKUP(Sheet1!W23,Sheet2!$A$2:$C$44,2,FALSE)&TEXT(Sheet1!X23,\"00\")&TEXT(Sheet1!Y23,\"00\")&IF(Sheet1!AA23=\"手\",TEXT(Sheet1!Z23,\"0\"),TEXT(Sheet1!Z23,\"00\"))))","v":""},{"$f":"IF(Sheet1!AD23=\"\",\"\",\"●\")","v":""},{"$f":"IF(Sheet1!AE23=\"\",\"\",\"▲\")","v":""},{"$f":"IF(Sheet1!AF23=\"\",\"\",\"★\")","v":""},{"$f":"IF(Sheet1!AG23=\"\",\"\",\"▼\")","v":""}]
["",{"$f":"ASC(IF(Sheet1!C24=\"\",\"\",IF(LEN(Sheet1!C24)+LEN(Sheet1!D24)=2,Sheet1!C24&\"      \"&Sheet1!D24&\"(\"&Sheet1!I24&\")\",IF(LEN(Sheet1!C24)+LEN(Sheet1!D24)=3,Sheet1!C24&\"    \"&Sheet1!D24&\"(\"&Sheet1!I24&\")\",IF(LEN(Sheet1!C24)+LEN(Sheet1!D24)=4,Sheet1!C24&\"  \"&Sheet1!D24&\"(\"&Sheet1!I24&\")\",IF(LEN(Sheet1!C24)+LEN(Sheet1!D24)>=5,Sheet1!C24&Sheet1!D24&\"(\"&Sheet1!I24&\")\",\"\"))))))","v":""},{"$f":"ASC(IF(Sheet1!E24=\"\",\"\",Sheet1!E24&\" \"&Sheet1!F24))","v":""},{"$f":"ASC(IF(Sheet1!G24=\"\",\"\",UPPER(Sheet1!G24)&\" \"&PROPER(Sheet1!H24)&\"(\"&Sheet1!I24&\")\"))","v":""},{"$f":"IF(Sheet1!J24=\"\",\"\",IF(Sheet1!J24=\"女\",2,1))","v":""},{"$f":"IF(Sheet1!K24=\"\",\"\",VLOOKUP(Sheet1!K24,Sheet2!$F$2:$G$50,2,FALSE))","v":""},{"$f":"IF(Sheet1!L24=\"\",\"\",(Sheet1!L24))","v":""},{"$f":"IF(B11=\"\",\"\",VALUE(LEFT(Sheet1!E$4,6)))","v":""},{"$f":"IF(Sheet1!B24=\"\",\"\",VALUE(Sheet1!B24))","v":""},{"$f":"IF(Sheet1!M24=\"\",\"\",IF(VLOOKUP(Sheet1!M24,Sheet2!$A$2:$C$44,3,FALSE)>=71,VLOOKUP(Sheet1!M24,Sheet2!$A$2:$C$44,2,FALSE)&TEXT(Sheet1!O24,\"00\")&TEXT(Sheet1!P24,\"00\"),VLOOKUP(Sheet1!M24,Sheet2!$A$2:$C$44,2,FALSE)&TEXT(Sheet1!N24,\"00\")&TEXT(Sheet1!O24,\"00\")&IF(Sheet1!Q24=\"手\",TEXT(Sheet1!P24,\"0\"),TEXT(Sheet1!P24,\"00\"))))","v":""},{"$f":"IF(Sheet1!R24=\"\",\"\",IF(VLOOKUP(Sheet1!R24,Sheet2!$A$2:$C$44,3,FALSE)>=71,VLOOKUP(Sheet1!R24,Sheet2!$A$2:$C$44,2,FALSE)&TEXT(Sheet1!T24,\"00\")&TEXT(Sheet1!U24,\"00\"),VLOOKUP(Sheet1!R24,Sheet2!$A$2:$C$44,2,FALSE)&TEXT(Sheet1!S24,\"00\")&TEXT(Sheet1!T24,\"00\")&IF(Sheet1!V24=\"手\",TEXT(Sheet1!U24,\"0\"),TEXT(Sheet1!U24,\"00\"))))","v":""},{"$f":"IF(Sheet1!W24=\"\",\"\",IF(VLOOKUP(Sheet1!W24,Sheet2!$A$2:$C$44,3,FALSE)>=71,VLOOKUP(Sheet1!W24,Sheet2!$A$2:$C$44,2,FALSE)&TEXT(Sheet1!Y24,\"00\")&TEXT(Sheet1!Z24,\"00\"),VLOOKUP(Sheet1!W24,Sheet2!$A$2:$C$44,2,FALSE)&TEXT(Sheet1!X24,\"00\")&TEXT(Sheet1!Y24,\"00\")&IF(Sheet1!AA24=\"手\",TEXT(Sheet1!Z24,\"0\"),TEXT(Sheet1!Z24,\"00\"))))","v":""},{"$f":"IF(Sheet1!AD24=\"\",\"\",\"●\")","v":""},{"$f":"IF(Sheet1!AE24=\"\",\"\",\"▲\")","v":""},{"$f":"IF(Sheet1!AF24=\"\",\"\",\"★\")","v":""},{"$f":"IF(Sheet1!AG24=\"\",\"\",\"▼\")","v":""}]
["",{"$f":"ASC(IF(Sheet1!C25=\"\",\"\",IF(LEN(Sheet1!C25)+LEN(Sheet1!D25)=2,Sheet1!C25&\"      \"&Sheet1!D25&\"(\"&Sheet1!I25&\")\",IF(LEN(Sheet1!C25)+LEN(Sheet1!D25)=3,Sheet1!C25&\"    \"&Sheet1!D25&\"(\"&Sheet1!I25&\")\",IF(LEN(Sheet1!C25)+LEN(Sheet1!D25)=4,Sheet1!C25&\"  \"&Sheet1!D25&\"(\"&Sheet1!I25&\")\",IF(LEN(Sheet1!C25)+LEN(Sheet1!D25)>=5,Sheet1!C25&Sheet1!D25&\"(\"&Sheet1!I25&\")\",\"\"))))))","v":""},{"$f":"ASC(IF(Sheet1!E25=\"\",\"\",Sheet1!E25&\" \"&Sheet1!F25))","v":""},{"$f":"ASC(IF(Sheet1!G25=\"\",\"\",UPPER(Sheet1!G25)&\" \"&PROPER(Sheet1!H25)&\"(\"&Sheet1!I25&\")\"))","v":""},{"$f":"IF(Sheet1!J25=\"\",\"\",IF(Sheet1!J25=\"女\",2,1))","v":""},{"$f":"IF(Sheet1!K25=\"\",\"\",VLOOKUP(Sheet1!K25,Sheet2!$F$2:$G$50,2,FALSE))","v":""},{"$f":"IF(Sheet1!L25=\"\",\"\",(Sheet1!L25))","v":""},{"$f":"IF(B12=\"\",\"\",VALUE(LEFT(Sheet1!E$4,6)))","v":""},{"$f":"IF(Sheet1!B25=\"\",\"\",VALUE(Sheet1!B25))","v":""},{"$f":"IF(Sheet1!M25=\"\",\"\",IF(VLOOKUP(Sheet1!M25,Sheet2!$A$2:$C$44,3,FALSE)>=71,VLOOKUP(Sheet1!M25,Sheet2!$A$2:$C$44,2,FALSE)&TEXT(Sheet1!O25,\"00\")&TEXT(Sheet1!P25,\"00\"),VLOOKUP(Sheet1!M25,Sheet2!$A$2:$C$44,2,FALSE)&TEXT(Sheet1!N25,\"00\")&TEXT(Sheet1!O25,\"00\")&IF(Sheet1!Q25=\"手\",TEXT(Sheet1!P25,\"0\"),TEXT(Sheet1!P25,\"00\"))))","v":""},{"$f":"IF(Sheet1!R25=\"\",\"\",IF(VLOOKUP(Sheet1!R25,Sheet2!$A$2:$C$44,3,FALSE)>=71,VLOOKUP(Sheet1!R25,Sheet2!$A$2:$C$44,2,FALSE)&TEXT(Sheet1!T25,\"00\")&TEXT(Sheet1!U25,\"00\"),VLOOKUP(Sheet1!R25,Sheet2!$A$2:$C$44,2,FALSE)&TEXT(Sheet1!S25,\"00\")&TEXT(Sheet1!T25,\"00\")&IF(Sheet1!V25=\"手\",TEXT(Sheet1!U25,\"0\"),TEXT(Sheet1!U25,\"00\"))))","v":""},{"$f":"IF(Sheet1!W25=\"\",\"\",IF(VLOOKUP(Sheet1!W25,Sheet2!$A$2:$C$44,3,FALSE)>=71,VLOOKUP(Sheet1!W25,Sheet2!$A$2:$C$44,2,FALSE)&TEXT(Sheet1!Y25,\"00\")&TEXT(Sheet1!Z25,\"00\"),VLOOKUP(Sheet1!W25,Sheet2!$A$2:$C$44,2,FALSE)&TEXT(Sheet1!X25,\"00\")&TEXT(Sheet1!Y25,\"00\")&IF(Sheet1!AA25=\"手\",TEXT(Sheet1!Z25,\"0\"),TEXT(Sheet1!Z25,\"00\"))))","v":""},{"$f":"IF(Sheet1!AD25=\"\",\"\",\"●\")","v":""},{"$f":"IF(Sheet1!AE25=\"\",\"\",\"▲\")","v":""},{"$f":"IF(Sheet1!AF25=\"\",\"\",\"★\")","v":""},{"$f":"IF(Sheet1!AG25=\"\",\"\",\"▼\")","v":""}]
["",{"$f":"ASC(IF(Sheet1!C26=\"\",\"\",IF(LEN(Sheet1!C26)+LEN(Sheet1!D26)=2,Sheet1!C26&\"      \"&Sheet1!D26&\"(\"&Sheet1!I26&\")\",IF(LEN(Sheet1!C26)+LEN(Sheet1!D26)=3,Sheet1!C26&\"    \"&Sheet1!D26&\"(\"&Sheet1!I26&\")\",IF(LEN(Sheet1!C26)+LEN(Sheet1!D26)=4,Sheet1!C26&\"  \"&Sheet1!D26&\"(\"&Sheet1!I26&\")\",IF(LEN(Sheet1!C26)+LEN(Sheet1!D26)>=5,Sheet1!C26&Sheet1!D26&\"(\"&Sheet1!I26&\")\",\"\"))))))","v":""},{"$f":"ASC(IF(Sheet1!E26=\"\",\"\",Sheet1!E26&\" \"&Sheet1!F26))","v":""},{"$f":"ASC(IF(Sheet1!G26=\"\",\"\",UPPER(Sheet1!G26)&\" \"&PROPER(Sheet1!H26)&\"(\"&Sheet1!I26&\")\"))","v":""},{"$f":"IF(Sheet1!J26=\"\",\"\",IF(Sheet1!J26=\"女\",2,1))","v":""},{"$f":"IF(Sheet1!K26=\"\",\"\",VLOOKUP(Sheet1!K26,Sheet2!$F$2:$G$50,2,FALSE))","v":""},{"$f":"IF(Sheet1!L26=\"\",\"\",(Sheet1!L26))","v":""},{"$f":"IF(B13=\"\",\"\",VALUE(LEFT(Sheet1!E$4,6)))","v":""},{"$f":"IF(Sheet1!B26=\"\",\"\",VALUE(Sheet1!B26))","v":""},{"$f":"IF(Sheet1!M26=\"\",\"\",IF(VLOOKUP(Sheet1!M26,Sheet2!$A$2:$C$44,3,FALSE)>=71,VLOOKUP(Sheet1!M26,Sheet2!$A$2:$C$44,2,FALSE)&TEXT(Sheet1!O26,\"00\")&TEXT(Sheet1!P26,\"00\"),VLOOKUP(Sheet1!M26,Sheet2!$A$2:$C$44,2,FALSE)&TEXT(Sheet1!N26,\"00\")&TEXT(Sheet1!O26,\"00\")&IF(Sheet1!Q26=\"手\",TEXT(Sheet1!P26,\"0\"),TEXT(Sheet1!P26,\"00\"))))","v":""},{"$f":"IF(Sheet1!R26=\"\",\"\",IF(VLOOKUP(Sheet1!R26,Sheet2!$A$2:$C$44,3,FALSE)>=71,VLOOKUP(Sheet1!R26,Sheet2!$A$2:$C$44,2,FALSE)&TEXT(Sheet1!T26,\"00\")&TEXT(Sheet1!U26,\"00\"),VLOOKUP(Sheet1!R26,Sheet2!$A$2:$C$44,2,FALSE)&TEXT(Sheet1!S26,\"00\")&TEXT(Sheet1!T26,\"00\")&IF(Sheet1!V26=\"手\",TEXT(Sheet1!U26,\"0\"),TEXT(Sheet1!U26,\"00\"))))","v":""},{"$f":"IF(Sheet1!W26=\"\",\"\",IF(VLOOKUP(Sheet1!W26,Sheet2!$A$2:$C$44,3,FALSE)>=71,VLOOKUP(Sheet1!W26,Sheet2!$A$2:$C$44,2,FALSE)&TEXT(Sheet1!Y26,\"00\")&TEXT(Sheet1!Z26,\"00\"),VLOOKUP(Sheet1!W26,Sheet2!$A$2:$C$44,2,FALSE)&TEXT(Sheet1!X26,\"00\")&TEXT(Sheet1!Y26,\"00\")&IF(Sheet1!AA26=\"手\",TEXT(Sheet1!Z26,\"0\"),TEXT(Sheet1!Z26,\"00\"))))","v":""},{"$f":"IF(Sheet1!AD26=\"\",\"\",\"●\")","v":""},{"$f":"IF(Sheet1!AE26=\"\",\"\",\"▲\")","v":""},{"$f":"IF(Sheet1!AF26=\"\",\"\",\"★\")","v":""},{"$f":"IF(Sheet1!AG26=\"\",\"\",\"▼\")","v":""}]
["",{"$f":"ASC(IF(Sheet1!C27=\"\",\"\",IF(LEN(Sheet1!C27)+LEN(Sheet1!D27)=2,Sheet1!C27&\"      \"&Sheet1!D27&\"(\"&Sheet1!I27&\")\",IF(LEN(Sheet1!C27)+LEN(Sheet1!D27)=3,Sheet1!C27&\"    \"&Sheet1!D27&\"(\"&Sheet1!I27&\")\",IF(LEN(Sheet1!C27)+LEN(Sheet1!D27)=4,Sheet1!C27&\"  \"&Sheet1!D27&\"(\"&Sheet1!I27&\")\",IF(LEN(Sheet1!C27)+LEN(Sheet1!D27)>=5,Sheet1!C27&Sheet1!D27&\"(\"&Sheet1!I27&\")\",\"\"))))))","v":""},{"$f":"ASC(IF(Sheet1!E27=\"\",\"\",Sheet1!E27&\" \"&Sheet1!F27))","v":""},{"$f":"ASC(IF(Sheet1!G27=\"\",\"\",UPPER(Sheet1!G27)&\" \"&PROPER(Sheet1!H27)&\"(\"&Sheet1!I27&\")\"))","v":""},{"$f":"IF(Sheet1!J27=\"\",\"\",IF(Sheet1!J27=\"女\",2,1))","v":""},{"$f":"IF(Sheet1!K27=\"\",\"\",VLOOKUP(Sheet1!K27,Sheet2!$F$2:$G$50,2,FALSE))","v":""},{"$f":"IF(Sheet1!L27=\"\",\"\",(Sheet1!L27))","v":""},{"$f":"IF(B14=\"\",\"\",VALUE(LEFT(Sheet1!E$4,6)))","v":""},{"$f":"IF(Sheet1!B27=\"\",\"\",VALUE(Sheet1!B27))","v":""},{"$f":"IF(Sheet1!M27=\"\",\"\",IF(VLOOKUP(Sheet1!M27,Sheet2!$A$2:$C$44,3,FALSE)>=71,VLOOKUP(Sheet1!M27,Sheet2!$A$2:$C$44,2,FALSE)&TEXT(Sheet1!O27,\"00\")&TEXT(Sheet1!P27,\"00\"),VLOOKUP(Sheet1!M27,Sheet2!$A$2:$C$44,2,FALSE)&TEXT(Sheet1!N27,\"00\")&TEXT(Sheet1!O27,\"00\")&IF(Sheet1!Q27=\"手\",TEXT(Sheet1!P27,\"0\"),TEXT(Sheet1!P27,\"00\"))))","v":""},{"$f":"IF(Sheet1!R27=\"\",\"\",IF(VLOOKUP(Sheet1!R27,Sheet2!$A$2:$C$44,3,FALSE)>=71,VLOOKUP(Sheet1!R27,Sheet2!$A$2:$C$44,2,FALSE)&TEXT(Sheet1!T27,\"00\")&TEXT(Sheet1!U27,\"00\"),VLOOKUP(Sheet1!R27,Sheet2!$A$2:$C$44,2,FALSE)&TEXT(Sheet1!S27,\"00\")&TEXT(Sheet1!T27,\"00\")&IF(Sheet1!V27=\"手\",TEXT(Sheet1!U27,\"0\"),TEXT(Sheet1!U27,\"00\"))))","v":""},{"$f":"IF(Sheet1!W27=\"\",\"\",IF(VLOOKUP(Sheet1!W27,Sheet2!$A$2:$C$44,3,FALSE)>=71,VLOOKUP(Sheet1!W27,Sheet2!$A$2:$C$44,2,FALSE)&TEXT(Sheet1!Y27,\"00\")&TEXT(Sheet1!Z27,\"00\"),VLOOKUP(Sheet1!W27,Sheet2!$A$2:$C$44,2,FALSE)&TEXT(Sheet1!X27,\"00\")&TEXT(Sheet1!Y27,\"00\")&IF(Sheet1!AA27=\"手\",TEXT(Sheet1!Z27,\"0\"),TEXT(Sheet1!Z27,\"00\"))))","v":""},{"$f":"IF(Sheet1!AD27=\"\",\"\",\"●\")","v":""},{"$f":"IF(Sheet1!AE27=\"\",\"\",\"▲\")","v":""},{"$f":"IF(Sheet1!AF27=\"\",\"\",\"★\")","v":""},{"$f":"IF(Sheet1!AG27=\"\",\"\",\"▼\")","v":""}]
["",{"$f":"ASC(IF(Sheet1!C28=\"\",\"\",IF(LEN(Sheet1!C28)+LEN(Sheet1!D28)=2,Sheet1!C28&\"      \"&Sheet1!D28&\"(\"&Sheet1!I28&\")\",IF(LEN(Sheet1!C28)+LEN(Sheet1!D28)=3,Sheet1!C28&\"    \"&Sheet1!D28&\"(\"&Sheet1!I28&\")\",IF(LEN(Sheet1!C28)+LEN(Sheet1!D28)=4,Sheet1!C28&\"  \"&Sheet1!D28&\"(\"&Sheet1!I28&\")\",IF(LEN(Sheet1!C28)+LEN(Sheet1!D28)>=5,Sheet1!C28&Sheet1!D28&\"(\"&Sheet1!I28&\")\",\"\"))))))","v":""},{"$f":"ASC(IF(Sheet1!E28=\"\",\"\",Sheet1!E28&\" \"&Sheet1!F28))","v":""},{"$f":"ASC(IF(Sheet1!G28=\"\",\"\",UPPER(Sheet1!G28)&\" \"&PROPER(Sheet1!H28)&\"(\"&Sheet1!I28&\")\"))","v":""},{"$f":"IF(Sheet1!J28=\"\",\"\",IF(Sheet1!J28=\"女\",2,1))","v":""},{"$f":"IF(Sheet1!K28=\"\",\"\",VLOOKUP(Sheet1!K28,Sheet2!$F$2:$G$50,2,FALSE))","v":""},{"$f":"IF(Sheet1!L28=\"\",\"\",(Sheet1!L28))","v":""},{"$f":"IF(B15=\"\",\"\",VALUE(LEFT(Sheet1!E$4,6)))","v":""},{"$f":"IF(Sheet1!B28=\"\",\"\",VALUE(Sheet1!B28))","v":""},{"$f":"IF(Sheet1!M28=\"\",\"\",IF(VLOOKUP(Sheet1!M28,Sheet2!$A$2:$C$44,3,FALSE)>=71,VLOOKUP(Sheet1!M28,Sheet2!$A$2:$C$44,2,FALSE)&TEXT(Sheet1!O28,\"00\")&TEXT(Sheet1!P28,\"00\"),VLOOKUP(Sheet1!M28,Sheet2!$A$2:$C$44,2,FALSE)&TEXT(Sheet1!N28,\"00\")&TEXT(Sheet1!O28,\"00\")&IF(Sheet1!Q28=\"手\",TEXT(Sheet1!P28,\"0\"),TEXT(Sheet1!P28,\"00\"))))","v":""},{"$f":"IF(Sheet1!R28=\"\",\"\",IF(VLOOKUP(Sheet1!R28,Sheet2!$A$2:$C$44,3,FALSE)>=71,VLOOKUP(Sheet1!R28,Sheet2!$A$2:$C$44,2,FALSE)&TEXT(Sheet1!T28,\"00\")&TEXT(Sheet1!U28,\"00\"),VLOOKUP(Sheet1!R28,Sheet2!$A$2:$C$44,2,FALSE)&TEXT(Sheet1!S28,\"00\")&TEXT(Sheet1!T28,\"00\")&IF(Sheet1!V28=\"手\",TEXT(Sheet1!U28,\"0\"),TEXT(Sheet1!U28,\"00\"))))","v":""},{"$f":"IF(Sheet1!W28=\"\",\"\",IF(VLOOKUP(Sheet1!W28,Sheet2!$A$2:$C$44,3,FALSE)>=71,VLOOKUP(Sheet1!W28,Sheet2!$A$2:$C$44,2,FALSE)&TEXT(Sheet1!Y28,\"00\")&TEXT(Sheet1!Z28,\"00\"),VLOOKUP(Sheet1!W28,Sheet2!$A$2:$C$44,2,FALSE)&TEXT(Sheet1!X28,\"00\")&TEXT(Sheet1!Y28,\"00\")&IF(Sheet1!AA28=\"手\",TEXT(Sheet1!Z28,\"0\"),TEXT(Sheet1!Z28,\"00\"))))","v":""},{"$f":"IF(Sheet1!AD28=\"\",\"\",\"●\")","v":""},{"$f":"IF(Sheet1!AE28=\"\",\"\",\"▲\")","v":""},{"$f":"IF(Sheet1!AF28=\"\",\"\",\"★\")","v":""},{"$f":"IF(Sheet1!AG28=\"\",\"\",\"▼\")","v":""}]
["",{"$f":"ASC(IF(Sheet1!C29=\"\",\"\",IF(LEN(Sheet1!C29)+LEN(Sheet1!D29)=2,Sheet1!C29&\"      \"&Sheet1!D29&\"(\"&Sheet1!I29&\")\",IF(LEN(Sheet1!C29)+LEN(Sheet1!D29)=3,Sheet1!C29&\"    \"&Sheet1!D29&\"(\"&Sheet1!I29&\")\",IF(LEN(Sheet1!C29)+LEN(Sheet1!D29)=4,Sheet1!C29&\"  \"&Sheet1!D29&\"(\"&Sheet1!I29&\")\",IF(LEN(Sheet1!C29)+LEN(Sheet1!D29)>=5,Sheet1!C29&Sheet1!D29&\"(\"&Sheet1!I29&\")\",\"\"))))))","v":""},{"$f":"ASC(IF(Sheet1!E29=\"\",\"\",Sheet1!E29&\" \"&Sheet1!F29))","v":""},{"$f":"ASC(IF(Sheet1!G29=\"\",\"\",UPPER(Sheet1!G29)&\" \"&PROPER(Sheet1!H29)&\"(\"&Sheet1!I29&\")\"))","v":""},{"$f":"IF(Sheet1!J29=\"\",\"\",IF(Sheet1!J29=\"女\",2,1))","v":""},{"$f":"IF(Sheet1!K29=\"\",\"\",VLOOKUP(Sheet1!K29,Sheet2!$F$2:$G$50,2,FALSE))","v":""},{"$f":"IF(Sheet1!L29=\"\",\"\",(Sheet1!L29))","v":""},{"$f":"IF(B16=\"\",\"\",VALUE(LEFT(Sheet1!E$4,6)))","v":""},{"$f":"IF(Sheet1!B29=\"\",\"\",VALUE(Sheet1!B29))","v":""},{"$f":"IF(Sheet1!M29=\"\",\"\",IF(VLOOKUP(Sheet1!M29,Sheet2!$A$2:$C$44,3,FALSE)>=71,VLOOKUP(Sheet1!M29,Sheet2!$A$2:$C$44,2,FALSE)&TEXT(Sheet1!O29,\"00\")&TEXT(Sheet1!P29,\"00\"),VLOOKUP(Sheet1!M29,Sheet2!$A$2:$C$44,2,FALSE)&TEXT(Sheet1!N29,\"00\")&TEXT(Sheet1!O29,\"00\")&IF(Sheet1!Q29=\"手\",TEXT(Sheet1!P29,\"0\"),TEXT(Sheet1!P29,\"00\"))))","v":""},{"$f":"IF(Sheet1!R29=\"\",\"\",IF(VLOOKUP(Sheet1!R29,Sheet2!$A$2:$C$44,3,FALSE)>=71,VLOOKUP(Sheet1!R29,Sheet2!$A$2:$C$44,2,FALSE)&TEXT(Sheet1!T29,\"00\")&TEXT(Sheet1!U29,\"00\"),VLOOKUP(Sheet1!R29,Sheet2!$A$2:$C$44,2,FALSE)&TEXT(Sheet1!S29,\"00\")&TEXT(Sheet1!T29,\"00\")&IF(Sheet1!V29=\"手\",TEXT(Sheet1!U29,\"0\"),TEXT(Sheet1!U29,\"00\"))))","v":""},{"$f":"IF(Sheet1!W29=\"\",\"\",IF(VLOOKUP(Sheet1!W29,Sheet2!$A$2:$C$44,3,FALSE)>=71,VLOOKUP(Sheet1!W29,Sheet2!$A$2:$C$44,2,FALSE)&TEXT(Sheet1!Y29,\"00\")&TEXT(Sheet1!Z29,\"00\"),VLOOKUP(Sheet1!W29,Sheet2!$A$2:$C$44,2,FALSE)&TEXT(Sheet1!X29,\"00\")&TEXT(Sheet1!Y29,\"00\")&IF(Sheet1!AA29=\"手\",TEXT(Sheet1!Z29,\"0\"),TEXT(Sheet1!Z29,\"00\"))))","v":""},{"$f":"IF(Sheet1!AD29=\"\",\"\",\"●\")","v":""},{"$f":"IF(Sheet1!AE29=\"\",\"\",\"▲\")","v":""},{"$f":"IF(Sheet1!AF29=\"\",\"\",\"★\")","v":""},{"$f":"IF(Sheet1!AG29=\"\",\"\",\"▼\")","v":""}]
["",{"$f":"ASC(IF(Sheet1!C30=\"\",\"\",IF(LEN(Sheet1!C30)+LEN(Sheet1!D30)=2,Sheet1!C30&\"      \"&Sheet1!D30&\"(\"&Sheet1!I30&\")\",IF(LEN(Sheet1!C30)+LEN(Sheet1!D30)=3,Sheet1!C30&\"    \"&Sheet1!D30&\"(\"&Sheet1!I30&\")\",IF(LEN(Sheet1!C30)+LEN(Sheet1!D30)=4,Sheet1!C30&\"  \"&Sheet1!D30&\"(\"&Sheet1!I30&\")\",IF(LEN(Sheet1!C30)+LEN(Sheet1!D30)>=5,Sheet1!C30&Sheet1!D30&\"(\"&Sheet1!I30&\")\",\"\"))))))","v":""},{"$f":"ASC(IF(Sheet1!E30=\"\",\"\",Sheet1!E30&\" \"&Sheet1!F30))","v":""},{"$f":"ASC(IF(Sheet1!G30=\"\",\"\",UPPER(Sheet1!G30)&\" \"&PROPER(Sheet1!H30)&\"(\"&Sheet1!I30&\")\"))","v":""},{"$f":"IF(Sheet1!J30=\"\",\"\",IF(Sheet1!J30=\"女\",2,1))","v":""},{"$f":"IF(Sheet1!K30=\"\",\"\",VLOOKUP(Sheet1!K30,Sheet2!$F$2:$G$50,2,FALSE))","v":""},{"$f":"IF(Sheet1!L30=\"\",\"\",(Sheet1!L30))","v":""},{"$f":"IF(B17=\"\",\"\",VALUE(LEFT(Sheet1!E$4,6)))","v":""},{"$f":"IF(Sheet1!B30=\"\",\"\",VALUE(Sheet1!B30))","v":""},{"$f":"IF(Sheet1!M30=\"\",\"\",IF(VLOOKUP(Sheet1!M30,Sheet2!$A$2:$C$44,3,FALSE)>=71,VLOOKUP(Sheet1!M30,Sheet2!$A$2:$C$44,2,FALSE)&TEXT(Sheet1!O30,\"00\")&TEXT(Sheet1!P30,\"00\"),VLOOKUP(Sheet1!M30,Sheet2!$A$2:$C$44,2,FALSE)&TEXT(Sheet1!N30,\"00\")&TEXT(Sheet1!O30,\"00\")&IF(Sheet1!Q30=\"手\",TEXT(Sheet1!P30,\"0\"),TEXT(Sheet1!P30,\"00\"))))","v":""},{"$f":"IF(Sheet1!R30=\"\",\"\",IF(VLOOKUP(Sheet1!R30,Sheet2!$A$2:$C$44,3,FALSE)>=71,VLOOKUP(Sheet1!R30,Sheet2!$A$2:$C$44,2,FALSE)&TEXT(Sheet1!T30,\"00\")&TEXT(Sheet1!U30,\"00\"),VLOOKUP(Sheet1!R30,Sheet2!$A$2:$C$44,2,FALSE)&TEXT(Sheet1!S30,\"00\")&TEXT(Sheet1!T30,\"00\")&IF(Sheet1!V30=\"手\",TEXT(Sheet1!U30,\"0\"),TEXT(Sheet1!U30,\"00\"))))","v":""},{"$f":"IF(Sheet1!W30=\"\",\"\",IF(VLOOKUP(Sheet1!W30,Sheet2!$A$2:$C$44,3,FALSE)>=71,VLOOKUP(Sheet1!W30,Sheet2!$A$2:$C$44,2,FALSE)&TEXT(Sheet1!Y30,\"00\")&TEXT(Sheet1!Z30,\"00\"),VLOOKUP(Sheet1!W30,Sheet2!$A$2:$C$44,2,FALSE)&TEXT(Sheet1!X30,\"00\")&TEXT(Sheet1!Y30,\"00\")&IF(Sheet1!AA30=\"手\",TEXT(Sheet1!Z30,\"0\"),TEXT(Sheet1!Z30,\"00\"))))","v":""},{"$f":"IF(Sheet1!AD30=\"\",\"\",\"●\")","v":""},{"$f":"IF(Sheet1!AE30=\"\",\"\",\"▲\")","v":""},{"$f":"IF(Sheet1!AF30=\"\",\"\",\"★\")","v":""},{"$f":"IF(Sheet1!AG30=\"\",\"\",\"▼\")","v":""}]
["",{"$f":"ASC(IF(Sheet1!C31=\"\",\"\",IF(LEN(Sheet1!C31)+LEN(Sheet1!D31)=2,Sheet1!C31&\"      \"&Sheet1!D31&\"(\"&Sheet1!I31&\")\",IF(LEN(Sheet1!C31)+LEN(Sheet1!D31)=3,Sheet1!C31&\"    \"&Sheet1!D31&\"(\"&Sheet1!I31&\")\",IF(LEN(Sheet1!C31)+LEN(Sheet1!D31)=4,Sheet1!C31&\"  \"&Sheet1!D31&\"(\"&Sheet1!I31&\")\",IF(LEN(Sheet1!C31)+LEN(Sheet1!D31)>=5,Sheet1!C31&Sheet1!D31&\"(\"&Sheet1!I31&\")\",\"\"))))))","v":""},{"$f":"ASC(IF(Sheet1!E31=\"\",\"\",Sheet1!E31&\" \"&Sheet1!F31))","v":""},{"$f":"ASC(IF(Sheet1!G31=\"\",\"\",UPPER(Sheet1!G31)&\" \"&PROPER(Sheet1!H31)&\"(\"&Sheet1!I31&\")\"))","v":""},{"$f":"IF(Sheet1!J31=\"\",\"\",IF(Sheet1!J31=\"女\",2,1))","v":""},{"$f":"IF(Sheet1!K31=\"\",\"\",VLOOKUP(Sheet1!K31,Sheet2!$F$2:$G$50,2,FALSE))","v":""},{"$f":"IF(Sheet1!L31=\"\",\"\",(Sheet1!L31))","v":""},{"$f":"IF(B18=\"\",\"\",VALUE(LEFT(Sheet1!E$4,6)))","v":""},{"$f":"IF(Sheet1!B31=\"\",\"\",VALUE(Sheet1!B31))","v":""},{"$f":"IF(Sheet1!M31=\"\",\"\",IF(VLOOKUP(Sheet1!M31,Sheet2!$A$2:$C$44,3,FALSE)>=71,VLOOKUP(Sheet1!M31,Sheet2!$A$2:$C$44,2,FALSE)&TEXT(Sheet1!O31,\"00\")&TEXT(Sheet1!P31,\"00\"),VLOOKUP(Sheet1!M31,Sheet2!$A$2:$C$44,2,FALSE)&TEXT(Sheet1!N31,\"00\")&TEXT(Sheet1!O31,\"00\")&IF(Sheet1!Q31=\"手\",TEXT(Sheet1!P31,\"0\"),TEXT(Sheet1!P31,\"00\"))))","v":""},{"$f":"IF(Sheet1!R31=\"\",\"\",IF(VLOOKUP(Sheet1!R31,Sheet2!$A$2:$C$44,3,FALSE)>=71,VLOOKUP(Sheet1!R31,Sheet2!$A$2:$C$44,2,FALSE)&TEXT(Sheet1!T31,\"00\")&TEXT(Sheet1!U31,\"00\"),VLOOKUP(Sheet1!R31,Sheet2!$A$2:$C$44,2,FALSE)&TEXT(Sheet1!S31,\"00\")&TEXT(Sheet1!T31,\"00\")&IF(Sheet1!V31=\"手\",TEXT(Sheet1!U31,\"0\"),TEXT(Sheet1!U31,\"00\"))))","v":""},{"$f":"IF(Sheet1!W31=\"\",\"\",IF(VLOOKUP(Sheet1!W31,Sheet2!$A$2:$C$44,3,FALSE)>=71,VLOOKUP(Sheet1!W31,Sheet2!$A$2:$C$44,2,FALSE)&TEXT(Sheet1!Y31,\"00\")&TEXT(Sheet1!Z31,\"00\"),VLOOKUP(Sheet1!W31,Sheet2!$A$2:$C$44,2,FALSE)&TEXT(Sheet1!X31,\"00\")&TEXT(Sheet1!Y31,\"00\")&IF(Sheet1!AA31=\"手\",TEXT(Sheet1!Z31,\"0\"),TEXT(Sheet1!Z31,\"00\"))))","v":""},{"$f":"IF(Sheet1!AD31=\"\",\"\",\"●\")","v":""},{"$f":"IF(Sheet1!AE31=\"\",\"\",\"▲\")","v":""},{"$f":"IF(Sheet1!AF31=\"\",\"\",\"★\")","v":""},{"$f":"IF(Sheet1!AG31=\"\",\"\",\"▼\")","v":""}]
["",{"$f":"ASC(IF(Sheet1!C32=\"\",\"\",IF(LEN(Sheet1!C32)+LEN(Sheet1!D32)=2,Sheet1!C32&\"      \"&Sheet1!D32&\"(\"&Sheet1!I32&\")\",IF(LEN(Sheet1!C32)+LEN(Sheet1!D32)=3,Sheet1!C32&\"    \"&Sheet1!D32&\"(\"&Sheet1!I32&\")\",IF(LEN(Sheet1!C32)+LEN(Sheet1!D32)=4,Sheet1!C32&\"  \"&Sheet1!D32&\"(\"&Sheet1!I32&\")\",IF(LEN(Sheet1!C32)+LEN(Sheet1!D32)>=5,Sheet1!C32&Sheet1!D32&\"(\"&Sheet1!I32&\")\",\"\"))))))","v":""},{"$f":"ASC(IF(Sheet1!E32=\"\",\"\",Sheet1!E32&\" \"&Sheet1!F32))","v":""},{"$f":"ASC(IF(Sheet1!G32=\"\",\"\",UPPER(Sheet1!G32)&\" \"&PROPER(Sheet1!H32)&\"(\"&Sheet1!I32&\")\"))","v":""},{"$f":"IF(Sheet1!J32=\"\",\"\",IF(Sheet1!J32=\"女\",2,1))","v":""},{"$f":"IF(Sheet1!K32=\"\",\"\",VLOOKUP(Sheet1!K32,Sheet2!$F$2:$G$50,2,FALSE))","v":""},{"$f":"IF(Sheet1!L32=\"\",\"\",(Sheet1!L32))","v":""},{"$f":"IF(B19=\"\",\"\",VALUE(LEFT(Sheet1!E$4,6)))","v":""},{"$f":"IF(Sheet1!B32=\"\",\"\",VALUE(Sheet1!B32))","v":""},{"$f":"IF(Sheet1!M32=\"\",\"\",IF(VLOOKUP(Sheet1!M32,Sheet2!$A$2:$C$44,3,FALSE)>=71,VLOOKUP(Sheet1!M32,Sheet2!$A$2:$C$44,2,FALSE)&TEXT(Sheet1!O32,\"00\")&TEXT(Sheet1!P32,\"00\"),VLOOKUP(Sheet1!M32,Sheet2!$A$2:$C$44,2,FALSE)&TEXT(Sheet1!N32,\"00\")&TEXT(Sheet1!O32,\"00\")&IF(Sheet1!Q32=\"手\",TEXT(Sheet1!P32,\"0\"),TEXT(Sheet1!P32,\"00\"))))","v":""},{"$f":"IF(Sheet1!R32=\"\",\"\",IF(VLOOKUP(Sheet1!R32,Sheet2!$A$2:$C$44,3,FALSE)>=71,VLOOKUP(Sheet1!R32,Sheet2!$A$2:$C$44,2,FALSE)&TEXT(Sheet1!T32,\"00\")&TEXT(Sheet1!U32,\"00\"),VLOOKUP(Sheet1!R32,Sheet2!$A$2:$C$44,2,FALSE)&TEXT(Sheet1!S32,\"00\")&TEXT(Sheet1!T32,\"00\")&IF(Sheet1!V32=\"手\",TEXT(Sheet1!U32,\"0\"),TEXT(Sheet1!U32,\"00\"))))","v":""},{"$f":"IF(Sheet1!W32=\"\",\"\",IF(VLOOKUP(Sheet1!W32,Sheet2!$A$2:$C$44,3,FALSE)>=71,VLOOKUP(Sheet1!W32,Sheet2!$A$2:$C$44,2,FALSE)&TEXT(Sheet1!Y32,\"00\")&TEXT(Sheet1!Z32,\"00\"),VLOOKUP(Sheet1!W32,Sheet2!$A$2:$C$44,2,FALSE)&TEXT(Sheet1!X32,\"00\")&TEXT(Sheet1!Y32,\"00\")&IF(Sheet1!AA32=\"手\",TEXT(Sheet1!Z32,\"0\"),TEXT(Sheet1!Z32,\"00\"))))","v":""},{"$f":"IF(Sheet1!AD32=\"\",\"\",\"●\")","v":""},{"$f":"IF(Sheet1!AE32=\"\",\"\",\"▲\")","v":""},{"$f":"IF(Sheet1!AF32=\"\",\"\",\"★\")","v":""},{"$f":"IF(Sheet1!AG32=\"\",\"\",\"▼\")","v":""}]
["",{"$f":"ASC(IF(Sheet1!C33=\"\",\"\",IF(LEN(Sheet1!C33)+LEN(Sheet1!D33)=2,Sheet1!C33&\"      \"&Sheet1!D33&\"(\"&Sheet1!I33&\")\",IF(LEN(Sheet1!C33)+LEN(Sheet1!D33)=3,Sheet1!C33&\"    \"&Sheet1!D33&\"(\"&Sheet1!I33&\")\",IF(LEN(Sheet1!C33)+LEN(Sheet1!D33)=4,Sheet1!C33&\"  \"&Sheet1!D33&\"(\"&Sheet1!I33&\")\",IF(LEN(Sheet1!C33)+LEN(Sheet1!D33)>=5,Sheet1!C33&Sheet1!D33&\"(\"&Sheet1!I33&\")\",\"\"))))))","v":""},{"$f":"ASC(IF(Sheet1!E33=\"\",\"\",Sheet1!E33&\" \"&Sheet1!F33))","v":""},{"$f":"ASC(IF(Sheet1!G33=\"\",\"\",UPPER(Sheet1!G33)&\" \"&PROPER(Sheet1!H33)&\"(\"&Sheet1!I33&\")\"))","v":""},{"$f":"IF(Sheet1!J33=\"\",\"\",IF(Sheet1!J33=\"女\",2,1))","v":""},{"$f":"IF(Sheet1!K33=\"\",\"\",VLOOKUP(Sheet1!K33,Sheet2!$F$2:$G$50,2,FALSE))","v":""},{"$f":"IF(Sheet1!L33=\"\",\"\",(Sheet1!L33))","v":""},{"$f":"IF(B20=\"\",\"\",VALUE(LEFT(Sheet1!E$4,6)))","v":""},{"$f":"IF(Sheet1!B33=\"\",\"\",VALUE(Sheet1!B33))","v":""},{"$f":"IF(Sheet1!M33=\"\",\"\",IF(VLOOKUP(Sheet1!M33,Sheet2!$A$2:$C$44,3,FALSE)>=71,VLOOKUP(Sheet1!M33,Sheet2!$A$2:$C$44,2,FALSE)&TEXT(Sheet1!O33,\"00\")&TEXT(Sheet1!P33,\"00\"),VLOOKUP(Sheet1!M33,Sheet2!$A$2:$C$44,2,FALSE)&TEXT(Sheet1!N33,\"00\")&TEXT(Sheet1!O33,\"00\")&IF(Sheet1!Q33=\"手\",TEXT(Sheet1!P33,\"0\"),TEXT(Sheet1!P33,\"00\"))))","v":""},{"$f":"IF(Sheet1!R33=\"\",\"\",IF(VLOOKUP(Sheet1!R33,Sheet2!$A$2:$C$44,3,FALSE)>=71,VLOOKUP(Sheet1!R33,Sheet2!$A$2:$C$44,2,FALSE)&TEXT(Sheet1!T33,\"00\")&TEXT(Sheet1!U33,\"00\"),VLOOKUP(Sheet1!R33,Sheet2!$A$2:$C$44,2,FALSE)&TEXT(Sheet1!S33,\"00\")&TEXT(Sheet1!T33,\"00\")&IF(Sheet1!V33=\"手\",TEXT(Sheet1!U33,\"0\"),TEXT(Sheet1!U33,\"00\"))))","v":""},{"$f":"IF(Sheet1!W33=\"\",\"\",IF(VLOOKUP(Sheet1!W33,Sheet2!$A$2:$C$44,3,FALSE)>=71,VLOOKUP(Sheet1!W33,Sheet2!$A$2:$C$44,2,FALSE)&TEXT(Sheet1!Y33,\"00\")&TEXT(Sheet1!Z33,\"00\"),VLOOKUP(Sheet1!W33,Sheet2!$A$2:$C$44,2,FALSE)&TEXT(Sheet1!X33,\"00\")&TEXT(Sheet1!Y33,\"00\")&IF(Sheet1!AA33=\"手\",TEXT(Sheet1!Z33,\"0\"),TEXT(Sheet1!Z33,\"00\"))))","v":""},{"$f":"IF(Sheet1!AD33=\"\",\"\",\"●\")","v":""},{"$f":"IF(Sheet1!AE33=\"\",\"\",\"▲\")","v":""},{"$f":"IF(Sheet1!AF33=\"\",\"\",\"★\")","v":""},{"$f":"IF(Sheet1!AG33=\"\",\"\",\"▼\")","v":""}]
["",{"$f":"ASC(IF(Sheet1!C34=\"\",\"\",IF(LEN(Sheet1!C34)+LEN(Sheet1!D34)=2,Sheet1!C34&\"      \"&Sheet1!D34&\"(\"&Sheet1!I34&\")\",IF(LEN(Sheet1!C34)+LEN(Sheet1!D34)=3,Sheet1!C34&\"    \"&Sheet1!D34&\"(\"&Sheet1!I34&\")\",IF(LEN(Sheet1!C34)+LEN(Sheet1!D34)=4,Sheet1!C34&\"  \"&Sheet1!D34&\"(\"&Sheet1!I34&\")\",IF(LEN(Sheet1!C34)+LEN(Sheet1!D34)>=5,Sheet1!C34&Sheet1!D34&\"(\"&Sheet1!I34&\")\",\"\"))))))","v":""},{"$f":"ASC(IF(Sheet1!E34=\"\",\"\",Sheet1!E34&\" \"&Sheet1!F34))","v":""},{"$f":"ASC(IF(Sheet1!G34=\"\",\"\",UPPER(Sheet1!G34)&\" \"&PROPER(Sheet1!H34)&\"(\"&Sheet1!I34&\")\"))","v":""},{"$f":"IF(Sheet1!J34=\"\",\"\",IF(Sheet1!J34=\"女\",2,1))","v":""},{"$f":"IF(Sheet1!K34=\"\",\"\",VLOOKUP(Sheet1!K34,Sheet2!$F$2:$G$50,2,FALSE))","v":""},{"$f":"IF(Sheet1!L34=\"\",\"\",(Sheet1!L34))","v":""},{"$f":"IF(B21=\"\",\"\",VALUE(LEFT(Sheet1!E$4,6)))","v":""},{"$f":"IF(Sheet1!B34=\"\",\"\",VALUE(Sheet1!B34))","v":""},{"$f":"IF(Sheet1!M34=\"\",\"\",IF(VLOOKUP(Sheet1!M34,Sheet2!$A$2:$C$44,3,FALSE)>=71,VLOOKUP(Sheet1!M34,Sheet2!$A$2:$C$44,2,FALSE)&TEXT(Sheet1!O34,\"00\")&TEXT(Sheet1!P34,\"00\"),VLOOKUP(Sheet1!M34,Sheet2!$A$2:$C$44,2,FALSE)&TEXT(Sheet1!N34,\"00\")&TEXT(Sheet1!O34,\"00\")&IF(Sheet1!Q34=\"手\",TEXT(Sheet1!P34,\"0\"),TEXT(Sheet1!P34,\"00\"))))","v":""},{"$f":"IF(Sheet1!R34=\"\",\"\",IF(VLOOKUP(Sheet1!R34,Sheet2!$A$2:$C$44,3,FALSE)>=71,VLOOKUP(Sheet1!R34,Sheet2!$A$2:$C$44,2,FALSE)&TEXT(Sheet1!T34,\"00\")&TEXT(Sheet1!U34,\"00\"),VLOOKUP(Sheet1!R34,Sheet2!$A$2:$C$44,2,FALSE)&TEXT(Sheet1!S34,\"00\")&TEXT(Sheet1!T34,\"00\")&IF(Sheet1!V34=\"手\",TEXT(Sheet1!U34,\"0\"),TEXT(Sheet1!U34,\"00\"))))","v":""},{"$f":"IF(Sheet1!W34=\"\",\"\",IF(VLOOKUP(Sheet1!W34,Sheet2!$A$2:$C$44,3,FALSE)>=71,VLOOKUP(Sheet1!W34,Sheet2!$A$2:$C$44,2,FALSE)&TEXT(Sheet1!Y34,\"00\")&TEXT(Sheet1!Z34,\"00\"),VLOOKUP(Sheet1!W34,Sheet2!$A$2:$C$44,2,FALSE)&TEXT(Sheet1!X34,\"00\")&TEXT(Sheet1!Y34,\"00\")&IF(Sheet1!AA34=\"手\",TEXT(Sheet1!Z34,\"0\"),TEXT(Sheet1!Z34,\"00\"))))","v":""},{"$f":"IF(Sheet1!AD34=\"\",\"\",\"●\")","v":""},{"$f":"IF(Sheet1!AE34=\"\",\"\",\"▲\")","v":""},{"$f":"IF(Sheet1!AF34=\"\",\"\",\"★\")","v":""},{"$f":"IF(Sheet1!AG34=\"\",\"\",\"▼\")","v":""}]
["",{"$f":"ASC(IF(Sheet1!C35=\"\",\"\",IF(LEN(Sheet1!C35)+LEN(Sheet1!D35)=2,Sheet1!C35&\"      \"&Sheet1!D35&\"(\"&Sheet1!I35&\")\",IF(LEN(Sheet1!C35)+LEN(Sheet1!D35)=3,Sheet1!C35&\"    \"&Sheet1!D35&\"(\"&Sheet1!I35&\")\",IF(LEN(Sheet1!C35)+LEN(Sheet1!D35)=4,Sheet1!C35&\"  \"&Sheet1!D35&\"(\"&Sheet1!I35&\")\",IF(LEN(Sheet1!C35)+LEN(Sheet1!D35)>=5,Sheet1!C35&Sheet1!D35&\"(\"&Sheet1!I35&\")\",\"\"))))))","v":""},{"$f":"ASC(IF(Sheet1!E35=\"\",\"\",Sheet1!E35&\" \"&Sheet1!F35))","v":""},{"$f":"ASC(IF(Sheet1!G35=\"\",\"\",UPPER(Sheet1!G35)&\" \"&PROPER(Sheet1!H35)&\"(\"&Sheet1!I35&\")\"))","v":""},{"$f":"IF(Sheet1!J35=\"\",\"\",IF(Sheet1!J35=\"女\",2,1))","v":""},{"$f":"IF(Sheet1!K35=\"\",\"\",VLOOKUP(Sheet1!K35,Sheet2!$F$2:$G$50,2,FALSE))","v":""},{"$f":"IF(Sheet1!L35=\"\",\"\",(Sheet1!L35))","v":""},{"$f":"IF(B22=\"\",\"\",VALUE(LEFT(Sheet1!E$4,6)))","v":""},{"$f":"IF(Sheet1!B35=\"\",\"\",VALUE(Sheet1!B35))","v":""},{"$f":"IF(Sheet1!M35=\"\",\"\",IF(VLOOKUP(Sheet1!M35,Sheet2!$A$2:$C$44,3,FALSE)>=71,VLOOKUP(Sheet1!M35,Sheet2!$A$2:$C$44,2,FALSE)&TEXT(Sheet1!O35,\"00\")&TEXT(Sheet1!P35,\"00\"),VLOOKUP(Sheet1!M35,Sheet2!$A$2:$C$44,2,FALSE)&TEXT(Sheet1!N35,\"00\")&TEXT(Sheet1!O35,\"00\")&IF(Sheet1!Q35=\"手\",TEXT(Sheet1!P35,\"0\"),TEXT(Sheet1!P35,\"00\"))))","v":""},{"$f":"IF(Sheet1!R35=\"\",\"\",IF(VLOOKUP(Sheet1!R35,Sheet2!$A$2:$C$44,3,FALSE)>=71,VLOOKUP(Sheet1!R35,Sheet2!$A$2:$C$44,2,FALSE)&TEXT(Sheet1!T35,\"00\")&TEXT(Sheet1!U35,\"00\"),VLOOKUP(Sheet1!R35,Sheet2!$A$2:$C$44,2,FALSE)&TEXT(Sheet1!S35,\"00\")&TEXT(Sheet1!T35,\"00\")&IF(Sheet1!V35=\"手\",TEXT(Sheet1!U35,\"0\"),TEXT(Sheet1!U35,\"00\"))))","v":""},{"$f":"IF(Sheet1!W35=\"\",\"\",IF(VLOOKUP(Sheet1!W35,Sheet2!$A$2:$C$44,3,FALSE)>=71,VLOOKUP(Sheet1!W35,Sheet2!$A$2:$C$44,2,FALSE)&TEXT(Sheet1!Y35,\"00\")&TEXT(Sheet1!Z35,\"00\"),VLOOKUP(Sheet1!W35,Sheet2!$A$2:$C$44,2,FALSE)&TEXT(Sheet1!X35,\"00\")&TEXT(Sheet1!Y35,\"00\")&IF(Sheet1!AA35=\"手\",TEXT(Sheet1!Z35,\"0\"),TEXT(Sheet1!Z35,\"00\"))))","v":""},{"$f":"IF(Sheet1!AD35=\"\",\"\",\"●\")","v":""},{"$f":"IF(Sheet1!AE35=\"\",\"\",\"▲\")","v":""},{"$f":"IF(Sheet1!AF35=\"\",\"\",\"★\")","v":""},{"$f":"IF(Sheet1!AG35=\"\",\"\",\"▼\")","v":""}]
["",{"$f":"ASC(IF(Sheet1!C36=\"\",\"\",IF(LEN(Sheet1!C36)+LEN(Sheet1!D36)=2,Sheet1!C36&\"      \"&Sheet1!D36&\"(\"&Sheet1!I36&\")\",IF(LEN(Sheet1!C36)+LEN(Sheet1!D36)=3,Sheet1!C36&\"    \"&Sheet1!D36&\"(\"&Sheet1!I36&\")\",IF(LEN(Sheet1!C36)+LEN(Sheet1!D36)=4,Sheet1!C36&\"  \"&Sheet1!D36&\"(\"&Sheet1!I36&\")\",IF(LEN(Sheet1!C36)+LEN(Sheet1!D36)>=5,Sheet1!C36&Sheet1!D36&\"(\"&Sheet1!I36&\")\",\"\"))))))","v":""},{"$f":"ASC(IF(Sheet1!E36=\"\",\"\",Sheet1!E36&\" \"&Sheet1!F36))","v":""},{"$f":"ASC(IF(Sheet1!G36=\"\",\"\",UPPER(Sheet1!G36)&\" \"&PROPER(Sheet1!H36)&\"(\"&Sheet1!I36&\")\"))","v":""},{"$f":"IF(Sheet1!J36=\"\",\"\",IF(Sheet1!J36=\"女\",2,1))","v":""},{"$f":"IF(Sheet1!K36=\"\",\"\",VLOOKUP(Sheet1!K36,Sheet2!$F$2:$G$50,2,FALSE))","v":""},{"$f":"IF(Sheet1!L36=\"\",\"\",(Sheet1!L36))","v":""},{"$f":"IF(B23=\"\",\"\",VALUE(LEFT(Sheet1!E$4,6)))","v":""},{"$f":"IF(Sheet1!B36=\"\",\"\",VALUE(Sheet1!B36))","v":""},{"$f":"IF(Sheet1!M36=\"\",\"\",IF(VLOOKUP(Sheet1!M36,Sheet2!$A$2:$C$44,3,FALSE)>=71,VLOOKUP(Sheet1!M36,Sheet2!$A$2:$C$44,2,FALSE)&TEXT(Sheet1!O36,\"00\")&TEXT(Sheet1!P36,\"00\"),VLOOKUP(Sheet1!M36,Sheet2!$A$2:$C$44,2,FALSE)&TEXT(Sheet1!N36,\"00\")&TEXT(Sheet1!O36,\"00\")&IF(Sheet1!Q36=\"手\",TEXT(Sheet1!P36,\"0\"),TEXT(Sheet1!P36,\"00\"))))","v":""},{"$f":"IF(Sheet1!R36=\"\",\"\",IF(VLOOKUP(Sheet1!R36,Sheet2!$A$2:$C$44,3,FALSE)>=71,VLOOKUP(Sheet1!R36,Sheet2!$A$2:$C$44,2,FALSE)&TEXT(Sheet1!T36,\"00\")&TEXT(Sheet1!U36,\"00\"),VLOOKUP(Sheet1!R36,Sheet2!$A$2:$C$44,2,FALSE)&TEXT(Sheet1!S36,\"00\")&TEXT(Sheet1!T36,\"00\")&IF(Sheet1!V36=\"手\",TEXT(Sheet1!U36,\"0\"),TEXT(Sheet1!U36,\"00\"))))","v":""},{"$f":"IF(Sheet1!W36=\"\",\"\",IF(VLOOKUP(Sheet1!W36,Sheet2!$A$2:$C$44,3,FALSE)>=71,VLOOKUP(Sheet1!W36,Sheet2!$A$2:$C$44,2,FALSE)&TEXT(Sheet1!Y36,\"00\")&TEXT(Sheet1!Z36,\"00\"),VLOOKUP(Sheet1!W36,Sheet2!$A$2:$C$44,2,FALSE)&TEXT(Sheet1!X36,\"00\")&TEXT(Sheet1!Y36,\"00\")&IF(Sheet1!AA36=\"手\",TEXT(Sheet1!Z36,\"0\"),TEXT(Sheet1!Z36,\"00\"))))","v":""},{"$f":"IF(Sheet1!AD36=\"\",\"\",\"●\")","v":""},{"$f":"IF(Sheet1!AE36=\"\",\"\",\"▲\")","v":""},{"$f":"IF(Sheet1!AF36=\"\",\"\",\"★\")","v":""},{"$f":"IF(Sheet1!AG36=\"\",\"\",\"▼\")","v":""}]
["",{"$f":"ASC(IF(Sheet1!C37=\"\",\"\",IF(LEN(Sheet1!C37)+LEN(Sheet1!D37)=2,Sheet1!C37&\"      \"&Sheet1!D37&\"(\"&Sheet1!I37&\")\",IF(LEN(Sheet1!C37)+LEN(Sheet1!D37)=3,Sheet1!C37&\"    \"&Sheet1!D37&\"(\"&Sheet1!I37&\")\",IF(LEN(Sheet1!C37)+LEN(Sheet1!D37)=4,Sheet1!C37&\"  \"&Sheet1!D37&\"(\"&Sheet1!I37&\")\",IF(LEN(Sheet1!C37)+LEN(Sheet1!D37)>=5,Sheet1!C37&Sheet1!D37&\"(\"&Sheet1!I37&\")\",\"\"))))))","v":""},{"$f":"ASC(IF(Sheet1!E37=\"\",\"\",Sheet1!E37&\" \"&Sheet1!F37))","v":""},{"$f":"ASC(IF(Sheet1!G37=\"\",\"\",UPPER(Sheet1!G37)&\" \"&PROPER(Sheet1!H37)&\"(\"&Sheet1!I37&\")\"))","v":""},{"$f":"IF(Sheet1!J37=\"\",\"\",IF(Sheet1!J37=\"女\",2,1))","v":""},{"$f":"IF(Sheet1!K37=\"\",\"\",VLOOKUP(Sheet1!K37,Sheet2!$F$2:$G$50,2,FALSE))","v":""},{"$f":"IF(Sheet1!L37=\"\",\"\",(Sheet1!L37))","v":""},{"$f":"IF(B24=\"\",\"\",VALUE(LEFT(Sheet1!E$4,6)))","v":""},{"$f":"IF(Sheet1!B37=\"\",\"\",VALUE(Sheet1!B37))","v":""},{"$f":"IF(Sheet1!M37=\"\",\"\",IF(VLOOKUP(Sheet1!M37,Sheet2!$A$2:$C$44,3,FALSE)>=71,VLOOKUP(Sheet1!M37,Sheet2!$A$2:$C$44,2,FALSE)&TEXT(Sheet1!O37,\"00\")&TEXT(Sheet1!P37,\"00\"),VLOOKUP(Sheet1!M37,Sheet2!$A$2:$C$44,2,FALSE)&TEXT(Sheet1!N37,\"00\")&TEXT(Sheet1!O37,\"00\")&IF(Sheet1!Q37=\"手\",TEXT(Sheet1!P37,\"0\"),TEXT(Sheet1!P37,\"00\"))))","v":""},{"$f":"IF(Sheet1!R37=\"\",\"\",IF(VLOOKUP(Sheet1!R37,Sheet2!$A$2:$C$44,3,FALSE)>=71,VLOOKUP(Sheet1!R37,Sheet2!$A$2:$C$44,2,FALSE)&TEXT(Sheet1!T37,\"00\")&TEXT(Sheet1!U37,\"00\"),VLOOKUP(Sheet1!R37,Sheet2!$A$2:$C$44,2,FALSE)&TEXT(Sheet1!S37,\"00\")&TEXT(Sheet1!T37,\"00\")&IF(Sheet1!V37=\"手\",TEXT(Sheet1!U37,\"0\"),TEXT(Sheet1!U37,\"00\"))))","v":""},{"$f":"IF(Sheet1!W37=\"\",\"\",IF(VLOOKUP(Sheet1!W37,Sheet2!$A$2:$C$44,3,FALSE)>=71,VLOOKUP(Sheet1!W37,Sheet2!$A$2:$C$44,2,FALSE)&TEXT(Sheet1!Y37,\"00\")&TEXT(Sheet1!Z37,\"00\"),VLOOKUP(Sheet1!W37,Sheet2!$A$2:$C$44,2,FALSE)&TEXT(Sheet1!X37,\"00\")&TEXT(Sheet1!Y37,\"00\")&IF(Sheet1!AA37=\"手\",TEXT(Sheet1!Z37,\"0\"),TEXT(Sheet1!Z37,\"00\"))))","v":""},{"$f":"IF(Sheet1!AD37=\"\",\"\",\"●\")","v":""},{"$f":"IF(Sheet1!AE37=\"\",\"\",\"▲\")","v":""},{"$f":"IF(Sheet1!AF37=\"\",\"\",\"★\")","v":""},{"$f":"IF(Sheet1!AG37=\"\",\"\",\"▼\")","v":""}]
["",{"$f":"ASC(IF(Sheet1!C38=\"\",\"\",IF(LEN(Sheet1!C38)+LEN(Sheet1!D38)=2,Sheet1!C38&\"      \"&Sheet1!D38&\"(\"&Sheet1!I38&\")\",IF(LEN(Sheet1!C38)+LEN(Sheet1!D38)=3,Sheet1!C38&\"    \"&Sheet1!D38&\"(\"&Sheet1!I38&\")\",IF(LEN(Sheet1!C38)+LEN(Sheet1!D38)=4,Sheet1!C38&\"  \"&Sheet1!D38&\"(\"&Sheet1!I38&\")\",IF(LEN(Sheet1!C38)+LEN(Sheet1!D38)>=5,Sheet1!C38&Sheet1!D38&\"(\"&Sheet1!I38&\")\",\"\"))))))","v":""},{"$f":"ASC(IF(Sheet1!E38=\"\",\"\",Sheet1!E38&\" \"&Sheet1!F38))","v":""},{"$f":"ASC(IF(Sheet1!G38=\"\",\"\",UPPER(Sheet1!G38)&\" \"&PROPER(Sheet1!H38)&\"(\"&Sheet1!I38&\")\"))","v":""},{"$f":"IF(Sheet1!J38=\"\",\"\",IF(Sheet1!J38=\"女\",2,1))","v":""},{"$f":"IF(Sheet1!K38=\"\",\"\",VLOOKUP(Sheet1!K38,Sheet2!$F$2:$G$50,2,FALSE))","v":""},{"$f":"IF(Sheet1!L38=\"\",\"\",(Sheet1!L38))","v":""},{"$f":"IF(B25=\"\",\"\",VALUE(LEFT(Sheet1!E$4,6)))","v":""},{"$f":"IF(Sheet1!B38=\"\",\"\",VALUE(Sheet1!B38))","v":""},{"$f":"IF(Sheet1!M38=\"\",\"\",IF(VLOOKUP(Sheet1!M38,Sheet2!$A$2:$C$44,3,FALSE)>=71,VLOOKUP(Sheet1!M38,Sheet2!$A$2:$C$44,2,FALSE)&TEXT(Sheet1!O38,\"00\")&TEXT(Sheet1!P38,\"00\"),VLOOKUP(Sheet1!M38,Sheet2!$A$2:$C$44,2,FALSE)&TEXT(Sheet1!N38,\"00\")&TEXT(Sheet1!O38,\"00\")&IF(Sheet1!Q38=\"手\",TEXT(Sheet1!P38,\"0\"),TEXT(Sheet1!P38,\"00\"))))","v":""},{"$f":"IF(Sheet1!R38=\"\",\"\",IF(VLOOKUP(Sheet1!R38,Sheet2!$A$2:$C$44,3,FALSE)>=71,VLOOKUP(Sheet1!R38,Sheet2!$A$2:$C$44,2,FALSE)&TEXT(Sheet1!T38,\"00\")&TEXT(Sheet1!U38,\"00\"),VLOOKUP(Sheet1!R38,Sheet2!$A$2:$C$44,2,FALSE)&TEXT(Sheet1!S38,\"00\")&TEXT(Sheet1!T38,\"00\")&IF(Sheet1!V38=\"手\",TEXT(Sheet1!U38,\"0\"),TEXT(Sheet1!U38,\"00\"))))","v":""},{"$f":"IF(Sheet1!W38=\"\",\"\",IF(VLOOKUP(Sheet1!W38,Sheet2!$A$2:$C$44,3,FALSE)>=71,VLOOKUP(Sheet1!W38,Sheet2!$A$2:$C$44,2,FALSE)&TEXT(Sheet1!Y38,\"00\")&TEXT(Sheet1!Z38,\"00\"),VLOOKUP(Sheet1!W38,Sheet2!$A$2:$C$44,2,FALSE)&TEXT(Sheet1!X38,\"00\")&TEXT(Sheet1!Y38,\"00\")&IF(Sheet1!AA38=\"手\",TEXT(Sheet1!Z38,\"0\"),TEXT(Sheet1!Z38,\"00\"))))","v":""},{"$f":"IF(Sheet1!AD38=\"\",\"\",\"●\")","v":""},{"$f":"IF(Sheet1!AE38=\"\",\"\",\"▲\")","v":""},{"$f":"IF(Sheet1!AF38=\"\",\"\",\"★\")","v":""},{"$f":"IF(Sheet1!AG38=\"\",\"\",\"▼\")","v":""}]
["",{"$f":"ASC(IF(Sheet1!C39=\"\",\"\",IF(LEN(Sheet1!C39)+LEN(Sheet1!D39)=2,Sheet1!C39&\"      \"&Sheet1!D39&\"(\"&Sheet1!I39&\")\",IF(LEN(Sheet1!C39)+LEN(Sheet1!D39)=3,Sheet1!C39&\"    \"&Sheet1!D39&\"(\"&Sheet1!I39&\")\",IF(LEN(Sheet1!C39)+LEN(Sheet1!D39)=4,Sheet1!C39&\"  \"&Sheet1!D39&\"(\"&Sheet1!I39&\")\",IF(LEN(Sheet1!C39)+LEN(Sheet1!D39)>=5,Sheet1!C39&Sheet1!D39&\"(\"&Sheet1!I39&\")\",\"\"))))))","v":""},{"$f":"ASC(IF(Sheet1!E39=\"\",\"\",Sheet1!E39&\" \"&Sheet1!F39))","v":""},{"$f":"ASC(IF(Sheet1!G39=\"\",\"\",UPPER(Sheet1!G39)&\" \"&PROPER(Sheet1!H39)&\"(\"&Sheet1!I39&\")\"))","v":""},{"$f":"IF(Sheet1!J39=\"\",\"\",IF(Sheet1!J39=\"女\",2,1))","v":""},{"$f":"IF(Sheet1!K39=\"\",\"\",VLOOKUP(Sheet1!K39,Sheet2!$F$2:$G$50,2,FALSE))","v":""},{"$f":"IF(Sheet1!L39=\"\",\"\",(Sheet1!L39))","v":""},{"$f":"IF(B26=\"\",\"\",VALUE(LEFT(Sheet1!E$4,6)))","v":""},{"$f":"IF(Sheet1!B39=\"\",\"\",VALUE(Sheet1!B39))","v":""},{"$f":"IF(Sheet1!M39=\"\",\"\",IF(VLOOKUP(Sheet1!M39,Sheet2!$A$2:$C$44,3,FALSE)>=71,VLOOKUP(Sheet1!M39,Sheet2!$A$2:$C$44,2,FALSE)&TEXT(Sheet1!O39,\"00\")&TEXT(Sheet1!P39,\"00\"),VLOOKUP(Sheet1!M39,Sheet2!$A$2:$C$44,2,FALSE)&TEXT(Sheet1!N39,\"00\")&TEXT(Sheet1!O39,\"00\")&IF(Sheet1!Q39=\"手\",TEXT(Sheet1!P39,\"0\"),TEXT(Sheet1!P39,\"00\"))))","v":""},{"$f":"IF(Sheet1!R39=\"\",\"\",IF(VLOOKUP(Sheet1!R39,Sheet2!$A$2:$C$44,3,FALSE)>=71,VLOOKUP(Sheet1!R39,Sheet2!$A$2:$C$44,2,FALSE)&TEXT(Sheet1!T39,\"00\")&TEXT(Sheet1!U39,\"00\"),VLOOKUP(Sheet1!R39,Sheet2!$A$2:$C$44,2,FALSE)&TEXT(Sheet1!S39,\"00\")&TEXT(Sheet1!T39,\"00\")&IF(Sheet1!V39=\"手\",TEXT(Sheet1!U39,\"0\"),TEXT(Sheet1!U39,\"00\"))))","v":""},{"$f":"IF(Sheet1!W39=\"\",\"\",IF(VLOOKUP(Sheet1!W39,Sheet2!$A$2:$C$44,3,FALSE)>=71,VLOOKUP(Sheet1!W39,Sheet2!$A$2:$C$44,2,FALSE)&TEXT(Sheet1!Y39,\"00\")&TEXT(Sheet1!Z39,\"00\"),VLOOKUP(Sheet1!W39,Sheet2!$A$2:$C$44,2,FALSE)&TEXT(Sheet1!X39,\"00\")&TEXT(Sheet1!Y39,\"00\")&IF(Sheet1!AA39=\"手\",TEXT(Sheet1!Z39,\"0\"),TEXT(Sheet1!Z39,\"00\"))))","v":""},{"$f":"IF(Sheet1!AD39=\"\",\"\",\"●\")","v":""},{"$f":"IF(Sheet1!AE39=\"\",\"\",\"▲\")","v":""},{"$f":"IF(Sheet1!AF39=\"\",\"\",\"★\")","v":""},{"$f":"IF(Sheet1!AG39=\"\",\"\",\"▼\")","v":""}]
["",{"$f":"ASC(IF(Sheet1!C40=\"\",\"\",IF(LEN(Sheet1!C40)+LEN(Sheet1!D40)=2,Sheet1!C40&\"      \"&Sheet1!D40&\"(\"&Sheet1!I40&\")\",IF(LEN(Sheet1!C40)+LEN(Sheet1!D40)=3,Sheet1!C40&\"    \"&Sheet1!D40&\"(\"&Sheet1!I40&\")\",IF(LEN(Sheet1!C40)+LEN(Sheet1!D40)=4,Sheet1!C40&\"  \"&Sheet1!D40&\"(\"&Sheet1!I40&\")\",IF(LEN(Sheet1!C40)+LEN(Sheet1!D40)>=5,Sheet1!C40&Sheet1!D40&\"(\"&Sheet1!I40&\")\",\"\"))))))","v":""},{"$f":"ASC(IF(Sheet1!E40=\"\",\"\",Sheet1!E40&\" \"&Sheet1!F40))","v":""},{"$f":"ASC(IF(Sheet1!G40=\"\",\"\",UPPER(Sheet1!G40)&\" \"&PROPER(Sheet1!H40)&\"(\"&Sheet1!I40&\")\"))","v":""},{"$f":"IF(Sheet1!J40=\"\",\"\",IF(Sheet1!J40=\"女\",2,1))","v":""},{"$f":"IF(Sheet1!K40=\"\",\"\",VLOOKUP(Sheet1!K40,Sheet2!$F$2:$G$50,2,FALSE))","v":""},{"$f":"IF(Sheet1!L40=\"\",\"\",(Sheet1!L40))","v":""},{"$f":"IF(B27=\"\",\"\",VALUE(LEFT(Sheet1!E$4,6)))","v":""},{"$f":"IF(Sheet1!B40=\"\",\"\",VALUE(Sheet1!B40))","v":""},{"$f":"IF(Sheet1!M40=\"\",\"\",IF(VLOOKUP(Sheet1!M40,Sheet2!$A$2:$C$44,3,FALSE)>=71,VLOOKUP(Sheet1!M40,Sheet2!$A$2:$C$44,2,FALSE)&TEXT(Sheet1!O40,\"00\")&TEXT(Sheet1!P40,\"00\"),VLOOKUP(Sheet1!M40,Sheet2!$A$2:$C$44,2,FALSE)&TEXT(Sheet1!N40,\"00\")&TEXT(Sheet1!O40,\"00\")&IF(Sheet1!Q40=\"手\",TEXT(Sheet1!P40,\"0\"),TEXT(Sheet1!P40,\"00\"))))","v":""},{"$f":"IF(Sheet1!R40=\"\",\"\",IF(VLOOKUP(Sheet1!R40,Sheet2!$A$2:$C$44,3,FALSE)>=71,VLOOKUP(Sheet1!R40,Sheet2!$A$2:$C$44,2,FALSE)&TEXT(Sheet1!T40,\"00\")&TEXT(Sheet1!U40,\"00\"),VLOOKUP(Sheet1!R40,Sheet2!$A$2:$C$44,2,FALSE)&TEXT(Sheet1!S40,\"00\")&TEXT(Sheet1!T40,\"00\")&IF(Sheet1!V40=\"手\",TEXT(Sheet1!U40,\"0\"),TEXT(Sheet1!U40,\"00\"))))","v":""},{"$f":"IF(Sheet1!W40=\"\",\"\",IF(VLOOKUP(Sheet1!W40,Sheet2!$A$2:$C$44,3,FALSE)>=71,VLOOKUP(Sheet1!W40,Sheet2!$A$2:$C$44,2,FALSE)&TEXT(Sheet1!Y40,\"00\")&TEXT(Sheet1!Z40,\"00\"),VLOOKUP(Sheet1!W40,Sheet2!$A$2:$C$44,2,FALSE)&TEXT(Sheet1!X40,\"00\")&TEXT(Sheet1!Y40,\"00\")&IF(Sheet1!AA40=\"手\",TEXT(Sheet1!Z40,\"0\"),TEXT(Sheet1!Z40,\"00\"))))","v":""},{"$f":"IF(Sheet1!AD40=\"\",\"\",\"●\")","v":""},{"$f":"IF(Sheet1!AE40=\"\",\"\",\"▲\")","v":""},{"$f":"IF(Sheet1!AF40=\"\",\"\",\"★\")","v":""},{"$f":"IF(Sheet1!AG40=\"\",\"\",\"▼\")","v":""}]
["",{"$f":"ASC(IF(Sheet1!C41=\"\",\"\",IF(LEN(Sheet1!C41)+LEN(Sheet1!D41)=2,Sheet1!C41&\"      \"&Sheet1!D41&\"(\"&Sheet1!I41&\")\",IF(LEN(Sheet1!C41)+LEN(Sheet1!D41)=3,Sheet1!C41&\"    \"&Sheet1!D41&\"(\"&Sheet1!I41&\")\",IF(LEN(Sheet1!C41)+LEN(Sheet1!D41)=4,Sheet1!C41&\"  \"&Sheet1!D41&\"(\"&Sheet1!I41&\")\",IF(LEN(Sheet1!C41)+LEN(Sheet1!D41)>=5,Sheet1!C41&Sheet1!D41&\"(\"&Sheet1!I41&\")\",\"\"))))))","v":""},{"$f":"ASC(IF(Sheet1!E41=\"\",\"\",Sheet1!E41&\" \"&Sheet1!F41))","v":""},{"$f":"ASC(IF(Sheet1!G41=\"\",\"\",UPPER(Sheet1!G41)&\" \"&PROPER(Sheet1!H41)&\"(\"&Sheet1!I41&\")\"))","v":""},{"$f":"IF(Sheet1!J41=\"\",\"\",IF(Sheet1!J41=\"女\",2,1))","v":""},{"$f":"IF(Sheet1!K41=\"\",\"\",VLOOKUP(Sheet1!K41,Sheet2!$F$2:$G$50,2,FALSE))","v":""},{"$f":"IF(Sheet1!L41=\"\",\"\",(Sheet1!L41))","v":""},{"$f":"IF(B28=\"\",\"\",VALUE(LEFT(Sheet1!E$4,6)))","v":""},{"$f":"IF(Sheet1!B41=\"\",\"\",VALUE(Sheet1!B41))","v":""},{"$f":"IF(Sheet1!M41=\"\",\"\",IF(VLOOKUP(Sheet1!M41,Sheet2!$A$2:$C$44,3,FALSE)>=71,VLOOKUP(Sheet1!M41,Sheet2!$A$2:$C$44,2,FALSE)&TEXT(Sheet1!O41,\"00\")&TEXT(Sheet1!P41,\"00\"),VLOOKUP(Sheet1!M41,Sheet2!$A$2:$C$44,2,FALSE)&TEXT(Sheet1!N41,\"00\")&TEXT(Sheet1!O41,\"00\")&IF(Sheet1!Q41=\"手\",TEXT(Sheet1!P41,\"0\"),TEXT(Sheet1!P41,\"00\"))))","v":""},{"$f":"IF(Sheet1!R41=\"\",\"\",IF(VLOOKUP(Sheet1!R41,Sheet2!$A$2:$C$44,3,FALSE)>=71,VLOOKUP(Sheet1!R41,Sheet2!$A$2:$C$44,2,FALSE)&TEXT(Sheet1!T41,\"00\")&TEXT(Sheet1!U41,\"00\"),VLOOKUP(Sheet1!R41,Sheet2!$A$2:$C$44,2,FALSE)&TEXT(Sheet1!S41,\"00\")&TEXT(Sheet1!T41,\"00\")&IF(Sheet1!V41=\"手\",TEXT(Sheet1!U41,\"0\"),TEXT(Sheet1!U41,\"00\"))))","v":""},{"$f":"IF(Sheet1!W41=\"\",\"\",IF(VLOOKUP(Sheet1!W41,Sheet2!$A$2:$C$44,3,FALSE)>=71,VLOOKUP(Sheet1!W41,Sheet2!$A$2:$C$44,2,FALSE)&TEXT(Sheet1!Y41,\"00\")&TEXT(Sheet1!Z41,\"00\"),VLOOKUP(Sheet1!W41,Sheet2!$A$2:$C$44,2,FALSE)&TEXT(Sheet1!X41,\"00\")&TEXT(Sheet1!Y41,\"00\")&IF(Sheet1!AA41=\"手\",TEXT(Sheet1!Z41,\"0\"),TEXT(Sheet1!Z41,\"00\"))))","v":""},{"$f":"IF(Sheet1!AD41=\"\",\"\",\"●\")","v":""},{"$f":"IF(Sheet1!AE41=\"\",\"\",\"▲\")","v":""},{"$f":"IF(Sheet1!AF41=\"\",\"\",\"★\")","v":""},{"$f":"IF(Sheet1!AG41=\"\",\"\",\"▼\")","v":""}]
["",{"$f":"ASC(IF(Sheet1!C42=\"\",\"\",IF(LEN(Sheet1!C42)+LEN(Sheet1!D42)=2,Sheet1!C42&\"      \"&Sheet1!D42&\"(\"&Sheet1!I42&\")\",IF(LEN(Sheet1!C42)+LEN(Sheet1!D42)=3,Sheet1!C42&\"    \"&Sheet1!D42&\"(\"&Sheet1!I42&\")\",IF(LEN(Sheet1!C42)+LEN(Sheet1!D42)=4,Sheet1!C42&\"  \"&Sheet1!D42&\"(\"&Sheet1!I42&\")\",IF(LEN(Sheet1!C42)+LEN(Sheet1!D42)>=5,Sheet1!C42&Sheet1!D42&\"(\"&Sheet1!I42&\")\",\"\"))))))","v":""},{"$f":"ASC(IF(Sheet1!E42=\"\",\"\",Sheet1!E42&\" \"&Sheet1!F42))","v":""},{"$f":"ASC(IF(Sheet1!G42=\"\",\"\",UPPER(Sheet1!G42)&\" \"&PROPER(Sheet1!H42)&\"(\"&Sheet1!I42&\")\"))","v":""},{"$f":"IF(Sheet1!J42=\"\",\"\",IF(Sheet1!J42=\"女\",2,1))","v":""},{"$f":"IF(Sheet1!K42=\"\",\"\",VLOOKUP(Sheet1!K42,Sheet2!$F$2:$G$50,2,FALSE))","v":""},{"$f":"IF(Sheet1!L42=\"\",\"\",(Sheet1!L42))","v":""},{"$f":"IF(B29=\"\",\"\",VALUE(LEFT(Sheet1!E$4,6)))","v":""},{"$f":"IF(Sheet1!B42=\"\",\"\",VALUE(Sheet1!B42))","v":""},{"$f":"IF(Sheet1!M42=\"\",\"\",IF(VLOOKUP(Sheet1!M42,Sheet2!$A$2:$C$44,3,FALSE)>=71,VLOOKUP(Sheet1!M42,Sheet2!$A$2:$C$44,2,FALSE)&TEXT(Sheet1!O42,\"00\")&TEXT(Sheet1!P42,\"00\"),VLOOKUP(Sheet1!M42,Sheet2!$A$2:$C$44,2,FALSE)&TEXT(Sheet1!N42,\"00\")&TEXT(Sheet1!O42,\"00\")&IF(Sheet1!Q42=\"手\",TEXT(Sheet1!P42,\"0\"),TEXT(Sheet1!P42,\"00\"))))","v":""},{"$f":"IF(Sheet1!R42=\"\",\"\",IF(VLOOKUP(Sheet1!R42,Sheet2!$A$2:$C$44,3,FALSE)>=71,VLOOKUP(Sheet1!R42,Sheet2!$A$2:$C$44,2,FALSE)&TEXT(Sheet1!T42,\"00\")&TEXT(Sheet1!U42,\"00\"),VLOOKUP(Sheet1!R42,Sheet2!$A$2:$C$44,2,FALSE)&TEXT(Sheet1!S42,\"00\")&TEXT(Sheet1!T42,\"00\")&IF(Sheet1!V42=\"手\",TEXT(Sheet1!U42,\"0\"),TEXT(Sheet1!U42,\"00\"))))","v":""},{"$f":"IF(Sheet1!W42=\"\",\"\",IF(VLOOKUP(Sheet1!W42,Sheet2!$A$2:$C$44,3,FALSE)>=71,VLOOKUP(Sheet1!W42,Sheet2!$A$2:$C$44,2,FALSE)&TEXT(Sheet1!Y42,\"00\")&TEXT(Sheet1!Z42,\"00\"),VLOOKUP(Sheet1!W42,Sheet2!$A$2:$C$44,2,FALSE)&TEXT(Sheet1!X42,\"00\")&TEXT(Sheet1!Y42,\"00\")&IF(Sheet1!AA42=\"手\",TEXT(Sheet1!Z42,\"0\"),TEXT(Sheet1!Z42,\"00\"))))","v":""},{"$f":"IF(Sheet1!AD42=\"\",\"\",\"●\")","v":""},{"$f":"IF(Sheet1!AE42=\"\",\"\",\"▲\")","v":""},{"$f":"IF(Sheet1!AF42=\"\",\"\",\"★\")","v":""},{"$f":"IF(Sheet1!AG42=\"\",\"\",\"▼\")","v":""}]
["",{"$f":"ASC(IF(Sheet1!C43=\"\",\"\",IF(LEN(Sheet1!C43)+LEN(Sheet1!D43)=2,Sheet1!C43&\"      \"&Sheet1!D43&\"(\"&Sheet1!I43&\")\",IF(LEN(Sheet1!C43)+LEN(Sheet1!D43)=3,Sheet1!C43&\"    \"&Sheet1!D43&\"(\"&Sheet1!I43&\")\",IF(LEN(Sheet1!C43)+LEN(Sheet1!D43)=4,Sheet1!C43&\"  \"&Sheet1!D43&\"(\"&Sheet1!I43&\")\",IF(LEN(Sheet1!C43)+LEN(Sheet1!D43)>=5,Sheet1!C43&Sheet1!D43&\"(\"&Sheet1!I43&\")\",\"\"))))))","v":""},{"$f":"ASC(IF(Sheet1!E43=\"\",\"\",Sheet1!E43&\" \"&Sheet1!F43))","v":""},{"$f":"ASC(IF(Sheet1!G43=\"\",\"\",UPPER(Sheet1!G43)&\" \"&PROPER(Sheet1!H43)&\"(\"&Sheet1!I43&\")\"))","v":""},{"$f":"IF(Sheet1!J43=\"\",\"\",IF(Sheet1!J43=\"女\",2,1))","v":""},{"$f":"IF(Sheet1!K43=\"\",\"\",VLOOKUP(Sheet1!K43,Sheet2!$F$2:$G$50,2,FALSE))","v":""},{"$f":"IF(Sheet1!L43=\"\",\"\",(Sheet1!L43))","v":""},{"$f":"IF(B30=\"\",\"\",VALUE(LEFT(Sheet1!E$4,6)))","v":""},{"$f":"IF(Sheet1!B43=\"\",\"\",VALUE(Sheet1!B43))","v":""},{"$f":"IF(Sheet1!M43=\"\",\"\",IF(VLOOKUP(Sheet1!M43,Sheet2!$A$2:$C$44,3,FALSE)>=71,VLOOKUP(Sheet1!M43,Sheet2!$A$2:$C$44,2,FALSE)&TEXT(Sheet1!O43,\"00\")&TEXT(Sheet1!P43,\"00\"),VLOOKUP(Sheet1!M43,Sheet2!$A$2:$C$44,2,FALSE)&TEXT(Sheet1!N43,\"00\")&TEXT(Sheet1!O43,\"00\")&IF(Sheet1!Q43=\"手\",TEXT(Sheet1!P43,\"0\"),TEXT(Sheet1!P43,\"00\"))))","v":""},{"$f":"IF(Sheet1!R43=\"\",\"\",IF(VLOOKUP(Sheet1!R43,Sheet2!$A$2:$C$44,3,FALSE)>=71,VLOOKUP(Sheet1!R43,Sheet2!$A$2:$C$44,2,FALSE)&TEXT(Sheet1!T43,\"00\")&TEXT(Sheet1!U43,\"00\"),VLOOKUP(Sheet1!R43,Sheet2!$A$2:$C$44,2,FALSE)&TEXT(Sheet1!S43,\"00\")&TEXT(Sheet1!T43,\"00\")&IF(Sheet1!V43=\"手\",TEXT(Sheet1!U43,\"0\"),TEXT(Sheet1!U43,\"00\"))))","v":""},{"$f":"IF(Sheet1!W43=\"\",\"\",IF(VLOOKUP(Sheet1!W43,Sheet2!$A$2:$C$44,3,FALSE)>=71,VLOOKUP(Sheet1!W43,Sheet2!$A$2:$C$44,2,FALSE)&TEXT(Sheet1!Y43,\"00\")&TEXT(Sheet1!Z43,\"00\"),VLOOKUP(Sheet1!W43,Sheet2!$A$2:$C$44,2,FALSE)&TEXT(Sheet1!X43,\"00\")&TEXT(Sheet1!Y43,\"00\")&IF(Sheet1!AA43=\"手\",TEXT(Sheet1!Z43,\"0\"),TEXT(Sheet1!Z43,\"00\"))))","v":""},{"$f":"IF(Sheet1!AD43=\"\",\"\",\"●\")","v":""},{"$f":"IF(Sheet1!AE43=\"\",\"\",\"▲\")","v":""},{"$f":"IF(Sheet1!AF43=\"\",\"\",\"★\")","v":""},{"$f":"IF(Sheet1!AG43=\"\",\"\",\"▼\")","v":""}]
["",{"$f":"ASC(IF(Sheet1!C44=\"\",\"\",IF(LEN(Sheet1!C44)+LEN(Sheet1!D44)=2,Sheet1!C44&\"      \"&Sheet1!D44&\"(\"&Sheet1!I44&\")\",IF(LEN(Sheet1!C44)+LEN(Sheet1!D44)=3,Sheet1!C44&\"    \"&Sheet1!D44&\"(\"&Sheet1!I44&\")\",IF(LEN(Sheet1!C44)+LEN(Sheet1!D44)=4,Sheet1!C44&\"  \"&Sheet1!D44&\"(\"&Sheet1!I44&\")\",IF(LEN(Sheet1!C44)+LEN(Sheet1!D44)>=5,Sheet1!C44&Sheet1!D44&\"(\"&Sheet1!I44&\")\",\"\"))))))","v":""},{"$f":"ASC(IF(Sheet1!E44=\"\",\"\",Sheet1!E44&\" \"&Sheet1!F44))","v":""},{"$f":"ASC(IF(Sheet1!G44=\"\",\"\",UPPER(Sheet1!G44)&\" \"&PROPER(Sheet1!H44)&\"(\"&Sheet1!I44&\")\"))","v":""},{"$f":"IF(Sheet1!J44=\"\",\"\",IF(Sheet1!J44=\"女\",2,1))","v":""},{"$f":"IF(Sheet1!K44=\"\",\"\",VLOOKUP(Sheet1!K44,Sheet2!$F$2:$G$50,2,FALSE))","v":""},{"$f":"IF(Sheet1!L44=\"\",\"\",(Sheet1!L44))","v":""},{"$f":"IF(B31=\"\",\"\",VALUE(LEFT(Sheet1!E$4,6)))","v":""},{"$f":"IF(Sheet1!B44=\"\",\"\",VALUE(Sheet1!B44))","v":""},{"$f":"IF(Sheet1!M44=\"\",\"\",IF(VLOOKUP(Sheet1!M44,Sheet2!$A$2:$C$44,3,FALSE)>=71,VLOOKUP(Sheet1!M44,Sheet2!$A$2:$C$44,2,FALSE)&TEXT(Sheet1!O44,\"00\")&TEXT(Sheet1!P44,\"00\"),VLOOKUP(Sheet1!M44,Sheet2!$A$2:$C$44,2,FALSE)&TEXT(Sheet1!N44,\"00\")&TEXT(Sheet1!O44,\"00\")&IF(Sheet1!Q44=\"手\",TEXT(Sheet1!P44,\"0\"),TEXT(Sheet1!P44,\"00\"))))","v":""},{"$f":"IF(Sheet1!R44=\"\",\"\",IF(VLOOKUP(Sheet1!R44,Sheet2!$A$2:$C$44,3,FALSE)>=71,VLOOKUP(Sheet1!R44,Sheet2!$A$2:$C$44,2,FALSE)&TEXT(Sheet1!T44,\"00\")&TEXT(Sheet1!U44,\"00\"),VLOOKUP(Sheet1!R44,Sheet2!$A$2:$C$44,2,FALSE)&TEXT(Sheet1!S44,\"00\")&TEXT(Sheet1!T44,\"00\")&IF(Sheet1!V44=\"手\",TEXT(Sheet1!U44,\"0\"),TEXT(Sheet1!U44,\"00\"))))","v":""},{"$f":"IF(Sheet1!W44=\"\",\"\",IF(VLOOKUP(Sheet1!W44,Sheet2!$A$2:$C$44,3,FALSE)>=71,VLOOKUP(Sheet1!W44,Sheet2!$A$2:$C$44,2,FALSE)&TEXT(Sheet1!Y44,\"00\")&TEXT(Sheet1!Z44,\"00\"),VLOOKUP(Sheet1!W44,Sheet2!$A$2:$C$44,2,FALSE)&TEXT(Sheet1!X44,\"00\")&TEXT(Sheet1!Y44,\"00\")&IF(Sheet1!AA44=\"手\",TEXT(Sheet1!Z44,\"0\"),TEXT(Sheet1!Z44,\"00\"))))","v":""},{"$f":"IF(Sheet1!AD44=\"\",\"\",\"●\")","v":""},{"$f":"IF(Sheet1!AE44=\"\",\"\",\"▲\")","v":""},{"$f":"IF(Sheet1!AF44=\"\",\"\",\"★\")","v":""},{"$f":"IF(Sheet1!AG44=\"\",\"\",\"▼\")","v":""}]
["",{"$f":"ASC(IF(Sheet1!C45=\"\",\"\",IF(LEN(Sheet1!C45)+LEN(Sheet1!D45)=2,Sheet1!C45&\"      \"&Sheet1!D45&\"(\"&Sheet1!I45&\")\",IF(LEN(Sheet1!C45)+LEN(Sheet1!D45)=3,Sheet1!C45&\"    \"&Sheet1!D45&\"(\"&Sheet1!I45&\")\",IF(LEN(Sheet1!C45)+LEN(Sheet1!D45)=4,Sheet1!C45&\"  \"&Sheet1!D45&\"(\"&Sheet1!I45&\")\",IF(LEN(Sheet1!C45)+LEN(Sheet1!D45)>=5,Sheet1!C45&Sheet1!D45&\"(\"&Sheet1!I45&\")\",\"\"))))))","v":""},{"$f":"ASC(IF(Sheet1!E45=\"\",\"\",Sheet1!E45&\" \"&Sheet1!F45))","v":""},{"$f":"ASC(IF(Sheet1!G45=\"\",\"\",UPPER(Sheet1!G45)&\" \"&PROPER(Sheet1!H45)&\"(\"&Sheet1!I45&\")\"))","v":""},{"$f":"IF(Sheet1!J45=\"\",\"\",IF(Sheet1!J45=\"女\",2,1))","v":""},{"$f":"IF(Sheet1!K45=\"\",\"\",VLOOKUP(Sheet1!K45,Sheet2!$F$2:$G$50,2,FALSE))","v":""},{"$f":"IF(Sheet1!L45=\"\",\"\",(Sheet1!L45))","v":""},{"$f":"IF(B32=\"\",\"\",VALUE(LEFT(Sheet1!E$4,6)))","v":""},{"$f":"IF(Sheet1!B45=\"\",\"\",VALUE(Sheet1!B45))","v":""},{"$f":"IF(Sheet1!M45=\"\",\"\",IF(VLOOKUP(Sheet1!M45,Sheet2!$A$2:$C$44,3,FALSE)>=71,VLOOKUP(Sheet1!M45,Sheet2!$A$2:$C$44,2,FALSE)&TEXT(Sheet1!O45,\"00\")&TEXT(Sheet1!P45,\"00\"),VLOOKUP(Sheet1!M45,Sheet2!$A$2:$C$44,2,FALSE)&TEXT(Sheet1!N45,\"00\")&TEXT(Sheet1!O45,\"00\")&IF(Sheet1!Q45=\"手\",TEXT(Sheet1!P45,\"0\"),TEXT(Sheet1!P45,\"00\"))))","v":""},{"$f":"IF(Sheet1!R45=\"\",\"\",IF(VLOOKUP(Sheet1!R45,Sheet2!$A$2:$C$44,3,FALSE)>=71,VLOOKUP(Sheet1!R45,Sheet2!$A$2:$C$44,2,FALSE)&TEXT(Sheet1!T45,\"00\")&TEXT(Sheet1!U45,\"00\"),VLOOKUP(Sheet1!R45,Sheet2!$A$2:$C$44,2,FALSE)&TEXT(Sheet1!S45,\"00\")&TEXT(Sheet1!T45,\"00\")&IF(Sheet1!V45=\"手\",TEXT(Sheet1!U45,\"0\"),TEXT(Sheet1!U45,\"00\"))))","v":""},{"$f":"IF(Sheet1!W45=\"\",\"\",IF(VLOOKUP(Sheet1!W45,Sheet2!$A$2:$C$44,3,FALSE)>=71,VLOOKUP(Sheet1!W45,Sheet2!$A$2:$C$44,2,FALSE)&TEXT(Sheet1!Y45,\"00\")&TEXT(Sheet1!Z45,\"00\"),VLOOKUP(Sheet1!W45,Sheet2!$A$2:$C$44,2,FALSE)&TEXT(Sheet1!X45,\"00\")&TEXT(Sheet1!Y45,\"00\")&IF(Sheet1!AA45=\"手\",TEXT(Sheet1!Z45,\"0\"),TEXT(Sheet1!Z45,\"00\"))))","v":""},{"$f":"IF(Sheet1!AD45=\"\",\"\",\"●\")","v":""},{"$f":"IF(Sheet1!AE45=\"\",\"\",\"▲\")","v":""},{"$f":"IF(Sheet1!AF45=\"\",\"\",\"★\")","v":""},{"$f":"IF(Sheet1!AG45=\"\",\"\",\"▼\")","v":""}]
["",{"$f":"ASC(IF(Sheet1!C46=\"\",\"\",IF(LEN(Sheet1!C46)+LEN(Sheet1!D46)=2,Sheet1!C46&\"      \"&Sheet1!D46&\"(\"&Sheet1!I46&\")\",IF(LEN(Sheet1!C46)+LEN(Sheet1!D46)=3,Sheet1!C46&\"    \"&Sheet1!D46&\"(\"&Sheet1!I46&\")\",IF(LEN(Sheet1!C46)+LEN(Sheet1!D46)=4,Sheet1!C46&\"  \"&Sheet1!D46&\"(\"&Sheet1!I46&\")\",IF(LEN(Sheet1!C46)+LEN(Sheet1!D46)>=5,Sheet1!C46&Sheet1!D46&\"(\"&Sheet1!I46&\")\",\"\"))))))","v":""},{"$f":"ASC(IF(Sheet1!E46=\"\",\"\",Sheet1!E46&\" \"&Sheet1!F46))","v":""},{"$f":"ASC(IF(Sheet1!G46=\"\",\"\",UPPER(Sheet1!G46)&\" \"&PROPER(Sheet1!H46)&\"(\"&Sheet1!I46&\")\"))","v":""},{"$f":"IF(Sheet1!J46=\"\",\"\",IF(Sheet1!J46=\"女\",2,1))","v":""},{"$f":"IF(Sheet1!K46=\"\",\"\",VLOOKUP(Sheet1!K46,Sheet2!$F$2:$G$50,2,FALSE))","v":""},{"$f":"IF(Sheet1!L46=\"\",\"\",(Sheet1!L46))","v":""},{"$f":"IF(B33=\"\",\"\",VALUE(LEFT(Sheet1!E$4,6)))","v":""},{"$f":"IF(Sheet1!B46=\"\",\"\",VALUE(Sheet1!B46))","v":""},{"$f":"IF(Sheet1!M46=\"\",\"\",IF(VLOOKUP(Sheet1!M46,Sheet2!$A$2:$C$44,3,FALSE)>=71,VLOOKUP(Sheet1!M46,Sheet2!$A$2:$C$44,2,FALSE)&TEXT(Sheet1!O46,\"00\")&TEXT(Sheet1!P46,\"00\"),VLOOKUP(Sheet1!M46,Sheet2!$A$2:$C$44,2,FALSE)&TEXT(Sheet1!N46,\"00\")&TEXT(Sheet1!O46,\"00\")&IF(Sheet1!Q46=\"手\",TEXT(Sheet1!P46,\"0\"),TEXT(Sheet1!P46,\"00\"))))","v":""},{"$f":"IF(Sheet1!R46=\"\",\"\",IF(VLOOKUP(Sheet1!R46,Sheet2!$A$2:$C$44,3,FALSE)>=71,VLOOKUP(Sheet1!R46,Sheet2!$A$2:$C$44,2,FALSE)&TEXT(Sheet1!T46,\"00\")&TEXT(Sheet1!U46,\"00\"),VLOOKUP(Sheet1!R46,Sheet2!$A$2:$C$44,2,FALSE)&TEXT(Sheet1!S46,\"00\")&TEXT(Sheet1!T46,\"00\")&IF(Sheet1!V46=\"手\",TEXT(Sheet1!U46,\"0\"),TEXT(Sheet1!U46,\"00\"))))","v":""},{"$f":"IF(Sheet1!W46=\"\",\"\",IF(VLOOKUP(Sheet1!W46,Sheet2!$A$2:$C$44,3,FALSE)>=71,VLOOKUP(Sheet1!W46,Sheet2!$A$2:$C$44,2,FALSE)&TEXT(Sheet1!Y46,\"00\")&TEXT(Sheet1!Z46,\"00\"),VLOOKUP(Sheet1!W46,Sheet2!$A$2:$C$44,2,FALSE)&TEXT(Sheet1!X46,\"00\")&TEXT(Sheet1!Y46,\"00\")&IF(Sheet1!AA46=\"手\",TEXT(Sheet1!Z46,\"0\"),TEXT(Sheet1!Z46,\"00\"))))","v":""},{"$f":"IF(Sheet1!AD46=\"\",\"\",\"●\")","v":""},{"$f":"IF(Sheet1!AE46=\"\",\"\",\"▲\")","v":""},{"$f":"IF(Sheet1!AF46=\"\",\"\",\"★\")","v":""},{"$f":"IF(Sheet1!AG46=\"\",\"\",\"▼\")","v":""}]
["",{"$f":"ASC(IF(Sheet1!C47=\"\",\"\",IF(LEN(Sheet1!C47)+LEN(Sheet1!D47)=2,Sheet1!C47&\"      \"&Sheet1!D47&\"(\"&Sheet1!I47&\")\",IF(LEN(Sheet1!C47)+LEN(Sheet1!D47)=3,Sheet1!C47&\"    \"&Sheet1!D47&\"(\"&Sheet1!I47&\")\",IF(LEN(Sheet1!C47)+LEN(Sheet1!D47)=4,Sheet1!C47&\"  \"&Sheet1!D47&\"(\"&Sheet1!I47&\")\",IF(LEN(Sheet1!C47)+LEN(Sheet1!D47)>=5,Sheet1!C47&Sheet1!D47&\"(\"&Sheet1!I47&\")\",\"\"))))))","v":""},{"$f":"ASC(IF(Sheet1!E47=\"\",\"\",Sheet1!E47&\" \"&Sheet1!F47))","v":""},{"$f":"ASC(IF(Sheet1!G47=\"\",\"\",UPPER(Sheet1!G47)&\" \"&PROPER(Sheet1!H47)&\"(\"&Sheet1!I47&\")\"))","v":""},{"$f":"IF(Sheet1!J47=\"\",\"\",IF(Sheet1!J47=\"女\",2,1))","v":""},{"$f":"IF(Sheet1!K47=\"\",\"\",VLOOKUP(Sheet1!K47,Sheet2!$F$2:$G$50,2,FALSE))","v":""},{"$f":"IF(Sheet1!L47=\"\",\"\",(Sheet1!L47))","v":""},{"$f":"IF(B34=\"\",\"\",VALUE(LEFT(Sheet1!E$4,6)))","v":""},{"$f":"IF(Sheet1!B47=\"\",\"\",VALUE(Sheet1!B47))","v":""},{"$f":"IF(Sheet1!M47=\"\",\"\",IF(VLOOKUP(Sheet1!M47,Sheet2!$A$2:$C$44,3,FALSE)>=71,VLOOKUP(Sheet1!M47,Sheet2!$A$2:$C$44,2,FALSE)&TEXT(Sheet1!O47,\"00\")&TEXT(Sheet1!P47,\"00\"),VLOOKUP(Sheet1!M47,Sheet2!$A$2:$C$44,2,FALSE)&TEXT(Sheet1!N47,\"00\")&TEXT(Sheet1!O47,\"00\")&IF(Sheet1!Q47=\"手\",TEXT(Sheet1!P47,\"0\"),TEXT(Sheet1!P47,\"00\"))))","v":""},{"$f":"IF(Sheet1!R47=\"\",\"\",IF(VLOOKUP(Sheet1!R47,Sheet2!$A$2:$C$44,3,FALSE)>=71,VLOOKUP(Sheet1!R47,Sheet2!$A$2:$C$44,2,FALSE)&TEXT(Sheet1!T47,\"00\")&TEXT(Sheet1!U47,\"00\"),VLOOKUP(Sheet1!R47,Sheet2!$A$2:$C$44,2,FALSE)&TEXT(Sheet1!S47,\"00\")&TEXT(Sheet1!T47,\"00\")&IF(Sheet1!V47=\"手\",TEXT(Sheet1!U47,\"0\"),TEXT(Sheet1!U47,\"00\"))))","v":""},{"$f":"IF(Sheet1!W47=\"\",\"\",IF(VLOOKUP(Sheet1!W47,Sheet2!$A$2:$C$44,3,FALSE)>=71,VLOOKUP(Sheet1!W47,Sheet2!$A$2:$C$44,2,FALSE)&TEXT(Sheet1!Y47,\"00\")&TEXT(Sheet1!Z47,\"00\"),VLOOKUP(Sheet1!W47,Sheet2!$A$2:$C$44,2,FALSE)&TEXT(Sheet1!X47,\"00\")&TEXT(Sheet1!Y47,\"00\")&IF(Sheet1!AA47=\"手\",TEXT(Sheet1!Z47,\"0\"),TEXT(Sheet1!Z47,\"00\"))))","v":""},{"$f":"IF(Sheet1!AD47=\"\",\"\",\"●\")","v":""},{"$f":"IF(Sheet1!AE47=\"\",\"\",\"▲\")","v":""},{"$f":"IF(Sheet1!AF47=\"\",\"\",\"★\")","v":""},{"$f":"IF(Sheet1!AG47=\"\",\"\",\"▼\")","v":""}]
["",{"$f":"ASC(IF(Sheet1!C48=\"\",\"\",IF(LEN(Sheet1!C48)+LEN(Sheet1!D48)=2,Sheet1!C48&\"      \"&Sheet1!D48&\"(\"&Sheet1!I48&\")\",IF(LEN(Sheet1!C48)+LEN(Sheet1!D48)=3,Sheet1!C48&\"    \"&Sheet1!D48&\"(\"&Sheet1!I48&\")\",IF(LEN(Sheet1!C48)+LEN(Sheet1!D48)=4,Sheet1!C48&\"  \"&Sheet1!D48&\"(\"&Sheet1!I48&\")\",IF(LEN(Sheet1!C48)+LEN(Sheet1!D48)>=5,Sheet1!C48&Sheet1!D48&\"(\"&Sheet1!I48&\")\",\"\"))))))","v":""},{"$f":"ASC(IF(Sheet1!E48=\"\",\"\",Sheet1!E48&\" \"&Sheet1!F48))","v":""},{"$f":"ASC(IF(Sheet1!G48=\"\",\"\",UPPER(Sheet1!G48)&\" \"&PROPER(Sheet1!H48)&\"(\"&Sheet1!I48&\")\"))","v":""},{"$f":"IF(Sheet1!J48=\"\",\"\",IF(Sheet1!J48=\"女\",2,1))","v":""},{"$f":"IF(Sheet1!K48=\"\",\"\",VLOOKUP(Sheet1!K48,Sheet2!$F$2:$G$50,2,FALSE))","v":""},{"$f":"IF(Sheet1!L48=\"\",\"\",(Sheet1!L48))","v":""},{"$f":"IF(B35=\"\",\"\",VALUE(LEFT(Sheet1!E$4,6)))","v":""},{"$f":"IF(Sheet1!B48=\"\",\"\",VALUE(Sheet1!B48))","v":""},{"$f":"IF(Sheet1!M48=\"\",\"\",IF(VLOOKUP(Sheet1!M48,Sheet2!$A$2:$C$44,3,FALSE)>=71,VLOOKUP(Sheet1!M48,Sheet2!$A$2:$C$44,2,FALSE)&TEXT(Sheet1!O48,\"00\")&TEXT(Sheet1!P48,\"00\"),VLOOKUP(Sheet1!M48,Sheet2!$A$2:$C$44,2,FALSE)&TEXT(Sheet1!N48,\"00\")&TEXT(Sheet1!O48,\"00\")&IF(Sheet1!Q48=\"手\",TEXT(Sheet1!P48,\"0\"),TEXT(Sheet1!P48,\"00\"))))","v":""},{"$f":"IF(Sheet1!R48=\"\",\"\",IF(VLOOKUP(Sheet1!R48,Sheet2!$A$2:$C$44,3,FALSE)>=71,VLOOKUP(Sheet1!R48,Sheet2!$A$2:$C$44,2,FALSE)&TEXT(Sheet1!T48,\"00\")&TEXT(Sheet1!U48,\"00\"),VLOOKUP(Sheet1!R48,Sheet2!$A$2:$C$44,2,FALSE)&TEXT(Sheet1!S48,\"00\")&TEXT(Sheet1!T48,\"00\")&IF(Sheet1!V48=\"手\",TEXT(Sheet1!U48,\"0\"),TEXT(Sheet1!U48,\"00\"))))","v":""},{"$f":"IF(Sheet1!W48=\"\",\"\",IF(VLOOKUP(Sheet1!W48,Sheet2!$A$2:$C$44,3,FALSE)>=71,VLOOKUP(Sheet1!W48,Sheet2!$A$2:$C$44,2,FALSE)&TEXT(Sheet1!Y48,\"00\")&TEXT(Sheet1!Z48,\"00\"),VLOOKUP(Sheet1!W48,Sheet2!$A$2:$C$44,2,FALSE)&TEXT(Sheet1!X48,\"00\")&TEXT(Sheet1!Y48,\"00\")&IF(Sheet1!AA48=\"手\",TEXT(Sheet1!Z48,\"0\"),TEXT(Sheet1!Z48,\"00\"))))","v":""},{"$f":"IF(Sheet1!AD48=\"\",\"\",\"●\")","v":""},{"$f":"IF(Sheet1!AE48=\"\",\"\",\"▲\")","v":""},{"$f":"IF(Sheet1!AF48=\"\",\"\",\"★\")","v":""},{"$f":"IF(Sheet1!AG48=\"\",\"\",\"▼\")","v":""}]
["",{"$f":"ASC(IF(Sheet1!C49=\"\",\"\",IF(LEN(Sheet1!C49)+LEN(Sheet1!D49)=2,Sheet1!C49&\"      \"&Sheet1!D49&\"(\"&Sheet1!I49&\")\",IF(LEN(Sheet1!C49)+LEN(Sheet1!D49)=3,Sheet1!C49&\"    \"&Sheet1!D49&\"(\"&Sheet1!I49&\")\",IF(LEN(Sheet1!C49)+LEN(Sheet1!D49)=4,Sheet1!C49&\"  \"&Sheet1!D49&\"(\"&Sheet1!I49&\")\",IF(LEN(Sheet1!C49)+LEN(Sheet1!D49)>=5,Sheet1!C49&Sheet1!D49&\"(\"&Sheet1!I49&\")\",\"\"))))))","v":""},{"$f":"ASC(IF(Sheet1!E49=\"\",\"\",Sheet1!E49&\" \"&Sheet1!F49))","v":""},{"$f":"ASC(IF(Sheet1!G49=\"\",\"\",UPPER(Sheet1!G49)&\" \"&PROPER(Sheet1!H49)&\"(\"&Sheet1!I49&\")\"))","v":""},{"$f":"IF(Sheet1!J49=\"\",\"\",IF(Sheet1!J49=\"女\",2,1))","v":""},{"$f":"IF(Sheet1!K49=\"\",\"\",VLOOKUP(Sheet1!K49,Sheet2!$F$2:$G$50,2,FALSE))","v":""},{"$f":"IF(Sheet1!L49=\"\",\"\",(Sheet1!L49))","v":""},{"$f":"IF(B36=\"\",\"\",VALUE(LEFT(Sheet1!E$4,6)))","v":""},{"$f":"IF(Sheet1!B49=\"\",\"\",VALUE(Sheet1!B49))","v":""},{"$f":"IF(Sheet1!M49=\"\",\"\",IF(VLOOKUP(Sheet1!M49,Sheet2!$A$2:$C$44,3,FALSE)>=71,VLOOKUP(Sheet1!M49,Sheet2!$A$2:$C$44,2,FALSE)&TEXT(Sheet1!O49,\"00\")&TEXT(Sheet1!P49,\"00\"),VLOOKUP(Sheet1!M49,Sheet2!$A$2:$C$44,2,FALSE)&TEXT(Sheet1!N49,\"00\")&TEXT(Sheet1!O49,\"00\")&IF(Sheet1!Q49=\"手\",TEXT(Sheet1!P49,\"0\"),TEXT(Sheet1!P49,\"00\"))))","v":""},{"$f":"IF(Sheet1!R49=\"\",\"\",IF(VLOOKUP(Sheet1!R49,Sheet2!$A$2:$C$44,3,FALSE)>=71,VLOOKUP(Sheet1!R49,Sheet2!$A$2:$C$44,2,FALSE)&TEXT(Sheet1!T49,\"00\")&TEXT(Sheet1!U49,\"00\"),VLOOKUP(Sheet1!R49,Sheet2!$A$2:$C$44,2,FALSE)&TEXT(Sheet1!S49,\"00\")&TEXT(Sheet1!T49,\"00\")&IF(Sheet1!V49=\"手\",TEXT(Sheet1!U49,\"0\"),TEXT(Sheet1!U49,\"00\"))))","v":""},{"$f":"IF(Sheet1!W49=\"\",\"\",IF(VLOOKUP(Sheet1!W49,Sheet2!$A$2:$C$44,3,FALSE)>=71,VLOOKUP(Sheet1!W49,Sheet2!$A$2:$C$44,2,FALSE)&TEXT(Sheet1!Y49,\"00\")&TEXT(Sheet1!Z49,\"00\"),VLOOKUP(Sheet1!W49,Sheet2!$A$2:$C$44,2,FALSE)&TEXT(Sheet1!X49,\"00\")&TEXT(Sheet1!Y49,\"00\")&IF(Sheet1!AA49=\"手\",TEXT(Sheet1!Z49,\"0\"),TEXT(Sheet1!Z49,\"00\"))))","v":""},{"$f":"IF(Sheet1!AD49=\"\",\"\",\"●\")","v":""},{"$f":"IF(Sheet1!AE49=\"\",\"\",\"▲\")","v":""},{"$f":"IF(Sheet1!AF49=\"\",\"\",\"★\")","v":""},{"$f":"IF(Sheet1!AG49=\"\",\"\",\"▼\")","v":""}]
["",{"$f":"ASC(IF(Sheet1!C50=\"\",\"\",IF(LEN(Sheet1!C50)+LEN(Sheet1!D50)=2,Sheet1!C50&\"      \"&Sheet1!D50&\"(\"&Sheet1!I50&\")\",IF(LEN(Sheet1!C50)+LEN(Sheet1!D50)=3,Sheet1!C50&\"    \"&Sheet1!D50&\"(\"&Sheet1!I50&\")\",IF(LEN(Sheet1!C50)+LEN(Sheet1!D50)=4,Sheet1!C50&\"  \"&Sheet1!D50&\"(\"&Sheet1!I50&\")\",IF(LEN(Sheet1!C50)+LEN(Sheet1!D50)>=5,Sheet1!C50&Sheet1!D50&\"(\"&Sheet1!I50&\")\",\"\"))))))","v":""},{"$f":"ASC(IF(Sheet1!E50=\"\",\"\",Sheet1!E50&\" \"&Sheet1!F50))","v":""},{"$f":"ASC(IF(Sheet1!G50=\"\",\"\",UPPER(Sheet1!G50)&\" \"&PROPER(Sheet1!H50)&\"(\"&Sheet1!I50&\")\"))","v":""},{"$f":"IF(Sheet1!J50=\"\",\"\",IF(Sheet1!J50=\"女\",2,1))","v":""},{"$f":"IF(Sheet1!K50=\"\",\"\",VLOOKUP(Sheet1!K50,Sheet2!$F$2:$G$50,2,FALSE))","v":""},{"$f":"IF(Sheet1!L50=\"\",\"\",(Sheet1!L50))","v":""},{"$f":"IF(B37=\"\",\"\",VALUE(LEFT(Sheet1!E$4,6)))","v":""},{"$f":"IF(Sheet1!B50=\"\",\"\",VALUE(Sheet1!B50))","v":""},{"$f":"IF(Sheet1!M50=\"\",\"\",IF(VLOOKUP(Sheet1!M50,Sheet2!$A$2:$C$44,3,FALSE)>=71,VLOOKUP(Sheet1!M50,Sheet2!$A$2:$C$44,2,FALSE)&TEXT(Sheet1!O50,\"00\")&TEXT(Sheet1!P50,\"00\"),VLOOKUP(Sheet1!M50,Sheet2!$A$2:$C$44,2,FALSE)&TEXT(Sheet1!N50,\"00\")&TEXT(Sheet1!O50,\"00\")&IF(Sheet1!Q50=\"手\",TEXT(Sheet1!P50,\"0\"),TEXT(Sheet1!P50,\"00\"))))","v":""},{"$f":"IF(Sheet1!R50=\"\",\"\",IF(VLOOKUP(Sheet1!R50,Sheet2!$A$2:$C$44,3,FALSE)>=71,VLOOKUP(Sheet1!R50,Sheet2!$A$2:$C$44,2,FALSE)&TEXT(Sheet1!T50,\"00\")&TEXT(Sheet1!U50,\"00\"),VLOOKUP(Sheet1!R50,Sheet2!$A$2:$C$44,2,FALSE)&TEXT(Sheet1!S50,\"00\")&TEXT(Sheet1!T50,\"00\")&IF(Sheet1!V50=\"手\",TEXT(Sheet1!U50,\"0\"),TEXT(Sheet1!U50,\"00\"))))","v":""},{"$f":"IF(Sheet1!W50=\"\",\"\",IF(VLOOKUP(Sheet1!W50,Sheet2!$A$2:$C$44,3,FALSE)>=71,VLOOKUP(Sheet1!W50,Sheet2!$A$2:$C$44,2,FALSE)&TEXT(Sheet1!Y50,\"00\")&TEXT(Sheet1!Z50,\"00\"),VLOOKUP(Sheet1!W50,Sheet2!$A$2:$C$44,2,FALSE)&TEXT(Sheet1!X50,\"00\")&TEXT(Sheet1!Y50,\"00\")&IF(Sheet1!AA50=\"手\",TEXT(Sheet1!Z50,\"0\"),TEXT(Sheet1!Z50,\"00\"))))","v":""},{"$f":"IF(Sheet1!AD50=\"\",\"\",\"●\")","v":""},{"$f":"IF(Sheet1!AE50=\"\",\"\",\"▲\")","v":""},{"$f":"IF(Sheet1!AF50=\"\",\"\",\"★\")","v":""},{"$f":"IF(Sheet1!AG50=\"\",\"\",\"▼\")","v":""}]
["",{"$f":"ASC(IF(Sheet1!C51=\"\",\"\",IF(LEN(Sheet1!C51)+LEN(Sheet1!D51)=2,Sheet1!C51&\"      \"&Sheet1!D51&\"(\"&Sheet1!I51&\")\",IF(LEN(Sheet1!C51)+LEN(Sheet1!D51)=3,Sheet1!C51&\"    \"&Sheet1!D51&\"(\"&Sheet1!I51&\")\",IF(LEN(Sheet1!C51)+LEN(Sheet1!D51)=4,Sheet1!C51&\"  \"&Sheet1!D51&\"(\"&Sheet1!I51&\")\",IF(LEN(Sheet1!C51)+LEN(Sheet1!D51)>=5,Sheet1!C51&Sheet1!D51&\"(\"&Sheet1!I51&\")\",\"\"))))))","v":""},{"$f":"ASC(IF(Sheet1!E51=\"\",\"\",Sheet1!E51&\" \"&Sheet1!F51))","v":""},{"$f":"ASC(IF(Sheet1!G51=\"\",\"\",UPPER(Sheet1!G51)&\" \"&PROPER(Sheet1!H51)&\"(\"&Sheet1!I51&\")\"))","v":""},{"$f":"IF(Sheet1!J51=\"\",\"\",IF(Sheet1!J51=\"女\",2,1))","v":""},{"$f":"IF(Sheet1!K51=\"\",\"\",VLOOKUP(Sheet1!K51,Sheet2!$F$2:$G$50,2,FALSE))","v":""},{"$f":"IF(Sheet1!L51=\"\",\"\",(Sheet1!L51))","v":""},{"$f":"IF(B38=\"\",\"\",VALUE(LEFT(Sheet1!E$4,6)))","v":""},{"$f":"IF(Sheet1!B51=\"\",\"\",VALUE(Sheet1!B51))","v":""},{"$f":"IF(Sheet1!M51=\"\",\"\",IF(VLOOKUP(Sheet1!M51,Sheet2!$A$2:$C$44,3,FALSE)>=71,VLOOKUP(Sheet1!M51,Sheet2!$A$2:$C$44,2,FALSE)&TEXT(Sheet1!O51,\"00\")&TEXT(Sheet1!P51,\"00\"),VLOOKUP(Sheet1!M51,Sheet2!$A$2:$C$44,2,FALSE)&TEXT(Sheet1!N51,\"00\")&TEXT(Sheet1!O51,\"00\")&IF(Sheet1!Q51=\"手\",TEXT(Sheet1!P51,\"0\"),TEXT(Sheet1!P51,\"00\"))))","v":""},{"$f":"IF(Sheet1!R51=\"\",\"\",IF(VLOOKUP(Sheet1!R51,Sheet2!$A$2:$C$44,3,FALSE)>=71,VLOOKUP(Sheet1!R51,Sheet2!$A$2:$C$44,2,FALSE)&TEXT(Sheet1!T51,\"00\")&TEXT(Sheet1!U51,\"00\"),VLOOKUP(Sheet1!R51,Sheet2!$A$2:$C$44,2,FALSE)&TEXT(Sheet1!S51,\"00\")&TEXT(Sheet1!T51,\"00\")&IF(Sheet1!V51=\"手\",TEXT(Sheet1!U51,\"0\"),TEXT(Sheet1!U51,\"00\"))))","v":""},{"$f":"IF(Sheet1!W51=\"\",\"\",IF(VLOOKUP(Sheet1!W51,Sheet2!$A$2:$C$44,3,FALSE)>=71,VLOOKUP(Sheet1!W51,Sheet2!$A$2:$C$44,2,FALSE)&TEXT(Sheet1!Y51,\"00\")&TEXT(Sheet1!Z51,\"00\"),VLOOKUP(Sheet1!W51,Sheet2!$A$2:$C$44,2,FALSE)&TEXT(Sheet1!X51,\"00\")&TEXT(Sheet1!Y51,\"00\")&IF(Sheet1!AA51=\"手\",TEXT(Sheet1!Z51,\"0\"),TEXT(Sheet1!Z51,\"00\"))))","v":""},{"$f":"IF(Sheet1!AD51=\"\",\"\",\"●\")","v":""},{"$f":"IF(Sheet1!AE51=\"\",\"\",\"▲\")","v":""},{"$f":"IF(Sheet1!AF51=\"\",\"\",\"★\")","v":""},{"$f":"IF(Sheet1!AG51=\"\",\"\",\"▼\")","v":""}]
["",{"$f":"ASC(IF(Sheet1!C52=\"\",\"\",IF(LEN(Sheet1!C52)+LEN(Sheet1!D52)=2,Sheet1!C52&\"      \"&Sheet1!D52&\"(\"&Sheet1!I52&\")\",IF(LEN(Sheet1!C52)+LEN(Sheet1!D52)=3,Sheet1!C52&\"    \"&Sheet1!D52&\"(\"&Sheet1!I52&\")\",IF(LEN(Sheet1!C52)+LEN(Sheet1!D52)=4,Sheet1!C52&\"  \"&Sheet1!D52&\"(\"&Sheet1!I52&\")\",IF(LEN(Sheet1!C52)+LEN(Sheet1!D52)>=5,Sheet1!C52&Sheet1!D52&\"(\"&Sheet1!I52&\")\",\"\"))))))","v":""},{"$f":"ASC(IF(Sheet1!E52=\"\",\"\",Sheet1!E52&\" \"&Sheet1!F52))","v":""},{"$f":"ASC(IF(Sheet1!G52=\"\",\"\",UPPER(Sheet1!G52)&\" \"&PROPER(Sheet1!H52)&\"(\"&Sheet1!I52&\")\"))","v":""},{"$f":"IF(Sheet1!J52=\"\",\"\",IF(Sheet1!J52=\"女\",2,1))","v":""},{"$f":"IF(Sheet1!K52=\"\",\"\",VLOOKUP(Sheet1!K52,Sheet2!$F$2:$G$50,2,FALSE))","v":""},{"$f":"IF(Sheet1!L52=\"\",\"\",(Sheet1!L52))","v":""},{"$f":"IF(B39=\"\",\"\",VALUE(LEFT(Sheet1!E$4,6)))","v":""},{"$f":"IF(Sheet1!B52=\"\",\"\",VALUE(Sheet1!B52))","v":""},{"$f":"IF(Sheet1!M52=\"\",\"\",IF(VLOOKUP(Sheet1!M52,Sheet2!$A$2:$C$44,3,FALSE)>=71,VLOOKUP(Sheet1!M52,Sheet2!$A$2:$C$44,2,FALSE)&TEXT(Sheet1!O52,\"00\")&TEXT(Sheet1!P52,\"00\"),VLOOKUP(Sheet1!M52,Sheet2!$A$2:$C$44,2,FALSE)&TEXT(Sheet1!N52,\"00\")&TEXT(Sheet1!O52,\"00\")&IF(Sheet1!Q52=\"手\",TEXT(Sheet1!P52,\"0\"),TEXT(Sheet1!P52,\"00\"))))","v":""},{"$f":"IF(Sheet1!R52=\"\",\"\",IF(VLOOKUP(Sheet1!R52,Sheet2!$A$2:$C$44,3,FALSE)>=71,VLOOKUP(Sheet1!R52,Sheet2!$A$2:$C$44,2,FALSE)&TEXT(Sheet1!T52,\"00\")&TEXT(Sheet1!U52,\"00\"),VLOOKUP(Sheet1!R52,Sheet2!$A$2:$C$44,2,FALSE)&TEXT(Sheet1!S52,\"00\")&TEXT(Sheet1!T52,\"00\")&IF(Sheet1!V52=\"手\",TEXT(Sheet1!U52,\"0\"),TEXT(Sheet1!U52,\"00\"))))","v":""},{"$f":"IF(Sheet1!W52=\"\",\"\",IF(VLOOKUP(Sheet1!W52,Sheet2!$A$2:$C$44,3,FALSE)>=71,VLOOKUP(Sheet1!W52,Sheet2!$A$2:$C$44,2,FALSE)&TEXT(Sheet1!Y52,\"00\")&TEXT(Sheet1!Z52,\"00\"),VLOOKUP(Sheet1!W52,Sheet2!$A$2:$C$44,2,FALSE)&TEXT(Sheet1!X52,\"00\")&TEXT(Sheet1!Y52,\"00\")&IF(Sheet1!AA52=\"手\",TEXT(Sheet1!Z52,\"0\"),TEXT(Sheet1!Z52,\"00\"))))","v":""},{"$f":"IF(Sheet1!AD52=\"\",\"\",\"●\")","v":""},{"$f":"IF(Sheet1!AE52=\"\",\"\",\"▲\")","v":""},{"$f":"IF(Sheet1!AF52=\"\",\"\",\"★\")","v":""},{"$f":"IF(Sheet1!AG52=\"\",\"\",\"▼\")","v":""}]
["",{"$f":"ASC(IF(Sheet1!C53=\"\",\"\",IF(LEN(Sheet1!C53)+LEN(Sheet1!D53)=2,Sheet1!C53&\"      \"&Sheet1!D53&\"(\"&Sheet1!I53&\")\",IF(LEN(Sheet1!C53)+LEN(Sheet1!D53)=3,Sheet1!C53&\"    \"&Sheet1!D53&\"(\"&Sheet1!I53&\")\",IF(LEN(Sheet1!C53)+LEN(Sheet1!D53)=4,Sheet1!C53&\"  \"&Sheet1!D53&\"(\"&Sheet1!I53&\")\",IF(LEN(Sheet1!C53)+LEN(Sheet1!D53)>=5,Sheet1!C53&Sheet1!D53&\"(\"&Sheet1!I53&\")\",\"\"))))))","v":""},{"$f":"ASC(IF(Sheet1!E53=\"\",\"\",Sheet1!E53&\" \"&Sheet1!F53))","v":""},{"$f":"ASC(IF(Sheet1!G53=\"\",\"\",UPPER(Sheet1!G53)&\" \"&PROPER(Sheet1!H53)&\"(\"&Sheet1!I53&\")\"))","v":""},{"$f":"IF(Sheet1!J53=\"\",\"\",IF(Sheet1!J53=\"女\",2,1))","v":""},{"$f":"IF(Sheet1!K53=\"\",\"\",VLOOKUP(Sheet1!K53,Sheet2!$F$2:$G$50,2,FALSE))","v":""},{"$f":"IF(Sheet1!L53=\"\",\"\",(Sheet1!L53))","v":""},{"$f":"IF(B40=\"\",\"\",VALUE(LEFT(Sheet1!E$4,6)))","v":""},{"$f":"IF(Sheet1!B53=\"\",\"\",VALUE(Sheet1!B53))","v":""},{"$f":"IF(Sheet1!M53=\"\",\"\",IF(VLOOKUP(Sheet1!M53,Sheet2!$A$2:$C$44,3,FALSE)>=71,VLOOKUP(Sheet1!M53,Sheet2!$A$2:$C$44,2,FALSE)&TEXT(Sheet1!O53,\"00\")&TEXT(Sheet1!P53,\"00\"),VLOOKUP(Sheet1!M53,Sheet2!$A$2:$C$44,2,FALSE)&TEXT(Sheet1!N53,\"00\")&TEXT(Sheet1!O53,\"00\")&IF(Sheet1!Q53=\"手\",TEXT(Sheet1!P53,\"0\"),TEXT(Sheet1!P53,\"00\"))))","v":""},{"$f":"IF(Sheet1!R53=\"\",\"\",IF(VLOOKUP(Sheet1!R53,Sheet2!$A$2:$C$44,3,FALSE)>=71,VLOOKUP(Sheet1!R53,Sheet2!$A$2:$C$44,2,FALSE)&TEXT(Sheet1!T53,\"00\")&TEXT(Sheet1!U53,\"00\"),VLOOKUP(Sheet1!R53,Sheet2!$A$2:$C$44,2,FALSE)&TEXT(Sheet1!S53,\"00\")&TEXT(Sheet1!T53,\"00\")&IF(Sheet1!V53=\"手\",TEXT(Sheet1!U53,\"0\"),TEXT(Sheet1!U53,\"00\"))))","v":""},{"$f":"IF(Sheet1!W53=\"\",\"\",IF(VLOOKUP(Sheet1!W53,Sheet2!$A$2:$C$44,3,FALSE)>=71,VLOOKUP(Sheet1!W53,Sheet2!$A$2:$C$44,2,FALSE)&TEXT(Sheet1!Y53,\"00\")&TEXT(Sheet1!Z53,\"00\"),VLOOKUP(Sheet1!W53,Sheet2!$A$2:$C$44,2,FALSE)&TEXT(Sheet1!X53,\"00\")&TEXT(Sheet1!Y53,\"00\")&IF(Sheet1!AA53=\"手\",TEXT(Sheet1!Z53,\"0\"),TEXT(Sheet1!Z53,\"00\"))))","v":""},{"$f":"IF(Sheet1!AD53=\"\",\"\",\"●\")","v":""},{"$f":"IF(Sheet1!AE53=\"\",\"\",\"▲\")","v":""},{"$f":"IF(Sheet1!AF53=\"\",\"\",\"★\")","v":""},{"$f":"IF(Sheet1!AG53=\"\",\"\",\"▼\")","v":""}]
["",{"$f":"ASC(IF(Sheet1!C54=\"\",\"\",IF(LEN(Sheet1!C54)+LEN(Sheet1!D54)=2,Sheet1!C54&\"      \"&Sheet1!D54&\"(\"&Sheet1!I54&\")\",IF(LEN(Sheet1!C54)+LEN(Sheet1!D54)=3,Sheet1!C54&\"    \"&Sheet1!D54&\"(\"&Sheet1!I54&\")\",IF(LEN(Sheet1!C54)+LEN(Sheet1!D54)=4,Sheet1!C54&\"  \"&Sheet1!D54&\"(\"&Sheet1!I54&\")\",IF(LEN(Sheet1!C54)+LEN(Sheet1!D54)>=5,Sheet1!C54&Sheet1!D54&\"(\"&Sheet1!I54&\")\",\"\"))))))","v":""},{"$f":"ASC(IF(Sheet1!E54=\"\",\"\",Sheet1!E54&\" \"&Sheet1!F54))","v":""},{"$f":"ASC(IF(Sheet1!G54=\"\",\"\",UPPER(Sheet1!G54)&\" \"&PROPER(Sheet1!H54)&\"(\"&Sheet1!I54&\")\"))","v":""},{"$f":"IF(Sheet1!J54=\"\",\"\",IF(Sheet1!J54=\"女\",2,1))","v":""},{"$f":"IF(Sheet1!K54=\"\",\"\",VLOOKUP(Sheet1!K54,Sheet2!$F$2:$G$50,2,FALSE))","v":""},{"$f":"IF(Sheet1!L54=\"\",\"\",(Sheet1!L54))","v":""},{"$f":"IF(B41=\"\",\"\",VALUE(LEFT(Sheet1!E$4,6)))","v":""},{"$f":"IF(Sheet1!B54=\"\",\"\",VALUE(Sheet1!B54))","v":""},{"$f":"IF(Sheet1!M54=\"\",\"\",IF(VLOOKUP(Sheet1!M54,Sheet2!$A$2:$C$44,3,FALSE)>=71,VLOOKUP(Sheet1!M54,Sheet2!$A$2:$C$44,2,FALSE)&TEXT(Sheet1!O54,\"00\")&TEXT(Sheet1!P54,\"00\"),VLOOKUP(Sheet1!M54,Sheet2!$A$2:$C$44,2,FALSE)&TEXT(Sheet1!N54,\"00\")&TEXT(Sheet1!O54,\"00\")&IF(Sheet1!Q54=\"手\",TEXT(Sheet1!P54,\"0\"),TEXT(Sheet1!P54,\"00\"))))","v":""},{"$f":"IF(Sheet1!R54=\"\",\"\",IF(VLOOKUP(Sheet1!R54,Sheet2!$A$2:$C$44,3,FALSE)>=71,VLOOKUP(Sheet1!R54,Sheet2!$A$2:$C$44,2,FALSE)&TEXT(Sheet1!T54,\"00\")&TEXT(Sheet1!U54,\"00\"),VLOOKUP(Sheet1!R54,Sheet2!$A$2:$C$44,2,FALSE)&TEXT(Sheet1!S54,\"00\")&TEXT(Sheet1!T54,\"00\")&IF(Sheet1!V54=\"手\",TEXT(Sheet1!U54,\"0\"),TEXT(Sheet1!U54,\"00\"))))","v":""},{"$f":"IF(Sheet1!W54=\"\",\"\",IF(VLOOKUP(Sheet1!W54,Sheet2!$A$2:$C$44,3,FALSE)>=71,VLOOKUP(Sheet1!W54,Sheet2!$A$2:$C$44,2,FALSE)&TEXT(Sheet1!Y54,\"00\")&TEXT(Sheet1!Z54,\"00\"),VLOOKUP(Sheet1!W54,Sheet2!$A$2:$C$44,2,FALSE)&TEXT(Sheet1!X54,\"00\")&TEXT(Sheet1!Y54,\"00\")&IF(Sheet1!AA54=\"手\",TEXT(Sheet1!Z54,\"0\"),TEXT(Sheet1!Z54,\"00\"))))","v":""},{"$f":"IF(Sheet1!AD54=\"\",\"\",\"●\")","v":""},{"$f":"IF(Sheet1!AE54=\"\",\"\",\"▲\")","v":""},{"$f":"IF(Sheet1!AF54=\"\",\"\",\"★\")","v":""},{"$f":"IF(Sheet1!AG54=\"\",\"\",\"▼\")","v":""}]
["",{"$f":"ASC(IF(Sheet1!C55=\"\",\"\",IF(LEN(Sheet1!C55)+LEN(Sheet1!D55)=2,Sheet1!C55&\"      \"&Sheet1!D55&\"(\"&Sheet1!I55&\")\",IF(LEN(Sheet1!C55)+LEN(Sheet1!D55)=3,Sheet1!C55&\"    \"&Sheet1!D55&\"(\"&Sheet1!I55&\")\",IF(LEN(Sheet1!C55)+LEN(Sheet1!D55)=4,Sheet1!C55&\"  \"&Sheet1!D55&\"(\"&Sheet1!I55&\")\",IF(LEN(Sheet1!C55)+LEN(Sheet1!D55)>=5,Sheet1!C55&Sheet1!D55&\"(\"&Sheet1!I55&\")\",\"\"))))))","v":""},{"$f":"ASC(IF(Sheet1!E55=\"\",\"\",Sheet1!E55&\" \"&Sheet1!F55))","v":""},{"$f":"ASC(IF(Sheet1!G55=\"\",\"\",UPPER(Sheet1!G55)&\" \"&PROPER(Sheet1!H55)&\"(\"&Sheet1!I55&\")\"))","v":""},{"$f":"IF(Sheet1!J55=\"\",\"\",IF(Sheet1!J55=\"女\",2,1))","v":""},{"$f":"IF(Sheet1!K55=\"\",\"\",VLOOKUP(Sheet1!K55,Sheet2!$F$2:$G$50,2,FALSE))","v":""},{"$f":"IF(Sheet1!L55=\"\",\"\",(Sheet1!L55))","v":""},{"$f":"IF(B42=\"\",\"\",VALUE(LEFT(Sheet1!E$4,6)))","v":""},{"$f":"IF(Sheet1!B55=\"\",\"\",VALUE(Sheet1!B55))","v":""},{"$f":"IF(Sheet1!M55=\"\",\"\",IF(VLOOKUP(Sheet1!M55,Sheet2!$A$2:$C$44,3,FALSE)>=71,VLOOKUP(Sheet1!M55,Sheet2!$A$2:$C$44,2,FALSE)&TEXT(Sheet1!O55,\"00\")&TEXT(Sheet1!P55,\"00\"),VLOOKUP(Sheet1!M55,Sheet2!$A$2:$C$44,2,FALSE)&TEXT(Sheet1!N55,\"00\")&TEXT(Sheet1!O55,\"00\")&IF(Sheet1!Q55=\"手\",TEXT(Sheet1!P55,\"0\"),TEXT(Sheet1!P55,\"00\"))))","v":""},{"$f":"IF(Sheet1!R55=\"\",\"\",IF(VLOOKUP(Sheet1!R55,Sheet2!$A$2:$C$44,3,FALSE)>=71,VLOOKUP(Sheet1!R55,Sheet2!$A$2:$C$44,2,FALSE)&TEXT(Sheet1!T55,\"00\")&TEXT(Sheet1!U55,\"00\"),VLOOKUP(Sheet1!R55,Sheet2!$A$2:$C$44,2,FALSE)&TEXT(Sheet1!S55,\"00\")&TEXT(Sheet1!T55,\"00\")&IF(Sheet1!V55=\"手\",TEXT(Sheet1!U55,\"0\"),TEXT(Sheet1!U55,\"00\"))))","v":""},{"$f":"IF(Sheet1!W55=\"\",\"\",IF(VLOOKUP(Sheet1!W55,Sheet2!$A$2:$C$44,3,FALSE)>=71,VLOOKUP(Sheet1!W55,Sheet2!$A$2:$C$44,2,FALSE)&TEXT(Sheet1!Y55,\"00\")&TEXT(Sheet1!Z55,\"00\"),VLOOKUP(Sheet1!W55,Sheet2!$A$2:$C$44,2,FALSE)&TEXT(Sheet1!X55,\"00\")&TEXT(Sheet1!Y55,\"00\")&IF(Sheet1!AA55=\"手\",TEXT(Sheet1!Z55,\"0\"),TEXT(Sheet1!Z55,\"00\"))))","v":""},{"$f":"IF(Sheet1!AD55=\"\",\"\",\"●\")","v":""},{"$f":"IF(Sheet1!AE55=\"\",\"\",\"▲\")","v":""},{"$f":"IF(Sheet1!AF55=\"\",\"\",\"★\")","v":""},{"$f":"IF(Sheet1!AG55=\"\",\"\",\"▼\")","v":""}]
["",{"$f":"ASC(IF(Sheet1!C56=\"\",\"\",IF(LEN(Sheet1!C56)+LEN(Sheet1!D56)=2,Sheet1!C56&\"      \"&Sheet1!D56&\"(\"&Sheet1!I56&\")\",IF(LEN(Sheet1!C56)+LEN(Sheet1!D56)=3,Sheet1!C56&\"    \"&Sheet1!D56&\"(\"&Sheet1!I56&\")\",IF(LEN(Sheet1!C56)+LEN(Sheet1!D56)=4,Sheet1!C56&\"  \"&Sheet1!D56&\"(\"&Sheet1!I56&\")\",IF(LEN(Sheet1!C56)+LEN(Sheet1!D56)>=5,Sheet1!C56&Sheet1!D56&\"(\"&Sheet1!I56&\")\",\"\"))))))","v":""},{"$f":"ASC(IF(Sheet1!E56=\"\",\"\",Sheet1!E56&\" \"&Sheet1!F56))","v":""},{"$f":"ASC(IF(Sheet1!G56=\"\",\"\",UPPER(Sheet1!G56)&\" \"&PROPER(Sheet1!H56)&\"(\"&Sheet1!I56&\")\"))","v":""},{"$f":"IF(Sheet1!J56=\"\",\"\",IF(Sheet1!J56=\"女\",2,1))","v":""},{"$f":"IF(Sheet1!K56=\"\",\"\",VLOOKUP(Sheet1!K56,Sheet2!$F$2:$G$50,2,FALSE))","v":""},{"$f":"IF(Sheet1!L56=\"\",\"\",(Sheet1!L56))","v":""},{"$f":"IF(B43=\"\",\"\",VALUE(LEFT(Sheet1!E$4,6)))","v":""},{"$f":"IF(Sheet1!B56=\"\",\"\",VALUE(Sheet1!B56))","v":""},{"$f":"IF(Sheet1!M56=\"\",\"\",IF(VLOOKUP(Sheet1!M56,Sheet2!$A$2:$C$44,3,FALSE)>=71,VLOOKUP(Sheet1!M56,Sheet2!$A$2:$C$44,2,FALSE)&TEXT(Sheet1!O56,\"00\")&TEXT(Sheet1!P56,\"00\"),VLOOKUP(Sheet1!M56,Sheet2!$A$2:$C$44,2,FALSE)&TEXT(Sheet1!N56,\"00\")&TEXT(Sheet1!O56,\"00\")&IF(Sheet1!Q56=\"手\",TEXT(Sheet1!P56,\"0\"),TEXT(Sheet1!P56,\"00\"))))","v":""},{"$f":"IF(Sheet1!R56=\"\",\"\",IF(VLOOKUP(Sheet1!R56,Sheet2!$A$2:$C$44,3,FALSE)>=71,VLOOKUP(Sheet1!R56,Sheet2!$A$2:$C$44,2,FALSE)&TEXT(Sheet1!T56,\"00\")&TEXT(Sheet1!U56,\"00\"),VLOOKUP(Sheet1!R56,Sheet2!$A$2:$C$44,2,FALSE)&TEXT(Sheet1!S56,\"00\")&TEXT(Sheet1!T56,\"00\")&IF(Sheet1!V56=\"手\",TEXT(Sheet1!U56,\"0\"),TEXT(Sheet1!U56,\"00\"))))","v":""},{"$f":"IF(Sheet1!W56=\"\",\"\",IF(VLOOKUP(Sheet1!W56,Sheet2!$A$2:$C$44,3,FALSE)>=71,VLOOKUP(Sheet1!W56,Sheet2!$A$2:$C$44,2,FALSE)&TEXT(Sheet1!Y56,\"00\")&TEXT(Sheet1!Z56,\"00\"),VLOOKUP(Sheet1!W56,Sheet2!$A$2:$C$44,2,FALSE)&TEXT(Sheet1!X56,\"00\")&TEXT(Sheet1!Y56,\"00\")&IF(Sheet1!AA56=\"手\",TEXT(Sheet1!Z56,\"0\"),TEXT(Sheet1!Z56,\"00\"))))","v":""},{"$f":"IF(Sheet1!AD56=\"\",\"\",\"●\")","v":""},{"$f":"IF(Sheet1!AE56=\"\",\"\",\"▲\")","v":""},{"$f":"IF(Sheet1!AF56=\"\",\"\",\"★\")","v":""},{"$f":"IF(Sheet1!AG56=\"\",\"\",\"▼\")","v":""}]
["",{"$f":"ASC(IF(Sheet1!C57=\"\",\"\",IF(LEN(Sheet1!C57)+LEN(Sheet1!D57)=2,Sheet1!C57&\"      \"&Sheet1!D57&\"(\"&Sheet1!I57&\")\",IF(LEN(Sheet1!C57)+LEN(Sheet1!D57)=3,Sheet1!C57&\"    \"&Sheet1!D57&\"(\"&Sheet1!I57&\")\",IF(LEN(Sheet1!C57)+LEN(Sheet1!D57)=4,Sheet1!C57&\"  \"&Sheet1!D57&\"(\"&Sheet1!I57&\")\",IF(LEN(Sheet1!C57)+LEN(Sheet1!D57)>=5,Sheet1!C57&Sheet1!D57&\"(\"&Sheet1!I57&\")\",\"\"))))))","v":""},{"$f":"ASC(IF(Sheet1!E57=\"\",\"\",Sheet1!E57&\" \"&Sheet1!F57))","v":""},{"$f":"ASC(IF(Sheet1!G57=\"\",\"\",UPPER(Sheet1!G57)&\" \"&PROPER(Sheet1!H57)&\"(\"&Sheet1!I57&\")\"))","v":""},{"$f":"IF(Sheet1!J57=\"\",\"\",IF(Sheet1!J57=\"女\",2,1))","v":""},{"$f":"IF(Sheet1!K57=\"\",\"\",VLOOKUP(Sheet1!K57,Sheet2!$F$2:$G$50,2,FALSE))","v":""},{"$f":"IF(Sheet1!L57=\"\",\"\",(Sheet1!L57))","v":""},{"$f":"IF(B44=\"\",\"\",VALUE(LEFT(Sheet1!E$4,6)))","v":""},{"$f":"IF(Sheet1!B57=\"\",\"\",VALUE(Sheet1!B57))","v":""},{"$f":"IF(Sheet1!M57=\"\",\"\",IF(VLOOKUP(Sheet1!M57,Sheet2!$A$2:$C$44,3,FALSE)>=71,VLOOKUP(Sheet1!M57,Sheet2!$A$2:$C$44,2,FALSE)&TEXT(Sheet1!O57,\"00\")&TEXT(Sheet1!P57,\"00\"),VLOOKUP(Sheet1!M57,Sheet2!$A$2:$C$44,2,FALSE)&TEXT(Sheet1!N57,\"00\")&TEXT(Sheet1!O57,\"00\")&IF(Sheet1!Q57=\"手\",TEXT(Sheet1!P57,\"0\"),TEXT(Sheet1!P57,\"00\"))))","v":""},{"$f":"IF(Sheet1!R57=\"\",\"\",IF(VLOOKUP(Sheet1!R57,Sheet2!$A$2:$C$44,3,FALSE)>=71,VLOOKUP(Sheet1!R57,Sheet2!$A$2:$C$44,2,FALSE)&TEXT(Sheet1!T57,\"00\")&TEXT(Sheet1!U57,\"00\"),VLOOKUP(Sheet1!R57,Sheet2!$A$2:$C$44,2,FALSE)&TEXT(Sheet1!S57,\"00\")&TEXT(Sheet1!T57,\"00\")&IF(Sheet1!V57=\"手\",TEXT(Sheet1!U57,\"0\"),TEXT(Sheet1!U57,\"00\"))))","v":""},{"$f":"IF(Sheet1!W57=\"\",\"\",IF(VLOOKUP(Sheet1!W57,Sheet2!$A$2:$C$44,3,FALSE)>=71,VLOOKUP(Sheet1!W57,Sheet2!$A$2:$C$44,2,FALSE)&TEXT(Sheet1!Y57,\"00\")&TEXT(Sheet1!Z57,\"00\"),VLOOKUP(Sheet1!W57,Sheet2!$A$2:$C$44,2,FALSE)&TEXT(Sheet1!X57,\"00\")&TEXT(Sheet1!Y57,\"00\")&IF(Sheet1!AA57=\"手\",TEXT(Sheet1!Z57,\"0\"),TEXT(Sheet1!Z57,\"00\"))))","v":""},{"$f":"IF(Sheet1!AD57=\"\",\"\",\"●\")","v":""},{"$f":"IF(Sheet1!AE57=\"\",\"\",\"▲\")","v":""},{"$f":"IF(Sheet1!AF57=\"\",\"\",\"★\")","v":""},{"$f":"IF(Sheet1!AG57=\"\",\"\",\"▼\")","v":""}]
["",{"$f":"ASC(IF(Sheet1!C58=\"\",\"\",IF(LEN(Sheet1!C58)+LEN(Sheet1!D58)=2,Sheet1!C58&\"      \"&Sheet1!D58&\"(\"&Sheet1!I58&\")\",IF(LEN(Sheet1!C58)+LEN(Sheet1!D58)=3,Sheet1!C58&\"    \"&Sheet1!D58&\"(\"&Sheet1!I58&\")\",IF(LEN(Sheet1!C58)+LEN(Sheet1!D58)=4,Sheet1!C58&\"  \"&Sheet1!D58&\"(\"&Sheet1!I58&\")\",IF(LEN(Sheet1!C58)+LEN(Sheet1!D58)>=5,Sheet1!C58&Sheet1!D58&\"(\"&Sheet1!I58&\")\",\"\"))))))","v":""},{"$f":"ASC(IF(Sheet1!E58=\"\",\"\",Sheet1!E58&\" \"&Sheet1!F58))","v":""},{"$f":"ASC(IF(Sheet1!G58=\"\",\"\",UPPER(Sheet1!G58)&\" \"&PROPER(Sheet1!H58)&\"(\"&Sheet1!I58&\")\"))","v":""},{"$f":"IF(Sheet1!J58=\"\",\"\",IF(Sheet1!J58=\"女\",2,1))","v":""},{"$f":"IF(Sheet1!K58=\"\",\"\",VLOOKUP(Sheet1!K58,Sheet2!$F$2:$G$50,2,FALSE))","v":""},{"$f":"IF(Sheet1!L58=\"\",\"\",(Sheet1!L58))","v":""},{"$f":"IF(B45=\"\",\"\",VALUE(LEFT(Sheet1!E$4,6)))","v":""},{"$f":"IF(Sheet1!B58=\"\",\"\",VALUE(Sheet1!B58))","v":""},{"$f":"IF(Sheet1!M58=\"\",\"\",IF(VLOOKUP(Sheet1!M58,Sheet2!$A$2:$C$44,3,FALSE)>=71,VLOOKUP(Sheet1!M58,Sheet2!$A$2:$C$44,2,FALSE)&TEXT(Sheet1!O58,\"00\")&TEXT(Sheet1!P58,\"00\"),VLOOKUP(Sheet1!M58,Sheet2!$A$2:$C$44,2,FALSE)&TEXT(Sheet1!N58,\"00\")&TEXT(Sheet1!O58,\"00\")&IF(Sheet1!Q58=\"手\",TEXT(Sheet1!P58,\"0\"),TEXT(Sheet1!P58,\"00\"))))","v":""},{"$f":"IF(Sheet1!R58=\"\",\"\",IF(VLOOKUP(Sheet1!R58,Sheet2!$A$2:$C$44,3,FALSE)>=71,VLOOKUP(Sheet1!R58,Sheet2!$A$2:$C$44,2,FALSE)&TEXT(Sheet1!T58,\"00\")&TEXT(Sheet1!U58,\"00\"),VLOOKUP(Sheet1!R58,Sheet2!$A$2:$C$44,2,FALSE)&TEXT(Sheet1!S58,\"00\")&TEXT(Sheet1!T58,\"00\")&IF(Sheet1!V58=\"手\",TEXT(Sheet1!U58,\"0\"),TEXT(Sheet1!U58,\"00\"))))","v":""},{"$f":"IF(Sheet1!W58=\"\",\"\",IF(VLOOKUP(Sheet1!W58,Sheet2!$A$2:$C$44,3,FALSE)>=71,VLOOKUP(Sheet1!W58,Sheet2!$A$2:$C$44,2,FALSE)&TEXT(Sheet1!Y58,\"00\")&TEXT(Sheet1!Z58,\"00\"),VLOOKUP(Sheet1!W58,Sheet2!$A$2:$C$44,2,FALSE)&TEXT(Sheet1!X58,\"00\")&TEXT(Sheet1!Y58,\"00\")&IF(Sheet1!AA58=\"手\",TEXT(Sheet1!Z58,\"0\"),TEXT(Sheet1!Z58,\"00\"))))","v":""},{"$f":"IF(Sheet1!AD58=\"\",\"\",\"●\")","v":""},{"$f":"IF(Sheet1!AE58=\"\",\"\",\"▲\")","v":""},{"$f":"IF(Sheet1!AF58=\"\",\"\",\"★\")","v":""},{"$f":"IF(Sheet1!AG58=\"\",\"\",\"▼\")","v":""}]
["",{"$f":"ASC(IF(Sheet1!C59=\"\",\"\",IF(LEN(Sheet1!C59)+LEN(Sheet1!D59)=2,Sheet1!C59&\"      \"&Sheet1!D59&\"(\"&Sheet1!I59&\")\",IF(LEN(Sheet1!C59)+LEN(Sheet1!D59)=3,Sheet1!C59&\"    \"&Sheet1!D59&\"(\"&Sheet1!I59&\")\",IF(LEN(Sheet1!C59)+LEN(Sheet1!D59)=4,Sheet1!C59&\"  \"&Sheet1!D59&\"(\"&Sheet1!I59&\")\",IF(LEN(Sheet1!C59)+LEN(Sheet1!D59)>=5,Sheet1!C59&Sheet1!D59&\"(\"&Sheet1!I59&\")\",\"\"))))))","v":""},{"$f":"ASC(IF(Sheet1!E59=\"\",\"\",Sheet1!E59&\" \"&Sheet1!F59))","v":""},{"$f":"ASC(IF(Sheet1!G59=\"\",\"\",UPPER(Sheet1!G59)&\" \"&PROPER(Sheet1!H59)&\"(\"&Sheet1!I59&\")\"))","v":""},{"$f":"IF(Sheet1!J59=\"\",\"\",IF(Sheet1!J59=\"女\",2,1))","v":""},{"$f":"IF(Sheet1!K59=\"\",\"\",VLOOKUP(Sheet1!K59,Sheet2!$F$2:$G$50,2,FALSE))","v":""},{"$f":"IF(Sheet1!L59=\"\",\"\",(Sheet1!L59))","v":""},{"$f":"IF(B46=\"\",\"\",VALUE(LEFT(Sheet1!E$4,6)))","v":""},{"$f":"IF(Sheet1!B59=\"\",\"\",VALUE(Sheet1!B59))","v":""},{"$f":"IF(Sheet1!M59=\"\",\"\",IF(VLOOKUP(Sheet1!M59,Sheet2!$A$2:$C$44,3,FALSE)>=71,VLOOKUP(Sheet1!M59,Sheet2!$A$2:$C$44,2,FALSE)&TEXT(Sheet1!O59,\"00\")&TEXT(Sheet1!P59,\"00\"),VLOOKUP(Sheet1!M59,Sheet2!$A$2:$C$44,2,FALSE)&TEXT(Sheet1!N59,\"00\")&TEXT(Sheet1!O59,\"00\")&IF(Sheet1!Q59=\"手\",TEXT(Sheet1!P59,\"0\"),TEXT(Sheet1!P59,\"00\"))))","v":""},{"$f":"IF(Sheet1!R59=\"\",\"\",IF(VLOOKUP(Sheet1!R59,Sheet2!$A$2:$C$44,3,FALSE)>=71,VLOOKUP(Sheet1!R59,Sheet2!$A$2:$C$44,2,FALSE)&TEXT(Sheet1!T59,\"00\")&TEXT(Sheet1!U59,\"00\"),VLOOKUP(Sheet1!R59,Sheet2!$A$2:$C$44,2,FALSE)&TEXT(Sheet1!S59,\"00\")&TEXT(Sheet1!T59,\"00\")&IF(Sheet1!V59=\"手\",TEXT(Sheet1!U59,\"0\"),TEXT(Sheet1!U59,\"00\"))))","v":""},{"$f":"IF(Sheet1!W59=\"\",\"\",IF(VLOOKUP(Sheet1!W59,Sheet2!$A$2:$C$44,3,FALSE)>=71,VLOOKUP(Sheet1!W59,Sheet2!$A$2:$C$44,2,FALSE)&TEXT(Sheet1!Y59,\"00\")&TEXT(Sheet1!Z59,\"00\"),VLOOKUP(Sheet1!W59,Sheet2!$A$2:$C$44,2,FALSE)&TEXT(Sheet1!X59,\"00\")&TEXT(Sheet1!Y59,\"00\")&IF(Sheet1!AA59=\"手\",TEXT(Sheet1!Z59,\"0\"),TEXT(Sheet1!Z59,\"00\"))))","v":""},{"$f":"IF(Sheet1!AD59=\"\",\"\",\"●\")","v":""},{"$f":"IF(Sheet1!AE59=\"\",\"\",\"▲\")","v":""},{"$f":"IF(Sheet1!AF59=\"\",\"\",\"★\")","v":""},{"$f":"IF(Sheet1!AG59=\"\",\"\",\"▼\")","v":""}]
["",{"$f":"ASC(IF(Sheet1!C60=\"\",\"\",IF(LEN(Sheet1!C60)+LEN(Sheet1!D60)=2,Sheet1!C60&\"      \"&Sheet1!D60&\"(\"&Sheet1!I60&\")\",IF(LEN(Sheet1!C60)+LEN(Sheet1!D60)=3,Sheet1!C60&\"    \"&Sheet1!D60&\"(\"&Sheet1!I60&\")\",IF(LEN(Sheet1!C60)+LEN(Sheet1!D60)=4,Sheet1!C60&\"  \"&Sheet1!D60&\"(\"&Sheet1!I60&\")\",IF(LEN(Sheet1!C60)+LEN(Sheet1!D60)>=5,Sheet1!C60&Sheet1!D60&\"(\"&Sheet1!I60&\")\",\"\"))))))","v":""},{"$f":"ASC(IF(Sheet1!E60=\"\",\"\",Sheet1!E60&\" \"&Sheet1!F60))","v":""},{"$f":"ASC(IF(Sheet1!G60=\"\",\"\",UPPER(Sheet1!G60)&\" \"&PROPER(Sheet1!H60)&\"(\"&Sheet1!I60&\")\"))","v":""},{"$f":"IF(Sheet1!J60=\"\",\"\",IF(Sheet1!J60=\"女\",2,1))","v":""},{"$f":"IF(Sheet1!K60=\"\",\"\",VLOOKUP(Sheet1!K60,Sheet2!$F$2:$G$50,2,FALSE))","v":""},{"$f":"IF(Sheet1!L60=\"\",\"\",(Sheet1!L60))","v":""},{"$f":"IF(B47=\"\",\"\",VALUE(LEFT(Sheet1!E$4,6)))","v":""},{"$f":"IF(Sheet1!B60=\"\",\"\",VALUE(Sheet1!B60))","v":""},{"$f":"IF(Sheet1!M60=\"\",\"\",IF(VLOOKUP(Sheet1!M60,Sheet2!$A$2:$C$44,3,FALSE)>=71,VLOOKUP(Sheet1!M60,Sheet2!$A$2:$C$44,2,FALSE)&TEXT(Sheet1!O60,\"00\")&TEXT(Sheet1!P60,\"00\"),VLOOKUP(Sheet1!M60,Sheet2!$A$2:$C$44,2,FALSE)&TEXT(Sheet1!N60,\"00\")&TEXT(Sheet1!O60,\"00\")&IF(Sheet1!Q60=\"手\",TEXT(Sheet1!P60,\"0\"),TEXT(Sheet1!P60,\"00\"))))","v":""},{"$f":"IF(Sheet1!R60=\"\",\"\",IF(VLOOKUP(Sheet1!R60,Sheet2!$A$2:$C$44,3,FALSE)>=71,VLOOKUP(Sheet1!R60,Sheet2!$A$2:$C$44,2,FALSE)&TEXT(Sheet1!T60,\"00\")&TEXT(Sheet1!U60,\"00\"),VLOOKUP(Sheet1!R60,Sheet2!$A$2:$C$44,2,FALSE)&TEXT(Sheet1!S60,\"00\")&TEXT(Sheet1!T60,\"00\")&IF(Sheet1!V60=\"手\",TEXT(Sheet1!U60,\"0\"),TEXT(Sheet1!U60,\"00\"))))","v":""},{"$f":"IF(Sheet1!W60=\"\",\"\",IF(VLOOKUP(Sheet1!W60,Sheet2!$A$2:$C$44,3,FALSE)>=71,VLOOKUP(Sheet1!W60,Sheet2!$A$2:$C$44,2,FALSE)&TEXT(Sheet1!Y60,\"00\")&TEXT(Sheet1!Z60,\"00\"),VLOOKUP(Sheet1!W60,Sheet2!$A$2:$C$44,2,FALSE)&TEXT(Sheet1!X60,\"00\")&TEXT(Sheet1!Y60,\"00\")&IF(Sheet1!AA60=\"手\",TEXT(Sheet1!Z60,\"0\"),TEXT(Sheet1!Z60,\"00\"))))","v":""},{"$f":"IF(Sheet1!AD60=\"\",\"\",\"●\")","v":""},{"$f":"IF(Sheet1!AE60=\"\",\"\",\"▲\")","v":""},{"$f":"IF(Sheet1!AF60=\"\",\"\",\"★\")","v":""},{"$f":"IF(Sheet1!AG60=\"\",\"\",\"▼\")","v":""}]
["",{"$f":"ASC(IF(Sheet1!C61=\"\",\"\",IF(LEN(Sheet1!C61)+LEN(Sheet1!D61)=2,Sheet1!C61&\"      \"&Sheet1!D61&\"(\"&Sheet1!I61&\")\",IF(LEN(Sheet1!C61)+LEN(Sheet1!D61)=3,Sheet1!C61&\"    \"&Sheet1!D61&\"(\"&Sheet1!I61&\")\",IF(LEN(Sheet1!C61)+LEN(Sheet1!D61)=4,Sheet1!C61&\"  \"&Sheet1!D61&\"(\"&Sheet1!I61&\")\",IF(LEN(Sheet1!C61)+LEN(Sheet1!D61)>=5,Sheet1!C61&Sheet1!D61&\"(\"&Sheet1!I61&\")\",\"\"))))))","v":""},{"$f":"ASC(IF(Sheet1!E61=\"\",\"\",Sheet1!E61&\" \"&Sheet1!F61))","v":""},{"$f":"ASC(IF(Sheet1!G61=\"\",\"\",UPPER(Sheet1!G61)&\" \"&PROPER(Sheet1!H61)&\"(\"&Sheet1!I61&\")\"))","v":""},{"$f":"IF(Sheet1!J61=\"\",\"\",IF(Sheet1!J61=\"女\",2,1))","v":""},{"$f":"IF(Sheet1!K61=\"\",\"\",VLOOKUP(Sheet1!K61,Sheet2!$F$2:$G$50,2,FALSE))","v":""},{"$f":"IF(Sheet1!L61=\"\",\"\",(Sheet1!L61))","v":""},{"$f":"IF(B48=\"\",\"\",VALUE(LEFT(Sheet1!E$4,6)))","v":""},{"$f":"IF(Sheet1!B61=\"\",\"\",VALUE(Sheet1!B61))","v":""},{"$f":"IF(Sheet1!M61=\"\",\"\",IF(VLOOKUP(Sheet1!M61,Sheet2!$A$2:$C$44,3,FALSE)>=71,VLOOKUP(Sheet1!M61,Sheet2!$A$2:$C$44,2,FALSE)&TEXT(Sheet1!O61,\"00\")&TEXT(Sheet1!P61,\"00\"),VLOOKUP(Sheet1!M61,Sheet2!$A$2:$C$44,2,FALSE)&TEXT(Sheet1!N61,\"00\")&TEXT(Sheet1!O61,\"00\")&IF(Sheet1!Q61=\"手\",TEXT(Sheet1!P61,\"0\"),TEXT(Sheet1!P61,\"00\"))))","v":""},{"$f":"IF(Sheet1!R61=\"\",\"\",IF(VLOOKUP(Sheet1!R61,Sheet2!$A$2:$C$44,3,FALSE)>=71,VLOOKUP(Sheet1!R61,Sheet2!$A$2:$C$44,2,FALSE)&TEXT(Sheet1!T61,\"00\")&TEXT(Sheet1!U61,\"00\"),VLOOKUP(Sheet1!R61,Sheet2!$A$2:$C$44,2,FALSE)&TEXT(Sheet1!S61,\"00\")&TEXT(Sheet1!T61,\"00\")&IF(Sheet1!V61=\"手\",TEXT(Sheet1!U61,\"0\"),TEXT(Sheet1!U61,\"00\"))))","v":""},{"$f":"IF(Sheet1!W61=\"\",\"\",IF(VLOOKUP(Sheet1!W61,Sheet2!$A$2:$C$44,3,FALSE)>=71,VLOOKUP(Sheet1!W61,Sheet2!$A$2:$C$44,2,FALSE)&TEXT(Sheet1!Y61,\"00\")&TEXT(Sheet1!Z61,\"00\"),VLOOKUP(Sheet1!W61,Sheet2!$A$2:$C$44,2,FALSE)&TEXT(Sheet1!X61,\"00\")&TEXT(Sheet1!Y61,\"00\")&IF(Sheet1!AA61=\"手\",TEXT(Sheet1!Z61,\"0\"),TEXT(Sheet1!Z61,\"00\"))))","v":""},{"$f":"IF(Sheet1!AD61=\"\",\"\",\"●\")","v":""},{"$f":"IF(Sheet1!AE61=\"\",\"\",\"▲\")","v":""},{"$f":"IF(Sheet1!AF61=\"\",\"\",\"★\")","v":""},{"$f":"IF(Sheet1!AG61=\"\",\"\",\"▼\")","v":""}]
["",{"$f":"ASC(IF(Sheet1!C62=\"\",\"\",IF(LEN(Sheet1!C62)+LEN(Sheet1!D62)=2,Sheet1!C62&\"      \"&Sheet1!D62&\"(\"&Sheet1!I62&\")\",IF(LEN(Sheet1!C62)+LEN(Sheet1!D62)=3,Sheet1!C62&\"    \"&Sheet1!D62&\"(\"&Sheet1!I62&\")\",IF(LEN(Sheet1!C62)+LEN(Sheet1!D62)=4,Sheet1!C62&\"  \"&Sheet1!D62&\"(\"&Sheet1!I62&\")\",IF(LEN(Sheet1!C62)+LEN(Sheet1!D62)>=5,Sheet1!C62&Sheet1!D62&\"(\"&Sheet1!I62&\")\",\"\"))))))","v":""},{"$f":"ASC(IF(Sheet1!E62=\"\",\"\",Sheet1!E62&\" \"&Sheet1!F62))","v":""},{"$f":"ASC(IF(Sheet1!G62=\"\",\"\",UPPER(Sheet1!G62)&\" \"&PROPER(Sheet1!H62)&\"(\"&Sheet1!I62&\")\"))","v":""},{"$f":"IF(Sheet1!J62=\"\",\"\",IF(Sheet1!J62=\"女\",2,1))","v":""},{"$f":"IF(Sheet1!K62=\"\",\"\",VLOOKUP(Sheet1!K62,Sheet2!$F$2:$G$50,2,FALSE))","v":""},{"$f":"IF(Sheet1!L62=\"\",\"\",(Sheet1!L62))","v":""},{"$f":"IF(B49=\"\",\"\",VALUE(LEFT(Sheet1!E$4,6)))","v":""},{"$f":"IF(Sheet1!B62=\"\",\"\",VALUE(Sheet1!B62))","v":""},{"$f":"IF(Sheet1!M62=\"\",\"\",IF(VLOOKUP(Sheet1!M62,Sheet2!$A$2:$C$44,3,FALSE)>=71,VLOOKUP(Sheet1!M62,Sheet2!$A$2:$C$44,2,FALSE)&TEXT(Sheet1!O62,\"00\")&TEXT(Sheet1!P62,\"00\"),VLOOKUP(Sheet1!M62,Sheet2!$A$2:$C$44,2,FALSE)&TEXT(Sheet1!N62,\"00\")&TEXT(Sheet1!O62,\"00\")&IF(Sheet1!Q62=\"手\",TEXT(Sheet1!P62,\"0\"),TEXT(Sheet1!P62,\"00\"))))","v":""},{"$f":"IF(Sheet1!R62=\"\",\"\",IF(VLOOKUP(Sheet1!R62,Sheet2!$A$2:$C$44,3,FALSE)>=71,VLOOKUP(Sheet1!R62,Sheet2!$A$2:$C$44,2,FALSE)&TEXT(Sheet1!T62,\"00\")&TEXT(Sheet1!U62,\"00\"),VLOOKUP(Sheet1!R62,Sheet2!$A$2:$C$44,2,FALSE)&TEXT(Sheet1!S62,\"00\")&TEXT(Sheet1!T62,\"00\")&IF(Sheet1!V62=\"手\",TEXT(Sheet1!U62,\"0\"),TEXT(Sheet1!U62,\"00\"))))","v":""},{"$f":"IF(Sheet1!W62=\"\",\"\",IF(VLOOKUP(Sheet1!W62,Sheet2!$A$2:$C$44,3,FALSE)>=71,VLOOKUP(Sheet1!W62,Sheet2!$A$2:$C$44,2,FALSE)&TEXT(Sheet1!Y62,\"00\")&TEXT(Sheet1!Z62,\"00\"),VLOOKUP(Sheet1!W62,Sheet2!$A$2:$C$44,2,FALSE)&TEXT(Sheet1!X62,\"00\")&TEXT(Sheet1!Y62,\"00\")&IF(Sheet1!AA62=\"手\",TEXT(Sheet1!Z62,\"0\"),TEXT(Sheet1!Z62,\"00\"))))","v":""},{"$f":"IF(Sheet1!AD62=\"\",\"\",\"●\")","v":""},{"$f":"IF(Sheet1!AE62=\"\",\"\",\"▲\")","v":""},{"$f":"IF(Sheet1!AF62=\"\",\"\",\"★\")","v":""},{"$f":"IF(Sheet1!AG62=\"\",\"\",\"▼\")","v":""}]
["",{"$f":"ASC(IF(Sheet1!C63=\"\",\"\",IF(LEN(Sheet1!C63)+LEN(Sheet1!D63)=2,Sheet1!C63&\"      \"&Sheet1!D63&\"(\"&Sheet1!I63&\")\",IF(LEN(Sheet1!C63)+LEN(Sheet1!D63)=3,Sheet1!C63&\"    \"&Sheet1!D63&\"(\"&Sheet1!I63&\")\",IF(LEN(Sheet1!C63)+LEN(Sheet1!D63)=4,Sheet1!C63&\"  \"&Sheet1!D63&\"(\"&Sheet1!I63&\")\",IF(LEN(Sheet1!C63)+LEN(Sheet1!D63)>=5,Sheet1!C63&Sheet1!D63&\"(\"&Sheet1!I63&\")\",\"\"))))))","v":""},{"$f":"ASC(IF(Sheet1!E63=\"\",\"\",Sheet1!E63&\" \"&Sheet1!F63))","v":""},{"$f":"ASC(IF(Sheet1!G63=\"\",\"\",UPPER(Sheet1!G63)&\" \"&PROPER(Sheet1!H63)&\"(\"&Sheet1!I63&\")\"))","v":""},{"$f":"IF(Sheet1!J63=\"\",\"\",IF(Sheet1!J63=\"女\",2,1))","v":""},{"$f":"IF(Sheet1!K63=\"\",\"\",VLOOKUP(Sheet1!K63,Sheet2!$F$2:$G$50,2,FALSE))","v":""},{"$f":"IF(Sheet1!L63=\"\",\"\",(Sheet1!L63))","v":""},{"$f":"IF(B50=\"\",\"\",VALUE(LEFT(Sheet1!E$4,6)))","v":""},{"$f":"IF(Sheet1!B63=\"\",\"\",VALUE(Sheet1!B63))","v":""},{"$f":"IF(Sheet1!M63=\"\",\"\",IF(VLOOKUP(Sheet1!M63,Sheet2!$A$2:$C$44,3,FALSE)>=71,VLOOKUP(Sheet1!M63,Sheet2!$A$2:$C$44,2,FALSE)&TEXT(Sheet1!O63,\"00\")&TEXT(Sheet1!P63,\"00\"),VLOOKUP(Sheet1!M63,Sheet2!$A$2:$C$44,2,FALSE)&TEXT(Sheet1!N63,\"00\")&TEXT(Sheet1!O63,\"00\")&IF(Sheet1!Q63=\"手\",TEXT(Sheet1!P63,\"0\"),TEXT(Sheet1!P63,\"00\"))))","v":""},{"$f":"IF(Sheet1!R63=\"\",\"\",IF(VLOOKUP(Sheet1!R63,Sheet2!$A$2:$C$44,3,FALSE)>=71,VLOOKUP(Sheet1!R63,Sheet2!$A$2:$C$44,2,FALSE)&TEXT(Sheet1!T63,\"00\")&TEXT(Sheet1!U63,\"00\"),VLOOKUP(Sheet1!R63,Sheet2!$A$2:$C$44,2,FALSE)&TEXT(Sheet1!S63,\"00\")&TEXT(Sheet1!T63,\"00\")&IF(Sheet1!V63=\"手\",TEXT(Sheet1!U63,\"0\"),TEXT(Sheet1!U63,\"00\"))))","v":""},{"$f":"IF(Sheet1!W63=\"\",\"\",IF(VLOOKUP(Sheet1!W63,Sheet2!$A$2:$C$44,3,FALSE)>=71,VLOOKUP(Sheet1!W63,Sheet2!$A$2:$C$44,2,FALSE)&TEXT(Sheet1!Y63,\"00\")&TEXT(Sheet1!Z63,\"00\"),VLOOKUP(Sheet1!W63,Sheet2!$A$2:$C$44,2,FALSE)&TEXT(Sheet1!X63,\"00\")&TEXT(Sheet1!Y63,\"00\")&IF(Sheet1!AA63=\"手\",TEXT(Sheet1!Z63,\"0\"),TEXT(Sheet1!Z63,\"00\"))))","v":""},{"$f":"IF(Sheet1!AD63=\"\",\"\",\"●\")","v":""},{"$f":"IF(Sheet1!AE63=\"\",\"\",\"▲\")","v":""},{"$f":"IF(Sheet1!AF63=\"\",\"\",\"★\")","v":""},{"$f":"IF(Sheet1!AG63=\"\",\"\",\"▼\")","v":""}]
["",{"$f":"ASC(IF(Sheet1!C64=\"\",\"\",IF(LEN(Sheet1!C64)+LEN(Sheet1!D64)=2,Sheet1!C64&\"      \"&Sheet1!D64&\"(\"&Sheet1!I64&\")\",IF(LEN(Sheet1!C64)+LEN(Sheet1!D64)=3,Sheet1!C64&\"    \"&Sheet1!D64&\"(\"&Sheet1!I64&\")\",IF(LEN(Sheet1!C64)+LEN(Sheet1!D64)=4,Sheet1!C64&\"  \"&Sheet1!D64&\"(\"&Sheet1!I64&\")\",IF(LEN(Sheet1!C64)+LEN(Sheet1!D64)>=5,Sheet1!C64&Sheet1!D64&\"(\"&Sheet1!I64&\")\",\"\"))))))","v":""},{"$f":"ASC(IF(Sheet1!E64=\"\",\"\",Sheet1!E64&\" \"&Sheet1!F64))","v":""},{"$f":"ASC(IF(Sheet1!G64=\"\",\"\",UPPER(Sheet1!G64)&\" \"&PROPER(Sheet1!H64)&\"(\"&Sheet1!I64&\")\"))","v":""},{"$f":"IF(Sheet1!J64=\"\",\"\",IF(Sheet1!J64=\"女\",2,1))","v":""},{"$f":"IF(Sheet1!K64=\"\",\"\",VLOOKUP(Sheet1!K64,Sheet2!$F$2:$G$50,2,FALSE))","v":""},{"$f":"IF(Sheet1!L64=\"\",\"\",(Sheet1!L64))","v":""},{"$f":"IF(B51=\"\",\"\",VALUE(LEFT(Sheet1!E$4,6)))","v":""},{"$f":"IF(Sheet1!B64=\"\",\"\",VALUE(Sheet1!B64))","v":""},{"$f":"IF(Sheet1!M64=\"\",\"\",IF(VLOOKUP(Sheet1!M64,Sheet2!$A$2:$C$44,3,FALSE)>=71,VLOOKUP(Sheet1!M64,Sheet2!$A$2:$C$44,2,FALSE)&TEXT(Sheet1!O64,\"00\")&TEXT(Sheet1!P64,\"00\"),VLOOKUP(Sheet1!M64,Sheet2!$A$2:$C$44,2,FALSE)&TEXT(Sheet1!N64,\"00\")&TEXT(Sheet1!O64,\"00\")&IF(Sheet1!Q64=\"手\",TEXT(Sheet1!P64,\"0\"),TEXT(Sheet1!P64,\"00\"))))","v":""},{"$f":"IF(Sheet1!R64=\"\",\"\",IF(VLOOKUP(Sheet1!R64,Sheet2!$A$2:$C$44,3,FALSE)>=71,VLOOKUP(Sheet1!R64,Sheet2!$A$2:$C$44,2,FALSE)&TEXT(Sheet1!T64,\"00\")&TEXT(Sheet1!U64,\"00\"),VLOOKUP(Sheet1!R64,Sheet2!$A$2:$C$44,2,FALSE)&TEXT(Sheet1!S64,\"00\")&TEXT(Sheet1!T64,\"00\")&IF(Sheet1!V64=\"手\",TEXT(Sheet1!U64,\"0\"),TEXT(Sheet1!U64,\"00\"))))","v":""},{"$f":"IF(Sheet1!W64=\"\",\"\",IF(VLOOKUP(Sheet1!W64,Sheet2!$A$2:$C$44,3,FALSE)>=71,VLOOKUP(Sheet1!W64,Sheet2!$A$2:$C$44,2,FALSE)&TEXT(Sheet1!Y64,\"00\")&TEXT(Sheet1!Z64,\"00\"),VLOOKUP(Sheet1!W64,Sheet2!$A$2:$C$44,2,FALSE)&TEXT(Sheet1!X64,\"00\")&TEXT(Sheet1!Y64,\"00\")&IF(Sheet1!AA64=\"手\",TEXT(Sheet1!Z64,\"0\"),TEXT(Sheet1!Z64,\"00\"))))","v":""},{"$f":"IF(Sheet1!AD64=\"\",\"\",\"●\")","v":""},{"$f":"IF(Sheet1!AE64=\"\",\"\",\"▲\")","v":""},{"$f":"IF(Sheet1!AF64=\"\",\"\",\"★\")","v":""},{"$f":"IF(Sheet1!AG64=\"\",\"\",\"▼\")","v":""}]
["",{"$f":"ASC(IF(Sheet1!C65=\"\",\"\",IF(LEN(Sheet1!C65)+LEN(Sheet1!D65)=2,Sheet1!C65&\"      \"&Sheet1!D65&\"(\"&Sheet1!I65&\")\",IF(LEN(Sheet1!C65)+LEN(Sheet1!D65)=3,Sheet1!C65&\"    \"&Sheet1!D65&\"(\"&Sheet1!I65&\")\",IF(LEN(Sheet1!C65)+LEN(Sheet1!D65)=4,Sheet1!C65&\"  \"&Sheet1!D65&\"(\"&Sheet1!I65&\")\",IF(LEN(Sheet1!C65)+LEN(Sheet1!D65)>=5,Sheet1!C65&Sheet1!D65&\"(\"&Sheet1!I65&\")\",\"\"))))))","v":""},{"$f":"ASC(IF(Sheet1!E65=\"\",\"\",Sheet1!E65&\" \"&Sheet1!F65))","v":""},{"$f":"ASC(IF(Sheet1!G65=\"\",\"\",UPPER(Sheet1!G65)&\" \"&PROPER(Sheet1!H65)&\"(\"&Sheet1!I65&\")\"))","v":""},{"$f":"IF(Sheet1!J65=\"\",\"\",IF(Sheet1!J65=\"女\",2,1))","v":""},{"$f":"IF(Sheet1!K65=\"\",\"\",VLOOKUP(Sheet1!K65,Sheet2!$F$2:$G$50,2,FALSE))","v":""},{"$f":"IF(Sheet1!L65=\"\",\"\",(Sheet1!L65))","v":""},{"$f":"IF(B52=\"\",\"\",VALUE(LEFT(Sheet1!E$4,6)))","v":""},{"$f":"IF(Sheet1!B65=\"\",\"\",VALUE(Sheet1!B65))","v":""},{"$f":"IF(Sheet1!M65=\"\",\"\",IF(VLOOKUP(Sheet1!M65,Sheet2!$A$2:$C$44,3,FALSE)>=71,VLOOKUP(Sheet1!M65,Sheet2!$A$2:$C$44,2,FALSE)&TEXT(Sheet1!O65,\"00\")&TEXT(Sheet1!P65,\"00\"),VLOOKUP(Sheet1!M65,Sheet2!$A$2:$C$44,2,FALSE)&TEXT(Sheet1!N65,\"00\")&TEXT(Sheet1!O65,\"00\")&IF(Sheet1!Q65=\"手\",TEXT(Sheet1!P65,\"0\"),TEXT(Sheet1!P65,\"00\"))))","v":""},{"$f":"IF(Sheet1!R65=\"\",\"\",IF(VLOOKUP(Sheet1!R65,Sheet2!$A$2:$C$44,3,FALSE)>=71,VLOOKUP(Sheet1!R65,Sheet2!$A$2:$C$44,2,FALSE)&TEXT(Sheet1!T65,\"00\")&TEXT(Sheet1!U65,\"00\"),VLOOKUP(Sheet1!R65,Sheet2!$A$2:$C$44,2,FALSE)&TEXT(Sheet1!S65,\"00\")&TEXT(Sheet1!T65,\"00\")&IF(Sheet1!V65=\"手\",TEXT(Sheet1!U65,\"0\"),TEXT(Sheet1!U65,\"00\"))))","v":""},{"$f":"IF(Sheet1!W65=\"\",\"\",IF(VLOOKUP(Sheet1!W65,Sheet2!$A$2:$C$44,3,FALSE)>=71,VLOOKUP(Sheet1!W65,Sheet2!$A$2:$C$44,2,FALSE)&TEXT(Sheet1!Y65,\"00\")&TEXT(Sheet1!Z65,\"00\"),VLOOKUP(Sheet1!W65,Sheet2!$A$2:$C$44,2,FALSE)&TEXT(Sheet1!X65,\"00\")&TEXT(Sheet1!Y65,\"00\")&IF(Sheet1!AA65=\"手\",TEXT(Sheet1!Z65,\"0\"),TEXT(Sheet1!Z65,\"00\"))))","v":""},{"$f":"IF(Sheet1!AD65=\"\",\"\",\"●\")","v":""},{"$f":"IF(Sheet1!AE65=\"\",\"\",\"▲\")","v":""},{"$f":"IF(Sheet1!AF65=\"\",\"\",\"★\")","v":""},{"$f":"IF(Sheet1!AG65=\"\",\"\",\"▼\")","v":""}]
["",{"$f":"ASC(IF(Sheet1!C66=\"\",\"\",IF(LEN(Sheet1!C66)+LEN(Sheet1!D66)=2,Sheet1!C66&\"      \"&Sheet1!D66&\"(\"&Sheet1!I66&\")\",IF(LEN(Sheet1!C66)+LEN(Sheet1!D66)=3,Sheet1!C66&\"    \"&Sheet1!D66&\"(\"&Sheet1!I66&\")\",IF(LEN(Sheet1!C66)+LEN(Sheet1!D66)=4,Sheet1!C66&\"  \"&Sheet1!D66&\"(\"&Sheet1!I66&\")\",IF(LEN(Sheet1!C66)+LEN(Sheet1!D66)>=5,Sheet1!C66&Sheet1!D66&\"(\"&Sheet1!I66&\")\",\"\"))))))","v":""},{"$f":"ASC(IF(Sheet1!E66=\"\",\"\",Sheet1!E66&\" \"&Sheet1!F66))","v":""},{"$f":"ASC(IF(Sheet1!G66=\"\",\"\",UPPER(Sheet1!G66)&\" \"&PROPER(Sheet1!H66)&\"(\"&Sheet1!I66&\")\"))","v":""},{"$f":"IF(Sheet1!J66=\"\",\"\",IF(Sheet1!J66=\"女\",2,1))","v":""},{"$f":"IF(Sheet1!K66=\"\",\"\",VLOOKUP(Sheet1!K66,Sheet2!$F$2:$G$50,2,FALSE))","v":""},{"$f":"IF(Sheet1!L66=\"\",\"\",(Sheet1!L66))","v":""},{"$f":"IF(B53=\"\",\"\",VALUE(LEFT(Sheet1!E$4,6)))","v":""},{"$f":"IF(Sheet1!B66=\"\",\"\",VALUE(Sheet1!B66))","v":""},{"$f":"IF(Sheet1!M66=\"\",\"\",IF(VLOOKUP(Sheet1!M66,Sheet2!$A$2:$C$44,3,FALSE)>=71,VLOOKUP(Sheet1!M66,Sheet2!$A$2:$C$44,2,FALSE)&TEXT(Sheet1!O66,\"00\")&TEXT(Sheet1!P66,\"00\"),VLOOKUP(Sheet1!M66,Sheet2!$A$2:$C$44,2,FALSE)&TEXT(Sheet1!N66,\"00\")&TEXT(Sheet1!O66,\"00\")&IF(Sheet1!Q66=\"手\",TEXT(Sheet1!P66,\"0\"),TEXT(Sheet1!P66,\"00\"))))","v":""},{"$f":"IF(Sheet1!R66=\"\",\"\",IF(VLOOKUP(Sheet1!R66,Sheet2!$A$2:$C$44,3,FALSE)>=71,VLOOKUP(Sheet1!R66,Sheet2!$A$2:$C$44,2,FALSE)&TEXT(Sheet1!T66,\"00\")&TEXT(Sheet1!U66,\"00\"),VLOOKUP(Sheet1!R66,Sheet2!$A$2:$C$44,2,FALSE)&TEXT(Sheet1!S66,\"00\")&TEXT(Sheet1!T66,\"00\")&IF(Sheet1!V66=\"手\",TEXT(Sheet1!U66,\"0\"),TEXT(Sheet1!U66,\"00\"))))","v":""},{"$f":"IF(Sheet1!W66=\"\",\"\",IF(VLOOKUP(Sheet1!W66,Sheet2!$A$2:$C$44,3,FALSE)>=71,VLOOKUP(Sheet1!W66,Sheet2!$A$2:$C$44,2,FALSE)&TEXT(Sheet1!Y66,\"00\")&TEXT(Sheet1!Z66,\"00\"),VLOOKUP(Sheet1!W66,Sheet2!$A$2:$C$44,2,FALSE)&TEXT(Sheet1!X66,\"00\")&TEXT(Sheet1!Y66,\"00\")&IF(Sheet1!AA66=\"手\",TEXT(Sheet1!Z66,\"0\"),TEXT(Sheet1!Z66,\"00\"))))","v":""},{"$f":"IF(Sheet1!AD66=\"\",\"\",\"●\")","v":""},{"$f":"IF(Sheet1!AE66=\"\",\"\",\"▲\")","v":""},{"$f":"IF(Sheet1!AF66=\"\",\"\",\"★\")","v":""},{"$f":"IF(Sheet1!AG66=\"\",\"\",\"▼\")","v":""}]
["",{"$f":"ASC(IF(Sheet1!C67=\"\",\"\",IF(LEN(Sheet1!C67)+LEN(Sheet1!D67)=2,Sheet1!C67&\"      \"&Sheet1!D67&\"(\"&Sheet1!I67&\")\",IF(LEN(Sheet1!C67)+LEN(Sheet1!D67)=3,Sheet1!C67&\"    \"&Sheet1!D67&\"(\"&Sheet1!I67&\")\",IF(LEN(Sheet1!C67)+LEN(Sheet1!D67)=4,Sheet1!C67&\"  \"&Sheet1!D67&\"(\"&Sheet1!I67&\")\",IF(LEN(Sheet1!C67)+LEN(Sheet1!D67)>=5,Sheet1!C67&Sheet1!D67&\"(\"&Sheet1!I67&\")\",\"\"))))))","v":""},{"$f":"ASC(IF(Sheet1!E67=\"\",\"\",Sheet1!E67&\" \"&Sheet1!F67))","v":""},{"$f":"ASC(IF(Sheet1!G67=\"\",\"\",UPPER(Sheet1!G67)&\" \"&PROPER(Sheet1!H67)&\"(\"&Sheet1!I67&\")\"))","v":""},{"$f":"IF(Sheet1!J67=\"\",\"\",IF(Sheet1!J67=\"女\",2,1))","v":""},{"$f":"IF(Sheet1!K67=\"\",\"\",VLOOKUP(Sheet1!K67,Sheet2!$F$2:$G$50,2,FALSE))","v":""},{"$f":"IF(Sheet1!L67=\"\",\"\",(Sheet1!L67))","v":""},{"$f":"IF(B54=\"\",\"\",VALUE(LEFT(Sheet1!E$4,6)))","v":""},{"$f":"IF(Sheet1!B67=\"\",\"\",VALUE(Sheet1!B67))","v":""},{"$f":"IF(Sheet1!M67=\"\",\"\",IF(VLOOKUP(Sheet1!M67,Sheet2!$A$2:$C$44,3,FALSE)>=71,VLOOKUP(Sheet1!M67,Sheet2!$A$2:$C$44,2,FALSE)&TEXT(Sheet1!O67,\"00\")&TEXT(Sheet1!P67,\"00\"),VLOOKUP(Sheet1!M67,Sheet2!$A$2:$C$44,2,FALSE)&TEXT(Sheet1!N67,\"00\")&TEXT(Sheet1!O67,\"00\")&IF(Sheet1!Q67=\"手\",TEXT(Sheet1!P67,\"0\"),TEXT(Sheet1!P67,\"00\"))))","v":""},{"$f":"IF(Sheet1!R67=\"\",\"\",IF(VLOOKUP(Sheet1!R67,Sheet2!$A$2:$C$44,3,FALSE)>=71,VLOOKUP(Sheet1!R67,Sheet2!$A$2:$C$44,2,FALSE)&TEXT(Sheet1!T67,\"00\")&TEXT(Sheet1!U67,\"00\"),VLOOKUP(Sheet1!R67,Sheet2!$A$2:$C$44,2,FALSE)&TEXT(Sheet1!S67,\"00\")&TEXT(Sheet1!T67,\"00\")&IF(Sheet1!V67=\"手\",TEXT(Sheet1!U67,\"0\"),TEXT(Sheet1!U67,\"00\"))))","v":""},{"$f":"IF(Sheet1!W67=\"\",\"\",IF(VLOOKUP(Sheet1!W67,Sheet2!$A$2:$C$44,3,FALSE)>=71,VLOOKUP(Sheet1!W67,Sheet2!$A$2:$C$44,2,FALSE)&TEXT(Sheet1!Y67,\"00\")&TEXT(Sheet1!Z67,\"00\"),VLOOKUP(Sheet1!W67,Sheet2!$A$2:$C$44,2,FALSE)&TEXT(Sheet1!X67,\"00\")&TEXT(Sheet1!Y67,\"00\")&IF(Sheet1!AA67=\"手\",TEXT(Sheet1!Z67,\"0\"),TEXT(Sheet1!Z67,\"00\"))))","v":""},{"$f":"IF(Sheet1!AD67=\"\",\"\",\"●\")","v":""},{"$f":"IF(Sheet1!AE67=\"\",\"\",\"▲\")","v":""},{"$f":"IF(Sheet1!AF67=\"\",\"\",\"★\")","v":""},{"$f":"IF(Sheet1!AG67=\"\",\"\",\"▼\")","v":""}]
["",{"$f":"ASC(IF(Sheet1!C68=\"\",\"\",IF(LEN(Sheet1!C68)+LEN(Sheet1!D68)=2,Sheet1!C68&\"      \"&Sheet1!D68&\"(\"&Sheet1!I68&\")\",IF(LEN(Sheet1!C68)+LEN(Sheet1!D68)=3,Sheet1!C68&\"    \"&Sheet1!D68&\"(\"&Sheet1!I68&\")\",IF(LEN(Sheet1!C68)+LEN(Sheet1!D68)=4,Sheet1!C68&\"  \"&Sheet1!D68&\"(\"&Sheet1!I68&\")\",IF(LEN(Sheet1!C68)+LEN(Sheet1!D68)>=5,Sheet1!C68&Sheet1!D68&\"(\"&Sheet1!I68&\")\",\"\"))))))","v":""},{"$f":"ASC(IF(Sheet1!E68=\"\",\"\",Sheet1!E68&\" \"&Sheet1!F68))","v":""},{"$f":"ASC(IF(Sheet1!G68=\"\",\"\",UPPER(Sheet1!G68)&\" \"&PROPER(Sheet1!H68)&\"(\"&Sheet1!I68&\")\"))","v":""},{"$f":"IF(Sheet1!J68=\"\",\"\",IF(Sheet1!J68=\"女\",2,1))","v":""},{"$f":"IF(Sheet1!K68=\"\",\"\",VLOOKUP(Sheet1!K68,Sheet2!$F$2:$G$50,2,FALSE))","v":""},{"$f":"IF(Sheet1!L68=\"\",\"\",(Sheet1!L68))","v":""},{"$f":"IF(B55=\"\",\"\",VALUE(LEFT(Sheet1!E$4,6)))","v":""},{"$f":"IF(Sheet1!B68=\"\",\"\",VALUE(Sheet1!B68))","v":""},{"$f":"IF(Sheet1!M68=\"\",\"\",IF(VLOOKUP(Sheet1!M68,Sheet2!$A$2:$C$44,3,FALSE)>=71,VLOOKUP(Sheet1!M68,Sheet2!$A$2:$C$44,2,FALSE)&TEXT(Sheet1!O68,\"00\")&TEXT(Sheet1!P68,\"00\"),VLOOKUP(Sheet1!M68,Sheet2!$A$2:$C$44,2,FALSE)&TEXT(Sheet1!N68,\"00\")&TEXT(Sheet1!O68,\"00\")&IF(Sheet1!Q68=\"手\",TEXT(Sheet1!P68,\"0\"),TEXT(Sheet1!P68,\"00\"))))","v":""},{"$f":"IF(Sheet1!R68=\"\",\"\",IF(VLOOKUP(Sheet1!R68,Sheet2!$A$2:$C$44,3,FALSE)>=71,VLOOKUP(Sheet1!R68,Sheet2!$A$2:$C$44,2,FALSE)&TEXT(Sheet1!T68,\"00\")&TEXT(Sheet1!U68,\"00\"),VLOOKUP(Sheet1!R68,Sheet2!$A$2:$C$44,2,FALSE)&TEXT(Sheet1!S68,\"00\")&TEXT(Sheet1!T68,\"00\")&IF(Sheet1!V68=\"手\",TEXT(Sheet1!U68,\"0\"),TEXT(Sheet1!U68,\"00\"))))","v":""},{"$f":"IF(Sheet1!W68=\"\",\"\",IF(VLOOKUP(Sheet1!W68,Sheet2!$A$2:$C$44,3,FALSE)>=71,VLOOKUP(Sheet1!W68,Sheet2!$A$2:$C$44,2,FALSE)&TEXT(Sheet1!Y68,\"00\")&TEXT(Sheet1!Z68,\"00\"),VLOOKUP(Sheet1!W68,Sheet2!$A$2:$C$44,2,FALSE)&TEXT(Sheet1!X68,\"00\")&TEXT(Sheet1!Y68,\"00\")&IF(Sheet1!AA68=\"手\",TEXT(Sheet1!Z68,\"0\"),TEXT(Sheet1!Z68,\"00\"))))","v":""},{"$f":"IF(Sheet1!AD68=\"\",\"\",\"●\")","v":""},{"$f":"IF(Sheet1!AE68=\"\",\"\",\"▲\")","v":""},{"$f":"IF(Sheet1!AF68=\"\",\"\",\"★\")","v":""},{"$f":"IF(Sheet1!AG68=\"\",\"\",\"▼\")","v":""}]
["",{"$f":"ASC(IF(Sheet1!C69=\"\",\"\",IF(LEN(Sheet1!C69)+LEN(Sheet1!D69)=2,Sheet1!C69&\"      \"&Sheet1!D69&\"(\"&Sheet1!I69&\")\",IF(LEN(Sheet1!C69)+LEN(Sheet1!D69)=3,Sheet1!C69&\"    \"&Sheet1!D69&\"(\"&Sheet1!I69&\")\",IF(LEN(Sheet1!C69)+LEN(Sheet1!D69)=4,Sheet1!C69&\"  \"&Sheet1!D69&\"(\"&Sheet1!I69&\")\",IF(LEN(Sheet1!C69)+LEN(Sheet1!D69)>=5,Sheet1!C69&Sheet1!D69&\"(\"&Sheet1!I69&\")\",\"\"))))))","v":""},{"$f":"ASC(IF(Sheet1!E69=\"\",\"\",Sheet1!E69&\" \"&Sheet1!F69))","v":""},{"$f":"ASC(IF(Sheet1!G69=\"\",\"\",UPPER(Sheet1!G69)&\" \"&PROPER(Sheet1!H69)&\"(\"&Sheet1!I69&\")\"))","v":""},{"$f":"IF(Sheet1!J69=\"\",\"\",IF(Sheet1!J69=\"女\",2,1))","v":""},{"$f":"IF(Sheet1!K69=\"\",\"\",VLOOKUP(Sheet1!K69,Sheet2!$F$2:$G$50,2,FALSE))","v":""},{"$f":"IF(Sheet1!L69=\"\",\"\",(Sheet1!L69))","v":""},{"$f":"IF(B56=\"\",\"\",VALUE(LEFT(Sheet1!E$4,6)))","v":""},{"$f":"IF(Sheet1!B69=\"\",\"\",VALUE(Sheet1!B69))","v":""},{"$f":"IF(Sheet1!M69=\"\",\"\",IF(VLOOKUP(Sheet1!M69,Sheet2!$A$2:$C$44,3,FALSE)>=71,VLOOKUP(Sheet1!M69,Sheet2!$A$2:$C$44,2,FALSE)&TEXT(Sheet1!O69,\"00\")&TEXT(Sheet1!P69,\"00\"),VLOOKUP(Sheet1!M69,Sheet2!$A$2:$C$44,2,FALSE)&TEXT(Sheet1!N69,\"00\")&TEXT(Sheet1!O69,\"00\")&IF(Sheet1!Q69=\"手\",TEXT(Sheet1!P69,\"0\"),TEXT(Sheet1!P69,\"00\"))))","v":""},{"$f":"IF(Sheet1!R69=\"\",\"\",IF(VLOOKUP(Sheet1!R69,Sheet2!$A$2:$C$44,3,FALSE)>=71,VLOOKUP(Sheet1!R69,Sheet2!$A$2:$C$44,2,FALSE)&TEXT(Sheet1!T69,\"00\")&TEXT(Sheet1!U69,\"00\"),VLOOKUP(Sheet1!R69,Sheet2!$A$2:$C$44,2,FALSE)&TEXT(Sheet1!S69,\"00\")&TEXT(Sheet1!T69,\"00\")&IF(Sheet1!V69=\"手\",TEXT(Sheet1!U69,\"0\"),TEXT(Sheet1!U69,\"00\"))))","v":""},{"$f":"IF(Sheet1!W69=\"\",\"\",IF(VLOOKUP(Sheet1!W69,Sheet2!$A$2:$C$44,3,FALSE)>=71,VLOOKUP(Sheet1!W69,Sheet2!$A$2:$C$44,2,FALSE)&TEXT(Sheet1!Y69,\"00\")&TEXT(Sheet1!Z69,\"00\"),VLOOKUP(Sheet1!W69,Sheet2!$A$2:$C$44,2,FALSE)&TEXT(Sheet1!X69,\"00\")&TEXT(Sheet1!Y69,\"00\")&IF(Sheet1!AA69=\"手\",TEXT(Sheet1!Z69,\"0\"),TEXT(Sheet1!Z69,\"00\"))))","v":""},{"$f":"IF(Sheet1!AD69=\"\",\"\",\"●\")","v":""},{"$f":"IF(Sheet1!AE69=\"\",\"\",\"▲\")","v":""},{"$f":"IF(Sheet1!AF69=\"\",\"\",\"★\")","v":""},{"$f":"IF(Sheet1!AG69=\"\",\"\",\"▼\")","v":""}]
["",{"$f":"ASC(IF(Sheet1!C70=\"\",\"\",IF(LEN(Sheet1!C70)+LEN(Sheet1!D70)=2,Sheet1!C70&\"      \"&Sheet1!D70&\"(\"&Sheet1!I70&\")\",IF(LEN(Sheet1!C70)+LEN(Sheet1!D70)=3,Sheet1!C70&\"    \"&Sheet1!D70&\"(\"&Sheet1!I70&\")\",IF(LEN(Sheet1!C70)+LEN(Sheet1!D70)=4,Sheet1!C70&\"  \"&Sheet1!D70&\"(\"&Sheet1!I70&\")\",IF(LEN(Sheet1!C70)+LEN(Sheet1!D70)>=5,Sheet1!C70&Sheet1!D70&\"(\"&Sheet1!I70&\")\",\"\"))))))","v":""},{"$f":"ASC(IF(Sheet1!E70=\"\",\"\",Sheet1!E70&\" \"&Sheet1!F70))","v":""},{"$f":"ASC(IF(Sheet1!G70=\"\",\"\",UPPER(Sheet1!G70)&\" \"&PROPER(Sheet1!H70)&\"(\"&Sheet1!I70&\")\"))","v":""},{"$f":"IF(Sheet1!J70=\"\",\"\",IF(Sheet1!J70=\"女\",2,1))","v":""},{"$f":"IF(Sheet1!K70=\"\",\"\",VLOOKUP(Sheet1!K70,Sheet2!$F$2:$G$50,2,FALSE))","v":""},{"$f":"IF(Sheet1!L70=\"\",\"\",(Sheet1!L70))","v":""},{"$f":"IF(B57=\"\",\"\",VALUE(LEFT(Sheet1!E$4,6)))","v":""},{"$f":"IF(Sheet1!B70=\"\",\"\",VALUE(Sheet1!B70))","v":""},{"$f":"IF(Sheet1!M70=\"\",\"\",IF(VLOOKUP(Sheet1!M70,Sheet2!$A$2:$C$44,3,FALSE)>=71,VLOOKUP(Sheet1!M70,Sheet2!$A$2:$C$44,2,FALSE)&TEXT(Sheet1!O70,\"00\")&TEXT(Sheet1!P70,\"00\"),VLOOKUP(Sheet1!M70,Sheet2!$A$2:$C$44,2,FALSE)&TEXT(Sheet1!N70,\"00\")&TEXT(Sheet1!O70,\"00\")&IF(Sheet1!Q70=\"手\",TEXT(Sheet1!P70,\"0\"),TEXT(Sheet1!P70,\"00\"))))","v":""},{"$f":"IF(Sheet1!R70=\"\",\"\",IF(VLOOKUP(Sheet1!R70,Sheet2!$A$2:$C$44,3,FALSE)>=71,VLOOKUP(Sheet1!R70,Sheet2!$A$2:$C$44,2,FALSE)&TEXT(Sheet1!T70,\"00\")&TEXT(Sheet1!U70,\"00\"),VLOOKUP(Sheet1!R70,Sheet2!$A$2:$C$44,2,FALSE)&TEXT(Sheet1!S70,\"00\")&TEXT(Sheet1!T70,\"00\")&IF(Sheet1!V70=\"手\",TEXT(Sheet1!U70,\"0\"),TEXT(Sheet1!U70,\"00\"))))","v":""},{"$f":"IF(Sheet1!W70=\"\",\"\",IF(VLOOKUP(Sheet1!W70,Sheet2!$A$2:$C$44,3,FALSE)>=71,VLOOKUP(Sheet1!W70,Sheet2!$A$2:$C$44,2,FALSE)&TEXT(Sheet1!Y70,\"00\")&TEXT(Sheet1!Z70,\"00\"),VLOOKUP(Sheet1!W70,Sheet2!$A$2:$C$44,2,FALSE)&TEXT(Sheet1!X70,\"00\")&TEXT(Sheet1!Y70,\"00\")&IF(Sheet1!AA70=\"手\",TEXT(Sheet1!Z70,\"0\"),TEXT(Sheet1!Z70,\"00\"))))","v":""},{"$f":"IF(Sheet1!AD70=\"\",\"\",\"●\")","v":""},{"$f":"IF(Sheet1!AE70=\"\",\"\",\"▲\")","v":""},{"$f":"IF(Sheet1!AF70=\"\",\"\",\"★\")","v":""},{"$f":"IF(Sheet1!AG70=\"\",\"\",\"▼\")","v":""}]
["",{"$f":"ASC(IF(Sheet1!C71=\"\",\"\",IF(LEN(Sheet1!C71)+LEN(Sheet1!D71)=2,Sheet1!C71&\"      \"&Sheet1!D71&\"(\"&Sheet1!I71&\")\",IF(LEN(Sheet1!C71)+LEN(Sheet1!D71)=3,Sheet1!C71&\"    \"&Sheet1!D71&\"(\"&Sheet1!I71&\")\",IF(LEN(Sheet1!C71)+LEN(Sheet1!D71)=4,Sheet1!C71&\"  \"&Sheet1!D71&\"(\"&Sheet1!I71&\")\",IF(LEN(Sheet1!C71)+LEN(Sheet1!D71)>=5,Sheet1!C71&Sheet1!D71&\"(\"&Sheet1!I71&\")\",\"\"))))))","v":""},{"$f":"ASC(IF(Sheet1!E71=\"\",\"\",Sheet1!E71&\" \"&Sheet1!F71))","v":""},{"$f":"ASC(IF(Sheet1!G71=\"\",\"\",UPPER(Sheet1!G71)&\" \"&PROPER(Sheet1!H71)&\"(\"&Sheet1!I71&\")\"))","v":""},{"$f":"IF(Sheet1!J71=\"\",\"\",IF(Sheet1!J71=\"女\",2,1))","v":""},{"$f":"IF(Sheet1!K71=\"\",\"\",VLOOKUP(Sheet1!K71,Sheet2!$F$2:$G$50,2,FALSE))","v":""},{"$f":"IF(Sheet1!L71=\"\",\"\",(Sheet1!L71))","v":""},{"$f":"IF(B58=\"\",\"\",VALUE(LEFT(Sheet1!E$4,6)))","v":""},{"$f":"IF(Sheet1!B71=\"\",\"\",VALUE(Sheet1!B71))","v":""},{"$f":"IF(Sheet1!M71=\"\",\"\",IF(VLOOKUP(Sheet1!M71,Sheet2!$A$2:$C$44,3,FALSE)>=71,VLOOKUP(Sheet1!M71,Sheet2!$A$2:$C$44,2,FALSE)&TEXT(Sheet1!O71,\"00\")&TEXT(Sheet1!P71,\"00\"),VLOOKUP(Sheet1!M71,Sheet2!$A$2:$C$44,2,FALSE)&TEXT(Sheet1!N71,\"00\")&TEXT(Sheet1!O71,\"00\")&IF(Sheet1!Q71=\"手\",TEXT(Sheet1!P71,\"0\"),TEXT(Sheet1!P71,\"00\"))))","v":""},{"$f":"IF(Sheet1!R71=\"\",\"\",IF(VLOOKUP(Sheet1!R71,Sheet2!$A$2:$C$44,3,FALSE)>=71,VLOOKUP(Sheet1!R71,Sheet2!$A$2:$C$44,2,FALSE)&TEXT(Sheet1!T71,\"00\")&TEXT(Sheet1!U71,\"00\"),VLOOKUP(Sheet1!R71,Sheet2!$A$2:$C$44,2,FALSE)&TEXT(Sheet1!S71,\"00\")&TEXT(Sheet1!T71,\"00\")&IF(Sheet1!V71=\"手\",TEXT(Sheet1!U71,\"0\"),TEXT(Sheet1!U71,\"00\"))))","v":""},{"$f":"IF(Sheet1!W71=\"\",\"\",IF(VLOOKUP(Sheet1!W71,Sheet2!$A$2:$C$44,3,FALSE)>=71,VLOOKUP(Sheet1!W71,Sheet2!$A$2:$C$44,2,FALSE)&TEXT(Sheet1!Y71,\"00\")&TEXT(Sheet1!Z71,\"00\"),VLOOKUP(Sheet1!W71,Sheet2!$A$2:$C$44,2,FALSE)&TEXT(Sheet1!X71,\"00\")&TEXT(Sheet1!Y71,\"00\")&IF(Sheet1!AA71=\"手\",TEXT(Sheet1!Z71,\"0\"),TEXT(Sheet1!Z71,\"00\"))))","v":""},{"$f":"IF(Sheet1!AD71=\"\",\"\",\"●\")","v":""},{"$f":"IF(Sheet1!AE71=\"\",\"\",\"▲\")","v":""},{"$f":"IF(Sheet1!AF71=\"\",\"\",\"★\")","v":""},{"$f":"IF(Sheet1!AG71=\"\",\"\",\"▼\")","v":""}]
["",{"$f":"ASC(IF(Sheet1!C72=\"\",\"\",IF(LEN(Sheet1!C72)+LEN(Sheet1!D72)=2,Sheet1!C72&\"      \"&Sheet1!D72&\"(\"&Sheet1!I72&\")\",IF(LEN(Sheet1!C72)+LEN(Sheet1!D72)=3,Sheet1!C72&\"    \"&Sheet1!D72&\"(\"&Sheet1!I72&\")\",IF(LEN(Sheet1!C72)+LEN(Sheet1!D72)=4,Sheet1!C72&\"  \"&Sheet1!D72&\"(\"&Sheet1!I72&\")\",IF(LEN(Sheet1!C72)+LEN(Sheet1!D72)>=5,Sheet1!C72&Sheet1!D72&\"(\"&Sheet1!I72&\")\",\"\"))))))","v":""},{"$f":"ASC(IF(Sheet1!E72=\"\",\"\",Sheet1!E72&\" \"&Sheet1!F72))","v":""},{"$f":"ASC(IF(Sheet1!G72=\"\",\"\",UPPER(Sheet1!G72)&\" \"&PROPER(Sheet1!H72)&\"(\"&Sheet1!I72&\")\"))","v":""},{"$f":"IF(Sheet1!J72=\"\",\"\",IF(Sheet1!J72=\"女\",2,1))","v":""},{"$f":"IF(Sheet1!K72=\"\",\"\",VLOOKUP(Sheet1!K72,Sheet2!$F$2:$G$50,2,FALSE))","v":""},{"$f":"IF(Sheet1!L72=\"\",\"\",(Sheet1!L72))","v":""},{"$f":"IF(B59=\"\",\"\",VALUE(LEFT(Sheet1!E$4,6)))","v":""},{"$f":"IF(Sheet1!B72=\"\",\"\",VALUE(Sheet1!B72))","v":""},{"$f":"IF(Sheet1!M72=\"\",\"\",IF(VLOOKUP(Sheet1!M72,Sheet2!$A$2:$C$44,3,FALSE)>=71,VLOOKUP(Sheet1!M72,Sheet2!$A$2:$C$44,2,FALSE)&TEXT(Sheet1!O72,\"00\")&TEXT(Sheet1!P72,\"00\"),VLOOKUP(Sheet1!M72,Sheet2!$A$2:$C$44,2,FALSE)&TEXT(Sheet1!N72,\"00\")&TEXT(Sheet1!O72,\"00\")&IF(Sheet1!Q72=\"手\",TEXT(Sheet1!P72,\"0\"),TEXT(Sheet1!P72,\"00\"))))","v":""},{"$f":"IF(Sheet1!R72=\"\",\"\",IF(VLOOKUP(Sheet1!R72,Sheet2!$A$2:$C$44,3,FALSE)>=71,VLOOKUP(Sheet1!R72,Sheet2!$A$2:$C$44,2,FALSE)&TEXT(Sheet1!T72,\"00\")&TEXT(Sheet1!U72,\"00\"),VLOOKUP(Sheet1!R72,Sheet2!$A$2:$C$44,2,FALSE)&TEXT(Sheet1!S72,\"00\")&TEXT(Sheet1!T72,\"00\")&IF(Sheet1!V72=\"手\",TEXT(Sheet1!U72,\"0\"),TEXT(Sheet1!U72,\"00\"))))","v":""},{"$f":"IF(Sheet1!W72=\"\",\"\",IF(VLOOKUP(Sheet1!W72,Sheet2!$A$2:$C$44,3,FALSE)>=71,VLOOKUP(Sheet1!W72,Sheet2!$A$2:$C$44,2,FALSE)&TEXT(Sheet1!Y72,\"00\")&TEXT(Sheet1!Z72,\"00\"),VLOOKUP(Sheet1!W72,Sheet2!$A$2:$C$44,2,FALSE)&TEXT(Sheet1!X72,\"00\")&TEXT(Sheet1!Y72,\"00\")&IF(Sheet1!AA72=\"手\",TEXT(Sheet1!Z72,\"0\"),TEXT(Sheet1!Z72,\"00\"))))","v":""},{"$f":"IF(Sheet1!AD72=\"\",\"\",\"●\")","v":""},{"$f":"IF(Sheet1!AE72=\"\",\"\",\"▲\")","v":""},{"$f":"IF(Sheet1!AF72=\"\",\"\",\"★\")","v":""},{"$f":"IF(Sheet1!AG72=\"\",\"\",\"▼\")","v":""}]
["",{"$f":"ASC(IF(Sheet1!C73=\"\",\"\",IF(LEN(Sheet1!C73)+LEN(Sheet1!D73)=2,Sheet1!C73&\"      \"&Sheet1!D73&\"(\"&Sheet1!I73&\")\",IF(LEN(Sheet1!C73)+LEN(Sheet1!D73)=3,Sheet1!C73&\"    \"&Sheet1!D73&\"(\"&Sheet1!I73&\")\",IF(LEN(Sheet1!C73)+LEN(Sheet1!D73)=4,Sheet1!C73&\"  \"&Sheet1!D73&\"(\"&Sheet1!I73&\")\",IF(LEN(Sheet1!C73)+LEN(Sheet1!D73)>=5,Sheet1!C73&Sheet1!D73&\"(\"&Sheet1!I73&\")\",\"\"))))))","v":""},{"$f":"ASC(IF(Sheet1!E73=\"\",\"\",Sheet1!E73&\" \"&Sheet1!F73))","v":""},{"$f":"ASC(IF(Sheet1!G73=\"\",\"\",UPPER(Sheet1!G73)&\" \"&PROPER(Sheet1!H73)&\"(\"&Sheet1!I73&\")\"))","v":""},{"$f":"IF(Sheet1!J73=\"\",\"\",IF(Sheet1!J73=\"女\",2,1))","v":""},{"$f":"IF(Sheet1!K73=\"\",\"\",VLOOKUP(Sheet1!K73,Sheet2!$F$2:$G$50,2,FALSE))","v":""},{"$f":"IF(Sheet1!L73=\"\",\"\",(Sheet1!L73))","v":""},{"$f":"IF(B60=\"\",\"\",VALUE(LEFT(Sheet1!E$4,6)))","v":""},{"$f":"IF(Sheet1!B73=\"\",\"\",VALUE(Sheet1!B73))","v":""},{"$f":"IF(Sheet1!M73=\"\",\"\",IF(VLOOKUP(Sheet1!M73,Sheet2!$A$2:$C$44,3,FALSE)>=71,VLOOKUP(Sheet1!M73,Sheet2!$A$2:$C$44,2,FALSE)&TEXT(Sheet1!O73,\"00\")&TEXT(Sheet1!P73,\"00\"),VLOOKUP(Sheet1!M73,Sheet2!$A$2:$C$44,2,FALSE)&TEXT(Sheet1!N73,\"00\")&TEXT(Sheet1!O73,\"00\")&IF(Sheet1!Q73=\"手\",TEXT(Sheet1!P73,\"0\"),TEXT(Sheet1!P73,\"00\"))))","v":""},{"$f":"IF(Sheet1!R73=\"\",\"\",IF(VLOOKUP(Sheet1!R73,Sheet2!$A$2:$C$44,3,FALSE)>=71,VLOOKUP(Sheet1!R73,Sheet2!$A$2:$C$44,2,FALSE)&TEXT(Sheet1!T73,\"00\")&TEXT(Sheet1!U73,\"00\"),VLOOKUP(Sheet1!R73,Sheet2!$A$2:$C$44,2,FALSE)&TEXT(Sheet1!S73,\"00\")&TEXT(Sheet1!T73,\"00\")&IF(Sheet1!V73=\"手\",TEXT(Sheet1!U73,\"0\"),TEXT(Sheet1!U73,\"00\"))))","v":""},{"$f":"IF(Sheet1!W73=\"\",\"\",IF(VLOOKUP(Sheet1!W73,Sheet2!$A$2:$C$44,3,FALSE)>=71,VLOOKUP(Sheet1!W73,Sheet2!$A$2:$C$44,2,FALSE)&TEXT(Sheet1!Y73,\"00\")&TEXT(Sheet1!Z73,\"00\"),VLOOKUP(Sheet1!W73,Sheet2!$A$2:$C$44,2,FALSE)&TEXT(Sheet1!X73,\"00\")&TEXT(Sheet1!Y73,\"00\")&IF(Sheet1!AA73=\"手\",TEXT(Sheet1!Z73,\"0\"),TEXT(Sheet1!Z73,\"00\"))))","v":""},{"$f":"IF(Sheet1!AD73=\"\",\"\",\"●\")","v":""},{"$f":"IF(Sheet1!AE73=\"\",\"\",\"▲\")","v":""},{"$f":"IF(Sheet1!AF73=\"\",\"\",\"★\")","v":""},{"$f":"IF(Sheet1!AG73=\"\",\"\",\"▼\")","v":""}]
["",{"$f":"ASC(IF(Sheet1!C74=\"\",\"\",IF(LEN(Sheet1!C74)+LEN(Sheet1!D74)=2,Sheet1!C74&\"      \"&Sheet1!D74&\"(\"&Sheet1!I74&\")\",IF(LEN(Sheet1!C74)+LEN(Sheet1!D74)=3,Sheet1!C74&\"    \"&Sheet1!D74&\"(\"&Sheet1!I74&\")\",IF(LEN(Sheet1!C74)+LEN(Sheet1!D74)=4,Sheet1!C74&\"  \"&Sheet1!D74&\"(\"&Sheet1!I74&\")\",IF(LEN(Sheet1!C74)+LEN(Sheet1!D74)>=5,Sheet1!C74&Sheet1!D74&\"(\"&Sheet1!I74&\")\",\"\"))))))","v":""},{"$f":"ASC(IF(Sheet1!E74=\"\",\"\",Sheet1!E74&\" \"&Sheet1!F74))","v":""},{"$f":"ASC(IF(Sheet1!G74=\"\",\"\",UPPER(Sheet1!G74)&\" \"&PROPER(Sheet1!H74)&\"(\"&Sheet1!I74&\")\"))","v":""},{"$f":"IF(Sheet1!J74=\"\",\"\",IF(Sheet1!J74=\"女\",2,1))","v":""},{"$f":"IF(Sheet1!K74=\"\",\"\",VLOOKUP(Sheet1!K74,Sheet2!$F$2:$G$50,2,FALSE))","v":""},{"$f":"IF(Sheet1!L74=\"\",\"\",(Sheet1!L74))","v":""},{"$f":"IF(B61=\"\",\"\",VALUE(LEFT(Sheet1!E$4,6)))","v":""},{"$f":"IF(Sheet1!B74=\"\",\"\",VALUE(Sheet1!B74))","v":""},{"$f":"IF(Sheet1!M74=\"\",\"\",IF(VLOOKUP(Sheet1!M74,Sheet2!$A$2:$C$44,3,FALSE)>=71,VLOOKUP(Sheet1!M74,Sheet2!$A$2:$C$44,2,FALSE)&TEXT(Sheet1!O74,\"00\")&TEXT(Sheet1!P74,\"00\"),VLOOKUP(Sheet1!M74,Sheet2!$A$2:$C$44,2,FALSE)&TEXT(Sheet1!N74,\"00\")&TEXT(Sheet1!O74,\"00\")&IF(Sheet1!Q74=\"手\",TEXT(Sheet1!P74,\"0\"),TEXT(Sheet1!P74,\"00\"))))","v":""},{"$f":"IF(Sheet1!R74=\"\",\"\",IF(VLOOKUP(Sheet1!R74,Sheet2!$A$2:$C$44,3,FALSE)>=71,VLOOKUP(Sheet1!R74,Sheet2!$A$2:$C$44,2,FALSE)&TEXT(Sheet1!T74,\"00\")&TEXT(Sheet1!U74,\"00\"),VLOOKUP(Sheet1!R74,Sheet2!$A$2:$C$44,2,FALSE)&TEXT(Sheet1!S74,\"00\")&TEXT(Sheet1!T74,\"00\")&IF(Sheet1!V74=\"手\",TEXT(Sheet1!U74,\"0\"),TEXT(Sheet1!U74,\"00\"))))","v":""},{"$f":"IF(Sheet1!W74=\"\",\"\",IF(VLOOKUP(Sheet1!W74,Sheet2!$A$2:$C$44,3,FALSE)>=71,VLOOKUP(Sheet1!W74,Sheet2!$A$2:$C$44,2,FALSE)&TEXT(Sheet1!Y74,\"00\")&TEXT(Sheet1!Z74,\"00\"),VLOOKUP(Sheet1!W74,Sheet2!$A$2:$C$44,2,FALSE)&TEXT(Sheet1!X74,\"00\")&TEXT(Sheet1!Y74,\"00\")&IF(Sheet1!AA74=\"手\",TEXT(Sheet1!Z74,\"0\"),TEXT(Sheet1!Z74,\"00\"))))","v":""},{"$f":"IF(Sheet1!AD74=\"\",\"\",\"●\")","v":""},{"$f":"IF(Sheet1!AE74=\"\",\"\",\"▲\")","v":""},{"$f":"IF(Sheet1!AF74=\"\",\"\",\"★\")","v":""},{"$f":"IF(Sheet1!AG74=\"\",\"\",\"▼\")","v":""}]
["",{"$f":"ASC(IF(Sheet1!C75=\"\",\"\",IF(LEN(Sheet1!C75)+LEN(Sheet1!D75)=2,Sheet1!C75&\"      \"&Sheet1!D75&\"(\"&Sheet1!I75&\")\",IF(LEN(Sheet1!C75)+LEN(Sheet1!D75)=3,Sheet1!C75&\"    \"&Sheet1!D75&\"(\"&Sheet1!I75&\")\",IF(LEN(Sheet1!C75)+LEN(Sheet1!D75)=4,Sheet1!C75&\"  \"&Sheet1!D75&\"(\"&Sheet1!I75&\")\",IF(LEN(Sheet1!C75)+LEN(Sheet1!D75)>=5,Sheet1!C75&Sheet1!D75&\"(\"&Sheet1!I75&\")\",\"\"))))))","v":""},{"$f":"ASC(IF(Sheet1!E75=\"\",\"\",Sheet1!E75&\" \"&Sheet1!F75))","v":""},{"$f":"ASC(IF(Sheet1!G75=\"\",\"\",UPPER(Sheet1!G75)&\" \"&PROPER(Sheet1!H75)&\"(\"&Sheet1!I75&\")\"))","v":""},{"$f":"IF(Sheet1!J75=\"\",\"\",IF(Sheet1!J75=\"女\",2,1))","v":""},{"$f":"IF(Sheet1!K75=\"\",\"\",VLOOKUP(Sheet1!K75,Sheet2!$F$2:$G$50,2,FALSE))","v":""},{"$f":"IF(Sheet1!L75=\"\",\"\",(Sheet1!L75))","v":""},{"$f":"IF(B62=\"\",\"\",VALUE(LEFT(Sheet1!E$4,6)))","v":""},{"$f":"IF(Sheet1!B75=\"\",\"\",VALUE(Sheet1!B75))","v":""},{"$f":"IF(Sheet1!M75=\"\",\"\",IF(VLOOKUP(Sheet1!M75,Sheet2!$A$2:$C$44,3,FALSE)>=71,VLOOKUP(Sheet1!M75,Sheet2!$A$2:$C$44,2,FALSE)&TEXT(Sheet1!O75,\"00\")&TEXT(Sheet1!P75,\"00\"),VLOOKUP(Sheet1!M75,Sheet2!$A$2:$C$44,2,FALSE)&TEXT(Sheet1!N75,\"00\")&TEXT(Sheet1!O75,\"00\")&IF(Sheet1!Q75=\"手\",TEXT(Sheet1!P75,\"0\"),TEXT(Sheet1!P75,\"00\"))))","v":""},{"$f":"IF(Sheet1!R75=\"\",\"\",IF(VLOOKUP(Sheet1!R75,Sheet2!$A$2:$C$44,3,FALSE)>=71,VLOOKUP(Sheet1!R75,Sheet2!$A$2:$C$44,2,FALSE)&TEXT(Sheet1!T75,\"00\")&TEXT(Sheet1!U75,\"00\"),VLOOKUP(Sheet1!R75,Sheet2!$A$2:$C$44,2,FALSE)&TEXT(Sheet1!S75,\"00\")&TEXT(Sheet1!T75,\"00\")&IF(Sheet1!V75=\"手\",TEXT(Sheet1!U75,\"0\"),TEXT(Sheet1!U75,\"00\"))))","v":""},{"$f":"IF(Sheet1!W75=\"\",\"\",IF(VLOOKUP(Sheet1!W75,Sheet2!$A$2:$C$44,3,FALSE)>=71,VLOOKUP(Sheet1!W75,Sheet2!$A$2:$C$44,2,FALSE)&TEXT(Sheet1!Y75,\"00\")&TEXT(Sheet1!Z75,\"00\"),VLOOKUP(Sheet1!W75,Sheet2!$A$2:$C$44,2,FALSE)&TEXT(Sheet1!X75,\"00\")&TEXT(Sheet1!Y75,\"00\")&IF(Sheet1!AA75=\"手\",TEXT(Sheet1!Z75,\"0\"),TEXT(Sheet1!Z75,\"00\"))))","v":""},{"$f":"IF(Sheet1!AD75=\"\",\"\",\"●\")","v":""},{"$f":"IF(Sheet1!AE75=\"\",\"\",\"▲\")","v":""},{"$f":"IF(Sheet1!AF75=\"\",\"\",\"★\")","v":""},{"$f":"IF(Sheet1!AG75=\"\",\"\",\"▼\")","v":""}]
["",{"$f":"ASC(IF(Sheet1!C76=\"\",\"\",IF(LEN(Sheet1!C76)+LEN(Sheet1!D76)=2,Sheet1!C76&\"      \"&Sheet1!D76&\"(\"&Sheet1!I76&\")\",IF(LEN(Sheet1!C76)+LEN(Sheet1!D76)=3,Sheet1!C76&\"    \"&Sheet1!D76&\"(\"&Sheet1!I76&\")\",IF(LEN(Sheet1!C76)+LEN(Sheet1!D76)=4,Sheet1!C76&\"  \"&Sheet1!D76&\"(\"&Sheet1!I76&\")\",IF(LEN(Sheet1!C76)+LEN(Sheet1!D76)>=5,Sheet1!C76&Sheet1!D76&\"(\"&Sheet1!I76&\")\",\"\"))))))","v":""},{"$f":"ASC(IF(Sheet1!E76=\"\",\"\",Sheet1!E76&\" \"&Sheet1!F76))","v":""},{"$f":"ASC(IF(Sheet1!G76=\"\",\"\",UPPER(Sheet1!G76)&\" \"&PROPER(Sheet1!H76)&\"(\"&Sheet1!I76&\")\"))","v":""},{"$f":"IF(Sheet1!J76=\"\",\"\",IF(Sheet1!J76=\"女\",2,1))","v":""},{"$f":"IF(Sheet1!K76=\"\",\"\",VLOOKUP(Sheet1!K76,Sheet2!$F$2:$G$50,2,FALSE))","v":""},{"$f":"IF(Sheet1!L76=\"\",\"\",(Sheet1!L76))","v":""},{"$f":"IF(B63=\"\",\"\",VALUE(LEFT(Sheet1!E$4,6)))","v":""},{"$f":"IF(Sheet1!B76=\"\",\"\",VALUE(Sheet1!B76))","v":""},{"$f":"IF(Sheet1!M76=\"\",\"\",IF(VLOOKUP(Sheet1!M76,Sheet2!$A$2:$C$44,3,FALSE)>=71,VLOOKUP(Sheet1!M76,Sheet2!$A$2:$C$44,2,FALSE)&TEXT(Sheet1!O76,\"00\")&TEXT(Sheet1!P76,\"00\"),VLOOKUP(Sheet1!M76,Sheet2!$A$2:$C$44,2,FALSE)&TEXT(Sheet1!N76,\"00\")&TEXT(Sheet1!O76,\"00\")&IF(Sheet1!Q76=\"手\",TEXT(Sheet1!P76,\"0\"),TEXT(Sheet1!P76,\"00\"))))","v":""},{"$f":"IF(Sheet1!R76=\"\",\"\",IF(VLOOKUP(Sheet1!R76,Sheet2!$A$2:$C$44,3,FALSE)>=71,VLOOKUP(Sheet1!R76,Sheet2!$A$2:$C$44,2,FALSE)&TEXT(Sheet1!T76,\"00\")&TEXT(Sheet1!U76,\"00\"),VLOOKUP(Sheet1!R76,Sheet2!$A$2:$C$44,2,FALSE)&TEXT(Sheet1!S76,\"00\")&TEXT(Sheet1!T76,\"00\")&IF(Sheet1!V76=\"手\",TEXT(Sheet1!U76,\"0\"),TEXT(Sheet1!U76,\"00\"))))","v":""},{"$f":"IF(Sheet1!W76=\"\",\"\",IF(VLOOKUP(Sheet1!W76,Sheet2!$A$2:$C$44,3,FALSE)>=71,VLOOKUP(Sheet1!W76,Sheet2!$A$2:$C$44,2,FALSE)&TEXT(Sheet1!Y76,\"00\")&TEXT(Sheet1!Z76,\"00\"),VLOOKUP(Sheet1!W76,Sheet2!$A$2:$C$44,2,FALSE)&TEXT(Sheet1!X76,\"00\")&TEXT(Sheet1!Y76,\"00\")&IF(Sheet1!AA76=\"手\",TEXT(Sheet1!Z76,\"0\"),TEXT(Sheet1!Z76,\"00\"))))","v":""},{"$f":"IF(Sheet1!AD76=\"\",\"\",\"●\")","v":""},{"$f":"IF(Sheet1!AE76=\"\",\"\",\"▲\")","v":""},{"$f":"IF(Sheet1!AF76=\"\",\"\",\"★\")","v":""},{"$f":"IF(Sheet1!AG76=\"\",\"\",\"▼\")","v":""}]
["",{"$f":"ASC(IF(Sheet1!C77=\"\",\"\",IF(LEN(Sheet1!C77)+LEN(Sheet1!D77)=2,Sheet1!C77&\"      \"&Sheet1!D77&\"(\"&Sheet1!I77&\")\",IF(LEN(Sheet1!C77)+LEN(Sheet1!D77)=3,Sheet1!C77&\"    \"&Sheet1!D77&\"(\"&Sheet1!I77&\")\",IF(LEN(Sheet1!C77)+LEN(Sheet1!D77)=4,Sheet1!C77&\"  \"&Sheet1!D77&\"(\"&Sheet1!I77&\")\",IF(LEN(Sheet1!C77)+LEN(Sheet1!D77)>=5,Sheet1!C77&Sheet1!D77&\"(\"&Sheet1!I77&\")\",\"\"))))))","v":""},{"$f":"ASC(IF(Sheet1!E77=\"\",\"\",Sheet1!E77&\" \"&Sheet1!F77))","v":""},{"$f":"ASC(IF(Sheet1!G77=\"\",\"\",UPPER(Sheet1!G77)&\" \"&PROPER(Sheet1!H77)&\"(\"&Sheet1!I77&\")\"))","v":""},{"$f":"IF(Sheet1!J77=\"\",\"\",IF(Sheet1!J77=\"女\",2,1))","v":""},{"$f":"IF(Sheet1!K77=\"\",\"\",VLOOKUP(Sheet1!K77,Sheet2!$F$2:$G$50,2,FALSE))","v":""},{"$f":"IF(Sheet1!L77=\"\",\"\",(Sheet1!L77))","v":""},{"$f":"IF(B64=\"\",\"\",VALUE(LEFT(Sheet1!E$4,6)))","v":""},{"$f":"IF(Sheet1!B77=\"\",\"\",VALUE(Sheet1!B77))","v":""},{"$f":"IF(Sheet1!M77=\"\",\"\",IF(VLOOKUP(Sheet1!M77,Sheet2!$A$2:$C$44,3,FALSE)>=71,VLOOKUP(Sheet1!M77,Sheet2!$A$2:$C$44,2,FALSE)&TEXT(Sheet1!O77,\"00\")&TEXT(Sheet1!P77,\"00\"),VLOOKUP(Sheet1!M77,Sheet2!$A$2:$C$44,2,FALSE)&TEXT(Sheet1!N77,\"00\")&TEXT(Sheet1!O77,\"00\")&IF(Sheet1!Q77=\"手\",TEXT(Sheet1!P77,\"0\"),TEXT(Sheet1!P77,\"00\"))))","v":""},{"$f":"IF(Sheet1!R77=\"\",\"\",IF(VLOOKUP(Sheet1!R77,Sheet2!$A$2:$C$44,3,FALSE)>=71,VLOOKUP(Sheet1!R77,Sheet2!$A$2:$C$44,2,FALSE)&TEXT(Sheet1!T77,\"00\")&TEXT(Sheet1!U77,\"00\"),VLOOKUP(Sheet1!R77,Sheet2!$A$2:$C$44,2,FALSE)&TEXT(Sheet1!S77,\"00\")&TEXT(Sheet1!T77,\"00\")&IF(Sheet1!V77=\"手\",TEXT(Sheet1!U77,\"0\"),TEXT(Sheet1!U77,\"00\"))))","v":""},{"$f":"IF(Sheet1!W77=\"\",\"\",IF(VLOOKUP(Sheet1!W77,Sheet2!$A$2:$C$44,3,FALSE)>=71,VLOOKUP(Sheet1!W77,Sheet2!$A$2:$C$44,2,FALSE)&TEXT(Sheet1!Y77,\"00\")&TEXT(Sheet1!Z77,\"00\"),VLOOKUP(Sheet1!W77,Sheet2!$A$2:$C$44,2,FALSE)&TEXT(Sheet1!X77,\"00\")&TEXT(Sheet1!Y77,\"00\")&IF(Sheet1!AA77=\"手\",TEXT(Sheet1!Z77,\"0\"),TEXT(Sheet1!Z77,\"00\"))))","v":""},{"$f":"IF(Sheet1!AD77=\"\",\"\",\"●\")","v":""},{"$f":"IF(Sheet1!AE77=\"\",\"\",\"▲\")","v":""},{"$f":"IF(Sheet1!AF77=\"\",\"\",\"★\")","v":""},{"$f":"IF(Sheet1!AG77=\"\",\"\",\"▼\")","v":""}]
["",{"$f":"ASC(IF(Sheet1!C78=\"\",\"\",IF(LEN(Sheet1!C78)+LEN(Sheet1!D78)=2,Sheet1!C78&\"      \"&Sheet1!D78&\"(\"&Sheet1!I78&\")\",IF(LEN(Sheet1!C78)+LEN(Sheet1!D78)=3,Sheet1!C78&\"    \"&Sheet1!D78&\"(\"&Sheet1!I78&\")\",IF(LEN(Sheet1!C78)+LEN(Sheet1!D78)=4,Sheet1!C78&\"  \"&Sheet1!D78&\"(\"&Sheet1!I78&\")\",IF(LEN(Sheet1!C78)+LEN(Sheet1!D78)>=5,Sheet1!C78&Sheet1!D78&\"(\"&Sheet1!I78&\")\",\"\"))))))","v":""},{"$f":"ASC(IF(Sheet1!E78=\"\",\"\",Sheet1!E78&\" \"&Sheet1!F78))","v":""},{"$f":"ASC(IF(Sheet1!G78=\"\",\"\",UPPER(Sheet1!G78)&\" \"&PROPER(Sheet1!H78)&\"(\"&Sheet1!I78&\")\"))","v":""},{"$f":"IF(Sheet1!J78=\"\",\"\",IF(Sheet1!J78=\"女\",2,1))","v":""},{"$f":"IF(Sheet1!K78=\"\",\"\",VLOOKUP(Sheet1!K78,Sheet2!$F$2:$G$50,2,FALSE))","v":""},{"$f":"IF(Sheet1!L78=\"\",\"\",(Sheet1!L78))","v":""},{"$f":"IF(B65=\"\",\"\",VALUE(LEFT(Sheet1!E$4,6)))","v":""},{"$f":"IF(Sheet1!B78=\"\",\"\",VALUE(Sheet1!B78))","v":""},{"$f":"IF(Sheet1!M78=\"\",\"\",IF(VLOOKUP(Sheet1!M78,Sheet2!$A$2:$C$44,3,FALSE)>=71,VLOOKUP(Sheet1!M78,Sheet2!$A$2:$C$44,2,FALSE)&TEXT(Sheet1!O78,\"00\")&TEXT(Sheet1!P78,\"00\"),VLOOKUP(Sheet1!M78,Sheet2!$A$2:$C$44,2,FALSE)&TEXT(Sheet1!N78,\"00\")&TEXT(Sheet1!O78,\"00\")&IF(Sheet1!Q78=\"手\",TEXT(Sheet1!P78,\"0\"),TEXT(Sheet1!P78,\"00\"))))","v":""},{"$f":"IF(Sheet1!R78=\"\",\"\",IF(VLOOKUP(Sheet1!R78,Sheet2!$A$2:$C$44,3,FALSE)>=71,VLOOKUP(Sheet1!R78,Sheet2!$A$2:$C$44,2,FALSE)&TEXT(Sheet1!T78,\"00\")&TEXT(Sheet1!U78,\"00\"),VLOOKUP(Sheet1!R78,Sheet2!$A$2:$C$44,2,FALSE)&TEXT(Sheet1!S78,\"00\")&TEXT(Sheet1!T78,\"00\")&IF(Sheet1!V78=\"手\",TEXT(Sheet1!U78,\"0\"),TEXT(Sheet1!U78,\"00\"))))","v":""},{"$f":"IF(Sheet1!W78=\"\",\"\",IF(VLOOKUP(Sheet1!W78,Sheet2!$A$2:$C$44,3,FALSE)>=71,VLOOKUP(Sheet1!W78,Sheet2!$A$2:$C$44,2,FALSE)&TEXT(Sheet1!Y78,\"00\")&TEXT(Sheet1!Z78,\"00\"),VLOOKUP(Sheet1!W78,Sheet2!$A$2:$C$44,2,FALSE)&TEXT(Sheet1!X78,\"00\")&TEXT(Sheet1!Y78,\"00\")&IF(Sheet1!AA78=\"手\",TEXT(Sheet1!Z78,\"0\"),TEXT(Sheet1!Z78,\"00\"))))","v":""},{"$f":"IF(Sheet1!AD78=\"\",\"\",\"●\")","v":""},{"$f":"IF(Sheet1!AE78=\"\",\"\",\"▲\")","v":""},{"$f":"IF(Sheet1!AF78=\"\",\"\",\"★\")","v":""},{"$f":"IF(Sheet1!AG78=\"\",\"\",\"▼\")","v":""}]
["",{"$f":"ASC(IF(Sheet1!C79=\"\",\"\",IF(LEN(Sheet1!C79)+LEN(Sheet1!D79)=2,Sheet1!C79&\"      \"&Sheet1!D79&\"(\"&Sheet1!I79&\")\",IF(LEN(Sheet1!C79)+LEN(Sheet1!D79)=3,Sheet1!C79&\"    \"&Sheet1!D79&\"(\"&Sheet1!I79&\")\",IF(LEN(Sheet1!C79)+LEN(Sheet1!D79)=4,Sheet1!C79&\"  \"&Sheet1!D79&\"(\"&Sheet1!I79&\")\",IF(LEN(Sheet1!C79)+LEN(Sheet1!D79)>=5,Sheet1!C79&Sheet1!D79&\"(\"&Sheet1!I79&\")\",\"\"))))))","v":""},{"$f":"ASC(IF(Sheet1!E79=\"\",\"\",Sheet1!E79&\" \"&Sheet1!F79))","v":""},{"$f":"ASC(IF(Sheet1!G79=\"\",\"\",UPPER(Sheet1!G79)&\" \"&PROPER(Sheet1!H79)&\"(\"&Sheet1!I79&\")\"))","v":""},{"$f":"IF(Sheet1!J79=\"\",\"\",IF(Sheet1!J79=\"女\",2,1))","v":""},{"$f":"IF(Sheet1!K79=\"\",\"\",VLOOKUP(Sheet1!K79,Sheet2!$F$2:$G$50,2,FALSE))","v":""},{"$f":"IF(Sheet1!L79=\"\",\"\",(Sheet1!L79))","v":""},{"$f":"IF(B66=\"\",\"\",VALUE(LEFT(Sheet1!E$4,6)))","v":""},{"$f":"IF(Sheet1!B79=\"\",\"\",VALUE(Sheet1!B79))","v":""},{"$f":"IF(Sheet1!M79=\"\",\"\",IF(VLOOKUP(Sheet1!M79,Sheet2!$A$2:$C$44,3,FALSE)>=71,VLOOKUP(Sheet1!M79,Sheet2!$A$2:$C$44,2,FALSE)&TEXT(Sheet1!O79,\"00\")&TEXT(Sheet1!P79,\"00\"),VLOOKUP(Sheet1!M79,Sheet2!$A$2:$C$44,2,FALSE)&TEXT(Sheet1!N79,\"00\")&TEXT(Sheet1!O79,\"00\")&IF(Sheet1!Q79=\"手\",TEXT(Sheet1!P79,\"0\"),TEXT(Sheet1!P79,\"00\"))))","v":""},{"$f":"IF(Sheet1!R79=\"\",\"\",IF(VLOOKUP(Sheet1!R79,Sheet2!$A$2:$C$44,3,FALSE)>=71,VLOOKUP(Sheet1!R79,Sheet2!$A$2:$C$44,2,FALSE)&TEXT(Sheet1!T79,\"00\")&TEXT(Sheet1!U79,\"00\"),VLOOKUP(Sheet1!R79,Sheet2!$A$2:$C$44,2,FALSE)&TEXT(Sheet1!S79,\"00\")&TEXT(Sheet1!T79,\"00\")&IF(Sheet1!V79=\"手\",TEXT(Sheet1!U79,\"0\"),TEXT(Sheet1!U79,\"00\"))))","v":""},{"$f":"IF(Sheet1!W79=\"\",\"\",IF(VLOOKUP(Sheet1!W79,Sheet2!$A$2:$C$44,3,FALSE)>=71,VLOOKUP(Sheet1!W79,Sheet2!$A$2:$C$44,2,FALSE)&TEXT(Sheet1!Y79,\"00\")&TEXT(Sheet1!Z79,\"00\"),VLOOKUP(Sheet1!W79,Sheet2!$A$2:$C$44,2,FALSE)&TEXT(Sheet1!X79,\"00\")&TEXT(Sheet1!Y79,\"00\")&IF(Sheet1!AA79=\"手\",TEXT(Sheet1!Z79,\"0\"),TEXT(Sheet1!Z79,\"00\"))))","v":""},{"$f":"IF(Sheet1!AD79=\"\",\"\",\"●\")","v":""},{"$f":"IF(Sheet1!AE79=\"\",\"\",\"▲\")","v":""},{"$f":"IF(Sheet1!AF79=\"\",\"\",\"★\")","v":""},{"$f":"IF(Sheet1!AG79=\"\",\"\",\"▼\")","v":""}]
["",{"$f":"ASC(IF(Sheet1!C80=\"\",\"\",IF(LEN(Sheet1!C80)+LEN(Sheet1!D80)=2,Sheet1!C80&\"      \"&Sheet1!D80&\"(\"&Sheet1!I80&\")\",IF(LEN(Sheet1!C80)+LEN(Sheet1!D80)=3,Sheet1!C80&\"    \"&Sheet1!D80&\"(\"&Sheet1!I80&\")\",IF(LEN(Sheet1!C80)+LEN(Sheet1!D80)=4,Sheet1!C80&\"  \"&Sheet1!D80&\"(\"&Sheet1!I80&\")\",IF(LEN(Sheet1!C80)+LEN(Sheet1!D80)>=5,Sheet1!C80&Sheet1!D80&\"(\"&Sheet1!I80&\")\",\"\"))))))","v":""},{"$f":"ASC(IF(Sheet1!E80=\"\",\"\",Sheet1!E80&\" \"&Sheet1!F80))","v":""},{"$f":"ASC(IF(Sheet1!G80=\"\",\"\",UPPER(Sheet1!G80)&\" \"&PROPER(Sheet1!H80)&\"(\"&Sheet1!I80&\")\"))","v":""},{"$f":"IF(Sheet1!J80=\"\",\"\",IF(Sheet1!J80=\"女\",2,1))","v":""},{"$f":"IF(Sheet1!K80=\"\",\"\",VLOOKUP(Sheet1!K80,Sheet2!$F$2:$G$50,2,FALSE))","v":""},{"$f":"IF(Sheet1!L80=\"\",\"\",(Sheet1!L80))","v":""},{"$f":"IF(B67=\"\",\"\",VALUE(LEFT(Sheet1!E$4,6)))","v":""},{"$f":"IF(Sheet1!B80=\"\",\"\",VALUE(Sheet1!B80))","v":""},{"$f":"IF(Sheet1!M80=\"\",\"\",IF(VLOOKUP(Sheet1!M80,Sheet2!$A$2:$C$44,3,FALSE)>=71,VLOOKUP(Sheet1!M80,Sheet2!$A$2:$C$44,2,FALSE)&TEXT(Sheet1!O80,\"00\")&TEXT(Sheet1!P80,\"00\"),VLOOKUP(Sheet1!M80,Sheet2!$A$2:$C$44,2,FALSE)&TEXT(Sheet1!N80,\"00\")&TEXT(Sheet1!O80,\"00\")&IF(Sheet1!Q80=\"手\",TEXT(Sheet1!P80,\"0\"),TEXT(Sheet1!P80,\"00\"))))","v":""},{"$f":"IF(Sheet1!R80=\"\",\"\",IF(VLOOKUP(Sheet1!R80,Sheet2!$A$2:$C$44,3,FALSE)>=71,VLOOKUP(Sheet1!R80,Sheet2!$A$2:$C$44,2,FALSE)&TEXT(Sheet1!T80,\"00\")&TEXT(Sheet1!U80,\"00\"),VLOOKUP(Sheet1!R80,Sheet2!$A$2:$C$44,2,FALSE)&TEXT(Sheet1!S80,\"00\")&TEXT(Sheet1!T80,\"00\")&IF(Sheet1!V80=\"手\",TEXT(Sheet1!U80,\"0\"),TEXT(Sheet1!U80,\"00\"))))","v":""},{"$f":"IF(Sheet1!W80=\"\",\"\",IF(VLOOKUP(Sheet1!W80,Sheet2!$A$2:$C$44,3,FALSE)>=71,VLOOKUP(Sheet1!W80,Sheet2!$A$2:$C$44,2,FALSE)&TEXT(Sheet1!Y80,\"00\")&TEXT(Sheet1!Z80,\"00\"),VLOOKUP(Sheet1!W80,Sheet2!$A$2:$C$44,2,FALSE)&TEXT(Sheet1!X80,\"00\")&TEXT(Sheet1!Y80,\"00\")&IF(Sheet1!AA80=\"手\",TEXT(Sheet1!Z80,\"0\"),TEXT(Sheet1!Z80,\"00\"))))","v":""},{"$f":"IF(Sheet1!AD80=\"\",\"\",\"●\")","v":""},{"$f":"IF(Sheet1!AE80=\"\",\"\",\"▲\")","v":""},{"$f":"IF(Sheet1!AF80=\"\",\"\",\"★\")","v":""},{"$f":"IF(Sheet1!AG80=\"\",\"\",\"▼\")","v":""}]
[{"$f":"IF(B68=\"\",\"\",E68*100000000+F68*1000000+200000+I68)","v":""},{"$f":"ASC(IF(Sheet1!C81=\"\",\"\",IF(LEN(Sheet1!C81)+LEN(Sheet1!D81)=2,Sheet1!C81&\"      \"&Sheet1!D81&\"(\"&Sheet1!I81&\")\",IF(LEN(Sheet1!C81)+LEN(Sheet1!D81)=3,Sheet1!C81&\"    \"&Sheet1!D81&\"(\"&Sheet1!I81&\")\",IF(LEN(Sheet1!C81)+LEN(Sheet1!D81)=4,Sheet1!C81&\"  \"&Sheet1!D81&\"(\"&Sheet1!I81&\")\",IF(LEN(Sheet1!C81)+LEN(Sheet1!D81)>=5,Sheet1!C81&Sheet1!D81&\"(\"&Sheet1!I81&\")\",\"\"))))))","v":""},{"$f":"ASC(IF(Sheet1!E81=\"\",\"\",Sheet1!E81&\" \"&Sheet1!F81))","v":""},{"$f":"ASC(IF(Sheet1!G81=\"\",\"\",UPPER(Sheet1!G81)&\" \"&PROPER(Sheet1!H81)&\"(\"&Sheet1!I81&\")\"))","v":""},{"$f":"IF(Sheet1!J81=\"\",\"\",IF(Sheet1!J81=\"女\",2,1))","v":""},{"$f":"IF(Sheet1!K81=\"\",\"\",VLOOKUP(Sheet1!K81,Sheet2!$F$2:$G$50,2,FALSE))","v":""},{"$f":"IF(Sheet1!L81=\"\",\"\",(Sheet1!L81))","v":""},{"$f":"IF(B68=\"\",\"\",VALUE(LEFT(Sheet1!E$4,6)))","v":""},{"$f":"IF(Sheet1!B81=\"\",\"\",VALUE(Sheet1!B81))","v":""},{"$f":"IF(Sheet1!M81=\"\",\"\",IF(VLOOKUP(Sheet1!M81,Sheet2!$A$2:$C$44,3,FALSE)>=71,VLOOKUP(Sheet1!M81,Sheet2!$A$2:$C$44,2,FALSE)&TEXT(Sheet1!O81,\"00\")&TEXT(Sheet1!P81,\"00\"),VLOOKUP(Sheet1!M81,Sheet2!$A$2:$C$44,2,FALSE)&TEXT(Sheet1!N81,\"00\")&TEXT(Sheet1!O81,\"00\")&IF(Sheet1!Q81=\"手\",TEXT(Sheet1!P81,\"0\"),TEXT(Sheet1!P81,\"00\"))))","v":""},{"$f":"IF(Sheet1!R81=\"\",\"\",IF(VLOOKUP(Sheet1!R81,Sheet2!$A$2:$C$44,3,FALSE)>=71,VLOOKUP(Sheet1!R81,Sheet2!$A$2:$C$44,2,FALSE)&TEXT(Sheet1!T81,\"00\")&TEXT(Sheet1!U81,\"00\"),VLOOKUP(Sheet1!R81,Sheet2!$A$2:$C$44,2,FALSE)&TEXT(Sheet1!S81,\"00\")&TEXT(Sheet1!T81,\"00\")&IF(Sheet1!V81=\"手\",TEXT(Sheet1!U81,\"0\"),TEXT(Sheet1!U81,\"00\"))))","v":""},{"$f":"IF(Sheet1!W81=\"\",\"\",IF(VLOOKUP(Sheet1!W81,Sheet2!$A$2:$C$44,3,FALSE)>=71,VLOOKUP(Sheet1!W81,Sheet2!$A$2:$C$44,2,FALSE)&TEXT(Sheet1!Y81,\"00\")&TEXT(Sheet1!Z81,\"00\"),VLOOKUP(Sheet1!W81,Sheet2!$A$2:$C$44,2,FALSE)&TEXT(Sheet1!X81,\"00\")&TEXT(Sheet1!Y81,\"00\")&IF(Sheet1!AA81=\"手\",TEXT(Sheet1!Z81,\"0\"),TEXT(Sheet1!Z81,\"00\"))))","v":""},{"$f":"IF(Sheet1!AD81=\"\",\"\",\"●\")","v":""},{"$f":"IF(Sheet1!AE81=\"\",\"\",\"▲\")","v":""},{"$f":"IF(Sheet1!AF81=\"\",\"\",\"★\")","v":""},{"$f":"IF(Sheet1!AG81=\"\",\"\",\"▼\")","v":""}]
["",{"$f":"ASC(IF(Sheet1!C82=\"\",\"\",IF(LEN(Sheet1!C82)+LEN(Sheet1!D82)=2,Sheet1!C82&\"      \"&Sheet1!D82&\"(\"&Sheet1!I82&\")\",IF(LEN(Sheet1!C82)+LEN(Sheet1!D82)=3,Sheet1!C82&\"    \"&Sheet1!D82&\"(\"&Sheet1!I82&\")\",IF(LEN(Sheet1!C82)+LEN(Sheet1!D82)=4,Sheet1!C82&\"  \"&Sheet1!D82&\"(\"&Sheet1!I82&\")\",IF(LEN(Sheet1!C82)+LEN(Sheet1!D82)>=5,Sheet1!C82&Sheet1!D82&\"(\"&Sheet1!I82&\")\",\"\"))))))","v":""},{"$f":"ASC(IF(Sheet1!E82=\"\",\"\",Sheet1!E82&\" \"&Sheet1!F82))","v":""},{"$f":"ASC(IF(Sheet1!G82=\"\",\"\",UPPER(Sheet1!G82)&\" \"&PROPER(Sheet1!H82)&\"(\"&Sheet1!I82&\")\"))","v":""},{"$f":"IF(Sheet1!J82=\"\",\"\",IF(Sheet1!J82=\"女\",2,1))","v":""},{"$f":"IF(Sheet1!K82=\"\",\"\",VLOOKUP(Sheet1!K82,Sheet2!$F$2:$G$50,2,FALSE))","v":""},{"$f":"IF(Sheet1!L82=\"\",\"\",(Sheet1!L82))","v":""},{"$f":"IF(B69=\"\",\"\",VALUE(LEFT(Sheet1!E$4,6)))","v":""},{"$f":"IF(Sheet1!B82=\"\",\"\",VALUE(Sheet1!B82))","v":""},{"$f":"IF(Sheet1!M82=\"\",\"\",IF(VLOOKUP(Sheet1!M82,Sheet2!$A$2:$C$44,3,FALSE)>=71,VLOOKUP(Sheet1!M82,Sheet2!$A$2:$C$44,2,FALSE)&TEXT(Sheet1!O82,\"00\")&TEXT(Sheet1!P82,\"00\"),VLOOKUP(Sheet1!M82,Sheet2!$A$2:$C$44,2,FALSE)&TEXT(Sheet1!N82,\"00\")&TEXT(Sheet1!O82,\"00\")&IF(Sheet1!Q82=\"手\",TEXT(Sheet1!P82,\"0\"),TEXT(Sheet1!P82,\"00\"))))","v":""},{"$f":"IF(Sheet1!R82=\"\",\"\",IF(VLOOKUP(Sheet1!R82,Sheet2!$A$2:$C$44,3,FALSE)>=71,VLOOKUP(Sheet1!R82,Sheet2!$A$2:$C$44,2,FALSE)&TEXT(Sheet1!T82,\"00\")&TEXT(Sheet1!U82,\"00\"),VLOOKUP(Sheet1!R82,Sheet2!$A$2:$C$44,2,FALSE)&TEXT(Sheet1!S82,\"00\")&TEXT(Sheet1!T82,\"00\")&IF(Sheet1!V82=\"手\",TEXT(Sheet1!U82,\"0\"),TEXT(Sheet1!U82,\"00\"))))","v":""},{"$f":"IF(Sheet1!W82=\"\",\"\",IF(VLOOKUP(Sheet1!W82,Sheet2!$A$2:$C$44,3,FALSE)>=71,VLOOKUP(Sheet1!W82,Sheet2!$A$2:$C$44,2,FALSE)&TEXT(Sheet1!Y82,\"00\")&TEXT(Sheet1!Z82,\"00\"),VLOOKUP(Sheet1!W82,Sheet2!$A$2:$C$44,2,FALSE)&TEXT(Sheet1!X82,\"00\")&TEXT(Sheet1!Y82,\"00\")&IF(Sheet1!AA82=\"手\",TEXT(Sheet1!Z82,\"0\"),TEXT(Sheet1!Z82,\"00\"))))","v":""},{"$f":"IF(Sheet1!AD82=\"\",\"\",\"●\")","v":""},{"$f":"IF(Sheet1!AE82=\"\",\"\",\"▲\")","v":""},{"$f":"IF(Sheet1!AF82=\"\",\"\",\"★\")","v":""},{"$f":"IF(Sheet1!AG82=\"\",\"\",\"▼\")","v":""}]
["",{"$f":"ASC(IF(Sheet1!C83=\"\",\"\",IF(LEN(Sheet1!C83)+LEN(Sheet1!D83)=2,Sheet1!C83&\"      \"&Sheet1!D83&\"(\"&Sheet1!I83&\")\",IF(LEN(Sheet1!C83)+LEN(Sheet1!D83)=3,Sheet1!C83&\"    \"&Sheet1!D83&\"(\"&Sheet1!I83&\")\",IF(LEN(Sheet1!C83)+LEN(Sheet1!D83)=4,Sheet1!C83&\"  \"&Sheet1!D83&\"(\"&Sheet1!I83&\")\",IF(LEN(Sheet1!C83)+LEN(Sheet1!D83)>=5,Sheet1!C83&Sheet1!D83&\"(\"&Sheet1!I83&\")\",\"\"))))))","v":""},{"$f":"ASC(IF(Sheet1!E83=\"\",\"\",Sheet1!E83&\" \"&Sheet1!F83))","v":""},{"$f":"ASC(IF(Sheet1!G83=\"\",\"\",UPPER(Sheet1!G83)&\" \"&PROPER(Sheet1!H83)&\"(\"&Sheet1!I83&\")\"))","v":""},{"$f":"IF(Sheet1!J83=\"\",\"\",IF(Sheet1!J83=\"女\",2,1))","v":""},{"$f":"IF(Sheet1!K83=\"\",\"\",VLOOKUP(Sheet1!K83,Sheet2!$F$2:$G$50,2,FALSE))","v":""},{"$f":"IF(Sheet1!L83=\"\",\"\",(Sheet1!L83))","v":""},{"$f":"IF(B70=\"\",\"\",VALUE(LEFT(Sheet1!E$4,6)))","v":""},{"$f":"IF(Sheet1!B83=\"\",\"\",VALUE(Sheet1!B83))","v":""},{"$f":"IF(Sheet1!M83=\"\",\"\",IF(VLOOKUP(Sheet1!M83,Sheet2!$A$2:$C$44,3,FALSE)>=71,VLOOKUP(Sheet1!M83,Sheet2!$A$2:$C$44,2,FALSE)&TEXT(Sheet1!O83,\"00\")&TEXT(Sheet1!P83,\"00\"),VLOOKUP(Sheet1!M83,Sheet2!$A$2:$C$44,2,FALSE)&TEXT(Sheet1!N83,\"00\")&TEXT(Sheet1!O83,\"00\")&IF(Sheet1!Q83=\"手\",TEXT(Sheet1!P83,\"0\"),TEXT(Sheet1!P83,\"00\"))))","v":""},{"$f":"IF(Sheet1!R83=\"\",\"\",IF(VLOOKUP(Sheet1!R83,Sheet2!$A$2:$C$44,3,FALSE)>=71,VLOOKUP(Sheet1!R83,Sheet2!$A$2:$C$44,2,FALSE)&TEXT(Sheet1!T83,\"00\")&TEXT(Sheet1!U83,\"00\"),VLOOKUP(Sheet1!R83,Sheet2!$A$2:$C$44,2,FALSE)&TEXT(Sheet1!S83,\"00\")&TEXT(Sheet1!T83,\"00\")&IF(Sheet1!V83=\"手\",TEXT(Sheet1!U83,\"0\"),TEXT(Sheet1!U83,\"00\"))))","v":""},{"$f":"IF(Sheet1!W83=\"\",\"\",IF(VLOOKUP(Sheet1!W83,Sheet2!$A$2:$C$44,3,FALSE)>=71,VLOOKUP(Sheet1!W83,Sheet2!$A$2:$C$44,2,FALSE)&TEXT(Sheet1!Y83,\"00\")&TEXT(Sheet1!Z83,\"00\"),VLOOKUP(Sheet1!W83,Sheet2!$A$2:$C$44,2,FALSE)&TEXT(Sheet1!X83,\"00\")&TEXT(Sheet1!Y83,\"00\")&IF(Sheet1!AA83=\"手\",TEXT(Sheet1!Z83,\"0\"),TEXT(Sheet1!Z83,\"00\"))))","v":""},{"$f":"IF(Sheet1!AD83=\"\",\"\",\"●\")","v":""},{"$f":"IF(Sheet1!AE83=\"\",\"\",\"▲\")","v":""},{"$f":"IF(Sheet1!AF83=\"\",\"\",\"★\")","v":""},{"$f":"IF(Sheet1!AG83=\"\",\"\",\"▼\")","v":""}]
["",{"$f":"ASC(IF(Sheet1!C84=\"\",\"\",IF(LEN(Sheet1!C84)+LEN(Sheet1!D84)=2,Sheet1!C84&\"      \"&Sheet1!D84&\"(\"&Sheet1!I84&\")\",IF(LEN(Sheet1!C84)+LEN(Sheet1!D84)=3,Sheet1!C84&\"    \"&Sheet1!D84&\"(\"&Sheet1!I84&\")\",IF(LEN(Sheet1!C84)+LEN(Sheet1!D84)=4,Sheet1!C84&\"  \"&Sheet1!D84&\"(\"&Sheet1!I84&\")\",IF(LEN(Sheet1!C84)+LEN(Sheet1!D84)>=5,Sheet1!C84&Sheet1!D84&\"(\"&Sheet1!I84&\")\",\"\"))))))","v":""},{"$f":"ASC(IF(Sheet1!E84=\"\",\"\",Sheet1!E84&\" \"&Sheet1!F84))","v":""},{"$f":"ASC(IF(Sheet1!G84=\"\",\"\",UPPER(Sheet1!G84)&\" \"&PROPER(Sheet1!H84)&\"(\"&Sheet1!I84&\")\"))","v":""},{"$f":"IF(Sheet1!J84=\"\",\"\",IF(Sheet1!J84=\"女\",2,1))","v":""},{"$f":"IF(Sheet1!K84=\"\",\"\",VLOOKUP(Sheet1!K84,Sheet2!$F$2:$G$50,2,FALSE))","v":""},{"$f":"IF(Sheet1!L84=\"\",\"\",(Sheet1!L84))","v":""},{"$f":"IF(B71=\"\",\"\",VALUE(LEFT(Sheet1!E$4,6)))","v":""},{"$f":"IF(Sheet1!B84=\"\",\"\",VALUE(Sheet1!B84))","v":""},{"$f":"IF(Sheet1!M84=\"\",\"\",IF(VLOOKUP(Sheet1!M84,Sheet2!$A$2:$C$44,3,FALSE)>=71,VLOOKUP(Sheet1!M84,Sheet2!$A$2:$C$44,2,FALSE)&TEXT(Sheet1!O84,\"00\")&TEXT(Sheet1!P84,\"00\"),VLOOKUP(Sheet1!M84,Sheet2!$A$2:$C$44,2,FALSE)&TEXT(Sheet1!N84,\"00\")&TEXT(Sheet1!O84,\"00\")&IF(Sheet1!Q84=\"手\",TEXT(Sheet1!P84,\"0\"),TEXT(Sheet1!P84,\"00\"))))","v":""},{"$f":"IF(Sheet1!R84=\"\",\"\",IF(VLOOKUP(Sheet1!R84,Sheet2!$A$2:$C$44,3,FALSE)>=71,VLOOKUP(Sheet1!R84,Sheet2!$A$2:$C$44,2,FALSE)&TEXT(Sheet1!T84,\"00\")&TEXT(Sheet1!U84,\"00\"),VLOOKUP(Sheet1!R84,Sheet2!$A$2:$C$44,2,FALSE)&TEXT(Sheet1!S84,\"00\")&TEXT(Sheet1!T84,\"00\")&IF(Sheet1!V84=\"手\",TEXT(Sheet1!U84,\"0\"),TEXT(Sheet1!U84,\"00\"))))","v":""},{"$f":"IF(Sheet1!W84=\"\",\"\",IF(VLOOKUP(Sheet1!W84,Sheet2!$A$2:$C$44,3,FALSE)>=71,VLOOKUP(Sheet1!W84,Sheet2!$A$2:$C$44,2,FALSE)&TEXT(Sheet1!Y84,\"00\")&TEXT(Sheet1!Z84,\"00\"),VLOOKUP(Sheet1!W84,Sheet2!$A$2:$C$44,2,FALSE)&TEXT(Sheet1!X84,\"00\")&TEXT(Sheet1!Y84,\"00\")&IF(Sheet1!AA84=\"手\",TEXT(Sheet1!Z84,\"0\"),TEXT(Sheet1!Z84,\"00\"))))","v":""},{"$f":"IF(Sheet1!AD84=\"\",\"\",\"●\")","v":""},{"$f":"IF(Sheet1!AE84=\"\",\"\",\"▲\")","v":""},{"$f":"IF(Sheet1!AF84=\"\",\"\",\"★\")","v":""},{"$f":"IF(Sheet1!AG84=\"\",\"\",\"▼\")","v":""}]
["",{"$f":"ASC(IF(Sheet1!C85=\"\",\"\",IF(LEN(Sheet1!C85)+LEN(Sheet1!D85)=2,Sheet1!C85&\"      \"&Sheet1!D85&\"(\"&Sheet1!I85&\")\",IF(LEN(Sheet1!C85)+LEN(Sheet1!D85)=3,Sheet1!C85&\"    \"&Sheet1!D85&\"(\"&Sheet1!I85&\")\",IF(LEN(Sheet1!C85)+LEN(Sheet1!D85)=4,Sheet1!C85&\"  \"&Sheet1!D85&\"(\"&Sheet1!I85&\")\",IF(LEN(Sheet1!C85)+LEN(Sheet1!D85)>=5,Sheet1!C85&Sheet1!D85&\"(\"&Sheet1!I85&\")\",\"\"))))))","v":""},{"$f":"ASC(IF(Sheet1!E85=\"\",\"\",Sheet1!E85&\" \"&Sheet1!F85))","v":""},{"$f":"ASC(IF(Sheet1!G85=\"\",\"\",UPPER(Sheet1!G85)&\" \"&PROPER(Sheet1!H85)&\"(\"&Sheet1!I85&\")\"))","v":""},{"$f":"IF(Sheet1!J85=\"\",\"\",IF(Sheet1!J85=\"女\",2,1))","v":""},{"$f":"IF(Sheet1!K85=\"\",\"\",VLOOKUP(Sheet1!K85,Sheet2!$F$2:$G$50,2,FALSE))","v":""},{"$f":"IF(Sheet1!L85=\"\",\"\",(Sheet1!L85))","v":""},{"$f":"IF(B72=\"\",\"\",VALUE(LEFT(Sheet1!E$4,6)))","v":""},{"$f":"IF(Sheet1!B85=\"\",\"\",VALUE(Sheet1!B85))","v":""},{"$f":"IF(Sheet1!M85=\"\",\"\",IF(VLOOKUP(Sheet1!M85,Sheet2!$A$2:$C$44,3,FALSE)>=71,VLOOKUP(Sheet1!M85,Sheet2!$A$2:$C$44,2,FALSE)&TEXT(Sheet1!O85,\"00\")&TEXT(Sheet1!P85,\"00\"),VLOOKUP(Sheet1!M85,Sheet2!$A$2:$C$44,2,FALSE)&TEXT(Sheet1!N85,\"00\")&TEXT(Sheet1!O85,\"00\")&IF(Sheet1!Q85=\"手\",TEXT(Sheet1!P85,\"0\"),TEXT(Sheet1!P85,\"00\"))))","v":""},{"$f":"IF(Sheet1!R85=\"\",\"\",IF(VLOOKUP(Sheet1!R85,Sheet2!$A$2:$C$44,3,FALSE)>=71,VLOOKUP(Sheet1!R85,Sheet2!$A$2:$C$44,2,FALSE)&TEXT(Sheet1!T85,\"00\")&TEXT(Sheet1!U85,\"00\"),VLOOKUP(Sheet1!R85,Sheet2!$A$2:$C$44,2,FALSE)&TEXT(Sheet1!S85,\"00\")&TEXT(Sheet1!T85,\"00\")&IF(Sheet1!V85=\"手\",TEXT(Sheet1!U85,\"0\"),TEXT(Sheet1!U85,\"00\"))))","v":""},{"$f":"IF(Sheet1!W85=\"\",\"\",IF(VLOOKUP(Sheet1!W85,Sheet2!$A$2:$C$44,3,FALSE)>=71,VLOOKUP(Sheet1!W85,Sheet2!$A$2:$C$44,2,FALSE)&TEXT(Sheet1!Y85,\"00\")&TEXT(Sheet1!Z85,\"00\"),VLOOKUP(Sheet1!W85,Sheet2!$A$2:$C$44,2,FALSE)&TEXT(Sheet1!X85,\"00\")&TEXT(Sheet1!Y85,\"00\")&IF(Sheet1!AA85=\"手\",TEXT(Sheet1!Z85,\"0\"),TEXT(Sheet1!Z85,\"00\"))))","v":""},{"$f":"IF(Sheet1!AD85=\"\",\"\",\"●\")","v":""},{"$f":"IF(Sheet1!AE85=\"\",\"\",\"▲\")","v":""},{"$f":"IF(Sheet1!AF85=\"\",\"\",\"★\")","v":""},{"$f":"IF(Sheet1!AG85=\"\",\"\",\"▼\")","v":""}]
["",{"$f":"ASC(IF(Sheet1!C86=\"\",\"\",IF(LEN(Sheet1!C86)+LEN(Sheet1!D86)=2,Sheet1!C86&\"      \"&Sheet1!D86&\"(\"&Sheet1!I86&\")\",IF(LEN(Sheet1!C86)+LEN(Sheet1!D86)=3,Sheet1!C86&\"    \"&Sheet1!D86&\"(\"&Sheet1!I86&\")\",IF(LEN(Sheet1!C86)+LEN(Sheet1!D86)=4,Sheet1!C86&\"  \"&Sheet1!D86&\"(\"&Sheet1!I86&\")\",IF(LEN(Sheet1!C86)+LEN(Sheet1!D86)>=5,Sheet1!C86&Sheet1!D86&\"(\"&Sheet1!I86&\")\",\"\"))))))","v":""},{"$f":"ASC(IF(Sheet1!E86=\"\",\"\",Sheet1!E86&\" \"&Sheet1!F86))","v":""},{"$f":"ASC(IF(Sheet1!G86=\"\",\"\",UPPER(Sheet1!G86)&\" \"&PROPER(Sheet1!H86)&\"(\"&Sheet1!I86&\")\"))","v":""},{"$f":"IF(Sheet1!J86=\"\",\"\",IF(Sheet1!J86=\"女\",2,1))","v":""},{"$f":"IF(Sheet1!K86=\"\",\"\",VLOOKUP(Sheet1!K86,Sheet2!$F$2:$G$50,2,FALSE))","v":""},{"$f":"IF(Sheet1!L86=\"\",\"\",(Sheet1!L86))","v":""},{"$f":"IF(B73=\"\",\"\",VALUE(LEFT(Sheet1!E$4,6)))","v":""},{"$f":"IF(Sheet1!B86=\"\",\"\",VALUE(Sheet1!B86))","v":""},{"$f":"IF(Sheet1!M86=\"\",\"\",IF(VLOOKUP(Sheet1!M86,Sheet2!$A$2:$C$44,3,FALSE)>=71,VLOOKUP(Sheet1!M86,Sheet2!$A$2:$C$44,2,FALSE)&TEXT(Sheet1!O86,\"00\")&TEXT(Sheet1!P86,\"00\"),VLOOKUP(Sheet1!M86,Sheet2!$A$2:$C$44,2,FALSE)&TEXT(Sheet1!N86,\"00\")&TEXT(Sheet1!O86,\"00\")&IF(Sheet1!Q86=\"手\",TEXT(Sheet1!P86,\"0\"),TEXT(Sheet1!P86,\"00\"))))","v":""},{"$f":"IF(Sheet1!R86=\"\",\"\",IF(VLOOKUP(Sheet1!R86,Sheet2!$A$2:$C$44,3,FALSE)>=71,VLOOKUP(Sheet1!R86,Sheet2!$A$2:$C$44,2,FALSE)&TEXT(Sheet1!T86,\"00\")&TEXT(Sheet1!U86,\"00\"),VLOOKUP(Sheet1!R86,Sheet2!$A$2:$C$44,2,FALSE)&TEXT(Sheet1!S86,\"00\")&TEXT(Sheet1!T86,\"00\")&IF(Sheet1!V86=\"手\",TEXT(Sheet1!U86,\"0\"),TEXT(Sheet1!U86,\"00\"))))","v":""},{"$f":"IF(Sheet1!W86=\"\",\"\",IF(VLOOKUP(Sheet1!W86,Sheet2!$A$2:$C$44,3,FALSE)>=71,VLOOKUP(Sheet1!W86,Sheet2!$A$2:$C$44,2,FALSE)&TEXT(Sheet1!Y86,\"00\")&TEXT(Sheet1!Z86,\"00\"),VLOOKUP(Sheet1!W86,Sheet2!$A$2:$C$44,2,FALSE)&TEXT(Sheet1!X86,\"00\")&TEXT(Sheet1!Y86,\"00\")&IF(Sheet1!AA86=\"手\",TEXT(Sheet1!Z86,\"0\"),TEXT(Sheet1!Z86,\"00\"))))","v":""},{"$f":"IF(Sheet1!AD86=\"\",\"\",\"●\")","v":""},{"$f":"IF(Sheet1!AE86=\"\",\"\",\"▲\")","v":""},{"$f":"IF(Sheet1!AF86=\"\",\"\",\"★\")","v":""},{"$f":"IF(Sheet1!AG86=\"\",\"\",\"▼\")","v":""}]
["",{"$f":"ASC(IF(Sheet1!C87=\"\",\"\",IF(LEN(Sheet1!C87)+LEN(Sheet1!D87)=2,Sheet1!C87&\"      \"&Sheet1!D87&\"(\"&Sheet1!I87&\")\",IF(LEN(Sheet1!C87)+LEN(Sheet1!D87)=3,Sheet1!C87&\"    \"&Sheet1!D87&\"(\"&Sheet1!I87&\")\",IF(LEN(Sheet1!C87)+LEN(Sheet1!D87)=4,Sheet1!C87&\"  \"&Sheet1!D87&\"(\"&Sheet1!I87&\")\",IF(LEN(Sheet1!C87)+LEN(Sheet1!D87)>=5,Sheet1!C87&Sheet1!D87&\"(\"&Sheet1!I87&\")\",\"\"))))))","v":""},{"$f":"ASC(IF(Sheet1!E87=\"\",\"\",Sheet1!E87&\" \"&Sheet1!F87))","v":""},{"$f":"ASC(IF(Sheet1!G87=\"\",\"\",UPPER(Sheet1!G87)&\" \"&PROPER(Sheet1!H87)&\"(\"&Sheet1!I87&\")\"))","v":""},{"$f":"IF(Sheet1!J87=\"\",\"\",IF(Sheet1!J87=\"女\",2,1))","v":""},{"$f":"IF(Sheet1!K87=\"\",\"\",VLOOKUP(Sheet1!K87,Sheet2!$F$2:$G$50,2,FALSE))","v":""},{"$f":"IF(Sheet1!L87=\"\",\"\",(Sheet1!L87))","v":""},{"$f":"IF(B74=\"\",\"\",VALUE(LEFT(Sheet1!E$4,6)))","v":""},{"$f":"IF(Sheet1!B87=\"\",\"\",VALUE(Sheet1!B87))","v":""},{"$f":"IF(Sheet1!M87=\"\",\"\",IF(VLOOKUP(Sheet1!M87,Sheet2!$A$2:$C$44,3,FALSE)>=71,VLOOKUP(Sheet1!M87,Sheet2!$A$2:$C$44,2,FALSE)&TEXT(Sheet1!O87,\"00\")&TEXT(Sheet1!P87,\"00\"),VLOOKUP(Sheet1!M87,Sheet2!$A$2:$C$44,2,FALSE)&TEXT(Sheet1!N87,\"00\")&TEXT(Sheet1!O87,\"00\")&IF(Sheet1!Q87=\"手\",TEXT(Sheet1!P87,\"0\"),TEXT(Sheet1!P87,\"00\"))))","v":""},{"$f":"IF(Sheet1!R87=\"\",\"\",IF(VLOOKUP(Sheet1!R87,Sheet2!$A$2:$C$44,3,FALSE)>=71,VLOOKUP(Sheet1!R87,Sheet2!$A$2:$C$44,2,FALSE)&TEXT(Sheet1!T87,\"00\")&TEXT(Sheet1!U87,\"00\"),VLOOKUP(Sheet1!R87,Sheet2!$A$2:$C$44,2,FALSE)&TEXT(Sheet1!S87,\"00\")&TEXT(Sheet1!T87,\"00\")&IF(Sheet1!V87=\"手\",TEXT(Sheet1!U87,\"0\"),TEXT(Sheet1!U87,\"00\"))))","v":""},{"$f":"IF(Sheet1!W87=\"\",\"\",IF(VLOOKUP(Sheet1!W87,Sheet2!$A$2:$C$44,3,FALSE)>=71,VLOOKUP(Sheet1!W87,Sheet2!$A$2:$C$44,2,FALSE)&TEXT(Sheet1!Y87,\"00\")&TEXT(Sheet1!Z87,\"00\"),VLOOKUP(Sheet1!W87,Sheet2!$A$2:$C$44,2,FALSE)&TEXT(Sheet1!X87,\"00\")&TEXT(Sheet1!Y87,\"00\")&IF(Sheet1!AA87=\"手\",TEXT(Sheet1!Z87,\"0\"),TEXT(Sheet1!Z87,\"00\"))))","v":""},{"$f":"IF(Sheet1!AD87=\"\",\"\",\"●\")","v":""},{"$f":"IF(Sheet1!AE87=\"\",\"\",\"▲\")","v":""},{"$f":"IF(Sheet1!AF87=\"\",\"\",\"★\")","v":""},{"$f":"IF(Sheet1!AG87=\"\",\"\",\"▼\")","v":""}]
["",{"$f":"ASC(IF(Sheet1!C88=\"\",\"\",IF(LEN(Sheet1!C88)+LEN(Sheet1!D88)=2,Sheet1!C88&\"      \"&Sheet1!D88&\"(\"&Sheet1!I88&\")\",IF(LEN(Sheet1!C88)+LEN(Sheet1!D88)=3,Sheet1!C88&\"    \"&Sheet1!D88&\"(\"&Sheet1!I88&\")\",IF(LEN(Sheet1!C88)+LEN(Sheet1!D88)=4,Sheet1!C88&\"  \"&Sheet1!D88&\"(\"&Sheet1!I88&\")\",IF(LEN(Sheet1!C88)+LEN(Sheet1!D88)>=5,Sheet1!C88&Sheet1!D88&\"(\"&Sheet1!I88&\")\",\"\"))))))","v":""},{"$f":"ASC(IF(Sheet1!E88=\"\",\"\",Sheet1!E88&\" \"&Sheet1!F88))","v":""},{"$f":"ASC(IF(Sheet1!G88=\"\",\"\",UPPER(Sheet1!G88)&\" \"&PROPER(Sheet1!H88)&\"(\"&Sheet1!I88&\")\"))","v":""},{"$f":"IF(Sheet1!J88=\"\",\"\",IF(Sheet1!J88=\"女\",2,1))","v":""},{"$f":"IF(Sheet1!K88=\"\",\"\",VLOOKUP(Sheet1!K88,Sheet2!$F$2:$G$50,2,FALSE))","v":""},{"$f":"IF(Sheet1!L88=\"\",\"\",(Sheet1!L88))","v":""},{"$f":"IF(B75=\"\",\"\",VALUE(LEFT(Sheet1!E$4,6)))","v":""},{"$f":"IF(Sheet1!B88=\"\",\"\",VALUE(Sheet1!B88))","v":""},{"$f":"IF(Sheet1!M88=\"\",\"\",IF(VLOOKUP(Sheet1!M88,Sheet2!$A$2:$C$44,3,FALSE)>=71,VLOOKUP(Sheet1!M88,Sheet2!$A$2:$C$44,2,FALSE)&TEXT(Sheet1!O88,\"00\")&TEXT(Sheet1!P88,\"00\"),VLOOKUP(Sheet1!M88,Sheet2!$A$2:$C$44,2,FALSE)&TEXT(Sheet1!N88,\"00\")&TEXT(Sheet1!O88,\"00\")&IF(Sheet1!Q88=\"手\",TEXT(Sheet1!P88,\"0\"),TEXT(Sheet1!P88,\"00\"))))","v":""},{"$f":"IF(Sheet1!R88=\"\",\"\",IF(VLOOKUP(Sheet1!R88,Sheet2!$A$2:$C$44,3,FALSE)>=71,VLOOKUP(Sheet1!R88,Sheet2!$A$2:$C$44,2,FALSE)&TEXT(Sheet1!T88,\"00\")&TEXT(Sheet1!U88,\"00\"),VLOOKUP(Sheet1!R88,Sheet2!$A$2:$C$44,2,FALSE)&TEXT(Sheet1!S88,\"00\")&TEXT(Sheet1!T88,\"00\")&IF(Sheet1!V88=\"手\",TEXT(Sheet1!U88,\"0\"),TEXT(Sheet1!U88,\"00\"))))","v":""},{"$f":"IF(Sheet1!W88=\"\",\"\",IF(VLOOKUP(Sheet1!W88,Sheet2!$A$2:$C$44,3,FALSE)>=71,VLOOKUP(Sheet1!W88,Sheet2!$A$2:$C$44,2,FALSE)&TEXT(Sheet1!Y88,\"00\")&TEXT(Sheet1!Z88,\"00\"),VLOOKUP(Sheet1!W88,Sheet2!$A$2:$C$44,2,FALSE)&TEXT(Sheet1!X88,\"00\")&TEXT(Sheet1!Y88,\"00\")&IF(Sheet1!AA88=\"手\",TEXT(Sheet1!Z88,\"0\"),TEXT(Sheet1!Z88,\"00\"))))","v":""},{"$f":"IF(Sheet1!AD88=\"\",\"\",\"●\")","v":""},{"$f":"IF(Sheet1!AE88=\"\",\"\",\"▲\")","v":""},{"$f":"IF(Sheet1!AF88=\"\",\"\",\"★\")","v":""},{"$f":"IF(Sheet1!AG88=\"\",\"\",\"▼\")","v":""}]
["",{"$f":"ASC(IF(Sheet1!C89=\"\",\"\",IF(LEN(Sheet1!C89)+LEN(Sheet1!D89)=2,Sheet1!C89&\"      \"&Sheet1!D89&\"(\"&Sheet1!I89&\")\",IF(LEN(Sheet1!C89)+LEN(Sheet1!D89)=3,Sheet1!C89&\"    \"&Sheet1!D89&\"(\"&Sheet1!I89&\")\",IF(LEN(Sheet1!C89)+LEN(Sheet1!D89)=4,Sheet1!C89&\"  \"&Sheet1!D89&\"(\"&Sheet1!I89&\")\",IF(LEN(Sheet1!C89)+LEN(Sheet1!D89)>=5,Sheet1!C89&Sheet1!D89&\"(\"&Sheet1!I89&\")\",\"\"))))))","v":""},{"$f":"ASC(IF(Sheet1!E89=\"\",\"\",Sheet1!E89&\" \"&Sheet1!F89))","v":""},{"$f":"ASC(IF(Sheet1!G89=\"\",\"\",UPPER(Sheet1!G89)&\" \"&PROPER(Sheet1!H89)&\"(\"&Sheet1!I89&\")\"))","v":""},{"$f":"IF(Sheet1!J89=\"\",\"\",IF(Sheet1!J89=\"女\",2,1))","v":""},{"$f":"IF(Sheet1!K89=\"\",\"\",VLOOKUP(Sheet1!K89,Sheet2!$F$2:$G$50,2,FALSE))","v":""},{"$f":"IF(Sheet1!L89=\"\",\"\",(Sheet1!L89))","v":""},{"$f":"IF(B76=\"\",\"\",VALUE(LEFT(Sheet1!E$4,6)))","v":""},{"$f":"IF(Sheet1!B89=\"\",\"\",VALUE(Sheet1!B89))","v":""},{"$f":"IF(Sheet1!M89=\"\",\"\",IF(VLOOKUP(Sheet1!M89,Sheet2!$A$2:$C$44,3,FALSE)>=71,VLOOKUP(Sheet1!M89,Sheet2!$A$2:$C$44,2,FALSE)&TEXT(Sheet1!O89,\"00\")&TEXT(Sheet1!P89,\"00\"),VLOOKUP(Sheet1!M89,Sheet2!$A$2:$C$44,2,FALSE)&TEXT(Sheet1!N89,\"00\")&TEXT(Sheet1!O89,\"00\")&IF(Sheet1!Q89=\"手\",TEXT(Sheet1!P89,\"0\"),TEXT(Sheet1!P89,\"00\"))))","v":""},{"$f":"IF(Sheet1!R89=\"\",\"\",IF(VLOOKUP(Sheet1!R89,Sheet2!$A$2:$C$44,3,FALSE)>=71,VLOOKUP(Sheet1!R89,Sheet2!$A$2:$C$44,2,FALSE)&TEXT(Sheet1!T89,\"00\")&TEXT(Sheet1!U89,\"00\"),VLOOKUP(Sheet1!R89,Sheet2!$A$2:$C$44,2,FALSE)&TEXT(Sheet1!S89,\"00\")&TEXT(Sheet1!T89,\"00\")&IF(Sheet1!V89=\"手\",TEXT(Sheet1!U89,\"0\"),TEXT(Sheet1!U89,\"00\"))))","v":""},{"$f":"IF(Sheet1!W89=\"\",\"\",IF(VLOOKUP(Sheet1!W89,Sheet2!$A$2:$C$44,3,FALSE)>=71,VLOOKUP(Sheet1!W89,Sheet2!$A$2:$C$44,2,FALSE)&TEXT(Sheet1!Y89,\"00\")&TEXT(Sheet1!Z89,\"00\"),VLOOKUP(Sheet1!W89,Sheet2!$A$2:$C$44,2,FALSE)&TEXT(Sheet1!X89,\"00\")&TEXT(Sheet1!Y89,\"00\")&IF(Sheet1!AA89=\"手\",TEXT(Sheet1!Z89,\"0\"),TEXT(Sheet1!Z89,\"00\"))))","v":""},{"$f":"IF(Sheet1!AD89=\"\",\"\",\"●\")","v":""},{"$f":"IF(Sheet1!AE89=\"\",\"\",\"▲\")","v":""},{"$f":"IF(Sheet1!AF89=\"\",\"\",\"★\")","v":""},{"$f":"IF(Sheet1!AG89=\"\",\"\",\"▼\")","v":""}]
["",{"$f":"ASC(IF(Sheet1!C90=\"\",\"\",IF(LEN(Sheet1!C90)+LEN(Sheet1!D90)=2,Sheet1!C90&\"      \"&Sheet1!D90&\"(\"&Sheet1!I90&\")\",IF(LEN(Sheet1!C90)+LEN(Sheet1!D90)=3,Sheet1!C90&\"    \"&Sheet1!D90&\"(\"&Sheet1!I90&\")\",IF(LEN(Sheet1!C90)+LEN(Sheet1!D90)=4,Sheet1!C90&\"  \"&Sheet1!D90&\"(\"&Sheet1!I90&\")\",IF(LEN(Sheet1!C90)+LEN(Sheet1!D90)>=5,Sheet1!C90&Sheet1!D90&\"(\"&Sheet1!I90&\")\",\"\"))))))","v":""},{"$f":"ASC(IF(Sheet1!E90=\"\",\"\",Sheet1!E90&\" \"&Sheet1!F90))","v":""},{"$f":"ASC(IF(Sheet1!G90=\"\",\"\",UPPER(Sheet1!G90)&\" \"&PROPER(Sheet1!H90)&\"(\"&Sheet1!I90&\")\"))","v":""},{"$f":"IF(Sheet1!J90=\"\",\"\",IF(Sheet1!J90=\"女\",2,1))","v":""},{"$f":"IF(Sheet1!K90=\"\",\"\",VLOOKUP(Sheet1!K90,Sheet2!$F$2:$G$50,2,FALSE))","v":""},{"$f":"IF(Sheet1!L90=\"\",\"\",(Sheet1!L90))","v":""},{"$f":"IF(B77=\"\",\"\",VALUE(LEFT(Sheet1!E$4,6)))","v":""},{"$f":"IF(Sheet1!B90=\"\",\"\",VALUE(Sheet1!B90))","v":""},{"$f":"IF(Sheet1!M90=\"\",\"\",IF(VLOOKUP(Sheet1!M90,Sheet2!$A$2:$C$44,3,FALSE)>=71,VLOOKUP(Sheet1!M90,Sheet2!$A$2:$C$44,2,FALSE)&TEXT(Sheet1!O90,\"00\")&TEXT(Sheet1!P90,\"00\"),VLOOKUP(Sheet1!M90,Sheet2!$A$2:$C$44,2,FALSE)&TEXT(Sheet1!N90,\"00\")&TEXT(Sheet1!O90,\"00\")&IF(Sheet1!Q90=\"手\",TEXT(Sheet1!P90,\"0\"),TEXT(Sheet1!P90,\"00\"))))","v":""},{"$f":"IF(Sheet1!R90=\"\",\"\",IF(VLOOKUP(Sheet1!R90,Sheet2!$A$2:$C$44,3,FALSE)>=71,VLOOKUP(Sheet1!R90,Sheet2!$A$2:$C$44,2,FALSE)&TEXT(Sheet1!T90,\"00\")&TEXT(Sheet1!U90,\"00\"),VLOOKUP(Sheet1!R90,Sheet2!$A$2:$C$44,2,FALSE)&TEXT(Sheet1!S90,\"00\")&TEXT(Sheet1!T90,\"00\")&IF(Sheet1!V90=\"手\",TEXT(Sheet1!U90,\"0\"),TEXT(Sheet1!U90,\"00\"))))","v":""},{"$f":"IF(Sheet1!W90=\"\",\"\",IF(VLOOKUP(Sheet1!W90,Sheet2!$A$2:$C$44,3,FALSE)>=71,VLOOKUP(Sheet1!W90,Sheet2!$A$2:$C$44,2,FALSE)&TEXT(Sheet1!Y90,\"00\")&TEXT(Sheet1!Z90,\"00\"),VLOOKUP(Sheet1!W90,Sheet2!$A$2:$C$44,2,FALSE)&TEXT(Sheet1!X90,\"00\")&TEXT(Sheet1!Y90,\"00\")&IF(Sheet1!AA90=\"手\",TEXT(Sheet1!Z90,\"0\"),TEXT(Sheet1!Z90,\"00\"))))","v":""},{"$f":"IF(Sheet1!AD90=\"\",\"\",\"●\")","v":""},{"$f":"IF(Sheet1!AE90=\"\",\"\",\"▲\")","v":""},{"$f":"IF(Sheet1!AF90=\"\",\"\",\"★\")","v":""},{"$f":"IF(Sheet1!AG90=\"\",\"\",\"▼\")","v":""}]
["",{"$f":"ASC(IF(Sheet1!C91=\"\",\"\",IF(LEN(Sheet1!C91)+LEN(Sheet1!D91)=2,Sheet1!C91&\"      \"&Sheet1!D91&\"(\"&Sheet1!I91&\")\",IF(LEN(Sheet1!C91)+LEN(Sheet1!D91)=3,Sheet1!C91&\"    \"&Sheet1!D91&\"(\"&Sheet1!I91&\")\",IF(LEN(Sheet1!C91)+LEN(Sheet1!D91)=4,Sheet1!C91&\"  \"&Sheet1!D91&\"(\"&Sheet1!I91&\")\",IF(LEN(Sheet1!C91)+LEN(Sheet1!D91)>=5,Sheet1!C91&Sheet1!D91&\"(\"&Sheet1!I91&\")\",\"\"))))))","v":""},{"$f":"ASC(IF(Sheet1!E91=\"\",\"\",Sheet1!E91&\" \"&Sheet1!F91))","v":""},{"$f":"ASC(IF(Sheet1!G91=\"\",\"\",UPPER(Sheet1!G91)&\" \"&PROPER(Sheet1!H91)&\"(\"&Sheet1!I91&\")\"))","v":""},{"$f":"IF(Sheet1!J91=\"\",\"\",IF(Sheet1!J91=\"女\",2,1))","v":""},{"$f":"IF(Sheet1!K91=\"\",\"\",VLOOKUP(Sheet1!K91,Sheet2!$F$2:$G$50,2,FALSE))","v":""},{"$f":"IF(Sheet1!L91=\"\",\"\",(Sheet1!L91))","v":""},{"$f":"IF(B78=\"\",\"\",VALUE(LEFT(Sheet1!E$4,6)))","v":""},{"$f":"IF(Sheet1!B91=\"\",\"\",VALUE(Sheet1!B91))","v":""},{"$f":"IF(Sheet1!M91=\"\",\"\",IF(VLOOKUP(Sheet1!M91,Sheet2!$A$2:$C$44,3,FALSE)>=71,VLOOKUP(Sheet1!M91,Sheet2!$A$2:$C$44,2,FALSE)&TEXT(Sheet1!O91,\"00\")&TEXT(Sheet1!P91,\"00\"),VLOOKUP(Sheet1!M91,Sheet2!$A$2:$C$44,2,FALSE)&TEXT(Sheet1!N91,\"00\")&TEXT(Sheet1!O91,\"00\")&IF(Sheet1!Q91=\"手\",TEXT(Sheet1!P91,\"0\"),TEXT(Sheet1!P91,\"00\"))))","v":""},{"$f":"IF(Sheet1!R91=\"\",\"\",IF(VLOOKUP(Sheet1!R91,Sheet2!$A$2:$C$44,3,FALSE)>=71,VLOOKUP(Sheet1!R91,Sheet2!$A$2:$C$44,2,FALSE)&TEXT(Sheet1!T91,\"00\")&TEXT(Sheet1!U91,\"00\"),VLOOKUP(Sheet1!R91,Sheet2!$A$2:$C$44,2,FALSE)&TEXT(Sheet1!S91,\"00\")&TEXT(Sheet1!T91,\"00\")&IF(Sheet1!V91=\"手\",TEXT(Sheet1!U91,\"0\"),TEXT(Sheet1!U91,\"00\"))))","v":""},{"$f":"IF(Sheet1!W91=\"\",\"\",IF(VLOOKUP(Sheet1!W91,Sheet2!$A$2:$C$44,3,FALSE)>=71,VLOOKUP(Sheet1!W91,Sheet2!$A$2:$C$44,2,FALSE)&TEXT(Sheet1!Y91,\"00\")&TEXT(Sheet1!Z91,\"00\"),VLOOKUP(Sheet1!W91,Sheet2!$A$2:$C$44,2,FALSE)&TEXT(Sheet1!X91,\"00\")&TEXT(Sheet1!Y91,\"00\")&IF(Sheet1!AA91=\"手\",TEXT(Sheet1!Z91,\"0\"),TEXT(Sheet1!Z91,\"00\"))))","v":""},{"$f":"IF(Sheet1!AD91=\"\",\"\",\"●\")","v":""},{"$f":"IF(Sheet1!AE91=\"\",\"\",\"▲\")","v":""},{"$f":"IF(Sheet1!AF91=\"\",\"\",\"★\")","v":""},{"$f":"IF(Sheet1!AG91=\"\",\"\",\"▼\")","v":""}]
["",{"$f":"ASC(IF(Sheet1!C92=\"\",\"\",IF(LEN(Sheet1!C92)+LEN(Sheet1!D92)=2,Sheet1!C92&\"      \"&Sheet1!D92&\"(\"&Sheet1!I92&\")\",IF(LEN(Sheet1!C92)+LEN(Sheet1!D92)=3,Sheet1!C92&\"    \"&Sheet1!D92&\"(\"&Sheet1!I92&\")\",IF(LEN(Sheet1!C92)+LEN(Sheet1!D92)=4,Sheet1!C92&\"  \"&Sheet1!D92&\"(\"&Sheet1!I92&\")\",IF(LEN(Sheet1!C92)+LEN(Sheet1!D92)>=5,Sheet1!C92&Sheet1!D92&\"(\"&Sheet1!I92&\")\",\"\"))))))","v":""},{"$f":"ASC(IF(Sheet1!E92=\"\",\"\",Sheet1!E92&\" \"&Sheet1!F92))","v":""},{"$f":"ASC(IF(Sheet1!G92=\"\",\"\",UPPER(Sheet1!G92)&\" \"&PROPER(Sheet1!H92)&\"(\"&Sheet1!I92&\")\"))","v":""},{"$f":"IF(Sheet1!J92=\"\",\"\",IF(Sheet1!J92=\"女\",2,1))","v":""},{"$f":"IF(Sheet1!K92=\"\",\"\",VLOOKUP(Sheet1!K92,Sheet2!$F$2:$G$50,2,FALSE))","v":""},{"$f":"IF(Sheet1!L92=\"\",\"\",(Sheet1!L92))","v":""},{"$f":"IF(B79=\"\",\"\",VALUE(LEFT(Sheet1!E$4,6)))","v":""},{"$f":"IF(Sheet1!B92=\"\",\"\",VALUE(Sheet1!B92))","v":""},{"$f":"IF(Sheet1!M92=\"\",\"\",IF(VLOOKUP(Sheet1!M92,Sheet2!$A$2:$C$44,3,FALSE)>=71,VLOOKUP(Sheet1!M92,Sheet2!$A$2:$C$44,2,FALSE)&TEXT(Sheet1!O92,\"00\")&TEXT(Sheet1!P92,\"00\"),VLOOKUP(Sheet1!M92,Sheet2!$A$2:$C$44,2,FALSE)&TEXT(Sheet1!N92,\"00\")&TEXT(Sheet1!O92,\"00\")&IF(Sheet1!Q92=\"手\",TEXT(Sheet1!P92,\"0\"),TEXT(Sheet1!P92,\"00\"))))","v":""},{"$f":"IF(Sheet1!R92=\"\",\"\",IF(VLOOKUP(Sheet1!R92,Sheet2!$A$2:$C$44,3,FALSE)>=71,VLOOKUP(Sheet1!R92,Sheet2!$A$2:$C$44,2,FALSE)&TEXT(Sheet1!T92,\"00\")&TEXT(Sheet1!U92,\"00\"),VLOOKUP(Sheet1!R92,Sheet2!$A$2:$C$44,2,FALSE)&TEXT(Sheet1!S92,\"00\")&TEXT(Sheet1!T92,\"00\")&IF(Sheet1!V92=\"手\",TEXT(Sheet1!U92,\"0\"),TEXT(Sheet1!U92,\"00\"))))","v":""},{"$f":"IF(Sheet1!W92=\"\",\"\",IF(VLOOKUP(Sheet1!W92,Sheet2!$A$2:$C$44,3,FALSE)>=71,VLOOKUP(Sheet1!W92,Sheet2!$A$2:$C$44,2,FALSE)&TEXT(Sheet1!Y92,\"00\")&TEXT(Sheet1!Z92,\"00\"),VLOOKUP(Sheet1!W92,Sheet2!$A$2:$C$44,2,FALSE)&TEXT(Sheet1!X92,\"00\")&TEXT(Sheet1!Y92,\"00\")&IF(Sheet1!AA92=\"手\",TEXT(Sheet1!Z92,\"0\"),TEXT(Sheet1!Z92,\"00\"))))","v":""},{"$f":"IF(Sheet1!AD92=\"\",\"\",\"●\")","v":""},{"$f":"IF(Sheet1!AE92=\"\",\"\",\"▲\")","v":""},{"$f":"IF(Sheet1!AF92=\"\",\"\",\"★\")","v":""},{"$f":"IF(Sheet1!AG92=\"\",\"\",\"▼\")","v":""}]
["",{"$f":"ASC(IF(Sheet1!C93=\"\",\"\",IF(LEN(Sheet1!C93)+LEN(Sheet1!D93)=2,Sheet1!C93&\"      \"&Sheet1!D93&\"(\"&Sheet1!I93&\")\",IF(LEN(Sheet1!C93)+LEN(Sheet1!D93)=3,Sheet1!C93&\"    \"&Sheet1!D93&\"(\"&Sheet1!I93&\")\",IF(LEN(Sheet1!C93)+LEN(Sheet1!D93)=4,Sheet1!C93&\"  \"&Sheet1!D93&\"(\"&Sheet1!I93&\")\",IF(LEN(Sheet1!C93)+LEN(Sheet1!D93)>=5,Sheet1!C93&Sheet1!D93&\"(\"&Sheet1!I93&\")\",\"\"))))))","v":""},{"$f":"ASC(IF(Sheet1!E93=\"\",\"\",Sheet1!E93&\" \"&Sheet1!F93))","v":""},{"$f":"ASC(IF(Sheet1!G93=\"\",\"\",UPPER(Sheet1!G93)&\" \"&PROPER(Sheet1!H93)&\"(\"&Sheet1!I93&\")\"))","v":""},{"$f":"IF(Sheet1!J93=\"\",\"\",IF(Sheet1!J93=\"女\",2,1))","v":""},{"$f":"IF(Sheet1!K93=\"\",\"\",VLOOKUP(Sheet1!K93,Sheet2!$F$2:$G$50,2,FALSE))","v":""},{"$f":"IF(Sheet1!L93=\"\",\"\",(Sheet1!L93))","v":""},{"$f":"IF(B80=\"\",\"\",VALUE(LEFT(Sheet1!E$4,6)))","v":""},{"$f":"IF(Sheet1!B93=\"\",\"\",VALUE(Sheet1!B93))","v":""},{"$f":"IF(Sheet1!M93=\"\",\"\",IF(VLOOKUP(Sheet1!M93,Sheet2!$A$2:$C$44,3,FALSE)>=71,VLOOKUP(Sheet1!M93,Sheet2!$A$2:$C$44,2,FALSE)&TEXT(Sheet1!O93,\"00\")&TEXT(Sheet1!P93,\"00\"),VLOOKUP(Sheet1!M93,Sheet2!$A$2:$C$44,2,FALSE)&TEXT(Sheet1!N93,\"00\")&TEXT(Sheet1!O93,\"00\")&IF(Sheet1!Q93=\"手\",TEXT(Sheet1!P93,\"0\"),TEXT(Sheet1!P93,\"00\"))))","v":""},{"$f":"IF(Sheet1!R93=\"\",\"\",IF(VLOOKUP(Sheet1!R93,Sheet2!$A$2:$C$44,3,FALSE)>=71,VLOOKUP(Sheet1!R93,Sheet2!$A$2:$C$44,2,FALSE)&TEXT(Sheet1!T93,\"00\")&TEXT(Sheet1!U93,\"00\"),VLOOKUP(Sheet1!R93,Sheet2!$A$2:$C$44,2,FALSE)&TEXT(Sheet1!S93,\"00\")&TEXT(Sheet1!T93,\"00\")&IF(Sheet1!V93=\"手\",TEXT(Sheet1!U93,\"0\"),TEXT(Sheet1!U93,\"00\"))))","v":""},{"$f":"IF(Sheet1!W93=\"\",\"\",IF(VLOOKUP(Sheet1!W93,Sheet2!$A$2:$C$44,3,FALSE)>=71,VLOOKUP(Sheet1!W93,Sheet2!$A$2:$C$44,2,FALSE)&TEXT(Sheet1!Y93,\"00\")&TEXT(Sheet1!Z93,\"00\"),VLOOKUP(Sheet1!W93,Sheet2!$A$2:$C$44,2,FALSE)&TEXT(Sheet1!X93,\"00\")&TEXT(Sheet1!Y93,\"00\")&IF(Sheet1!AA93=\"手\",TEXT(Sheet1!Z93,\"0\"),TEXT(Sheet1!Z93,\"00\"))))","v":""},{"$f":"IF(Sheet1!AD93=\"\",\"\",\"●\")","v":""},{"$f":"IF(Sheet1!AE93=\"\",\"\",\"▲\")","v":""},{"$f":"IF(Sheet1!AF93=\"\",\"\",\"★\")","v":""},{"$f":"IF(Sheet1!AG93=\"\",\"\",\"▼\")","v":""}]
["",{"$f":"ASC(IF(Sheet1!C94=\"\",\"\",IF(LEN(Sheet1!C94)+LEN(Sheet1!D94)=2,Sheet1!C94&\"      \"&Sheet1!D94&\"(\"&Sheet1!I94&\")\",IF(LEN(Sheet1!C94)+LEN(Sheet1!D94)=3,Sheet1!C94&\"    \"&Sheet1!D94&\"(\"&Sheet1!I94&\")\",IF(LEN(Sheet1!C94)+LEN(Sheet1!D94)=4,Sheet1!C94&\"  \"&Sheet1!D94&\"(\"&Sheet1!I94&\")\",IF(LEN(Sheet1!C94)+LEN(Sheet1!D94)>=5,Sheet1!C94&Sheet1!D94&\"(\"&Sheet1!I94&\")\",\"\"))))))","v":""},{"$f":"ASC(IF(Sheet1!E94=\"\",\"\",Sheet1!E94&\" \"&Sheet1!F94))","v":""},{"$f":"ASC(IF(Sheet1!G94=\"\",\"\",UPPER(Sheet1!G94)&\" \"&PROPER(Sheet1!H94)&\"(\"&Sheet1!I94&\")\"))","v":""},{"$f":"IF(Sheet1!J94=\"\",\"\",IF(Sheet1!J94=\"女\",2,1))","v":""},{"$f":"IF(Sheet1!K94=\"\",\"\",VLOOKUP(Sheet1!K94,Sheet2!$F$2:$G$50,2,FALSE))","v":""},{"$f":"IF(Sheet1!L94=\"\",\"\",(Sheet1!L94))","v":""},{"$f":"IF(B81=\"\",\"\",VALUE(LEFT(Sheet1!E$4,6)))","v":""},{"$f":"IF(Sheet1!B94=\"\",\"\",VALUE(Sheet1!B94))","v":""},{"$f":"IF(Sheet1!M94=\"\",\"\",IF(VLOOKUP(Sheet1!M94,Sheet2!$A$2:$C$44,3,FALSE)>=71,VLOOKUP(Sheet1!M94,Sheet2!$A$2:$C$44,2,FALSE)&TEXT(Sheet1!O94,\"00\")&TEXT(Sheet1!P94,\"00\"),VLOOKUP(Sheet1!M94,Sheet2!$A$2:$C$44,2,FALSE)&TEXT(Sheet1!N94,\"00\")&TEXT(Sheet1!O94,\"00\")&IF(Sheet1!Q94=\"手\",TEXT(Sheet1!P94,\"0\"),TEXT(Sheet1!P94,\"00\"))))","v":""},{"$f":"IF(Sheet1!R94=\"\",\"\",IF(VLOOKUP(Sheet1!R94,Sheet2!$A$2:$C$44,3,FALSE)>=71,VLOOKUP(Sheet1!R94,Sheet2!$A$2:$C$44,2,FALSE)&TEXT(Sheet1!T94,\"00\")&TEXT(Sheet1!U94,\"00\"),VLOOKUP(Sheet1!R94,Sheet2!$A$2:$C$44,2,FALSE)&TEXT(Sheet1!S94,\"00\")&TEXT(Sheet1!T94,\"00\")&IF(Sheet1!V94=\"手\",TEXT(Sheet1!U94,\"0\"),TEXT(Sheet1!U94,\"00\"))))","v":""},{"$f":"IF(Sheet1!W94=\"\",\"\",IF(VLOOKUP(Sheet1!W94,Sheet2!$A$2:$C$44,3,FALSE)>=71,VLOOKUP(Sheet1!W94,Sheet2!$A$2:$C$44,2,FALSE)&TEXT(Sheet1!Y94,\"00\")&TEXT(Sheet1!Z94,\"00\"),VLOOKUP(Sheet1!W94,Sheet2!$A$2:$C$44,2,FALSE)&TEXT(Sheet1!X94,\"00\")&TEXT(Sheet1!Y94,\"00\")&IF(Sheet1!AA94=\"手\",TEXT(Sheet1!Z94,\"0\"),TEXT(Sheet1!Z94,\"00\"))))","v":""},{"$f":"IF(Sheet1!AD94=\"\",\"\",\"●\")","v":""},{"$f":"IF(Sheet1!AE94=\"\",\"\",\"▲\")","v":""},{"$f":"IF(Sheet1!AF94=\"\",\"\",\"★\")","v":""},{"$f":"IF(Sheet1!AG94=\"\",\"\",\"▼\")","v":""}]
["",{"$f":"ASC(IF(Sheet1!C95=\"\",\"\",IF(LEN(Sheet1!C95)+LEN(Sheet1!D95)=2,Sheet1!C95&\"      \"&Sheet1!D95&\"(\"&Sheet1!I95&\")\",IF(LEN(Sheet1!C95)+LEN(Sheet1!D95)=3,Sheet1!C95&\"    \"&Sheet1!D95&\"(\"&Sheet1!I95&\")\",IF(LEN(Sheet1!C95)+LEN(Sheet1!D95)=4,Sheet1!C95&\"  \"&Sheet1!D95&\"(\"&Sheet1!I95&\")\",IF(LEN(Sheet1!C95)+LEN(Sheet1!D95)>=5,Sheet1!C95&Sheet1!D95&\"(\"&Sheet1!I95&\")\",\"\"))))))","v":""},{"$f":"ASC(IF(Sheet1!E95=\"\",\"\",Sheet1!E95&\" \"&Sheet1!F95))","v":""},{"$f":"ASC(IF(Sheet1!G95=\"\",\"\",UPPER(Sheet1!G95)&\" \"&PROPER(Sheet1!H95)&\"(\"&Sheet1!I95&\")\"))","v":""},{"$f":"IF(Sheet1!J95=\"\",\"\",IF(Sheet1!J95=\"女\",2,1))","v":""},{"$f":"IF(Sheet1!K95=\"\",\"\",VLOOKUP(Sheet1!K95,Sheet2!$F$2:$G$50,2,FALSE))","v":""},{"$f":"IF(Sheet1!L95=\"\",\"\",(Sheet1!L95))","v":""},{"$f":"IF(B82=\"\",\"\",VALUE(LEFT(Sheet1!E$4,6)))","v":""},{"$f":"IF(Sheet1!B95=\"\",\"\",VALUE(Sheet1!B95))","v":""},{"$f":"IF(Sheet1!M95=\"\",\"\",IF(VLOOKUP(Sheet1!M95,Sheet2!$A$2:$C$44,3,FALSE)>=71,VLOOKUP(Sheet1!M95,Sheet2!$A$2:$C$44,2,FALSE)&TEXT(Sheet1!O95,\"00\")&TEXT(Sheet1!P95,\"00\"),VLOOKUP(Sheet1!M95,Sheet2!$A$2:$C$44,2,FALSE)&TEXT(Sheet1!N95,\"00\")&TEXT(Sheet1!O95,\"00\")&IF(Sheet1!Q95=\"手\",TEXT(Sheet1!P95,\"0\"),TEXT(Sheet1!P95,\"00\"))))","v":""},{"$f":"IF(Sheet1!R95=\"\",\"\",IF(VLOOKUP(Sheet1!R95,Sheet2!$A$2:$C$44,3,FALSE)>=71,VLOOKUP(Sheet1!R95,Sheet2!$A$2:$C$44,2,FALSE)&TEXT(Sheet1!T95,\"00\")&TEXT(Sheet1!U95,\"00\"),VLOOKUP(Sheet1!R95,Sheet2!$A$2:$C$44,2,FALSE)&TEXT(Sheet1!S95,\"00\")&TEXT(Sheet1!T95,\"00\")&IF(Sheet1!V95=\"手\",TEXT(Sheet1!U95,\"0\"),TEXT(Sheet1!U95,\"00\"))))","v":""},{"$f":"IF(Sheet1!W95=\"\",\"\",IF(VLOOKUP(Sheet1!W95,Sheet2!$A$2:$C$44,3,FALSE)>=71,VLOOKUP(Sheet1!W95,Sheet2!$A$2:$C$44,2,FALSE)&TEXT(Sheet1!Y95,\"00\")&TEXT(Sheet1!Z95,\"00\"),VLOOKUP(Sheet1!W95,Sheet2!$A$2:$C$44,2,FALSE)&TEXT(Sheet1!X95,\"00\")&TEXT(Sheet1!Y95,\"00\")&IF(Sheet1!AA95=\"手\",TEXT(Sheet1!Z95,\"0\"),TEXT(Sheet1!Z95,\"00\"))))","v":""},{"$f":"IF(Sheet1!AD95=\"\",\"\",\"●\")","v":""},{"$f":"IF(Sheet1!AE95=\"\",\"\",\"▲\")","v":""},{"$f":"IF(Sheet1!AF95=\"\",\"\",\"★\")","v":""},{"$f":"IF(Sheet1!AG95=\"\",\"\",\"▼\")","v":""}]
["",{"$f":"ASC(IF(Sheet1!C96=\"\",\"\",IF(LEN(Sheet1!C96)+LEN(Sheet1!D96)=2,Sheet1!C96&\"      \"&Sheet1!D96&\"(\"&Sheet1!I96&\")\",IF(LEN(Sheet1!C96)+LEN(Sheet1!D96)=3,Sheet1!C96&\"    \"&Sheet1!D96&\"(\"&Sheet1!I96&\")\",IF(LEN(Sheet1!C96)+LEN(Sheet1!D96)=4,Sheet1!C96&\"  \"&Sheet1!D96&\"(\"&Sheet1!I96&\")\",IF(LEN(Sheet1!C96)+LEN(Sheet1!D96)>=5,Sheet1!C96&Sheet1!D96&\"(\"&Sheet1!I96&\")\",\"\"))))))","v":""},{"$f":"ASC(IF(Sheet1!E96=\"\",\"\",Sheet1!E96&\" \"&Sheet1!F96))","v":""},{"$f":"ASC(IF(Sheet1!G96=\"\",\"\",UPPER(Sheet1!G96)&\" \"&PROPER(Sheet1!H96)&\"(\"&Sheet1!I96&\")\"))","v":""},{"$f":"IF(Sheet1!J96=\"\",\"\",IF(Sheet1!J96=\"女\",2,1))","v":""},{"$f":"IF(Sheet1!K96=\"\",\"\",VLOOKUP(Sheet1!K96,Sheet2!$F$2:$G$50,2,FALSE))","v":""},{"$f":"IF(Sheet1!L96=\"\",\"\",(Sheet1!L96))","v":""},{"$f":"IF(B83=\"\",\"\",VALUE(LEFT(Sheet1!E$4,6)))","v":""},{"$f":"IF(Sheet1!B96=\"\",\"\",VALUE(Sheet1!B96))","v":""},{"$f":"IF(Sheet1!M96=\"\",\"\",IF(VLOOKUP(Sheet1!M96,Sheet2!$A$2:$C$44,3,FALSE)>=71,VLOOKUP(Sheet1!M96,Sheet2!$A$2:$C$44,2,FALSE)&TEXT(Sheet1!O96,\"00\")&TEXT(Sheet1!P96,\"00\"),VLOOKUP(Sheet1!M96,Sheet2!$A$2:$C$44,2,FALSE)&TEXT(Sheet1!N96,\"00\")&TEXT(Sheet1!O96,\"00\")&IF(Sheet1!Q96=\"手\",TEXT(Sheet1!P96,\"0\"),TEXT(Sheet1!P96,\"00\"))))","v":""},{"$f":"IF(Sheet1!R96=\"\",\"\",IF(VLOOKUP(Sheet1!R96,Sheet2!$A$2:$C$44,3,FALSE)>=71,VLOOKUP(Sheet1!R96,Sheet2!$A$2:$C$44,2,FALSE)&TEXT(Sheet1!T96,\"00\")&TEXT(Sheet1!U96,\"00\"),VLOOKUP(Sheet1!R96,Sheet2!$A$2:$C$44,2,FALSE)&TEXT(Sheet1!S96,\"00\")&TEXT(Sheet1!T96,\"00\")&IF(Sheet1!V96=\"手\",TEXT(Sheet1!U96,\"0\"),TEXT(Sheet1!U96,\"00\"))))","v":""},{"$f":"IF(Sheet1!W96=\"\",\"\",IF(VLOOKUP(Sheet1!W96,Sheet2!$A$2:$C$44,3,FALSE)>=71,VLOOKUP(Sheet1!W96,Sheet2!$A$2:$C$44,2,FALSE)&TEXT(Sheet1!Y96,\"00\")&TEXT(Sheet1!Z96,\"00\"),VLOOKUP(Sheet1!W96,Sheet2!$A$2:$C$44,2,FALSE)&TEXT(Sheet1!X96,\"00\")&TEXT(Sheet1!Y96,\"00\")&IF(Sheet1!AA96=\"手\",TEXT(Sheet1!Z96,\"0\"),TEXT(Sheet1!Z96,\"00\"))))","v":""},{"$f":"IF(Sheet1!AD96=\"\",\"\",\"●\")","v":""},{"$f":"IF(Sheet1!AE96=\"\",\"\",\"▲\")","v":""},{"$f":"IF(Sheet1!AF96=\"\",\"\",\"★\")","v":""},{"$f":"IF(Sheet1!AG96=\"\",\"\",\"▼\")","v":""}]
["",{"$f":"ASC(IF(Sheet1!C97=\"\",\"\",IF(LEN(Sheet1!C97)+LEN(Sheet1!D97)=2,Sheet1!C97&\"      \"&Sheet1!D97&\"(\"&Sheet1!I97&\")\",IF(LEN(Sheet1!C97)+LEN(Sheet1!D97)=3,Sheet1!C97&\"    \"&Sheet1!D97&\"(\"&Sheet1!I97&\")\",IF(LEN(Sheet1!C97)+LEN(Sheet1!D97)=4,Sheet1!C97&\"  \"&Sheet1!D97&\"(\"&Sheet1!I97&\")\",IF(LEN(Sheet1!C97)+LEN(Sheet1!D97)>=5,Sheet1!C97&Sheet1!D97&\"(\"&Sheet1!I97&\")\",\"\"))))))","v":""},{"$f":"ASC(IF(Sheet1!E97=\"\",\"\",Sheet1!E97&\" \"&Sheet1!F97))","v":""},{"$f":"ASC(IF(Sheet1!G97=\"\",\"\",UPPER(Sheet1!G97)&\" \"&PROPER(Sheet1!H97)&\"(\"&Sheet1!I97&\")\"))","v":""},{"$f":"IF(Sheet1!J97=\"\",\"\",IF(Sheet1!J97=\"女\",2,1))","v":""},{"$f":"IF(Sheet1!K97=\"\",\"\",VLOOKUP(Sheet1!K97,Sheet2!$F$2:$G$50,2,FALSE))","v":""},{"$f":"IF(Sheet1!L97=\"\",\"\",(Sheet1!L97))","v":""},{"$f":"IF(B84=\"\",\"\",VALUE(LEFT(Sheet1!E$4,6)))","v":""},{"$f":"IF(Sheet1!B97=\"\",\"\",VALUE(Sheet1!B97))","v":""},{"$f":"IF(Sheet1!M97=\"\",\"\",IF(VLOOKUP(Sheet1!M97,Sheet2!$A$2:$C$44,3,FALSE)>=71,VLOOKUP(Sheet1!M97,Sheet2!$A$2:$C$44,2,FALSE)&TEXT(Sheet1!O97,\"00\")&TEXT(Sheet1!P97,\"00\"),VLOOKUP(Sheet1!M97,Sheet2!$A$2:$C$44,2,FALSE)&TEXT(Sheet1!N97,\"00\")&TEXT(Sheet1!O97,\"00\")&IF(Sheet1!Q97=\"手\",TEXT(Sheet1!P97,\"0\"),TEXT(Sheet1!P97,\"00\"))))","v":""},{"$f":"IF(Sheet1!R97=\"\",\"\",IF(VLOOKUP(Sheet1!R97,Sheet2!$A$2:$C$44,3,FALSE)>=71,VLOOKUP(Sheet1!R97,Sheet2!$A$2:$C$44,2,FALSE)&TEXT(Sheet1!T97,\"00\")&TEXT(Sheet1!U97,\"00\"),VLOOKUP(Sheet1!R97,Sheet2!$A$2:$C$44,2,FALSE)&TEXT(Sheet1!S97,\"00\")&TEXT(Sheet1!T97,\"00\")&IF(Sheet1!V97=\"手\",TEXT(Sheet1!U97,\"0\"),TEXT(Sheet1!U97,\"00\"))))","v":""},{"$f":"IF(Sheet1!W97=\"\",\"\",IF(VLOOKUP(Sheet1!W97,Sheet2!$A$2:$C$44,3,FALSE)>=71,VLOOKUP(Sheet1!W97,Sheet2!$A$2:$C$44,2,FALSE)&TEXT(Sheet1!Y97,\"00\")&TEXT(Sheet1!Z97,\"00\"),VLOOKUP(Sheet1!W97,Sheet2!$A$2:$C$44,2,FALSE)&TEXT(Sheet1!X97,\"00\")&TEXT(Sheet1!Y97,\"00\")&IF(Sheet1!AA97=\"手\",TEXT(Sheet1!Z97,\"0\"),TEXT(Sheet1!Z97,\"00\"))))","v":""},{"$f":"IF(Sheet1!AD97=\"\",\"\",\"●\")","v":""},{"$f":"IF(Sheet1!AE97=\"\",\"\",\"▲\")","v":""},{"$f":"IF(Sheet1!AF97=\"\",\"\",\"★\")","v":""},{"$f":"IF(Sheet1!AG97=\"\",\"\",\"▼\")","v":""}]
["",{"$f":"ASC(IF(Sheet1!C98=\"\",\"\",IF(LEN(Sheet1!C98)+LEN(Sheet1!D98)=2,Sheet1!C98&\"      \"&Sheet1!D98&\"(\"&Sheet1!I98&\")\",IF(LEN(Sheet1!C98)+LEN(Sheet1!D98)=3,Sheet1!C98&\"    \"&Sheet1!D98&\"(\"&Sheet1!I98&\")\",IF(LEN(Sheet1!C98)+LEN(Sheet1!D98)=4,Sheet1!C98&\"  \"&Sheet1!D98&\"(\"&Sheet1!I98&\")\",IF(LEN(Sheet1!C98)+LEN(Sheet1!D98)>=5,Sheet1!C98&Sheet1!D98&\"(\"&Sheet1!I98&\")\",\"\"))))))","v":""},{"$f":"ASC(IF(Sheet1!E98=\"\",\"\",Sheet1!E98&\" \"&Sheet1!F98))","v":""},{"$f":"ASC(IF(Sheet1!G98=\"\",\"\",UPPER(Sheet1!G98)&\" \"&PROPER(Sheet1!H98)&\"(\"&Sheet1!I98&\")\"))","v":""},{"$f":"IF(Sheet1!J98=\"\",\"\",IF(Sheet1!J98=\"女\",2,1))","v":""},{"$f":"IF(Sheet1!K98=\"\",\"\",VLOOKUP(Sheet1!K98,Sheet2!$F$2:$G$50,2,FALSE))","v":""},{"$f":"IF(Sheet1!L98=\"\",\"\",(Sheet1!L98))","v":""},{"$f":"IF(B85=\"\",\"\",VALUE(LEFT(Sheet1!E$4,6)))","v":""},{"$f":"IF(Sheet1!B98=\"\",\"\",VALUE(Sheet1!B98))","v":""},{"$f":"IF(Sheet1!M98=\"\",\"\",IF(VLOOKUP(Sheet1!M98,Sheet2!$A$2:$C$44,3,FALSE)>=71,VLOOKUP(Sheet1!M98,Sheet2!$A$2:$C$44,2,FALSE)&TEXT(Sheet1!O98,\"00\")&TEXT(Sheet1!P98,\"00\"),VLOOKUP(Sheet1!M98,Sheet2!$A$2:$C$44,2,FALSE)&TEXT(Sheet1!N98,\"00\")&TEXT(Sheet1!O98,\"00\")&IF(Sheet1!Q98=\"手\",TEXT(Sheet1!P98,\"0\"),TEXT(Sheet1!P98,\"00\"))))","v":""},{"$f":"IF(Sheet1!R98=\"\",\"\",IF(VLOOKUP(Sheet1!R98,Sheet2!$A$2:$C$44,3,FALSE)>=71,VLOOKUP(Sheet1!R98,Sheet2!$A$2:$C$44,2,FALSE)&TEXT(Sheet1!T98,\"00\")&TEXT(Sheet1!U98,\"00\"),VLOOKUP(Sheet1!R98,Sheet2!$A$2:$C$44,2,FALSE)&TEXT(Sheet1!S98,\"00\")&TEXT(Sheet1!T98,\"00\")&IF(Sheet1!V98=\"手\",TEXT(Sheet1!U98,\"0\"),TEXT(Sheet1!U98,\"00\"))))","v":""},{"$f":"IF(Sheet1!W98=\"\",\"\",IF(VLOOKUP(Sheet1!W98,Sheet2!$A$2:$C$44,3,FALSE)>=71,VLOOKUP(Sheet1!W98,Sheet2!$A$2:$C$44,2,FALSE)&TEXT(Sheet1!Y98,\"00\")&TEXT(Sheet1!Z98,\"00\"),VLOOKUP(Sheet1!W98,Sheet2!$A$2:$C$44,2,FALSE)&TEXT(Sheet1!X98,\"00\")&TEXT(Sheet1!Y98,\"00\")&IF(Sheet1!AA98=\"手\",TEXT(Sheet1!Z98,\"0\"),TEXT(Sheet1!Z98,\"00\"))))","v":""},{"$f":"IF(Sheet1!AD98=\"\",\"\",\"●\")","v":""},{"$f":"IF(Sheet1!AE98=\"\",\"\",\"▲\")","v":""},{"$f":"IF(Sheet1!AF98=\"\",\"\",\"★\")","v":""},{"$f":"IF(Sheet1!AG98=\"\",\"\",\"▼\")","v":""}]
["",{"$f":"ASC(IF(Sheet1!C99=\"\",\"\",IF(LEN(Sheet1!C99)+LEN(Sheet1!D99)=2,Sheet1!C99&\"      \"&Sheet1!D99&\"(\"&Sheet1!I99&\")\",IF(LEN(Sheet1!C99)+LEN(Sheet1!D99)=3,Sheet1!C99&\"    \"&Sheet1!D99&\"(\"&Sheet1!I99&\")\",IF(LEN(Sheet1!C99)+LEN(Sheet1!D99)=4,Sheet1!C99&\"  \"&Sheet1!D99&\"(\"&Sheet1!I99&\")\",IF(LEN(Sheet1!C99)+LEN(Sheet1!D99)>=5,Sheet1!C99&Sheet1!D99&\"(\"&Sheet1!I99&\")\",\"\"))))))","v":""},{"$f":"ASC(IF(Sheet1!E99=\"\",\"\",Sheet1!E99&\" \"&Sheet1!F99))","v":""},{"$f":"ASC(IF(Sheet1!G99=\"\",\"\",UPPER(Sheet1!G99)&\" \"&PROPER(Sheet1!H99)&\"(\"&Sheet1!I99&\")\"))","v":""},{"$f":"IF(Sheet1!J99=\"\",\"\",IF(Sheet1!J99=\"女\",2,1))","v":""},{"$f":"IF(Sheet1!K99=\"\",\"\",VLOOKUP(Sheet1!K99,Sheet2!$F$2:$G$50,2,FALSE))","v":""},{"$f":"IF(Sheet1!L99=\"\",\"\",(Sheet1!L99))","v":""},{"$f":"IF(B86=\"\",\"\",VALUE(LEFT(Sheet1!E$4,6)))","v":""},{"$f":"IF(Sheet1!B99=\"\",\"\",VALUE(Sheet1!B99))","v":""},{"$f":"IF(Sheet1!M99=\"\",\"\",IF(VLOOKUP(Sheet1!M99,Sheet2!$A$2:$C$44,3,FALSE)>=71,VLOOKUP(Sheet1!M99,Sheet2!$A$2:$C$44,2,FALSE)&TEXT(Sheet1!O99,\"00\")&TEXT(Sheet1!P99,\"00\"),VLOOKUP(Sheet1!M99,Sheet2!$A$2:$C$44,2,FALSE)&TEXT(Sheet1!N99,\"00\")&TEXT(Sheet1!O99,\"00\")&IF(Sheet1!Q99=\"手\",TEXT(Sheet1!P99,\"0\"),TEXT(Sheet1!P99,\"00\"))))","v":""},{"$f":"IF(Sheet1!R99=\"\",\"\",IF(VLOOKUP(Sheet1!R99,Sheet2!$A$2:$C$44,3,FALSE)>=71,VLOOKUP(Sheet1!R99,Sheet2!$A$2:$C$44,2,FALSE)&TEXT(Sheet1!T99,\"00\")&TEXT(Sheet1!U99,\"00\"),VLOOKUP(Sheet1!R99,Sheet2!$A$2:$C$44,2,FALSE)&TEXT(Sheet1!S99,\"00\")&TEXT(Sheet1!T99,\"00\")&IF(Sheet1!V99=\"手\",TEXT(Sheet1!U99,\"0\"),TEXT(Sheet1!U99,\"00\"))))","v":""},{"$f":"IF(Sheet1!W99=\"\",\"\",IF(VLOOKUP(Sheet1!W99,Sheet2!$A$2:$C$44,3,FALSE)>=71,VLOOKUP(Sheet1!W99,Sheet2!$A$2:$C$44,2,FALSE)&TEXT(Sheet1!Y99,\"00\")&TEXT(Sheet1!Z99,\"00\"),VLOOKUP(Sheet1!W99,Sheet2!$A$2:$C$44,2,FALSE)&TEXT(Sheet1!X99,\"00\")&TEXT(Sheet1!Y99,\"00\")&IF(Sheet1!AA99=\"手\",TEXT(Sheet1!Z99,\"0\"),TEXT(Sheet1!Z99,\"00\"))))","v":""},{"$f":"IF(Sheet1!AD99=\"\",\"\",\"●\")","v":""},{"$f":"IF(Sheet1!AE99=\"\",\"\",\"▲\")","v":""},{"$f":"IF(Sheet1!AF99=\"\",\"\",\"★\")","v":""},{"$f":"IF(Sheet1!AG99=\"\",\"\",\"▼\")","v":""}]
["",{"$f":"ASC(IF(Sheet1!C100=\"\",\"\",IF(LEN(Sheet1!C100)+LEN(Sheet1!D100)=2,Sheet1!C100&\"      \"&Sheet1!D100&\"(\"&Sheet1!I100&\")\",IF(LEN(Sheet1!C100)+LEN(Sheet1!D100)=3,Sheet1!C100&\"    \"&Sheet1!D100&\"(\"&Sheet1!I100&\")\",IF(LEN(Sheet1!C100)+LEN(Sheet1!D100)=4,Sheet1!C100&\"  \"&Sheet1!D100&\"(\"&Sheet1!I100&\")\",IF(LEN(Sheet1!C100)+LEN(Sheet1!D100)>=5,Sheet1!C100&Sheet1!D100&\"(\"&Sheet1!I100&\")\",\"\"))))))","v":""},{"$f":"ASC(IF(Sheet1!E100=\"\",\"\",Sheet1!E100&\" \"&Sheet1!F100))","v":""},{"$f":"ASC(IF(Sheet1!G100=\"\",\"\",UPPER(Sheet1!G100)&\" \"&PROPER(Sheet1!H100)&\"(\"&Sheet1!I100&\")\"))","v":""},{"$f":"IF(Sheet1!J100=\"\",\"\",IF(Sheet1!J100=\"女\",2,1))","v":""},{"$f":"IF(Sheet1!K100=\"\",\"\",VLOOKUP(Sheet1!K100,Sheet2!$F$2:$G$50,2,FALSE))","v":""},{"$f":"IF(Sheet1!L100=\"\",\"\",(Sheet1!L100))","v":""},{"$f":"IF(B87=\"\",\"\",VALUE(LEFT(Sheet1!E$4,6)))","v":""},{"$f":"IF(Sheet1!B100=\"\",\"\",VALUE(Sheet1!B100))","v":""},{"$f":"IF(Sheet1!M100=\"\",\"\",IF(VLOOKUP(Sheet1!M100,Sheet2!$A$2:$C$44,3,FALSE)>=71,VLOOKUP(Sheet1!M100,Sheet2!$A$2:$C$44,2,FALSE)&TEXT(Sheet1!O100,\"00\")&TEXT(Sheet1!P100,\"00\"),VLOOKUP(Sheet1!M100,Sheet2!$A$2:$C$44,2,FALSE)&TEXT(Sheet1!N100,\"00\")&TEXT(Sheet1!O100,\"00\")&IF(Sheet1!Q100=\"手\",TEXT(Sheet1!P100,\"0\"),TEXT(Sheet1!P100,\"00\"))))","v":""},{"$f":"IF(Sheet1!R100=\"\",\"\",IF(VLOOKUP(Sheet1!R100,Sheet2!$A$2:$C$44,3,FALSE)>=71,VLOOKUP(Sheet1!R100,Sheet2!$A$2:$C$44,2,FALSE)&TEXT(Sheet1!T100,\"00\")&TEXT(Sheet1!U100,\"00\"),VLOOKUP(Sheet1!R100,Sheet2!$A$2:$C$44,2,FALSE)&TEXT(Sheet1!S100,\"00\")&TEXT(Sheet1!T100,\"00\")&IF(Sheet1!V100=\"手\",TEXT(Sheet1!U100,\"0\"),TEXT(Sheet1!U100,\"00\"))))","v":""},{"$f":"IF(Sheet1!W100=\"\",\"\",IF(VLOOKUP(Sheet1!W100,Sheet2!$A$2:$C$44,3,FALSE)>=71,VLOOKUP(Sheet1!W100,Sheet2!$A$2:$C$44,2,FALSE)&TEXT(Sheet1!Y100,\"00\")&TEXT(Sheet1!Z100,\"00\"),VLOOKUP(Sheet1!W100,Sheet2!$A$2:$C$44,2,FALSE)&TEXT(Sheet1!X100,\"00\")&TEXT(Sheet1!Y100,\"00\")&IF(Sheet1!AA100=\"手\",TEXT(Sheet1!Z100,\"0\"),TEXT(Sheet1!Z100,\"00\"))))","v":""},{"$f":"IF(Sheet1!AD100=\"\",\"\",\"●\")","v":""},{"$f":"IF(Sheet1!AE100=\"\",\"\",\"▲\")","v":""},{"$f":"IF(Sheet1!AF100=\"\",\"\",\"★\")","v":""},{"$f":"IF(Sheet1!AG100=\"\",\"\",\"▼\")","v":""}]
["",{"$f":"ASC(IF(Sheet1!C101=\"\",\"\",IF(LEN(Sheet1!C101)+LEN(Sheet1!D101)=2,Sheet1!C101&\"      \"&Sheet1!D101&\"(\"&Sheet1!I101&\")\",IF(LEN(Sheet1!C101)+LEN(Sheet1!D101)=3,Sheet1!C101&\"    \"&Sheet1!D101&\"(\"&Sheet1!I101&\")\",IF(LEN(Sheet1!C101)+LEN(Sheet1!D101)=4,Sheet1!C101&\"  \"&Sheet1!D101&\"(\"&Sheet1!I101&\")\",IF(LEN(Sheet1!C101)+LEN(Sheet1!D101)>=5,Sheet1!C101&Sheet1!D101&\"(\"&Sheet1!I101&\")\",\"\"))))))","v":""},{"$f":"ASC(IF(Sheet1!E101=\"\",\"\",Sheet1!E101&\" \"&Sheet1!F101))","v":""},{"$f":"ASC(IF(Sheet1!G101=\"\",\"\",UPPER(Sheet1!G101)&\" \"&PROPER(Sheet1!H101)&\"(\"&Sheet1!I101&\")\"))","v":""},{"$f":"IF(Sheet1!J101=\"\",\"\",IF(Sheet1!J101=\"女\",2,1))","v":""},{"$f":"IF(Sheet1!K101=\"\",\"\",VLOOKUP(Sheet1!K101,Sheet2!$F$2:$G$50,2,FALSE))","v":""},{"$f":"IF(Sheet1!L101=\"\",\"\",(Sheet1!L101))","v":""},{"$f":"IF(B88=\"\",\"\",VALUE(LEFT(Sheet1!E$4,6)))","v":""},{"$f":"IF(Sheet1!B101=\"\",\"\",VALUE(Sheet1!B101))","v":""},{"$f":"IF(Sheet1!M101=\"\",\"\",IF(VLOOKUP(Sheet1!M101,Sheet2!$A$2:$C$44,3,FALSE)>=71,VLOOKUP(Sheet1!M101,Sheet2!$A$2:$C$44,2,FALSE)&TEXT(Sheet1!O101,\"00\")&TEXT(Sheet1!P101,\"00\"),VLOOKUP(Sheet1!M101,Sheet2!$A$2:$C$44,2,FALSE)&TEXT(Sheet1!N101,\"00\")&TEXT(Sheet1!O101,\"00\")&IF(Sheet1!Q101=\"手\",TEXT(Sheet1!P101,\"0\"),TEXT(Sheet1!P101,\"00\"))))","v":""},{"$f":"IF(Sheet1!R101=\"\",\"\",IF(VLOOKUP(Sheet1!R101,Sheet2!$A$2:$C$44,3,FALSE)>=71,VLOOKUP(Sheet1!R101,Sheet2!$A$2:$C$44,2,FALSE)&TEXT(Sheet1!T101,\"00\")&TEXT(Sheet1!U101,\"00\"),VLOOKUP(Sheet1!R101,Sheet2!$A$2:$C$44,2,FALSE)&TEXT(Sheet1!S101,\"00\")&TEXT(Sheet1!T101,\"00\")&IF(Sheet1!V101=\"手\",TEXT(Sheet1!U101,\"0\"),TEXT(Sheet1!U101,\"00\"))))","v":""},{"$f":"IF(Sheet1!W101=\"\",\"\",IF(VLOOKUP(Sheet1!W101,Sheet2!$A$2:$C$44,3,FALSE)>=71,VLOOKUP(Sheet1!W101,Sheet2!$A$2:$C$44,2,FALSE)&TEXT(Sheet1!Y101,\"00\")&TEXT(Sheet1!Z101,\"00\"),VLOOKUP(Sheet1!W101,Sheet2!$A$2:$C$44,2,FALSE)&TEXT(Sheet1!X101,\"00\")&TEXT(Sheet1!Y101,\"00\")&IF(Sheet1!AA101=\"手\",TEXT(Sheet1!Z101,\"0\"),TEXT(Sheet1!Z101,\"00\"))))","v":""},{"$f":"IF(Sheet1!AD101=\"\",\"\",\"●\")","v":""},{"$f":"IF(Sheet1!AE101=\"\",\"\",\"▲\")","v":""},{"$f":"IF(Sheet1!AF101=\"\",\"\",\"★\")","v":""},{"$f":"IF(Sheet1!AG101=\"\",\"\",\"▼\")","v":""}]
["",{"$f":"ASC(IF(Sheet1!C102=\"\",\"\",IF(LEN(Sheet1!C102)+LEN(Sheet1!D102)=2,Sheet1!C102&\"      \"&Sheet1!D102&\"(\"&Sheet1!I102&\")\",IF(LEN(Sheet1!C102)+LEN(Sheet1!D102)=3,Sheet1!C102&\"    \"&Sheet1!D102&\"(\"&Sheet1!I102&\")\",IF(LEN(Sheet1!C102)+LEN(Sheet1!D102)=4,Sheet1!C102&\"  \"&Sheet1!D102&\"(\"&Sheet1!I102&\")\",IF(LEN(Sheet1!C102)+LEN(Sheet1!D102)>=5,Sheet1!C102&Sheet1!D102&\"(\"&Sheet1!I102&\")\",\"\"))))))","v":""},{"$f":"ASC(IF(Sheet1!E102=\"\",\"\",Sheet1!E102&\" \"&Sheet1!F102))","v":""},{"$f":"ASC(IF(Sheet1!G102=\"\",\"\",UPPER(Sheet1!G102)&\" \"&PROPER(Sheet1!H102)&\"(\"&Sheet1!I102&\")\"))","v":""},{"$f":"IF(Sheet1!J102=\"\",\"\",IF(Sheet1!J102=\"女\",2,1))","v":""},{"$f":"IF(Sheet1!K102=\"\",\"\",VLOOKUP(Sheet1!K102,Sheet2!$F$2:$G$50,2,FALSE))","v":""},{"$f":"IF(Sheet1!L102=\"\",\"\",(Sheet1!L102))","v":""},{"$f":"IF(B89=\"\",\"\",VALUE(LEFT(Sheet1!E$4,6)))","v":""},{"$f":"IF(Sheet1!B102=\"\",\"\",VALUE(Sheet1!B102))","v":""},{"$f":"IF(Sheet1!M102=\"\",\"\",IF(VLOOKUP(Sheet1!M102,Sheet2!$A$2:$C$44,3,FALSE)>=71,VLOOKUP(Sheet1!M102,Sheet2!$A$2:$C$44,2,FALSE)&TEXT(Sheet1!O102,\"00\")&TEXT(Sheet1!P102,\"00\"),VLOOKUP(Sheet1!M102,Sheet2!$A$2:$C$44,2,FALSE)&TEXT(Sheet1!N102,\"00\")&TEXT(Sheet1!O102,\"00\")&IF(Sheet1!Q102=\"手\",TEXT(Sheet1!P102,\"0\"),TEXT(Sheet1!P102,\"00\"))))","v":""},{"$f":"IF(Sheet1!R102=\"\",\"\",IF(VLOOKUP(Sheet1!R102,Sheet2!$A$2:$C$44,3,FALSE)>=71,VLOOKUP(Sheet1!R102,Sheet2!$A$2:$C$44,2,FALSE)&TEXT(Sheet1!T102,\"00\")&TEXT(Sheet1!U102,\"00\"),VLOOKUP(Sheet1!R102,Sheet2!$A$2:$C$44,2,FALSE)&TEXT(Sheet1!S102,\"00\")&TEXT(Sheet1!T102,\"00\")&IF(Sheet1!V102=\"手\",TEXT(Sheet1!U102,\"0\"),TEXT(Sheet1!U102,\"00\"))))","v":""},{"$f":"IF(Sheet1!W102=\"\",\"\",IF(VLOOKUP(Sheet1!W102,Sheet2!$A$2:$C$44,3,FALSE)>=71,VLOOKUP(Sheet1!W102,Sheet2!$A$2:$C$44,2,FALSE)&TEXT(Sheet1!Y102,\"00\")&TEXT(Sheet1!Z102,\"00\"),VLOOKUP(Sheet1!W102,Sheet2!$A$2:$C$44,2,FALSE)&TEXT(Sheet1!X102,\"00\")&TEXT(Sheet1!Y102,\"00\")&IF(Sheet1!AA102=\"手\",TEXT(Sheet1!Z102,\"0\"),TEXT(Sheet1!Z102,\"00\"))))","v":""},{"$f":"IF(Sheet1!AD102=\"\",\"\",\"●\")","v":""},{"$f":"IF(Sheet1!AE102=\"\",\"\",\"▲\")","v":""},{"$f":"IF(Sheet1!AF102=\"\",\"\",\"★\")","v":""},{"$f":"IF(Sheet1!AG102=\"\",\"\",\"▼\")","v":""}]
["",{"$f":"ASC(IF(Sheet1!C103=\"\",\"\",IF(LEN(Sheet1!C103)+LEN(Sheet1!D103)=2,Sheet1!C103&\"      \"&Sheet1!D103&\"(\"&Sheet1!I103&\")\",IF(LEN(Sheet1!C103)+LEN(Sheet1!D103)=3,Sheet1!C103&\"    \"&Sheet1!D103&\"(\"&Sheet1!I103&\")\",IF(LEN(Sheet1!C103)+LEN(Sheet1!D103)=4,Sheet1!C103&\"  \"&Sheet1!D103&\"(\"&Sheet1!I103&\")\",IF(LEN(Sheet1!C103)+LEN(Sheet1!D103)>=5,Sheet1!C103&Sheet1!D103&\"(\"&Sheet1!I103&\")\",\"\"))))))","v":""},{"$f":"ASC(IF(Sheet1!E103=\"\",\"\",Sheet1!E103&\" \"&Sheet1!F103))","v":""},{"$f":"ASC(IF(Sheet1!G103=\"\",\"\",UPPER(Sheet1!G103)&\" \"&PROPER(Sheet1!H103)&\"(\"&Sheet1!I103&\")\"))","v":""},{"$f":"IF(Sheet1!J103=\"\",\"\",IF(Sheet1!J103=\"女\",2,1))","v":""},{"$f":"IF(Sheet1!K103=\"\",\"\",VLOOKUP(Sheet1!K103,Sheet2!$F$2:$G$50,2,FALSE))","v":""},{"$f":"IF(Sheet1!L103=\"\",\"\",(Sheet1!L103))","v":""},{"$f":"IF(B90=\"\",\"\",VALUE(LEFT(Sheet1!E$4,6)))","v":""},{"$f":"IF(Sheet1!B103=\"\",\"\",VALUE(Sheet1!B103))","v":""},{"$f":"IF(Sheet1!M103=\"\",\"\",IF(VLOOKUP(Sheet1!M103,Sheet2!$A$2:$C$44,3,FALSE)>=71,VLOOKUP(Sheet1!M103,Sheet2!$A$2:$C$44,2,FALSE)&TEXT(Sheet1!O103,\"00\")&TEXT(Sheet1!P103,\"00\"),VLOOKUP(Sheet1!M103,Sheet2!$A$2:$C$44,2,FALSE)&TEXT(Sheet1!N103,\"00\")&TEXT(Sheet1!O103,\"00\")&IF(Sheet1!Q103=\"手\",TEXT(Sheet1!P103,\"0\"),TEXT(Sheet1!P103,\"00\"))))","v":""},{"$f":"IF(Sheet1!R103=\"\",\"\",IF(VLOOKUP(Sheet1!R103,Sheet2!$A$2:$C$44,3,FALSE)>=71,VLOOKUP(Sheet1!R103,Sheet2!$A$2:$C$44,2,FALSE)&TEXT(Sheet1!T103,\"00\")&TEXT(Sheet1!U103,\"00\"),VLOOKUP(Sheet1!R103,Sheet2!$A$2:$C$44,2,FALSE)&TEXT(Sheet1!S103,\"00\")&TEXT(Sheet1!T103,\"00\")&IF(Sheet1!V103=\"手\",TEXT(Sheet1!U103,\"0\"),TEXT(Sheet1!U103,\"00\"))))","v":""},{"$f":"IF(Sheet1!W103=\"\",\"\",IF(VLOOKUP(Sheet1!W103,Sheet2!$A$2:$C$44,3,FALSE)>=71,VLOOKUP(Sheet1!W103,Sheet2!$A$2:$C$44,2,FALSE)&TEXT(Sheet1!Y103,\"00\")&TEXT(Sheet1!Z103,\"00\"),VLOOKUP(Sheet1!W103,Sheet2!$A$2:$C$44,2,FALSE)&TEXT(Sheet1!X103,\"00\")&TEXT(Sheet1!Y103,\"00\")&IF(Sheet1!AA103=\"手\",TEXT(Sheet1!Z103,\"0\"),TEXT(Sheet1!Z103,\"00\"))))","v":""},{"$f":"IF(Sheet1!AD103=\"\",\"\",\"●\")","v":""},{"$f":"IF(Sheet1!AE103=\"\",\"\",\"▲\")","v":""},{"$f":"IF(Sheet1!AF103=\"\",\"\",\"★\")","v":""},{"$f":"IF(Sheet1!AG103=\"\",\"\",\"▼\")","v":""}]
["",{"$f":"ASC(IF(Sheet1!C104=\"\",\"\",IF(LEN(Sheet1!C104)+LEN(Sheet1!D104)=2,Sheet1!C104&\"      \"&Sheet1!D104&\"(\"&Sheet1!I104&\")\",IF(LEN(Sheet1!C104)+LEN(Sheet1!D104)=3,Sheet1!C104&\"    \"&Sheet1!D104&\"(\"&Sheet1!I104&\")\",IF(LEN(Sheet1!C104)+LEN(Sheet1!D104)=4,Sheet1!C104&\"  \"&Sheet1!D104&\"(\"&Sheet1!I104&\")\",IF(LEN(Sheet1!C104)+LEN(Sheet1!D104)>=5,Sheet1!C104&Sheet1!D104&\"(\"&Sheet1!I104&\")\",\"\"))))))","v":""},{"$f":"ASC(IF(Sheet1!E104=\"\",\"\",Sheet1!E104&\" \"&Sheet1!F104))","v":""},{"$f":"ASC(IF(Sheet1!G104=\"\",\"\",UPPER(Sheet1!G104)&\" \"&PROPER(Sheet1!H104)&\"(\"&Sheet1!I104&\")\"))","v":""},{"$f":"IF(Sheet1!J104=\"\",\"\",IF(Sheet1!J104=\"女\",2,1))","v":""},{"$f":"IF(Sheet1!K104=\"\",\"\",VLOOKUP(Sheet1!K104,Sheet2!$F$2:$G$50,2,FALSE))","v":""},{"$f":"IF(Sheet1!L104=\"\",\"\",(Sheet1!L104))","v":""},{"$f":"IF(B91=\"\",\"\",VALUE(LEFT(Sheet1!E$4,6)))","v":""},{"$f":"IF(Sheet1!B104=\"\",\"\",VALUE(Sheet1!B104))","v":""},{"$f":"IF(Sheet1!M104=\"\",\"\",IF(VLOOKUP(Sheet1!M104,Sheet2!$A$2:$C$44,3,FALSE)>=71,VLOOKUP(Sheet1!M104,Sheet2!$A$2:$C$44,2,FALSE)&TEXT(Sheet1!O104,\"00\")&TEXT(Sheet1!P104,\"00\"),VLOOKUP(Sheet1!M104,Sheet2!$A$2:$C$44,2,FALSE)&TEXT(Sheet1!N104,\"00\")&TEXT(Sheet1!O104,\"00\")&IF(Sheet1!Q104=\"手\",TEXT(Sheet1!P104,\"0\"),TEXT(Sheet1!P104,\"00\"))))","v":""},{"$f":"IF(Sheet1!R104=\"\",\"\",IF(VLOOKUP(Sheet1!R104,Sheet2!$A$2:$C$44,3,FALSE)>=71,VLOOKUP(Sheet1!R104,Sheet2!$A$2:$C$44,2,FALSE)&TEXT(Sheet1!T104,\"00\")&TEXT(Sheet1!U104,\"00\"),VLOOKUP(Sheet1!R104,Sheet2!$A$2:$C$44,2,FALSE)&TEXT(Sheet1!S104,\"00\")&TEXT(Sheet1!T104,\"00\")&IF(Sheet1!V104=\"手\",TEXT(Sheet1!U104,\"0\"),TEXT(Sheet1!U104,\"00\"))))","v":""},{"$f":"IF(Sheet1!W104=\"\",\"\",IF(VLOOKUP(Sheet1!W104,Sheet2!$A$2:$C$44,3,FALSE)>=71,VLOOKUP(Sheet1!W104,Sheet2!$A$2:$C$44,2,FALSE)&TEXT(Sheet1!Y104,\"00\")&TEXT(Sheet1!Z104,\"00\"),VLOOKUP(Sheet1!W104,Sheet2!$A$2:$C$44,2,FALSE)&TEXT(Sheet1!X104,\"00\")&TEXT(Sheet1!Y104,\"00\")&IF(Sheet1!AA104=\"手\",TEXT(Sheet1!Z104,\"0\"),TEXT(Sheet1!Z104,\"00\"))))","v":""},{"$f":"IF(Sheet1!AD104=\"\",\"\",\"●\")","v":""},{"$f":"IF(Sheet1!AE104=\"\",\"\",\"▲\")","v":""},{"$f":"IF(Sheet1!AF104=\"\",\"\",\"★\")","v":""},{"$f":"IF(Sheet1!AG104=\"\",\"\",\"▼\")","v":""}]
["",{"$f":"ASC(IF(Sheet1!C105=\"\",\"\",IF(LEN(Sheet1!C105)+LEN(Sheet1!D105)=2,Sheet1!C105&\"      \"&Sheet1!D105&\"(\"&Sheet1!I105&\")\",IF(LEN(Sheet1!C105)+LEN(Sheet1!D105)=3,Sheet1!C105&\"    \"&Sheet1!D105&\"(\"&Sheet1!I105&\")\",IF(LEN(Sheet1!C105)+LEN(Sheet1!D105)=4,Sheet1!C105&\"  \"&Sheet1!D105&\"(\"&Sheet1!I105&\")\",IF(LEN(Sheet1!C105)+LEN(Sheet1!D105)>=5,Sheet1!C105&Sheet1!D105&\"(\"&Sheet1!I105&\")\",\"\"))))))","v":""},{"$f":"ASC(IF(Sheet1!E105=\"\",\"\",Sheet1!E105&\" \"&Sheet1!F105))","v":""},{"$f":"ASC(IF(Sheet1!G105=\"\",\"\",UPPER(Sheet1!G105)&\" \"&PROPER(Sheet1!H105)&\"(\"&Sheet1!I105&\")\"))","v":""},{"$f":"IF(Sheet1!J105=\"\",\"\",IF(Sheet1!J105=\"女\",2,1))","v":""},{"$f":"IF(Sheet1!K105=\"\",\"\",VLOOKUP(Sheet1!K105,Sheet2!$F$2:$G$50,2,FALSE))","v":""},{"$f":"IF(Sheet1!L105=\"\",\"\",(Sheet1!L105))","v":""},{"$f":"IF(B92=\"\",\"\",VALUE(LEFT(Sheet1!E$4,6)))","v":""},{"$f":"IF(Sheet1!B105=\"\",\"\",VALUE(Sheet1!B105))","v":""},{"$f":"IF(Sheet1!M105=\"\",\"\",IF(VLOOKUP(Sheet1!M105,Sheet2!$A$2:$C$44,3,FALSE)>=71,VLOOKUP(Sheet1!M105,Sheet2!$A$2:$C$44,2,FALSE)&TEXT(Sheet1!O105,\"00\")&TEXT(Sheet1!P105,\"00\"),VLOOKUP(Sheet1!M105,Sheet2!$A$2:$C$44,2,FALSE)&TEXT(Sheet1!N105,\"00\")&TEXT(Sheet1!O105,\"00\")&IF(Sheet1!Q105=\"手\",TEXT(Sheet1!P105,\"0\"),TEXT(Sheet1!P105,\"00\"))))","v":""},{"$f":"IF(Sheet1!R105=\"\",\"\",IF(VLOOKUP(Sheet1!R105,Sheet2!$A$2:$C$44,3,FALSE)>=71,VLOOKUP(Sheet1!R105,Sheet2!$A$2:$C$44,2,FALSE)&TEXT(Sheet1!T105,\"00\")&TEXT(Sheet1!U105,\"00\"),VLOOKUP(Sheet1!R105,Sheet2!$A$2:$C$44,2,FALSE)&TEXT(Sheet1!S105,\"00\")&TEXT(Sheet1!T105,\"00\")&IF(Sheet1!V105=\"手\",TEXT(Sheet1!U105,\"0\"),TEXT(Sheet1!U105,\"00\"))))","v":""},{"$f":"IF(Sheet1!W105=\"\",\"\",IF(VLOOKUP(Sheet1!W105,Sheet2!$A$2:$C$44,3,FALSE)>=71,VLOOKUP(Sheet1!W105,Sheet2!$A$2:$C$44,2,FALSE)&TEXT(Sheet1!Y105,\"00\")&TEXT(Sheet1!Z105,\"00\"),VLOOKUP(Sheet1!W105,Sheet2!$A$2:$C$44,2,FALSE)&TEXT(Sheet1!X105,\"00\")&TEXT(Sheet1!Y105,\"00\")&IF(Sheet1!AA105=\"手\",TEXT(Sheet1!Z105,\"0\"),TEXT(Sheet1!Z105,\"00\"))))","v":""},{"$f":"IF(Sheet1!AD105=\"\",\"\",\"●\")","v":""},{"$f":"IF(Sheet1!AE105=\"\",\"\",\"▲\")","v":""},{"$f":"IF(Sheet1!AF105=\"\",\"\",\"★\")","v":""},{"$f":"IF(Sheet1!AG105=\"\",\"\",\"▼\")","v":""}]
["",{"$f":"ASC(IF(Sheet1!C106=\"\",\"\",IF(LEN(Sheet1!C106)+LEN(Sheet1!D106)=2,Sheet1!C106&\"      \"&Sheet1!D106&\"(\"&Sheet1!I106&\")\",IF(LEN(Sheet1!C106)+LEN(Sheet1!D106)=3,Sheet1!C106&\"    \"&Sheet1!D106&\"(\"&Sheet1!I106&\")\",IF(LEN(Sheet1!C106)+LEN(Sheet1!D106)=4,Sheet1!C106&\"  \"&Sheet1!D106&\"(\"&Sheet1!I106&\")\",IF(LEN(Sheet1!C106)+LEN(Sheet1!D106)>=5,Sheet1!C106&Sheet1!D106&\"(\"&Sheet1!I106&\")\",\"\"))))))","v":""},{"$f":"ASC(IF(Sheet1!E106=\"\",\"\",Sheet1!E106&\" \"&Sheet1!F106))","v":""},{"$f":"ASC(IF(Sheet1!G106=\"\",\"\",UPPER(Sheet1!G106)&\" \"&PROPER(Sheet1!H106)&\"(\"&Sheet1!I106&\")\"))","v":""},{"$f":"IF(Sheet1!J106=\"\",\"\",IF(Sheet1!J106=\"女\",2,1))","v":""},{"$f":"IF(Sheet1!K106=\"\",\"\",VLOOKUP(Sheet1!K106,Sheet2!$F$2:$G$50,2,FALSE))","v":""},{"$f":"IF(Sheet1!L106=\"\",\"\",(Sheet1!L106))","v":""},{"$f":"IF(B93=\"\",\"\",VALUE(LEFT(Sheet1!E$4,6)))","v":""},{"$f":"IF(Sheet1!B106=\"\",\"\",VALUE(Sheet1!B106))","v":""},{"$f":"IF(Sheet1!M106=\"\",\"\",IF(VLOOKUP(Sheet1!M106,Sheet2!$A$2:$C$44,3,FALSE)>=71,VLOOKUP(Sheet1!M106,Sheet2!$A$2:$C$44,2,FALSE)&TEXT(Sheet1!O106,\"00\")&TEXT(Sheet1!P106,\"00\"),VLOOKUP(Sheet1!M106,Sheet2!$A$2:$C$44,2,FALSE)&TEXT(Sheet1!N106,\"00\")&TEXT(Sheet1!O106,\"00\")&IF(Sheet1!Q106=\"手\",TEXT(Sheet1!P106,\"0\"),TEXT(Sheet1!P106,\"00\"))))","v":""},{"$f":"IF(Sheet1!R106=\"\",\"\",IF(VLOOKUP(Sheet1!R106,Sheet2!$A$2:$C$44,3,FALSE)>=71,VLOOKUP(Sheet1!R106,Sheet2!$A$2:$C$44,2,FALSE)&TEXT(Sheet1!T106,\"00\")&TEXT(Sheet1!U106,\"00\"),VLOOKUP(Sheet1!R106,Sheet2!$A$2:$C$44,2,FALSE)&TEXT(Sheet1!S106,\"00\")&TEXT(Sheet1!T106,\"00\")&IF(Sheet1!V106=\"手\",TEXT(Sheet1!U106,\"0\"),TEXT(Sheet1!U106,\"00\"))))","v":""},{"$f":"IF(Sheet1!W106=\"\",\"\",IF(VLOOKUP(Sheet1!W106,Sheet2!$A$2:$C$44,3,FALSE)>=71,VLOOKUP(Sheet1!W106,Sheet2!$A$2:$C$44,2,FALSE)&TEXT(Sheet1!Y106,\"00\")&TEXT(Sheet1!Z106,\"00\"),VLOOKUP(Sheet1!W106,Sheet2!$A$2:$C$44,2,FALSE)&TEXT(Sheet1!X106,\"00\")&TEXT(Sheet1!Y106,\"00\")&IF(Sheet1!AA106=\"手\",TEXT(Sheet1!Z106,\"0\"),TEXT(Sheet1!Z106,\"00\"))))","v":""},{"$f":"IF(Sheet1!AD106=\"\",\"\",\"●\")","v":""},{"$f":"IF(Sheet1!AE106=\"\",\"\",\"▲\")","v":""},{"$f":"IF(Sheet1!AF106=\"\",\"\",\"★\")","v":""},{"$f":"IF(Sheet1!AG106=\"\",\"\",\"▼\")","v":""}]
["",{"$f":"ASC(IF(Sheet1!C107=\"\",\"\",IF(LEN(Sheet1!C107)+LEN(Sheet1!D107)=2,Sheet1!C107&\"      \"&Sheet1!D107&\"(\"&Sheet1!I107&\")\",IF(LEN(Sheet1!C107)+LEN(Sheet1!D107)=3,Sheet1!C107&\"    \"&Sheet1!D107&\"(\"&Sheet1!I107&\")\",IF(LEN(Sheet1!C107)+LEN(Sheet1!D107)=4,Sheet1!C107&\"  \"&Sheet1!D107&\"(\"&Sheet1!I107&\")\",IF(LEN(Sheet1!C107)+LEN(Sheet1!D107)>=5,Sheet1!C107&Sheet1!D107&\"(\"&Sheet1!I107&\")\",\"\"))))))","v":""},{"$f":"ASC(IF(Sheet1!E107=\"\",\"\",Sheet1!E107&\" \"&Sheet1!F107))","v":""},{"$f":"ASC(IF(Sheet1!G107=\"\",\"\",UPPER(Sheet1!G107)&\" \"&PROPER(Sheet1!H107)&\"(\"&Sheet1!I107&\")\"))","v":""},{"$f":"IF(Sheet1!J107=\"\",\"\",IF(Sheet1!J107=\"女\",2,1))","v":""},{"$f":"IF(Sheet1!K107=\"\",\"\",VLOOKUP(Sheet1!K107,Sheet2!$F$2:$G$50,2,FALSE))","v":""},{"$f":"IF(Sheet1!L107=\"\",\"\",(Sheet1!L107))","v":""},{"$f":"IF(B94=\"\",\"\",VALUE(LEFT(Sheet1!E$4,6)))","v":""},{"$f":"IF(Sheet1!B107=\"\",\"\",VALUE(Sheet1!B107))","v":""},{"$f":"IF(Sheet1!M107=\"\",\"\",IF(VLOOKUP(Sheet1!M107,Sheet2!$A$2:$C$44,3,FALSE)>=71,VLOOKUP(Sheet1!M107,Sheet2!$A$2:$C$44,2,FALSE)&TEXT(Sheet1!O107,\"00\")&TEXT(Sheet1!P107,\"00\"),VLOOKUP(Sheet1!M107,Sheet2!$A$2:$C$44,2,FALSE)&TEXT(Sheet1!N107,\"00\")&TEXT(Sheet1!O107,\"00\")&IF(Sheet1!Q107=\"手\",TEXT(Sheet1!P107,\"0\"),TEXT(Sheet1!P107,\"00\"))))","v":""},{"$f":"IF(Sheet1!R107=\"\",\"\",IF(VLOOKUP(Sheet1!R107,Sheet2!$A$2:$C$44,3,FALSE)>=71,VLOOKUP(Sheet1!R107,Sheet2!$A$2:$C$44,2,FALSE)&TEXT(Sheet1!T107,\"00\")&TEXT(Sheet1!U107,\"00\"),VLOOKUP(Sheet1!R107,Sheet2!$A$2:$C$44,2,FALSE)&TEXT(Sheet1!S107,\"00\")&TEXT(Sheet1!T107,\"00\")&IF(Sheet1!V107=\"手\",TEXT(Sheet1!U107,\"0\"),TEXT(Sheet1!U107,\"00\"))))","v":""},{"$f":"IF(Sheet1!W107=\"\",\"\",IF(VLOOKUP(Sheet1!W107,Sheet2!$A$2:$C$44,3,FALSE)>=71,VLOOKUP(Sheet1!W107,Sheet2!$A$2:$C$44,2,FALSE)&TEXT(Sheet1!Y107,\"00\")&TEXT(Sheet1!Z107,\"00\"),VLOOKUP(Sheet1!W107,Sheet2!$A$2:$C$44,2,FALSE)&TEXT(Sheet1!X107,\"00\")&TEXT(Sheet1!Y107,\"00\")&IF(Sheet1!AA107=\"手\",TEXT(Sheet1!Z107,\"0\"),TEXT(Sheet1!Z107,\"00\"))))","v":""},{"$f":"IF(Sheet1!AD107=\"\",\"\",\"●\")","v":""},{"$f":"IF(Sheet1!AE107=\"\",\"\",\"▲\")","v":""},{"$f":"IF(Sheet1!AF107=\"\",\"\",\"★\")","v":""},{"$f":"IF(Sheet1!AG107=\"\",\"\",\"▼\")","v":""}]
["",{"$f":"ASC(IF(Sheet1!C108=\"\",\"\",IF(LEN(Sheet1!C108)+LEN(Sheet1!D108)=2,Sheet1!C108&\"      \"&Sheet1!D108&\"(\"&Sheet1!I108&\")\",IF(LEN(Sheet1!C108)+LEN(Sheet1!D108)=3,Sheet1!C108&\"    \"&Sheet1!D108&\"(\"&Sheet1!I108&\")\",IF(LEN(Sheet1!C108)+LEN(Sheet1!D108)=4,Sheet1!C108&\"  \"&Sheet1!D108&\"(\"&Sheet1!I108&\")\",IF(LEN(Sheet1!C108)+LEN(Sheet1!D108)>=5,Sheet1!C108&Sheet1!D108&\"(\"&Sheet1!I108&\")\",\"\"))))))","v":""},{"$f":"ASC(IF(Sheet1!E108=\"\",\"\",Sheet1!E108&\" \"&Sheet1!F108))","v":""},{"$f":"ASC(IF(Sheet1!G108=\"\",\"\",UPPER(Sheet1!G108)&\" \"&PROPER(Sheet1!H108)&\"(\"&Sheet1!I108&\")\"))","v":""},{"$f":"IF(Sheet1!J108=\"\",\"\",IF(Sheet1!J108=\"女\",2,1))","v":""},{"$f":"IF(Sheet1!K108=\"\",\"\",VLOOKUP(Sheet1!K108,Sheet2!$F$2:$G$50,2,FALSE))","v":""},{"$f":"IF(Sheet1!L108=\"\",\"\",(Sheet1!L108))","v":""},{"$f":"IF(B95=\"\",\"\",VALUE(LEFT(Sheet1!E$4,6)))","v":""},{"$f":"IF(Sheet1!B108=\"\",\"\",VALUE(Sheet1!B108))","v":""},{"$f":"IF(Sheet1!M108=\"\",\"\",IF(VLOOKUP(Sheet1!M108,Sheet2!$A$2:$C$44,3,FALSE)>=71,VLOOKUP(Sheet1!M108,Sheet2!$A$2:$C$44,2,FALSE)&TEXT(Sheet1!O108,\"00\")&TEXT(Sheet1!P108,\"00\"),VLOOKUP(Sheet1!M108,Sheet2!$A$2:$C$44,2,FALSE)&TEXT(Sheet1!N108,\"00\")&TEXT(Sheet1!O108,\"00\")&IF(Sheet1!Q108=\"手\",TEXT(Sheet1!P108,\"0\"),TEXT(Sheet1!P108,\"00\"))))","v":""},{"$f":"IF(Sheet1!R108=\"\",\"\",IF(VLOOKUP(Sheet1!R108,Sheet2!$A$2:$C$44,3,FALSE)>=71,VLOOKUP(Sheet1!R108,Sheet2!$A$2:$C$44,2,FALSE)&TEXT(Sheet1!T108,\"00\")&TEXT(Sheet1!U108,\"00\"),VLOOKUP(Sheet1!R108,Sheet2!$A$2:$C$44,2,FALSE)&TEXT(Sheet1!S108,\"00\")&TEXT(Sheet1!T108,\"00\")&IF(Sheet1!V108=\"手\",TEXT(Sheet1!U108,\"0\"),TEXT(Sheet1!U108,\"00\"))))","v":""},{"$f":"IF(Sheet1!W108=\"\",\"\",IF(VLOOKUP(Sheet1!W108,Sheet2!$A$2:$C$44,3,FALSE)>=71,VLOOKUP(Sheet1!W108,Sheet2!$A$2:$C$44,2,FALSE)&TEXT(Sheet1!Y108,\"00\")&TEXT(Sheet1!Z108,\"00\"),VLOOKUP(Sheet1!W108,Sheet2!$A$2:$C$44,2,FALSE)&TEXT(Sheet1!X108,\"00\")&TEXT(Sheet1!Y108,\"00\")&IF(Sheet1!AA108=\"手\",TEXT(Sheet1!Z108,\"0\"),TEXT(Sheet1!Z108,\"00\"))))","v":""},{"$f":"IF(Sheet1!AD108=\"\",\"\",\"●\")","v":""},{"$f":"IF(Sheet1!AE108=\"\",\"\",\"▲\")","v":""},{"$f":"IF(Sheet1!AF108=\"\",\"\",\"★\")","v":""},{"$f":"IF(Sheet1!AG108=\"\",\"\",\"▼\")","v":""}]
["",{"$f":"ASC(IF(Sheet1!C109=\"\",\"\",IF(LEN(Sheet1!C109)+LEN(Sheet1!D109)=2,Sheet1!C109&\"      \"&Sheet1!D109&\"(\"&Sheet1!I109&\")\",IF(LEN(Sheet1!C109)+LEN(Sheet1!D109)=3,Sheet1!C109&\"    \"&Sheet1!D109&\"(\"&Sheet1!I109&\")\",IF(LEN(Sheet1!C109)+LEN(Sheet1!D109)=4,Sheet1!C109&\"  \"&Sheet1!D109&\"(\"&Sheet1!I109&\")\",IF(LEN(Sheet1!C109)+LEN(Sheet1!D109)>=5,Sheet1!C109&Sheet1!D109&\"(\"&Sheet1!I109&\")\",\"\"))))))","v":""},{"$f":"ASC(IF(Sheet1!E109=\"\",\"\",Sheet1!E109&\" \"&Sheet1!F109))","v":""},{"$f":"ASC(IF(Sheet1!G109=\"\",\"\",UPPER(Sheet1!G109)&\" \"&PROPER(Sheet1!H109)&\"(\"&Sheet1!I109&\")\"))","v":""},{"$f":"IF(Sheet1!J109=\"\",\"\",IF(Sheet1!J109=\"女\",2,1))","v":""},{"$f":"IF(Sheet1!K109=\"\",\"\",VLOOKUP(Sheet1!K109,Sheet2!$F$2:$G$50,2,FALSE))","v":""},{"$f":"IF(Sheet1!L109=\"\",\"\",(Sheet1!L109))","v":""},{"$f":"IF(B96=\"\",\"\",VALUE(LEFT(Sheet1!E$4,6)))","v":""},{"$f":"IF(Sheet1!B109=\"\",\"\",VALUE(Sheet1!B109))","v":""},{"$f":"IF(Sheet1!M109=\"\",\"\",IF(VLOOKUP(Sheet1!M109,Sheet2!$A$2:$C$44,3,FALSE)>=71,VLOOKUP(Sheet1!M109,Sheet2!$A$2:$C$44,2,FALSE)&TEXT(Sheet1!O109,\"00\")&TEXT(Sheet1!P109,\"00\"),VLOOKUP(Sheet1!M109,Sheet2!$A$2:$C$44,2,FALSE)&TEXT(Sheet1!N109,\"00\")&TEXT(Sheet1!O109,\"00\")&IF(Sheet1!Q109=\"手\",TEXT(Sheet1!P109,\"0\"),TEXT(Sheet1!P109,\"00\"))))","v":""},{"$f":"IF(Sheet1!R109=\"\",\"\",IF(VLOOKUP(Sheet1!R109,Sheet2!$A$2:$C$44,3,FALSE)>=71,VLOOKUP(Sheet1!R109,Sheet2!$A$2:$C$44,2,FALSE)&TEXT(Sheet1!T109,\"00\")&TEXT(Sheet1!U109,\"00\"),VLOOKUP(Sheet1!R109,Sheet2!$A$2:$C$44,2,FALSE)&TEXT(Sheet1!S109,\"00\")&TEXT(Sheet1!T109,\"00\")&IF(Sheet1!V109=\"手\",TEXT(Sheet1!U109,\"0\"),TEXT(Sheet1!U109,\"00\"))))","v":""},{"$f":"IF(Sheet1!W109=\"\",\"\",IF(VLOOKUP(Sheet1!W109,Sheet2!$A$2:$C$44,3,FALSE)>=71,VLOOKUP(Sheet1!W109,Sheet2!$A$2:$C$44,2,FALSE)&TEXT(Sheet1!Y109,\"00\")&TEXT(Sheet1!Z109,\"00\"),VLOOKUP(Sheet1!W109,Sheet2!$A$2:$C$44,2,FALSE)&TEXT(Sheet1!X109,\"00\")&TEXT(Sheet1!Y109,\"00\")&IF(Sheet1!AA109=\"手\",TEXT(Sheet1!Z109,\"0\"),TEXT(Sheet1!Z109,\"00\"))))","v":""},{"$f":"IF(Sheet1!AD109=\"\",\"\",\"●\")","v":""},{"$f":"IF(Sheet1!AE109=\"\",\"\",\"▲\")","v":""},{"$f":"IF(Sheet1!AF109=\"\",\"\",\"★\")","v":""},{"$f":"IF(Sheet1!AG109=\"\",\"\",\"▼\")","v":""}]
["",{"$f":"ASC(IF(Sheet1!C110=\"\",\"\",IF(LEN(Sheet1!C110)+LEN(Sheet1!D110)=2,Sheet1!C110&\"      \"&Sheet1!D110&\"(\"&Sheet1!I110&\")\",IF(LEN(Sheet1!C110)+LEN(Sheet1!D110)=3,Sheet1!C110&\"    \"&Sheet1!D110&\"(\"&Sheet1!I110&\")\",IF(LEN(Sheet1!C110)+LEN(Sheet1!D110)=4,Sheet1!C110&\"  \"&Sheet1!D110&\"(\"&Sheet1!I110&\")\",IF(LEN(Sheet1!C110)+LEN(Sheet1!D110)>=5,Sheet1!C110&Sheet1!D110&\"(\"&Sheet1!I110&\")\",\"\"))))))","v":""},{"$f":"ASC(IF(Sheet1!E110=\"\",\"\",Sheet1!E110&\" \"&Sheet1!F110))","v":""},{"$f":"ASC(IF(Sheet1!G110=\"\",\"\",UPPER(Sheet1!G110)&\" \"&PROPER(Sheet1!H110)&\"(\"&Sheet1!I110&\")\"))","v":""},{"$f":"IF(Sheet1!J110=\"\",\"\",IF(Sheet1!J110=\"女\",2,1))","v":""},{"$f":"IF(Sheet1!K110=\"\",\"\",VLOOKUP(Sheet1!K110,Sheet2!$F$2:$G$50,2,FALSE))","v":""},{"$f":"IF(Sheet1!L110=\"\",\"\",(Sheet1!L110))","v":""},{"$f":"IF(B97=\"\",\"\",VALUE(LEFT(Sheet1!E$4,6)))","v":""},{"$f":"IF(Sheet1!B110=\"\",\"\",VALUE(Sheet1!B110))","v":""},{"$f":"IF(Sheet1!M110=\"\",\"\",IF(VLOOKUP(Sheet1!M110,Sheet2!$A$2:$C$44,3,FALSE)>=71,VLOOKUP(Sheet1!M110,Sheet2!$A$2:$C$44,2,FALSE)&TEXT(Sheet1!O110,\"00\")&TEXT(Sheet1!P110,\"00\"),VLOOKUP(Sheet1!M110,Sheet2!$A$2:$C$44,2,FALSE)&TEXT(Sheet1!N110,\"00\")&TEXT(Sheet1!O110,\"00\")&IF(Sheet1!Q110=\"手\",TEXT(Sheet1!P110,\"0\"),TEXT(Sheet1!P110,\"00\"))))","v":""},{"$f":"IF(Sheet1!R110=\"\",\"\",IF(VLOOKUP(Sheet1!R110,Sheet2!$A$2:$C$44,3,FALSE)>=71,VLOOKUP(Sheet1!R110,Sheet2!$A$2:$C$44,2,FALSE)&TEXT(Sheet1!T110,\"00\")&TEXT(Sheet1!U110,\"00\"),VLOOKUP(Sheet1!R110,Sheet2!$A$2:$C$44,2,FALSE)&TEXT(Sheet1!S110,\"00\")&TEXT(Sheet1!T110,\"00\")&IF(Sheet1!V110=\"手\",TEXT(Sheet1!U110,\"0\"),TEXT(Sheet1!U110,\"00\"))))","v":""},{"$f":"IF(Sheet1!W110=\"\",\"\",IF(VLOOKUP(Sheet1!W110,Sheet2!$A$2:$C$44,3,FALSE)>=71,VLOOKUP(Sheet1!W110,Sheet2!$A$2:$C$44,2,FALSE)&TEXT(Sheet1!Y110,\"00\")&TEXT(Sheet1!Z110,\"00\"),VLOOKUP(Sheet1!W110,Sheet2!$A$2:$C$44,2,FALSE)&TEXT(Sheet1!X110,\"00\")&TEXT(Sheet1!Y110,\"00\")&IF(Sheet1!AA110=\"手\",TEXT(Sheet1!Z110,\"0\"),TEXT(Sheet1!Z110,\"00\"))))","v":""},{"$f":"IF(Sheet1!AD110=\"\",\"\",\"●\")","v":""},{"$f":"IF(Sheet1!AE110=\"\",\"\",\"▲\")","v":""},{"$f":"IF(Sheet1!AF110=\"\",\"\",\"★\")","v":""},{"$f":"IF(Sheet1!AG110=\"\",\"\",\"▼\")","v":""}]
["",{"$f":"ASC(IF(Sheet1!C111=\"\",\"\",IF(LEN(Sheet1!C111)+LEN(Sheet1!D111)=2,Sheet1!C111&\"      \"&Sheet1!D111&\"(\"&Sheet1!I111&\")\",IF(LEN(Sheet1!C111)+LEN(Sheet1!D111)=3,Sheet1!C111&\"    \"&Sheet1!D111&\"(\"&Sheet1!I111&\")\",IF(LEN(Sheet1!C111)+LEN(Sheet1!D111)=4,Sheet1!C111&\"  \"&Sheet1!D111&\"(\"&Sheet1!I111&\")\",IF(LEN(Sheet1!C111)+LEN(Sheet1!D111)>=5,Sheet1!C111&Sheet1!D111&\"(\"&Sheet1!I111&\")\",\"\"))))))","v":""},{"$f":"ASC(IF(Sheet1!E111=\"\",\"\",Sheet1!E111&\" \"&Sheet1!F111))","v":""},{"$f":"ASC(IF(Sheet1!G111=\"\",\"\",UPPER(Sheet1!G111)&\" \"&PROPER(Sheet1!H111)&\"(\"&Sheet1!I111&\")\"))","v":""},{"$f":"IF(Sheet1!J111=\"\",\"\",IF(Sheet1!J111=\"女\",2,1))","v":""},{"$f":"IF(Sheet1!K111=\"\",\"\",VLOOKUP(Sheet1!K111,Sheet2!$F$2:$G$50,2,FALSE))","v":""},{"$f":"IF(Sheet1!L111=\"\",\"\",(Sheet1!L111))","v":""},{"$f":"IF(B98=\"\",\"\",VALUE(LEFT(Sheet1!E$4,6)))","v":""},{"$f":"IF(Sheet1!B111=\"\",\"\",VALUE(Sheet1!B111))","v":""},{"$f":"IF(Sheet1!M111=\"\",\"\",IF(VLOOKUP(Sheet1!M111,Sheet2!$A$2:$C$44,3,FALSE)>=71,VLOOKUP(Sheet1!M111,Sheet2!$A$2:$C$44,2,FALSE)&TEXT(Sheet1!O111,\"00\")&TEXT(Sheet1!P111,\"00\"),VLOOKUP(Sheet1!M111,Sheet2!$A$2:$C$44,2,FALSE)&TEXT(Sheet1!N111,\"00\")&TEXT(Sheet1!O111,\"00\")&IF(Sheet1!Q111=\"手\",TEXT(Sheet1!P111,\"0\"),TEXT(Sheet1!P111,\"00\"))))","v":""},{"$f":"IF(Sheet1!R111=\"\",\"\",IF(VLOOKUP(Sheet1!R111,Sheet2!$A$2:$C$44,3,FALSE)>=71,VLOOKUP(Sheet1!R111,Sheet2!$A$2:$C$44,2,FALSE)&TEXT(Sheet1!T111,\"00\")&TEXT(Sheet1!U111,\"00\"),VLOOKUP(Sheet1!R111,Sheet2!$A$2:$C$44,2,FALSE)&TEXT(Sheet1!S111,\"00\")&TEXT(Sheet1!T111,\"00\")&IF(Sheet1!V111=\"手\",TEXT(Sheet1!U111,\"0\"),TEXT(Sheet1!U111,\"00\"))))","v":""},{"$f":"IF(Sheet1!W111=\"\",\"\",IF(VLOOKUP(Sheet1!W111,Sheet2!$A$2:$C$44,3,FALSE)>=71,VLOOKUP(Sheet1!W111,Sheet2!$A$2:$C$44,2,FALSE)&TEXT(Sheet1!Y111,\"00\")&TEXT(Sheet1!Z111,\"00\"),VLOOKUP(Sheet1!W111,Sheet2!$A$2:$C$44,2,FALSE)&TEXT(Sheet1!X111,\"00\")&TEXT(Sheet1!Y111,\"00\")&IF(Sheet1!AA111=\"手\",TEXT(Sheet1!Z111,\"0\"),TEXT(Sheet1!Z111,\"00\"))))","v":""},{"$f":"IF(Sheet1!AD111=\"\",\"\",\"●\")","v":""},{"$f":"IF(Sheet1!AE111=\"\",\"\",\"▲\")","v":""},{"$f":"IF(Sheet1!AF111=\"\",\"\",\"★\")","v":""},{"$f":"IF(Sheet1!AG111=\"\",\"\",\"▼\")","v":""}]
["",{"$f":"ASC(IF(Sheet1!C112=\"\",\"\",IF(LEN(Sheet1!C112)+LEN(Sheet1!D112)=2,Sheet1!C112&\"      \"&Sheet1!D112&\"(\"&Sheet1!I112&\")\",IF(LEN(Sheet1!C112)+LEN(Sheet1!D112)=3,Sheet1!C112&\"    \"&Sheet1!D112&\"(\"&Sheet1!I112&\")\",IF(LEN(Sheet1!C112)+LEN(Sheet1!D112)=4,Sheet1!C112&\"  \"&Sheet1!D112&\"(\"&Sheet1!I112&\")\",IF(LEN(Sheet1!C112)+LEN(Sheet1!D112)>=5,Sheet1!C112&Sheet1!D112&\"(\"&Sheet1!I112&\")\",\"\"))))))","v":""},{"$f":"ASC(IF(Sheet1!E112=\"\",\"\",Sheet1!E112&\" \"&Sheet1!F112))","v":""},{"$f":"ASC(IF(Sheet1!G112=\"\",\"\",UPPER(Sheet1!G112)&\" \"&PROPER(Sheet1!H112)&\"(\"&Sheet1!I112&\")\"))","v":""},{"$f":"IF(Sheet1!J112=\"\",\"\",IF(Sheet1!J112=\"女\",2,1))","v":""},{"$f":"IF(Sheet1!K112=\"\",\"\",VLOOKUP(Sheet1!K112,Sheet2!$F$2:$G$50,2,FALSE))","v":""},{"$f":"IF(Sheet1!L112=\"\",\"\",(Sheet1!L112))","v":""},{"$f":"IF(B99=\"\",\"\",VALUE(LEFT(Sheet1!E$4,6)))","v":""},{"$f":"IF(Sheet1!B112=\"\",\"\",VALUE(Sheet1!B112))","v":""},{"$f":"IF(Sheet1!M112=\"\",\"\",IF(VLOOKUP(Sheet1!M112,Sheet2!$A$2:$C$44,3,FALSE)>=71,VLOOKUP(Sheet1!M112,Sheet2!$A$2:$C$44,2,FALSE)&TEXT(Sheet1!O112,\"00\")&TEXT(Sheet1!P112,\"00\"),VLOOKUP(Sheet1!M112,Sheet2!$A$2:$C$44,2,FALSE)&TEXT(Sheet1!N112,\"00\")&TEXT(Sheet1!O112,\"00\")&IF(Sheet1!Q112=\"手\",TEXT(Sheet1!P112,\"0\"),TEXT(Sheet1!P112,\"00\"))))","v":""},{"$f":"IF(Sheet1!R112=\"\",\"\",IF(VLOOKUP(Sheet1!R112,Sheet2!$A$2:$C$44,3,FALSE)>=71,VLOOKUP(Sheet1!R112,Sheet2!$A$2:$C$44,2,FALSE)&TEXT(Sheet1!T112,\"00\")&TEXT(Sheet1!U112,\"00\"),VLOOKUP(Sheet1!R112,Sheet2!$A$2:$C$44,2,FALSE)&TEXT(Sheet1!S112,\"00\")&TEXT(Sheet1!T112,\"00\")&IF(Sheet1!V112=\"手\",TEXT(Sheet1!U112,\"0\"),TEXT(Sheet1!U112,\"00\"))))","v":""},{"$f":"IF(Sheet1!W112=\"\",\"\",IF(VLOOKUP(Sheet1!W112,Sheet2!$A$2:$C$44,3,FALSE)>=71,VLOOKUP(Sheet1!W112,Sheet2!$A$2:$C$44,2,FALSE)&TEXT(Sheet1!Y112,\"00\")&TEXT(Sheet1!Z112,\"00\"),VLOOKUP(Sheet1!W112,Sheet2!$A$2:$C$44,2,FALSE)&TEXT(Sheet1!X112,\"00\")&TEXT(Sheet1!Y112,\"00\")&IF(Sheet1!AA112=\"手\",TEXT(Sheet1!Z112,\"0\"),TEXT(Sheet1!Z112,\"00\"))))","v":""},{"$f":"IF(Sheet1!AD112=\"\",\"\",\"●\")","v":""},{"$f":"IF(Sheet1!AE112=\"\",\"\",\"▲\")","v":""},{"$f":"IF(Sheet1!AF112=\"\",\"\",\"★\")","v":""},{"$f":"IF(Sheet1!AG112=\"\",\"\",\"▼\")","v":""}]
["",{"$f":"ASC(IF(Sheet1!C113=\"\",\"\",IF(LEN(Sheet1!C113)+LEN(Sheet1!D113)=2,Sheet1!C113&\"      \"&Sheet1!D113&\"(\"&Sheet1!I113&\")\",IF(LEN(Sheet1!C113)+LEN(Sheet1!D113)=3,Sheet1!C113&\"    \"&Sheet1!D113&\"(\"&Sheet1!I113&\")\",IF(LEN(Sheet1!C113)+LEN(Sheet1!D113)=4,Sheet1!C113&\"  \"&Sheet1!D113&\"(\"&Sheet1!I113&\")\",IF(LEN(Sheet1!C113)+LEN(Sheet1!D113)>=5,Sheet1!C113&Sheet1!D113&\"(\"&Sheet1!I113&\")\",\"\"))))))","v":""},{"$f":"ASC(IF(Sheet1!E113=\"\",\"\",Sheet1!E113&\" \"&Sheet1!F113))","v":""},{"$f":"ASC(IF(Sheet1!G113=\"\",\"\",UPPER(Sheet1!G113)&\" \"&PROPER(Sheet1!H113)&\"(\"&Sheet1!I113&\")\"))","v":""},{"$f":"IF(Sheet1!J113=\"\",\"\",IF(Sheet1!J113=\"女\",2,1))","v":""},{"$f":"IF(Sheet1!K113=\"\",\"\",VLOOKUP(Sheet1!K113,Sheet2!$F$2:$G$50,2,FALSE))","v":""},{"$f":"IF(Sheet1!L113=\"\",\"\",(Sheet1!L113))","v":""},{"$f":"IF(B100=\"\",\"\",VALUE(LEFT(Sheet1!E$4,6)))","v":""},{"$f":"IF(Sheet1!B113=\"\",\"\",VALUE(Sheet1!B113))","v":""},{"$f":"IF(Sheet1!M113=\"\",\"\",IF(VLOOKUP(Sheet1!M113,Sheet2!$A$2:$C$44,3,FALSE)>=71,VLOOKUP(Sheet1!M113,Sheet2!$A$2:$C$44,2,FALSE)&TEXT(Sheet1!O113,\"00\")&TEXT(Sheet1!P113,\"00\"),VLOOKUP(Sheet1!M113,Sheet2!$A$2:$C$44,2,FALSE)&TEXT(Sheet1!N113,\"00\")&TEXT(Sheet1!O113,\"00\")&IF(Sheet1!Q113=\"手\",TEXT(Sheet1!P113,\"0\"),TEXT(Sheet1!P113,\"00\"))))","v":""},{"$f":"IF(Sheet1!R113=\"\",\"\",IF(VLOOKUP(Sheet1!R113,Sheet2!$A$2:$C$44,3,FALSE)>=71,VLOOKUP(Sheet1!R113,Sheet2!$A$2:$C$44,2,FALSE)&TEXT(Sheet1!T113,\"00\")&TEXT(Sheet1!U113,\"00\"),VLOOKUP(Sheet1!R113,Sheet2!$A$2:$C$44,2,FALSE)&TEXT(Sheet1!S113,\"00\")&TEXT(Sheet1!T113,\"00\")&IF(Sheet1!V113=\"手\",TEXT(Sheet1!U113,\"0\"),TEXT(Sheet1!U113,\"00\"))))","v":""},{"$f":"IF(Sheet1!W113=\"\",\"\",IF(VLOOKUP(Sheet1!W113,Sheet2!$A$2:$C$44,3,FALSE)>=71,VLOOKUP(Sheet1!W113,Sheet2!$A$2:$C$44,2,FALSE)&TEXT(Sheet1!Y113,\"00\")&TEXT(Sheet1!Z113,\"00\"),VLOOKUP(Sheet1!W113,Sheet2!$A$2:$C$44,2,FALSE)&TEXT(Sheet1!X113,\"00\")&TEXT(Sheet1!Y113,\"00\")&IF(Sheet1!AA113=\"手\",TEXT(Sheet1!Z113,\"0\"),TEXT(Sheet1!Z113,\"00\"))))","v":""},{"$f":"IF(Sheet1!AD113=\"\",\"\",\"●\")","v":""},{"$f":"IF(Sheet1!AE113=\"\",\"\",\"▲\")","v":""},{"$f":"IF(Sheet1!AF113=\"\",\"\",\"★\")","v":""},{"$f":"IF(Sheet1!AG113=\"\",\"\",\"▼\")","v":""}]
["",{"$f":"ASC(IF(Sheet1!C114=\"\",\"\",IF(LEN(Sheet1!C114)+LEN(Sheet1!D114)=2,Sheet1!C114&\"      \"&Sheet1!D114&\"(\"&Sheet1!I114&\")\",IF(LEN(Sheet1!C114)+LEN(Sheet1!D114)=3,Sheet1!C114&\"    \"&Sheet1!D114&\"(\"&Sheet1!I114&\")\",IF(LEN(Sheet1!C114)+LEN(Sheet1!D114)=4,Sheet1!C114&\"  \"&Sheet1!D114&\"(\"&Sheet1!I114&\")\",IF(LEN(Sheet1!C114)+LEN(Sheet1!D114)>=5,Sheet1!C114&Sheet1!D114&\"(\"&Sheet1!I114&\")\",\"\"))))))","v":""},{"$f":"ASC(IF(Sheet1!E114=\"\",\"\",Sheet1!E114&\" \"&Sheet1!F114))","v":""},{"$f":"ASC(IF(Sheet1!G114=\"\",\"\",UPPER(Sheet1!G114)&\" \"&PROPER(Sheet1!H114)&\"(\"&Sheet1!I114&\")\"))","v":""},{"$f":"IF(Sheet1!J114=\"\",\"\",IF(Sheet1!J114=\"女\",2,1))","v":""},{"$f":"IF(Sheet1!K114=\"\",\"\",VLOOKUP(Sheet1!K114,Sheet2!$F$2:$G$50,2,FALSE))","v":""},{"$f":"IF(Sheet1!L114=\"\",\"\",(Sheet1!L114))","v":""},{"$f":"IF(B101=\"\",\"\",VALUE(LEFT(Sheet1!E$4,6)))","v":""},{"$f":"IF(Sheet1!B114=\"\",\"\",VALUE(Sheet1!B114))","v":""},{"$f":"IF(Sheet1!M114=\"\",\"\",IF(VLOOKUP(Sheet1!M114,Sheet2!$A$2:$C$44,3,FALSE)>=71,VLOOKUP(Sheet1!M114,Sheet2!$A$2:$C$44,2,FALSE)&TEXT(Sheet1!O114,\"00\")&TEXT(Sheet1!P114,\"00\"),VLOOKUP(Sheet1!M114,Sheet2!$A$2:$C$44,2,FALSE)&TEXT(Sheet1!N114,\"00\")&TEXT(Sheet1!O114,\"00\")&IF(Sheet1!Q114=\"手\",TEXT(Sheet1!P114,\"0\"),TEXT(Sheet1!P114,\"00\"))))","v":""},{"$f":"IF(Sheet1!R114=\"\",\"\",IF(VLOOKUP(Sheet1!R114,Sheet2!$A$2:$C$44,3,FALSE)>=71,VLOOKUP(Sheet1!R114,Sheet2!$A$2:$C$44,2,FALSE)&TEXT(Sheet1!T114,\"00\")&TEXT(Sheet1!U114,\"00\"),VLOOKUP(Sheet1!R114,Sheet2!$A$2:$C$44,2,FALSE)&TEXT(Sheet1!S114,\"00\")&TEXT(Sheet1!T114,\"00\")&IF(Sheet1!V114=\"手\",TEXT(Sheet1!U114,\"0\"),TEXT(Sheet1!U114,\"00\"))))","v":""},{"$f":"IF(Sheet1!W114=\"\",\"\",IF(VLOOKUP(Sheet1!W114,Sheet2!$A$2:$C$44,3,FALSE)>=71,VLOOKUP(Sheet1!W114,Sheet2!$A$2:$C$44,2,FALSE)&TEXT(Sheet1!Y114,\"00\")&TEXT(Sheet1!Z114,\"00\"),VLOOKUP(Sheet1!W114,Sheet2!$A$2:$C$44,2,FALSE)&TEXT(Sheet1!X114,\"00\")&TEXT(Sheet1!Y114,\"00\")&IF(Sheet1!AA114=\"手\",TEXT(Sheet1!Z114,\"0\"),TEXT(Sheet1!Z114,\"00\"))))","v":""},{"$f":"IF(Sheet1!AD114=\"\",\"\",\"●\")","v":""},{"$f":"IF(Sheet1!AE114=\"\",\"\",\"▲\")","v":""},{"$f":"IF(Sheet1!AF114=\"\",\"\",\"★\")","v":""},{"$f":"IF(Sheet1!AG114=\"\",\"\",\"▼\")","v":""}]
["",{"$f":"ASC(IF(Sheet1!C115=\"\",\"\",IF(LEN(Sheet1!C115)+LEN(Sheet1!D115)=2,Sheet1!C115&\"      \"&Sheet1!D115&\"(\"&Sheet1!I115&\")\",IF(LEN(Sheet1!C115)+LEN(Sheet1!D115)=3,Sheet1!C115&\"    \"&Sheet1!D115&\"(\"&Sheet1!I115&\")\",IF(LEN(Sheet1!C115)+LEN(Sheet1!D115)=4,Sheet1!C115&\"  \"&Sheet1!D115&\"(\"&Sheet1!I115&\")\",IF(LEN(Sheet1!C115)+LEN(Sheet1!D115)>=5,Sheet1!C115&Sheet1!D115&\"(\"&Sheet1!I115&\")\",\"\"))))))","v":""},{"$f":"ASC(IF(Sheet1!E115=\"\",\"\",Sheet1!E115&\" \"&Sheet1!F115))","v":""},{"$f":"ASC(IF(Sheet1!G115=\"\",\"\",UPPER(Sheet1!G115)&\" \"&PROPER(Sheet1!H115)&\"(\"&Sheet1!I115&\")\"))","v":""},{"$f":"IF(Sheet1!J115=\"\",\"\",IF(Sheet1!J115=\"女\",2,1))","v":""},{"$f":"IF(Sheet1!K115=\"\",\"\",VLOOKUP(Sheet1!K115,Sheet2!$F$2:$G$50,2,FALSE))","v":""},{"$f":"IF(Sheet1!L115=\"\",\"\",(Sheet1!L115))","v":""},{"$f":"IF(B102=\"\",\"\",VALUE(LEFT(Sheet1!E$4,6)))","v":""},{"$f":"IF(Sheet1!B115=\"\",\"\",VALUE(Sheet1!B115))","v":""},{"$f":"IF(Sheet1!M115=\"\",\"\",IF(VLOOKUP(Sheet1!M115,Sheet2!$A$2:$C$44,3,FALSE)>=71,VLOOKUP(Sheet1!M115,Sheet2!$A$2:$C$44,2,FALSE)&TEXT(Sheet1!O115,\"00\")&TEXT(Sheet1!P115,\"00\"),VLOOKUP(Sheet1!M115,Sheet2!$A$2:$C$44,2,FALSE)&TEXT(Sheet1!N115,\"00\")&TEXT(Sheet1!O115,\"00\")&IF(Sheet1!Q115=\"手\",TEXT(Sheet1!P115,\"0\"),TEXT(Sheet1!P115,\"00\"))))","v":""},{"$f":"IF(Sheet1!R115=\"\",\"\",IF(VLOOKUP(Sheet1!R115,Sheet2!$A$2:$C$44,3,FALSE)>=71,VLOOKUP(Sheet1!R115,Sheet2!$A$2:$C$44,2,FALSE)&TEXT(Sheet1!T115,\"00\")&TEXT(Sheet1!U115,\"00\"),VLOOKUP(Sheet1!R115,Sheet2!$A$2:$C$44,2,FALSE)&TEXT(Sheet1!S115,\"00\")&TEXT(Sheet1!T115,\"00\")&IF(Sheet1!V115=\"手\",TEXT(Sheet1!U115,\"0\"),TEXT(Sheet1!U115,\"00\"))))","v":""},{"$f":"IF(Sheet1!W115=\"\",\"\",IF(VLOOKUP(Sheet1!W115,Sheet2!$A$2:$C$44,3,FALSE)>=71,VLOOKUP(Sheet1!W115,Sheet2!$A$2:$C$44,2,FALSE)&TEXT(Sheet1!Y115,\"00\")&TEXT(Sheet1!Z115,\"00\"),VLOOKUP(Sheet1!W115,Sheet2!$A$2:$C$44,2,FALSE)&TEXT(Sheet1!X115,\"00\")&TEXT(Sheet1!Y115,\"00\")&IF(Sheet1!AA115=\"手\",TEXT(Sheet1!Z115,\"0\"),TEXT(Sheet1!Z115,\"00\"))))","v":""},{"$f":"IF(Sheet1!AD115=\"\",\"\",\"●\")","v":""},{"$f":"IF(Sheet1!AE115=\"\",\"\",\"▲\")","v":""},{"$f":"IF(Sheet1!AF115=\"\",\"\",\"★\")","v":""},{"$f":"IF(Sheet1!AG115=\"\",\"\",\"▼\")","v":""}]
["",{"$f":"ASC(IF(Sheet1!C116=\"\",\"\",IF(LEN(Sheet1!C116)+LEN(Sheet1!D116)=2,Sheet1!C116&\"      \"&Sheet1!D116&\"(\"&Sheet1!I116&\")\",IF(LEN(Sheet1!C116)+LEN(Sheet1!D116)=3,Sheet1!C116&\"    \"&Sheet1!D116&\"(\"&Sheet1!I116&\")\",IF(LEN(Sheet1!C116)+LEN(Sheet1!D116)=4,Sheet1!C116&\"  \"&Sheet1!D116&\"(\"&Sheet1!I116&\")\",IF(LEN(Sheet1!C116)+LEN(Sheet1!D116)>=5,Sheet1!C116&Sheet1!D116&\"(\"&Sheet1!I116&\")\",\"\"))))))","v":""},{"$f":"ASC(IF(Sheet1!E116=\"\",\"\",Sheet1!E116&\" \"&Sheet1!F116))","v":""},{"$f":"ASC(IF(Sheet1!G116=\"\",\"\",UPPER(Sheet1!G116)&\" \"&PROPER(Sheet1!H116)&\"(\"&Sheet1!I116&\")\"))","v":""},{"$f":"IF(Sheet1!J116=\"\",\"\",IF(Sheet1!J116=\"女\",2,1))","v":""},{"$f":"IF(Sheet1!K116=\"\",\"\",VLOOKUP(Sheet1!K116,Sheet2!$F$2:$G$50,2,FALSE))","v":""},{"$f":"IF(Sheet1!L116=\"\",\"\",(Sheet1!L116))","v":""},{"$f":"IF(B103=\"\",\"\",VALUE(LEFT(Sheet1!E$4,6)))","v":""},{"$f":"IF(Sheet1!B116=\"\",\"\",VALUE(Sheet1!B116))","v":""},{"$f":"IF(Sheet1!M116=\"\",\"\",IF(VLOOKUP(Sheet1!M116,Sheet2!$A$2:$C$44,3,FALSE)>=71,VLOOKUP(Sheet1!M116,Sheet2!$A$2:$C$44,2,FALSE)&TEXT(Sheet1!O116,\"00\")&TEXT(Sheet1!P116,\"00\"),VLOOKUP(Sheet1!M116,Sheet2!$A$2:$C$44,2,FALSE)&TEXT(Sheet1!N116,\"00\")&TEXT(Sheet1!O116,\"00\")&IF(Sheet1!Q116=\"手\",TEXT(Sheet1!P116,\"0\"),TEXT(Sheet1!P116,\"00\"))))","v":""},{"$f":"IF(Sheet1!R116=\"\",\"\",IF(VLOOKUP(Sheet1!R116,Sheet2!$A$2:$C$44,3,FALSE)>=71,VLOOKUP(Sheet1!R116,Sheet2!$A$2:$C$44,2,FALSE)&TEXT(Sheet1!T116,\"00\")&TEXT(Sheet1!U116,\"00\"),VLOOKUP(Sheet1!R116,Sheet2!$A$2:$C$44,2,FALSE)&TEXT(Sheet1!S116,\"00\")&TEXT(Sheet1!T116,\"00\")&IF(Sheet1!V116=\"手\",TEXT(Sheet1!U116,\"0\"),TEXT(Sheet1!U116,\"00\"))))","v":""},{"$f":"IF(Sheet1!W116=\"\",\"\",IF(VLOOKUP(Sheet1!W116,Sheet2!$A$2:$C$44,3,FALSE)>=71,VLOOKUP(Sheet1!W116,Sheet2!$A$2:$C$44,2,FALSE)&TEXT(Sheet1!Y116,\"00\")&TEXT(Sheet1!Z116,\"00\"),VLOOKUP(Sheet1!W116,Sheet2!$A$2:$C$44,2,FALSE)&TEXT(Sheet1!X116,\"00\")&TEXT(Sheet1!Y116,\"00\")&IF(Sheet1!AA116=\"手\",TEXT(Sheet1!Z116,\"0\"),TEXT(Sheet1!Z116,\"00\"))))","v":""},{"$f":"IF(Sheet1!AD116=\"\",\"\",\"●\")","v":""},{"$f":"IF(Sheet1!AE116=\"\",\"\",\"▲\")","v":""},{"$f":"IF(Sheet1!AF116=\"\",\"\",\"★\")","v":""},{"$f":"IF(Sheet1!AG116=\"\",\"\",\"▼\")","v":""}]
["",{"$f":"ASC(IF(Sheet1!C117=\"\",\"\",IF(LEN(Sheet1!C117)+LEN(Sheet1!D117)=2,Sheet1!C117&\"      \"&Sheet1!D117&\"(\"&Sheet1!I117&\")\",IF(LEN(Sheet1!C117)+LEN(Sheet1!D117)=3,Sheet1!C117&\"    \"&Sheet1!D117&\"(\"&Sheet1!I117&\")\",IF(LEN(Sheet1!C117)+LEN(Sheet1!D117)=4,Sheet1!C117&\"  \"&Sheet1!D117&\"(\"&Sheet1!I117&\")\",IF(LEN(Sheet1!C117)+LEN(Sheet1!D117)>=5,Sheet1!C117&Sheet1!D117&\"(\"&Sheet1!I117&\")\",\"\"))))))","v":""},{"$f":"ASC(IF(Sheet1!E117=\"\",\"\",Sheet1!E117&\" \"&Sheet1!F117))","v":""},{"$f":"ASC(IF(Sheet1!G117=\"\",\"\",UPPER(Sheet1!G117)&\" \"&PROPER(Sheet1!H117)&\"(\"&Sheet1!I117&\")\"))","v":""},{"$f":"IF(Sheet1!J117=\"\",\"\",IF(Sheet1!J117=\"女\",2,1))","v":""},{"$f":"IF(Sheet1!K117=\"\",\"\",VLOOKUP(Sheet1!K117,Sheet2!$F$2:$G$50,2,FALSE))","v":""},{"$f":"IF(Sheet1!L117=\"\",\"\",(Sheet1!L117))","v":""},{"$f":"IF(B104=\"\",\"\",VALUE(LEFT(Sheet1!E$4,6)))","v":""},{"$f":"IF(Sheet1!B117=\"\",\"\",VALUE(Sheet1!B117))","v":""},{"$f":"IF(Sheet1!M117=\"\",\"\",IF(VLOOKUP(Sheet1!M117,Sheet2!$A$2:$C$44,3,FALSE)>=71,VLOOKUP(Sheet1!M117,Sheet2!$A$2:$C$44,2,FALSE)&TEXT(Sheet1!O117,\"00\")&TEXT(Sheet1!P117,\"00\"),VLOOKUP(Sheet1!M117,Sheet2!$A$2:$C$44,2,FALSE)&TEXT(Sheet1!N117,\"00\")&TEXT(Sheet1!O117,\"00\")&IF(Sheet1!Q117=\"手\",TEXT(Sheet1!P117,\"0\"),TEXT(Sheet1!P117,\"00\"))))","v":""},{"$f":"IF(Sheet1!R117=\"\",\"\",IF(VLOOKUP(Sheet1!R117,Sheet2!$A$2:$C$44,3,FALSE)>=71,VLOOKUP(Sheet1!R117,Sheet2!$A$2:$C$44,2,FALSE)&TEXT(Sheet1!T117,\"00\")&TEXT(Sheet1!U117,\"00\"),VLOOKUP(Sheet1!R117,Sheet2!$A$2:$C$44,2,FALSE)&TEXT(Sheet1!S117,\"00\")&TEXT(Sheet1!T117,\"00\")&IF(Sheet1!V117=\"手\",TEXT(Sheet1!U117,\"0\"),TEXT(Sheet1!U117,\"00\"))))","v":""},{"$f":"IF(Sheet1!W117=\"\",\"\",IF(VLOOKUP(Sheet1!W117,Sheet2!$A$2:$C$44,3,FALSE)>=71,VLOOKUP(Sheet1!W117,Sheet2!$A$2:$C$44,2,FALSE)&TEXT(Sheet1!Y117,\"00\")&TEXT(Sheet1!Z117,\"00\"),VLOOKUP(Sheet1!W117,Sheet2!$A$2:$C$44,2,FALSE)&TEXT(Sheet1!X117,\"00\")&TEXT(Sheet1!Y117,\"00\")&IF(Sheet1!AA117=\"手\",TEXT(Sheet1!Z117,\"0\"),TEXT(Sheet1!Z117,\"00\"))))","v":""},{"$f":"IF(Sheet1!AD117=\"\",\"\",\"●\")","v":""},{"$f":"IF(Sheet1!AE117=\"\",\"\",\"▲\")","v":""},{"$f":"IF(Sheet1!AF117=\"\",\"\",\"★\")","v":""},{"$f":"IF(Sheet1!AG117=\"\",\"\",\"▼\")","v":""}]
["",{"$f":"ASC(IF(Sheet1!C118=\"\",\"\",IF(LEN(Sheet1!C118)+LEN(Sheet1!D118)=2,Sheet1!C118&\"      \"&Sheet1!D118&\"(\"&Sheet1!I118&\")\",IF(LEN(Sheet1!C118)+LEN(Sheet1!D118)=3,Sheet1!C118&\"    \"&Sheet1!D118&\"(\"&Sheet1!I118&\")\",IF(LEN(Sheet1!C118)+LEN(Sheet1!D118)=4,Sheet1!C118&\"  \"&Sheet1!D118&\"(\"&Sheet1!I118&\")\",IF(LEN(Sheet1!C118)+LEN(Sheet1!D118)>=5,Sheet1!C118&Sheet1!D118&\"(\"&Sheet1!I118&\")\",\"\"))))))","v":""},{"$f":"ASC(IF(Sheet1!E118=\"\",\"\",Sheet1!E118&\" \"&Sheet1!F118))","v":""},{"$f":"ASC(IF(Sheet1!G118=\"\",\"\",UPPER(Sheet1!G118)&\" \"&PROPER(Sheet1!H118)&\"(\"&Sheet1!I118&\")\"))","v":""},{"$f":"IF(Sheet1!J118=\"\",\"\",IF(Sheet1!J118=\"女\",2,1))","v":""},{"$f":"IF(Sheet1!K118=\"\",\"\",VLOOKUP(Sheet1!K118,Sheet2!$F$2:$G$50,2,FALSE))","v":""},{"$f":"IF(Sheet1!L118=\"\",\"\",(Sheet1!L118))","v":""},{"$f":"IF(B105=\"\",\"\",VALUE(LEFT(Sheet1!E$4,6)))","v":""},{"$f":"IF(Sheet1!B118=\"\",\"\",VALUE(Sheet1!B118))","v":""},{"$f":"IF(Sheet1!M118=\"\",\"\",IF(VLOOKUP(Sheet1!M118,Sheet2!$A$2:$C$44,3,FALSE)>=71,VLOOKUP(Sheet1!M118,Sheet2!$A$2:$C$44,2,FALSE)&TEXT(Sheet1!O118,\"00\")&TEXT(Sheet1!P118,\"00\"),VLOOKUP(Sheet1!M118,Sheet2!$A$2:$C$44,2,FALSE)&TEXT(Sheet1!N118,\"00\")&TEXT(Sheet1!O118,\"00\")&IF(Sheet1!Q118=\"手\",TEXT(Sheet1!P118,\"0\"),TEXT(Sheet1!P118,\"00\"))))","v":""},{"$f":"IF(Sheet1!R118=\"\",\"\",IF(VLOOKUP(Sheet1!R118,Sheet2!$A$2:$C$44,3,FALSE)>=71,VLOOKUP(Sheet1!R118,Sheet2!$A$2:$C$44,2,FALSE)&TEXT(Sheet1!T118,\"00\")&TEXT(Sheet1!U118,\"00\"),VLOOKUP(Sheet1!R118,Sheet2!$A$2:$C$44,2,FALSE)&TEXT(Sheet1!S118,\"00\")&TEXT(Sheet1!T118,\"00\")&IF(Sheet1!V118=\"手\",TEXT(Sheet1!U118,\"0\"),TEXT(Sheet1!U118,\"00\"))))","v":""},{"$f":"IF(Sheet1!W118=\"\",\"\",IF(VLOOKUP(Sheet1!W118,Sheet2!$A$2:$C$44,3,FALSE)>=71,VLOOKUP(Sheet1!W118,Sheet2!$A$2:$C$44,2,FALSE)&TEXT(Sheet1!Y118,\"00\")&TEXT(Sheet1!Z118,\"00\"),VLOOKUP(Sheet1!W118,Sheet2!$A$2:$C$44,2,FALSE)&TEXT(Sheet1!X118,\"00\")&TEXT(Sheet1!Y118,\"00\")&IF(Sheet1!AA118=\"手\",TEXT(Sheet1!Z118,\"0\"),TEXT(Sheet1!Z118,\"00\"))))","v":""},{"$f":"IF(Sheet1!AD118=\"\",\"\",\"●\")","v":""},{"$f":"IF(Sheet1!AE118=\"\",\"\",\"▲\")","v":""},{"$f":"IF(Sheet1!AF118=\"\",\"\",\"★\")","v":""},{"$f":"IF(Sheet1!AG118=\"\",\"\",\"▼\")","v":""}]
["",{"$f":"ASC(IF(Sheet1!C119=\"\",\"\",IF(LEN(Sheet1!C119)+LEN(Sheet1!D119)=2,Sheet1!C119&\"      \"&Sheet1!D119&\"(\"&Sheet1!I119&\")\",IF(LEN(Sheet1!C119)+LEN(Sheet1!D119)=3,Sheet1!C119&\"    \"&Sheet1!D119&\"(\"&Sheet1!I119&\")\",IF(LEN(Sheet1!C119)+LEN(Sheet1!D119)=4,Sheet1!C119&\"  \"&Sheet1!D119&\"(\"&Sheet1!I119&\")\",IF(LEN(Sheet1!C119)+LEN(Sheet1!D119)>=5,Sheet1!C119&Sheet1!D119&\"(\"&Sheet1!I119&\")\",\"\"))))))","v":""},{"$f":"ASC(IF(Sheet1!E119=\"\",\"\",Sheet1!E119&\" \"&Sheet1!F119))","v":""},{"$f":"ASC(IF(Sheet1!G119=\"\",\"\",UPPER(Sheet1!G119)&\" \"&PROPER(Sheet1!H119)&\"(\"&Sheet1!I119&\")\"))","v":""},{"$f":"IF(Sheet1!J119=\"\",\"\",IF(Sheet1!J119=\"女\",2,1))","v":""},{"$f":"IF(Sheet1!K119=\"\",\"\",VLOOKUP(Sheet1!K119,Sheet2!$F$2:$G$50,2,FALSE))","v":""},{"$f":"IF(Sheet1!L119=\"\",\"\",(Sheet1!L119))","v":""},{"$f":"IF(B106=\"\",\"\",VALUE(LEFT(Sheet1!E$4,6)))","v":""},{"$f":"IF(Sheet1!B119=\"\",\"\",VALUE(Sheet1!B119))","v":""},{"$f":"IF(Sheet1!M119=\"\",\"\",IF(VLOOKUP(Sheet1!M119,Sheet2!$A$2:$C$44,3,FALSE)>=71,VLOOKUP(Sheet1!M119,Sheet2!$A$2:$C$44,2,FALSE)&TEXT(Sheet1!O119,\"00\")&TEXT(Sheet1!P119,\"00\"),VLOOKUP(Sheet1!M119,Sheet2!$A$2:$C$44,2,FALSE)&TEXT(Sheet1!N119,\"00\")&TEXT(Sheet1!O119,\"00\")&IF(Sheet1!Q119=\"手\",TEXT(Sheet1!P119,\"0\"),TEXT(Sheet1!P119,\"00\"))))","v":""},{"$f":"IF(Sheet1!R119=\"\",\"\",IF(VLOOKUP(Sheet1!R119,Sheet2!$A$2:$C$44,3,FALSE)>=71,VLOOKUP(Sheet1!R119,Sheet2!$A$2:$C$44,2,FALSE)&TEXT(Sheet1!T119,\"00\")&TEXT(Sheet1!U119,\"00\"),VLOOKUP(Sheet1!R119,Sheet2!$A$2:$C$44,2,FALSE)&TEXT(Sheet1!S119,\"00\")&TEXT(Sheet1!T119,\"00\")&IF(Sheet1!V119=\"手\",TEXT(Sheet1!U119,\"0\"),TEXT(Sheet1!U119,\"00\"))))","v":""},{"$f":"IF(Sheet1!W119=\"\",\"\",IF(VLOOKUP(Sheet1!W119,Sheet2!$A$2:$C$44,3,FALSE)>=71,VLOOKUP(Sheet1!W119,Sheet2!$A$2:$C$44,2,FALSE)&TEXT(Sheet1!Y119,\"00\")&TEXT(Sheet1!Z119,\"00\"),VLOOKUP(Sheet1!W119,Sheet2!$A$2:$C$44,2,FALSE)&TEXT(Sheet1!X119,\"00\")&TEXT(Sheet1!Y119,\"00\")&IF(Sheet1!AA119=\"手\",TEXT(Sheet1!Z119,\"0\"),TEXT(Sheet1!Z119,\"00\"))))","v":""},{"$f":"IF(Sheet1!AD119=\"\",\"\",\"●\")","v":""},{"$f":"IF(Sheet1!AE119=\"\",\"\",\"▲\")","v":""},{"$f":"IF(Sheet1!AF119=\"\",\"\",\"★\")","v":""},{"$f":"IF(Sheet1!AG119=\"\",\"\",\"▼\")","v":""}]
["",{"$f":"ASC(IF(Sheet1!C120=\"\",\"\",IF(LEN(Sheet1!C120)+LEN(Sheet1!D120)=2,Sheet1!C120&\"      \"&Sheet1!D120&\"(\"&Sheet1!I120&\")\",IF(LEN(Sheet1!C120)+LEN(Sheet1!D120)=3,Sheet1!C120&\"    \"&Sheet1!D120&\"(\"&Sheet1!I120&\")\",IF(LEN(Sheet1!C120)+LEN(Sheet1!D120)=4,Sheet1!C120&\"  \"&Sheet1!D120&\"(\"&Sheet1!I120&\")\",IF(LEN(Sheet1!C120)+LEN(Sheet1!D120)>=5,Sheet1!C120&Sheet1!D120&\"(\"&Sheet1!I120&\")\",\"\"))))))","v":""},{"$f":"ASC(IF(Sheet1!E120=\"\",\"\",Sheet1!E120&\" \"&Sheet1!F120))","v":""},{"$f":"ASC(IF(Sheet1!G120=\"\",\"\",UPPER(Sheet1!G120)&\" \"&PROPER(Sheet1!H120)&\"(\"&Sheet1!I120&\")\"))","v":""},{"$f":"IF(Sheet1!J120=\"\",\"\",IF(Sheet1!J120=\"女\",2,1))","v":""},{"$f":"IF(Sheet1!K120=\"\",\"\",VLOOKUP(Sheet1!K120,Sheet2!$F$2:$G$50,2,FALSE))","v":""},{"$f":"IF(Sheet1!L120=\"\",\"\",(Sheet1!L120))","v":""},{"$f":"IF(B107=\"\",\"\",VALUE(LEFT(Sheet1!E$4,6)))","v":""},{"$f":"IF(Sheet1!B120=\"\",\"\",VALUE(Sheet1!B120))","v":""},{"$f":"IF(Sheet1!M120=\"\",\"\",IF(VLOOKUP(Sheet1!M120,Sheet2!$A$2:$C$44,3,FALSE)>=71,VLOOKUP(Sheet1!M120,Sheet2!$A$2:$C$44,2,FALSE)&TEXT(Sheet1!O120,\"00\")&TEXT(Sheet1!P120,\"00\"),VLOOKUP(Sheet1!M120,Sheet2!$A$2:$C$44,2,FALSE)&TEXT(Sheet1!N120,\"00\")&TEXT(Sheet1!O120,\"00\")&IF(Sheet1!Q120=\"手\",TEXT(Sheet1!P120,\"0\"),TEXT(Sheet1!P120,\"00\"))))","v":""},{"$f":"IF(Sheet1!R120=\"\",\"\",IF(VLOOKUP(Sheet1!R120,Sheet2!$A$2:$C$44,3,FALSE)>=71,VLOOKUP(Sheet1!R120,Sheet2!$A$2:$C$44,2,FALSE)&TEXT(Sheet1!T120,\"00\")&TEXT(Sheet1!U120,\"00\"),VLOOKUP(Sheet1!R120,Sheet2!$A$2:$C$44,2,FALSE)&TEXT(Sheet1!S120,\"00\")&TEXT(Sheet1!T120,\"00\")&IF(Sheet1!V120=\"手\",TEXT(Sheet1!U120,\"0\"),TEXT(Sheet1!U120,\"00\"))))","v":""},{"$f":"IF(Sheet1!W120=\"\",\"\",IF(VLOOKUP(Sheet1!W120,Sheet2!$A$2:$C$44,3,FALSE)>=71,VLOOKUP(Sheet1!W120,Sheet2!$A$2:$C$44,2,FALSE)&TEXT(Sheet1!Y120,\"00\")&TEXT(Sheet1!Z120,\"00\"),VLOOKUP(Sheet1!W120,Sheet2!$A$2:$C$44,2,FALSE)&TEXT(Sheet1!X120,\"00\")&TEXT(Sheet1!Y120,\"00\")&IF(Sheet1!AA120=\"手\",TEXT(Sheet1!Z120,\"0\"),TEXT(Sheet1!Z120,\"00\"))))","v":""},{"$f":"IF(Sheet1!AD120=\"\",\"\",\"●\")","v":""},{"$f":"IF(Sheet1!AE120=\"\",\"\",\"▲\")","v":""},{"$f":"IF(Sheet1!AF120=\"\",\"\",\"★\")","v":""},{"$f":"IF(Sheet1!AG120=\"\",\"\",\"▼\")","v":""}]
["",{"$f":"ASC(IF(Sheet1!C121=\"\",\"\",IF(LEN(Sheet1!C121)+LEN(Sheet1!D121)=2,Sheet1!C121&\"      \"&Sheet1!D121&\"(\"&Sheet1!I121&\")\",IF(LEN(Sheet1!C121)+LEN(Sheet1!D121)=3,Sheet1!C121&\"    \"&Sheet1!D121&\"(\"&Sheet1!I121&\")\",IF(LEN(Sheet1!C121)+LEN(Sheet1!D121)=4,Sheet1!C121&\"  \"&Sheet1!D121&\"(\"&Sheet1!I121&\")\",IF(LEN(Sheet1!C121)+LEN(Sheet1!D121)>=5,Sheet1!C121&Sheet1!D121&\"(\"&Sheet1!I121&\")\",\"\"))))))","v":""},{"$f":"ASC(IF(Sheet1!E121=\"\",\"\",Sheet1!E121&\" \"&Sheet1!F121))","v":""},{"$f":"ASC(IF(Sheet1!G121=\"\",\"\",UPPER(Sheet1!G121)&\" \"&PROPER(Sheet1!H121)&\"(\"&Sheet1!I121&\")\"))","v":""},{"$f":"IF(Sheet1!J121=\"\",\"\",IF(Sheet1!J121=\"女\",2,1))","v":""},{"$f":"IF(Sheet1!K121=\"\",\"\",VLOOKUP(Sheet1!K121,Sheet2!$F$2:$G$50,2,FALSE))","v":""},{"$f":"IF(Sheet1!L121=\"\",\"\",(Sheet1!L121))","v":""},{"$f":"IF(B108=\"\",\"\",VALUE(LEFT(Sheet1!E$4,6)))","v":""},{"$f":"IF(Sheet1!B121=\"\",\"\",VALUE(Sheet1!B121))","v":""},{"$f":"IF(Sheet1!M121=\"\",\"\",IF(VLOOKUP(Sheet1!M121,Sheet2!$A$2:$C$44,3,FALSE)>=71,VLOOKUP(Sheet1!M121,Sheet2!$A$2:$C$44,2,FALSE)&TEXT(Sheet1!O121,\"00\")&TEXT(Sheet1!P121,\"00\"),VLOOKUP(Sheet1!M121,Sheet2!$A$2:$C$44,2,FALSE)&TEXT(Sheet1!N121,\"00\")&TEXT(Sheet1!O121,\"00\")&IF(Sheet1!Q121=\"手\",TEXT(Sheet1!P121,\"0\"),TEXT(Sheet1!P121,\"00\"))))","v":""},{"$f":"IF(Sheet1!R121=\"\",\"\",IF(VLOOKUP(Sheet1!R121,Sheet2!$A$2:$C$44,3,FALSE)>=71,VLOOKUP(Sheet1!R121,Sheet2!$A$2:$C$44,2,FALSE)&TEXT(Sheet1!T121,\"00\")&TEXT(Sheet1!U121,\"00\"),VLOOKUP(Sheet1!R121,Sheet2!$A$2:$C$44,2,FALSE)&TEXT(Sheet1!S121,\"00\")&TEXT(Sheet1!T121,\"00\")&IF(Sheet1!V121=\"手\",TEXT(Sheet1!U121,\"0\"),TEXT(Sheet1!U121,\"00\"))))","v":""},{"$f":"IF(Sheet1!W121=\"\",\"\",IF(VLOOKUP(Sheet1!W121,Sheet2!$A$2:$C$44,3,FALSE)>=71,VLOOKUP(Sheet1!W121,Sheet2!$A$2:$C$44,2,FALSE)&TEXT(Sheet1!Y121,\"00\")&TEXT(Sheet1!Z121,\"00\"),VLOOKUP(Sheet1!W121,Sheet2!$A$2:$C$44,2,FALSE)&TEXT(Sheet1!X121,\"00\")&TEXT(Sheet1!Y121,\"00\")&IF(Sheet1!AA121=\"手\",TEXT(Sheet1!Z121,\"0\"),TEXT(Sheet1!Z121,\"00\"))))","v":""},{"$f":"IF(Sheet1!AD121=\"\",\"\",\"●\")","v":""},{"$f":"IF(Sheet1!AE121=\"\",\"\",\"▲\")","v":""},{"$f":"IF(Sheet1!AF121=\"\",\"\",\"★\")","v":""},{"$f":"IF(Sheet1!AG121=\"\",\"\",\"▼\")","v":""}]
["",{"$f":"ASC(IF(Sheet1!C122=\"\",\"\",IF(LEN(Sheet1!C122)+LEN(Sheet1!D122)=2,Sheet1!C122&\"      \"&Sheet1!D122&\"(\"&Sheet1!I122&\")\",IF(LEN(Sheet1!C122)+LEN(Sheet1!D122)=3,Sheet1!C122&\"    \"&Sheet1!D122&\"(\"&Sheet1!I122&\")\",IF(LEN(Sheet1!C122)+LEN(Sheet1!D122)=4,Sheet1!C122&\"  \"&Sheet1!D122&\"(\"&Sheet1!I122&\")\",IF(LEN(Sheet1!C122)+LEN(Sheet1!D122)>=5,Sheet1!C122&Sheet1!D122&\"(\"&Sheet1!I122&\")\",\"\"))))))","v":""},{"$f":"ASC(IF(Sheet1!E122=\"\",\"\",Sheet1!E122&\" \"&Sheet1!F122))","v":""},{"$f":"ASC(IF(Sheet1!G122=\"\",\"\",UPPER(Sheet1!G122)&\" \"&PROPER(Sheet1!H122)&\"(\"&Sheet1!I122&\")\"))","v":""},{"$f":"IF(Sheet1!J122=\"\",\"\",IF(Sheet1!J122=\"女\",2,1))","v":""},{"$f":"IF(Sheet1!K122=\"\",\"\",VLOOKUP(Sheet1!K122,Sheet2!$F$2:$G$50,2,FALSE))","v":""},{"$f":"IF(Sheet1!L122=\"\",\"\",(Sheet1!L122))","v":""},{"$f":"IF(B109=\"\",\"\",VALUE(LEFT(Sheet1!E$4,6)))","v":""},{"$f":"IF(Sheet1!B122=\"\",\"\",VALUE(Sheet1!B122))","v":""},{"$f":"IF(Sheet1!M122=\"\",\"\",IF(VLOOKUP(Sheet1!M122,Sheet2!$A$2:$C$44,3,FALSE)>=71,VLOOKUP(Sheet1!M122,Sheet2!$A$2:$C$44,2,FALSE)&TEXT(Sheet1!O122,\"00\")&TEXT(Sheet1!P122,\"00\"),VLOOKUP(Sheet1!M122,Sheet2!$A$2:$C$44,2,FALSE)&TEXT(Sheet1!N122,\"00\")&TEXT(Sheet1!O122,\"00\")&IF(Sheet1!Q122=\"手\",TEXT(Sheet1!P122,\"0\"),TEXT(Sheet1!P122,\"00\"))))","v":""},{"$f":"IF(Sheet1!R122=\"\",\"\",IF(VLOOKUP(Sheet1!R122,Sheet2!$A$2:$C$44,3,FALSE)>=71,VLOOKUP(Sheet1!R122,Sheet2!$A$2:$C$44,2,FALSE)&TEXT(Sheet1!T122,\"00\")&TEXT(Sheet1!U122,\"00\"),VLOOKUP(Sheet1!R122,Sheet2!$A$2:$C$44,2,FALSE)&TEXT(Sheet1!S122,\"00\")&TEXT(Sheet1!T122,\"00\")&IF(Sheet1!V122=\"手\",TEXT(Sheet1!U122,\"0\"),TEXT(Sheet1!U122,\"00\"))))","v":""},{"$f":"IF(Sheet1!W122=\"\",\"\",IF(VLOOKUP(Sheet1!W122,Sheet2!$A$2:$C$44,3,FALSE)>=71,VLOOKUP(Sheet1!W122,Sheet2!$A$2:$C$44,2,FALSE)&TEXT(Sheet1!Y122,\"00\")&TEXT(Sheet1!Z122,\"00\"),VLOOKUP(Sheet1!W122,Sheet2!$A$2:$C$44,2,FALSE)&TEXT(Sheet1!X122,\"00\")&TEXT(Sheet1!Y122,\"00\")&IF(Sheet1!AA122=\"手\",TEXT(Sheet1!Z122,\"0\"),TEXT(Sheet1!Z122,\"00\"))))","v":""},{"$f":"IF(Sheet1!AD122=\"\",\"\",\"●\")","v":""},{"$f":"IF(Sheet1!AE122=\"\",\"\",\"▲\")","v":""},{"$f":"IF(Sheet1!AF122=\"\",\"\",\"★\")","v":""},{"$f":"IF(Sheet1!AG122=\"\",\"\",\"▼\")","v":""}]
["",{"$f":"ASC(IF(Sheet1!C123=\"\",\"\",IF(LEN(Sheet1!C123)+LEN(Sheet1!D123)=2,Sheet1!C123&\"      \"&Sheet1!D123&\"(\"&Sheet1!I123&\")\",IF(LEN(Sheet1!C123)+LEN(Sheet1!D123)=3,Sheet1!C123&\"    \"&Sheet1!D123&\"(\"&Sheet1!I123&\")\",IF(LEN(Sheet1!C123)+LEN(Sheet1!D123)=4,Sheet1!C123&\"  \"&Sheet1!D123&\"(\"&Sheet1!I123&\")\",IF(LEN(Sheet1!C123)+LEN(Sheet1!D123)>=5,Sheet1!C123&Sheet1!D123&\"(\"&Sheet1!I123&\")\",\"\"))))))","v":""},{"$f":"ASC(IF(Sheet1!E123=\"\",\"\",Sheet1!E123&\" \"&Sheet1!F123))","v":""},{"$f":"ASC(IF(Sheet1!G123=\"\",\"\",UPPER(Sheet1!G123)&\" \"&PROPER(Sheet1!H123)&\"(\"&Sheet1!I123&\")\"))","v":""},{"$f":"IF(Sheet1!J123=\"\",\"\",IF(Sheet1!J123=\"女\",2,1))","v":""},{"$f":"IF(Sheet1!K123=\"\",\"\",VLOOKUP(Sheet1!K123,Sheet2!$F$2:$G$50,2,FALSE))","v":""},{"$f":"IF(Sheet1!L123=\"\",\"\",(Sheet1!L123))","v":""},{"$f":"IF(B110=\"\",\"\",VALUE(LEFT(Sheet1!E$4,6)))","v":""},{"$f":"IF(Sheet1!B123=\"\",\"\",VALUE(Sheet1!B123))","v":""},{"$f":"IF(Sheet1!M123=\"\",\"\",IF(VLOOKUP(Sheet1!M123,Sheet2!$A$2:$C$44,3,FALSE)>=71,VLOOKUP(Sheet1!M123,Sheet2!$A$2:$C$44,2,FALSE)&TEXT(Sheet1!O123,\"00\")&TEXT(Sheet1!P123,\"00\"),VLOOKUP(Sheet1!M123,Sheet2!$A$2:$C$44,2,FALSE)&TEXT(Sheet1!N123,\"00\")&TEXT(Sheet1!O123,\"00\")&IF(Sheet1!Q123=\"手\",TEXT(Sheet1!P123,\"0\"),TEXT(Sheet1!P123,\"00\"))))","v":""},{"$f":"IF(Sheet1!R123=\"\",\"\",IF(VLOOKUP(Sheet1!R123,Sheet2!$A$2:$C$44,3,FALSE)>=71,VLOOKUP(Sheet1!R123,Sheet2!$A$2:$C$44,2,FALSE)&TEXT(Sheet1!T123,\"00\")&TEXT(Sheet1!U123,\"00\"),VLOOKUP(Sheet1!R123,Sheet2!$A$2:$C$44,2,FALSE)&TEXT(Sheet1!S123,\"00\")&TEXT(Sheet1!T123,\"00\")&IF(Sheet1!V123=\"手\",TEXT(Sheet1!U123,\"0\"),TEXT(Sheet1!U123,\"00\"))))","v":""},{"$f":"IF(Sheet1!W123=\"\",\"\",IF(VLOOKUP(Sheet1!W123,Sheet2!$A$2:$C$44,3,FALSE)>=71,VLOOKUP(Sheet1!W123,Sheet2!$A$2:$C$44,2,FALSE)&TEXT(Sheet1!Y123,\"00\")&TEXT(Sheet1!Z123,\"00\"),VLOOKUP(Sheet1!W123,Sheet2!$A$2:$C$44,2,FALSE)&TEXT(Sheet1!X123,\"00\")&TEXT(Sheet1!Y123,\"00\")&IF(Sheet1!AA123=\"手\",TEXT(Sheet1!Z123,\"0\"),TEXT(Sheet1!Z123,\"00\"))))","v":""},{"$f":"IF(Sheet1!AD123=\"\",\"\",\"●\")","v":""},{"$f":"IF(Sheet1!AE123=\"\",\"\",\"▲\")","v":""},{"$f":"IF(Sheet1!AF123=\"\",\"\",\"★\")","v":""},{"$f":"IF(Sheet1!AG123=\"\",\"\",\"▼\")","v":""}]
["",{"$f":"ASC(IF(Sheet1!C124=\"\",\"\",IF(LEN(Sheet1!C124)+LEN(Sheet1!D124)=2,Sheet1!C124&\"      \"&Sheet1!D124&\"(\"&Sheet1!I124&\")\",IF(LEN(Sheet1!C124)+LEN(Sheet1!D124)=3,Sheet1!C124&\"    \"&Sheet1!D124&\"(\"&Sheet1!I124&\")\",IF(LEN(Sheet1!C124)+LEN(Sheet1!D124)=4,Sheet1!C124&\"  \"&Sheet1!D124&\"(\"&Sheet1!I124&\")\",IF(LEN(Sheet1!C124)+LEN(Sheet1!D124)>=5,Sheet1!C124&Sheet1!D124&\"(\"&Sheet1!I124&\")\",\"\"))))))","v":""},{"$f":"ASC(IF(Sheet1!E124=\"\",\"\",Sheet1!E124&\" \"&Sheet1!F124))","v":""},{"$f":"ASC(IF(Sheet1!G124=\"\",\"\",UPPER(Sheet1!G124)&\" \"&PROPER(Sheet1!H124)&\"(\"&Sheet1!I124&\")\"))","v":""},{"$f":"IF(Sheet1!J124=\"\",\"\",IF(Sheet1!J124=\"女\",2,1))","v":""},{"$f":"IF(Sheet1!K124=\"\",\"\",VLOOKUP(Sheet1!K124,Sheet2!$F$2:$G$50,2,FALSE))","v":""},{"$f":"IF(Sheet1!L124=\"\",\"\",(Sheet1!L124))","v":""},{"$f":"IF(B111=\"\",\"\",VALUE(LEFT(Sheet1!E$4,6)))","v":""},{"$f":"IF(Sheet1!B124=\"\",\"\",VALUE(Sheet1!B124))","v":""},{"$f":"IF(Sheet1!M124=\"\",\"\",IF(VLOOKUP(Sheet1!M124,Sheet2!$A$2:$C$44,3,FALSE)>=71,VLOOKUP(Sheet1!M124,Sheet2!$A$2:$C$44,2,FALSE)&TEXT(Sheet1!O124,\"00\")&TEXT(Sheet1!P124,\"00\"),VLOOKUP(Sheet1!M124,Sheet2!$A$2:$C$44,2,FALSE)&TEXT(Sheet1!N124,\"00\")&TEXT(Sheet1!O124,\"00\")&IF(Sheet1!Q124=\"手\",TEXT(Sheet1!P124,\"0\"),TEXT(Sheet1!P124,\"00\"))))","v":""},{"$f":"IF(Sheet1!R124=\"\",\"\",IF(VLOOKUP(Sheet1!R124,Sheet2!$A$2:$C$44,3,FALSE)>=71,VLOOKUP(Sheet1!R124,Sheet2!$A$2:$C$44,2,FALSE)&TEXT(Sheet1!T124,\"00\")&TEXT(Sheet1!U124,\"00\"),VLOOKUP(Sheet1!R124,Sheet2!$A$2:$C$44,2,FALSE)&TEXT(Sheet1!S124,\"00\")&TEXT(Sheet1!T124,\"00\")&IF(Sheet1!V124=\"手\",TEXT(Sheet1!U124,\"0\"),TEXT(Sheet1!U124,\"00\"))))","v":""},{"$f":"IF(Sheet1!W124=\"\",\"\",IF(VLOOKUP(Sheet1!W124,Sheet2!$A$2:$C$44,3,FALSE)>=71,VLOOKUP(Sheet1!W124,Sheet2!$A$2:$C$44,2,FALSE)&TEXT(Sheet1!Y124,\"00\")&TEXT(Sheet1!Z124,\"00\"),VLOOKUP(Sheet1!W124,Sheet2!$A$2:$C$44,2,FALSE)&TEXT(Sheet1!X124,\"00\")&TEXT(Sheet1!Y124,\"00\")&IF(Sheet1!AA124=\"手\",TEXT(Sheet1!Z124,\"0\"),TEXT(Sheet1!Z124,\"00\"))))","v":""},{"$f":"IF(Sheet1!AD124=\"\",\"\",\"●\")","v":""},{"$f":"IF(Sheet1!AE124=\"\",\"\",\"▲\")","v":""},{"$f":"IF(Sheet1!AF124=\"\",\"\",\"★\")","v":""},{"$f":"IF(Sheet1!AG124=\"\",\"\",\"▼\")","v":""}]
["",{"$f":"ASC(IF(Sheet1!C125=\"\",\"\",IF(LEN(Sheet1!C125)+LEN(Sheet1!D125)=2,Sheet1!C125&\"      \"&Sheet1!D125&\"(\"&Sheet1!I125&\")\",IF(LEN(Sheet1!C125)+LEN(Sheet1!D125)=3,Sheet1!C125&\"    \"&Sheet1!D125&\"(\"&Sheet1!I125&\")\",IF(LEN(Sheet1!C125)+LEN(Sheet1!D125)=4,Sheet1!C125&\"  \"&Sheet1!D125&\"(\"&Sheet1!I125&\")\",IF(LEN(Sheet1!C125)+LEN(Sheet1!D125)>=5,Sheet1!C125&Sheet1!D125&\"(\"&Sheet1!I125&\")\",\"\"))))))","v":""},{"$f":"ASC(IF(Sheet1!E125=\"\",\"\",Sheet1!E125&\" \"&Sheet1!F125))","v":""},{"$f":"ASC(IF(Sheet1!G125=\"\",\"\",UPPER(Sheet1!G125)&\" \"&PROPER(Sheet1!H125)&\"(\"&Sheet1!I125&\")\"))","v":""},{"$f":"IF(Sheet1!J125=\"\",\"\",IF(Sheet1!J125=\"女\",2,1))","v":""},{"$f":"IF(Sheet1!K125=\"\",\"\",VLOOKUP(Sheet1!K125,Sheet2!$F$2:$G$50,2,FALSE))","v":""},{"$f":"IF(Sheet1!L125=\"\",\"\",(Sheet1!L125))","v":""},{"$f":"IF(B112=\"\",\"\",VALUE(LEFT(Sheet1!E$4,6)))","v":""},{"$f":"IF(Sheet1!B125=\"\",\"\",VALUE(Sheet1!B125))","v":""},{"$f":"IF(Sheet1!M125=\"\",\"\",IF(VLOOKUP(Sheet1!M125,Sheet2!$A$2:$C$44,3,FALSE)>=71,VLOOKUP(Sheet1!M125,Sheet2!$A$2:$C$44,2,FALSE)&TEXT(Sheet1!O125,\"00\")&TEXT(Sheet1!P125,\"00\"),VLOOKUP(Sheet1!M125,Sheet2!$A$2:$C$44,2,FALSE)&TEXT(Sheet1!N125,\"00\")&TEXT(Sheet1!O125,\"00\")&IF(Sheet1!Q125=\"手\",TEXT(Sheet1!P125,\"0\"),TEXT(Sheet1!P125,\"00\"))))","v":""},{"$f":"IF(Sheet1!R125=\"\",\"\",IF(VLOOKUP(Sheet1!R125,Sheet2!$A$2:$C$44,3,FALSE)>=71,VLOOKUP(Sheet1!R125,Sheet2!$A$2:$C$44,2,FALSE)&TEXT(Sheet1!T125,\"00\")&TEXT(Sheet1!U125,\"00\"),VLOOKUP(Sheet1!R125,Sheet2!$A$2:$C$44,2,FALSE)&TEXT(Sheet1!S125,\"00\")&TEXT(Sheet1!T125,\"00\")&IF(Sheet1!V125=\"手\",TEXT(Sheet1!U125,\"0\"),TEXT(Sheet1!U125,\"00\"))))","v":""},{"$f":"IF(Sheet1!W125=\"\",\"\",IF(VLOOKUP(Sheet1!W125,Sheet2!$A$2:$C$44,3,FALSE)>=71,VLOOKUP(Sheet1!W125,Sheet2!$A$2:$C$44,2,FALSE)&TEXT(Sheet1!Y125,\"00\")&TEXT(Sheet1!Z125,\"00\"),VLOOKUP(Sheet1!W125,Sheet2!$A$2:$C$44,2,FALSE)&TEXT(Sheet1!X125,\"00\")&TEXT(Sheet1!Y125,\"00\")&IF(Sheet1!AA125=\"手\",TEXT(Sheet1!Z125,\"0\"),TEXT(Sheet1!Z125,\"00\"))))","v":""},{"$f":"IF(Sheet1!AD125=\"\",\"\",\"●\")","v":""},{"$f":"IF(Sheet1!AE125=\"\",\"\",\"▲\")","v":""},{"$f":"IF(Sheet1!AF125=\"\",\"\",\"★\")","v":""},{"$f":"IF(Sheet1!AG125=\"\",\"\",\"▼\")","v":""}]
["",{"$f":"ASC(IF(Sheet1!C126=\"\",\"\",IF(LEN(Sheet1!C126)+LEN(Sheet1!D126)=2,Sheet1!C126&\"      \"&Sheet1!D126&\"(\"&Sheet1!I126&\")\",IF(LEN(Sheet1!C126)+LEN(Sheet1!D126)=3,Sheet1!C126&\"    \"&Sheet1!D126&\"(\"&Sheet1!I126&\")\",IF(LEN(Sheet1!C126)+LEN(Sheet1!D126)=4,Sheet1!C126&\"  \"&Sheet1!D126&\"(\"&Sheet1!I126&\")\",IF(LEN(Sheet1!C126)+LEN(Sheet1!D126)>=5,Sheet1!C126&Sheet1!D126&\"(\"&Sheet1!I126&\")\",\"\"))))))","v":""},{"$f":"ASC(IF(Sheet1!E126=\"\",\"\",Sheet1!E126&\" \"&Sheet1!F126))","v":""},{"$f":"ASC(IF(Sheet1!G126=\"\",\"\",UPPER(Sheet1!G126)&\" \"&PROPER(Sheet1!H126)&\"(\"&Sheet1!I126&\")\"))","v":""},{"$f":"IF(Sheet1!J126=\"\",\"\",IF(Sheet1!J126=\"女\",2,1))","v":""},{"$f":"IF(Sheet1!K126=\"\",\"\",VLOOKUP(Sheet1!K126,Sheet2!$F$2:$G$50,2,FALSE))","v":""},{"$f":"IF(Sheet1!L126=\"\",\"\",(Sheet1!L126))","v":""},{"$f":"IF(B113=\"\",\"\",VALUE(LEFT(Sheet1!E$4,6)))","v":""},{"$f":"IF(Sheet1!B126=\"\",\"\",VALUE(Sheet1!B126))","v":""},{"$f":"IF(Sheet1!M126=\"\",\"\",IF(VLOOKUP(Sheet1!M126,Sheet2!$A$2:$C$44,3,FALSE)>=71,VLOOKUP(Sheet1!M126,Sheet2!$A$2:$C$44,2,FALSE)&TEXT(Sheet1!O126,\"00\")&TEXT(Sheet1!P126,\"00\"),VLOOKUP(Sheet1!M126,Sheet2!$A$2:$C$44,2,FALSE)&TEXT(Sheet1!N126,\"00\")&TEXT(Sheet1!O126,\"00\")&IF(Sheet1!Q126=\"手\",TEXT(Sheet1!P126,\"0\"),TEXT(Sheet1!P126,\"00\"))))","v":""},{"$f":"IF(Sheet1!R126=\"\",\"\",IF(VLOOKUP(Sheet1!R126,Sheet2!$A$2:$C$44,3,FALSE)>=71,VLOOKUP(Sheet1!R126,Sheet2!$A$2:$C$44,2,FALSE)&TEXT(Sheet1!T126,\"00\")&TEXT(Sheet1!U126,\"00\"),VLOOKUP(Sheet1!R126,Sheet2!$A$2:$C$44,2,FALSE)&TEXT(Sheet1!S126,\"00\")&TEXT(Sheet1!T126,\"00\")&IF(Sheet1!V126=\"手\",TEXT(Sheet1!U126,\"0\"),TEXT(Sheet1!U126,\"00\"))))","v":""},{"$f":"IF(Sheet1!W126=\"\",\"\",IF(VLOOKUP(Sheet1!W126,Sheet2!$A$2:$C$44,3,FALSE)>=71,VLOOKUP(Sheet1!W126,Sheet2!$A$2:$C$44,2,FALSE)&TEXT(Sheet1!Y126,\"00\")&TEXT(Sheet1!Z126,\"00\"),VLOOKUP(Sheet1!W126,Sheet2!$A$2:$C$44,2,FALSE)&TEXT(Sheet1!X126,\"00\")&TEXT(Sheet1!Y126,\"00\")&IF(Sheet1!AA126=\"手\",TEXT(Sheet1!Z126,\"0\"),TEXT(Sheet1!Z126,\"00\"))))","v":""},{"$f":"IF(Sheet1!AD126=\"\",\"\",\"●\")","v":""},{"$f":"IF(Sheet1!AE126=\"\",\"\",\"▲\")","v":""},{"$f":"IF(Sheet1!AF126=\"\",\"\",\"★\")","v":""},{"$f":"IF(Sheet1!AG126=\"\",\"\",\"▼\")","v":""}]
["",{"$f":"ASC(IF(Sheet1!C127=\"\",\"\",IF(LEN(Sheet1!C127)+LEN(Sheet1!D127)=2,Sheet1!C127&\"      \"&Sheet1!D127&\"(\"&Sheet1!I127&\")\",IF(LEN(Sheet1!C127)+LEN(Sheet1!D127)=3,Sheet1!C127&\"    \"&Sheet1!D127&\"(\"&Sheet1!I127&\")\",IF(LEN(Sheet1!C127)+LEN(Sheet1!D127)=4,Sheet1!C127&\"  \"&Sheet1!D127&\"(\"&Sheet1!I127&\")\",IF(LEN(Sheet1!C127)+LEN(Sheet1!D127)>=5,Sheet1!C127&Sheet1!D127&\"(\"&Sheet1!I127&\")\",\"\"))))))","v":""},{"$f":"ASC(IF(Sheet1!E127=\"\",\"\",Sheet1!E127&\" \"&Sheet1!F127))","v":""},{"$f":"ASC(IF(Sheet1!G127=\"\",\"\",UPPER(Sheet1!G127)&\" \"&PROPER(Sheet1!H127)&\"(\"&Sheet1!I127&\")\"))","v":""},{"$f":"IF(Sheet1!J127=\"\",\"\",IF(Sheet1!J127=\"女\",2,1))","v":""},{"$f":"IF(Sheet1!K127=\"\",\"\",VLOOKUP(Sheet1!K127,Sheet2!$F$2:$G$50,2,FALSE))","v":""},{"$f":"IF(Sheet1!L127=\"\",\"\",(Sheet1!L127))","v":""},{"$f":"IF(B114=\"\",\"\",VALUE(LEFT(Sheet1!E$4,6)))","v":""},{"$f":"IF(Sheet1!B127=\"\",\"\",VALUE(Sheet1!B127))","v":""},{"$f":"IF(Sheet1!M127=\"\",\"\",IF(VLOOKUP(Sheet1!M127,Sheet2!$A$2:$C$44,3,FALSE)>=71,VLOOKUP(Sheet1!M127,Sheet2!$A$2:$C$44,2,FALSE)&TEXT(Sheet1!O127,\"00\")&TEXT(Sheet1!P127,\"00\"),VLOOKUP(Sheet1!M127,Sheet2!$A$2:$C$44,2,FALSE)&TEXT(Sheet1!N127,\"00\")&TEXT(Sheet1!O127,\"00\")&IF(Sheet1!Q127=\"手\",TEXT(Sheet1!P127,\"0\"),TEXT(Sheet1!P127,\"00\"))))","v":""},{"$f":"IF(Sheet1!R127=\"\",\"\",IF(VLOOKUP(Sheet1!R127,Sheet2!$A$2:$C$44,3,FALSE)>=71,VLOOKUP(Sheet1!R127,Sheet2!$A$2:$C$44,2,FALSE)&TEXT(Sheet1!T127,\"00\")&TEXT(Sheet1!U127,\"00\"),VLOOKUP(Sheet1!R127,Sheet2!$A$2:$C$44,2,FALSE)&TEXT(Sheet1!S127,\"00\")&TEXT(Sheet1!T127,\"00\")&IF(Sheet1!V127=\"手\",TEXT(Sheet1!U127,\"0\"),TEXT(Sheet1!U127,\"00\"))))","v":""},{"$f":"IF(Sheet1!W127=\"\",\"\",IF(VLOOKUP(Sheet1!W127,Sheet2!$A$2:$C$44,3,FALSE)>=71,VLOOKUP(Sheet1!W127,Sheet2!$A$2:$C$44,2,FALSE)&TEXT(Sheet1!Y127,\"00\")&TEXT(Sheet1!Z127,\"00\"),VLOOKUP(Sheet1!W127,Sheet2!$A$2:$C$44,2,FALSE)&TEXT(Sheet1!X127,\"00\")&TEXT(Sheet1!Y127,\"00\")&IF(Sheet1!AA127=\"手\",TEXT(Sheet1!Z127,\"0\"),TEXT(Sheet1!Z127,\"00\"))))","v":""},{"$f":"IF(Sheet1!AD127=\"\",\"\",\"●\")","v":""},{"$f":"IF(Sheet1!AE127=\"\",\"\",\"▲\")","v":""},{"$f":"IF(Sheet1!AF127=\"\",\"\",\"★\")","v":""},{"$f":"IF(Sheet1!AG127=\"\",\"\",\"▼\")","v":""}]
["",{"$f":"ASC(IF(Sheet1!C128=\"\",\"\",IF(LEN(Sheet1!C128)+LEN(Sheet1!D128)=2,Sheet1!C128&\"      \"&Sheet1!D128&\"(\"&Sheet1!I128&\")\",IF(LEN(Sheet1!C128)+LEN(Sheet1!D128)=3,Sheet1!C128&\"    \"&Sheet1!D128&\"(\"&Sheet1!I128&\")\",IF(LEN(Sheet1!C128)+LEN(Sheet1!D128)=4,Sheet1!C128&\"  \"&Sheet1!D128&\"(\"&Sheet1!I128&\")\",IF(LEN(Sheet1!C128)+LEN(Sheet1!D128)>=5,Sheet1!C128&Sheet1!D128&\"(\"&Sheet1!I128&\")\",\"\"))))))","v":""},{"$f":"ASC(IF(Sheet1!E128=\"\",\"\",Sheet1!E128&\" \"&Sheet1!F128))","v":""},{"$f":"ASC(IF(Sheet1!G128=\"\",\"\",UPPER(Sheet1!G128)&\" \"&PROPER(Sheet1!H128)&\"(\"&Sheet1!I128&\")\"))","v":""},{"$f":"IF(Sheet1!J128=\"\",\"\",IF(Sheet1!J128=\"女\",2,1))","v":""},{"$f":"IF(Sheet1!K128=\"\",\"\",VLOOKUP(Sheet1!K128,Sheet2!$F$2:$G$50,2,FALSE))","v":""},{"$f":"IF(Sheet1!L128=\"\",\"\",(Sheet1!L128))","v":""},{"$f":"IF(B115=\"\",\"\",VALUE(LEFT(Sheet1!E$4,6)))","v":""},{"$f":"IF(Sheet1!B128=\"\",\"\",VALUE(Sheet1!B128))","v":""},{"$f":"IF(Sheet1!M128=\"\",\"\",IF(VLOOKUP(Sheet1!M128,Sheet2!$A$2:$C$44,3,FALSE)>=71,VLOOKUP(Sheet1!M128,Sheet2!$A$2:$C$44,2,FALSE)&TEXT(Sheet1!O128,\"00\")&TEXT(Sheet1!P128,\"00\"),VLOOKUP(Sheet1!M128,Sheet2!$A$2:$C$44,2,FALSE)&TEXT(Sheet1!N128,\"00\")&TEXT(Sheet1!O128,\"00\")&IF(Sheet1!Q128=\"手\",TEXT(Sheet1!P128,\"0\"),TEXT(Sheet1!P128,\"00\"))))","v":""},{"$f":"IF(Sheet1!R128=\"\",\"\",IF(VLOOKUP(Sheet1!R128,Sheet2!$A$2:$C$44,3,FALSE)>=71,VLOOKUP(Sheet1!R128,Sheet2!$A$2:$C$44,2,FALSE)&TEXT(Sheet1!T128,\"00\")&TEXT(Sheet1!U128,\"00\"),VLOOKUP(Sheet1!R128,Sheet2!$A$2:$C$44,2,FALSE)&TEXT(Sheet1!S128,\"00\")&TEXT(Sheet1!T128,\"00\")&IF(Sheet1!V128=\"手\",TEXT(Sheet1!U128,\"0\"),TEXT(Sheet1!U128,\"00\"))))","v":""},{"$f":"IF(Sheet1!W128=\"\",\"\",IF(VLOOKUP(Sheet1!W128,Sheet2!$A$2:$C$44,3,FALSE)>=71,VLOOKUP(Sheet1!W128,Sheet2!$A$2:$C$44,2,FALSE)&TEXT(Sheet1!Y128,\"00\")&TEXT(Sheet1!Z128,\"00\"),VLOOKUP(Sheet1!W128,Sheet2!$A$2:$C$44,2,FALSE)&TEXT(Sheet1!X128,\"00\")&TEXT(Sheet1!Y128,\"00\")&IF(Sheet1!AA128=\"手\",TEXT(Sheet1!Z128,\"0\"),TEXT(Sheet1!Z128,\"00\"))))","v":""},{"$f":"IF(Sheet1!AD128=\"\",\"\",\"●\")","v":""},{"$f":"IF(Sheet1!AE128=\"\",\"\",\"▲\")","v":""},{"$f":"IF(Sheet1!AF128=\"\",\"\",\"★\")","v":""},{"$f":"IF(Sheet1!AG128=\"\",\"\",\"▼\")","v":""}]
["",{"$f":"ASC(IF(Sheet1!C129=\"\",\"\",IF(LEN(Sheet1!C129)+LEN(Sheet1!D129)=2,Sheet1!C129&\"      \"&Sheet1!D129&\"(\"&Sheet1!I129&\")\",IF(LEN(Sheet1!C129)+LEN(Sheet1!D129)=3,Sheet1!C129&\"    \"&Sheet1!D129&\"(\"&Sheet1!I129&\")\",IF(LEN(Sheet1!C129)+LEN(Sheet1!D129)=4,Sheet1!C129&\"  \"&Sheet1!D129&\"(\"&Sheet1!I129&\")\",IF(LEN(Sheet1!C129)+LEN(Sheet1!D129)>=5,Sheet1!C129&Sheet1!D129&\"(\"&Sheet1!I129&\")\",\"\"))))))","v":""},{"$f":"ASC(IF(Sheet1!E129=\"\",\"\",Sheet1!E129&\" \"&Sheet1!F129))","v":""},{"$f":"ASC(IF(Sheet1!G129=\"\",\"\",UPPER(Sheet1!G129)&\" \"&PROPER(Sheet1!H129)&\"(\"&Sheet1!I129&\")\"))","v":""},{"$f":"IF(Sheet1!J129=\"\",\"\",IF(Sheet1!J129=\"女\",2,1))","v":""},{"$f":"IF(Sheet1!K129=\"\",\"\",VLOOKUP(Sheet1!K129,Sheet2!$F$2:$G$50,2,FALSE))","v":""},{"$f":"IF(Sheet1!L129=\"\",\"\",(Sheet1!L129))","v":""},{"$f":"IF(B116=\"\",\"\",VALUE(LEFT(Sheet1!E$4,6)))","v":""},{"$f":"IF(Sheet1!B129=\"\",\"\",VALUE(Sheet1!B129))","v":""},{"$f":"IF(Sheet1!M129=\"\",\"\",IF(VLOOKUP(Sheet1!M129,Sheet2!$A$2:$C$44,3,FALSE)>=71,VLOOKUP(Sheet1!M129,Sheet2!$A$2:$C$44,2,FALSE)&TEXT(Sheet1!O129,\"00\")&TEXT(Sheet1!P129,\"00\"),VLOOKUP(Sheet1!M129,Sheet2!$A$2:$C$44,2,FALSE)&TEXT(Sheet1!N129,\"00\")&TEXT(Sheet1!O129,\"00\")&IF(Sheet1!Q129=\"手\",TEXT(Sheet1!P129,\"0\"),TEXT(Sheet1!P129,\"00\"))))","v":""},{"$f":"IF(Sheet1!R129=\"\",\"\",IF(VLOOKUP(Sheet1!R129,Sheet2!$A$2:$C$44,3,FALSE)>=71,VLOOKUP(Sheet1!R129,Sheet2!$A$2:$C$44,2,FALSE)&TEXT(Sheet1!T129,\"00\")&TEXT(Sheet1!U129,\"00\"),VLOOKUP(Sheet1!R129,Sheet2!$A$2:$C$44,2,FALSE)&TEXT(Sheet1!S129,\"00\")&TEXT(Sheet1!T129,\"00\")&IF(Sheet1!V129=\"手\",TEXT(Sheet1!U129,\"0\"),TEXT(Sheet1!U129,\"00\"))))","v":""},{"$f":"IF(Sheet1!W129=\"\",\"\",IF(VLOOKUP(Sheet1!W129,Sheet2!$A$2:$C$44,3,FALSE)>=71,VLOOKUP(Sheet1!W129,Sheet2!$A$2:$C$44,2,FALSE)&TEXT(Sheet1!Y129,\"00\")&TEXT(Sheet1!Z129,\"00\"),VLOOKUP(Sheet1!W129,Sheet2!$A$2:$C$44,2,FALSE)&TEXT(Sheet1!X129,\"00\")&TEXT(Sheet1!Y129,\"00\")&IF(Sheet1!AA129=\"手\",TEXT(Sheet1!Z129,\"0\"),TEXT(Sheet1!Z129,\"00\"))))","v":""},{"$f":"IF(Sheet1!AD129=\"\",\"\",\"●\")","v":""},{"$f":"IF(Sheet1!AE129=\"\",\"\",\"▲\")","v":""},{"$f":"IF(Sheet1!AF129=\"\",\"\",\"★\")","v":""},{"$f":"IF(Sheet1!AG129=\"\",\"\",\"▼\")","v":""}]
["",{"$f":"ASC(IF(Sheet1!C130=\"\",\"\",IF(LEN(Sheet1!C130)+LEN(Sheet1!D130)=2,Sheet1!C130&\"      \"&Sheet1!D130&\"(\"&Sheet1!I130&\")\",IF(LEN(Sheet1!C130)+LEN(Sheet1!D130)=3,Sheet1!C130&\"    \"&Sheet1!D130&\"(\"&Sheet1!I130&\")\",IF(LEN(Sheet1!C130)+LEN(Sheet1!D130)=4,Sheet1!C130&\"  \"&Sheet1!D130&\"(\"&Sheet1!I130&\")\",IF(LEN(Sheet1!C130)+LEN(Sheet1!D130)>=5,Sheet1!C130&Sheet1!D130&\"(\"&Sheet1!I130&\")\",\"\"))))))","v":""},{"$f":"ASC(IF(Sheet1!E130=\"\",\"\",Sheet1!E130&\" \"&Sheet1!F130))","v":""},{"$f":"ASC(IF(Sheet1!G130=\"\",\"\",UPPER(Sheet1!G130)&\" \"&PROPER(Sheet1!H130)&\"(\"&Sheet1!I130&\")\"))","v":""},{"$f":"IF(Sheet1!J130=\"\",\"\",IF(Sheet1!J130=\"女\",2,1))","v":""},{"$f":"IF(Sheet1!K130=\"\",\"\",VLOOKUP(Sheet1!K130,Sheet2!$F$2:$G$50,2,FALSE))","v":""},{"$f":"IF(Sheet1!L130=\"\",\"\",(Sheet1!L130))","v":""},{"$f":"IF(B117=\"\",\"\",VALUE(LEFT(Sheet1!E$4,6)))","v":""},{"$f":"IF(Sheet1!B130=\"\",\"\",VALUE(Sheet1!B130))","v":""},{"$f":"IF(Sheet1!M130=\"\",\"\",IF(VLOOKUP(Sheet1!M130,Sheet2!$A$2:$C$44,3,FALSE)>=71,VLOOKUP(Sheet1!M130,Sheet2!$A$2:$C$44,2,FALSE)&TEXT(Sheet1!O130,\"00\")&TEXT(Sheet1!P130,\"00\"),VLOOKUP(Sheet1!M130,Sheet2!$A$2:$C$44,2,FALSE)&TEXT(Sheet1!N130,\"00\")&TEXT(Sheet1!O130,\"00\")&IF(Sheet1!Q130=\"手\",TEXT(Sheet1!P130,\"0\"),TEXT(Sheet1!P130,\"00\"))))","v":""},{"$f":"IF(Sheet1!R130=\"\",\"\",IF(VLOOKUP(Sheet1!R130,Sheet2!$A$2:$C$44,3,FALSE)>=71,VLOOKUP(Sheet1!R130,Sheet2!$A$2:$C$44,2,FALSE)&TEXT(Sheet1!T130,\"00\")&TEXT(Sheet1!U130,\"00\"),VLOOKUP(Sheet1!R130,Sheet2!$A$2:$C$44,2,FALSE)&TEXT(Sheet1!S130,\"00\")&TEXT(Sheet1!T130,\"00\")&IF(Sheet1!V130=\"手\",TEXT(Sheet1!U130,\"0\"),TEXT(Sheet1!U130,\"00\"))))","v":""},{"$f":"IF(Sheet1!W130=\"\",\"\",IF(VLOOKUP(Sheet1!W130,Sheet2!$A$2:$C$44,3,FALSE)>=71,VLOOKUP(Sheet1!W130,Sheet2!$A$2:$C$44,2,FALSE)&TEXT(Sheet1!Y130,\"00\")&TEXT(Sheet1!Z130,\"00\"),VLOOKUP(Sheet1!W130,Sheet2!$A$2:$C$44,2,FALSE)&TEXT(Sheet1!X130,\"00\")&TEXT(Sheet1!Y130,\"00\")&IF(Sheet1!AA130=\"手\",TEXT(Sheet1!Z130,\"0\"),TEXT(Sheet1!Z130,\"00\"))))","v":""},{"$f":"IF(Sheet1!AD130=\"\",\"\",\"●\")","v":""},{"$f":"IF(Sheet1!AE130=\"\",\"\",\"▲\")","v":""},{"$f":"IF(Sheet1!AF130=\"\",\"\",\"★\")","v":""},{"$f":"IF(Sheet1!AG130=\"\",\"\",\"▼\")","v":""}]
["",{"$f":"ASC(IF(Sheet1!C131=\"\",\"\",IF(LEN(Sheet1!C131)+LEN(Sheet1!D131)=2,Sheet1!C131&\"      \"&Sheet1!D131&\"(\"&Sheet1!I131&\")\",IF(LEN(Sheet1!C131)+LEN(Sheet1!D131)=3,Sheet1!C131&\"    \"&Sheet1!D131&\"(\"&Sheet1!I131&\")\",IF(LEN(Sheet1!C131)+LEN(Sheet1!D131)=4,Sheet1!C131&\"  \"&Sheet1!D131&\"(\"&Sheet1!I131&\")\",IF(LEN(Sheet1!C131)+LEN(Sheet1!D131)>=5,Sheet1!C131&Sheet1!D131&\"(\"&Sheet1!I131&\")\",\"\"))))))","v":""},{"$f":"ASC(IF(Sheet1!E131=\"\",\"\",Sheet1!E131&\" \"&Sheet1!F131))","v":""},{"$f":"ASC(IF(Sheet1!G131=\"\",\"\",UPPER(Sheet1!G131)&\" \"&PROPER(Sheet1!H131)&\"(\"&Sheet1!I131&\")\"))","v":""},{"$f":"IF(Sheet1!J131=\"\",\"\",IF(Sheet1!J131=\"女\",2,1))","v":""},{"$f":"IF(Sheet1!K131=\"\",\"\",VLOOKUP(Sheet1!K131,Sheet2!$F$2:$G$50,2,FALSE))","v":""},{"$f":"IF(Sheet1!L131=\"\",\"\",(Sheet1!L131))","v":""},{"$f":"IF(B118=\"\",\"\",VALUE(LEFT(Sheet1!E$4,6)))","v":""},{"$f":"IF(Sheet1!B131=\"\",\"\",VALUE(Sheet1!B131))","v":""},{"$f":"IF(Sheet1!M131=\"\",\"\",IF(VLOOKUP(Sheet1!M131,Sheet2!$A$2:$C$44,3,FALSE)>=71,VLOOKUP(Sheet1!M131,Sheet2!$A$2:$C$44,2,FALSE)&TEXT(Sheet1!O131,\"00\")&TEXT(Sheet1!P131,\"00\"),VLOOKUP(Sheet1!M131,Sheet2!$A$2:$C$44,2,FALSE)&TEXT(Sheet1!N131,\"00\")&TEXT(Sheet1!O131,\"00\")&IF(Sheet1!Q131=\"手\",TEXT(Sheet1!P131,\"0\"),TEXT(Sheet1!P131,\"00\"))))","v":""},{"$f":"IF(Sheet1!R131=\"\",\"\",IF(VLOOKUP(Sheet1!R131,Sheet2!$A$2:$C$44,3,FALSE)>=71,VLOOKUP(Sheet1!R131,Sheet2!$A$2:$C$44,2,FALSE)&TEXT(Sheet1!T131,\"00\")&TEXT(Sheet1!U131,\"00\"),VLOOKUP(Sheet1!R131,Sheet2!$A$2:$C$44,2,FALSE)&TEXT(Sheet1!S131,\"00\")&TEXT(Sheet1!T131,\"00\")&IF(Sheet1!V131=\"手\",TEXT(Sheet1!U131,\"0\"),TEXT(Sheet1!U131,\"00\"))))","v":""},{"$f":"IF(Sheet1!W131=\"\",\"\",IF(VLOOKUP(Sheet1!W131,Sheet2!$A$2:$C$44,3,FALSE)>=71,VLOOKUP(Sheet1!W131,Sheet2!$A$2:$C$44,2,FALSE)&TEXT(Sheet1!Y131,\"00\")&TEXT(Sheet1!Z131,\"00\"),VLOOKUP(Sheet1!W131,Sheet2!$A$2:$C$44,2,FALSE)&TEXT(Sheet1!X131,\"00\")&TEXT(Sheet1!Y131,\"00\")&IF(Sheet1!AA131=\"手\",TEXT(Sheet1!Z131,\"0\"),TEXT(Sheet1!Z131,\"00\"))))","v":""},{"$f":"IF(Sheet1!AD131=\"\",\"\",\"●\")","v":""},{"$f":"IF(Sheet1!AE131=\"\",\"\",\"▲\")","v":""},{"$f":"IF(Sheet1!AF131=\"\",\"\",\"★\")","v":""},{"$f":"IF(Sheet1!AG131=\"\",\"\",\"▼\")","v":""}]
["",{"$f":"ASC(IF(Sheet1!C132=\"\",\"\",IF(LEN(Sheet1!C132)+LEN(Sheet1!D132)=2,Sheet1!C132&\"      \"&Sheet1!D132&\"(\"&Sheet1!I132&\")\",IF(LEN(Sheet1!C132)+LEN(Sheet1!D132)=3,Sheet1!C132&\"    \"&Sheet1!D132&\"(\"&Sheet1!I132&\")\",IF(LEN(Sheet1!C132)+LEN(Sheet1!D132)=4,Sheet1!C132&\"  \"&Sheet1!D132&\"(\"&Sheet1!I132&\")\",IF(LEN(Sheet1!C132)+LEN(Sheet1!D132)>=5,Sheet1!C132&Sheet1!D132&\"(\"&Sheet1!I132&\")\",\"\"))))))","v":""},{"$f":"ASC(IF(Sheet1!E132=\"\",\"\",Sheet1!E132&\" \"&Sheet1!F132))","v":""},{"$f":"ASC(IF(Sheet1!G132=\"\",\"\",UPPER(Sheet1!G132)&\" \"&PROPER(Sheet1!H132)&\"(\"&Sheet1!I132&\")\"))","v":""},{"$f":"IF(Sheet1!J132=\"\",\"\",IF(Sheet1!J132=\"女\",2,1))","v":""},{"$f":"IF(Sheet1!K132=\"\",\"\",VLOOKUP(Sheet1!K132,Sheet2!$F$2:$G$50,2,FALSE))","v":""},{"$f":"IF(Sheet1!L132=\"\",\"\",(Sheet1!L132))","v":""},{"$f":"IF(B119=\"\",\"\",VALUE(LEFT(Sheet1!E$4,6)))","v":""},{"$f":"IF(Sheet1!B132=\"\",\"\",VALUE(Sheet1!B132))","v":""},{"$f":"IF(Sheet1!M132=\"\",\"\",IF(VLOOKUP(Sheet1!M132,Sheet2!$A$2:$C$44,3,FALSE)>=71,VLOOKUP(Sheet1!M132,Sheet2!$A$2:$C$44,2,FALSE)&TEXT(Sheet1!O132,\"00\")&TEXT(Sheet1!P132,\"00\"),VLOOKUP(Sheet1!M132,Sheet2!$A$2:$C$44,2,FALSE)&TEXT(Sheet1!N132,\"00\")&TEXT(Sheet1!O132,\"00\")&IF(Sheet1!Q132=\"手\",TEXT(Sheet1!P132,\"0\"),TEXT(Sheet1!P132,\"00\"))))","v":""},{"$f":"IF(Sheet1!R132=\"\",\"\",IF(VLOOKUP(Sheet1!R132,Sheet2!$A$2:$C$44,3,FALSE)>=71,VLOOKUP(Sheet1!R132,Sheet2!$A$2:$C$44,2,FALSE)&TEXT(Sheet1!T132,\"00\")&TEXT(Sheet1!U132,\"00\"),VLOOKUP(Sheet1!R132,Sheet2!$A$2:$C$44,2,FALSE)&TEXT(Sheet1!S132,\"00\")&TEXT(Sheet1!T132,\"00\")&IF(Sheet1!V132=\"手\",TEXT(Sheet1!U132,\"0\"),TEXT(Sheet1!U132,\"00\"))))","v":""},{"$f":"IF(Sheet1!W132=\"\",\"\",IF(VLOOKUP(Sheet1!W132,Sheet2!$A$2:$C$44,3,FALSE)>=71,VLOOKUP(Sheet1!W132,Sheet2!$A$2:$C$44,2,FALSE)&TEXT(Sheet1!Y132,\"00\")&TEXT(Sheet1!Z132,\"00\"),VLOOKUP(Sheet1!W132,Sheet2!$A$2:$C$44,2,FALSE)&TEXT(Sheet1!X132,\"00\")&TEXT(Sheet1!Y132,\"00\")&IF(Sheet1!AA132=\"手\",TEXT(Sheet1!Z132,\"0\"),TEXT(Sheet1!Z132,\"00\"))))","v":""},{"$f":"IF(Sheet1!AD132=\"\",\"\",\"●\")","v":""},{"$f":"IF(Sheet1!AE132=\"\",\"\",\"▲\")","v":""},{"$f":"IF(Sheet1!AF132=\"\",\"\",\"★\")","v":""},{"$f":"IF(Sheet1!AG132=\"\",\"\",\"▼\")","v":""}]
["",{"$f":"ASC(IF(Sheet1!C133=\"\",\"\",IF(LEN(Sheet1!C133)+LEN(Sheet1!D133)=2,Sheet1!C133&\"      \"&Sheet1!D133&\"(\"&Sheet1!I133&\")\",IF(LEN(Sheet1!C133)+LEN(Sheet1!D133)=3,Sheet1!C133&\"    \"&Sheet1!D133&\"(\"&Sheet1!I133&\")\",IF(LEN(Sheet1!C133)+LEN(Sheet1!D133)=4,Sheet1!C133&\"  \"&Sheet1!D133&\"(\"&Sheet1!I133&\")\",IF(LEN(Sheet1!C133)+LEN(Sheet1!D133)>=5,Sheet1!C133&Sheet1!D133&\"(\"&Sheet1!I133&\")\",\"\"))))))","v":""},{"$f":"ASC(IF(Sheet1!E133=\"\",\"\",Sheet1!E133&\" \"&Sheet1!F133))","v":""},{"$f":"ASC(IF(Sheet1!G133=\"\",\"\",UPPER(Sheet1!G133)&\" \"&PROPER(Sheet1!H133)&\"(\"&Sheet1!I133&\")\"))","v":""},{"$f":"IF(Sheet1!J133=\"\",\"\",IF(Sheet1!J133=\"女\",2,1))","v":""},{"$f":"IF(Sheet1!K133=\"\",\"\",VLOOKUP(Sheet1!K133,Sheet2!$F$2:$G$50,2,FALSE))","v":""},{"$f":"IF(Sheet1!L133=\"\",\"\",(Sheet1!L133))","v":""},{"$f":"IF(B120=\"\",\"\",VALUE(LEFT(Sheet1!E$4,6)))","v":""},{"$f":"IF(Sheet1!B133=\"\",\"\",VALUE(Sheet1!B133))","v":""},{"$f":"IF(Sheet1!M133=\"\",\"\",IF(VLOOKUP(Sheet1!M133,Sheet2!$A$2:$C$44,3,FALSE)>=71,VLOOKUP(Sheet1!M133,Sheet2!$A$2:$C$44,2,FALSE)&TEXT(Sheet1!O133,\"00\")&TEXT(Sheet1!P133,\"00\"),VLOOKUP(Sheet1!M133,Sheet2!$A$2:$C$44,2,FALSE)&TEXT(Sheet1!N133,\"00\")&TEXT(Sheet1!O133,\"00\")&IF(Sheet1!Q133=\"手\",TEXT(Sheet1!P133,\"0\"),TEXT(Sheet1!P133,\"00\"))))","v":""},{"$f":"IF(Sheet1!R133=\"\",\"\",IF(VLOOKUP(Sheet1!R133,Sheet2!$A$2:$C$44,3,FALSE)>=71,VLOOKUP(Sheet1!R133,Sheet2!$A$2:$C$44,2,FALSE)&TEXT(Sheet1!T133,\"00\")&TEXT(Sheet1!U133,\"00\"),VLOOKUP(Sheet1!R133,Sheet2!$A$2:$C$44,2,FALSE)&TEXT(Sheet1!S133,\"00\")&TEXT(Sheet1!T133,\"00\")&IF(Sheet1!V133=\"手\",TEXT(Sheet1!U133,\"0\"),TEXT(Sheet1!U133,\"00\"))))","v":""},{"$f":"IF(Sheet1!W133=\"\",\"\",IF(VLOOKUP(Sheet1!W133,Sheet2!$A$2:$C$44,3,FALSE)>=71,VLOOKUP(Sheet1!W133,Sheet2!$A$2:$C$44,2,FALSE)&TEXT(Sheet1!Y133,\"00\")&TEXT(Sheet1!Z133,\"00\"),VLOOKUP(Sheet1!W133,Sheet2!$A$2:$C$44,2,FALSE)&TEXT(Sheet1!X133,\"00\")&TEXT(Sheet1!Y133,\"00\")&IF(Sheet1!AA133=\"手\",TEXT(Sheet1!Z133,\"0\"),TEXT(Sheet1!Z133,\"00\"))))","v":""},{"$f":"IF(Sheet1!AD133=\"\",\"\",\"●\")","v":""},{"$f":"IF(Sheet1!AE133=\"\",\"\",\"▲\")","v":""},{"$f":"IF(Sheet1!AF133=\"\",\"\",\"★\")","v":""},{"$f":"IF(Sheet1!AG133=\"\",\"\",\"▼\")","v":""}]
["",{"$f":"ASC(IF(Sheet1!C134=\"\",\"\",IF(LEN(Sheet1!C134)+LEN(Sheet1!D134)=2,Sheet1!C134&\"      \"&Sheet1!D134&\"(\"&Sheet1!I134&\")\",IF(LEN(Sheet1!C134)+LEN(Sheet1!D134)=3,Sheet1!C134&\"    \"&Sheet1!D134&\"(\"&Sheet1!I134&\")\",IF(LEN(Sheet1!C134)+LEN(Sheet1!D134)=4,Sheet1!C134&\"  \"&Sheet1!D134&\"(\"&Sheet1!I134&\")\",IF(LEN(Sheet1!C134)+LEN(Sheet1!D134)>=5,Sheet1!C134&Sheet1!D134&\"(\"&Sheet1!I134&\")\",\"\"))))))","v":""},{"$f":"ASC(IF(Sheet1!E134=\"\",\"\",Sheet1!E134&\" \"&Sheet1!F134))","v":""},{"$f":"ASC(IF(Sheet1!G134=\"\",\"\",UPPER(Sheet1!G134)&\" \"&PROPER(Sheet1!H134)&\"(\"&Sheet1!I134&\")\"))","v":""},{"$f":"IF(Sheet1!J134=\"\",\"\",IF(Sheet1!J134=\"女\",2,1))","v":""},{"$f":"IF(Sheet1!K134=\"\",\"\",VLOOKUP(Sheet1!K134,Sheet2!$F$2:$G$50,2,FALSE))","v":""},{"$f":"IF(Sheet1!L134=\"\",\"\",(Sheet1!L134))","v":""},{"$f":"IF(B121=\"\",\"\",VALUE(LEFT(Sheet1!E$4,6)))","v":""},{"$f":"IF(Sheet1!B134=\"\",\"\",VALUE(Sheet1!B134))","v":""},{"$f":"IF(Sheet1!M134=\"\",\"\",IF(VLOOKUP(Sheet1!M134,Sheet2!$A$2:$C$44,3,FALSE)>=71,VLOOKUP(Sheet1!M134,Sheet2!$A$2:$C$44,2,FALSE)&TEXT(Sheet1!O134,\"00\")&TEXT(Sheet1!P134,\"00\"),VLOOKUP(Sheet1!M134,Sheet2!$A$2:$C$44,2,FALSE)&TEXT(Sheet1!N134,\"00\")&TEXT(Sheet1!O134,\"00\")&IF(Sheet1!Q134=\"手\",TEXT(Sheet1!P134,\"0\"),TEXT(Sheet1!P134,\"00\"))))","v":""},{"$f":"IF(Sheet1!R134=\"\",\"\",IF(VLOOKUP(Sheet1!R134,Sheet2!$A$2:$C$44,3,FALSE)>=71,VLOOKUP(Sheet1!R134,Sheet2!$A$2:$C$44,2,FALSE)&TEXT(Sheet1!T134,\"00\")&TEXT(Sheet1!U134,\"00\"),VLOOKUP(Sheet1!R134,Sheet2!$A$2:$C$44,2,FALSE)&TEXT(Sheet1!S134,\"00\")&TEXT(Sheet1!T134,\"00\")&IF(Sheet1!V134=\"手\",TEXT(Sheet1!U134,\"0\"),TEXT(Sheet1!U134,\"00\"))))","v":""},{"$f":"IF(Sheet1!W134=\"\",\"\",IF(VLOOKUP(Sheet1!W134,Sheet2!$A$2:$C$44,3,FALSE)>=71,VLOOKUP(Sheet1!W134,Sheet2!$A$2:$C$44,2,FALSE)&TEXT(Sheet1!Y134,\"00\")&TEXT(Sheet1!Z134,\"00\"),VLOOKUP(Sheet1!W134,Sheet2!$A$2:$C$44,2,FALSE)&TEXT(Sheet1!X134,\"00\")&TEXT(Sheet1!Y134,\"00\")&IF(Sheet1!AA134=\"手\",TEXT(Sheet1!Z134,\"0\"),TEXT(Sheet1!Z134,\"00\"))))","v":""},{"$f":"IF(Sheet1!AD134=\"\",\"\",\"●\")","v":""},{"$f":"IF(Sheet1!AE134=\"\",\"\",\"▲\")","v":""},{"$f":"IF(Sheet1!AF134=\"\",\"\",\"★\")","v":""},{"$f":"IF(Sheet1!AG134=\"\",\"\",\"▼\")","v":""}]
["",{"$f":"ASC(IF(Sheet1!C135=\"\",\"\",IF(LEN(Sheet1!C135)+LEN(Sheet1!D135)=2,Sheet1!C135&\"      \"&Sheet1!D135&\"(\"&Sheet1!I135&\")\",IF(LEN(Sheet1!C135)+LEN(Sheet1!D135)=3,Sheet1!C135&\"    \"&Sheet1!D135&\"(\"&Sheet1!I135&\")\",IF(LEN(Sheet1!C135)+LEN(Sheet1!D135)=4,Sheet1!C135&\"  \"&Sheet1!D135&\"(\"&Sheet1!I135&\")\",IF(LEN(Sheet1!C135)+LEN(Sheet1!D135)>=5,Sheet1!C135&Sheet1!D135&\"(\"&Sheet1!I135&\")\",\"\"))))))","v":""},{"$f":"ASC(IF(Sheet1!E135=\"\",\"\",Sheet1!E135&\" \"&Sheet1!F135))","v":""},{"$f":"ASC(IF(Sheet1!G135=\"\",\"\",UPPER(Sheet1!G135)&\" \"&PROPER(Sheet1!H135)&\"(\"&Sheet1!I135&\")\"))","v":""},{"$f":"IF(Sheet1!J135=\"\",\"\",IF(Sheet1!J135=\"女\",2,1))","v":""},{"$f":"IF(Sheet1!K135=\"\",\"\",VLOOKUP(Sheet1!K135,Sheet2!$F$2:$G$50,2,FALSE))","v":""},{"$f":"IF(Sheet1!L135=\"\",\"\",(Sheet1!L135))","v":""},{"$f":"IF(B122=\"\",\"\",VALUE(LEFT(Sheet1!E$4,6)))","v":""},{"$f":"IF(Sheet1!B135=\"\",\"\",VALUE(Sheet1!B135))","v":""},{"$f":"IF(Sheet1!M135=\"\",\"\",IF(VLOOKUP(Sheet1!M135,Sheet2!$A$2:$C$44,3,FALSE)>=71,VLOOKUP(Sheet1!M135,Sheet2!$A$2:$C$44,2,FALSE)&TEXT(Sheet1!O135,\"00\")&TEXT(Sheet1!P135,\"00\"),VLOOKUP(Sheet1!M135,Sheet2!$A$2:$C$44,2,FALSE)&TEXT(Sheet1!N135,\"00\")&TEXT(Sheet1!O135,\"00\")&IF(Sheet1!Q135=\"手\",TEXT(Sheet1!P135,\"0\"),TEXT(Sheet1!P135,\"00\"))))","v":""},{"$f":"IF(Sheet1!R135=\"\",\"\",IF(VLOOKUP(Sheet1!R135,Sheet2!$A$2:$C$44,3,FALSE)>=71,VLOOKUP(Sheet1!R135,Sheet2!$A$2:$C$44,2,FALSE)&TEXT(Sheet1!T135,\"00\")&TEXT(Sheet1!U135,\"00\"),VLOOKUP(Sheet1!R135,Sheet2!$A$2:$C$44,2,FALSE)&TEXT(Sheet1!S135,\"00\")&TEXT(Sheet1!T135,\"00\")&IF(Sheet1!V135=\"手\",TEXT(Sheet1!U135,\"0\"),TEXT(Sheet1!U135,\"00\"))))","v":""},{"$f":"IF(Sheet1!W135=\"\",\"\",IF(VLOOKUP(Sheet1!W135,Sheet2!$A$2:$C$44,3,FALSE)>=71,VLOOKUP(Sheet1!W135,Sheet2!$A$2:$C$44,2,FALSE)&TEXT(Sheet1!Y135,\"00\")&TEXT(Sheet1!Z135,\"00\"),VLOOKUP(Sheet1!W135,Sheet2!$A$2:$C$44,2,FALSE)&TEXT(Sheet1!X135,\"00\")&TEXT(Sheet1!Y135,\"00\")&IF(Sheet1!AA135=\"手\",TEXT(Sheet1!Z135,\"0\"),TEXT(Sheet1!Z135,\"00\"))))","v":""},{"$f":"IF(Sheet1!AD135=\"\",\"\",\"●\")","v":""},{"$f":"IF(Sheet1!AE135=\"\",\"\",\"▲\")","v":""},{"$f":"IF(Sheet1!AF135=\"\",\"\",\"★\")","v":""},{"$f":"IF(Sheet1!AG135=\"\",\"\",\"▼\")","v":""}]
["",{"$f":"ASC(IF(Sheet1!C136=\"\",\"\",IF(LEN(Sheet1!C136)+LEN(Sheet1!D136)=2,Sheet1!C136&\"      \"&Sheet1!D136&\"(\"&Sheet1!I136&\")\",IF(LEN(Sheet1!C136)+LEN(Sheet1!D136)=3,Sheet1!C136&\"    \"&Sheet1!D136&\"(\"&Sheet1!I136&\")\",IF(LEN(Sheet1!C136)+LEN(Sheet1!D136)=4,Sheet1!C136&\"  \"&Sheet1!D136&\"(\"&Sheet1!I136&\")\",IF(LEN(Sheet1!C136)+LEN(Sheet1!D136)>=5,Sheet1!C136&Sheet1!D136&\"(\"&Sheet1!I136&\")\",\"\"))))))","v":""},{"$f":"ASC(IF(Sheet1!E136=\"\",\"\",Sheet1!E136&\" \"&Sheet1!F136))","v":""},{"$f":"ASC(IF(Sheet1!G136=\"\",\"\",UPPER(Sheet1!G136)&\" \"&PROPER(Sheet1!H136)&\"(\"&Sheet1!I136&\")\"))","v":""},null,null,{"$f":"IF(Sheet1!L136=\"\",\"\",(Sheet1!L136))","v":""}]
["",{"$f":"ASC(IF(Sheet1!C137=\"\",\"\",IF(LEN(Sheet1!C137)+LEN(Sheet1!D137)=2,Sheet1!C137&\"      \"&Sheet1!D137&\"(\"&Sheet1!I137&\")\",IF(LEN(Sheet1!C137)+LEN(Sheet1!D137)=3,Sheet1!C137&\"    \"&Sheet1!D137&\"(\"&Sheet1!I137&\")\",IF(LEN(Sheet1!C137)+LEN(Sheet1!D137)=4,Sheet1!C137&\"  \"&Sheet1!D137&\"(\"&Sheet1!I137&\")\",IF(LEN(Sheet1!C137)+LEN(Sheet1!D137)>=5,Sheet1!C137&Sheet1!D137&\"(\"&Sheet1!I137&\")\",\"\"))))))","v":""},{"$f":"ASC(IF(Sheet1!E137=\"\",\"\",Sheet1!E137&\" \"&Sheet1!F137))","v":""},{"$f":"ASC(IF(Sheet1!G137=\"\",\"\",UPPER(Sheet1!G137)&\" \"&PROPER(Sheet1!H137)&\"(\"&Sheet1!I137&\")\"))","v":""},null,null,{"$f":"IF(Sheet1!L137=\"\",\"\",(Sheet1!L137))","v":""}]